{"text_format":"1","workbook":"xlsx","n_sheets":4,"sheets":["入力","所属","印刷ｼｰﾄ","data"],"not_rendered":{"charts":0,"images":0,"macros":1,"external_links":0,"defined_names":3,"comments":1,"pivot_tables":0},"unopened":[],"bounds":{"document_bytes":16777216,"sheet_cells":100000,"rows_first":2000,"rows_last":500,"rows_between":2000,"halvings":0,"cell_chars":16384,"cell_head_chars":4096},"cells_cut":0,"cells_raw":0,"read":"whole","date_system":"1900"}

{"sheet":"入力","index":0,"n_rows":113,"n_cols":18,"rows_kept":113,"cut":false,"hidden":false,"merged":[[11,0,11,4],[0,0,0,4],[1,0,1,4],[0,5,0,9],[1,5,1,9],[11,5,11,9]]}
["群馬県民マラソン・ジュニアロードレース大会",null,null,null,null,"群馬県民マラソン・ジュニアロードレース大会"]
["申し込み一覧表",null,null,null,null,"申し込み一覧表"]
[]
[null,"所属コード","所　　属","区　　分",null,null,"所属コード","所　　属","区　　分"]
[null,null,{"$f":"IF(B5=\"\",\"\",VLOOKUP(B5,syozoku,3,FALSE))","v":""},null,null,null,null,{"$f":"IF(G5=\"\",\"\",VLOOKUP(G5,syozoku,3,FALSE))","v":""},null,null,null,null,null,null,null,null,null,"高校女子"]
[null,null,null,null,null,null,null,null,null,null,null,null,null,null,null,null,null,"高校男子"]
[null,"参加承認日","所属長名","申込責任者",null,null,"参加承認日","所属長名","申込責任者"]
[]
[]
[null,"ＴＥＬ",null,null,null,null,"ＴＥＬ","090-8591-3846"]
[]
[]
["No.","登録番号","氏　　名","フリガナ","学年","No.","登録番号","氏　　名","フリガナ","学年"]
[1,null,null,null,null,1]
[2,null,null,null,null,2]
[3,null,null,null,null,3]
[4,null,null,null,null,4]
[5,null,null,null,null,5]
[6,null,null,null,null,6]
[7,null,null,null,null,7]
[8,null,null,null,null,8]
[9,null,null,null,null,9]
[10,null,null,null,null,10]
[11,null,null,null,null,11]
[12,null,null,null,null,12]
[13,null,null,null,null,13]
[14,null,null,null,null,14]
[15,null,null,null,null,15]
[16,null,null,null,null,16]
[17,null,null,null,null,17]
[18,null,null,null,null,18]
[19,null,null,null,null,19]
[20,null,null,null,null,20]
[21,null,null,null,null,21]
[22,null,null,null,null,22]
[23,null,null,null,null,23]
[24,null,null,null,null,24]
[25,null,null,null,null,25]
[26,null,null,null,null,26]
[27,null,null,null,null,27]
[28,null,null,null,null,28]
[29,null,null,null,null,29]
[30,null,null,null,null,30]
[31,null,null,null,null,31]
[32,null,null,null,null,32]
[33,null,null,null,null,33]
[34,null,null,null,null,34]
[35,null,null,null,null,35]
[36,null,null,null,null,36]
[37,null,null,null,null,37]
[38,null,null,null,null,38]
[39,null,null,null,null,39]
[40,null,null,null,null,40]
[41,null,null,null,null,41]
[42,null,null,null,null,42]
[43,null,null,null,null,43]
[44,null,null,null,null,44]
[45,null,null,null,null,45]
[46,null,null,null,null,46]
[47,null,null,null,null,47]
[48,null,null,null,null,48]
[49,null,null,null,null,49]
[50,null,null,null,null,50]
[51,null,null,null,null,51]
[52,null,null,null,null,52]
[53,null,null,null,null,53]
[54,null,null,null,null,54]
[55,null,null,null,null,55]
[56,null,null,null,null,56]
[57,null,null,null,null,57]
[58,null,null,null,null,58]
[59,null,null,null,null,59]
[60,null,null,null,null,60]
[61,null,null,null,null,61]
[62,null,null,null,null,62]
[63,null,null,null,null,63]
[64,null,null,null,null,64]
[65,null,null,null,null,65]
[66,null,null,null,null,66]
[67,null,null,null,null,67]
[68,null,null,null,null,68]
[69,null,null,null,null,69]
[70,null,null,null,null,70]
[71,null,null,null,null,71]
[72,null,null,null,null,72]
[73,null,null,null,null,73]
[74,null,null,null,null,74]
[75,null,null,null,null,75]
[76,null,null,null,null,76]
[77,null,null,null,null,77]
[78,null,null,null,null,78]
[79,null,null,null,null,79]
[80,null,null,null,null,80]
[81,null,null,null,null,81]
[82,null,null,null,null,82]
[83,null,null,null,null,83]
[84,null,null,null,null,84]
[85,null,null,null,null,85]
[86,null,null,null,null,86]
[87,null,null,null,null,87]
[88,null,null,null,null,88]
[89,null,null,null,null,89]
[90,null,null,null,null,90]
[91,null,null,null,null,91]
[92,null,null,null,null,92]
[93,null,null,null,null,93]
[94,null,null,null,null,94]
[95,null,null,null,null,95]
[96,null,null,null,null,96]
[97,null,null,null,null,97]
[98,null,null,null,null,98]
[99,null,null,null,null,99]
[100,null,null,null,null,100]

{"sheet":"所属","index":1,"n_rows":461,"n_cols":6,"rows_kept":461,"cut":false,"hidden":false,"merged":[]}
["DB","N1","N2","N3","KC"]
["069009","ﾄｳﾖｳﾀﾞｲ","東洋大","東洋大","06","山　形"]
["090001","ﾄﾁｷﾞTFC","栃木TFC","栃木TFC","09","栃　木"]
[100000,"ｸﾞﾝﾏﾘｯｷｮｳ","群馬陸協","群馬陸協",10,"群　馬"]
[100001,"ﾀｶｻｷｼﾘｯｷｮｳ","高崎市陸協","高崎市陸協",10,"群　馬"]
[100002,"ｱｶﾞﾂﾏｼﾝﾚｲｸﾗﾌﾞ","吾妻榛嶺ク","吾妻榛嶺ク",10,"群　馬"]
[100003,"ｳｽｲｸ","碓氷ク","碓氷ク",10,"群　馬"]
[100004,"ﾀﾃﾊﾞﾔｼｸﾗﾌﾞ","館林ク","館林ク",10,"群　馬"]
[100005,"ｵｵﾏﾏｺｳOB","大高ＯＢ","大高ＯＢ",10,"群　馬"]
[100006,"ﾄｳｷｮｳﾃﾞﾝﾘｮｸ","東京電力","東京電力",10,"群　馬"]
[100007,"ｼﾌﾞｶﾜｸﾗﾌﾞ","渋川ク","渋川ク",10,"群　馬"]
[100008,"ﾌｼﾞｵｶｸﾗﾌﾞ","藤岡ク","藤岡ク",10,"群　馬"]
[100009,"ﾐﾀｺｳｷﾞｮｳ","三田工業","三田工業",10,"群　馬"]
[100010,"ｵｳﾗﾏﾁｸﾗﾌﾞ","邑楽町ク","邑楽町ク",10,"群　馬"]
[100012,"ｱｶﾌﾞﾘｸﾗﾌﾞ","赤堀ク","赤堀ク",10,"群　馬"]
[100013,"ﾀﾏﾑﾗﾏﾁｸﾗﾌﾞ","玉村町ク","玉村町ク",10,"群　馬"]
[100014,"ﾋﾀﾁﾀｶｻｷ","日立高崎","日立高崎",10,"群　馬"]
[100015,"ｱﾝﾅｶｿｳﾕｳｸﾗﾌﾞ","安中走友ク","安中走友ク",10,"群　馬"]
[100016,"ｻﾝﾖｳﾃﾞﾝｷ","三洋電機","三洋電機",10,"群　馬"]
[100017,"ｾﾀｸﾗﾌﾞ","勢多ク","勢多ク",10,"群　馬"]
[100018,"ﾌｼﾞﾂｳ","富士通","富士通",10,"群　馬"]
[100019,"ﾏｴﾊﾞｼｼﾘｯｷｮｳ","前橋市陸協","前橋市陸協",10,"群　馬"]
[100020,"ｷﾘｭｳｼﾘｯｷｮｳ","桐生市陸協","桐生市陸協",10,"群　馬"]
[100021,"ﾄﾈｸﾗﾌﾞ","利根ク","利根ク",10,"群　馬"]
[100022,"ﾊｷﾞﾜﾗﾃｯｺｳｼﾞｮ","荻原鉄工所","荻原鉄工所",10,"群　馬"]
[100024,"ｻﾜﾉｸﾗﾌﾞ","沢野ク","沢野ク",10,"群　馬"]
[100026,"ﾇﾏﾀｸﾗﾌﾞ","沼田ク","沼田ク",10,"群　馬"]
[100028,"ﾄﾐｵｶｼﾘｯｷｮｳ","富岡市陸協","富岡市陸協",10,"群　馬"]
[100030,"ｲｾｻｷｸﾗﾌﾞ","伊勢崎ク","伊勢崎ク",10,"群　馬"]
[100032,"ﾆｯﾀﾘｯｷｮｳ","新田陸協","新田陸協",10,"群　馬"]
[100033,"ﾀﾉｸﾗﾌﾞ","多野ク","多野ク",10,"群　馬"]
[100034,"ｵｵｲｽﾞﾐｸﾗﾌﾞ","大泉ク","大泉ク",10,"群　馬"]
[100035,"ｸﾞﾝﾏｸﾞﾝﾘｯｷｮｳ","群馬郡陸協","群馬郡陸協",10,"群　馬"]
[100036,"ｵｵﾀｼﾘｯｷｮｳ","太田市陸協","太田市陸協",10,"群　馬"]
[100037,"ﾐﾂﾋﾞｼﾃﾞﾝｷ","三菱電機","三菱電機",10,"群　馬"]
[100038,"ｱﾝﾅｶｼﾘｯｷｮｳ","安中市陸協","安中市陸協",10,"群　馬"]
[100039,"ｻｶｲﾏﾁｸﾗﾌﾞ","境町ク","境町ク",10,"群　馬"]
[100040,"ｶﾝｶﾞｸﾀﾞｲAC","関学大ＡＣ","関学大ＡＣ",10,"群　馬"]
[100041,"ｸﾞﾝﾏﾋﾉｼﾞﾄﾞｳｼｬ","群馬日野","群馬日野",10,"群　馬"]
[100042,"ﾄｳﾜｷﾞﾝｺｳ","東和銀行","東和銀行",10,"群　馬"]
[100043,"ﾄﾘﾍｲAC","登利平AC","登利平AC",10,"群　馬"]
[100044,"ﾆﾎﾝｾｲｺｳ","日本精工","日本精工",10,"群　馬"]
[100045,"ｽﾊﾞﾙ","SUBARU","SUBARU",10,"群　馬"]
[100046,"ｻﾀｹﾝｾﾂ","佐田建設","佐田建設",10,"群　馬"]
[100047,"ｽｰﾊﾟｰｱｽﾘｰﾄﾀﾏﾑﾗ","Ｓ．Ａ玉村","Ｓ．Ａ玉村",10,"群　馬"]
[100048,"ﾖｼｲｺｳOB","吉井高ＯＢ","吉井高ＯＢ",10,"群　馬"]
[100049,"ｸﾞﾝﾏｿｳｺﾞｶﾞｰﾄﾞ","群馬綜合ｶﾞｰﾄﾞ","群馬綜合ｶﾞｰﾄﾞ",10,"群　馬"]
[100050,"ｸﾞﾝﾏﾀﾞｲTFｱﾗﾏｷｸﾗﾌﾞ","群大ＴＦ荒牧","群大ＴＦ",10,"群　馬"]
[100051,"ﾁｭｳﾀｲﾚﾝｸﾗﾌﾞ","中体連ｸﾗﾌﾞ","中体連ｸﾗﾌﾞ",10,"群　馬"]
[100052,"ｼｷｼﾏｸﾗﾌﾞ","しきしま倶楽部","しきしま",10,"群　馬"]
[100053,"ﾁｰﾑK","チームＫ","チームＫ",10,"群　馬"]
[100054,"ﾀﾁﾊﾞﾅRC","たちばなRC","たちばなRC",10,"群　馬"]
[100055,"ｲｸｴｲｸﾗﾌﾞ","育英ｸﾗﾌﾞ","育英ｸﾗﾌﾞ",10,"群　馬"]
[100056,"ﾔﾏﾀﾞﾃﾞﾝｷ","ヤマダ電機","ヤマダ電機",10,"群　馬"]
[100086,"ｲｾｻｷｼｮｳﾎﾞｳﾘｸｼﾞｮｳｷｮｳｷﾞﾌﾞ","伊勢崎消防陸上競技部","伊勢崎消防",10,"群  馬"]
[100087,"ﾐｽﾞﾉ","ミズノ","ミズノ",10,"群  馬"]
[103050,"ｸﾞﾝﾏﾀﾞｲﾌｿﾞｸﾖｳｺﾞ","群馬大附属養護","群馬大附属養護",10,"群　馬"]
[103091,"ｸﾞﾝﾏｺｳｾﾝ","群馬工高専","群馬工高専",10,"群　馬"]
[103101,"ﾏｴﾊﾞｼｺｳｺｳ","前橋高","前橋高",10,"群　馬"]
[103102,"ﾏｴﾊﾞｼﾐﾅﾐｺｳ","前橋南高","前橋南高",10,"群　馬"]
[103103,"ﾏｴﾊﾞｼｼﾞｮｼｺｳ","前橋女高","前橋女高",10,"群　馬"]
[103104,"ｾﾀﾉｳﾘﾝｺｳ","勢多農林高","勢多農林高",10,"群　馬"]
[103105,"ﾏｴﾊﾞｼｺｳｷﾞｮｳｺｳ","前橋工高","前橋工高",10,"群　馬"]
[103106,"ﾏｴﾊﾞｼﾐﾅﾐｺｳ","前橋商高","前橋商高",10,"群　馬"]
[103107,"ｾｲﾘｮｳｺｳ","清陵高","清陵高",10,"群　馬"]
[103108,"ﾀｶｻｷｺｳｺｳ","高崎高","高崎高",10,"群　馬"]
[103109,"ﾁｭｳｵｳｺｳ","中央高","中央高",10,"群　馬"]
[103110,"ﾀｶｻｷｼﾞｮｼｺｳ","高崎女高","高崎女高",10,"群　馬"]
[103111,"ﾀｶｻｷｺｳｷﾞｮｳｺｳ","高崎工高","高崎工高",10,"群　馬"]
[103112,"ﾀｶｻｷｼｮｳｷﾞｮｳｺｳ","高崎商高","高崎商高",10,"群　馬"]
[103113,"ｷﾘｭｳｺｳ","桐生高","桐生高",10,"群　馬"]
[103114,"ｷﾘｭｳﾐﾅﾐｺｳ","桐生南高","桐生南高",10,"群　馬"]
[103115,"ｷﾘｭｳｼﾞｮｼｺｳ","桐生女高","桐生女高",10,"群　馬"]
[103116,"ｷﾘｭｳｺｳｷﾞｮｳｺｳ","桐生工高","桐生工高",10,"群　馬"]
[103117,"ｲｾｻｷﾋｶﾞｼｺｳ","伊勢崎東高","伊勢崎東高",10,"群　馬"]
[103118,"ｲｾｻｷｾｲﾒｲ","伊勢崎清明高","清明高",10,"群　馬"]
[103119,"ｲｾｻｷｺｳﾖｳｺｳ","伊勢崎興陽高","伊勢崎興陽高",10,"群　馬"]
[103120,"ｲｾｻｷｺｳｷﾞｮｳｺｳ","伊勢崎工高","伊勢崎工高",10,"群　馬"]
[103121,"ｲｾｻｷｼｮｳｷﾞｮｳｺｳ","伊勢崎商高","伊勢崎商高",10,"群　馬"]
[103122,"ｵｵﾀｺｳｺｳ","太田高","太田高",10,"群　馬"]
[103123,"ｵｵﾀｼﾞｮｼｺｳ","太田女高","太田女高",10,"群　馬"]
[103124,"ｵｵﾀﾆｼｼﾞｮｼｺｳ","太田西女高","太田西女高",10,"群　馬"]
[103125,"ｵｵﾀｺｳｷﾞｮｳｺｳ","太田工高","太田工高",10,"群　馬"]
[103126,"ﾇﾏﾀｺｳｺｳ","沼田高","沼田高",10,"群　馬"]
[103127,"ﾇﾏﾀｼﾞｮｼｺｳ","沼田女高","沼田女高",10,"群　馬"]
[103128,"ﾄﾈｼﾞﾂｷﾞｮｳｺｳ","利根実業高","利根実業高",10,"群　馬"]
[103129,"ﾀﾃﾊﾞﾔｼｺｳｺｳ","館林高","館林高",10,"群　馬"]
[103130,"ﾀﾃﾊﾞﾔｼｼﾞｮｼｺｳ","館林女高","館林女高",10,"群　馬"]
[103131,"ｼﾌﾞｶﾜｺｳｺｳ","渋川高","渋川高",10,"群　馬"]
[103132,"ｼﾌﾞｶﾜｼﾞｮｼｺｳ","渋川女高","渋川女高",10,"群　馬"]
[103133,"ﾌｼﾞｵｶｺｳｺｳ","藤岡高","藤岡高",10,"群　馬"]
[103134,"ﾌｼﾞｵｶｼﾞｮｼｺｳ","藤岡女高","藤岡女高",10,"群　馬"]
[103135,"ﾌｼﾞｵｶｺｳｷﾞｮｳｺｵｳ","藤岡工高","藤岡工高",10,"群　馬"]
[103136,"ﾄﾐｵｶｺｳｺｳ","富岡高","富岡高",10,"群　馬"]
[103137,"ﾄﾐｵｶﾋｶﾞｼｺｳ","富岡東高","富岡東高",10,"群　馬"]
[103138,"ﾄﾐｵｶｼﾞﾂｷﾞｮｳｺｳ","富岡実業高","富岡実業高",10,"群　馬"]
[103139,"ｱﾝﾅｶｺｳｺｳ","安中高","安中高",10,"群　馬"]
[103140,"ｱﾝﾅｶｼﾞﾂｷﾞｮｳｺｳ","安中実業高","安中実業高",10,"群　馬"]
[103141,"ﾏｴﾊﾞｼﾋｶﾞｼｼｮｳｷﾞｮｳｺｳ","前橋東商高","前橋東商高",10,"群　馬"]
[103142,"ﾊﾙﾅｺｳ","榛名高","榛名高",10,"群　馬"]
[103143,"ﾖｼｲｺｳ","吉井高","吉井高",10,"群　馬"]
[103144,"ﾏﾝﾊﾞｺｳ","万場高","万場高",10,"群　馬"]
[103145,"ｼﾓﾆﾀｺｳ","下仁田高","下仁田高",10,"群　馬"]
[103146,"ﾏﾂｲﾀﾞｺｳ","松井田高","松井田高",10,"群　馬"]
[103147,"ﾅｶﾉｼﾞｮｳｺｳ","中之条高","中之条高",10,"群　馬"]
[103148,"ｱｶﾞﾂﾏｺｳｺｳ","吾妻高","吾妻高",10,"群　馬"]
[103149,"ﾅｶﾞﾉﾊﾗｺｳ","長野原高","長野原高",10,"群　馬"]
[103150,"ﾂﾏｺﾞｲｺｳｺｳ","嬬恋高","嬬恋高",10,"群　馬"]
[103151,"ｵｾﾞｺｳｺｳ","尾瀬高","尾瀬高",10,"群　馬"]
[103152,"ｻｶｲｺｳｺｳ","境高","境高",10,"群　馬"]
[103153,"ﾀﾏﾑﾗｺｳｺｳ","玉村高","玉村高",10,"群　馬"]
[103154,"ｼｯﾀｱｶﾂｷｺｳ","新田暁高","新田暁高",10,"群　馬"]
[103155,"ｵｵﾏﾏｺｳ","大間々高","大間々高",10,"群　馬"]
[103156,"ｲﾀｸﾗｺｳｺｳ","板倉高","板倉高",10,"群　馬"]
[103157,"ﾆｼｵｳﾗｺｳｺｳ","西邑楽高","西邑楽高",10,"群　馬"]
[103158,"ｵｵｲｽﾞﾐｺｳｺｳ","大泉高","大泉高",10,"群　馬"]
[103159,"ｾｲｽｲｺｳｺｳ","清翠高","清翠高",10,"群　馬"]
[103160,"ｼﾘﾂﾏｴﾊﾞｼｺｳｺｳ","市立前橋高","市立前橋高",10,"群　馬"]
[103162,"ｷﾘｭｳｼｮｳｷﾞｮｳｺｳ","桐生市商高","桐生市商高",10,"群　馬"]
[103163,"ｼﾘﾂｲｾｻｷｺｳ","市立伊勢崎高","市立伊勢崎高",10,"群　馬"]
[103164,"ｼﾌﾞｶﾜｺｳｷﾞｮｳｺｳ","渋川工高","渋川工高",10,"群　馬"]
[103165,"ｵｵﾀｼｮｳｷﾞｮｳｺｳ","太田市商高","太田市商高",10,"群　馬"]
[103166,"ﾄﾈｼｮｳｷﾞｮｳｺｳ","利根商高","利根商高",10,"群　馬"]
[103167,"ﾀｶｻｷｷﾀｺｳ","高崎北高","高崎北高",10,"群　馬"]
[103168,"ｷﾘｭｳﾆｼｺｳ","桐生西高","桐生西高",10,"群　馬"]
[103169,"ﾏｴﾊﾞｼﾋｶﾞｼｺｳ","前橋東高","前橋東高",10,"群　馬"]
[103170,"ﾏｴﾊﾞｼﾆｼｺｳ","前橋西高","前橋西高",10,"群　馬"]
[103171,"ｵｵﾀﾋｶﾞｼｺｳ","太田東高","太田東高",10,"群　馬"]
[103172,"ﾌｼﾞｵｶｷﾀｺｳ","藤岡北高","藤岡北高",10,"群　馬"]
[103173,"ﾀｶｻｼﾋｶﾞｼｺｳ","高崎東高","高崎東高",10,"群　馬"]
[103174,"ﾀﾃﾊﾞﾔｼｼｮｳｺｳｺｳｺｳ","館林商工高","館林商工高",10,"群　馬"]
[103175,"ﾀｶｻｷｹｲｻﾞﾀﾞｲﾌｿﾞｸｺｳ","高経大附高","高経大附高",10,"群　馬"]
[103176,"ｲｾｻｷｺｳ","伊勢崎高","伊勢崎高",10,"群　馬"]
[103178,"ﾁｭｳｵｳﾁｭｳﾄｳ","中央中等","中央中等",10,"群　馬"]
[103179,"ｱﾝﾅｶｿｳｺﾞｳｺｳ","安中総合学園高校","安中総合",10,"群　馬"]
[103180,"ﾌｼﾞｵｶﾁｭｳｵｳ","藤岡中央高","藤岡中央高",10,"群　馬"]
[103181,"ﾛｳｶﾞｯｺｳ","聾高","聾高",10,"群　馬"]
[103454,null,"桐生市立第一養護高","桐生市立第一養護高",10,"群　馬"]
[103455,null,"みやま養護高","みやま養護高",10,"群　馬"]
[103456,null,"榛名養護高","榛名養護高",10,"群　馬"]
[103457,null,"高等養護高","高等養護高",10,"群　馬"]
[103501,"ｷｮｳｱｲｶﾞｸｴﾝ","共愛学園高","共愛学園高",10,"群　馬"]
[103502,"ｷﾘｭｳﾀﾞｲｲﾁ","桐生一高","桐生一高",10,"群　馬"]
[103503,"ﾄｷﾜｺｳ","常磐高","常磐高",10,"群　馬"]
[103504,"ﾆｲｼﾞﾏｶﾞｸｴﾝ","新島学園高","新島学園高",10,"群　馬"]
[103505,"ﾒｲﾜｺｳ","明和高","明和高",10,"群　馬"]
[103506,"ﾀｶｻｷｼｮｳｶﾀﾞｲﾌｿﾞｸｺｳ","高商大附高","高商大附高",10,"群　馬"]
[103507,"ｶﾝｶﾞｸﾀﾞｲﾌｿﾞｸｺｳ","関学大附高","関学大附高",10,"群　馬"]
[103508,"ﾉｳﾀﾞｲﾆｺｳ","農大二高","農大二高",10,"群　馬"]
[103509,"ｼﾞｭﾄｸｺｳ","樹徳高","樹徳高",10,"群　馬"]
[103510,"ﾏｴﾊﾞｼｲｸｴｲｺｳ","前橋育英高","前橋育英高",10,"群　馬"]
[103512,"ｹﾝﾀﾞｲﾀｶｻｷ","健大高崎","健大高崎",10,"群　馬"]
[103513,"ｼﾗﾈｶｲｾﾞﾝｶﾞｯｺｳ","白根開善学校高","白根開善学校高",10,"群　馬"]
[103514,"ｹﾝｵｳ","県央高","県央高",10,"群　馬"]
[104116,null,"桐生工高定時制","桐生工高定時制",10,"群　馬"]
[104147,null,"中之条高定時制","中之条高定時制",10,"群　馬"]
[104162,null,"桐生市立商高定","桐生市立商高定",10,"群　馬"]
[104163,"ｺｳﾖｳ","興陽高","興陽高",10,"群　馬"]
[105001,"ｸﾞﾝﾏﾀﾞｲﾌﾁｭｳ","群馬大附中","群馬大附中",10,"群　馬"]
[105002,"ﾏｴﾊﾞｼｲｯﾁｭｳ","前橋一中","前橋一中",10,"群　馬"]
[105003,"ﾏｴﾊﾞｼﾆﾁｭｳ","前橋二中","前橋二中",10,"群　馬"]
[105004,"ﾏｴﾊﾞｼｻﾝﾁｭｳ","前橋三中","前橋三中",10,"群　馬"]
[105005,"ﾏｴﾊﾞｼﾖﾝﾁｭｳ","前橋四中","前橋四中",10,"群　馬"]
[105006,"ﾏｴﾊﾞｼｺﾞﾁｭｳ","前橋五中","前橋五中",10,"群　馬"]
[105007,"ﾏｴﾊﾞｼﾛｸﾁｭｳ","前橋六中","前橋六中",10,"群　馬"]
[105008,"ﾏｴﾊﾞｼﾅﾅﾁｭｳ","前橋七中","前橋七中",10,"群　馬"]
[105009,"ｶｲｶﾞﾔﾁｭｳ","桂萓中","桂萓中",10,"群　馬"]
[105010,"ﾊｶﾞﾁｭｳ","芳賀中","芳賀中",10,"群　馬"]
[105011,"ﾓﾄｿｳｼﾞｬﾁｭｳ","元総社中","元総社中",10,"群　馬"]
[105012,"ﾏｴﾊﾞｼﾋｶﾞｼﾁｭｳ","前橋東中","前橋東中",10,"群　馬"]
[105013,"ﾅﾝｷﾂﾁｭｳ","南橘中","南橘中",10,"群　馬"]
[105014,"ｷｾﾁｭｳ","木瀬中","木瀬中",10,"群　馬"]
[105015,"ｱﾗﾄﾁｭｳ","荒砥中","荒砥中",10,"群　馬"]
[105016,"ｶｽｶﾞﾁｭｳ","春日中","春日中",10,"群　馬"]
[105017,"ﾋﾛｾﾁｭｳ","広瀬中","広瀬中",10,"群　馬"]
[105018,"ｶﾏｸﾗﾁｭｳ","鎌倉中","鎌倉中",10,"群　馬"]
[105019,"ﾊｺﾀﾞﾁｭｳ","箱田中","箱田中",10,"群　馬"]
[105020,"ｷｮｳｱｲｶﾞｸｴﾝﾁｭｳ","共愛学園中","共愛学園中",10,"群　馬"]
[105025,"ﾀｶｻｷｲｯﾁｭｳ","高崎一中","高崎一中",10,"群　馬"]
[105026,"ﾀｶﾏﾂﾁｭｳ","高松中","高松中",10,"群　馬"]
[105027,"ﾀｶｻｷｻﾝﾁｭｳ","高崎三中","高崎三中",10,"群　馬"]
[105028,"ﾅﾐｴﾁｭｳ","並榎中","並榎中",10,"群　馬"]
[105029,"ﾄﾖｵｶﾁｭｳ","豊岡中","豊岡中",10,"群　馬"]
[105030,"ﾅｶｵﾁｭｳ","中尾中","中尾中",10,"群　馬"]
[105031,"ﾅｶﾞﾉｺﾞｳﾁｭｳ","長野郷中","長野郷中",10,"群　馬"]
[105032,"ｵｵﾙｲﾁｭｳ","大類中","大類中",10,"群　馬"]
[105033,"ﾂｶｻﾜﾁｭｳ","塚沢中","塚沢中",10,"群　馬"]
[105034,"ｶﾀｵｶﾁｭｳ","片岡中","片岡中",10,"群　馬"]
[105035,"ｻﾉﾁｭｳ","佐野中","佐野中",10,"群　馬"]
[105036,"ﾔﾜﾀﾁｭｳ","八幡中","八幡中",10,"群　馬"]
[105037,"ﾐﾅﾐﾔﾜﾀﾁｭｳ","南八幡中","南八幡中",10,"群　馬"]
[105038,"ｸﾗｶﾞﾉﾁｭｳ","倉賀野中","倉賀野中",10,"群　馬"]
[105039,"ｺｳﾅﾝﾁｭｳ","高南中","高南中",10,"群　馬"]
[105040,"ﾃﾗｵﾁｭｳ","寺尾中","寺尾中",10,"群　馬"]
[105041,"ﾔﾅｶﾁｭｳ","矢中中","矢中中",10,"群　馬"]
[105046,"ｷﾘｭｳﾋｶﾞｼﾁｭｳ","桐生東中","桐生東中",10,"群　馬"]
[105047,"ｷﾘｭｳﾆｼﾁｭｳ","桐生西中","桐生西中",10,"群　馬"]
[105048,"ｷﾘｭｳﾐﾅﾐﾁｭｳ","桐生南中","桐生南中",10,"群　馬"]
[105049,"ｷﾘｭｳｷﾀﾁｭｳ","桐生北中","桐生北中",10,"群　馬"]
[105050,"ｼｮｳﾜﾁｭｳ","昭和中","昭和中",10,"群　馬"]
[105051,"ｻｶｲﾉﾁｭｳ","境野中","境野中",10,"群　馬"]
[105052,"ﾋﾛｻﾜﾁｭｳ","広沢中","広沢中",10,"群　馬"]
[105053,"ｳﾒﾀﾞﾁｭｳ","梅田中","梅田中",10,"群　馬"]
[105054,"ｱｲｵｲﾁｭｳ","相生中","相生中",10,"群　馬"]
[105055,"ｻｸﾗｷﾞﾁｭｳ","桜木中","桜木中",10,"群　馬"]
[105056,"ｶﾜｳﾁﾁｭｳ","川内中","川内中",10,"群　馬"]
[105057,"ｷﾘｭｳﾋｼﾁｭｳ","桐生菱中","桐生菱中",10,"群　馬"]
[105058,"ｷﾘｶﾞｵｶﾁｭｳ","桐丘中","桐丘中",10,"群　馬"]
[105062,"ｲｾｻｷｲｯﾁｭｳ","伊勢崎一中","伊勢崎一中",10,"群　馬"]
[105063,"ｲｾｻｷﾆﾁｭｳ","伊勢崎二中","伊勢崎二中",10,"群　馬"]
[105064,"ｲｾｻｷｻﾝﾁｭｳ","伊勢崎三中","伊勢崎三中",10,"群　馬"]
[105065,"ｲｾｻｷﾖﾝﾁｭｳ","伊勢崎四中","伊勢崎四中",10,"群　馬"]
[105066,"ｳｴﾊｽﾁｭｳ","殖蓮中","殖蓮中",10,"群　馬"]
[105067,"ﾐﾔｺﾞｳﾁｭｳ","宮郷中","宮郷中",10,"群　馬"]
[105071,"ｵｵﾀﾆｼﾁｭｳ","太田西中","太田西中",10,"群　馬"]
[105072,"ｵｵﾀｷﾀﾁｭｳ","太田北中","太田北中",10,"群　馬"]
[105073,"ｵｵﾀﾋｶﾞｼﾁｭｳ","太田東中","太田東中",10,"群　馬"]
[105074,"ｵｵﾀﾐﾅﾐﾁｭｳ","太田南中","太田南中",10,"群　馬"]
[105075,"ｺﾞｳﾄﾞﾁｭｳ","強戸中","強戸中",10,"群　馬"]
[105076,"ｷｭｳﾊｸﾁｭｳ","休泊中","休泊中",10,"群　馬"]
[105077,"ﾎｳｾﾝﾁｭｳ","宝泉中","宝泉中",10,"群　馬"]
[105078,"ﾓﾛﾀﾁｭｳ","毛里田中","毛里田中",10,"群　馬"]
[105079,"ｼﾞｮｳｻｲﾁｭｳ","城西中","城西中",10,"群　馬"]
[105080,"ｼﾞｮｳﾄｳﾁｭｳ","城東中","城東中",10,"群　馬"]
[105081,"ｱｻﾋﾁｭｳ","旭中","旭中",10,"群　馬"]
[105082,"ﾇﾏﾀﾁｭｳ","沼田中","沼田中",10,"群　馬"]
[105083,"ﾇﾏﾀﾆｼﾁｭｳ","沼田西中","沼田西中",10,"群　馬"]
[105084,"ﾇﾏﾀﾋｶﾞｼﾁｭｳ","沼田東中","沼田東中",10,"群　馬"]
[105085,"ｳｽﾈﾁｭｳ","薄根中","薄根中",10,"群　馬"]
[105086,"ｲｹﾀﾞﾁｭｳ","池田中","池田中",10,"群　馬"]
[105089,"ﾀﾃﾊﾞﾔｼｲｯﾁｭｳ","館林一中","館林一中",10,"群　馬"]
[105090,"ﾀﾃﾊﾞﾔｼﾆﾁｭｳ","館林二中","館林二中",10,"群　馬"]
[105091,"ﾀﾃﾊﾞﾔｼｻﾝﾁｭｳ","館林三中","館林三中",10,"群　馬"]
[105092,"ﾀﾃﾊﾞﾔｼﾖﾝﾁｭｳ","館林四中","館林四中",10,"群　馬"]
[105093,"ﾀﾀﾗﾁｭｳ","多々良中","多々良中",10,"群　馬"]
[105094,"ﾇﾏﾀﾐﾅﾐﾁｭｳ","沼田南中","沼田南中",10,"群　馬"]
[105096,"ｼﾌﾞｶﾜﾁｭｳ","渋川中","渋川中",10,"群　馬"]
[105097,"ｶﾅｼﾏﾁｭｳ","金島中","金島中",10,"群　馬"]
[105098,"ｼﾌﾞｶﾜｷﾀﾁｭｳ","渋川北中","渋川北中",10,"群　馬"]
[105099,"ﾌﾙﾏｷﾁｭｳ","古巻中","古巻中",10,"群　馬"]
[105102,"ﾌｼﾞｵｶﾆｼﾁｭｳ","藤岡西中","藤岡西中",10,"群　馬"]
[105103,"ﾌｼﾞｵｶﾐﾅﾐﾁｭｳ","藤岡南中","藤岡南中",10,"群　馬"]
[105104,"ﾌｼﾞｵｶﾋｶﾞｼﾁｭｳ","藤岡東中","藤岡東中",10,"群　馬"]
[105105,"ﾌｼﾞｵｶｷﾀﾁｭｳ","藤岡北中","藤岡北中",10,"群　馬"]
[105106,"ﾌｼﾞｵｶｷﾀﾁｭｳﾌﾞﾝ","藤岡北中分","藤岡北中分",10,"群　馬"]
[105107,"ﾌｼﾞｵｶｵﾉﾁｭｳ","藤岡小野中","藤岡小野中",10,"群　馬"]
[105110,"ﾄﾐｵｶﾁｭｳ","富岡中","富岡中",10,"群　馬"]
[105111,"ﾄﾐｵｶﾆｼﾁｭｳ","富岡西中","富岡西中",10,"群　馬"]
[105112,"ﾄﾐｵｶﾋｶﾞｼﾁｭｳ","富岡東中","富岡東中",10,"群　馬"]
[105113,"ﾄﾐｵｶｷﾀﾁｭｳ","富岡北中","富岡北中",10,"群　馬"]
[105114,"ﾄﾐｵｶﾐﾅﾐﾁｭｳ","富岡南中","富岡南中",10,"群　馬"]
[105117,"ｱﾝﾅｶｲｯﾁｭｳ","安中一中","安中一中",10,"群　馬"]
[105118,"ｱﾝﾅｶﾆﾁｭｳ","安中二中","安中二中",10,"群　馬"]
[105119,"ﾆｲｼﾞﾏｶﾞｸｴﾝﾁｭｳ","新島学園中","新島学園中",10,"群　馬"]
[105123,"ｵｵｺﾞﾁｭｳ","大胡中","大胡中",10,"群　馬"]
[105124,"ｷﾀﾀﾁﾊﾞﾅﾁｭｳ","北橘中","北橘中",10,"群　馬"]
[105125,"ｱｶｷﾞｿﾝﾘﾂﾐﾅﾐﾁｭｳ","赤城村立南中","赤城村立南中",10,"群　馬"]
[105126,"ｱｶｷﾞｿﾝﾘﾂｷﾀﾁｭｳ","赤城村立北中","赤城村立北中",10,"群　馬"]
[105127,"ﾌｼﾞﾐﾁｭｳ","富士見中","富士見中",10,"群　馬"]
[105128,"ﾌｼﾞﾐﾁｭｳｱｶｷﾞﾔﾏﾌﾞﾝ","富士見中赤城山分","富士見中赤城山分",10,"群　馬"]
[105129,"ﾐﾔｷﾞﾁｭｳ","宮城中","宮城中",10,"群　馬"]
[105130,"ｶｽｶﾜﾁｭｳ","粕川中","粕川中",10,"群　馬"]
[105131,"ﾆｲｻﾄﾁｭｳ","新里中","新里中",10,"群　馬"]
[105132,"ｸﾛﾎﾈﾁｭｳ","黒保根中","黒保根中",10,"群　馬"]
[105133,"ﾐﾄﾞﾘｱｽﾞﾏﾁｭｳ","みどり東中","みどり東中",10,"群　馬"]
[105137,"ﾊﾙﾅﾁｭｳ","榛名中","榛名中",10,"群　馬"]
[105138,"ﾐｻﾄﾁｭｳ","箕郷中","箕郷中",10,"群　馬"]
[105139,"ｸﾞﾝﾏﾁｭｳｵｳﾁｭｳ","群馬中央中","群馬中央中",10,"群　馬"]
[105140,"ｸﾞﾝﾏﾐﾅﾐﾁｭｳ","群馬南中","群馬南中",10,"群　馬"]
[105141,"ｸﾗﾌﾞﾁﾁｭｳ","倉渕中","倉渕中",10,"群　馬"]
[105144,"ｲｶﾎﾁｭｳ","伊香保中","伊香保中",10,"群　馬"]
[105145,"ｺﾓﾁﾁｭｳ","子持中","子持中",10,"群　馬"]
[105146,"ｵﾉｶﾞﾐﾁｭｳ","小野上中","小野上中",10,"群　馬"]
[105147,"ｼﾝﾄｳﾁｭｳ","榛東中","榛東中",10,"群　馬"]
[105148,"ﾖｼｵｶﾁｭｳ","吉岡中","吉岡中",10,"群　馬"]
[105151,"ｼﾝﾏﾁﾁｭｳ","新町中","新町中",10,"群　馬"]
[105152,"ｵﾆｼﾁｭｳ","鬼石中","鬼石中",10,"群　馬"]
[105153,"ﾖｼｲﾁｭｳｵｳﾁｭｳ","吉井中央中","吉井中央中",10,"群　馬"]
[105154,"ｲﾘﾉﾁｭｳ","入野中","入野中",10,"群　馬"]
[105155,"ｲﾜﾀﾞｲﾗﾁｭｳ","岩平中","岩平中",10,"群　馬"]
[105156,"ﾏﾝﾊﾞﾁｭｳ","万場中","万場中",10,"群　馬"]
[105157,"ﾅｶｻﾞﾄﾁｭｳ","中里中","中里中",10,"群　馬"]
[105158,"ｳｴﾉﾁｭｳ","上野中","上野中",10,"群　馬"]
[105159,"ﾖｼｲﾆｼﾁｭｳ","吉井西中","吉井西中",10,"群　馬"]
[105161,"ﾐｮｳｷﾞﾁｭｳ","妙義中","妙義中",10,"群　馬"]
[105162,"ｶﾝﾗｲｯﾁｭｳ","甘楽一中","甘楽一中",10,"群　馬"]
[105163,"ｶﾝﾗﾆﾁｭｳ","甘楽二中","甘楽二中",10,"群　馬"]
[105164,"ｶﾝﾗｻﾝﾁｭｳ","甘楽三中","甘楽三中",10,"群　馬"]
[105165,"ｵｻﾞﾜﾁｭｳ","尾沢中","尾沢中",10,"群　馬"]
[105166,"ｼﾓﾆﾀﾋｶﾞｼﾁｭｳ","下仁田東中","下仁田東中",10,"群　馬"]
[105167,"ｼﾓﾉﾀﾆｼﾁｭｳ","下仁田西中","下仁田西中",10,"群　馬"]
[105168,"ﾅﾝﾓｸﾁｭｳ","南牧中","南牧中",10,"群　馬"]
[105169,"ｲﾜﾄﾞﾁｭｳ","磐戸中","磐戸中",10,"群　馬"]
[105173,"ﾏﾂｲﾀﾞﾋｶﾞｼﾁｭｳ","松井田東中","松井田東中",10,"群　馬"]
[105174,"ﾏﾂｲﾀﾞﾆｼﾁｭｳ","松井田西中","松井田西中",10,"群　馬"]
[105175,"ﾏﾂｲﾀﾞﾐﾅﾐﾁｭｳ","松井田南中","松井田南中",10,"群　馬"]
[105176,"ﾏﾂｲﾀﾞｷﾀﾁｭｳ","松井田北中","松井田北中",10,"群　馬"]
[105179,"ﾅｶﾉｼﾞｮｳﾁｭｳ","中之条中","中之条中",10,"群　馬"]
[105180,"ﾅｶﾉｼﾞｮｳﾆｼﾁｭｳ","中之条西中","中之条西中",10,"群　馬"]
[105181,"ﾅｶﾉｼﾞｮｳﾖﾝﾁｭｳ","中之条四中","中之条四中",10,"群　馬"]
[105182,"ﾅｶﾉｼﾞｮｳｺﾞﾁｭｳ","中之条五中","中之条五中",10,"群　馬"]
[105183,"ｵｵﾀﾁｭｳ","太田中","太田中",10,"群　馬"]
[105184,"ﾊﾗﾏﾁﾁｭｳ","原町中","原町中",10,"群　馬"]
[105185,"ｲﾜｼﾏﾁｭｳ","岩島中","岩島中",10,"群　馬"]
[105186,"ｻｶｶﾞﾐﾁｭｳ","坂上中","坂上中",10,"群　馬"]
[105187,"ﾅｶﾞﾉﾊﾗﾋｶﾞｼﾁｭｳ","長野原東中","長野原東中",10,"群　馬"]
[105188,"ﾅｶﾞﾉﾊﾗﾆｼﾁｭｳ","長野原西中","長野原西中",10,"群　馬"]
[105189,"ｸｻﾂﾁｭｳ","草津中","草津中",10,"群　馬"]
[105190,"ｷｻﾂﾁｭｳﾀﾞｲｲﾁﾌﾞﾝ","草津中第一分","草津中第一分",10,"群　馬"]
[105191,"ﾋｶﾞｼｱｶﾞﾂﾏﾋｶﾞｼﾁｭｳ","東吾妻東中","東吾妻東中",10,"群　馬"]
[105192,"ﾂﾏｺﾞｲﾋｶﾞｼﾁｭｳ","嬬恋東中","嬬恋東中",10,"群　馬"]
[105193,"ﾂﾏｺﾞｲﾆｼﾁｭｳ","嬬恋西中","嬬恋西中",10,"群　馬"]
[105194,"ｸﾆﾁｭｳ","六合中","六合中",10,"群　馬"]
[105195,"ｲﾘﾔﾏﾁｭｳ","入山中","入山中",10,"群　馬"]
[105196,"ﾀｶﾔﾏﾁｭｳ","高山中","高山中",10,"群　馬"]
[105197,"ｼﾗﾈｶｲｾﾞﾝｶﾞｸｴﾝﾁｭｳ","白根開善学園中","白根開善学園中",10,"群　馬"]
[105202,"ﾂｷﾖﾉｲｯﾁｭｳ","月夜野一中","月夜野一中",10,"群　馬"]
[105203,"ﾂｷﾖﾉﾁｭｳ","月夜野中","月夜野中",10,"群　馬"]
[105204,"ﾐﾅｶﾐﾁｭｳ","水上中","水上中",10,"群　馬"]
[105205,"ﾌｼﾞﾜﾗﾁｭｳ","藤原中","藤原中",10,"群　馬"]
[105206,"ｼﾗｻﾜﾁｭｳ","白沢中","白沢中",10,"群　馬"]
[105207,"ﾄﾈﾋｶﾞｼﾁｭｳ","利根東中","利根東中",10,"群　馬"]
[105208,"ﾅﾝｺﾞｳﾁｭｳ","南郷中","南郷中",10,"群　馬"]
[105209,"ﾀﾅﾁｭｳ","多那中","多那中",10,"群　馬"]
[105210,"ﾈﾘﾁｭｳ","根利中","根利中",10,"群　馬"]
[105211,"ｶﾀｼﾅﾁｭｳ","片品中","片品中",10,"群　馬"]
[105212,"ｶﾜﾊﾞﾁｭｳ","川場中","川場中",10,"群　馬"]
[105213,"ﾆｲﾊﾙﾁｭｳ","新治中","新治中",10,"群　馬"]
[105214,"ｼｮｳﾜﾐﾅﾐﾁｭｳ","昭和南中","昭和南中",10,"群　馬"]
[105215,"ｼｮｳﾜﾋｶﾞｼﾁｭｳ","昭和東中","昭和東中",10,"群　馬"]
[105216,"ｼｮｳﾜｿﾝﾘﾂｼｮｳﾜﾁｭｳ","昭和村立昭和中","昭和村立昭和中",10,"群　馬"]
[105220,"ｻｶｲｷﾀﾁｭｳ","境北中","境北中",10,"群　馬"]
[105221,"ｻｶｲﾐﾅﾐﾁｭｳ","境南中","境南中",10,"群　馬"]
[105222,"ｻｶｲﾆｼﾁｭｳ","境西中","境西中",10,"群　馬"]
[105223,"ﾀﾏﾑﾗﾁｭｳ","玉村中","玉村中",10,"群　馬"]
[105224,"ｱｶﾎﾞﾘﾁｭｳ","赤堀中","赤堀中",10,"群　馬"]
[105225,"ｲｾｻｷｱｽﾞﾏﾁｭｳ","伊勢崎あづま中","あづま中",10,"群　馬"]
[105226,"ﾀﾏﾑﾗﾐﾅﾐﾁｭｳ","玉村南中","玉村南中",10,"群　馬"]
[105228,"ｵｼﾞﾏﾁｭｳ","尾島中","尾島中",10,"群　馬"]
[105229,"ｷｻﾞｷﾁｭｳ","木崎中","木崎中",10,"群　馬"]
[105230,"ｲｸｼﾅﾁｭｳ","生品中","生品中",10,"群　馬"]
[105231,"ﾜﾀｳﾁﾁｭｳ","綿打中","綿打中",10,"群　馬"]
[105232,"ﾔﾌﾞﾂﾞｶﾎﾝﾏﾁﾁｭｳ","薮塚本町中","薮塚本町中",10,"群　馬"]
[105233,"ｶｻｶﾞｹﾁｭｳ","笠懸中","笠懸中",10,"群　馬"]
[105234,"ｶｻｶﾞｹﾐﾅﾐﾁｭｳ","笠懸南中","笠懸南中",10,"群　馬"]
[105237,"ｵｵﾏﾏﾁｭｳ","大間々中","大間々中",10,"群　馬"]
[105238,"ｵｵﾏﾏﾋｶﾞｼﾁｭｳ","大間々東中","大間々東中",10,"群　馬"]
[105241,"ｲﾀｸﾗﾁｭｳ","板倉中","板倉中",10,"群　馬"]
[105242,"ｵｵｲｽﾞﾐﾐﾅﾐﾁｭｳ","大泉南中","大泉南中",10,"群　馬"]
[105243,"ｵｵｲｽﾞﾐｷﾀﾁｭｳ","大泉北中","大泉北中",10,"群　馬"]
[105244,"ｵｵｲｽﾞﾐﾆｼﾁｭｳ","大泉西中","大泉西中",10,"群　馬"]
[105245,"ﾒｲﾜﾁｭｳ","明和中","明和中",10,"群　馬"]
[105246,"ﾁﾖﾀﾞﾁｭｳ","千代田中","千代田中",10,"群　馬"]
[105247,"ｵｳﾗﾁｭｳ","邑楽中","邑楽中",10,"群　馬"]
[105248,"ｵｳﾗﾐﾅﾐﾁｭｳ","邑楽南中","邑楽南中",10,"群　馬"]
[105250,"ｼﾞｭﾄｸﾁｭｳｶﾞｸ","樹徳中学校","樹徳中",10,"群　馬"]
[105252,"ﾁｭｳｵｳﾁｭｳﾄｳ","中央中等","中央中等",10,"群　馬"]
[105254,"ｷﾘｭｳﾁｭｳｵｳﾁｭ","桐生中央中","桐生中央中",10,"群　馬"]
[105256,"ｾｲﾘｭｳﾁｭｳ","清流中","清流中",10,"群　馬"]
[105257,"ﾖﾂﾊﾞｶﾞｸｴﾝ","四ツ葉学園","四ツ葉学園",10,"群　馬"]
[105258,"ﾏｴﾊﾞｼﾐｽﾞｷﾁｭｳ","前橋みずき中","前橋みずき中",10,"群　馬"]
[105260,"ﾂﾏｺﾞｲﾁｭｳ","嬬恋中","嬬恋中",10,"群　馬"]
[105261,"ｵｵﾀﾁｭｳ","太田中","太田中",10,"群　馬"]
[109001,"ｼﾞｮｳﾌﾞﾀﾞｲ","上武大","上武大",10,"群　馬"]
[109002,"ｸﾞﾝﾏﾀﾞｲ","群馬大","群馬大",10,"群　馬"]
[109003,"ｶﾝｶﾞｸﾀﾞｲ","関学大","関東学園大",10,"群　馬"]
[109004,"ﾀｶｹﾀﾞｲ","高経大","高崎経済大",10,"群　馬"]
[109005,"ｼﾞｭﾝﾃﾝﾄﾞｳﾀﾞｲ","順天堂大","順天堂大",10,"群　馬"]
[109006,"ﾆｯﾀｲﾀﾞｲ","日体大","日体大",10,"群　馬"]
[109007,"ﾄｳｷｮｳｹｲｻﾞｲﾀﾞｲ","東経大","東京経済大",10,"群　馬"]
[109008,"ﾄｳｷｮｳｼﾞｮｳﾎｳﾀﾞｲ","東京情報大","東京情報大",10,"群　馬"]
[109009,"ﾄｳﾖｳﾀﾞｲ","東洋大","東洋大",10,"群　馬"]
[109010,"ﾆﾎﾝｼﾞｮｼﾀｲｲｸﾀﾞｲ","日女体大","日女体大",10,"群　馬"]
[109011,"ﾄｳｷｮｳｼﾞｮｼﾀｲｲｸﾀﾞｲ","東女体大","東女体大",10,"群　馬"]
[109012,"ﾄｳｷｮｳﾉｳﾀﾞｲ","東農大","東京農業大",10,"群　馬"]
[109013,"ﾎｳｾｲﾀﾞｲ","法政大","法政大",10,"群　馬"]
[109014,"ﾆﾎﾝﾀﾞｲｶﾞｸ","日　大","日本大",10,"群　馬"]
[109015,"ｺｸｻｲﾌﾞﾄﾞｳﾀﾞｲ","国武大","国際武道大",10,"群　馬"]
[109016,"ｺｸｼｶﾝﾀﾞｲ","国士舘大","国士舘大",10,"群　馬"]
[109017,"ﾄｳｶｲﾀﾞｲ","東海大","東海大",10,"群　馬"]
[109018,"ﾜｾﾀﾞﾀﾞｲｶﾞｸ","早　大","早稲田大",10,"群　馬"]
[109019,"ﾄｳｷｮｳｶﾞｸｹﾞｲﾀﾞｲ","東学大","東学大",10,"群　馬"]
[109020,"ｱｵﾔﾏｶﾞｸｲﾝﾀﾞｲ","青学大","青学大",10,"群　馬"]
[109021,"ｾﾝｼｭｳﾀﾞｲ","専修大","専修大",10,"群　馬"]
[109022,"ﾁｭｳｷｮｳｼﾞｮｼﾀﾞｲ","中京女大","中京女大",10,"群　馬"]
[109023,"ﾁｭｳｷｮｳﾀﾞｲ","中京大","中京大",10,"群　馬"]
[109024,"ﾂｸﾊﾞﾀﾞｲ","筑波大","筑波大",10,"群　馬"]
[109025,"ﾔﾏﾅｼｶﾞｸｲﾝﾀﾞｲ","山梨学院大","山梨学院大",10,"群　馬"]
[109026,"ｽﾙｶﾞﾀﾞｲﾀﾞｲ","駿河台大","駿河台大",10,"群　馬"]
[109027,"ｼﾞｮｳｻｲﾀﾞｲ","城西大","城西大",10,"群　馬"]
[109028,"ﾀﾏｶﾞﾜﾀﾞｲ","玉川大","玉川大",10,"群　馬"]
[109029,"ｾｲﾜﾀﾞｲ","清和大","清和大",10,"群　馬"]
[109030,"ｺﾏｻﾞﾜﾀﾞｲ","駒沢大","駒沢大",10,"群　馬"]
[109031,"ﾄﾞｯｷｮｳﾀﾞｲ","獨協大","獨協大",10,"群　馬"]
[109032,"ｱｼﾞｱﾀﾞｲ","亜細亜大","亜細亜大",10,"群　馬"]
[109033,"ﾘｭｳﾂｳｹｲｻﾞｲﾀﾞｲ","流通経済大","流通経済大",10,"群　馬"]
[109034,"ﾁｭｳｵｳﾀﾞｲ","中央大","中央大",10,"群　馬"]
[109035,"ﾌｸｼﾏﾀﾞｲ","福島大","福島大",10,"群　馬"]
[109036,"ﾀﾞｲﾄｳﾀﾞｲ","大東大","大東大",10,"群　馬"]
[109037,"ｶﾅｻﾞﾜｹｲｻﾞｲﾀﾞｲ","金沢経大","金沢経大",10,"群　馬"]
[109038,"ｵｵｻｶﾀｲｲｸﾀﾞｲ","大体大","大体大",10,"群　馬"]
[109039,"ﾆﾎﾝｺｳｷﾞｮｳﾀﾞｲ","日工大","日工大",10,"群　馬"]
[109040,"ﾒｲｼﾞﾀﾞｲ","明治大","明治大",10,"群　馬"]
[109041,"ｻｸｼﾝｶﾞｸｴﾝﾀﾞｲ","作新学園大","作新学園大",10,"群　馬"]
[109042,"ﾍｲｾｲｺｸｻｲﾀﾞｲ","平成国際大","平成国際大",10,"群　馬"]
[109043,"ｺｸｶﾞｸｲﾝﾀﾞｲ","国学院大","国学院大",10,"群　馬"]
[109044,"ﾄﾔﾏﾀﾞｲ","富山大学","富山大",10,"群　馬"]
[109045,"ﾏｴﾊﾞｼｺｸｻｲﾀﾞｲ","前橋国際大","前橋国際大",10,"群　馬"]
[109046,"ﾄｳｷｮｳﾌｸｼﾀﾞｲ","東京福祉大","東京福祉大",10,"群　馬"]
[109047,"ｺｸｶﾞｸｲﾝﾀﾞｲ","国学院大","国学院大",10,"群　馬"]
[109048,"ﾌｸｵｶﾀﾞｲ","福岡大","福岡大",10,"群　馬"]
[109049,"ｹｲｵｳﾀﾞｲ","慶應大","慶應大",10,"群　馬"]
[109050,"ﾘｯｷｮｳﾀﾞｲ","立教大","立教大",10,"群　馬"]
[109051,"ﾘﾂﾒｲｶﾝﾀﾞｲ","立命館大","立命館大",10,"群　馬"]
[109052,"ｶﾅｶﾞﾜﾀﾞｲ","神奈川大","神奈川大",10,"群　馬"]
[109053,"ﾄｳｷｮｳﾀﾞｲ","東京大","東京大",10,"群　馬"]
[109054,"ｲﾜｷﾒｲｾｲﾀﾞｲ","いわき明星大","いわき明星大",10,"群　馬"]
[109055,"ｼﾞｮｳｴﾂｷｮｳｲｸﾀﾞｲ","上越教育大学","上越教育大",10,"群　馬"]
[109056,"ﾘｯｼｮｳﾀﾞｲ","立正大学","立正大",10,"群　馬"]
[109057,"ﾁﾊﾞｼｮｳｶﾀﾞｲ","千葉商科大","千葉商科大",10,"群　馬"]
[109058,"ﾄｳｷｮｳﾀﾞｲﾀﾞｲｶﾞｸｲﾝ","東京大大学院","東京大大学院",10,"群　馬"]
[109059,"ﾃﾞﾝｷﾂｳｼﾝﾀﾞｲ","電気通信大学","電通大",10,"群　馬"]
[109060,"ｾﾝﾀﾞｲﾀﾞｲ","仙台大","仙台大",10,"群　馬"]
[109061,"ﾄｳｷｮｳﾘｶﾀﾞｲ","東京理科大","東京理科大",10,"群　馬"]
[109062,"ﾎｯｶｲﾄﾞｳﾀﾞｲ","北海道大","北海道大",10,"群　馬"]
[109063,"ｼﾞｮｳｻｲｺｸｻｲﾀﾞｲ","城西国際大","城西国際大",10,"群　馬"]
[109064,"ﾊｸｵｳﾀﾞｲ","白鴎大","白鴎大",10,"群　馬"]
[109065,"ﾆｲｶﾞﾀﾀﾞｲ","新潟大","新潟大",10,"群　馬"]
[109066,"ﾌﾞﾝｷｮｳﾀﾞｲ","文教大","文教大",10,"群　馬"]
[109067,"ｱｷﾀﾀﾞｲ","秋田大","秋田大",10,"群　馬"]
[109068,"ﾆﾁﾀﾞｲｺｳｶﾞｸﾌﾞ","日大工学部","日大工学部",10,"群　馬"]
[109069,"ｶﾉﾔﾀｲｲｸﾀﾞｲ","鹿屋体育大","鹿屋体育大",10,"群　馬"]
[109070,"ｺｸｼｶﾝﾀﾞｲﾀﾞｲｶﾞｸｲﾝ","国士舘大大学院","国士舘大大学院",10,"群　馬"]
[109071,"ﾃｲｷｮｳﾀﾞｲ","帝京大","帝京大",10,"群　馬"]
[109072,"ﾂﾙﾌﾞﾝｶﾀﾞｲ","都留文科大","都留文科大",10,"群　馬"]
[109073,"ｿｳｿﾞｳｶﾞｸｴﾝﾀﾞｲ","創造学園大","創造学園大",10,"群　馬"]
[109075,"ｸﾞﾝﾏﾀﾞｲｲｶﾞｸﾌﾞ","群馬大医学部","群馬大医学部",10,"群　馬"]
[109076,"ﾆｲｶﾞﾀｲﾘｮｳﾌｸｼﾀﾞｲ","新潟医療福祉大","新潟医療福祉大",10,"群　馬"]
[109077,"ﾑｻｼﾀﾞｲ","武蔵大","武蔵大",10,"群　馬"]
[109078,"ﾄｳｷｮｳﾌｸｼﾀﾞｲ","東京福祉大","東京福祉大",10,"群  馬"]
[109079,"ｳﾂﾉﾐﾔﾀﾞｲ","宇都宮大","宇都宮大",10,"群  馬"]
[109080,"ｻｲﾀﾏﾀﾞｲ","埼玉大","埼玉大",10,"群  馬"]
[109081,"ｵｵｻｶﾀﾞｲ","大阪大","大阪大",10,"群  馬"]
[109082,"ｵｵｻｶﾀｲｲｸﾀﾞｲ","大体大","大体大",10,"群  馬"]
[109999,"群馬陸協処理不能","群馬陸協処理不能","群馬陸協処理不能",10,"群　馬"]
[110005,"ｸﾚｰﾏｰTC","ｸﾚｰﾏｰTC","ｸﾚｰﾏｰTC",11,"埼　玉"]
[110006,"ﾄｳｼﾊﾞﾏﾂｼﾀ","東芝松下","東芝松下",11,"埼　玉"]
[110011,"ｸﾏｶﾞﾔﾋｶﾞｼﾁｭｳ","熊谷東中","熊谷東中",11,"埼　玉"]
[113001,"ﾊﾄﾔﾏｺｳ","鳩山高","鳩山高",11,"埼　玉"]
[119074,"ﾆﾎﾝｳｴﾙﾈｽ","日本ウエルネス専門","日本ウエルネス専門",11,"群　馬"]
[120001,"ﾘｰﾀﾞｰｽｸﾗﾌﾞ","ﾘｰﾀﾞｰｽﾞｸﾗﾌﾞ","ﾘｰﾀﾞｰｽﾞｸﾗﾌﾞ",12,"千　葉"]
[123001,"ｲﾁｶﾜｺｳ","市川高","市川高",12,"千　葉"]
[130001,"J.VIC","J.VIC","J.VIC",13,"東　京"]
[159065,"ﾆｲｶﾞﾀﾀﾞｲ","新潟大","新潟大",15,"新　潟"]
[190001,"ﾔﾏﾅｼﾀﾞｲAC","山梨大AC","山梨大AC",19,"山  梨"]
[209002,"ｸﾞﾝﾏﾀﾞｲ","群馬大","群馬大",20,"長  野"]
[209003,"ｼﾝｼｭｳﾀﾞｲ","信州大","信州大",20,"長  野"]
[239009,"ﾄｳﾖｳﾀﾞｲ","東洋大","東洋大",23,"愛　知"]
[279002,"ｸﾞﾝﾏﾀﾞｲ","群馬大","群馬大",27,"大　阪"]
[279003,"ｵｵｻｶﾀﾞｲ","大阪大","大阪大",27,"大　阪"]
[999999,"ｸﾞﾝﾏｶｸﾀｽｸﾗﾌﾞ","群馬ｶｸﾀｽｸﾗﾌﾞ","群馬ｶｸﾀｽｸﾗﾌﾞ",10,"群　馬"]

{"sheet":"印刷ｼｰﾄ","index":2,"n_rows":39,"n_cols":5,"rows_kept":39,"cut":false,"hidden":false,"merged":[[0,0,0,4],[0,5,0,10],[1,0,1,4],[1,5,1,10],[5,0,5,4],[5,5,5,10]]}
["群馬県民マラソン・ジュニアロードレース大会"]
["申し込み一覧表"]
[]
[null,"所属コード","所　　属","区　　分"]
[null,103105,"前橋工高","高校男子"]
[]
["No.","登録番号","氏　　名","フリガナ","学年"]
[76]
[77]
[78]
[79]
[80]
[81]
[82]
[83]
[84]
[85]
[86]
[87]
[88]
[89]
[90]
[91]
[92]
[93]
[94]
[95]
[96]
[97]
[98]
[99]
[100]
[]
[]
[null,null,"2014-01-20"]
[]
[null,null,"所　属　長","吉井　均","印"]
[null,null,"申込責任者","武藤　顕"]
[null,null,"電　　　話","090-8591-3846"]

{"sheet":"data","index":3,"n_rows":201,"n_cols":8,"rows_kept":201,"cut":false,"hidden":false,"merged":[]}
["No","登録番号","氏名","性","フリガナ","学年","所属","所属コード"]
[1,{"$f":"IF(入力!C14=\"\",\"\",入力!B14)","v":""},{"$f":"IF(入力!C14=\"\",\"\",入力!C14)","v":""},{"$f":"IF(入力!C14=\"\",\"\",IF(入力!$D$5=\"高校男子\",\"1\",IF(入力!$D$5=\"高校女子\",\"2\")))","v":""},{"$f":"IF(入力!C14=\"\",\"\",入力!D14)","v":""},{"$f":"IF(入力!C14=\"\",\"\",入力!E14)","v":""},{"$f":"IF(H2=\"\",\"\",VLOOKUP(H2,syozoku,4,FALSE))","v":""},{"$f":"IF(入力!C14=\"\",\"\",入力!$B$5)","v":""}]
[2,{"$f":"IF(入力!C15=\"\",\"\",入力!B15)","v":""},{"$f":"IF(入力!C15=\"\",\"\",入力!C15)","v":""},{"$f":"IF(入力!C15=\"\",\"\",IF(入力!$D$5=\"高校男子\",\"1\",IF(入力!$D$5=\"高校女子\",\"2\")))","v":""},{"$f":"IF(入力!C15=\"\",\"\",入力!D15)","v":""},{"$f":"IF(入力!C15=\"\",\"\",入力!E15)","v":""},"",{"$f":"IF(入力!C15=\"\",\"\",入力!$B$5)","v":""}]
[3,{"$f":"IF(入力!C16=\"\",\"\",入力!B16)","v":""},{"$f":"IF(入力!C16=\"\",\"\",入力!C16)","v":""},{"$f":"IF(入力!C16=\"\",\"\",IF(入力!$D$5=\"高校男子\",\"1\",IF(入力!$D$5=\"高校女子\",\"2\")))","v":""},{"$f":"IF(入力!C16=\"\",\"\",入力!D16)","v":""},{"$f":"IF(入力!C16=\"\",\"\",入力!E16)","v":""},"",{"$f":"IF(入力!C16=\"\",\"\",入力!$B$5)","v":""}]
[4,{"$f":"IF(入力!C17=\"\",\"\",入力!B17)","v":""},{"$f":"IF(入力!C17=\"\",\"\",入力!C17)","v":""},{"$f":"IF(入力!C17=\"\",\"\",IF(入力!$D$5=\"高校男子\",\"1\",IF(入力!$D$5=\"高校女子\",\"2\")))","v":""},{"$f":"IF(入力!C17=\"\",\"\",入力!D17)","v":""},{"$f":"IF(入力!C17=\"\",\"\",入力!E17)","v":""},"",{"$f":"IF(入力!C17=\"\",\"\",入力!$B$5)","v":""}]
[5,{"$f":"IF(入力!C18=\"\",\"\",入力!B18)","v":""},{"$f":"IF(入力!C18=\"\",\"\",入力!C18)","v":""},{"$f":"IF(入力!C18=\"\",\"\",IF(入力!$D$5=\"高校男子\",\"1\",IF(入力!$D$5=\"高校女子\",\"2\")))","v":""},{"$f":"IF(入力!C18=\"\",\"\",入力!D18)","v":""},{"$f":"IF(入力!C18=\"\",\"\",入力!E18)","v":""},"",{"$f":"IF(入力!C18=\"\",\"\",入力!$B$5)","v":""}]
[6,{"$f":"IF(入力!C19=\"\",\"\",入力!B19)","v":""},{"$f":"IF(入力!C19=\"\",\"\",入力!C19)","v":""},{"$f":"IF(入力!C19=\"\",\"\",IF(入力!$D$5=\"高校男子\",\"1\",IF(入力!$D$5=\"高校女子\",\"2\")))","v":""},{"$f":"IF(入力!C19=\"\",\"\",入力!D19)","v":""},{"$f":"IF(入力!C19=\"\",\"\",入力!E19)","v":""},"",{"$f":"IF(入力!C19=\"\",\"\",入力!$B$5)","v":""}]
[7,{"$f":"IF(入力!C20=\"\",\"\",入力!B20)","v":""},{"$f":"IF(入力!C20=\"\",\"\",入力!C20)","v":""},{"$f":"IF(入力!C20=\"\",\"\",IF(入力!$D$5=\"高校男子\",\"1\",IF(入力!$D$5=\"高校女子\",\"2\")))","v":""},{"$f":"IF(入力!C20=\"\",\"\",入力!D20)","v":""},{"$f":"IF(入力!C20=\"\",\"\",入力!E20)","v":""},"",{"$f":"IF(入力!C20=\"\",\"\",入力!$B$5)","v":""}]
[8,{"$f":"IF(入力!C21=\"\",\"\",入力!B21)","v":""},{"$f":"IF(入力!C21=\"\",\"\",入力!C21)","v":""},{"$f":"IF(入力!C21=\"\",\"\",IF(入力!$D$5=\"高校男子\",\"1\",IF(入力!$D$5=\"高校女子\",\"2\")))","v":""},{"$f":"IF(入力!C21=\"\",\"\",入力!D21)","v":""},{"$f":"IF(入力!C21=\"\",\"\",入力!E21)","v":""},"",{"$f":"IF(入力!C21=\"\",\"\",入力!$B$5)","v":""}]
[9,{"$f":"IF(入力!C22=\"\",\"\",入力!B22)","v":""},{"$f":"IF(入力!C22=\"\",\"\",入力!C22)","v":""},{"$f":"IF(入力!C22=\"\",\"\",IF(入力!$D$5=\"高校男子\",\"1\",IF(入力!$D$5=\"高校女子\",\"2\")))","v":""},{"$f":"IF(入力!C22=\"\",\"\",入力!D22)","v":""},{"$f":"IF(入力!C22=\"\",\"\",入力!E22)","v":""},"",{"$f":"IF(入力!C22=\"\",\"\",入力!$B$5)","v":""}]
[10,{"$f":"IF(入力!C23=\"\",\"\",入力!B23)","v":""},{"$f":"IF(入力!C23=\"\",\"\",入力!C23)","v":""},{"$f":"IF(入力!C23=\"\",\"\",IF(入力!$D$5=\"高校男子\",\"1\",IF(入力!$D$5=\"高校女子\",\"2\")))","v":""},{"$f":"IF(入力!C23=\"\",\"\",入力!D23)","v":""},{"$f":"IF(入力!C23=\"\",\"\",入力!E23)","v":""},"",{"$f":"IF(入力!C23=\"\",\"\",入力!$B$5)","v":""}]
[11,{"$f":"IF(入力!C24=\"\",\"\",入力!B24)","v":""},{"$f":"IF(入力!C24=\"\",\"\",入力!C24)","v":""},{"$f":"IF(入力!C24=\"\",\"\",IF(入力!$D$5=\"高校男子\",\"1\",IF(入力!$D$5=\"高校女子\",\"2\")))","v":""},{"$f":"IF(入力!C24=\"\",\"\",入力!D24)","v":""},{"$f":"IF(入力!C24=\"\",\"\",入力!E24)","v":""},"",{"$f":"IF(入力!C24=\"\",\"\",入力!$B$5)","v":""}]
[12,{"$f":"IF(入力!C25=\"\",\"\",入力!B25)","v":""},{"$f":"IF(入力!C25=\"\",\"\",入力!C25)","v":""},{"$f":"IF(入力!C25=\"\",\"\",IF(入力!$D$5=\"高校男子\",\"1\",IF(入力!$D$5=\"高校女子\",\"2\")))","v":""},{"$f":"IF(入力!C25=\"\",\"\",入力!D25)","v":""},{"$f":"IF(入力!C25=\"\",\"\",入力!E25)","v":""},"",{"$f":"IF(入力!C25=\"\",\"\",入力!$B$5)","v":""}]
[13,{"$f":"IF(入力!C26=\"\",\"\",入力!B26)","v":""},{"$f":"IF(入力!C26=\"\",\"\",入力!C26)","v":""},{"$f":"IF(入力!C26=\"\",\"\",IF(入力!$D$5=\"高校男子\",\"1\",IF(入力!$D$5=\"高校女子\",\"2\")))","v":""},{"$f":"IF(入力!C26=\"\",\"\",入力!D26)","v":""},{"$f":"IF(入力!C26=\"\",\"\",入力!E26)","v":""},"",{"$f":"IF(入力!C26=\"\",\"\",入力!$B$5)","v":""}]
[14,{"$f":"IF(入力!C27=\"\",\"\",入力!B27)","v":""},{"$f":"IF(入力!C27=\"\",\"\",入力!C27)","v":""},{"$f":"IF(入力!C27=\"\",\"\",IF(入力!$D$5=\"高校男子\",\"1\",IF(入力!$D$5=\"高校女子\",\"2\")))","v":""},{"$f":"IF(入力!C27=\"\",\"\",入力!D27)","v":""},{"$f":"IF(入力!C27=\"\",\"\",入力!E27)","v":""},"",{"$f":"IF(入力!C27=\"\",\"\",入力!$B$5)","v":""}]
[15,{"$f":"IF(入力!C28=\"\",\"\",入力!B28)","v":""},{"$f":"IF(入力!C28=\"\",\"\",入力!C28)","v":""},{"$f":"IF(入力!C28=\"\",\"\",IF(入力!$D$5=\"高校男子\",\"1\",IF(入力!$D$5=\"高校女子\",\"2\")))","v":""},{"$f":"IF(入力!C28=\"\",\"\",入力!D28)","v":""},{"$f":"IF(入力!C28=\"\",\"\",入力!E28)","v":""},"",{"$f":"IF(入力!C28=\"\",\"\",入力!$B$5)","v":""}]
[16,{"$f":"IF(入力!C29=\"\",\"\",入力!B29)","v":""},{"$f":"IF(入力!C29=\"\",\"\",入力!C29)","v":""},{"$f":"IF(入力!C29=\"\",\"\",IF(入力!$D$5=\"高校男子\",\"1\",IF(入力!$D$5=\"高校女子\",\"2\")))","v":""},{"$f":"IF(入力!C29=\"\",\"\",入力!D29)","v":""},{"$f":"IF(入力!C29=\"\",\"\",入力!E29)","v":""},"",{"$f":"IF(入力!C29=\"\",\"\",入力!$B$5)","v":""}]
[17,{"$f":"IF(入力!C30=\"\",\"\",入力!B30)","v":""},{"$f":"IF(入力!C30=\"\",\"\",入力!C30)","v":""},{"$f":"IF(入力!C30=\"\",\"\",IF(入力!$D$5=\"高校男子\",\"1\",IF(入力!$D$5=\"高校女子\",\"2\")))","v":""},{"$f":"IF(入力!C30=\"\",\"\",入力!D30)","v":""},{"$f":"IF(入力!C30=\"\",\"\",入力!E30)","v":""},"",{"$f":"IF(入力!C30=\"\",\"\",入力!$B$5)","v":""}]
[18,{"$f":"IF(入力!C31=\"\",\"\",入力!B31)","v":""},{"$f":"IF(入力!C31=\"\",\"\",入力!C31)","v":""},{"$f":"IF(入力!C31=\"\",\"\",IF(入力!$D$5=\"高校男子\",\"1\",IF(入力!$D$5=\"高校女子\",\"2\")))","v":""},{"$f":"IF(入力!C31=\"\",\"\",入力!D31)","v":""},{"$f":"IF(入力!C31=\"\",\"\",入力!E31)","v":""},"",{"$f":"IF(入力!C31=\"\",\"\",入力!$B$5)","v":""}]
[19,{"$f":"IF(入力!C32=\"\",\"\",入力!B32)","v":""},{"$f":"IF(入力!C32=\"\",\"\",入力!C32)","v":""},{"$f":"IF(入力!C32=\"\",\"\",IF(入力!$D$5=\"高校男子\",\"1\",IF(入力!$D$5=\"高校女子\",\"2\")))","v":""},{"$f":"IF(入力!C32=\"\",\"\",入力!D32)","v":""},{"$f":"IF(入力!C32=\"\",\"\",入力!E32)","v":""},"",{"$f":"IF(入力!C32=\"\",\"\",入力!$B$5)","v":""}]
[20,{"$f":"IF(入力!C33=\"\",\"\",入力!B33)","v":""},{"$f":"IF(入力!C33=\"\",\"\",入力!C33)","v":""},{"$f":"IF(入力!C33=\"\",\"\",IF(入力!$D$5=\"高校男子\",\"1\",IF(入力!$D$5=\"高校女子\",\"2\")))","v":""},{"$f":"IF(入力!C33=\"\",\"\",入力!D33)","v":""},{"$f":"IF(入力!C33=\"\",\"\",入力!E33)","v":""},"",{"$f":"IF(入力!C33=\"\",\"\",入力!$B$5)","v":""}]
[21,{"$f":"IF(入力!C34=\"\",\"\",入力!B34)","v":""},{"$f":"IF(入力!C34=\"\",\"\",入力!C34)","v":""},{"$f":"IF(入力!C34=\"\",\"\",IF(入力!$D$5=\"高校男子\",\"1\",IF(入力!$D$5=\"高校女子\",\"2\")))","v":""},{"$f":"IF(入力!C34=\"\",\"\",入力!D34)","v":""},{"$f":"IF(入力!C34=\"\",\"\",入力!E34)","v":""},"",{"$f":"IF(入力!C34=\"\",\"\",入力!$B$5)","v":""}]
[22,{"$f":"IF(入力!C35=\"\",\"\",入力!B35)","v":""},{"$f":"IF(入力!C35=\"\",\"\",入力!C35)","v":""},{"$f":"IF(入力!C35=\"\",\"\",IF(入力!$D$5=\"高校男子\",\"1\",IF(入力!$D$5=\"高校女子\",\"2\")))","v":""},{"$f":"IF(入力!C35=\"\",\"\",入力!D35)","v":""},{"$f":"IF(入力!C35=\"\",\"\",入力!E35)","v":""},"",{"$f":"IF(入力!C35=\"\",\"\",入力!$B$5)","v":""}]
[23,{"$f":"IF(入力!C36=\"\",\"\",入力!B36)","v":""},{"$f":"IF(入力!C36=\"\",\"\",入力!C36)","v":""},{"$f":"IF(入力!C36=\"\",\"\",IF(入力!$D$5=\"高校男子\",\"1\",IF(入力!$D$5=\"高校女子\",\"2\")))","v":""},{"$f":"IF(入力!C36=\"\",\"\",入力!D36)","v":""},{"$f":"IF(入力!C36=\"\",\"\",入力!E36)","v":""},"",{"$f":"IF(入力!C36=\"\",\"\",入力!$B$5)","v":""}]
[24,{"$f":"IF(入力!C37=\"\",\"\",入力!B37)","v":""},{"$f":"IF(入力!C37=\"\",\"\",入力!C37)","v":""},{"$f":"IF(入力!C37=\"\",\"\",IF(入力!$D$5=\"高校男子\",\"1\",IF(入力!$D$5=\"高校女子\",\"2\")))","v":""},{"$f":"IF(入力!C37=\"\",\"\",入力!D37)","v":""},{"$f":"IF(入力!C37=\"\",\"\",入力!E37)","v":""},"",{"$f":"IF(入力!C37=\"\",\"\",入力!$B$5)","v":""}]
[25,{"$f":"IF(入力!C38=\"\",\"\",入力!B38)","v":""},{"$f":"IF(入力!C38=\"\",\"\",入力!C38)","v":""},{"$f":"IF(入力!C38=\"\",\"\",IF(入力!$D$5=\"高校男子\",\"1\",IF(入力!$D$5=\"高校女子\",\"2\")))","v":""},{"$f":"IF(入力!C38=\"\",\"\",入力!D38)","v":""},{"$f":"IF(入力!C38=\"\",\"\",入力!E38)","v":""},"",{"$f":"IF(入力!C38=\"\",\"\",入力!$B$5)","v":""}]
[26,{"$f":"IF(入力!C39=\"\",\"\",入力!B39)","v":""},{"$f":"IF(入力!C39=\"\",\"\",入力!C39)","v":""},{"$f":"IF(入力!C39=\"\",\"\",IF(入力!$D$5=\"高校男子\",\"1\",IF(入力!$D$5=\"高校女子\",\"2\")))","v":""},{"$f":"IF(入力!C39=\"\",\"\",入力!D39)","v":""},{"$f":"IF(入力!C39=\"\",\"\",入力!E39)","v":""},"",{"$f":"IF(入力!C39=\"\",\"\",入力!$B$5)","v":""}]
[27,{"$f":"IF(入力!C40=\"\",\"\",入力!B40)","v":""},{"$f":"IF(入力!C40=\"\",\"\",入力!C40)","v":""},{"$f":"IF(入力!C40=\"\",\"\",IF(入力!$D$5=\"高校男子\",\"1\",IF(入力!$D$5=\"高校女子\",\"2\")))","v":""},{"$f":"IF(入力!C40=\"\",\"\",入力!D40)","v":""},{"$f":"IF(入力!C40=\"\",\"\",入力!E40)","v":""},"",{"$f":"IF(入力!C40=\"\",\"\",入力!$B$5)","v":""}]
[28,{"$f":"IF(入力!C41=\"\",\"\",入力!B41)","v":""},{"$f":"IF(入力!C41=\"\",\"\",入力!C41)","v":""},{"$f":"IF(入力!C41=\"\",\"\",IF(入力!$D$5=\"高校男子\",\"1\",IF(入力!$D$5=\"高校女子\",\"2\")))","v":""},{"$f":"IF(入力!C41=\"\",\"\",入力!D41)","v":""},{"$f":"IF(入力!C41=\"\",\"\",入力!E41)","v":""},"",{"$f":"IF(入力!C41=\"\",\"\",入力!$B$5)","v":""}]
[29,{"$f":"IF(入力!C42=\"\",\"\",入力!B42)","v":""},{"$f":"IF(入力!C42=\"\",\"\",入力!C42)","v":""},{"$f":"IF(入力!C42=\"\",\"\",IF(入力!$D$5=\"高校男子\",\"1\",IF(入力!$D$5=\"高校女子\",\"2\")))","v":""},{"$f":"IF(入力!C42=\"\",\"\",入力!D42)","v":""},{"$f":"IF(入力!C42=\"\",\"\",入力!E42)","v":""},"",{"$f":"IF(入力!C42=\"\",\"\",入力!$B$5)","v":""}]
[30,{"$f":"IF(入力!C43=\"\",\"\",入力!B43)","v":""},{"$f":"IF(入力!C43=\"\",\"\",入力!C43)","v":""},{"$f":"IF(入力!C43=\"\",\"\",IF(入力!$D$5=\"高校男子\",\"1\",IF(入力!$D$5=\"高校女子\",\"2\")))","v":""},{"$f":"IF(入力!C43=\"\",\"\",入力!D43)","v":""},{"$f":"IF(入力!C43=\"\",\"\",入力!E43)","v":""},"",{"$f":"IF(入力!C43=\"\",\"\",入力!$B$5)","v":""}]
[31,{"$f":"IF(入力!C44=\"\",\"\",入力!B44)","v":""},{"$f":"IF(入力!C44=\"\",\"\",入力!C44)","v":""},{"$f":"IF(入力!C44=\"\",\"\",IF(入力!$D$5=\"高校男子\",\"1\",IF(入力!$D$5=\"高校女子\",\"2\")))","v":""},{"$f":"IF(入力!C44=\"\",\"\",入力!D44)","v":""},{"$f":"IF(入力!C44=\"\",\"\",入力!E44)","v":""},"",{"$f":"IF(入力!C44=\"\",\"\",入力!$B$5)","v":""}]
[32,{"$f":"IF(入力!C45=\"\",\"\",入力!B45)","v":""},{"$f":"IF(入力!C45=\"\",\"\",入力!C45)","v":""},{"$f":"IF(入力!C45=\"\",\"\",IF(入力!$D$5=\"高校男子\",\"1\",IF(入力!$D$5=\"高校女子\",\"2\")))","v":""},{"$f":"IF(入力!C45=\"\",\"\",入力!D45)","v":""},{"$f":"IF(入力!C45=\"\",\"\",入力!E45)","v":""},"",{"$f":"IF(入力!C45=\"\",\"\",入力!$B$5)","v":""}]
[33,{"$f":"IF(入力!C46=\"\",\"\",入力!B46)","v":""},{"$f":"IF(入力!C46=\"\",\"\",入力!C46)","v":""},{"$f":"IF(入力!C46=\"\",\"\",IF(入力!$D$5=\"高校男子\",\"1\",IF(入力!$D$5=\"高校女子\",\"2\")))","v":""},{"$f":"IF(入力!C46=\"\",\"\",入力!D46)","v":""},{"$f":"IF(入力!C46=\"\",\"\",入力!E46)","v":""},{"$f":"IF(H34=\"\",\"\",VLOOKUP(H34,syozoku,4,FALSE))","v":""},{"$f":"IF(入力!C46=\"\",\"\",入力!$B$5)","v":""}]
[34,{"$f":"IF(入力!C47=\"\",\"\",入力!B47)","v":""},{"$f":"IF(入力!C47=\"\",\"\",入力!C47)","v":""},{"$f":"IF(入力!C47=\"\",\"\",IF(入力!$D$5=\"高校男子\",\"1\",IF(入力!$D$5=\"高校女子\",\"2\")))","v":""},{"$f":"IF(入力!C47=\"\",\"\",入力!D47)","v":""},{"$f":"IF(入力!C47=\"\",\"\",入力!E47)","v":""},"",{"$f":"IF(入力!C47=\"\",\"\",入力!$B$5)","v":""}]
[35,{"$f":"IF(入力!C48=\"\",\"\",入力!B48)","v":""},{"$f":"IF(入力!C48=\"\",\"\",入力!C48)","v":""},{"$f":"IF(入力!C48=\"\",\"\",IF(入力!$D$5=\"高校男子\",\"1\",IF(入力!$D$5=\"高校女子\",\"2\")))","v":""},{"$f":"IF(入力!C48=\"\",\"\",入力!D48)","v":""},{"$f":"IF(入力!C48=\"\",\"\",入力!E48)","v":""},"",{"$f":"IF(入力!C48=\"\",\"\",入力!$B$5)","v":""}]
[36,{"$f":"IF(入力!C49=\"\",\"\",入力!B49)","v":""},{"$f":"IF(入力!C49=\"\",\"\",入力!C49)","v":""},{"$f":"IF(入力!C49=\"\",\"\",IF(入力!$D$5=\"高校男子\",\"1\",IF(入力!$D$5=\"高校女子\",\"2\")))","v":""},{"$f":"IF(入力!C49=\"\",\"\",入力!D49)","v":""},{"$f":"IF(入力!C49=\"\",\"\",入力!E49)","v":""},"",{"$f":"IF(入力!C49=\"\",\"\",入力!$B$5)","v":""}]
[37,{"$f":"IF(入力!C50=\"\",\"\",入力!B50)","v":""},{"$f":"IF(入力!C50=\"\",\"\",入力!C50)","v":""},{"$f":"IF(入力!C50=\"\",\"\",IF(入力!$D$5=\"高校男子\",\"1\",IF(入力!$D$5=\"高校女子\",\"2\")))","v":""},{"$f":"IF(入力!C50=\"\",\"\",入力!D50)","v":""},{"$f":"IF(入力!C50=\"\",\"\",入力!E50)","v":""},"",{"$f":"IF(入力!C50=\"\",\"\",入力!$B$5)","v":""}]
[38,{"$f":"IF(入力!C51=\"\",\"\",入力!B51)","v":""},{"$f":"IF(入力!C51=\"\",\"\",入力!C51)","v":""},{"$f":"IF(入力!C51=\"\",\"\",IF(入力!$D$5=\"高校男子\",\"1\",IF(入力!$D$5=\"高校女子\",\"2\")))","v":""},{"$f":"IF(入力!C51=\"\",\"\",入力!D51)","v":""},{"$f":"IF(入力!C51=\"\",\"\",入力!E51)","v":""},"",{"$f":"IF(入力!C51=\"\",\"\",入力!$B$5)","v":""}]
[39,{"$f":"IF(入力!C52=\"\",\"\",入力!B52)","v":""},{"$f":"IF(入力!C52=\"\",\"\",入力!C52)","v":""},{"$f":"IF(入力!C52=\"\",\"\",IF(入力!$D$5=\"高校男子\",\"1\",IF(入力!$D$5=\"高校女子\",\"2\")))","v":""},{"$f":"IF(入力!C52=\"\",\"\",入力!D52)","v":""},{"$f":"IF(入力!C52=\"\",\"\",入力!E52)","v":""},"",{"$f":"IF(入力!C52=\"\",\"\",入力!$B$5)","v":""}]
[40,{"$f":"IF(入力!C53=\"\",\"\",入力!B53)","v":""},{"$f":"IF(入力!C53=\"\",\"\",入力!C53)","v":""},{"$f":"IF(入力!C53=\"\",\"\",IF(入力!$D$5=\"高校男子\",\"1\",IF(入力!$D$5=\"高校女子\",\"2\")))","v":""},{"$f":"IF(入力!C53=\"\",\"\",入力!D53)","v":""},{"$f":"IF(入力!C53=\"\",\"\",入力!E53)","v":""},"",{"$f":"IF(入力!C53=\"\",\"\",入力!$B$5)","v":""}]
[41,{"$f":"IF(入力!C54=\"\",\"\",入力!B54)","v":""},{"$f":"IF(入力!C54=\"\",\"\",入力!C54)","v":""},{"$f":"IF(入力!C54=\"\",\"\",IF(入力!$D$5=\"高校男子\",\"1\",IF(入力!$D$5=\"高校女子\",\"2\")))","v":""},{"$f":"IF(入力!C54=\"\",\"\",入力!D54)","v":""},{"$f":"IF(入力!C54=\"\",\"\",入力!E54)","v":""},"",{"$f":"IF(入力!C54=\"\",\"\",入力!$B$5)","v":""}]
[42,{"$f":"IF(入力!C55=\"\",\"\",入力!B55)","v":""},{"$f":"IF(入力!C55=\"\",\"\",入力!C55)","v":""},{"$f":"IF(入力!C55=\"\",\"\",IF(入力!$D$5=\"高校男子\",\"1\",IF(入力!$D$5=\"高校女子\",\"2\")))","v":""},{"$f":"IF(入力!C55=\"\",\"\",入力!D55)","v":""},{"$f":"IF(入力!C55=\"\",\"\",入力!E55)","v":""},"",{"$f":"IF(入力!C55=\"\",\"\",入力!$B$5)","v":""}]
[43,{"$f":"IF(入力!C56=\"\",\"\",入力!B56)","v":""},{"$f":"IF(入力!C56=\"\",\"\",入力!C56)","v":""},{"$f":"IF(入力!C56=\"\",\"\",IF(入力!$D$5=\"高校男子\",\"1\",IF(入力!$D$5=\"高校女子\",\"2\")))","v":""},{"$f":"IF(入力!C56=\"\",\"\",入力!D56)","v":""},{"$f":"IF(入力!C56=\"\",\"\",入力!E56)","v":""},"",{"$f":"IF(入力!C56=\"\",\"\",入力!$B$5)","v":""}]
[44,{"$f":"IF(入力!C57=\"\",\"\",入力!B57)","v":""},{"$f":"IF(入力!C57=\"\",\"\",入力!C57)","v":""},{"$f":"IF(入力!C57=\"\",\"\",IF(入力!$D$5=\"高校男子\",\"1\",IF(入力!$D$5=\"高校女子\",\"2\")))","v":""},{"$f":"IF(入力!C57=\"\",\"\",入力!D57)","v":""},{"$f":"IF(入力!C57=\"\",\"\",入力!E57)","v":""},"",{"$f":"IF(入力!C57=\"\",\"\",入力!$B$5)","v":""}]
[45,{"$f":"IF(入力!C58=\"\",\"\",入力!B58)","v":""},{"$f":"IF(入力!C58=\"\",\"\",入力!C58)","v":""},{"$f":"IF(入力!C58=\"\",\"\",IF(入力!$D$5=\"高校男子\",\"1\",IF(入力!$D$5=\"高校女子\",\"2\")))","v":""},{"$f":"IF(入力!C58=\"\",\"\",入力!D58)","v":""},{"$f":"IF(入力!C58=\"\",\"\",入力!E58)","v":""},"",{"$f":"IF(入力!C58=\"\",\"\",入力!$B$5)","v":""}]
[46,{"$f":"IF(入力!C59=\"\",\"\",入力!B59)","v":""},{"$f":"IF(入力!C59=\"\",\"\",入力!C59)","v":""},{"$f":"IF(入力!C59=\"\",\"\",IF(入力!$D$5=\"高校男子\",\"1\",IF(入力!$D$5=\"高校女子\",\"2\")))","v":""},{"$f":"IF(入力!C59=\"\",\"\",入力!D59)","v":""},{"$f":"IF(入力!C59=\"\",\"\",入力!E59)","v":""},"",{"$f":"IF(入力!C59=\"\",\"\",入力!$B$5)","v":""}]
[47,{"$f":"IF(入力!C60=\"\",\"\",入力!B60)","v":""},{"$f":"IF(入力!C60=\"\",\"\",入力!C60)","v":""},{"$f":"IF(入力!C60=\"\",\"\",IF(入力!$D$5=\"高校男子\",\"1\",IF(入力!$D$5=\"高校女子\",\"2\")))","v":""},{"$f":"IF(入力!C60=\"\",\"\",入力!D60)","v":""},{"$f":"IF(入力!C60=\"\",\"\",入力!E60)","v":""},"",{"$f":"IF(入力!C60=\"\",\"\",入力!$B$5)","v":""}]
[48,{"$f":"IF(入力!C61=\"\",\"\",入力!B61)","v":""},{"$f":"IF(入力!C61=\"\",\"\",入力!C61)","v":""},{"$f":"IF(入力!C61=\"\",\"\",IF(入力!$D$5=\"高校男子\",\"1\",IF(入力!$D$5=\"高校女子\",\"2\")))","v":""},{"$f":"IF(入力!C61=\"\",\"\",入力!D61)","v":""},{"$f":"IF(入力!C61=\"\",\"\",入力!E61)","v":""},"",{"$f":"IF(入力!C61=\"\",\"\",入力!$B$5)","v":""}]
[49,{"$f":"IF(入力!C62=\"\",\"\",入力!B62)","v":""},{"$f":"IF(入力!C62=\"\",\"\",入力!C62)","v":""},{"$f":"IF(入力!C62=\"\",\"\",IF(入力!$D$5=\"高校男子\",\"1\",IF(入力!$D$5=\"高校女子\",\"2\")))","v":""},{"$f":"IF(入力!C62=\"\",\"\",入力!D62)","v":""},{"$f":"IF(入力!C62=\"\",\"\",入力!E62)","v":""},"",{"$f":"IF(入力!C62=\"\",\"\",入力!$B$5)","v":""}]
[50,{"$f":"IF(入力!C63=\"\",\"\",入力!B63)","v":""},{"$f":"IF(入力!C63=\"\",\"\",入力!C63)","v":""},{"$f":"IF(入力!C63=\"\",\"\",IF(入力!$D$5=\"高校男子\",\"1\",IF(入力!$D$5=\"高校女子\",\"2\")))","v":""},{"$f":"IF(入力!C63=\"\",\"\",入力!D63)","v":""},{"$f":"IF(入力!C63=\"\",\"\",入力!E63)","v":""},"",{"$f":"IF(入力!C63=\"\",\"\",入力!$B$5)","v":""}]
[51,{"$f":"IF(入力!C64=\"\",\"\",入力!B64)","v":""},{"$f":"IF(入力!C64=\"\",\"\",入力!C64)","v":""},{"$f":"IF(入力!C64=\"\",\"\",IF(入力!$D$5=\"高校男子\",\"1\",IF(入力!$D$5=\"高校女子\",\"2\")))","v":""},{"$f":"IF(入力!C64=\"\",\"\",入力!D64)","v":""},{"$f":"IF(入力!C64=\"\",\"\",入力!E64)","v":""},"",{"$f":"IF(入力!C64=\"\",\"\",入力!$B$5)","v":""}]
[52,{"$f":"IF(入力!C65=\"\",\"\",入力!B65)","v":""},{"$f":"IF(入力!C65=\"\",\"\",入力!C65)","v":""},{"$f":"IF(入力!C65=\"\",\"\",IF(入力!$D$5=\"高校男子\",\"1\",IF(入力!$D$5=\"高校女子\",\"2\")))","v":""},{"$f":"IF(入力!C65=\"\",\"\",入力!D65)","v":""},{"$f":"IF(入力!C65=\"\",\"\",入力!E65)","v":""},"",{"$f":"IF(入力!C65=\"\",\"\",入力!$B$5)","v":""}]
[53,{"$f":"IF(入力!C66=\"\",\"\",入力!B66)","v":""},{"$f":"IF(入力!C66=\"\",\"\",入力!C66)","v":""},{"$f":"IF(入力!C66=\"\",\"\",IF(入力!$D$5=\"高校男子\",\"1\",IF(入力!$D$5=\"高校女子\",\"2\")))","v":""},{"$f":"IF(入力!C66=\"\",\"\",入力!D66)","v":""},{"$f":"IF(入力!C66=\"\",\"\",入力!E66)","v":""},"",{"$f":"IF(入力!C66=\"\",\"\",入力!$B$5)","v":""}]
[54,{"$f":"IF(入力!C67=\"\",\"\",入力!B67)","v":""},{"$f":"IF(入力!C67=\"\",\"\",入力!C67)","v":""},{"$f":"IF(入力!C67=\"\",\"\",IF(入力!$D$5=\"高校男子\",\"1\",IF(入力!$D$5=\"高校女子\",\"2\")))","v":""},{"$f":"IF(入力!C67=\"\",\"\",入力!D67)","v":""},{"$f":"IF(入力!C67=\"\",\"\",入力!E67)","v":""},"",{"$f":"IF(入力!C67=\"\",\"\",入力!$B$5)","v":""}]
[55,{"$f":"IF(入力!C68=\"\",\"\",入力!B68)","v":""},{"$f":"IF(入力!C68=\"\",\"\",入力!C68)","v":""},{"$f":"IF(入力!C68=\"\",\"\",IF(入力!$D$5=\"高校男子\",\"1\",IF(入力!$D$5=\"高校女子\",\"2\")))","v":""},{"$f":"IF(入力!C68=\"\",\"\",入力!D68)","v":""},{"$f":"IF(入力!C68=\"\",\"\",入力!E68)","v":""},"",{"$f":"IF(入力!C68=\"\",\"\",入力!$B$5)","v":""}]
[56,{"$f":"IF(入力!C69=\"\",\"\",入力!B69)","v":""},{"$f":"IF(入力!C69=\"\",\"\",入力!C69)","v":""},{"$f":"IF(入力!C69=\"\",\"\",IF(入力!$D$5=\"高校男子\",\"1\",IF(入力!$D$5=\"高校女子\",\"2\")))","v":""},{"$f":"IF(入力!C69=\"\",\"\",入力!D69)","v":""},{"$f":"IF(入力!C69=\"\",\"\",入力!E69)","v":""},"",{"$f":"IF(入力!C69=\"\",\"\",入力!$B$5)","v":""}]
[57,{"$f":"IF(入力!C70=\"\",\"\",入力!B70)","v":""},{"$f":"IF(入力!C70=\"\",\"\",入力!C70)","v":""},{"$f":"IF(入力!C70=\"\",\"\",IF(入力!$D$5=\"高校男子\",\"1\",IF(入力!$D$5=\"高校女子\",\"2\")))","v":""},{"$f":"IF(入力!C70=\"\",\"\",入力!D70)","v":""},{"$f":"IF(入力!C70=\"\",\"\",入力!E70)","v":""},"",{"$f":"IF(入力!C70=\"\",\"\",入力!$B$5)","v":""}]
[58,{"$f":"IF(入力!C71=\"\",\"\",入力!B71)","v":""},{"$f":"IF(入力!C71=\"\",\"\",入力!C71)","v":""},{"$f":"IF(入力!C71=\"\",\"\",IF(入力!$D$5=\"高校男子\",\"1\",IF(入力!$D$5=\"高校女子\",\"2\")))","v":""},{"$f":"IF(入力!C71=\"\",\"\",入力!D71)","v":""},{"$f":"IF(入力!C71=\"\",\"\",入力!E71)","v":""},"",{"$f":"IF(入力!C71=\"\",\"\",入力!$B$5)","v":""}]
[59,{"$f":"IF(入力!C72=\"\",\"\",入力!B72)","v":""},{"$f":"IF(入力!C72=\"\",\"\",入力!C72)","v":""},{"$f":"IF(入力!C72=\"\",\"\",IF(入力!$D$5=\"高校男子\",\"1\",IF(入力!$D$5=\"高校女子\",\"2\")))","v":""},{"$f":"IF(入力!C72=\"\",\"\",入力!D72)","v":""},{"$f":"IF(入力!C72=\"\",\"\",入力!E72)","v":""},"",{"$f":"IF(入力!C72=\"\",\"\",入力!$B$5)","v":""}]
[60,{"$f":"IF(入力!C73=\"\",\"\",入力!B73)","v":""},{"$f":"IF(入力!C73=\"\",\"\",入力!C73)","v":""},{"$f":"IF(入力!C73=\"\",\"\",IF(入力!$D$5=\"高校男子\",\"1\",IF(入力!$D$5=\"高校女子\",\"2\")))","v":""},{"$f":"IF(入力!C73=\"\",\"\",入力!D73)","v":""},{"$f":"IF(入力!C73=\"\",\"\",入力!E73)","v":""},"",{"$f":"IF(入力!C73=\"\",\"\",入力!$B$5)","v":""}]
[61,{"$f":"IF(入力!C74=\"\",\"\",入力!B74)","v":""},{"$f":"IF(入力!C74=\"\",\"\",入力!C74)","v":""},{"$f":"IF(入力!C74=\"\",\"\",IF(入力!$D$5=\"高校男子\",\"1\",IF(入力!$D$5=\"高校女子\",\"2\")))","v":""},{"$f":"IF(入力!C74=\"\",\"\",入力!D74)","v":""},{"$f":"IF(入力!C74=\"\",\"\",入力!E74)","v":""},"",{"$f":"IF(入力!C74=\"\",\"\",入力!$B$5)","v":""}]
[62,{"$f":"IF(入力!C75=\"\",\"\",入力!B75)","v":""},{"$f":"IF(入力!C75=\"\",\"\",入力!C75)","v":""},{"$f":"IF(入力!C75=\"\",\"\",IF(入力!$D$5=\"高校男子\",\"1\",IF(入力!$D$5=\"高校女子\",\"2\")))","v":""},{"$f":"IF(入力!C75=\"\",\"\",入力!D75)","v":""},{"$f":"IF(入力!C75=\"\",\"\",入力!E75)","v":""},"",{"$f":"IF(入力!C75=\"\",\"\",入力!$B$5)","v":""}]
[63,{"$f":"IF(入力!C76=\"\",\"\",入力!B76)","v":""},{"$f":"IF(入力!C76=\"\",\"\",入力!C76)","v":""},{"$f":"IF(入力!C76=\"\",\"\",IF(入力!$D$5=\"高校男子\",\"1\",IF(入力!$D$5=\"高校女子\",\"2\")))","v":""},{"$f":"IF(入力!C76=\"\",\"\",入力!D76)","v":""},{"$f":"IF(入力!C76=\"\",\"\",入力!E76)","v":""},"",{"$f":"IF(入力!C76=\"\",\"\",入力!$B$5)","v":""}]
[64,{"$f":"IF(入力!C77=\"\",\"\",入力!B77)","v":""},{"$f":"IF(入力!C77=\"\",\"\",入力!C77)","v":""},{"$f":"IF(入力!C77=\"\",\"\",IF(入力!$D$5=\"高校男子\",\"1\",IF(入力!$D$5=\"高校女子\",\"2\")))","v":""},{"$f":"IF(入力!C77=\"\",\"\",入力!D77)","v":""},{"$f":"IF(入力!C77=\"\",\"\",入力!E77)","v":""},"",{"$f":"IF(入力!C77=\"\",\"\",入力!$B$5)","v":""}]
[65,{"$f":"IF(入力!C78=\"\",\"\",入力!B78)","v":""},{"$f":"IF(入力!C78=\"\",\"\",入力!C78)","v":""},{"$f":"IF(入力!C78=\"\",\"\",IF(入力!$D$5=\"高校男子\",\"1\",IF(入力!$D$5=\"高校女子\",\"2\")))","v":""},{"$f":"IF(入力!C78=\"\",\"\",入力!D78)","v":""},{"$f":"IF(入力!C78=\"\",\"\",入力!E78)","v":""},{"$f":"IF(H66=\"\",\"\",VLOOKUP(H66,syozoku,4,FALSE))","v":""},{"$f":"IF(入力!C78=\"\",\"\",入力!$B$5)","v":""}]
[66,{"$f":"IF(入力!C79=\"\",\"\",入力!B79)","v":""},{"$f":"IF(入力!C79=\"\",\"\",入力!C79)","v":""},{"$f":"IF(入力!C79=\"\",\"\",IF(入力!$D$5=\"高校男子\",\"1\",IF(入力!$D$5=\"高校女子\",\"2\")))","v":""},{"$f":"IF(入力!C79=\"\",\"\",入力!D79)","v":""},{"$f":"IF(入力!C79=\"\",\"\",入力!E79)","v":""},"",{"$f":"IF(入力!C79=\"\",\"\",入力!$B$5)","v":""}]
[67,{"$f":"IF(入力!C80=\"\",\"\",入力!B80)","v":""},{"$f":"IF(入力!C80=\"\",\"\",入力!C80)","v":""},{"$f":"IF(入力!C80=\"\",\"\",IF(入力!$D$5=\"高校男子\",\"1\",IF(入力!$D$5=\"高校女子\",\"2\")))","v":""},{"$f":"IF(入力!C80=\"\",\"\",入力!D80)","v":""},{"$f":"IF(入力!C80=\"\",\"\",入力!E80)","v":""},"",{"$f":"IF(入力!C80=\"\",\"\",入力!$B$5)","v":""}]
[68,{"$f":"IF(入力!C81=\"\",\"\",入力!B81)","v":""},{"$f":"IF(入力!C81=\"\",\"\",入力!C81)","v":""},{"$f":"IF(入力!C81=\"\",\"\",IF(入力!$D$5=\"高校男子\",\"1\",IF(入力!$D$5=\"高校女子\",\"2\")))","v":""},{"$f":"IF(入力!C81=\"\",\"\",入力!D81)","v":""},{"$f":"IF(入力!C81=\"\",\"\",入力!E81)","v":""},"",{"$f":"IF(入力!C81=\"\",\"\",入力!$B$5)","v":""}]
[69,{"$f":"IF(入力!C82=\"\",\"\",入力!B82)","v":""},{"$f":"IF(入力!C82=\"\",\"\",入力!C82)","v":""},{"$f":"IF(入力!C82=\"\",\"\",IF(入力!$D$5=\"高校男子\",\"1\",IF(入力!$D$5=\"高校女子\",\"2\")))","v":""},{"$f":"IF(入力!C82=\"\",\"\",入力!D82)","v":""},{"$f":"IF(入力!C82=\"\",\"\",入力!E82)","v":""},"",{"$f":"IF(入力!C82=\"\",\"\",入力!$B$5)","v":""}]
[70,{"$f":"IF(入力!C83=\"\",\"\",入力!B83)","v":""},{"$f":"IF(入力!C83=\"\",\"\",入力!C83)","v":""},{"$f":"IF(入力!C83=\"\",\"\",IF(入力!$D$5=\"高校男子\",\"1\",IF(入力!$D$5=\"高校女子\",\"2\")))","v":""},{"$f":"IF(入力!C83=\"\",\"\",入力!D83)","v":""},{"$f":"IF(入力!C83=\"\",\"\",入力!E83)","v":""},"",{"$f":"IF(入力!C83=\"\",\"\",入力!$B$5)","v":""}]
[71,{"$f":"IF(入力!C84=\"\",\"\",入力!B84)","v":""},{"$f":"IF(入力!C84=\"\",\"\",入力!C84)","v":""},{"$f":"IF(入力!C84=\"\",\"\",IF(入力!$D$5=\"高校男子\",\"1\",IF(入力!$D$5=\"高校女子\",\"2\")))","v":""},{"$f":"IF(入力!C84=\"\",\"\",入力!D84)","v":""},{"$f":"IF(入力!C84=\"\",\"\",入力!E84)","v":""},"",{"$f":"IF(入力!C84=\"\",\"\",入力!$B$5)","v":""}]
[72,{"$f":"IF(入力!C85=\"\",\"\",入力!B85)","v":""},{"$f":"IF(入力!C85=\"\",\"\",入力!C85)","v":""},{"$f":"IF(入力!C85=\"\",\"\",IF(入力!$D$5=\"高校男子\",\"1\",IF(入力!$D$5=\"高校女子\",\"2\")))","v":""},{"$f":"IF(入力!C85=\"\",\"\",入力!D85)","v":""},{"$f":"IF(入力!C85=\"\",\"\",入力!E85)","v":""},"",{"$f":"IF(入力!C85=\"\",\"\",入力!$B$5)","v":""}]
[73,{"$f":"IF(入力!C86=\"\",\"\",入力!B86)","v":""},{"$f":"IF(入力!C86=\"\",\"\",入力!C86)","v":""},{"$f":"IF(入力!C86=\"\",\"\",IF(入力!$D$5=\"高校男子\",\"1\",IF(入力!$D$5=\"高校女子\",\"2\")))","v":""},{"$f":"IF(入力!C86=\"\",\"\",入力!D86)","v":""},{"$f":"IF(入力!C86=\"\",\"\",入力!E86)","v":""},"",{"$f":"IF(入力!C86=\"\",\"\",入力!$B$5)","v":""}]
[74,{"$f":"IF(入力!C87=\"\",\"\",入力!B87)","v":""},{"$f":"IF(入力!C87=\"\",\"\",入力!C87)","v":""},{"$f":"IF(入力!C87=\"\",\"\",IF(入力!$D$5=\"高校男子\",\"1\",IF(入力!$D$5=\"高校女子\",\"2\")))","v":""},{"$f":"IF(入力!C87=\"\",\"\",入力!D87)","v":""},{"$f":"IF(入力!C87=\"\",\"\",入力!E87)","v":""},"",{"$f":"IF(入力!C87=\"\",\"\",入力!$B$5)","v":""}]
[75,{"$f":"IF(入力!C88=\"\",\"\",入力!B88)","v":""},{"$f":"IF(入力!C88=\"\",\"\",入力!C88)","v":""},{"$f":"IF(入力!C88=\"\",\"\",IF(入力!$D$5=\"高校男子\",\"1\",IF(入力!$D$5=\"高校女子\",\"2\")))","v":""},{"$f":"IF(入力!C88=\"\",\"\",入力!D88)","v":""},{"$f":"IF(入力!C88=\"\",\"\",入力!E88)","v":""},"",{"$f":"IF(入力!C88=\"\",\"\",入力!$B$5)","v":""}]
[76,{"$f":"IF(入力!C89=\"\",\"\",入力!B89)","v":""},{"$f":"IF(入力!C89=\"\",\"\",入力!C89)","v":""},{"$f":"IF(入力!C89=\"\",\"\",IF(入力!$D$5=\"高校男子\",\"1\",IF(入力!$D$5=\"高校女子\",\"2\")))","v":""},{"$f":"IF(入力!C89=\"\",\"\",入力!D89)","v":""},{"$f":"IF(入力!C89=\"\",\"\",入力!E89)","v":""},"",{"$f":"IF(入力!C89=\"\",\"\",入力!$B$5)","v":""}]
[77,{"$f":"IF(入力!C90=\"\",\"\",入力!B90)","v":""},{"$f":"IF(入力!C90=\"\",\"\",入力!C90)","v":""},{"$f":"IF(入力!C90=\"\",\"\",IF(入力!$D$5=\"高校男子\",\"1\",IF(入力!$D$5=\"高校女子\",\"2\")))","v":""},{"$f":"IF(入力!C90=\"\",\"\",入力!D90)","v":""},{"$f":"IF(入力!C90=\"\",\"\",入力!E90)","v":""},"",{"$f":"IF(入力!C90=\"\",\"\",入力!$B$5)","v":""}]
[78,{"$f":"IF(入力!C91=\"\",\"\",入力!B91)","v":""},{"$f":"IF(入力!C91=\"\",\"\",入力!C91)","v":""},{"$f":"IF(入力!C91=\"\",\"\",IF(入力!$D$5=\"高校男子\",\"1\",IF(入力!$D$5=\"高校女子\",\"2\")))","v":""},{"$f":"IF(入力!C91=\"\",\"\",入力!D91)","v":""},{"$f":"IF(入力!C91=\"\",\"\",入力!E91)","v":""},"",{"$f":"IF(入力!C91=\"\",\"\",入力!$B$5)","v":""}]
[79,{"$f":"IF(入力!C92=\"\",\"\",入力!B92)","v":""},{"$f":"IF(入力!C92=\"\",\"\",入力!C92)","v":""},{"$f":"IF(入力!C92=\"\",\"\",IF(入力!$D$5=\"高校男子\",\"1\",IF(入力!$D$5=\"高校女子\",\"2\")))","v":""},{"$f":"IF(入力!C92=\"\",\"\",入力!D92)","v":""},{"$f":"IF(入力!C92=\"\",\"\",入力!E92)","v":""},"",{"$f":"IF(入力!C92=\"\",\"\",入力!$B$5)","v":""}]
[80,{"$f":"IF(入力!C93=\"\",\"\",入力!B93)","v":""},{"$f":"IF(入力!C93=\"\",\"\",入力!C93)","v":""},{"$f":"IF(入力!C93=\"\",\"\",IF(入力!$D$5=\"高校男子\",\"1\",IF(入力!$D$5=\"高校女子\",\"2\")))","v":""},{"$f":"IF(入力!C93=\"\",\"\",入力!D93)","v":""},{"$f":"IF(入力!C93=\"\",\"\",入力!E93)","v":""},"",{"$f":"IF(入力!C93=\"\",\"\",入力!$B$5)","v":""}]
[81,{"$f":"IF(入力!C94=\"\",\"\",入力!B94)","v":""},{"$f":"IF(入力!C94=\"\",\"\",入力!C94)","v":""},{"$f":"IF(入力!C94=\"\",\"\",IF(入力!$D$5=\"高校男子\",\"1\",IF(入力!$D$5=\"高校女子\",\"2\")))","v":""},{"$f":"IF(入力!C94=\"\",\"\",入力!D94)","v":""},{"$f":"IF(入力!C94=\"\",\"\",入力!E94)","v":""},"",{"$f":"IF(入力!C94=\"\",\"\",入力!$B$5)","v":""}]
[82,{"$f":"IF(入力!C95=\"\",\"\",入力!B95)","v":""},{"$f":"IF(入力!C95=\"\",\"\",入力!C95)","v":""},{"$f":"IF(入力!C95=\"\",\"\",IF(入力!$D$5=\"高校男子\",\"1\",IF(入力!$D$5=\"高校女子\",\"2\")))","v":""},{"$f":"IF(入力!C95=\"\",\"\",入力!D95)","v":""},{"$f":"IF(入力!C95=\"\",\"\",入力!E95)","v":""},"",{"$f":"IF(入力!C95=\"\",\"\",入力!$B$5)","v":""}]
[83,{"$f":"IF(入力!C96=\"\",\"\",入力!B96)","v":""},{"$f":"IF(入力!C96=\"\",\"\",入力!C96)","v":""},{"$f":"IF(入力!C96=\"\",\"\",IF(入力!$D$5=\"高校男子\",\"1\",IF(入力!$D$5=\"高校女子\",\"2\")))","v":""},{"$f":"IF(入力!C96=\"\",\"\",入力!D96)","v":""},{"$f":"IF(入力!C96=\"\",\"\",入力!E96)","v":""},"",{"$f":"IF(入力!C96=\"\",\"\",入力!$B$5)","v":""}]
[84,{"$f":"IF(入力!C97=\"\",\"\",入力!B97)","v":""},{"$f":"IF(入力!C97=\"\",\"\",入力!C97)","v":""},{"$f":"IF(入力!C97=\"\",\"\",IF(入力!$D$5=\"高校男子\",\"1\",IF(入力!$D$5=\"高校女子\",\"2\")))","v":""},{"$f":"IF(入力!C97=\"\",\"\",入力!D97)","v":""},{"$f":"IF(入力!C97=\"\",\"\",入力!E97)","v":""},"",{"$f":"IF(入力!C97=\"\",\"\",入力!$B$5)","v":""}]
[85,{"$f":"IF(入力!C98=\"\",\"\",入力!B98)","v":""},{"$f":"IF(入力!C98=\"\",\"\",入力!C98)","v":""},{"$f":"IF(入力!C98=\"\",\"\",IF(入力!$D$5=\"高校男子\",\"1\",IF(入力!$D$5=\"高校女子\",\"2\")))","v":""},{"$f":"IF(入力!C98=\"\",\"\",入力!D98)","v":""},{"$f":"IF(入力!C98=\"\",\"\",入力!E98)","v":""},"",{"$f":"IF(入力!C98=\"\",\"\",入力!$B$5)","v":""}]
[86,{"$f":"IF(入力!C99=\"\",\"\",入力!B99)","v":""},{"$f":"IF(入力!C99=\"\",\"\",入力!C99)","v":""},{"$f":"IF(入力!C99=\"\",\"\",IF(入力!$D$5=\"高校男子\",\"1\",IF(入力!$D$5=\"高校女子\",\"2\")))","v":""},{"$f":"IF(入力!C99=\"\",\"\",入力!D99)","v":""},{"$f":"IF(入力!C99=\"\",\"\",入力!E99)","v":""},"",{"$f":"IF(入力!C99=\"\",\"\",入力!$B$5)","v":""}]
[87,{"$f":"IF(入力!C100=\"\",\"\",入力!B100)","v":""},{"$f":"IF(入力!C100=\"\",\"\",入力!C100)","v":""},{"$f":"IF(入力!C100=\"\",\"\",IF(入力!$D$5=\"高校男子\",\"1\",IF(入力!$D$5=\"高校女子\",\"2\")))","v":""},{"$f":"IF(入力!C100=\"\",\"\",入力!D100)","v":""},{"$f":"IF(入力!C100=\"\",\"\",入力!E100)","v":""},"",{"$f":"IF(入力!C100=\"\",\"\",入力!$B$5)","v":""}]
[88,{"$f":"IF(入力!C101=\"\",\"\",入力!B101)","v":""},{"$f":"IF(入力!C101=\"\",\"\",入力!C101)","v":""},{"$f":"IF(入力!C101=\"\",\"\",IF(入力!$D$5=\"高校男子\",\"1\",IF(入力!$D$5=\"高校女子\",\"2\")))","v":""},{"$f":"IF(入力!C101=\"\",\"\",入力!D101)","v":""},{"$f":"IF(入力!C101=\"\",\"\",入力!E101)","v":""},"",{"$f":"IF(入力!C101=\"\",\"\",入力!$B$5)","v":""}]
[89,{"$f":"IF(入力!C102=\"\",\"\",入力!B102)","v":""},{"$f":"IF(入力!C102=\"\",\"\",入力!C102)","v":""},{"$f":"IF(入力!C102=\"\",\"\",IF(入力!$D$5=\"高校男子\",\"1\",IF(入力!$D$5=\"高校女子\",\"2\")))","v":""},{"$f":"IF(入力!C102=\"\",\"\",入力!D102)","v":""},{"$f":"IF(入力!C102=\"\",\"\",入力!E102)","v":""},"",{"$f":"IF(入力!C102=\"\",\"\",入力!$B$5)","v":""}]
[90,{"$f":"IF(入力!C103=\"\",\"\",入力!B103)","v":""},{"$f":"IF(入力!C103=\"\",\"\",入力!C103)","v":""},{"$f":"IF(入力!C103=\"\",\"\",IF(入力!$D$5=\"高校男子\",\"1\",IF(入力!$D$5=\"高校女子\",\"2\")))","v":""},{"$f":"IF(入力!C103=\"\",\"\",入力!D103)","v":""},{"$f":"IF(入力!C103=\"\",\"\",入力!E103)","v":""},"",{"$f":"IF(入力!C103=\"\",\"\",入力!$B$5)","v":""}]
[91,{"$f":"IF(入力!C104=\"\",\"\",入力!B104)","v":""},{"$f":"IF(入力!C104=\"\",\"\",入力!C104)","v":""},{"$f":"IF(入力!C104=\"\",\"\",IF(入力!$D$5=\"高校男子\",\"1\",IF(入力!$D$5=\"高校女子\",\"2\")))","v":""},{"$f":"IF(入力!C104=\"\",\"\",入力!D104)","v":""},{"$f":"IF(入力!C104=\"\",\"\",入力!E104)","v":""},"",{"$f":"IF(入力!C104=\"\",\"\",入力!$B$5)","v":""}]
[92,{"$f":"IF(入力!C105=\"\",\"\",入力!B105)","v":""},{"$f":"IF(入力!C105=\"\",\"\",入力!C105)","v":""},{"$f":"IF(入力!C105=\"\",\"\",IF(入力!$D$5=\"高校男子\",\"1\",IF(入力!$D$5=\"高校女子\",\"2\")))","v":""},{"$f":"IF(入力!C105=\"\",\"\",入力!D105)","v":""},{"$f":"IF(入力!C105=\"\",\"\",入力!E105)","v":""},"",{"$f":"IF(入力!C105=\"\",\"\",入力!$B$5)","v":""}]
[93,{"$f":"IF(入力!C106=\"\",\"\",入力!B106)","v":""},{"$f":"IF(入力!C106=\"\",\"\",入力!C106)","v":""},{"$f":"IF(入力!C106=\"\",\"\",IF(入力!$D$5=\"高校男子\",\"1\",IF(入力!$D$5=\"高校女子\",\"2\")))","v":""},{"$f":"IF(入力!C106=\"\",\"\",入力!D106)","v":""},{"$f":"IF(入力!C106=\"\",\"\",入力!E106)","v":""},"",{"$f":"IF(入力!C106=\"\",\"\",入力!$B$5)","v":""}]
[94,{"$f":"IF(入力!C107=\"\",\"\",入力!B107)","v":""},{"$f":"IF(入力!C107=\"\",\"\",入力!C107)","v":""},{"$f":"IF(入力!C107=\"\",\"\",IF(入力!$D$5=\"高校男子\",\"1\",IF(入力!$D$5=\"高校女子\",\"2\")))","v":""},{"$f":"IF(入力!C107=\"\",\"\",入力!D107)","v":""},{"$f":"IF(入力!C107=\"\",\"\",入力!E107)","v":""},"",{"$f":"IF(入力!C107=\"\",\"\",入力!$B$5)","v":""}]
[95,{"$f":"IF(入力!C108=\"\",\"\",入力!B108)","v":""},{"$f":"IF(入力!C108=\"\",\"\",入力!C108)","v":""},{"$f":"IF(入力!C108=\"\",\"\",IF(入力!$D$5=\"高校男子\",\"1\",IF(入力!$D$5=\"高校女子\",\"2\")))","v":""},{"$f":"IF(入力!C108=\"\",\"\",入力!D108)","v":""},{"$f":"IF(入力!C108=\"\",\"\",入力!E108)","v":""},"",{"$f":"IF(入力!C108=\"\",\"\",入力!$B$5)","v":""}]
[96,{"$f":"IF(入力!C109=\"\",\"\",入力!B109)","v":""},{"$f":"IF(入力!C109=\"\",\"\",入力!C109)","v":""},{"$f":"IF(入力!C109=\"\",\"\",IF(入力!$D$5=\"高校男子\",\"1\",IF(入力!$D$5=\"高校女子\",\"2\")))","v":""},{"$f":"IF(入力!C109=\"\",\"\",入力!D109)","v":""},{"$f":"IF(入力!C109=\"\",\"\",入力!E109)","v":""},"",{"$f":"IF(入力!C109=\"\",\"\",入力!$B$5)","v":""}]
[97,{"$f":"IF(入力!C110=\"\",\"\",入力!B110)","v":""},{"$f":"IF(入力!C110=\"\",\"\",入力!C110)","v":""},{"$f":"IF(入力!C110=\"\",\"\",IF(入力!$D$5=\"高校男子\",\"1\",IF(入力!$D$5=\"高校女子\",\"2\")))","v":""},{"$f":"IF(入力!C110=\"\",\"\",入力!D110)","v":""},{"$f":"IF(入力!C110=\"\",\"\",入力!E110)","v":""},{"$f":"IF(H98=\"\",\"\",VLOOKUP(H98,syozoku,4,FALSE))","v":""},{"$f":"IF(入力!C110=\"\",\"\",入力!$B$5)","v":""}]
[98,{"$f":"IF(入力!C111=\"\",\"\",入力!B111)","v":""},{"$f":"IF(入力!C111=\"\",\"\",入力!C111)","v":""},{"$f":"IF(入力!C111=\"\",\"\",IF(入力!$D$5=\"高校男子\",\"1\",IF(入力!$D$5=\"高校女子\",\"2\")))","v":""},{"$f":"IF(入力!C111=\"\",\"\",入力!D111)","v":""},{"$f":"IF(入力!C111=\"\",\"\",入力!E111)","v":""},"",{"$f":"IF(入力!C111=\"\",\"\",入力!$B$5)","v":""}]
[99,{"$f":"IF(入力!C112=\"\",\"\",入力!B112)","v":""},{"$f":"IF(入力!C112=\"\",\"\",入力!C112)","v":""},{"$f":"IF(入力!C112=\"\",\"\",IF(入力!$D$5=\"高校男子\",\"1\",IF(入力!$D$5=\"高校女子\",\"2\")))","v":""},{"$f":"IF(入力!C112=\"\",\"\",入力!D112)","v":""},{"$f":"IF(入力!C112=\"\",\"\",入力!E112)","v":""},"",{"$f":"IF(入力!C112=\"\",\"\",入力!$B$5)","v":""}]
[100,{"$f":"IF(入力!C113=\"\",\"\",入力!B113)","v":""},{"$f":"IF(入力!C113=\"\",\"\",入力!C113)","v":""},{"$f":"IF(入力!C113=\"\",\"\",IF(入力!$D$5=\"高校男子\",\"1\",IF(入力!$D$5=\"高校女子\",\"2\")))","v":""},{"$f":"IF(入力!C113=\"\",\"\",入力!D113)","v":""},{"$f":"IF(入力!C113=\"\",\"\",入力!E113)","v":""},"",{"$f":"IF(入力!C113=\"\",\"\",入力!$B$5)","v":""}]
[101,{"$f":"IF(入力!H14=\"\",\"\",入力!G14)","v":""},{"$f":"IF(入力!H14=\"\",\"\",入力!H14)","v":""},{"$f":"IF(入力!H14=\"\",\"\",IF(入力!$I$5=\"高校男子\",\"1\",IF(入力!$I$5=\"高校女子\",\"2\")))","v":""},{"$f":"IF(入力!H14=\"\",\"\",入力!I14)","v":""},{"$f":"IF(入力!H14=\"\",\"\",入力!J14)","v":""},"",{"$f":"IF(入力!H14=\"\",\"\",入力!$G$5)","v":""}]
[102,{"$f":"IF(入力!H15=\"\",\"\",入力!G15)","v":""},{"$f":"IF(入力!H15=\"\",\"\",入力!H15)","v":""},{"$f":"IF(入力!H15=\"\",\"\",IF(入力!$I$5=\"高校男子\",\"1\",IF(入力!$I$5=\"高校女子\",\"2\")))","v":""},{"$f":"IF(入力!H15=\"\",\"\",入力!I15)","v":""},{"$f":"IF(入力!H15=\"\",\"\",入力!J15)","v":""},"",{"$f":"IF(入力!H15=\"\",\"\",入力!$G$5)","v":""}]
[103,{"$f":"IF(入力!H16=\"\",\"\",入力!G16)","v":""},{"$f":"IF(入力!H16=\"\",\"\",入力!H16)","v":""},{"$f":"IF(入力!H16=\"\",\"\",IF(入力!$I$5=\"高校男子\",\"1\",IF(入力!$I$5=\"高校女子\",\"2\")))","v":""},{"$f":"IF(入力!H16=\"\",\"\",入力!I16)","v":""},{"$f":"IF(入力!H16=\"\",\"\",入力!J16)","v":""},"",{"$f":"IF(入力!H16=\"\",\"\",入力!$G$5)","v":""}]
[104,{"$f":"IF(入力!H17=\"\",\"\",入力!G17)","v":""},{"$f":"IF(入力!H17=\"\",\"\",入力!H17)","v":""},{"$f":"IF(入力!H17=\"\",\"\",IF(入力!$I$5=\"高校男子\",\"1\",IF(入力!$I$5=\"高校女子\",\"2\")))","v":""},{"$f":"IF(入力!H17=\"\",\"\",入力!I17)","v":""},{"$f":"IF(入力!H17=\"\",\"\",入力!J17)","v":""},"",{"$f":"IF(入力!H17=\"\",\"\",入力!$G$5)","v":""}]
[105,{"$f":"IF(入力!H18=\"\",\"\",入力!G18)","v":""},{"$f":"IF(入力!H18=\"\",\"\",入力!H18)","v":""},{"$f":"IF(入力!H18=\"\",\"\",IF(入力!$I$5=\"高校男子\",\"1\",IF(入力!$I$5=\"高校女子\",\"2\")))","v":""},{"$f":"IF(入力!H18=\"\",\"\",入力!I18)","v":""},{"$f":"IF(入力!H18=\"\",\"\",入力!J18)","v":""},"",{"$f":"IF(入力!H18=\"\",\"\",入力!$G$5)","v":""}]
[106,{"$f":"IF(入力!H19=\"\",\"\",入力!G19)","v":""},{"$f":"IF(入力!H19=\"\",\"\",入力!H19)","v":""},{"$f":"IF(入力!H19=\"\",\"\",IF(入力!$I$5=\"高校男子\",\"1\",IF(入力!$I$5=\"高校女子\",\"2\")))","v":""},{"$f":"IF(入力!H19=\"\",\"\",入力!I19)","v":""},{"$f":"IF(入力!H19=\"\",\"\",入力!J19)","v":""},"",{"$f":"IF(入力!H19=\"\",\"\",入力!$G$5)","v":""}]
[107,{"$f":"IF(入力!H20=\"\",\"\",入力!G20)","v":""},{"$f":"IF(入力!H20=\"\",\"\",入力!H20)","v":""},{"$f":"IF(入力!H20=\"\",\"\",IF(入力!$I$5=\"高校男子\",\"1\",IF(入力!$I$5=\"高校女子\",\"2\")))","v":""},{"$f":"IF(入力!H20=\"\",\"\",入力!I20)","v":""},{"$f":"IF(入力!H20=\"\",\"\",入力!J20)","v":""},"",{"$f":"IF(入力!H20=\"\",\"\",入力!$G$5)","v":""}]
[108,{"$f":"IF(入力!H21=\"\",\"\",入力!G21)","v":""},{"$f":"IF(入力!H21=\"\",\"\",入力!H21)","v":""},{"$f":"IF(入力!H21=\"\",\"\",IF(入力!$I$5=\"高校男子\",\"1\",IF(入力!$I$5=\"高校女子\",\"2\")))","v":""},{"$f":"IF(入力!H21=\"\",\"\",入力!I21)","v":""},{"$f":"IF(入力!H21=\"\",\"\",入力!J21)","v":""},"",{"$f":"IF(入力!H21=\"\",\"\",入力!$G$5)","v":""}]
[109,{"$f":"IF(入力!H22=\"\",\"\",入力!G22)","v":""},{"$f":"IF(入力!H22=\"\",\"\",入力!H22)","v":""},{"$f":"IF(入力!H22=\"\",\"\",IF(入力!$I$5=\"高校男子\",\"1\",IF(入力!$I$5=\"高校女子\",\"2\")))","v":""},{"$f":"IF(入力!H22=\"\",\"\",入力!I22)","v":""},{"$f":"IF(入力!H22=\"\",\"\",入力!J22)","v":""},"",{"$f":"IF(入力!H22=\"\",\"\",入力!$G$5)","v":""}]
[110,{"$f":"IF(入力!H23=\"\",\"\",入力!G23)","v":""},{"$f":"IF(入力!H23=\"\",\"\",入力!H23)","v":""},{"$f":"IF(入力!H23=\"\",\"\",IF(入力!$I$5=\"高校男子\",\"1\",IF(入力!$I$5=\"高校女子\",\"2\")))","v":""},{"$f":"IF(入力!H23=\"\",\"\",入力!I23)","v":""},{"$f":"IF(入力!H23=\"\",\"\",入力!J23)","v":""},"",{"$f":"IF(入力!H23=\"\",\"\",入力!$G$5)","v":""}]
[111,{"$f":"IF(入力!H24=\"\",\"\",入力!G24)","v":""},{"$f":"IF(入力!H24=\"\",\"\",入力!H24)","v":""},{"$f":"IF(入力!H24=\"\",\"\",IF(入力!$I$5=\"高校男子\",\"1\",IF(入力!$I$5=\"高校女子\",\"2\")))","v":""},{"$f":"IF(入力!H24=\"\",\"\",入力!I24)","v":""},{"$f":"IF(入力!H24=\"\",\"\",入力!J24)","v":""},"",{"$f":"IF(入力!H24=\"\",\"\",入力!$G$5)","v":""}]
[112,{"$f":"IF(入力!H25=\"\",\"\",入力!G25)","v":""},{"$f":"IF(入力!H25=\"\",\"\",入力!H25)","v":""},{"$f":"IF(入力!H25=\"\",\"\",IF(入力!$I$5=\"高校男子\",\"1\",IF(入力!$I$5=\"高校女子\",\"2\")))","v":""},{"$f":"IF(入力!H25=\"\",\"\",入力!I25)","v":""},{"$f":"IF(入力!H25=\"\",\"\",入力!J25)","v":""},"",{"$f":"IF(入力!H25=\"\",\"\",入力!$G$5)","v":""}]
[113,{"$f":"IF(入力!H26=\"\",\"\",入力!G26)","v":""},{"$f":"IF(入力!H26=\"\",\"\",入力!H26)","v":""},{"$f":"IF(入力!H26=\"\",\"\",IF(入力!$I$5=\"高校男子\",\"1\",IF(入力!$I$5=\"高校女子\",\"2\")))","v":""},{"$f":"IF(入力!H26=\"\",\"\",入力!I26)","v":""},{"$f":"IF(入力!H26=\"\",\"\",入力!J26)","v":""},"",{"$f":"IF(入力!H26=\"\",\"\",入力!$G$5)","v":""}]
[114,{"$f":"IF(入力!H27=\"\",\"\",入力!G27)","v":""},{"$f":"IF(入力!H27=\"\",\"\",入力!H27)","v":""},{"$f":"IF(入力!H27=\"\",\"\",IF(入力!$I$5=\"高校男子\",\"1\",IF(入力!$I$5=\"高校女子\",\"2\")))","v":""},{"$f":"IF(入力!H27=\"\",\"\",入力!I27)","v":""},{"$f":"IF(入力!H27=\"\",\"\",入力!J27)","v":""},"",{"$f":"IF(入力!H27=\"\",\"\",入力!$G$5)","v":""}]
[115,{"$f":"IF(入力!H28=\"\",\"\",入力!G28)","v":""},{"$f":"IF(入力!H28=\"\",\"\",入力!H28)","v":""},{"$f":"IF(入力!H28=\"\",\"\",IF(入力!$I$5=\"高校男子\",\"1\",IF(入力!$I$5=\"高校女子\",\"2\")))","v":""},{"$f":"IF(入力!H28=\"\",\"\",入力!I28)","v":""},{"$f":"IF(入力!H28=\"\",\"\",入力!J28)","v":""},"",{"$f":"IF(入力!H28=\"\",\"\",入力!$G$5)","v":""}]
[116,{"$f":"IF(入力!H29=\"\",\"\",入力!G29)","v":""},{"$f":"IF(入力!H29=\"\",\"\",入力!H29)","v":""},{"$f":"IF(入力!H29=\"\",\"\",IF(入力!$I$5=\"高校男子\",\"1\",IF(入力!$I$5=\"高校女子\",\"2\")))","v":""},{"$f":"IF(入力!H29=\"\",\"\",入力!I29)","v":""},{"$f":"IF(入力!H29=\"\",\"\",入力!J29)","v":""},"",{"$f":"IF(入力!H29=\"\",\"\",入力!$G$5)","v":""}]
[117,{"$f":"IF(入力!H30=\"\",\"\",入力!G30)","v":""},{"$f":"IF(入力!H30=\"\",\"\",入力!H30)","v":""},{"$f":"IF(入力!H30=\"\",\"\",IF(入力!$I$5=\"高校男子\",\"1\",IF(入力!$I$5=\"高校女子\",\"2\")))","v":""},{"$f":"IF(入力!H30=\"\",\"\",入力!I30)","v":""},{"$f":"IF(入力!H30=\"\",\"\",入力!J30)","v":""},"",{"$f":"IF(入力!H30=\"\",\"\",入力!$G$5)","v":""}]
[118,{"$f":"IF(入力!H31=\"\",\"\",入力!G31)","v":""},{"$f":"IF(入力!H31=\"\",\"\",入力!H31)","v":""},{"$f":"IF(入力!H31=\"\",\"\",IF(入力!$I$5=\"高校男子\",\"1\",IF(入力!$I$5=\"高校女子\",\"2\")))","v":""},{"$f":"IF(入力!H31=\"\",\"\",入力!I31)","v":""},{"$f":"IF(入力!H31=\"\",\"\",入力!J31)","v":""},"",{"$f":"IF(入力!H31=\"\",\"\",入力!$G$5)","v":""}]
[119,{"$f":"IF(入力!H32=\"\",\"\",入力!G32)","v":""},{"$f":"IF(入力!H32=\"\",\"\",入力!H32)","v":""},{"$f":"IF(入力!H32=\"\",\"\",IF(入力!$I$5=\"高校男子\",\"1\",IF(入力!$I$5=\"高校女子\",\"2\")))","v":""},{"$f":"IF(入力!H32=\"\",\"\",入力!I32)","v":""},{"$f":"IF(入力!H32=\"\",\"\",入力!J32)","v":""},"",{"$f":"IF(入力!H32=\"\",\"\",入力!$G$5)","v":""}]
[120,{"$f":"IF(入力!H33=\"\",\"\",入力!G33)","v":""},{"$f":"IF(入力!H33=\"\",\"\",入力!H33)","v":""},{"$f":"IF(入力!H33=\"\",\"\",IF(入力!$I$5=\"高校男子\",\"1\",IF(入力!$I$5=\"高校女子\",\"2\")))","v":""},{"$f":"IF(入力!H33=\"\",\"\",入力!I33)","v":""},{"$f":"IF(入力!H33=\"\",\"\",入力!J33)","v":""},"",{"$f":"IF(入力!H33=\"\",\"\",入力!$G$5)","v":""}]
[121,{"$f":"IF(入力!H34=\"\",\"\",入力!G34)","v":""},{"$f":"IF(入力!H34=\"\",\"\",入力!H34)","v":""},{"$f":"IF(入力!H34=\"\",\"\",IF(入力!$I$5=\"高校男子\",\"1\",IF(入力!$I$5=\"高校女子\",\"2\")))","v":""},{"$f":"IF(入力!H34=\"\",\"\",入力!I34)","v":""},{"$f":"IF(入力!H34=\"\",\"\",入力!J34)","v":""},"",{"$f":"IF(入力!H34=\"\",\"\",入力!$G$5)","v":""}]
[122,{"$f":"IF(入力!H35=\"\",\"\",入力!G35)","v":""},{"$f":"IF(入力!H35=\"\",\"\",入力!H35)","v":""},{"$f":"IF(入力!H35=\"\",\"\",IF(入力!$I$5=\"高校男子\",\"1\",IF(入力!$I$5=\"高校女子\",\"2\")))","v":""},{"$f":"IF(入力!H35=\"\",\"\",入力!I35)","v":""},{"$f":"IF(入力!H35=\"\",\"\",入力!J35)","v":""},"",{"$f":"IF(入力!H35=\"\",\"\",入力!$G$5)","v":""}]
[123,{"$f":"IF(入力!H36=\"\",\"\",入力!G36)","v":""},{"$f":"IF(入力!H36=\"\",\"\",入力!H36)","v":""},{"$f":"IF(入力!H36=\"\",\"\",IF(入力!$I$5=\"高校男子\",\"1\",IF(入力!$I$5=\"高校女子\",\"2\")))","v":""},{"$f":"IF(入力!H36=\"\",\"\",入力!I36)","v":""},{"$f":"IF(入力!H36=\"\",\"\",入力!J36)","v":""},"",{"$f":"IF(入力!H36=\"\",\"\",入力!$G$5)","v":""}]
[124,{"$f":"IF(入力!H37=\"\",\"\",入力!G37)","v":""},{"$f":"IF(入力!H37=\"\",\"\",入力!H37)","v":""},{"$f":"IF(入力!H37=\"\",\"\",IF(入力!$I$5=\"高校男子\",\"1\",IF(入力!$I$5=\"高校女子\",\"2\")))","v":""},{"$f":"IF(入力!H37=\"\",\"\",入力!I37)","v":""},{"$f":"IF(入力!H37=\"\",\"\",入力!J37)","v":""},"",{"$f":"IF(入力!H37=\"\",\"\",入力!$G$5)","v":""}]
[125,{"$f":"IF(入力!H38=\"\",\"\",入力!G38)","v":""},{"$f":"IF(入力!H38=\"\",\"\",入力!H38)","v":""},{"$f":"IF(入力!H38=\"\",\"\",IF(入力!$I$5=\"高校男子\",\"1\",IF(入力!$I$5=\"高校女子\",\"2\")))","v":""},{"$f":"IF(入力!H38=\"\",\"\",入力!I38)","v":""},{"$f":"IF(入力!H38=\"\",\"\",入力!J38)","v":""},"",{"$f":"IF(入力!H38=\"\",\"\",入力!$G$5)","v":""}]
[126,{"$f":"IF(入力!H39=\"\",\"\",入力!G39)","v":""},{"$f":"IF(入力!H39=\"\",\"\",入力!H39)","v":""},{"$f":"IF(入力!H39=\"\",\"\",IF(入力!$I$5=\"高校男子\",\"1\",IF(入力!$I$5=\"高校女子\",\"2\")))","v":""},{"$f":"IF(入力!H39=\"\",\"\",入力!I39)","v":""},{"$f":"IF(入力!H39=\"\",\"\",入力!J39)","v":""},"",{"$f":"IF(入力!H39=\"\",\"\",入力!$G$5)","v":""}]
[127,{"$f":"IF(入力!H40=\"\",\"\",入力!G40)","v":""},{"$f":"IF(入力!H40=\"\",\"\",入力!H40)","v":""},{"$f":"IF(入力!H40=\"\",\"\",IF(入力!$I$5=\"高校男子\",\"1\",IF(入力!$I$5=\"高校女子\",\"2\")))","v":""},{"$f":"IF(入力!H40=\"\",\"\",入力!I40)","v":""},{"$f":"IF(入力!H40=\"\",\"\",入力!J40)","v":""},"",{"$f":"IF(入力!H40=\"\",\"\",入力!$G$5)","v":""}]
[128,{"$f":"IF(入力!H41=\"\",\"\",入力!G41)","v":""},{"$f":"IF(入力!H41=\"\",\"\",入力!H41)","v":""},{"$f":"IF(入力!H41=\"\",\"\",IF(入力!$I$5=\"高校男子\",\"1\",IF(入力!$I$5=\"高校女子\",\"2\")))","v":""},{"$f":"IF(入力!H41=\"\",\"\",入力!I41)","v":""},{"$f":"IF(入力!H41=\"\",\"\",入力!J41)","v":""},"",{"$f":"IF(入力!H41=\"\",\"\",入力!$G$5)","v":""}]
[129,{"$f":"IF(入力!H42=\"\",\"\",入力!G42)","v":""},{"$f":"IF(入力!H42=\"\",\"\",入力!H42)","v":""},{"$f":"IF(入力!H42=\"\",\"\",IF(入力!$I$5=\"高校男子\",\"1\",IF(入力!$I$5=\"高校女子\",\"2\")))","v":""},{"$f":"IF(入力!H42=\"\",\"\",入力!I42)","v":""},{"$f":"IF(入力!H42=\"\",\"\",入力!J42)","v":""},{"$f":"IF(H130=\"\",\"\",VLOOKUP(H130,syozoku,4,FALSE))","v":""},{"$f":"IF(入力!H42=\"\",\"\",入力!$G$5)","v":""}]
[130,{"$f":"IF(入力!H43=\"\",\"\",入力!G43)","v":""},{"$f":"IF(入力!H43=\"\",\"\",入力!H43)","v":""},{"$f":"IF(入力!H43=\"\",\"\",IF(入力!$I$5=\"高校男子\",\"1\",IF(入力!$I$5=\"高校女子\",\"2\")))","v":""},{"$f":"IF(入力!H43=\"\",\"\",入力!I43)","v":""},{"$f":"IF(入力!H43=\"\",\"\",入力!J43)","v":""},"",{"$f":"IF(入力!H43=\"\",\"\",入力!$G$5)","v":""}]
[131,{"$f":"IF(入力!H44=\"\",\"\",入力!G44)","v":""},{"$f":"IF(入力!H44=\"\",\"\",入力!H44)","v":""},{"$f":"IF(入力!H44=\"\",\"\",IF(入力!$I$5=\"高校男子\",\"1\",IF(入力!$I$5=\"高校女子\",\"2\")))","v":""},{"$f":"IF(入力!H44=\"\",\"\",入力!I44)","v":""},{"$f":"IF(入力!H44=\"\",\"\",入力!J44)","v":""},"",{"$f":"IF(入力!H44=\"\",\"\",入力!$G$5)","v":""}]
[132,{"$f":"IF(入力!H45=\"\",\"\",入力!G45)","v":""},{"$f":"IF(入力!H45=\"\",\"\",入力!H45)","v":""},{"$f":"IF(入力!H45=\"\",\"\",IF(入力!$I$5=\"高校男子\",\"1\",IF(入力!$I$5=\"高校女子\",\"2\")))","v":""},{"$f":"IF(入力!H45=\"\",\"\",入力!I45)","v":""},{"$f":"IF(入力!H45=\"\",\"\",入力!J45)","v":""},"",{"$f":"IF(入力!H45=\"\",\"\",入力!$G$5)","v":""}]
[133,{"$f":"IF(入力!H46=\"\",\"\",入力!G46)","v":""},{"$f":"IF(入力!H46=\"\",\"\",入力!H46)","v":""},{"$f":"IF(入力!H46=\"\",\"\",IF(入力!$I$5=\"高校男子\",\"1\",IF(入力!$I$5=\"高校女子\",\"2\")))","v":""},{"$f":"IF(入力!H46=\"\",\"\",入力!I46)","v":""},{"$f":"IF(入力!H46=\"\",\"\",入力!J46)","v":""},"",{"$f":"IF(入力!H46=\"\",\"\",入力!$G$5)","v":""}]
[134,{"$f":"IF(入力!H47=\"\",\"\",入力!G47)","v":""},{"$f":"IF(入力!H47=\"\",\"\",入力!H47)","v":""},{"$f":"IF(入力!H47=\"\",\"\",IF(入力!$I$5=\"高校男子\",\"1\",IF(入力!$I$5=\"高校女子\",\"2\")))","v":""},{"$f":"IF(入力!H47=\"\",\"\",入力!I47)","v":""},{"$f":"IF(入力!H47=\"\",\"\",入力!J47)","v":""},"",{"$f":"IF(入力!H47=\"\",\"\",入力!$G$5)","v":""}]
[135,{"$f":"IF(入力!H48=\"\",\"\",入力!G48)","v":""},{"$f":"IF(入力!H48=\"\",\"\",入力!H48)","v":""},{"$f":"IF(入力!H48=\"\",\"\",IF(入力!$I$5=\"高校男子\",\"1\",IF(入力!$I$5=\"高校女子\",\"2\")))","v":""},{"$f":"IF(入力!H48=\"\",\"\",入力!I48)","v":""},{"$f":"IF(入力!H48=\"\",\"\",入力!J48)","v":""},"",{"$f":"IF(入力!H48=\"\",\"\",入力!$G$5)","v":""}]
[136,{"$f":"IF(入力!H49=\"\",\"\",入力!G49)","v":""},{"$f":"IF(入力!H49=\"\",\"\",入力!H49)","v":""},{"$f":"IF(入力!H49=\"\",\"\",IF(入力!$I$5=\"高校男子\",\"1\",IF(入力!$I$5=\"高校女子\",\"2\")))","v":""},{"$f":"IF(入力!H49=\"\",\"\",入力!I49)","v":""},{"$f":"IF(入力!H49=\"\",\"\",入力!J49)","v":""},"",{"$f":"IF(入力!H49=\"\",\"\",入力!$G$5)","v":""}]
[137,{"$f":"IF(入力!H50=\"\",\"\",入力!G50)","v":""},{"$f":"IF(入力!H50=\"\",\"\",入力!H50)","v":""},{"$f":"IF(入力!H50=\"\",\"\",IF(入力!$I$5=\"高校男子\",\"1\",IF(入力!$I$5=\"高校女子\",\"2\")))","v":""},{"$f":"IF(入力!H50=\"\",\"\",入力!I50)","v":""},{"$f":"IF(入力!H50=\"\",\"\",入力!J50)","v":""},"",{"$f":"IF(入力!H50=\"\",\"\",入力!$G$5)","v":""}]
[138,{"$f":"IF(入力!H51=\"\",\"\",入力!G51)","v":""},{"$f":"IF(入力!H51=\"\",\"\",入力!H51)","v":""},{"$f":"IF(入力!H51=\"\",\"\",IF(入力!$I$5=\"高校男子\",\"1\",IF(入力!$I$5=\"高校女子\",\"2\")))","v":""},{"$f":"IF(入力!H51=\"\",\"\",入力!I51)","v":""},{"$f":"IF(入力!H51=\"\",\"\",入力!J51)","v":""},"",{"$f":"IF(入力!H51=\"\",\"\",入力!$G$5)","v":""}]
[139,{"$f":"IF(入力!H52=\"\",\"\",入力!G52)","v":""},{"$f":"IF(入力!H52=\"\",\"\",入力!H52)","v":""},{"$f":"IF(入力!H52=\"\",\"\",IF(入力!$I$5=\"高校男子\",\"1\",IF(入力!$I$5=\"高校女子\",\"2\")))","v":""},{"$f":"IF(入力!H52=\"\",\"\",入力!I52)","v":""},{"$f":"IF(入力!H52=\"\",\"\",入力!J52)","v":""},"",{"$f":"IF(入力!H52=\"\",\"\",入力!$G$5)","v":""}]
[140,{"$f":"IF(入力!H53=\"\",\"\",入力!G53)","v":""},{"$f":"IF(入力!H53=\"\",\"\",入力!H53)","v":""},{"$f":"IF(入力!H53=\"\",\"\",IF(入力!$I$5=\"高校男子\",\"1\",IF(入力!$I$5=\"高校女子\",\"2\")))","v":""},{"$f":"IF(入力!H53=\"\",\"\",入力!I53)","v":""},{"$f":"IF(入力!H53=\"\",\"\",入力!J53)","v":""},"",{"$f":"IF(入力!H53=\"\",\"\",入力!$G$5)","v":""}]
[141,{"$f":"IF(入力!H54=\"\",\"\",入力!G54)","v":""},{"$f":"IF(入力!H54=\"\",\"\",入力!H54)","v":""},{"$f":"IF(入力!H54=\"\",\"\",IF(入力!$I$5=\"高校男子\",\"1\",IF(入力!$I$5=\"高校女子\",\"2\")))","v":""},{"$f":"IF(入力!H54=\"\",\"\",入力!I54)","v":""},{"$f":"IF(入力!H54=\"\",\"\",入力!J54)","v":""},"",{"$f":"IF(入力!H54=\"\",\"\",入力!$G$5)","v":""}]
[142,{"$f":"IF(入力!H55=\"\",\"\",入力!G55)","v":""},{"$f":"IF(入力!H55=\"\",\"\",入力!H55)","v":""},{"$f":"IF(入力!H55=\"\",\"\",IF(入力!$I$5=\"高校男子\",\"1\",IF(入力!$I$5=\"高校女子\",\"2\")))","v":""},{"$f":"IF(入力!H55=\"\",\"\",入力!I55)","v":""},{"$f":"IF(入力!H55=\"\",\"\",入力!J55)","v":""},"",{"$f":"IF(入力!H55=\"\",\"\",入力!$G$5)","v":""}]
[143,{"$f":"IF(入力!H56=\"\",\"\",入力!G56)","v":""},{"$f":"IF(入力!H56=\"\",\"\",入力!H56)","v":""},{"$f":"IF(入力!H56=\"\",\"\",IF(入力!$I$5=\"高校男子\",\"1\",IF(入力!$I$5=\"高校女子\",\"2\")))","v":""},{"$f":"IF(入力!H56=\"\",\"\",入力!I56)","v":""},{"$f":"IF(入力!H56=\"\",\"\",入力!J56)","v":""},"",{"$f":"IF(入力!H56=\"\",\"\",入力!$G$5)","v":""}]
[144,{"$f":"IF(入力!H57=\"\",\"\",入力!G57)","v":""},{"$f":"IF(入力!H57=\"\",\"\",入力!H57)","v":""},{"$f":"IF(入力!H57=\"\",\"\",IF(入力!$I$5=\"高校男子\",\"1\",IF(入力!$I$5=\"高校女子\",\"2\")))","v":""},{"$f":"IF(入力!H57=\"\",\"\",入力!I57)","v":""},{"$f":"IF(入力!H57=\"\",\"\",入力!J57)","v":""},"",{"$f":"IF(入力!H57=\"\",\"\",入力!$G$5)","v":""}]
[145,{"$f":"IF(入力!H58=\"\",\"\",入力!G58)","v":""},{"$f":"IF(入力!H58=\"\",\"\",入力!H58)","v":""},{"$f":"IF(入力!H58=\"\",\"\",IF(入力!$I$5=\"高校男子\",\"1\",IF(入力!$I$5=\"高校女子\",\"2\")))","v":""},{"$f":"IF(入力!H58=\"\",\"\",入力!I58)","v":""},{"$f":"IF(入力!H58=\"\",\"\",入力!J58)","v":""},"",{"$f":"IF(入力!H58=\"\",\"\",入力!$G$5)","v":""}]
[146,{"$f":"IF(入力!H59=\"\",\"\",入力!G59)","v":""},{"$f":"IF(入力!H59=\"\",\"\",入力!H59)","v":""},{"$f":"IF(入力!H59=\"\",\"\",IF(入力!$I$5=\"高校男子\",\"1\",IF(入力!$I$5=\"高校女子\",\"2\")))","v":""},{"$f":"IF(入力!H59=\"\",\"\",入力!I59)","v":""},{"$f":"IF(入力!H59=\"\",\"\",入力!J59)","v":""},"",{"$f":"IF(入力!H59=\"\",\"\",入力!$G$5)","v":""}]
[147,{"$f":"IF(入力!H60=\"\",\"\",入力!G60)","v":""},{"$f":"IF(入力!H60=\"\",\"\",入力!H60)","v":""},{"$f":"IF(入力!H60=\"\",\"\",IF(入力!$I$5=\"高校男子\",\"1\",IF(入力!$I$5=\"高校女子\",\"2\")))","v":""},{"$f":"IF(入力!H60=\"\",\"\",入力!I60)","v":""},{"$f":"IF(入力!H60=\"\",\"\",入力!J60)","v":""},"",{"$f":"IF(入力!H60=\"\",\"\",入力!$G$5)","v":""}]
[148,{"$f":"IF(入力!H61=\"\",\"\",入力!G61)","v":""},{"$f":"IF(入力!H61=\"\",\"\",入力!H61)","v":""},{"$f":"IF(入力!H61=\"\",\"\",IF(入力!$I$5=\"高校男子\",\"1\",IF(入力!$I$5=\"高校女子\",\"2\")))","v":""},{"$f":"IF(入力!H61=\"\",\"\",入力!I61)","v":""},{"$f":"IF(入力!H61=\"\",\"\",入力!J61)","v":""},"",{"$f":"IF(入力!H61=\"\",\"\",入力!$G$5)","v":""}]
[149,{"$f":"IF(入力!H62=\"\",\"\",入力!G62)","v":""},{"$f":"IF(入力!H62=\"\",\"\",入力!H62)","v":""},{"$f":"IF(入力!H62=\"\",\"\",IF(入力!$I$5=\"高校男子\",\"1\",IF(入力!$I$5=\"高校女子\",\"2\")))","v":""},{"$f":"IF(入力!H62=\"\",\"\",入力!I62)","v":""},{"$f":"IF(入力!H62=\"\",\"\",入力!J62)","v":""},"",{"$f":"IF(入力!H62=\"\",\"\",入力!$G$5)","v":""}]
[150,{"$f":"IF(入力!H63=\"\",\"\",入力!G63)","v":""},{"$f":"IF(入力!H63=\"\",\"\",入力!H63)","v":""},{"$f":"IF(入力!H63=\"\",\"\",IF(入力!$I$5=\"高校男子\",\"1\",IF(入力!$I$5=\"高校女子\",\"2\")))","v":""},{"$f":"IF(入力!H63=\"\",\"\",入力!I63)","v":""},{"$f":"IF(入力!H63=\"\",\"\",入力!J63)","v":""},"",{"$f":"IF(入力!H63=\"\",\"\",入力!$G$5)","v":""}]
[151,{"$f":"IF(入力!H64=\"\",\"\",入力!G64)","v":""},{"$f":"IF(入力!H64=\"\",\"\",入力!H64)","v":""},{"$f":"IF(入力!H64=\"\",\"\",IF(入力!$I$5=\"高校男子\",\"1\",IF(入力!$I$5=\"高校女子\",\"2\")))","v":""},{"$f":"IF(入力!H64=\"\",\"\",入力!I64)","v":""},{"$f":"IF(入力!H64=\"\",\"\",入力!J64)","v":""},"",{"$f":"IF(入力!H64=\"\",\"\",入力!$G$5)","v":""}]
[152,{"$f":"IF(入力!H65=\"\",\"\",入力!G65)","v":""},{"$f":"IF(入力!H65=\"\",\"\",入力!H65)","v":""},{"$f":"IF(入力!H65=\"\",\"\",IF(入力!$I$5=\"高校男子\",\"1\",IF(入力!$I$5=\"高校女子\",\"2\")))","v":""},{"$f":"IF(入力!H65=\"\",\"\",入力!I65)","v":""},{"$f":"IF(入力!H65=\"\",\"\",入力!J65)","v":""},"",{"$f":"IF(入力!H65=\"\",\"\",入力!$G$5)","v":""}]
[153,{"$f":"IF(入力!H66=\"\",\"\",入力!G66)","v":""},{"$f":"IF(入力!H66=\"\",\"\",入力!H66)","v":""},{"$f":"IF(入力!H66=\"\",\"\",IF(入力!$I$5=\"高校男子\",\"1\",IF(入力!$I$5=\"高校女子\",\"2\")))","v":""},{"$f":"IF(入力!H66=\"\",\"\",入力!I66)","v":""},{"$f":"IF(入力!H66=\"\",\"\",入力!J66)","v":""},"",{"$f":"IF(入力!H66=\"\",\"\",入力!$G$5)","v":""}]
[154,{"$f":"IF(入力!H67=\"\",\"\",入力!G67)","v":""},{"$f":"IF(入力!H67=\"\",\"\",入力!H67)","v":""},{"$f":"IF(入力!H67=\"\",\"\",IF(入力!$I$5=\"高校男子\",\"1\",IF(入力!$I$5=\"高校女子\",\"2\")))","v":""},{"$f":"IF(入力!H67=\"\",\"\",入力!I67)","v":""},{"$f":"IF(入力!H67=\"\",\"\",入力!J67)","v":""},"",{"$f":"IF(入力!H67=\"\",\"\",入力!$G$5)","v":""}]
[155,{"$f":"IF(入力!H68=\"\",\"\",入力!G68)","v":""},{"$f":"IF(入力!H68=\"\",\"\",入力!H68)","v":""},{"$f":"IF(入力!H68=\"\",\"\",IF(入力!$I$5=\"高校男子\",\"1\",IF(入力!$I$5=\"高校女子\",\"2\")))","v":""},{"$f":"IF(入力!H68=\"\",\"\",入力!I68)","v":""},{"$f":"IF(入力!H68=\"\",\"\",入力!J68)","v":""},"",{"$f":"IF(入力!H68=\"\",\"\",入力!$G$5)","v":""}]
[156,{"$f":"IF(入力!H69=\"\",\"\",入力!G69)","v":""},{"$f":"IF(入力!H69=\"\",\"\",入力!H69)","v":""},{"$f":"IF(入力!H69=\"\",\"\",IF(入力!$I$5=\"高校男子\",\"1\",IF(入力!$I$5=\"高校女子\",\"2\")))","v":""},{"$f":"IF(入力!H69=\"\",\"\",入力!I69)","v":""},{"$f":"IF(入力!H69=\"\",\"\",入力!J69)","v":""},"",{"$f":"IF(入力!H69=\"\",\"\",入力!$G$5)","v":""}]
[157,{"$f":"IF(入力!H70=\"\",\"\",入力!G70)","v":""},{"$f":"IF(入力!H70=\"\",\"\",入力!H70)","v":""},{"$f":"IF(入力!H70=\"\",\"\",IF(入力!$I$5=\"高校男子\",\"1\",IF(入力!$I$5=\"高校女子\",\"2\")))","v":""},{"$f":"IF(入力!H70=\"\",\"\",入力!I70)","v":""},{"$f":"IF(入力!H70=\"\",\"\",入力!J70)","v":""},"",{"$f":"IF(入力!H70=\"\",\"\",入力!$G$5)","v":""}]
[158,{"$f":"IF(入力!H71=\"\",\"\",入力!G71)","v":""},{"$f":"IF(入力!H71=\"\",\"\",入力!H71)","v":""},{"$f":"IF(入力!H71=\"\",\"\",IF(入力!$I$5=\"高校男子\",\"1\",IF(入力!$I$5=\"高校女子\",\"2\")))","v":""},{"$f":"IF(入力!H71=\"\",\"\",入力!I71)","v":""},{"$f":"IF(入力!H71=\"\",\"\",入力!J71)","v":""},"",{"$f":"IF(入力!H71=\"\",\"\",入力!$G$5)","v":""}]
[159,{"$f":"IF(入力!H72=\"\",\"\",入力!G72)","v":""},{"$f":"IF(入力!H72=\"\",\"\",入力!H72)","v":""},{"$f":"IF(入力!H72=\"\",\"\",IF(入力!$I$5=\"高校男子\",\"1\",IF(入力!$I$5=\"高校女子\",\"2\")))","v":""},{"$f":"IF(入力!H72=\"\",\"\",入力!I72)","v":""},{"$f":"IF(入力!H72=\"\",\"\",入力!J72)","v":""},"",{"$f":"IF(入力!H72=\"\",\"\",入力!$G$5)","v":""}]
[160,{"$f":"IF(入力!H73=\"\",\"\",入力!G73)","v":""},{"$f":"IF(入力!H73=\"\",\"\",入力!H73)","v":""},{"$f":"IF(入力!H73=\"\",\"\",IF(入力!$I$5=\"高校男子\",\"1\",IF(入力!$I$5=\"高校女子\",\"2\")))","v":""},{"$f":"IF(入力!H73=\"\",\"\",入力!I73)","v":""},{"$f":"IF(入力!H73=\"\",\"\",入力!J73)","v":""},"",{"$f":"IF(入力!H73=\"\",\"\",入力!$G$5)","v":""}]
[161,{"$f":"IF(入力!H74=\"\",\"\",入力!G74)","v":""},{"$f":"IF(入力!H74=\"\",\"\",入力!H74)","v":""},{"$f":"IF(入力!H74=\"\",\"\",IF(入力!$I$5=\"高校男子\",\"1\",IF(入力!$I$5=\"高校女子\",\"2\")))","v":""},{"$f":"IF(入力!H74=\"\",\"\",入力!I74)","v":""},{"$f":"IF(入力!H74=\"\",\"\",入力!J74)","v":""},{"$f":"IF(H162=\"\",\"\",VLOOKUP(H162,syozoku,4,FALSE))","v":""},{"$f":"IF(入力!H74=\"\",\"\",入力!$G$5)","v":""}]
[162,{"$f":"IF(入力!H75=\"\",\"\",入力!G75)","v":""},{"$f":"IF(入力!H75=\"\",\"\",入力!H75)","v":""},{"$f":"IF(入力!H75=\"\",\"\",IF(入力!$I$5=\"高校男子\",\"1\",IF(入力!$I$5=\"高校女子\",\"2\")))","v":""},{"$f":"IF(入力!H75=\"\",\"\",入力!I75)","v":""},{"$f":"IF(入力!H75=\"\",\"\",入力!J75)","v":""},"",{"$f":"IF(入力!H75=\"\",\"\",入力!$G$5)","v":""}]
[163,{"$f":"IF(入力!H76=\"\",\"\",入力!G76)","v":""},{"$f":"IF(入力!H76=\"\",\"\",入力!H76)","v":""},{"$f":"IF(入力!H76=\"\",\"\",IF(入力!$I$5=\"高校男子\",\"1\",IF(入力!$I$5=\"高校女子\",\"2\")))","v":""},{"$f":"IF(入力!H76=\"\",\"\",入力!I76)","v":""},{"$f":"IF(入力!H76=\"\",\"\",入力!J76)","v":""},"",{"$f":"IF(入力!H76=\"\",\"\",入力!$G$5)","v":""}]
[164,{"$f":"IF(入力!H77=\"\",\"\",入力!G77)","v":""},{"$f":"IF(入力!H77=\"\",\"\",入力!H77)","v":""},{"$f":"IF(入力!H77=\"\",\"\",IF(入力!$I$5=\"高校男子\",\"1\",IF(入力!$I$5=\"高校女子\",\"2\")))","v":""},{"$f":"IF(入力!H77=\"\",\"\",入力!I77)","v":""},{"$f":"IF(入力!H77=\"\",\"\",入力!J77)","v":""},"",{"$f":"IF(入力!H77=\"\",\"\",入力!$G$5)","v":""}]
[165,{"$f":"IF(入力!H78=\"\",\"\",入力!G78)","v":""},{"$f":"IF(入力!H78=\"\",\"\",入力!H78)","v":""},{"$f":"IF(入力!H78=\"\",\"\",IF(入力!$I$5=\"高校男子\",\"1\",IF(入力!$I$5=\"高校女子\",\"2\")))","v":""},{"$f":"IF(入力!H78=\"\",\"\",入力!I78)","v":""},{"$f":"IF(入力!H78=\"\",\"\",入力!J78)","v":""},"",{"$f":"IF(入力!H78=\"\",\"\",入力!$G$5)","v":""}]
[166,{"$f":"IF(入力!H79=\"\",\"\",入力!G79)","v":""},{"$f":"IF(入力!H79=\"\",\"\",入力!H79)","v":""},{"$f":"IF(入力!H79=\"\",\"\",IF(入力!$I$5=\"高校男子\",\"1\",IF(入力!$I$5=\"高校女子\",\"2\")))","v":""},{"$f":"IF(入力!H79=\"\",\"\",入力!I79)","v":""},{"$f":"IF(入力!H79=\"\",\"\",入力!J79)","v":""},"",{"$f":"IF(入力!H79=\"\",\"\",入力!$G$5)","v":""}]
[167,{"$f":"IF(入力!H80=\"\",\"\",入力!G80)","v":""},{"$f":"IF(入力!H80=\"\",\"\",入力!H80)","v":""},{"$f":"IF(入力!H80=\"\",\"\",IF(入力!$I$5=\"高校男子\",\"1\",IF(入力!$I$5=\"高校女子\",\"2\")))","v":""},{"$f":"IF(入力!H80=\"\",\"\",入力!I80)","v":""},{"$f":"IF(入力!H80=\"\",\"\",入力!J80)","v":""},"",{"$f":"IF(入力!H80=\"\",\"\",入力!$G$5)","v":""}]
[168,{"$f":"IF(入力!H81=\"\",\"\",入力!G81)","v":""},{"$f":"IF(入力!H81=\"\",\"\",入力!H81)","v":""},{"$f":"IF(入力!H81=\"\",\"\",IF(入力!$I$5=\"高校男子\",\"1\",IF(入力!$I$5=\"高校女子\",\"2\")))","v":""},{"$f":"IF(入力!H81=\"\",\"\",入力!I81)","v":""},{"$f":"IF(入力!H81=\"\",\"\",入力!J81)","v":""},"",{"$f":"IF(入力!H81=\"\",\"\",入力!$G$5)","v":""}]
[169,{"$f":"IF(入力!H82=\"\",\"\",入力!G82)","v":""},{"$f":"IF(入力!H82=\"\",\"\",入力!H82)","v":""},{"$f":"IF(入力!H82=\"\",\"\",IF(入力!$I$5=\"高校男子\",\"1\",IF(入力!$I$5=\"高校女子\",\"2\")))","v":""},{"$f":"IF(入力!H82=\"\",\"\",入力!I82)","v":""},{"$f":"IF(入力!H82=\"\",\"\",入力!J82)","v":""},"",{"$f":"IF(入力!H82=\"\",\"\",入力!$G$5)","v":""}]
[170,{"$f":"IF(入力!H83=\"\",\"\",入力!G83)","v":""},{"$f":"IF(入力!H83=\"\",\"\",入力!H83)","v":""},{"$f":"IF(入力!H83=\"\",\"\",IF(入力!$I$5=\"高校男子\",\"1\",IF(入力!$I$5=\"高校女子\",\"2\")))","v":""},{"$f":"IF(入力!H83=\"\",\"\",入力!I83)","v":""},{"$f":"IF(入力!H83=\"\",\"\",入力!J83)","v":""},"",{"$f":"IF(入力!H83=\"\",\"\",入力!$G$5)","v":""}]
[171,{"$f":"IF(入力!H84=\"\",\"\",入力!G84)","v":""},{"$f":"IF(入力!H84=\"\",\"\",入力!H84)","v":""},{"$f":"IF(入力!H84=\"\",\"\",IF(入力!$I$5=\"高校男子\",\"1\",IF(入力!$I$5=\"高校女子\",\"2\")))","v":""},{"$f":"IF(入力!H84=\"\",\"\",入力!I84)","v":""},{"$f":"IF(入力!H84=\"\",\"\",入力!J84)","v":""},"",{"$f":"IF(入力!H84=\"\",\"\",入力!$G$5)","v":""}]
[172,{"$f":"IF(入力!H85=\"\",\"\",入力!G85)","v":""},{"$f":"IF(入力!H85=\"\",\"\",入力!H85)","v":""},{"$f":"IF(入力!H85=\"\",\"\",IF(入力!$I$5=\"高校男子\",\"1\",IF(入力!$I$5=\"高校女子\",\"2\")))","v":""},{"$f":"IF(入力!H85=\"\",\"\",入力!I85)","v":""},{"$f":"IF(入力!H85=\"\",\"\",入力!J85)","v":""},"",{"$f":"IF(入力!H85=\"\",\"\",入力!$G$5)","v":""}]
[173,{"$f":"IF(入力!H86=\"\",\"\",入力!G86)","v":""},{"$f":"IF(入力!H86=\"\",\"\",入力!H86)","v":""},{"$f":"IF(入力!H86=\"\",\"\",IF(入力!$I$5=\"高校男子\",\"1\",IF(入力!$I$5=\"高校女子\",\"2\")))","v":""},{"$f":"IF(入力!H86=\"\",\"\",入力!I86)","v":""},{"$f":"IF(入力!H86=\"\",\"\",入力!J86)","v":""},"",{"$f":"IF(入力!H86=\"\",\"\",入力!$G$5)","v":""}]
[174,{"$f":"IF(入力!H87=\"\",\"\",入力!G87)","v":""},{"$f":"IF(入力!H87=\"\",\"\",入力!H87)","v":""},{"$f":"IF(入力!H87=\"\",\"\",IF(入力!$I$5=\"高校男子\",\"1\",IF(入力!$I$5=\"高校女子\",\"2\")))","v":""},{"$f":"IF(入力!H87=\"\",\"\",入力!I87)","v":""},{"$f":"IF(入力!H87=\"\",\"\",入力!J87)","v":""},"",{"$f":"IF(入力!H87=\"\",\"\",入力!$G$5)","v":""}]
[175,{"$f":"IF(入力!H88=\"\",\"\",入力!G88)","v":""},{"$f":"IF(入力!H88=\"\",\"\",入力!H88)","v":""},{"$f":"IF(入力!H88=\"\",\"\",IF(入力!$I$5=\"高校男子\",\"1\",IF(入力!$I$5=\"高校女子\",\"2\")))","v":""},{"$f":"IF(入力!H88=\"\",\"\",入力!I88)","v":""},{"$f":"IF(入力!H88=\"\",\"\",入力!J88)","v":""},"",{"$f":"IF(入力!H88=\"\",\"\",入力!$G$5)","v":""}]
[176,{"$f":"IF(入力!H89=\"\",\"\",入力!G89)","v":""},{"$f":"IF(入力!H89=\"\",\"\",入力!H89)","v":""},{"$f":"IF(入力!H89=\"\",\"\",IF(入力!$I$5=\"高校男子\",\"1\",IF(入力!$I$5=\"高校女子\",\"2\")))","v":""},{"$f":"IF(入力!H89=\"\",\"\",入力!I89)","v":""},{"$f":"IF(入力!H89=\"\",\"\",入力!J89)","v":""},"",{"$f":"IF(入力!H89=\"\",\"\",入力!$G$5)","v":""}]
[177,{"$f":"IF(入力!H90=\"\",\"\",入力!G90)","v":""},{"$f":"IF(入力!H90=\"\",\"\",入力!H90)","v":""},{"$f":"IF(入力!H90=\"\",\"\",IF(入力!$I$5=\"高校男子\",\"1\",IF(入力!$I$5=\"高校女子\",\"2\")))","v":""},{"$f":"IF(入力!H90=\"\",\"\",入力!I90)","v":""},{"$f":"IF(入力!H90=\"\",\"\",入力!J90)","v":""},"",{"$f":"IF(入力!H90=\"\",\"\",入力!$G$5)","v":""}]
[178,{"$f":"IF(入力!H91=\"\",\"\",入力!G91)","v":""},{"$f":"IF(入力!H91=\"\",\"\",入力!H91)","v":""},{"$f":"IF(入力!H91=\"\",\"\",IF(入力!$I$5=\"高校男子\",\"1\",IF(入力!$I$5=\"高校女子\",\"2\")))","v":""},{"$f":"IF(入力!H91=\"\",\"\",入力!I91)","v":""},{"$f":"IF(入力!H91=\"\",\"\",入力!J91)","v":""},"",{"$f":"IF(入力!H91=\"\",\"\",入力!$G$5)","v":""}]
[179,{"$f":"IF(入力!H92=\"\",\"\",入力!G92)","v":""},{"$f":"IF(入力!H92=\"\",\"\",入力!H92)","v":""},{"$f":"IF(入力!H92=\"\",\"\",IF(入力!$I$5=\"高校男子\",\"1\",IF(入力!$I$5=\"高校女子\",\"2\")))","v":""},{"$f":"IF(入力!H92=\"\",\"\",入力!I92)","v":""},{"$f":"IF(入力!H92=\"\",\"\",入力!J92)","v":""},"",{"$f":"IF(入力!H92=\"\",\"\",入力!$G$5)","v":""}]
[180,{"$f":"IF(入力!H93=\"\",\"\",入力!G93)","v":""},{"$f":"IF(入力!H93=\"\",\"\",入力!H93)","v":""},{"$f":"IF(入力!H93=\"\",\"\",IF(入力!$I$5=\"高校男子\",\"1\",IF(入力!$I$5=\"高校女子\",\"2\")))","v":""},{"$f":"IF(入力!H93=\"\",\"\",入力!I93)","v":""},{"$f":"IF(入力!H93=\"\",\"\",入力!J93)","v":""},"",{"$f":"IF(入力!H93=\"\",\"\",入力!$G$5)","v":""}]
[181,{"$f":"IF(入力!H94=\"\",\"\",入力!G94)","v":""},{"$f":"IF(入力!H94=\"\",\"\",入力!H94)","v":""},{"$f":"IF(入力!H94=\"\",\"\",IF(入力!$I$5=\"高校男子\",\"1\",IF(入力!$I$5=\"高校女子\",\"2\")))","v":""},{"$f":"IF(入力!H94=\"\",\"\",入力!I94)","v":""},{"$f":"IF(入力!H94=\"\",\"\",入力!J94)","v":""},"",{"$f":"IF(入力!H94=\"\",\"\",入力!$G$5)","v":""}]
[182,{"$f":"IF(入力!H95=\"\",\"\",入力!G95)","v":""},{"$f":"IF(入力!H95=\"\",\"\",入力!H95)","v":""},{"$f":"IF(入力!H95=\"\",\"\",IF(入力!$I$5=\"高校男子\",\"1\",IF(入力!$I$5=\"高校女子\",\"2\")))","v":""},{"$f":"IF(入力!H95=\"\",\"\",入力!I95)","v":""},{"$f":"IF(入力!H95=\"\",\"\",入力!J95)","v":""},"",{"$f":"IF(入力!H95=\"\",\"\",入力!$G$5)","v":""}]
[183,{"$f":"IF(入力!H96=\"\",\"\",入力!G96)","v":""},{"$f":"IF(入力!H96=\"\",\"\",入力!H96)","v":""},{"$f":"IF(入力!H96=\"\",\"\",IF(入力!$I$5=\"高校男子\",\"1\",IF(入力!$I$5=\"高校女子\",\"2\")))","v":""},{"$f":"IF(入力!H96=\"\",\"\",入力!I96)","v":""},{"$f":"IF(入力!H96=\"\",\"\",入力!J96)","v":""},"",{"$f":"IF(入力!H96=\"\",\"\",入力!$G$5)","v":""}]
[184,{"$f":"IF(入力!H97=\"\",\"\",入力!G97)","v":""},{"$f":"IF(入力!H97=\"\",\"\",入力!H97)","v":""},{"$f":"IF(入力!H97=\"\",\"\",IF(入力!$I$5=\"高校男子\",\"1\",IF(入力!$I$5=\"高校女子\",\"2\")))","v":""},{"$f":"IF(入力!H97=\"\",\"\",入力!I97)","v":""},{"$f":"IF(入力!H97=\"\",\"\",入力!J97)","v":""},"",{"$f":"IF(入力!H97=\"\",\"\",入力!$G$5)","v":""}]
[185,{"$f":"IF(入力!H98=\"\",\"\",入力!G98)","v":""},{"$f":"IF(入力!H98=\"\",\"\",入力!H98)","v":""},{"$f":"IF(入力!H98=\"\",\"\",IF(入力!$I$5=\"高校男子\",\"1\",IF(入力!$I$5=\"高校女子\",\"2\")))","v":""},{"$f":"IF(入力!H98=\"\",\"\",入力!I98)","v":""},{"$f":"IF(入力!H98=\"\",\"\",入力!J98)","v":""},"",{"$f":"IF(入力!H98=\"\",\"\",入力!$G$5)","v":""}]
[186,{"$f":"IF(入力!H99=\"\",\"\",入力!G99)","v":""},{"$f":"IF(入力!H99=\"\",\"\",入力!H99)","v":""},{"$f":"IF(入力!H99=\"\",\"\",IF(入力!$I$5=\"高校男子\",\"1\",IF(入力!$I$5=\"高校女子\",\"2\")))","v":""},{"$f":"IF(入力!H99=\"\",\"\",入力!I99)","v":""},{"$f":"IF(入力!H99=\"\",\"\",入力!J99)","v":""},"",{"$f":"IF(入力!H99=\"\",\"\",入力!$G$5)","v":""}]
[187,{"$f":"IF(入力!H100=\"\",\"\",入力!G100)","v":""},{"$f":"IF(入力!H100=\"\",\"\",入力!H100)","v":""},{"$f":"IF(入力!H100=\"\",\"\",IF(入力!$I$5=\"高校男子\",\"1\",IF(入力!$I$5=\"高校女子\",\"2\")))","v":""},{"$f":"IF(入力!H100=\"\",\"\",入力!I100)","v":""},{"$f":"IF(入力!H100=\"\",\"\",入力!J100)","v":""},"",{"$f":"IF(入力!H100=\"\",\"\",入力!$G$5)","v":""}]
[188,{"$f":"IF(入力!H101=\"\",\"\",入力!G101)","v":""},{"$f":"IF(入力!H101=\"\",\"\",入力!H101)","v":""},{"$f":"IF(入力!H101=\"\",\"\",IF(入力!$I$5=\"高校男子\",\"1\",IF(入力!$I$5=\"高校女子\",\"2\")))","v":""},{"$f":"IF(入力!H101=\"\",\"\",入力!I101)","v":""},{"$f":"IF(入力!H101=\"\",\"\",入力!J101)","v":""},"",{"$f":"IF(入力!H101=\"\",\"\",入力!$G$5)","v":""}]
[189,{"$f":"IF(入力!H102=\"\",\"\",入力!G102)","v":""},{"$f":"IF(入力!H102=\"\",\"\",入力!H102)","v":""},{"$f":"IF(入力!H102=\"\",\"\",IF(入力!$I$5=\"高校男子\",\"1\",IF(入力!$I$5=\"高校女子\",\"2\")))","v":""},{"$f":"IF(入力!H102=\"\",\"\",入力!I102)","v":""},{"$f":"IF(入力!H102=\"\",\"\",入力!J102)","v":""},"",{"$f":"IF(入力!H102=\"\",\"\",入力!$G$5)","v":""}]
[190,{"$f":"IF(入力!H103=\"\",\"\",入力!G103)","v":""},{"$f":"IF(入力!H103=\"\",\"\",入力!H103)","v":""},{"$f":"IF(入力!H103=\"\",\"\",IF(入力!$I$5=\"高校男子\",\"1\",IF(入力!$I$5=\"高校女子\",\"2\")))","v":""},{"$f":"IF(入力!H103=\"\",\"\",入力!I103)","v":""},{"$f":"IF(入力!H103=\"\",\"\",入力!J103)","v":""},"",{"$f":"IF(入力!H103=\"\",\"\",入力!$G$5)","v":""}]
[191,{"$f":"IF(入力!H104=\"\",\"\",入力!G104)","v":""},{"$f":"IF(入力!H104=\"\",\"\",入力!H104)","v":""},{"$f":"IF(入力!H104=\"\",\"\",IF(入力!$I$5=\"高校男子\",\"1\",IF(入力!$I$5=\"高校女子\",\"2\")))","v":""},{"$f":"IF(入力!H104=\"\",\"\",入力!I104)","v":""},{"$f":"IF(入力!H104=\"\",\"\",入力!J104)","v":""},"",{"$f":"IF(入力!H104=\"\",\"\",入力!$G$5)","v":""}]
[192,{"$f":"IF(入力!H105=\"\",\"\",入力!G105)","v":""},{"$f":"IF(入力!H105=\"\",\"\",入力!H105)","v":""},{"$f":"IF(入力!H105=\"\",\"\",IF(入力!$I$5=\"高校男子\",\"1\",IF(入力!$I$5=\"高校女子\",\"2\")))","v":""},{"$f":"IF(入力!H105=\"\",\"\",入力!I105)","v":""},{"$f":"IF(入力!H105=\"\",\"\",入力!J105)","v":""},"",{"$f":"IF(入力!H105=\"\",\"\",入力!$G$5)","v":""}]
[193,{"$f":"IF(入力!H106=\"\",\"\",入力!G106)","v":""},{"$f":"IF(入力!H106=\"\",\"\",入力!H106)","v":""},{"$f":"IF(入力!H106=\"\",\"\",IF(入力!$I$5=\"高校男子\",\"1\",IF(入力!$I$5=\"高校女子\",\"2\")))","v":""},{"$f":"IF(入力!H106=\"\",\"\",入力!I106)","v":""},{"$f":"IF(入力!H106=\"\",\"\",入力!J106)","v":""},{"$f":"IF(H194=\"\",\"\",VLOOKUP(H194,syozoku,4,FALSE))","v":""},{"$f":"IF(入力!H106=\"\",\"\",入力!$G$5)","v":""}]
[194,{"$f":"IF(入力!H107=\"\",\"\",入力!G107)","v":""},{"$f":"IF(入力!H107=\"\",\"\",入力!H107)","v":""},{"$f":"IF(入力!H107=\"\",\"\",IF(入力!$I$5=\"高校男子\",\"1\",IF(入力!$I$5=\"高校女子\",\"2\")))","v":""},{"$f":"IF(入力!H107=\"\",\"\",入力!I107)","v":""},{"$f":"IF(入力!H107=\"\",\"\",入力!J107)","v":""},"",{"$f":"IF(入力!H107=\"\",\"\",入力!$G$5)","v":""}]
[195,{"$f":"IF(入力!H108=\"\",\"\",入力!G108)","v":""},{"$f":"IF(入力!H108=\"\",\"\",入力!H108)","v":""},{"$f":"IF(入力!H108=\"\",\"\",IF(入力!$I$5=\"高校男子\",\"1\",IF(入力!$I$5=\"高校女子\",\"2\")))","v":""},{"$f":"IF(入力!H108=\"\",\"\",入力!I108)","v":""},{"$f":"IF(入力!H108=\"\",\"\",入力!J108)","v":""},"",{"$f":"IF(入力!H108=\"\",\"\",入力!$G$5)","v":""}]
[196,{"$f":"IF(入力!H109=\"\",\"\",入力!G109)","v":""},{"$f":"IF(入力!H109=\"\",\"\",入力!H109)","v":""},{"$f":"IF(入力!H109=\"\",\"\",IF(入力!$I$5=\"高校男子\",\"1\",IF(入力!$I$5=\"高校女子\",\"2\")))","v":""},{"$f":"IF(入力!H109=\"\",\"\",入力!I109)","v":""},{"$f":"IF(入力!H109=\"\",\"\",入力!J109)","v":""},"",{"$f":"IF(入力!H109=\"\",\"\",入力!$G$5)","v":""}]
[197,{"$f":"IF(入力!H110=\"\",\"\",入力!G110)","v":""},{"$f":"IF(入力!H110=\"\",\"\",入力!H110)","v":""},{"$f":"IF(入力!H110=\"\",\"\",IF(入力!$I$5=\"高校男子\",\"1\",IF(入力!$I$5=\"高校女子\",\"2\")))","v":""},{"$f":"IF(入力!H110=\"\",\"\",入力!I110)","v":""},{"$f":"IF(入力!H110=\"\",\"\",入力!J110)","v":""},"",{"$f":"IF(入力!H110=\"\",\"\",入力!$G$5)","v":""}]
[198,{"$f":"IF(入力!H111=\"\",\"\",入力!G111)","v":""},{"$f":"IF(入力!H111=\"\",\"\",入力!H111)","v":""},{"$f":"IF(入力!H111=\"\",\"\",IF(入力!$I$5=\"高校男子\",\"1\",IF(入力!$I$5=\"高校女子\",\"2\")))","v":""},{"$f":"IF(入力!H111=\"\",\"\",入力!I111)","v":""},{"$f":"IF(入力!H111=\"\",\"\",入力!J111)","v":""},"",{"$f":"IF(入力!H111=\"\",\"\",入力!$G$5)","v":""}]
[199,{"$f":"IF(入力!H112=\"\",\"\",入力!G112)","v":""},{"$f":"IF(入力!H112=\"\",\"\",入力!H112)","v":""},{"$f":"IF(入力!H112=\"\",\"\",IF(入力!$I$5=\"高校男子\",\"1\",IF(入力!$I$5=\"高校女子\",\"2\")))","v":""},{"$f":"IF(入力!H112=\"\",\"\",入力!I112)","v":""},{"$f":"IF(入力!H112=\"\",\"\",入力!J112)","v":""},"",{"$f":"IF(入力!H112=\"\",\"\",入力!$G$5)","v":""}]
[200,{"$f":"IF(入力!H113=\"\",\"\",入力!G113)","v":""},{"$f":"IF(入力!H113=\"\",\"\",入力!H113)","v":""},{"$f":"IF(入力!H113=\"\",\"\",IF(入力!$I$5=\"高校男子\",\"1\",IF(入力!$I$5=\"高校女子\",\"2\")))","v":""},{"$f":"IF(入力!H113=\"\",\"\",入力!I113)","v":""},{"$f":"IF(入力!H113=\"\",\"\",入力!J113)","v":""},"",{"$f":"IF(入力!H113=\"\",\"\",入力!$G$5)","v":""}]