{"text_format":"1","workbook":"xlsx","n_sheets":9,"sheets":["使用上の注意","個人種目登録","リレー登録","選手DBﾃﾞｰﾀ取得","ﾘﾚｰﾃﾞｰﾀ取得","所属データ","基礎データ","競技データ","処理用"],"not_rendered":{"charts":0,"images":0,"macros":1,"external_links":0,"defined_names":9,"comments":0,"pivot_tables":0},"unopened":[],"bounds":{"document_bytes":16777216,"sheet_cells":100000,"rows_first":2000,"rows_last":500,"rows_between":2000,"halvings":0,"cell_chars":16384,"cell_head_chars":4096},"cells_cut":0,"cells_raw":0,"read":"whole","date_system":"1900"}

{"sheet":"使用上の注意","index":0,"n_rows":40,"n_cols":5,"rows_kept":40,"cut":false,"hidden":false,"merged":[]}
[]
[null,"2023　日清食品カップ　兼　第1回U-12選抜陸上競技記録会　申込"]
[]
[null,"＊使用上の注意＊　必ずマクロを有効にしてご利用ください！"]
[]
[null,"１　クラブ名の入力"]
[null,null,"カーソルをセルにあわせ、表示されるリストの中から選択してください。"]
[null,null,"審判員については、直接清水先生までメール等で連絡してください。"]
[null,"２　名前（漢字氏名）の入力"]
[null,null,"名前（漢字氏名）の入力は全角５文字分を基本としてスペースを入れてください。"]
[null,null,"例","あ○○○い","※４文字以下の名前は、姓名の間にスペースを入れて５文字に合わせる。"]
[null,null,null,"あ○○いう","　（○は全角スペース）"]
[null,null,null,"あい○○う"]
[null,null,null,"あい○うえ"]
[null,null,null,"あいう○え"]
[null,null,null,"あいうえお","※５文字以上の名前は、姓名の間にスペースを入れない。"]
[null,null,null,"あいうえおか"]
[]
[null,"３　名前（ｶﾅ氏名）の入力"]
[null,null,"名前（ｶﾅ氏名）は、半角カタカナで入力してください。（カーソルを合わせると自動的に半角カタカナモードになります）"]
[null,null,"文字数にかかわらず、姓と名の間に半角スペースを入れてください。"]
[null,null,"例","ｱｲ*ｳｴｵ","　（*は半角スペース）"]
[null,null,null,"ｱｲｳｴ*ｵｶ"]
[]
[null,"４　学年、性別の入力"]
[null,null,"カーソルをセルにあわせ、表示されるリストの中から選択してください。"]
[null,null,"中学生は中1～中3、未就学児は園を選んでください。"]
[]
[null,"５　学校ｺｰﾄﾞ、学校名の入力（自動入力にしましたので、入力不要です）"]
[null,null,"選手の学校を一覧表から探して、学校コードを入力してください。"]
[null,null,"学校名は自動的に表示されます。"]
[null,null,"中学生、未就学児、県外小学校在籍児童については、共通コードを入力しておき、備考欄に校園名を入力しておいてください。"]
[null,null,"プログラム編成時に学校コードを割り振ります。"]
[null,null,"共通コード","中学生：2001、未就学児：3001、県外小学生：4001"]
[]
[null,"６　種目名の入力"]
[null,null,"種目はセルの右側に出る▼を押して表示されるリストから選択してください。"]
[]
[null,"７　申し込み記録の入力"]
[null,null,"記録は１マス（セル）に一桁ずつの数を入力してください。"]

{"sheet":"個人種目登録","index":1,"n_rows":208,"n_cols":61,"rows_kept":208,"cut":false,"hidden":false,"merged":[[1,9,2,12],[1,13,2,14],[1,8,2,8],[7,9,7,11],[6,15,6,16],[6,30,6,32],[3,1,3,2],[3,3,3,7],[3,13,3,14],[3,9,3,12],[5,35,7,35],[5,2,7,2],[5,3,7,3],[5,8,7,8],[5,6,6,7],[6,12,6,14],[5,4,7,4],[7,12,7,14],[6,9,6,11],[5,5,7,5],[5,26,7,26],[5,27,5,34],[7,24,7,25],[5,9,5,16],[6,33,6,34],[7,27,7,29],[1,18,1,25],[7,30,7,32],[7,33,7,34],[7,15,7,16],[6,18,6,20],[5,18,5,25],[6,24,6,25],[7,18,7,20],[7,21,7,23],[5,17,7,17],[6,21,6,23],[3,19,3,21],[3,15,3,18],[3,22,3,25],[3,26,3,28],[6,27,6,29]]}
[null,null,null,null,null,null,null,null,null,null,null,null,null,null,null,null,null,null,null,null,null,null,null,null,null,null,null,null,null,null,null,null,null,null,null,null,null,null,null,null,null,null,null,null,null,null,null,null,null,null,null,null,null,null,null,null,null,null,null,{"$f":"IF(AJ1=\"親子リレー申込\",\"R025\"&AQ1,\"\")","v":""}]
[null,{"$f":"使用上の注意!B2","v":"2023　日清食品カップ　兼　第1回U-12選抜陸上競技記録会　申込"},null,null,null,null,null,null,"プロ申込数","リレーチーム数",null,null,null,{"$f":"リレー登録!O1","v":0},null,null,null,null,"コード一覧表を見る",null,null,null,null,null,null,null,null,null,null,null,null,null,null,null,null,null,null,null,null,null,null,null,null,null,null,null,null,null,null,null,null,null,null,null,null,null,null,null,null,""]
[null,null,null,null,null,null,null,null,null,null,null,null,null,null,null,null,null,null,null,null,null,null,null,null,null,null,null,null,null,null,null,null,null,null,null,null,null,null,null,null,null,null,null,null,null,null,null,null,null,null,null,null,null,null,null,null,null,null,null,""]
[null,"クラブ名",null,"群馬陸上競技協会",null,null,null,null,{"$f":"N4","v":0},"実参加人数",null,null,null,{"$f":"200-COUNTIF($C$9:$C$208,\"\")","v":0},null,"延べ参加個人種目数",null,null,null,{"$f":"600-COUNTIF(I9:I208,\"\")-COUNTIF(R9:R208,\"\")-COUNTIF(AA9:AA208,\"\")","v":0},null,null,"参加費用",null,null,null,"手計算でお願いします",null,null,null,null,null,null,null,null,null,null,null,null,null,null,null,null,null,null,null,null,null,null,null,null,null,null,null,null,null,null,null,null,""]
[null,null,null,null,null,null,null,null,{"$f":"IF($E5=\"\",\"\",VLOOKUP($E5,基礎データ!$N$3:$Q$10,2,FALSE))","v":""},null,null,null,null,null,null,null,null,{"$f":"IF($E5=\"\",\"\",VLOOKUP($E5,基礎データ!$N$3:$Q$10,3,FALSE))","v":""},null,null,null,null,null,null,null,null,{"$f":"IF($E5=\"\",\"\",VLOOKUP($E5,基礎データ!$N$3:$Q$10,4,FALSE))","v":""},null,null,null,null,null,null,null,null,null,null,null,null,null,null,null,null,null,null,null,null,null,null,null,null,null,null,null,null,null,null,null,null,""]
[null,null,"漢字氏名","ｶﾅ氏名","学年","性別","学校・クラブ名",null,"種目１","申込記録",null,null,null,null,null,null,null,"種目２","申込記録",null,null,null,null,null,null,null,"種目３","申込記録",null,null,null,null,null,null,null,"備考",null,null,"ｸﾗﾌﾞｺｰﾄﾞ",{"$f":"IF(D4=\"\",\"\",VLOOKUP(D4,基礎データ!B:C,2,FALSE))","v":10}]
[null,"No",null,null,null,null,null,null,null,"m",null,null,"cm",null,null,null,null,null,"m",null,null,"cm",null,null,null,null,null,"m",null,null,"cm",null,null,null,null,null,null,null,"ｸﾗﾌﾞDB",{"$f":"AN6*100","v":1000},null,null,null,null,null,null,null,null,null,null,null,null,null,null,null,null,null,null,null,"","３００ｍ"]
[null,null,null,null,null,null,"ｺｰﾄﾞ","学校・クラブ名",null,"分",null,null,"秒",null,null,"1/100秒",null,null,"分",null,null,"秒",null,null,"1/100秒",null,null,"分",null,null,"秒",null,null,"1/100秒",null,null,null,null,"№","選手No.","性別ｺｰﾄﾞ","選手DB","学年ｺｰﾄﾞ","氏名","KC","MC","種目1ｺｰﾄﾞ","S1","種目2ｺｰﾄﾞ","S2","種目3ｺｰﾄﾞ","S3","CK1","CK2","CK3","iserror",null,null,"count","","５００ｍ"]
[null,1,null,null,null,null,{"$f":"IF(C9=\"\",\"\",VLOOKUP($D$4,所属データ!$E:$H,4,FALSE))","v":""},{"$f":"IF(G9=\"\",\"\",VLOOKUP(G9,所属データ!$C:$G,4,0))","v":""},null,0,0,{"$f":"IF(I9=\"\",\"\",IF(I9=\"走幅跳\",\"ｍ\",IF(I9=\"立幅跳\",\"ｍ\",\"分\")))","v":""},0,0,{"$f":"IF(I9=\"\",\"\",IF(I9=\"走幅跳\",\"cm\",IF(I9=\"立幅跳\",\"cm\",\"秒\")))","v":""},null,null,null,0,0,{"$f":"IF(R9=\"\",\"\",IF(R9=\"走幅跳\",\"ｍ\",IF(R9=\"立幅跳\",\"ｍ\",\"分\")))","v":""},0,0,{"$f":"IF(R9=\"\",\"\",IF(R9=\"走幅跳\",\"cm\",IF(R9=\"立幅跳\",\"cm\",\"秒\")))","v":""},null,null,null,0,0,{"$f":"IF(AA9=\"\",\"\",IF(AA9=\"走幅跳\",\"ｍ\",IF(AA9=\"立幅跳\",\"ｍ\",\"分\")))","v":""},0,0,{"$f":"IF(AA9=\"\",\"\",IF(AA9=\"走幅跳\",\"cm\",IF(AA9=\"立幅跳\",\"cm\",\"秒\")))","v":""},null,null,null,null,null,1,{"$f":"IF(C9=\"\",\"\",$AN$7+B9)","v":""},{"$f":"IF(F9=\"\",\"\",VLOOKUP(F9,基礎データ!H:I,2,FALSE))","v":""},{"$f":"IF(C9=\"\",\"\",AO9*100000000+AN9)","v":""},{"$f":"IF($E9=\"\",\"\",VLOOKUP($E9,基礎データ!$E:$F,2,FALSE))","v":""},{"$f":"IF(C9=\"\",\"\",C9&\"(\"&E9&\")\")","v":""},{"$f":"IF(C9=\"\",\"\",$AN$6)","v":""},{"$f":"IF(G9=\"\",\"\",VLOOKUP(G9,所属データ!C:G,2,FALSE))","v":""},{"$f":"IF(I9=\"\",\"\",VLOOKUP(I9,基礎データ!K:L,2,FALSE))","v":""},{"$f":"IF(AU9=\"\",\"\",IF(AU9=\"R215\",AU9&\"00\"&\" 0\"&J9&K9&M9&N9&P9&Q9,IF(AU9=\"R220\",AU9&\"00\"&\" 0\"&J9&K9&M9&N9&P9&Q9,IF(AU9=\"R601\",AU9&\"00\"&\" 0\"&J9&K9&M9&N9&P9&Q9,AU9&AQ9&\" 0\"&J9&K9&M9&N9&P9&Q9))))","v":""},{"$f":"IF(R9=\"\",\"\",VLOOKUP(R9,基礎データ!K:L,2,FALSE))","v":""},{"$f":"IF(AW9=\"\",\"\",IF(AW9=\"R215\",AW9&\"00\"&\" 0\"&$S9&$T9&$V9&$W9&$Y9&$Z9,IF(AW9=\"R220\",AW9&\"00\"&\" 0\"&$S9&$T9&$V9&$W9&$Y9&$Z9,IF(AW9=\"R601\",AW9&\"00\"&\" 0\"&$S9&$T9&$V9&$W9&$Y9&$Z9,AW9&$AQ9&\" 0\"&$S9&$T9&$V9&$W9&$Y9&$Z9))))","v":""},{"$f":"IF(AA9=\"\",\"\",VLOOKUP(AA9,基礎データ!K:L,2,FALSE))","v":""},{"$f":"IF(AY9=\"\",\"\",IF(AY9=\"R215\",AY9&\"00\"&\" 0\"&AB9&AC9&AE9&AF9&AH9&AI9,IF(AY9=\"R220\",AY9&\"00\"&\" 0\"&AB9&AC9&AE9&AF9&AH9&AI9,IF(AY9=\"R601\",AY9&\"00\"&\" 0\"&AB9&AC9&AE9&AF9&AH9&AI9,AY9&AQ9&\" 0\"&AB9&AC9&AE9&AF9&AH9&AI9))))","v":""},{"$f":"IF(AV9=\"\",\"\",VLOOKUP(LEFT(AV9,6),競技データ!$C$2:$C$300,1,FALSE))","v":""},{"$f":"IF(AX9=\"\",\"\",VLOOKUP(LEFT(AX9,6),競技データ!$C$2:$C$300,1,FALSE))","v":""},{"$f":"IF(AZ9=\"\",\"\",VLOOKUP(LEFT(AZ9,6),競技データ!$C$2:$C$300,1,FALSE))","v":""},{"$f":"ISERROR(BA9)","v":false},{"$f":"ISERROR(BB9)","v":false},{"$f":"ISERROR(BC9)","v":false},{"$f":"COUNTIF(BD9:BF9,\"true\")","v":0},{"$f":"IF(AJ9=\"１００ｍ\",\"R025\"&AQ9,IF(AJ9=\"３００ｍ\",\"R026\"&AQ9,IF(AJ9=\"５００ｍ\",\"R027\"&AQ9,\"\")))","v":""}]
[null,2,null,null,null,null,{"$f":"IF(C10=\"\",\"\",VLOOKUP($D$4,所属データ!$E:$H,4,FALSE))","v":""},{"$f":"IF(G10=\"\",\"\",VLOOKUP(G10,所属データ!$C:$G,4,0))","v":""},null,0,0,{"$f":"IF(I10=\"\",\"\",IF(I10=\"走幅跳\",\"ｍ\",IF(I10=\"立幅跳\",\"ｍ\",\"分\")))","v":""},0,0,{"$f":"IF(I10=\"\",\"\",IF(I10=\"走幅跳\",\"cm\",IF(I10=\"立幅跳\",\"cm\",\"秒\")))","v":""},null,null,null,0,0,"",0,0,"",null,null,null,0,0,{"$f":"IF(AA10=\"\",\"\",IF(AA10=\"走幅跳\",\"ｍ\",IF(AA10=\"立幅跳\",\"ｍ\",\"分\")))","v":""},0,0,{"$f":"IF(AA10=\"\",\"\",IF(AA10=\"走幅跳\",\"cm\",IF(AA10=\"立幅跳\",\"cm\",\"秒\")))","v":""},null,null,null,null,null,2,{"$f":"IF(C10=\"\",\"\",$AN$7+B10)","v":""},{"$f":"IF(F10=\"\",\"\",VLOOKUP(F10,基礎データ!H:I,2,FALSE))","v":""},{"$f":"IF(C10=\"\",\"\",AO10*100000000+AN10)","v":""},{"$f":"IF($E10=\"\",\"\",VLOOKUP($E10,基礎データ!$E:$F,2,FALSE))","v":""},{"$f":"IF(C10=\"\",\"\",C10&\"(\"&E10&\")\")","v":""},{"$f":"IF(C10=\"\",\"\",$AN$6)","v":""},{"$f":"IF(G10=\"\",\"\",VLOOKUP(G10,所属データ!C:G,2,FALSE))","v":""},{"$f":"IF(I10=\"\",\"\",VLOOKUP(I10,基礎データ!K:L,2,FALSE))","v":""},{"$f":"IF(AU10=\"\",\"\",IF(AU10=\"R215\",AU10&\"00\"&\" 0\"&J10&K10&M10&N10&P10&Q10,IF(AU10=\"R220\",AU10&\"00\"&\" 0\"&J10&K10&M10&N10&P10&Q10,IF(AU10=\"R601\",AU10&\"00\"&\" 0\"&J10&K10&M10&N10&P10&Q10,AU10&AQ10&\" 0\"&J10&K10&M10&N10&P10&Q10))))","v":""},{"$f":"IF(R10=\"\",\"\",VLOOKUP(R10,基礎データ!K:L,2,FALSE))","v":""},{"$f":"IF(AW10=\"\",\"\",IF(AW10=\"R215\",AW10&\"00\"&\" 0\"&$S10&$T10&$V10&$W10&$Y10&$Z10,IF(AW10=\"R220\",AW10&\"00\"&\" 0\"&$S10&$T10&$V10&$W10&$Y10&$Z10,IF(AW10=\"R601\",AW10&\"00\"&\" 0\"&$S10&$T10&$V10&$W10&$Y10&$Z10,AW10&$AQ10&\" 0\"&$S10&$T10&$V10&$W10&$Y10&$Z10))))","v":""},{"$f":"IF(AA10=\"\",\"\",VLOOKUP(AA10,基礎データ!K:L,2,FALSE))","v":""},{"$f":"IF(AY10=\"\",\"\",IF(AY10=\"R215\",AY10&\"00\"&\" 0\"&AB10&AC10&AE10&AF10&AH10&AI10,IF(AY10=\"R220\",AY10&\"00\"&\" 0\"&AB10&AC10&AE10&AF10&AH10&AI10,IF(AY10=\"R601\",AY10&\"00\"&\" 0\"&AB10&AC10&AE10&AF10&AH10&AI10,AY10&AQ10&\" 0\"&AB10&AC10&AE10&AF10&AH10&AI10))))","v":""},{"$f":"IF(AV10=\"\",\"\",VLOOKUP(LEFT(AV10,6),競技データ!$C$2:$C$300,1,FALSE))","v":""},{"$f":"IF(AX10=\"\",\"\",VLOOKUP(LEFT(AX10,6),競技データ!$C$2:$C$300,1,FALSE))","v":""},{"$f":"IF(AZ10=\"\",\"\",VLOOKUP(LEFT(AZ10,6),競技データ!$C$2:$C$300,1,FALSE))","v":""},{"$f":"ISERROR(BA10)","v":false},{"$f":"ISERROR(BB10)","v":false},false,{"$f":"COUNTIF(BD10:BF10,\"true\")","v":0},{"$f":"IF(AJ10=\"１００ｍ\",\"R025\"&AQ10,IF(AJ10=\"３００ｍ\",\"R026\"&AQ10,IF(AJ10=\"５００ｍ\",\"R027\"&AQ10,\"\")))","v":""}]
[null,3,null,null,null,null,{"$f":"IF(C11=\"\",\"\",VLOOKUP($D$4,所属データ!$E:$H,4,FALSE))","v":""},{"$f":"IF(G11=\"\",\"\",VLOOKUP(G11,所属データ!$C:$G,4,0))","v":""},null,0,0,"",0,0,"",null,null,null,0,0,"",0,0,"",null,null,null,0,0,"",0,0,"",null,null,null,null,null,3,"",{"$f":"IF(F11=\"\",\"\",VLOOKUP(F11,基礎データ!H:I,2,FALSE))","v":""},"",{"$f":"IF($E11=\"\",\"\",VLOOKUP($E11,基礎データ!$E:$F,2,FALSE))","v":""},"","",{"$f":"IF(G11=\"\",\"\",VLOOKUP(G11,所属データ!C:G,2,FALSE))","v":""},{"$f":"IF(I11=\"\",\"\",VLOOKUP(I11,基礎データ!K:L,2,FALSE))","v":""},"",{"$f":"IF(R11=\"\",\"\",VLOOKUP(R11,基礎データ!K:L,2,FALSE))","v":""},"",{"$f":"IF(AA11=\"\",\"\",VLOOKUP(AA11,基礎データ!K:L,2,FALSE))","v":""},"",{"$f":"IF(AV11=\"\",\"\",VLOOKUP(LEFT(AV11,6),競技データ!$C$2:$C$300,1,FALSE))","v":""},{"$f":"IF(AX11=\"\",\"\",VLOOKUP(LEFT(AX11,6),競技データ!$C$2:$C$300,1,FALSE))","v":""},{"$f":"IF(AZ11=\"\",\"\",VLOOKUP(LEFT(AZ11,6),競技データ!$C$2:$C$300,1,FALSE))","v":""},false,false,false,0,""]
[null,4,null,null,null,null,{"$f":"IF(C12=\"\",\"\",VLOOKUP($D$4,所属データ!$E:$H,4,FALSE))","v":""},{"$f":"IF(G12=\"\",\"\",VLOOKUP(G12,所属データ!$C:$G,4,0))","v":""},null,0,0,"",0,0,"",null,null,null,0,0,"",0,0,"",null,null,null,0,0,"",0,0,"",null,null,null,null,null,4,"",{"$f":"IF(F12=\"\",\"\",VLOOKUP(F12,基礎データ!H:I,2,FALSE))","v":""},"",{"$f":"IF($E12=\"\",\"\",VLOOKUP($E12,基礎データ!$E:$F,2,FALSE))","v":""},"","",{"$f":"IF(G12=\"\",\"\",VLOOKUP(G12,所属データ!C:G,2,FALSE))","v":""},{"$f":"IF(I12=\"\",\"\",VLOOKUP(I12,基礎データ!K:L,2,FALSE))","v":""},"",{"$f":"IF(R12=\"\",\"\",VLOOKUP(R12,基礎データ!K:L,2,FALSE))","v":""},"",{"$f":"IF(AA12=\"\",\"\",VLOOKUP(AA12,基礎データ!K:L,2,FALSE))","v":""},"",{"$f":"IF(AV12=\"\",\"\",VLOOKUP(LEFT(AV12,6),競技データ!$C$2:$C$300,1,FALSE))","v":""},{"$f":"IF(AX12=\"\",\"\",VLOOKUP(LEFT(AX12,6),競技データ!$C$2:$C$300,1,FALSE))","v":""},{"$f":"IF(AZ12=\"\",\"\",VLOOKUP(LEFT(AZ12,6),競技データ!$C$2:$C$300,1,FALSE))","v":""},false,false,false,0,""]
[null,5,null,null,null,null,{"$f":"IF(C13=\"\",\"\",VLOOKUP($D$4,所属データ!$E:$H,4,FALSE))","v":""},{"$f":"IF(G13=\"\",\"\",VLOOKUP(G13,所属データ!$C:$G,4,0))","v":""},null,0,0,"",0,0,"",null,null,null,0,0,"",0,0,"",null,null,null,0,0,"",0,0,"",null,null,null,null,null,5,"",{"$f":"IF(F13=\"\",\"\",VLOOKUP(F13,基礎データ!H:I,2,FALSE))","v":""},"",{"$f":"IF($E13=\"\",\"\",VLOOKUP($E13,基礎データ!$E:$F,2,FALSE))","v":""},"","",{"$f":"IF(G13=\"\",\"\",VLOOKUP(G13,所属データ!C:G,2,FALSE))","v":""},{"$f":"IF(I13=\"\",\"\",VLOOKUP(I13,基礎データ!K:L,2,FALSE))","v":""},"",{"$f":"IF(R13=\"\",\"\",VLOOKUP(R13,基礎データ!K:L,2,FALSE))","v":""},"",{"$f":"IF(AA13=\"\",\"\",VLOOKUP(AA13,基礎データ!K:L,2,FALSE))","v":""},"",{"$f":"IF(AV13=\"\",\"\",VLOOKUP(LEFT(AV13,6),競技データ!$C$2:$C$300,1,FALSE))","v":""},{"$f":"IF(AX13=\"\",\"\",VLOOKUP(LEFT(AX13,6),競技データ!$C$2:$C$300,1,FALSE))","v":""},{"$f":"IF(AZ13=\"\",\"\",VLOOKUP(LEFT(AZ13,6),競技データ!$C$2:$C$300,1,FALSE))","v":""},false,false,false,0,""]
[null,6,null,null,null,null,{"$f":"IF(C14=\"\",\"\",VLOOKUP($D$4,所属データ!$E:$H,4,FALSE))","v":""},{"$f":"IF(G14=\"\",\"\",VLOOKUP(G14,所属データ!$C:$G,4,0))","v":""},null,0,0,"",0,0,"",null,null,null,0,0,"",0,0,"",null,null,null,0,0,"",0,0,"",null,null,null,null,null,6,"",{"$f":"IF(F14=\"\",\"\",VLOOKUP(F14,基礎データ!H:I,2,FALSE))","v":""},"",{"$f":"IF($E14=\"\",\"\",VLOOKUP($E14,基礎データ!$E:$F,2,FALSE))","v":""},"","",{"$f":"IF(G14=\"\",\"\",VLOOKUP(G14,所属データ!C:G,2,FALSE))","v":""},{"$f":"IF(I14=\"\",\"\",VLOOKUP(I14,基礎データ!K:L,2,FALSE))","v":""},"",{"$f":"IF(R14=\"\",\"\",VLOOKUP(R14,基礎データ!K:L,2,FALSE))","v":""},"",{"$f":"IF(AA14=\"\",\"\",VLOOKUP(AA14,基礎データ!K:L,2,FALSE))","v":""},"",{"$f":"IF(AV14=\"\",\"\",VLOOKUP(LEFT(AV14,6),競技データ!$C$2:$C$300,1,FALSE))","v":""},{"$f":"IF(AX14=\"\",\"\",VLOOKUP(LEFT(AX14,6),競技データ!$C$2:$C$300,1,FALSE))","v":""},{"$f":"IF(AZ14=\"\",\"\",VLOOKUP(LEFT(AZ14,6),競技データ!$C$2:$C$300,1,FALSE))","v":""},false,false,false,0,""]
[null,7,null,null,null,null,{"$f":"IF(C15=\"\",\"\",VLOOKUP($D$4,所属データ!$E:$H,4,FALSE))","v":""},{"$f":"IF(G15=\"\",\"\",VLOOKUP(G15,所属データ!$C:$G,4,0))","v":""},null,0,0,"",0,0,"",null,null,null,0,0,"",0,0,"",null,null,null,0,0,"",0,0,"",null,null,null,null,null,7,"",{"$f":"IF(F15=\"\",\"\",VLOOKUP(F15,基礎データ!H:I,2,FALSE))","v":""},"",{"$f":"IF($E15=\"\",\"\",VLOOKUP($E15,基礎データ!$E:$F,2,FALSE))","v":""},"","",{"$f":"IF(G15=\"\",\"\",VLOOKUP(G15,所属データ!C:G,2,FALSE))","v":""},{"$f":"IF(I15=\"\",\"\",VLOOKUP(I15,基礎データ!K:L,2,FALSE))","v":""},"",{"$f":"IF(R15=\"\",\"\",VLOOKUP(R15,基礎データ!K:L,2,FALSE))","v":""},"",{"$f":"IF(AA15=\"\",\"\",VLOOKUP(AA15,基礎データ!K:L,2,FALSE))","v":""},"",{"$f":"IF(AV15=\"\",\"\",VLOOKUP(LEFT(AV15,6),競技データ!$C$2:$C$300,1,FALSE))","v":""},{"$f":"IF(AX15=\"\",\"\",VLOOKUP(LEFT(AX15,6),競技データ!$C$2:$C$300,1,FALSE))","v":""},{"$f":"IF(AZ15=\"\",\"\",VLOOKUP(LEFT(AZ15,6),競技データ!$C$2:$C$300,1,FALSE))","v":""},false,false,false,0,""]
[null,8,null,null,null,null,{"$f":"IF(C16=\"\",\"\",VLOOKUP($D$4,所属データ!$E:$H,4,FALSE))","v":""},{"$f":"IF(G16=\"\",\"\",VLOOKUP(G16,所属データ!$C:$G,4,0))","v":""},null,0,0,"",0,0,"",null,null,null,0,0,"",0,0,"",null,null,null,0,0,"",0,0,"",null,null,null,null,null,8,"",{"$f":"IF(F16=\"\",\"\",VLOOKUP(F16,基礎データ!H:I,2,FALSE))","v":""},"",{"$f":"IF($E16=\"\",\"\",VLOOKUP($E16,基礎データ!$E:$F,2,FALSE))","v":""},"","",{"$f":"IF(G16=\"\",\"\",VLOOKUP(G16,所属データ!C:G,2,FALSE))","v":""},{"$f":"IF(I16=\"\",\"\",VLOOKUP(I16,基礎データ!K:L,2,FALSE))","v":""},"",{"$f":"IF(R16=\"\",\"\",VLOOKUP(R16,基礎データ!K:L,2,FALSE))","v":""},"",{"$f":"IF(AA16=\"\",\"\",VLOOKUP(AA16,基礎データ!K:L,2,FALSE))","v":""},"",{"$f":"IF(AV16=\"\",\"\",VLOOKUP(LEFT(AV16,6),競技データ!$C$2:$C$300,1,FALSE))","v":""},{"$f":"IF(AX16=\"\",\"\",VLOOKUP(LEFT(AX16,6),競技データ!$C$2:$C$300,1,FALSE))","v":""},{"$f":"IF(AZ16=\"\",\"\",VLOOKUP(LEFT(AZ16,6),競技データ!$C$2:$C$300,1,FALSE))","v":""},false,false,false,0,""]
[null,9,null,null,null,null,{"$f":"IF(C17=\"\",\"\",VLOOKUP($D$4,所属データ!$E:$H,4,FALSE))","v":""},{"$f":"IF(G17=\"\",\"\",VLOOKUP(G17,所属データ!$C:$G,4,0))","v":""},null,0,0,"",0,0,"",null,null,null,0,0,"",0,0,"",null,null,null,0,0,"",0,0,"",null,null,null,null,null,9,"",{"$f":"IF(F17=\"\",\"\",VLOOKUP(F17,基礎データ!H:I,2,FALSE))","v":""},"",{"$f":"IF($E17=\"\",\"\",VLOOKUP($E17,基礎データ!$E:$F,2,FALSE))","v":""},"","",{"$f":"IF(G17=\"\",\"\",VLOOKUP(G17,所属データ!C:G,2,FALSE))","v":""},{"$f":"IF(I17=\"\",\"\",VLOOKUP(I17,基礎データ!K:L,2,FALSE))","v":""},"",{"$f":"IF(R17=\"\",\"\",VLOOKUP(R17,基礎データ!K:L,2,FALSE))","v":""},"",{"$f":"IF(AA17=\"\",\"\",VLOOKUP(AA17,基礎データ!K:L,2,FALSE))","v":""},"",{"$f":"IF(AV17=\"\",\"\",VLOOKUP(LEFT(AV17,6),競技データ!$C$2:$C$300,1,FALSE))","v":""},{"$f":"IF(AX17=\"\",\"\",VLOOKUP(LEFT(AX17,6),競技データ!$C$2:$C$300,1,FALSE))","v":""},{"$f":"IF(AZ17=\"\",\"\",VLOOKUP(LEFT(AZ17,6),競技データ!$C$2:$C$300,1,FALSE))","v":""},false,false,false,0,""]
[null,10,null,null,null,null,{"$f":"IF(C18=\"\",\"\",VLOOKUP($D$4,所属データ!$E:$H,4,FALSE))","v":""},{"$f":"IF(G18=\"\",\"\",VLOOKUP(G18,所属データ!$C:$G,4,0))","v":""},null,0,0,"",0,0,"",null,null,null,0,0,"",0,0,"",null,null,null,0,0,"",0,0,"",null,null,null,null,null,10,"",{"$f":"IF(F18=\"\",\"\",VLOOKUP(F18,基礎データ!H:I,2,FALSE))","v":""},"",{"$f":"IF($E18=\"\",\"\",VLOOKUP($E18,基礎データ!$E:$F,2,FALSE))","v":""},"","",{"$f":"IF(G18=\"\",\"\",VLOOKUP(G18,所属データ!C:G,2,FALSE))","v":""},{"$f":"IF(I18=\"\",\"\",VLOOKUP(I18,基礎データ!K:L,2,FALSE))","v":""},"",{"$f":"IF(R18=\"\",\"\",VLOOKUP(R18,基礎データ!K:L,2,FALSE))","v":""},"",{"$f":"IF(AA18=\"\",\"\",VLOOKUP(AA18,基礎データ!K:L,2,FALSE))","v":""},"",{"$f":"IF(AV18=\"\",\"\",VLOOKUP(LEFT(AV18,6),競技データ!$C$2:$C$300,1,FALSE))","v":""},{"$f":"IF(AX18=\"\",\"\",VLOOKUP(LEFT(AX18,6),競技データ!$C$2:$C$300,1,FALSE))","v":""},{"$f":"IF(AZ18=\"\",\"\",VLOOKUP(LEFT(AZ18,6),競技データ!$C$2:$C$300,1,FALSE))","v":""},false,false,false,0,""]
[null,11,null,null,null,null,{"$f":"IF(C19=\"\",\"\",VLOOKUP($D$4,所属データ!$E:$H,4,FALSE))","v":""},{"$f":"IF(G19=\"\",\"\",VLOOKUP(G19,所属データ!$C:$G,4,0))","v":""},null,0,0,"",0,0,"",null,null,null,0,0,"",0,0,"",null,null,null,0,0,"",0,0,"",null,null,null,null,null,11,"",{"$f":"IF(F19=\"\",\"\",VLOOKUP(F19,基礎データ!H:I,2,FALSE))","v":""},"",{"$f":"IF($E19=\"\",\"\",VLOOKUP($E19,基礎データ!$E:$F,2,FALSE))","v":""},"","",{"$f":"IF(G19=\"\",\"\",VLOOKUP(G19,所属データ!C:G,2,FALSE))","v":""},{"$f":"IF(I19=\"\",\"\",VLOOKUP(I19,基礎データ!K:L,2,FALSE))","v":""},"",{"$f":"IF(R19=\"\",\"\",VLOOKUP(R19,基礎データ!K:L,2,FALSE))","v":""},"",{"$f":"IF(AA19=\"\",\"\",VLOOKUP(AA19,基礎データ!K:L,2,FALSE))","v":""},"",{"$f":"IF(AV19=\"\",\"\",VLOOKUP(LEFT(AV19,6),競技データ!$C$2:$C$300,1,FALSE))","v":""},{"$f":"IF(AX19=\"\",\"\",VLOOKUP(LEFT(AX19,6),競技データ!$C$2:$C$300,1,FALSE))","v":""},{"$f":"IF(AZ19=\"\",\"\",VLOOKUP(LEFT(AZ19,6),競技データ!$C$2:$C$300,1,FALSE))","v":""},false,false,false,0,""]
[null,12,null,null,null,null,{"$f":"IF(C20=\"\",\"\",VLOOKUP($D$4,所属データ!$E:$H,4,FALSE))","v":""},{"$f":"IF(G20=\"\",\"\",VLOOKUP(G20,所属データ!$C:$G,4,0))","v":""},null,0,0,"",0,0,"",null,null,null,0,0,"",0,0,"",null,null,null,0,0,"",0,0,"",null,null,null,null,null,12,"",{"$f":"IF(F20=\"\",\"\",VLOOKUP(F20,基礎データ!H:I,2,FALSE))","v":""},"",{"$f":"IF($E20=\"\",\"\",VLOOKUP($E20,基礎データ!$E:$F,2,FALSE))","v":""},"","",{"$f":"IF(G20=\"\",\"\",VLOOKUP(G20,所属データ!C:G,2,FALSE))","v":""},{"$f":"IF(I20=\"\",\"\",VLOOKUP(I20,基礎データ!K:L,2,FALSE))","v":""},"",{"$f":"IF(R20=\"\",\"\",VLOOKUP(R20,基礎データ!K:L,2,FALSE))","v":""},"",{"$f":"IF(AA20=\"\",\"\",VLOOKUP(AA20,基礎データ!K:L,2,FALSE))","v":""},"",{"$f":"IF(AV20=\"\",\"\",VLOOKUP(LEFT(AV20,6),競技データ!$C$2:$C$300,1,FALSE))","v":""},{"$f":"IF(AX20=\"\",\"\",VLOOKUP(LEFT(AX20,6),競技データ!$C$2:$C$300,1,FALSE))","v":""},{"$f":"IF(AZ20=\"\",\"\",VLOOKUP(LEFT(AZ20,6),競技データ!$C$2:$C$300,1,FALSE))","v":""},false,false,false,0,""]
[null,13,null,null,null,null,{"$f":"IF(C21=\"\",\"\",VLOOKUP($D$4,所属データ!$E:$H,4,FALSE))","v":""},{"$f":"IF(G21=\"\",\"\",VLOOKUP(G21,所属データ!$C:$G,4,0))","v":""},null,0,0,"",0,0,"",null,null,null,0,0,"",0,0,"",null,null,null,0,0,"",0,0,"",null,null,null,null,null,13,"",{"$f":"IF(F21=\"\",\"\",VLOOKUP(F21,基礎データ!H:I,2,FALSE))","v":""},"",{"$f":"IF($E21=\"\",\"\",VLOOKUP($E21,基礎データ!$E:$F,2,FALSE))","v":""},"","",{"$f":"IF(G21=\"\",\"\",VLOOKUP(G21,所属データ!C:G,2,FALSE))","v":""},{"$f":"IF(I21=\"\",\"\",VLOOKUP(I21,基礎データ!K:L,2,FALSE))","v":""},"",{"$f":"IF(R21=\"\",\"\",VLOOKUP(R21,基礎データ!K:L,2,FALSE))","v":""},"",{"$f":"IF(AA21=\"\",\"\",VLOOKUP(AA21,基礎データ!K:L,2,FALSE))","v":""},"",{"$f":"IF(AV21=\"\",\"\",VLOOKUP(LEFT(AV21,6),競技データ!$C$2:$C$300,1,FALSE))","v":""},{"$f":"IF(AX21=\"\",\"\",VLOOKUP(LEFT(AX21,6),競技データ!$C$2:$C$300,1,FALSE))","v":""},{"$f":"IF(AZ21=\"\",\"\",VLOOKUP(LEFT(AZ21,6),競技データ!$C$2:$C$300,1,FALSE))","v":""},false,false,false,0,""]
[null,14,null,null,null,null,{"$f":"IF(C22=\"\",\"\",VLOOKUP($D$4,所属データ!$E:$H,4,FALSE))","v":""},{"$f":"IF(G22=\"\",\"\",VLOOKUP(G22,所属データ!$C:$G,4,0))","v":""},null,0,0,"",0,0,"",null,null,null,0,0,"",0,0,"",null,null,null,0,0,"",0,0,"",null,null,null,null,null,14,"",{"$f":"IF(F22=\"\",\"\",VLOOKUP(F22,基礎データ!H:I,2,FALSE))","v":""},"",{"$f":"IF($E22=\"\",\"\",VLOOKUP($E22,基礎データ!$E:$F,2,FALSE))","v":""},"","",{"$f":"IF(G22=\"\",\"\",VLOOKUP(G22,所属データ!C:G,2,FALSE))","v":""},{"$f":"IF(I22=\"\",\"\",VLOOKUP(I22,基礎データ!K:L,2,FALSE))","v":""},"",{"$f":"IF(R22=\"\",\"\",VLOOKUP(R22,基礎データ!K:L,2,FALSE))","v":""},"",{"$f":"IF(AA22=\"\",\"\",VLOOKUP(AA22,基礎データ!K:L,2,FALSE))","v":""},"",{"$f":"IF(AV22=\"\",\"\",VLOOKUP(LEFT(AV22,6),競技データ!$C$2:$C$300,1,FALSE))","v":""},{"$f":"IF(AX22=\"\",\"\",VLOOKUP(LEFT(AX22,6),競技データ!$C$2:$C$300,1,FALSE))","v":""},{"$f":"IF(AZ22=\"\",\"\",VLOOKUP(LEFT(AZ22,6),競技データ!$C$2:$C$300,1,FALSE))","v":""},false,false,false,0,""]
[null,15,null,null,null,null,{"$f":"IF(C23=\"\",\"\",VLOOKUP($D$4,所属データ!$E:$H,4,FALSE))","v":""},{"$f":"IF(G23=\"\",\"\",VLOOKUP(G23,所属データ!$C:$G,4,0))","v":""},null,0,0,"",0,0,"",null,null,null,0,0,"",0,0,"",null,null,null,0,0,"",0,0,"",null,null,null,null,null,15,"",{"$f":"IF(F23=\"\",\"\",VLOOKUP(F23,基礎データ!H:I,2,FALSE))","v":""},"",{"$f":"IF($E23=\"\",\"\",VLOOKUP($E23,基礎データ!$E:$F,2,FALSE))","v":""},"","",{"$f":"IF(G23=\"\",\"\",VLOOKUP(G23,所属データ!C:G,2,FALSE))","v":""},{"$f":"IF(I23=\"\",\"\",VLOOKUP(I23,基礎データ!K:L,2,FALSE))","v":""},"",{"$f":"IF(R23=\"\",\"\",VLOOKUP(R23,基礎データ!K:L,2,FALSE))","v":""},"",{"$f":"IF(AA23=\"\",\"\",VLOOKUP(AA23,基礎データ!K:L,2,FALSE))","v":""},"",{"$f":"IF(AV23=\"\",\"\",VLOOKUP(LEFT(AV23,6),競技データ!$C$2:$C$300,1,FALSE))","v":""},{"$f":"IF(AX23=\"\",\"\",VLOOKUP(LEFT(AX23,6),競技データ!$C$2:$C$300,1,FALSE))","v":""},{"$f":"IF(AZ23=\"\",\"\",VLOOKUP(LEFT(AZ23,6),競技データ!$C$2:$C$300,1,FALSE))","v":""},false,false,false,0,""]
[null,16,null,null,null,null,{"$f":"IF(C24=\"\",\"\",VLOOKUP($D$4,所属データ!$E:$H,4,FALSE))","v":""},{"$f":"IF(G24=\"\",\"\",VLOOKUP(G24,所属データ!$C:$G,4,0))","v":""},null,0,0,"",0,0,"",null,null,null,0,0,"",0,0,"",null,null,null,0,0,"",0,0,"",null,null,null,null,null,16,"",{"$f":"IF(F24=\"\",\"\",VLOOKUP(F24,基礎データ!H:I,2,FALSE))","v":""},"",{"$f":"IF($E24=\"\",\"\",VLOOKUP($E24,基礎データ!$E:$F,2,FALSE))","v":""},"","",{"$f":"IF(G24=\"\",\"\",VLOOKUP(G24,所属データ!C:G,2,FALSE))","v":""},{"$f":"IF(I24=\"\",\"\",VLOOKUP(I24,基礎データ!K:L,2,FALSE))","v":""},"",{"$f":"IF(R24=\"\",\"\",VLOOKUP(R24,基礎データ!K:L,2,FALSE))","v":""},"",{"$f":"IF(AA24=\"\",\"\",VLOOKUP(AA24,基礎データ!K:L,2,FALSE))","v":""},"",{"$f":"IF(AV24=\"\",\"\",VLOOKUP(LEFT(AV24,6),競技データ!$C$2:$C$300,1,FALSE))","v":""},{"$f":"IF(AX24=\"\",\"\",VLOOKUP(LEFT(AX24,6),競技データ!$C$2:$C$300,1,FALSE))","v":""},{"$f":"IF(AZ24=\"\",\"\",VLOOKUP(LEFT(AZ24,6),競技データ!$C$2:$C$300,1,FALSE))","v":""},false,false,false,0,""]
[null,17,null,null,null,null,{"$f":"IF(C25=\"\",\"\",VLOOKUP($D$4,所属データ!$E:$H,4,FALSE))","v":""},{"$f":"IF(G25=\"\",\"\",VLOOKUP(G25,所属データ!$C:$G,4,0))","v":""},null,0,0,"",0,0,"",null,null,null,0,0,"",0,0,"",null,null,null,0,0,"",0,0,"",null,null,null,null,null,17,"",{"$f":"IF(F25=\"\",\"\",VLOOKUP(F25,基礎データ!H:I,2,FALSE))","v":""},"",{"$f":"IF($E25=\"\",\"\",VLOOKUP($E25,基礎データ!$E:$F,2,FALSE))","v":""},"","",{"$f":"IF(G25=\"\",\"\",VLOOKUP(G25,所属データ!C:G,2,FALSE))","v":""},{"$f":"IF(I25=\"\",\"\",VLOOKUP(I25,基礎データ!K:L,2,FALSE))","v":""},"",{"$f":"IF(R25=\"\",\"\",VLOOKUP(R25,基礎データ!K:L,2,FALSE))","v":""},"",{"$f":"IF(AA25=\"\",\"\",VLOOKUP(AA25,基礎データ!K:L,2,FALSE))","v":""},"",{"$f":"IF(AV25=\"\",\"\",VLOOKUP(LEFT(AV25,6),競技データ!$C$2:$C$300,1,FALSE))","v":""},{"$f":"IF(AX25=\"\",\"\",VLOOKUP(LEFT(AX25,6),競技データ!$C$2:$C$300,1,FALSE))","v":""},{"$f":"IF(AZ25=\"\",\"\",VLOOKUP(LEFT(AZ25,6),競技データ!$C$2:$C$300,1,FALSE))","v":""},false,false,false,0,""]
[null,18,null,null,null,null,{"$f":"IF(C26=\"\",\"\",VLOOKUP($D$4,所属データ!$E:$H,4,FALSE))","v":""},{"$f":"IF(G26=\"\",\"\",VLOOKUP(G26,所属データ!$C:$G,4,0))","v":""},null,0,0,"",0,0,"",null,null,null,0,0,"",0,0,"",null,null,null,0,0,"",0,0,"",null,null,null,null,null,18,"",{"$f":"IF(F26=\"\",\"\",VLOOKUP(F26,基礎データ!H:I,2,FALSE))","v":""},"",{"$f":"IF($E26=\"\",\"\",VLOOKUP($E26,基礎データ!$E:$F,2,FALSE))","v":""},"","",{"$f":"IF(G26=\"\",\"\",VLOOKUP(G26,所属データ!C:G,2,FALSE))","v":""},{"$f":"IF(I26=\"\",\"\",VLOOKUP(I26,基礎データ!K:L,2,FALSE))","v":""},"",{"$f":"IF(R26=\"\",\"\",VLOOKUP(R26,基礎データ!K:L,2,FALSE))","v":""},"",{"$f":"IF(AA26=\"\",\"\",VLOOKUP(AA26,基礎データ!K:L,2,FALSE))","v":""},"",{"$f":"IF(AV26=\"\",\"\",VLOOKUP(LEFT(AV26,6),競技データ!$C$2:$C$300,1,FALSE))","v":""},{"$f":"IF(AX26=\"\",\"\",VLOOKUP(LEFT(AX26,6),競技データ!$C$2:$C$300,1,FALSE))","v":""},{"$f":"IF(AZ26=\"\",\"\",VLOOKUP(LEFT(AZ26,6),競技データ!$C$2:$C$300,1,FALSE))","v":""},false,false,false,0,""]
[null,19,null,null,null,null,{"$f":"IF(C27=\"\",\"\",VLOOKUP($D$4,所属データ!$E:$H,4,FALSE))","v":""},{"$f":"IF(G27=\"\",\"\",VLOOKUP(G27,所属データ!$C:$G,4,0))","v":""},null,0,0,"",0,0,"",null,null,null,0,0,"",0,0,"",null,null,null,0,0,"",0,0,"",null,null,null,null,null,19,"",{"$f":"IF(F27=\"\",\"\",VLOOKUP(F27,基礎データ!H:I,2,FALSE))","v":""},"",{"$f":"IF($E27=\"\",\"\",VLOOKUP($E27,基礎データ!$E:$F,2,FALSE))","v":""},"","",{"$f":"IF(G27=\"\",\"\",VLOOKUP(G27,所属データ!C:G,2,FALSE))","v":""},{"$f":"IF(I27=\"\",\"\",VLOOKUP(I27,基礎データ!K:L,2,FALSE))","v":""},"",{"$f":"IF(R27=\"\",\"\",VLOOKUP(R27,基礎データ!K:L,2,FALSE))","v":""},"",{"$f":"IF(AA27=\"\",\"\",VLOOKUP(AA27,基礎データ!K:L,2,FALSE))","v":""},"",{"$f":"IF(AV27=\"\",\"\",VLOOKUP(LEFT(AV27,6),競技データ!$C$2:$C$300,1,FALSE))","v":""},{"$f":"IF(AX27=\"\",\"\",VLOOKUP(LEFT(AX27,6),競技データ!$C$2:$C$300,1,FALSE))","v":""},{"$f":"IF(AZ27=\"\",\"\",VLOOKUP(LEFT(AZ27,6),競技データ!$C$2:$C$300,1,FALSE))","v":""},false,false,false,0,""]
[null,20,null,null,null,null,{"$f":"IF(C28=\"\",\"\",VLOOKUP($D$4,所属データ!$E:$H,4,FALSE))","v":""},{"$f":"IF(G28=\"\",\"\",VLOOKUP(G28,所属データ!$C:$G,4,0))","v":""},null,0,0,"",0,0,"",null,null,null,0,0,"",0,0,"",null,null,null,0,0,"",0,0,"",null,null,null,null,null,20,"",{"$f":"IF(F28=\"\",\"\",VLOOKUP(F28,基礎データ!H:I,2,FALSE))","v":""},"",{"$f":"IF($E28=\"\",\"\",VLOOKUP($E28,基礎データ!$E:$F,2,FALSE))","v":""},"","",{"$f":"IF(G28=\"\",\"\",VLOOKUP(G28,所属データ!C:G,2,FALSE))","v":""},{"$f":"IF(I28=\"\",\"\",VLOOKUP(I28,基礎データ!K:L,2,FALSE))","v":""},"",{"$f":"IF(R28=\"\",\"\",VLOOKUP(R28,基礎データ!K:L,2,FALSE))","v":""},"",{"$f":"IF(AA28=\"\",\"\",VLOOKUP(AA28,基礎データ!K:L,2,FALSE))","v":""},"",{"$f":"IF(AV28=\"\",\"\",VLOOKUP(LEFT(AV28,6),競技データ!$C$2:$C$300,1,FALSE))","v":""},{"$f":"IF(AX28=\"\",\"\",VLOOKUP(LEFT(AX28,6),競技データ!$C$2:$C$300,1,FALSE))","v":""},{"$f":"IF(AZ28=\"\",\"\",VLOOKUP(LEFT(AZ28,6),競技データ!$C$2:$C$300,1,FALSE))","v":""},false,false,false,0,""]
[null,21,null,null,null,null,{"$f":"IF(C29=\"\",\"\",VLOOKUP($D$4,所属データ!$E:$H,4,FALSE))","v":""},{"$f":"IF(G29=\"\",\"\",VLOOKUP(G29,所属データ!$C:$G,4,0))","v":""},null,0,0,"",0,0,"",null,null,null,0,0,"",0,0,"",null,null,null,0,0,"",0,0,"",null,null,null,null,null,21,"",{"$f":"IF(F29=\"\",\"\",VLOOKUP(F29,基礎データ!H:I,2,FALSE))","v":""},"",{"$f":"IF($E29=\"\",\"\",VLOOKUP($E29,基礎データ!$E:$F,2,FALSE))","v":""},"","",{"$f":"IF(G29=\"\",\"\",VLOOKUP(G29,所属データ!C:G,2,FALSE))","v":""},{"$f":"IF(I29=\"\",\"\",VLOOKUP(I29,基礎データ!K:L,2,FALSE))","v":""},"",{"$f":"IF(R29=\"\",\"\",VLOOKUP(R29,基礎データ!K:L,2,FALSE))","v":""},"",{"$f":"IF(AA29=\"\",\"\",VLOOKUP(AA29,基礎データ!K:L,2,FALSE))","v":""},"",{"$f":"IF(AV29=\"\",\"\",VLOOKUP(LEFT(AV29,6),競技データ!$C$2:$C$300,1,FALSE))","v":""},{"$f":"IF(AX29=\"\",\"\",VLOOKUP(LEFT(AX29,6),競技データ!$C$2:$C$300,1,FALSE))","v":""},{"$f":"IF(AZ29=\"\",\"\",VLOOKUP(LEFT(AZ29,6),競技データ!$C$2:$C$300,1,FALSE))","v":""},false,false,false,0,""]
[null,22,null,null,null,null,{"$f":"IF(C30=\"\",\"\",VLOOKUP($D$4,所属データ!$E:$H,4,FALSE))","v":""},{"$f":"IF(G30=\"\",\"\",VLOOKUP(G30,所属データ!$C:$G,4,0))","v":""},null,0,0,"",0,0,"",null,null,null,0,0,"",0,0,"",null,null,null,0,0,"",0,0,"",null,null,null,null,null,22,"",{"$f":"IF(F30=\"\",\"\",VLOOKUP(F30,基礎データ!H:I,2,FALSE))","v":""},"",{"$f":"IF($E30=\"\",\"\",VLOOKUP($E30,基礎データ!$E:$F,2,FALSE))","v":""},"","",{"$f":"IF(G30=\"\",\"\",VLOOKUP(G30,所属データ!C:G,2,FALSE))","v":""},{"$f":"IF(I30=\"\",\"\",VLOOKUP(I30,基礎データ!K:L,2,FALSE))","v":""},"",{"$f":"IF(R30=\"\",\"\",VLOOKUP(R30,基礎データ!K:L,2,FALSE))","v":""},"",{"$f":"IF(AA30=\"\",\"\",VLOOKUP(AA30,基礎データ!K:L,2,FALSE))","v":""},"",{"$f":"IF(AV30=\"\",\"\",VLOOKUP(LEFT(AV30,6),競技データ!$C$2:$C$300,1,FALSE))","v":""},{"$f":"IF(AX30=\"\",\"\",VLOOKUP(LEFT(AX30,6),競技データ!$C$2:$C$300,1,FALSE))","v":""},{"$f":"IF(AZ30=\"\",\"\",VLOOKUP(LEFT(AZ30,6),競技データ!$C$2:$C$300,1,FALSE))","v":""},false,false,false,0,""]
[null,23,null,null,null,null,{"$f":"IF(C31=\"\",\"\",VLOOKUP($D$4,所属データ!$E:$H,4,FALSE))","v":""},{"$f":"IF(G31=\"\",\"\",VLOOKUP(G31,所属データ!$C:$G,4,0))","v":""},null,0,0,"",0,0,"",null,null,null,0,0,"",0,0,"",null,null,null,0,0,"",0,0,"",null,null,null,null,null,23,"",{"$f":"IF(F31=\"\",\"\",VLOOKUP(F31,基礎データ!H:I,2,FALSE))","v":""},"",{"$f":"IF($E31=\"\",\"\",VLOOKUP($E31,基礎データ!$E:$F,2,FALSE))","v":""},"","",{"$f":"IF(G31=\"\",\"\",VLOOKUP(G31,所属データ!C:G,2,FALSE))","v":""},{"$f":"IF(I31=\"\",\"\",VLOOKUP(I31,基礎データ!K:L,2,FALSE))","v":""},"",{"$f":"IF(R31=\"\",\"\",VLOOKUP(R31,基礎データ!K:L,2,FALSE))","v":""},"",{"$f":"IF(AA31=\"\",\"\",VLOOKUP(AA31,基礎データ!K:L,2,FALSE))","v":""},"",{"$f":"IF(AV31=\"\",\"\",VLOOKUP(LEFT(AV31,6),競技データ!$C$2:$C$300,1,FALSE))","v":""},{"$f":"IF(AX31=\"\",\"\",VLOOKUP(LEFT(AX31,6),競技データ!$C$2:$C$300,1,FALSE))","v":""},{"$f":"IF(AZ31=\"\",\"\",VLOOKUP(LEFT(AZ31,6),競技データ!$C$2:$C$300,1,FALSE))","v":""},false,false,false,0,""]
[null,24,null,null,null,null,{"$f":"IF(C32=\"\",\"\",VLOOKUP($D$4,所属データ!$E:$H,4,FALSE))","v":""},{"$f":"IF(G32=\"\",\"\",VLOOKUP(G32,所属データ!$C:$G,4,0))","v":""},null,0,0,"",0,0,"",null,null,null,0,0,"",0,0,"",null,null,null,0,0,"",0,0,"",null,null,null,null,null,24,"",{"$f":"IF(F32=\"\",\"\",VLOOKUP(F32,基礎データ!H:I,2,FALSE))","v":""},"",{"$f":"IF($E32=\"\",\"\",VLOOKUP($E32,基礎データ!$E:$F,2,FALSE))","v":""},"","",{"$f":"IF(G32=\"\",\"\",VLOOKUP(G32,所属データ!C:G,2,FALSE))","v":""},{"$f":"IF(I32=\"\",\"\",VLOOKUP(I32,基礎データ!K:L,2,FALSE))","v":""},"",{"$f":"IF(R32=\"\",\"\",VLOOKUP(R32,基礎データ!K:L,2,FALSE))","v":""},"",{"$f":"IF(AA32=\"\",\"\",VLOOKUP(AA32,基礎データ!K:L,2,FALSE))","v":""},"",{"$f":"IF(AV32=\"\",\"\",VLOOKUP(LEFT(AV32,6),競技データ!$C$2:$C$300,1,FALSE))","v":""},{"$f":"IF(AX32=\"\",\"\",VLOOKUP(LEFT(AX32,6),競技データ!$C$2:$C$300,1,FALSE))","v":""},{"$f":"IF(AZ32=\"\",\"\",VLOOKUP(LEFT(AZ32,6),競技データ!$C$2:$C$300,1,FALSE))","v":""},false,false,false,0,""]
[null,25,null,null,null,null,{"$f":"IF(C33=\"\",\"\",VLOOKUP($D$4,所属データ!$E:$H,4,FALSE))","v":""},{"$f":"IF(G33=\"\",\"\",VLOOKUP(G33,所属データ!$C:$G,4,0))","v":""},null,0,0,"",0,0,"",null,null,null,0,0,"",0,0,"",null,null,null,0,0,"",0,0,"",null,null,null,null,null,25,"",{"$f":"IF(F33=\"\",\"\",VLOOKUP(F33,基礎データ!H:I,2,FALSE))","v":""},"",{"$f":"IF($E33=\"\",\"\",VLOOKUP($E33,基礎データ!$E:$F,2,FALSE))","v":""},"","",{"$f":"IF(G33=\"\",\"\",VLOOKUP(G33,所属データ!C:G,2,FALSE))","v":""},{"$f":"IF(I33=\"\",\"\",VLOOKUP(I33,基礎データ!K:L,2,FALSE))","v":""},"",{"$f":"IF(R33=\"\",\"\",VLOOKUP(R33,基礎データ!K:L,2,FALSE))","v":""},"",{"$f":"IF(AA33=\"\",\"\",VLOOKUP(AA33,基礎データ!K:L,2,FALSE))","v":""},"",{"$f":"IF(AV33=\"\",\"\",VLOOKUP(LEFT(AV33,6),競技データ!$C$2:$C$300,1,FALSE))","v":""},{"$f":"IF(AX33=\"\",\"\",VLOOKUP(LEFT(AX33,6),競技データ!$C$2:$C$300,1,FALSE))","v":""},{"$f":"IF(AZ33=\"\",\"\",VLOOKUP(LEFT(AZ33,6),競技データ!$C$2:$C$300,1,FALSE))","v":""},false,false,false,0,""]
[null,26,null,null,null,null,{"$f":"IF(C34=\"\",\"\",VLOOKUP($D$4,所属データ!$E:$H,4,FALSE))","v":""},{"$f":"IF(G34=\"\",\"\",VLOOKUP(G34,所属データ!$C:$G,4,0))","v":""},null,0,0,"",0,0,"",null,null,null,0,0,"",0,0,"",null,null,null,0,0,"",0,0,"",null,null,null,null,null,26,"",{"$f":"IF(F34=\"\",\"\",VLOOKUP(F34,基礎データ!H:I,2,FALSE))","v":""},"",{"$f":"IF($E34=\"\",\"\",VLOOKUP($E34,基礎データ!$E:$F,2,FALSE))","v":""},"","",{"$f":"IF(G34=\"\",\"\",VLOOKUP(G34,所属データ!C:G,2,FALSE))","v":""},{"$f":"IF(I34=\"\",\"\",VLOOKUP(I34,基礎データ!K:L,2,FALSE))","v":""},"",{"$f":"IF(R34=\"\",\"\",VLOOKUP(R34,基礎データ!K:L,2,FALSE))","v":""},"",{"$f":"IF(AA34=\"\",\"\",VLOOKUP(AA34,基礎データ!K:L,2,FALSE))","v":""},"",{"$f":"IF(AV34=\"\",\"\",VLOOKUP(LEFT(AV34,6),競技データ!$C$2:$C$300,1,FALSE))","v":""},{"$f":"IF(AX34=\"\",\"\",VLOOKUP(LEFT(AX34,6),競技データ!$C$2:$C$300,1,FALSE))","v":""},{"$f":"IF(AZ34=\"\",\"\",VLOOKUP(LEFT(AZ34,6),競技データ!$C$2:$C$300,1,FALSE))","v":""},false,false,false,0,""]
[null,27,null,null,null,null,{"$f":"IF(C35=\"\",\"\",VLOOKUP($D$4,所属データ!$E:$H,4,FALSE))","v":""},{"$f":"IF(G35=\"\",\"\",VLOOKUP(G35,所属データ!$C:$G,4,0))","v":""},null,0,0,"",0,0,"",null,null,null,0,0,"",0,0,"",null,null,null,0,0,"",0,0,"",null,null,null,null,null,27,"",{"$f":"IF(F35=\"\",\"\",VLOOKUP(F35,基礎データ!H:I,2,FALSE))","v":""},"",{"$f":"IF($E35=\"\",\"\",VLOOKUP($E35,基礎データ!$E:$F,2,FALSE))","v":""},"","",{"$f":"IF(G35=\"\",\"\",VLOOKUP(G35,所属データ!C:G,2,FALSE))","v":""},{"$f":"IF(I35=\"\",\"\",VLOOKUP(I35,基礎データ!K:L,2,FALSE))","v":""},"",{"$f":"IF(R35=\"\",\"\",VLOOKUP(R35,基礎データ!K:L,2,FALSE))","v":""},"",{"$f":"IF(AA35=\"\",\"\",VLOOKUP(AA35,基礎データ!K:L,2,FALSE))","v":""},"",{"$f":"IF(AV35=\"\",\"\",VLOOKUP(LEFT(AV35,6),競技データ!$C$2:$C$300,1,FALSE))","v":""},{"$f":"IF(AX35=\"\",\"\",VLOOKUP(LEFT(AX35,6),競技データ!$C$2:$C$300,1,FALSE))","v":""},{"$f":"IF(AZ35=\"\",\"\",VLOOKUP(LEFT(AZ35,6),競技データ!$C$2:$C$300,1,FALSE))","v":""},false,false,false,0,""]
[null,28,null,null,null,null,{"$f":"IF(C36=\"\",\"\",VLOOKUP($D$4,所属データ!$E:$H,4,FALSE))","v":""},{"$f":"IF(G36=\"\",\"\",VLOOKUP(G36,所属データ!$C:$G,4,0))","v":""},null,0,0,"",0,0,"",null,null,null,0,0,"",0,0,"",null,null,null,0,0,"",0,0,"",null,null,null,null,null,28,"",{"$f":"IF(F36=\"\",\"\",VLOOKUP(F36,基礎データ!H:I,2,FALSE))","v":""},"",{"$f":"IF($E36=\"\",\"\",VLOOKUP($E36,基礎データ!$E:$F,2,FALSE))","v":""},"","",{"$f":"IF(G36=\"\",\"\",VLOOKUP(G36,所属データ!C:G,2,FALSE))","v":""},{"$f":"IF(I36=\"\",\"\",VLOOKUP(I36,基礎データ!K:L,2,FALSE))","v":""},"",{"$f":"IF(R36=\"\",\"\",VLOOKUP(R36,基礎データ!K:L,2,FALSE))","v":""},"",{"$f":"IF(AA36=\"\",\"\",VLOOKUP(AA36,基礎データ!K:L,2,FALSE))","v":""},"",{"$f":"IF(AV36=\"\",\"\",VLOOKUP(LEFT(AV36,6),競技データ!$C$2:$C$300,1,FALSE))","v":""},{"$f":"IF(AX36=\"\",\"\",VLOOKUP(LEFT(AX36,6),競技データ!$C$2:$C$300,1,FALSE))","v":""},{"$f":"IF(AZ36=\"\",\"\",VLOOKUP(LEFT(AZ36,6),競技データ!$C$2:$C$300,1,FALSE))","v":""},false,false,false,0,""]
[null,29,null,null,null,null,{"$f":"IF(C37=\"\",\"\",VLOOKUP($D$4,所属データ!$E:$H,4,FALSE))","v":""},{"$f":"IF(G37=\"\",\"\",VLOOKUP(G37,所属データ!$C:$G,4,0))","v":""},null,0,0,"",0,0,"",null,null,null,0,0,"",0,0,"",null,null,null,0,0,"",0,0,"",null,null,null,null,null,29,"",{"$f":"IF(F37=\"\",\"\",VLOOKUP(F37,基礎データ!H:I,2,FALSE))","v":""},"",{"$f":"IF($E37=\"\",\"\",VLOOKUP($E37,基礎データ!$E:$F,2,FALSE))","v":""},"","",{"$f":"IF(G37=\"\",\"\",VLOOKUP(G37,所属データ!C:G,2,FALSE))","v":""},{"$f":"IF(I37=\"\",\"\",VLOOKUP(I37,基礎データ!K:L,2,FALSE))","v":""},"",{"$f":"IF(R37=\"\",\"\",VLOOKUP(R37,基礎データ!K:L,2,FALSE))","v":""},"",{"$f":"IF(AA37=\"\",\"\",VLOOKUP(AA37,基礎データ!K:L,2,FALSE))","v":""},"",{"$f":"IF(AV37=\"\",\"\",VLOOKUP(LEFT(AV37,6),競技データ!$C$2:$C$300,1,FALSE))","v":""},{"$f":"IF(AX37=\"\",\"\",VLOOKUP(LEFT(AX37,6),競技データ!$C$2:$C$300,1,FALSE))","v":""},{"$f":"IF(AZ37=\"\",\"\",VLOOKUP(LEFT(AZ37,6),競技データ!$C$2:$C$300,1,FALSE))","v":""},false,false,false,0,""]
[null,30,null,null,null,null,{"$f":"IF(C38=\"\",\"\",VLOOKUP($D$4,所属データ!$E:$H,4,FALSE))","v":""},{"$f":"IF(G38=\"\",\"\",VLOOKUP(G38,所属データ!$C:$G,4,0))","v":""},null,0,0,"",0,0,"",null,null,null,0,0,"",0,0,"",null,null,null,0,0,"",0,0,"",null,null,null,null,null,30,"",{"$f":"IF(F38=\"\",\"\",VLOOKUP(F38,基礎データ!H:I,2,FALSE))","v":""},"",{"$f":"IF($E38=\"\",\"\",VLOOKUP($E38,基礎データ!$E:$F,2,FALSE))","v":""},"","",{"$f":"IF(G38=\"\",\"\",VLOOKUP(G38,所属データ!C:G,2,FALSE))","v":""},{"$f":"IF(I38=\"\",\"\",VLOOKUP(I38,基礎データ!K:L,2,FALSE))","v":""},"",{"$f":"IF(R38=\"\",\"\",VLOOKUP(R38,基礎データ!K:L,2,FALSE))","v":""},"",{"$f":"IF(AA38=\"\",\"\",VLOOKUP(AA38,基礎データ!K:L,2,FALSE))","v":""},"",{"$f":"IF(AV38=\"\",\"\",VLOOKUP(LEFT(AV38,6),競技データ!$C$2:$C$300,1,FALSE))","v":""},{"$f":"IF(AX38=\"\",\"\",VLOOKUP(LEFT(AX38,6),競技データ!$C$2:$C$300,1,FALSE))","v":""},{"$f":"IF(AZ38=\"\",\"\",VLOOKUP(LEFT(AZ38,6),競技データ!$C$2:$C$300,1,FALSE))","v":""},false,false,false,0,""]
[null,31,null,null,null,null,{"$f":"IF(C39=\"\",\"\",VLOOKUP($D$4,所属データ!$E:$H,4,FALSE))","v":""},{"$f":"IF(G39=\"\",\"\",VLOOKUP(G39,所属データ!$C:$G,4,0))","v":""},null,0,0,"",0,0,"",null,null,null,0,0,"",0,0,"",null,null,null,0,0,"",0,0,"",null,null,null,null,null,31,"",{"$f":"IF(F39=\"\",\"\",VLOOKUP(F39,基礎データ!H:I,2,FALSE))","v":""},"",{"$f":"IF($E39=\"\",\"\",VLOOKUP($E39,基礎データ!$E:$F,2,FALSE))","v":""},"","",{"$f":"IF(G39=\"\",\"\",VLOOKUP(G39,所属データ!C:G,2,FALSE))","v":""},{"$f":"IF(I39=\"\",\"\",VLOOKUP(I39,基礎データ!K:L,2,FALSE))","v":""},"",{"$f":"IF(R39=\"\",\"\",VLOOKUP(R39,基礎データ!K:L,2,FALSE))","v":""},"",{"$f":"IF(AA39=\"\",\"\",VLOOKUP(AA39,基礎データ!K:L,2,FALSE))","v":""},"",{"$f":"IF(AV39=\"\",\"\",VLOOKUP(LEFT(AV39,6),競技データ!$C$2:$C$300,1,FALSE))","v":""},{"$f":"IF(AX39=\"\",\"\",VLOOKUP(LEFT(AX39,6),競技データ!$C$2:$C$300,1,FALSE))","v":""},{"$f":"IF(AZ39=\"\",\"\",VLOOKUP(LEFT(AZ39,6),競技データ!$C$2:$C$300,1,FALSE))","v":""},false,false,false,0,""]
[null,32,null,null,null,null,{"$f":"IF(C40=\"\",\"\",VLOOKUP($D$4,所属データ!$E:$H,4,FALSE))","v":""},{"$f":"IF(G40=\"\",\"\",VLOOKUP(G40,所属データ!$C:$G,4,0))","v":""},null,0,0,"",0,0,"",null,null,null,0,0,"",0,0,"",null,null,null,0,0,"",0,0,"",null,null,null,null,null,32,"",{"$f":"IF(F40=\"\",\"\",VLOOKUP(F40,基礎データ!H:I,2,FALSE))","v":""},"",{"$f":"IF($E40=\"\",\"\",VLOOKUP($E40,基礎データ!$E:$F,2,FALSE))","v":""},"","",{"$f":"IF(G40=\"\",\"\",VLOOKUP(G40,所属データ!C:G,2,FALSE))","v":""},{"$f":"IF(I40=\"\",\"\",VLOOKUP(I40,基礎データ!K:L,2,FALSE))","v":""},"",{"$f":"IF(R40=\"\",\"\",VLOOKUP(R40,基礎データ!K:L,2,FALSE))","v":""},"",{"$f":"IF(AA40=\"\",\"\",VLOOKUP(AA40,基礎データ!K:L,2,FALSE))","v":""},"",{"$f":"IF(AV40=\"\",\"\",VLOOKUP(LEFT(AV40,6),競技データ!$C$2:$C$300,1,FALSE))","v":""},{"$f":"IF(AX40=\"\",\"\",VLOOKUP(LEFT(AX40,6),競技データ!$C$2:$C$300,1,FALSE))","v":""},{"$f":"IF(AZ40=\"\",\"\",VLOOKUP(LEFT(AZ40,6),競技データ!$C$2:$C$300,1,FALSE))","v":""},false,false,false,0,""]
[null,33,null,null,null,null,{"$f":"IF(C41=\"\",\"\",VLOOKUP($D$4,所属データ!$E:$H,4,FALSE))","v":""},{"$f":"IF(G41=\"\",\"\",VLOOKUP(G41,所属データ!$C:$G,4,0))","v":""},null,0,0,"",0,0,"",null,null,null,0,0,"",0,0,"",null,null,null,0,0,"",0,0,"",null,null,null,null,null,33,"",{"$f":"IF(F41=\"\",\"\",VLOOKUP(F41,基礎データ!H:I,2,FALSE))","v":""},"",{"$f":"IF($E41=\"\",\"\",VLOOKUP($E41,基礎データ!$E:$F,2,FALSE))","v":""},"","",{"$f":"IF(G41=\"\",\"\",VLOOKUP(G41,所属データ!C:G,2,FALSE))","v":""},{"$f":"IF(I41=\"\",\"\",VLOOKUP(I41,基礎データ!K:L,2,FALSE))","v":""},"",{"$f":"IF(R41=\"\",\"\",VLOOKUP(R41,基礎データ!K:L,2,FALSE))","v":""},"",{"$f":"IF(AA41=\"\",\"\",VLOOKUP(AA41,基礎データ!K:L,2,FALSE))","v":""},"",{"$f":"IF(AV41=\"\",\"\",VLOOKUP(LEFT(AV41,6),競技データ!$C$2:$C$300,1,FALSE))","v":""},{"$f":"IF(AX41=\"\",\"\",VLOOKUP(LEFT(AX41,6),競技データ!$C$2:$C$300,1,FALSE))","v":""},{"$f":"IF(AZ41=\"\",\"\",VLOOKUP(LEFT(AZ41,6),競技データ!$C$2:$C$300,1,FALSE))","v":""},false,false,false,0,""]
[null,34,null,null,null,null,{"$f":"IF(C42=\"\",\"\",VLOOKUP($D$4,所属データ!$E:$H,4,FALSE))","v":""},{"$f":"IF(G42=\"\",\"\",VLOOKUP(G42,所属データ!$C:$G,4,0))","v":""},null,0,0,"",0,0,"",null,null,null,0,0,"",0,0,"",null,null,null,0,0,"",0,0,"",null,null,null,null,null,34,"",{"$f":"IF(F42=\"\",\"\",VLOOKUP(F42,基礎データ!H:I,2,FALSE))","v":""},"",{"$f":"IF($E42=\"\",\"\",VLOOKUP($E42,基礎データ!$E:$F,2,FALSE))","v":""},"","",{"$f":"IF(G42=\"\",\"\",VLOOKUP(G42,所属データ!C:G,2,FALSE))","v":""},{"$f":"IF(I42=\"\",\"\",VLOOKUP(I42,基礎データ!K:L,2,FALSE))","v":""},"",{"$f":"IF(R42=\"\",\"\",VLOOKUP(R42,基礎データ!K:L,2,FALSE))","v":""},"",{"$f":"IF(AA42=\"\",\"\",VLOOKUP(AA42,基礎データ!K:L,2,FALSE))","v":""},"",{"$f":"IF(AV42=\"\",\"\",VLOOKUP(LEFT(AV42,6),競技データ!$C$2:$C$300,1,FALSE))","v":""},{"$f":"IF(AX42=\"\",\"\",VLOOKUP(LEFT(AX42,6),競技データ!$C$2:$C$300,1,FALSE))","v":""},{"$f":"IF(AZ42=\"\",\"\",VLOOKUP(LEFT(AZ42,6),競技データ!$C$2:$C$300,1,FALSE))","v":""},false,false,false,0,""]
[null,35,null,null,null,null,{"$f":"IF(C43=\"\",\"\",VLOOKUP($D$4,所属データ!$E:$H,4,FALSE))","v":""},{"$f":"IF(G43=\"\",\"\",VLOOKUP(G43,所属データ!$C:$G,4,0))","v":""},null,0,0,"",0,0,"",null,null,null,0,0,"",0,0,"",null,null,null,0,0,"",0,0,"",null,null,null,null,null,35,"",{"$f":"IF(F43=\"\",\"\",VLOOKUP(F43,基礎データ!H:I,2,FALSE))","v":""},"",{"$f":"IF($E43=\"\",\"\",VLOOKUP($E43,基礎データ!$E:$F,2,FALSE))","v":""},"","",{"$f":"IF(G43=\"\",\"\",VLOOKUP(G43,所属データ!C:G,2,FALSE))","v":""},{"$f":"IF(I43=\"\",\"\",VLOOKUP(I43,基礎データ!K:L,2,FALSE))","v":""},"",{"$f":"IF(R43=\"\",\"\",VLOOKUP(R43,基礎データ!K:L,2,FALSE))","v":""},"",{"$f":"IF(AA43=\"\",\"\",VLOOKUP(AA43,基礎データ!K:L,2,FALSE))","v":""},"",{"$f":"IF(AV43=\"\",\"\",VLOOKUP(LEFT(AV43,6),競技データ!$C$2:$C$300,1,FALSE))","v":""},{"$f":"IF(AX43=\"\",\"\",VLOOKUP(LEFT(AX43,6),競技データ!$C$2:$C$300,1,FALSE))","v":""},{"$f":"IF(AZ43=\"\",\"\",VLOOKUP(LEFT(AZ43,6),競技データ!$C$2:$C$300,1,FALSE))","v":""},false,false,false,0,""]
[null,36,null,null,null,null,{"$f":"IF(C44=\"\",\"\",VLOOKUP($D$4,所属データ!$E:$H,4,FALSE))","v":""},{"$f":"IF(G44=\"\",\"\",VLOOKUP(G44,所属データ!$C:$G,4,0))","v":""},null,0,0,"",0,0,"",null,null,null,0,0,"",0,0,"",null,null,null,0,0,"",0,0,"",null,null,null,null,null,36,"",{"$f":"IF(F44=\"\",\"\",VLOOKUP(F44,基礎データ!H:I,2,FALSE))","v":""},"",{"$f":"IF($E44=\"\",\"\",VLOOKUP($E44,基礎データ!$E:$F,2,FALSE))","v":""},"","",{"$f":"IF(G44=\"\",\"\",VLOOKUP(G44,所属データ!C:G,2,FALSE))","v":""},{"$f":"IF(I44=\"\",\"\",VLOOKUP(I44,基礎データ!K:L,2,FALSE))","v":""},"",{"$f":"IF(R44=\"\",\"\",VLOOKUP(R44,基礎データ!K:L,2,FALSE))","v":""},"",{"$f":"IF(AA44=\"\",\"\",VLOOKUP(AA44,基礎データ!K:L,2,FALSE))","v":""},"",{"$f":"IF(AV44=\"\",\"\",VLOOKUP(LEFT(AV44,6),競技データ!$C$2:$C$300,1,FALSE))","v":""},{"$f":"IF(AX44=\"\",\"\",VLOOKUP(LEFT(AX44,6),競技データ!$C$2:$C$300,1,FALSE))","v":""},{"$f":"IF(AZ44=\"\",\"\",VLOOKUP(LEFT(AZ44,6),競技データ!$C$2:$C$300,1,FALSE))","v":""},false,false,false,0,""]
[null,37,null,null,null,null,{"$f":"IF(C45=\"\",\"\",VLOOKUP($D$4,所属データ!$E:$H,4,FALSE))","v":""},{"$f":"IF(G45=\"\",\"\",VLOOKUP(G45,所属データ!$C:$G,4,0))","v":""},null,0,0,"",0,0,"",null,null,null,0,0,"",0,0,"",null,null,null,0,0,"",0,0,"",null,null,null,null,null,37,"",{"$f":"IF(F45=\"\",\"\",VLOOKUP(F45,基礎データ!H:I,2,FALSE))","v":""},"",{"$f":"IF($E45=\"\",\"\",VLOOKUP($E45,基礎データ!$E:$F,2,FALSE))","v":""},"","",{"$f":"IF(G45=\"\",\"\",VLOOKUP(G45,所属データ!C:G,2,FALSE))","v":""},{"$f":"IF(I45=\"\",\"\",VLOOKUP(I45,基礎データ!K:L,2,FALSE))","v":""},"",{"$f":"IF(R45=\"\",\"\",VLOOKUP(R45,基礎データ!K:L,2,FALSE))","v":""},"",{"$f":"IF(AA45=\"\",\"\",VLOOKUP(AA45,基礎データ!K:L,2,FALSE))","v":""},"",{"$f":"IF(AV45=\"\",\"\",VLOOKUP(LEFT(AV45,6),競技データ!$C$2:$C$300,1,FALSE))","v":""},{"$f":"IF(AX45=\"\",\"\",VLOOKUP(LEFT(AX45,6),競技データ!$C$2:$C$300,1,FALSE))","v":""},{"$f":"IF(AZ45=\"\",\"\",VLOOKUP(LEFT(AZ45,6),競技データ!$C$2:$C$300,1,FALSE))","v":""},false,false,false,0,""]
[null,38,null,null,null,null,{"$f":"IF(C46=\"\",\"\",VLOOKUP($D$4,所属データ!$E:$H,4,FALSE))","v":""},{"$f":"IF(G46=\"\",\"\",VLOOKUP(G46,所属データ!$C:$G,4,0))","v":""},null,0,0,"",0,0,"",null,null,null,0,0,"",0,0,"",null,null,null,0,0,"",0,0,"",null,null,null,null,null,38,"",{"$f":"IF(F46=\"\",\"\",VLOOKUP(F46,基礎データ!H:I,2,FALSE))","v":""},"",{"$f":"IF($E46=\"\",\"\",VLOOKUP($E46,基礎データ!$E:$F,2,FALSE))","v":""},"","",{"$f":"IF(G46=\"\",\"\",VLOOKUP(G46,所属データ!C:G,2,FALSE))","v":""},{"$f":"IF(I46=\"\",\"\",VLOOKUP(I46,基礎データ!K:L,2,FALSE))","v":""},"",{"$f":"IF(R46=\"\",\"\",VLOOKUP(R46,基礎データ!K:L,2,FALSE))","v":""},"",{"$f":"IF(AA46=\"\",\"\",VLOOKUP(AA46,基礎データ!K:L,2,FALSE))","v":""},"",{"$f":"IF(AV46=\"\",\"\",VLOOKUP(LEFT(AV46,6),競技データ!$C$2:$C$300,1,FALSE))","v":""},{"$f":"IF(AX46=\"\",\"\",VLOOKUP(LEFT(AX46,6),競技データ!$C$2:$C$300,1,FALSE))","v":""},{"$f":"IF(AZ46=\"\",\"\",VLOOKUP(LEFT(AZ46,6),競技データ!$C$2:$C$300,1,FALSE))","v":""},false,false,false,0,""]
[null,39,null,null,null,null,{"$f":"IF(C47=\"\",\"\",VLOOKUP($D$4,所属データ!$E:$H,4,FALSE))","v":""},{"$f":"IF(G47=\"\",\"\",VLOOKUP(G47,所属データ!$C:$G,4,0))","v":""},null,0,0,"",0,0,"",null,null,null,0,0,"",0,0,"",null,null,null,0,0,"",0,0,"",null,null,null,null,null,39,"",{"$f":"IF(F47=\"\",\"\",VLOOKUP(F47,基礎データ!H:I,2,FALSE))","v":""},"",{"$f":"IF($E47=\"\",\"\",VLOOKUP($E47,基礎データ!$E:$F,2,FALSE))","v":""},"","",{"$f":"IF(G47=\"\",\"\",VLOOKUP(G47,所属データ!C:G,2,FALSE))","v":""},{"$f":"IF(I47=\"\",\"\",VLOOKUP(I47,基礎データ!K:L,2,FALSE))","v":""},"",{"$f":"IF(R47=\"\",\"\",VLOOKUP(R47,基礎データ!K:L,2,FALSE))","v":""},"",{"$f":"IF(AA47=\"\",\"\",VLOOKUP(AA47,基礎データ!K:L,2,FALSE))","v":""},"",{"$f":"IF(AV47=\"\",\"\",VLOOKUP(LEFT(AV47,6),競技データ!$C$2:$C$300,1,FALSE))","v":""},{"$f":"IF(AX47=\"\",\"\",VLOOKUP(LEFT(AX47,6),競技データ!$C$2:$C$300,1,FALSE))","v":""},{"$f":"IF(AZ47=\"\",\"\",VLOOKUP(LEFT(AZ47,6),競技データ!$C$2:$C$300,1,FALSE))","v":""},false,false,false,0,""]
[null,40,null,null,null,null,{"$f":"IF(C48=\"\",\"\",VLOOKUP($D$4,所属データ!$E:$H,4,FALSE))","v":""},{"$f":"IF(G48=\"\",\"\",VLOOKUP(G48,所属データ!$C:$G,4,0))","v":""},null,0,0,"",0,0,"",null,null,null,0,0,"",0,0,"",null,null,null,0,0,"",0,0,"",null,null,null,null,null,40,"",{"$f":"IF(F48=\"\",\"\",VLOOKUP(F48,基礎データ!H:I,2,FALSE))","v":""},"",{"$f":"IF($E48=\"\",\"\",VLOOKUP($E48,基礎データ!$E:$F,2,FALSE))","v":""},"","",{"$f":"IF(G48=\"\",\"\",VLOOKUP(G48,所属データ!C:G,2,FALSE))","v":""},{"$f":"IF(I48=\"\",\"\",VLOOKUP(I48,基礎データ!K:L,2,FALSE))","v":""},"",{"$f":"IF(R48=\"\",\"\",VLOOKUP(R48,基礎データ!K:L,2,FALSE))","v":""},"",{"$f":"IF(AA48=\"\",\"\",VLOOKUP(AA48,基礎データ!K:L,2,FALSE))","v":""},"",{"$f":"IF(AV48=\"\",\"\",VLOOKUP(LEFT(AV48,6),競技データ!$C$2:$C$300,1,FALSE))","v":""},{"$f":"IF(AX48=\"\",\"\",VLOOKUP(LEFT(AX48,6),競技データ!$C$2:$C$300,1,FALSE))","v":""},{"$f":"IF(AZ48=\"\",\"\",VLOOKUP(LEFT(AZ48,6),競技データ!$C$2:$C$300,1,FALSE))","v":""},false,false,false,0,""]
[null,41,null,null,null,null,{"$f":"IF(C49=\"\",\"\",VLOOKUP($D$4,所属データ!$E:$H,4,FALSE))","v":""},{"$f":"IF(G49=\"\",\"\",VLOOKUP(G49,所属データ!$C:$G,4,0))","v":""},null,0,0,"",0,0,"",null,null,null,0,0,"",0,0,"",null,null,null,0,0,"",0,0,"",null,null,null,null,null,41,"",{"$f":"IF(F49=\"\",\"\",VLOOKUP(F49,基礎データ!H:I,2,FALSE))","v":""},"",{"$f":"IF($E49=\"\",\"\",VLOOKUP($E49,基礎データ!$E:$F,2,FALSE))","v":""},"","",{"$f":"IF(G49=\"\",\"\",VLOOKUP(G49,所属データ!C:G,2,FALSE))","v":""},{"$f":"IF(I49=\"\",\"\",VLOOKUP(I49,基礎データ!K:L,2,FALSE))","v":""},"",{"$f":"IF(R49=\"\",\"\",VLOOKUP(R49,基礎データ!K:L,2,FALSE))","v":""},"",{"$f":"IF(AA49=\"\",\"\",VLOOKUP(AA49,基礎データ!K:L,2,FALSE))","v":""},"",{"$f":"IF(AV49=\"\",\"\",VLOOKUP(LEFT(AV49,6),競技データ!$C$2:$C$300,1,FALSE))","v":""},{"$f":"IF(AX49=\"\",\"\",VLOOKUP(LEFT(AX49,6),競技データ!$C$2:$C$300,1,FALSE))","v":""},{"$f":"IF(AZ49=\"\",\"\",VLOOKUP(LEFT(AZ49,6),競技データ!$C$2:$C$300,1,FALSE))","v":""},false,false,false,0,""]
[null,42,null,null,null,null,{"$f":"IF(C50=\"\",\"\",VLOOKUP($D$4,所属データ!$E:$H,4,FALSE))","v":""},{"$f":"IF(G50=\"\",\"\",VLOOKUP(G50,所属データ!$C:$G,4,0))","v":""},null,0,0,"",0,0,"",null,null,null,0,0,"",0,0,"",null,null,null,0,0,"",0,0,"",null,null,null,null,null,42,"",{"$f":"IF(F50=\"\",\"\",VLOOKUP(F50,基礎データ!H:I,2,FALSE))","v":""},"",{"$f":"IF($E50=\"\",\"\",VLOOKUP($E50,基礎データ!$E:$F,2,FALSE))","v":""},"","",{"$f":"IF(G50=\"\",\"\",VLOOKUP(G50,所属データ!C:G,2,FALSE))","v":""},{"$f":"IF(I50=\"\",\"\",VLOOKUP(I50,基礎データ!K:L,2,FALSE))","v":""},"",{"$f":"IF(R50=\"\",\"\",VLOOKUP(R50,基礎データ!K:L,2,FALSE))","v":""},"",{"$f":"IF(AA50=\"\",\"\",VLOOKUP(AA50,基礎データ!K:L,2,FALSE))","v":""},"",{"$f":"IF(AV50=\"\",\"\",VLOOKUP(LEFT(AV50,6),競技データ!$C$2:$C$300,1,FALSE))","v":""},{"$f":"IF(AX50=\"\",\"\",VLOOKUP(LEFT(AX50,6),競技データ!$C$2:$C$300,1,FALSE))","v":""},{"$f":"IF(AZ50=\"\",\"\",VLOOKUP(LEFT(AZ50,6),競技データ!$C$2:$C$300,1,FALSE))","v":""},false,false,false,0,""]
[null,43,null,null,null,null,{"$f":"IF(C51=\"\",\"\",VLOOKUP($D$4,所属データ!$E:$H,4,FALSE))","v":""},{"$f":"IF(G51=\"\",\"\",VLOOKUP(G51,所属データ!$C:$G,4,0))","v":""},null,0,0,"",0,0,"",null,null,null,0,0,"",0,0,"",null,null,null,0,0,"",0,0,"",null,null,null,null,null,43,"",{"$f":"IF(F51=\"\",\"\",VLOOKUP(F51,基礎データ!H:I,2,FALSE))","v":""},"",{"$f":"IF($E51=\"\",\"\",VLOOKUP($E51,基礎データ!$E:$F,2,FALSE))","v":""},"","",{"$f":"IF(G51=\"\",\"\",VLOOKUP(G51,所属データ!C:G,2,FALSE))","v":""},{"$f":"IF(I51=\"\",\"\",VLOOKUP(I51,基礎データ!K:L,2,FALSE))","v":""},"",{"$f":"IF(R51=\"\",\"\",VLOOKUP(R51,基礎データ!K:L,2,FALSE))","v":""},"",{"$f":"IF(AA51=\"\",\"\",VLOOKUP(AA51,基礎データ!K:L,2,FALSE))","v":""},"",{"$f":"IF(AV51=\"\",\"\",VLOOKUP(LEFT(AV51,6),競技データ!$C$2:$C$300,1,FALSE))","v":""},{"$f":"IF(AX51=\"\",\"\",VLOOKUP(LEFT(AX51,6),競技データ!$C$2:$C$300,1,FALSE))","v":""},{"$f":"IF(AZ51=\"\",\"\",VLOOKUP(LEFT(AZ51,6),競技データ!$C$2:$C$300,1,FALSE))","v":""},false,false,false,0,""]
[null,44,null,null,null,null,{"$f":"IF(C52=\"\",\"\",VLOOKUP($D$4,所属データ!$E:$H,4,FALSE))","v":""},{"$f":"IF(G52=\"\",\"\",VLOOKUP(G52,所属データ!$C:$G,4,0))","v":""},null,0,0,"",0,0,"",null,null,null,0,0,"",0,0,"",null,null,null,0,0,"",0,0,"",null,null,null,null,null,44,"",{"$f":"IF(F52=\"\",\"\",VLOOKUP(F52,基礎データ!H:I,2,FALSE))","v":""},"",{"$f":"IF($E52=\"\",\"\",VLOOKUP($E52,基礎データ!$E:$F,2,FALSE))","v":""},"","",{"$f":"IF(G52=\"\",\"\",VLOOKUP(G52,所属データ!C:G,2,FALSE))","v":""},{"$f":"IF(I52=\"\",\"\",VLOOKUP(I52,基礎データ!K:L,2,FALSE))","v":""},"",{"$f":"IF(R52=\"\",\"\",VLOOKUP(R52,基礎データ!K:L,2,FALSE))","v":""},"",{"$f":"IF(AA52=\"\",\"\",VLOOKUP(AA52,基礎データ!K:L,2,FALSE))","v":""},"",{"$f":"IF(AV52=\"\",\"\",VLOOKUP(LEFT(AV52,6),競技データ!$C$2:$C$300,1,FALSE))","v":""},{"$f":"IF(AX52=\"\",\"\",VLOOKUP(LEFT(AX52,6),競技データ!$C$2:$C$300,1,FALSE))","v":""},{"$f":"IF(AZ52=\"\",\"\",VLOOKUP(LEFT(AZ52,6),競技データ!$C$2:$C$300,1,FALSE))","v":""},false,false,false,0,""]
[null,45,null,null,null,null,{"$f":"IF(C53=\"\",\"\",VLOOKUP($D$4,所属データ!$E:$H,4,FALSE))","v":""},{"$f":"IF(G53=\"\",\"\",VLOOKUP(G53,所属データ!$C:$G,4,0))","v":""},null,0,0,"",0,0,"",null,null,null,0,0,"",0,0,"",null,null,null,0,0,"",0,0,"",null,null,null,null,null,45,"",{"$f":"IF(F53=\"\",\"\",VLOOKUP(F53,基礎データ!H:I,2,FALSE))","v":""},"",{"$f":"IF($E53=\"\",\"\",VLOOKUP($E53,基礎データ!$E:$F,2,FALSE))","v":""},"","",{"$f":"IF(G53=\"\",\"\",VLOOKUP(G53,所属データ!C:G,2,FALSE))","v":""},{"$f":"IF(I53=\"\",\"\",VLOOKUP(I53,基礎データ!K:L,2,FALSE))","v":""},"",{"$f":"IF(R53=\"\",\"\",VLOOKUP(R53,基礎データ!K:L,2,FALSE))","v":""},"",{"$f":"IF(AA53=\"\",\"\",VLOOKUP(AA53,基礎データ!K:L,2,FALSE))","v":""},"",{"$f":"IF(AV53=\"\",\"\",VLOOKUP(LEFT(AV53,6),競技データ!$C$2:$C$300,1,FALSE))","v":""},{"$f":"IF(AX53=\"\",\"\",VLOOKUP(LEFT(AX53,6),競技データ!$C$2:$C$300,1,FALSE))","v":""},{"$f":"IF(AZ53=\"\",\"\",VLOOKUP(LEFT(AZ53,6),競技データ!$C$2:$C$300,1,FALSE))","v":""},false,false,false,0,""]
[null,46,null,null,null,null,{"$f":"IF(C54=\"\",\"\",VLOOKUP($D$4,所属データ!$E:$H,4,FALSE))","v":""},{"$f":"IF(G54=\"\",\"\",VLOOKUP(G54,所属データ!$C:$G,4,0))","v":""},null,0,0,"",0,0,"",null,null,null,0,0,"",0,0,"",null,null,null,0,0,"",0,0,"",null,null,null,null,null,46,"",{"$f":"IF(F54=\"\",\"\",VLOOKUP(F54,基礎データ!H:I,2,FALSE))","v":""},"",{"$f":"IF($E54=\"\",\"\",VLOOKUP($E54,基礎データ!$E:$F,2,FALSE))","v":""},"","",{"$f":"IF(G54=\"\",\"\",VLOOKUP(G54,所属データ!C:G,2,FALSE))","v":""},{"$f":"IF(I54=\"\",\"\",VLOOKUP(I54,基礎データ!K:L,2,FALSE))","v":""},"",{"$f":"IF(R54=\"\",\"\",VLOOKUP(R54,基礎データ!K:L,2,FALSE))","v":""},"",{"$f":"IF(AA54=\"\",\"\",VLOOKUP(AA54,基礎データ!K:L,2,FALSE))","v":""},"",{"$f":"IF(AV54=\"\",\"\",VLOOKUP(LEFT(AV54,6),競技データ!$C$2:$C$300,1,FALSE))","v":""},{"$f":"IF(AX54=\"\",\"\",VLOOKUP(LEFT(AX54,6),競技データ!$C$2:$C$300,1,FALSE))","v":""},{"$f":"IF(AZ54=\"\",\"\",VLOOKUP(LEFT(AZ54,6),競技データ!$C$2:$C$300,1,FALSE))","v":""},false,false,false,0,""]
[null,47,null,null,null,null,{"$f":"IF(C55=\"\",\"\",VLOOKUP($D$4,所属データ!$E:$H,4,FALSE))","v":""},{"$f":"IF(G55=\"\",\"\",VLOOKUP(G55,所属データ!$C:$G,4,0))","v":""},null,0,0,"",0,0,"",null,null,null,0,0,"",0,0,"",null,null,null,0,0,"",0,0,"",null,null,null,null,null,47,"",{"$f":"IF(F55=\"\",\"\",VLOOKUP(F55,基礎データ!H:I,2,FALSE))","v":""},"",{"$f":"IF($E55=\"\",\"\",VLOOKUP($E55,基礎データ!$E:$F,2,FALSE))","v":""},"","",{"$f":"IF(G55=\"\",\"\",VLOOKUP(G55,所属データ!C:G,2,FALSE))","v":""},{"$f":"IF(I55=\"\",\"\",VLOOKUP(I55,基礎データ!K:L,2,FALSE))","v":""},"",{"$f":"IF(R55=\"\",\"\",VLOOKUP(R55,基礎データ!K:L,2,FALSE))","v":""},"",{"$f":"IF(AA55=\"\",\"\",VLOOKUP(AA55,基礎データ!K:L,2,FALSE))","v":""},"",{"$f":"IF(AV55=\"\",\"\",VLOOKUP(LEFT(AV55,6),競技データ!$C$2:$C$300,1,FALSE))","v":""},{"$f":"IF(AX55=\"\",\"\",VLOOKUP(LEFT(AX55,6),競技データ!$C$2:$C$300,1,FALSE))","v":""},{"$f":"IF(AZ55=\"\",\"\",VLOOKUP(LEFT(AZ55,6),競技データ!$C$2:$C$300,1,FALSE))","v":""},false,false,false,0,""]
[null,48,null,null,null,null,{"$f":"IF(C56=\"\",\"\",VLOOKUP($D$4,所属データ!$E:$H,4,FALSE))","v":""},{"$f":"IF(G56=\"\",\"\",VLOOKUP(G56,所属データ!$C:$G,4,0))","v":""},null,0,0,"",0,0,"",null,null,null,0,0,"",0,0,"",null,null,null,0,0,"",0,0,"",null,null,null,null,null,48,"",{"$f":"IF(F56=\"\",\"\",VLOOKUP(F56,基礎データ!H:I,2,FALSE))","v":""},"",{"$f":"IF($E56=\"\",\"\",VLOOKUP($E56,基礎データ!$E:$F,2,FALSE))","v":""},"","",{"$f":"IF(G56=\"\",\"\",VLOOKUP(G56,所属データ!C:G,2,FALSE))","v":""},{"$f":"IF(I56=\"\",\"\",VLOOKUP(I56,基礎データ!K:L,2,FALSE))","v":""},"",{"$f":"IF(R56=\"\",\"\",VLOOKUP(R56,基礎データ!K:L,2,FALSE))","v":""},"",{"$f":"IF(AA56=\"\",\"\",VLOOKUP(AA56,基礎データ!K:L,2,FALSE))","v":""},"",{"$f":"IF(AV56=\"\",\"\",VLOOKUP(LEFT(AV56,6),競技データ!$C$2:$C$300,1,FALSE))","v":""},{"$f":"IF(AX56=\"\",\"\",VLOOKUP(LEFT(AX56,6),競技データ!$C$2:$C$300,1,FALSE))","v":""},{"$f":"IF(AZ56=\"\",\"\",VLOOKUP(LEFT(AZ56,6),競技データ!$C$2:$C$300,1,FALSE))","v":""},false,false,false,0,""]
[null,49,null,null,null,null,{"$f":"IF(C57=\"\",\"\",VLOOKUP($D$4,所属データ!$E:$H,4,FALSE))","v":""},{"$f":"IF(G57=\"\",\"\",VLOOKUP(G57,所属データ!$C:$G,4,0))","v":""},null,0,0,"",0,0,"",null,null,null,0,0,"",0,0,"",null,null,null,0,0,"",0,0,"",null,null,null,null,null,49,"",{"$f":"IF(F57=\"\",\"\",VLOOKUP(F57,基礎データ!H:I,2,FALSE))","v":""},"",{"$f":"IF($E57=\"\",\"\",VLOOKUP($E57,基礎データ!$E:$F,2,FALSE))","v":""},"","",{"$f":"IF(G57=\"\",\"\",VLOOKUP(G57,所属データ!C:G,2,FALSE))","v":""},{"$f":"IF(I57=\"\",\"\",VLOOKUP(I57,基礎データ!K:L,2,FALSE))","v":""},"",{"$f":"IF(R57=\"\",\"\",VLOOKUP(R57,基礎データ!K:L,2,FALSE))","v":""},"",{"$f":"IF(AA57=\"\",\"\",VLOOKUP(AA57,基礎データ!K:L,2,FALSE))","v":""},"",{"$f":"IF(AV57=\"\",\"\",VLOOKUP(LEFT(AV57,6),競技データ!$C$2:$C$300,1,FALSE))","v":""},{"$f":"IF(AX57=\"\",\"\",VLOOKUP(LEFT(AX57,6),競技データ!$C$2:$C$300,1,FALSE))","v":""},{"$f":"IF(AZ57=\"\",\"\",VLOOKUP(LEFT(AZ57,6),競技データ!$C$2:$C$300,1,FALSE))","v":""},false,false,false,0,""]
[null,50,null,null,null,null,{"$f":"IF(C58=\"\",\"\",VLOOKUP($D$4,所属データ!$E:$H,4,FALSE))","v":""},{"$f":"IF(G58=\"\",\"\",VLOOKUP(G58,所属データ!$C:$G,4,0))","v":""},null,0,0,"",0,0,"",null,null,null,0,0,"",0,0,"",null,null,null,0,0,"",0,0,"",null,null,null,null,null,50,"",{"$f":"IF(F58=\"\",\"\",VLOOKUP(F58,基礎データ!H:I,2,FALSE))","v":""},"",{"$f":"IF($E58=\"\",\"\",VLOOKUP($E58,基礎データ!$E:$F,2,FALSE))","v":""},"","",{"$f":"IF(G58=\"\",\"\",VLOOKUP(G58,所属データ!C:G,2,FALSE))","v":""},{"$f":"IF(I58=\"\",\"\",VLOOKUP(I58,基礎データ!K:L,2,FALSE))","v":""},"",{"$f":"IF(R58=\"\",\"\",VLOOKUP(R58,基礎データ!K:L,2,FALSE))","v":""},"",{"$f":"IF(AA58=\"\",\"\",VLOOKUP(AA58,基礎データ!K:L,2,FALSE))","v":""},"",{"$f":"IF(AV58=\"\",\"\",VLOOKUP(LEFT(AV58,6),競技データ!$C$2:$C$300,1,FALSE))","v":""},{"$f":"IF(AX58=\"\",\"\",VLOOKUP(LEFT(AX58,6),競技データ!$C$2:$C$300,1,FALSE))","v":""},{"$f":"IF(AZ58=\"\",\"\",VLOOKUP(LEFT(AZ58,6),競技データ!$C$2:$C$300,1,FALSE))","v":""},false,false,false,0,""]
[null,51,null,null,null,null,{"$f":"IF(C59=\"\",\"\",VLOOKUP($D$4,所属データ!$E:$H,4,FALSE))","v":""},{"$f":"IF(G59=\"\",\"\",VLOOKUP(G59,所属データ!$C:$G,4,0))","v":""},null,0,0,"",0,0,"",null,null,null,0,0,"",0,0,"",null,null,null,0,0,"",0,0,"",null,null,null,null,null,51,"",{"$f":"IF(F59=\"\",\"\",VLOOKUP(F59,基礎データ!H:I,2,FALSE))","v":""},"",{"$f":"IF($E59=\"\",\"\",VLOOKUP($E59,基礎データ!$E:$F,2,FALSE))","v":""},"","",{"$f":"IF(G59=\"\",\"\",VLOOKUP(G59,所属データ!C:G,2,FALSE))","v":""},{"$f":"IF(I59=\"\",\"\",VLOOKUP(I59,基礎データ!K:L,2,FALSE))","v":""},"",{"$f":"IF(R59=\"\",\"\",VLOOKUP(R59,基礎データ!K:L,2,FALSE))","v":""},"",{"$f":"IF(AA59=\"\",\"\",VLOOKUP(AA59,基礎データ!K:L,2,FALSE))","v":""},"",{"$f":"IF(AV59=\"\",\"\",VLOOKUP(LEFT(AV59,6),競技データ!$C$2:$C$300,1,FALSE))","v":""},{"$f":"IF(AX59=\"\",\"\",VLOOKUP(LEFT(AX59,6),競技データ!$C$2:$C$300,1,FALSE))","v":""},{"$f":"IF(AZ59=\"\",\"\",VLOOKUP(LEFT(AZ59,6),競技データ!$C$2:$C$300,1,FALSE))","v":""},false,false,false,0,""]
[null,52,null,null,null,null,{"$f":"IF(C60=\"\",\"\",VLOOKUP($D$4,所属データ!$E:$H,4,FALSE))","v":""},{"$f":"IF(G60=\"\",\"\",VLOOKUP(G60,所属データ!$C:$G,4,0))","v":""},null,0,0,"",0,0,"",null,null,null,0,0,"",0,0,"",null,null,null,0,0,"",0,0,"",null,null,null,null,null,52,"",{"$f":"IF(F60=\"\",\"\",VLOOKUP(F60,基礎データ!H:I,2,FALSE))","v":""},"",{"$f":"IF($E60=\"\",\"\",VLOOKUP($E60,基礎データ!$E:$F,2,FALSE))","v":""},"","",{"$f":"IF(G60=\"\",\"\",VLOOKUP(G60,所属データ!C:G,2,FALSE))","v":""},{"$f":"IF(I60=\"\",\"\",VLOOKUP(I60,基礎データ!K:L,2,FALSE))","v":""},"",{"$f":"IF(R60=\"\",\"\",VLOOKUP(R60,基礎データ!K:L,2,FALSE))","v":""},"",{"$f":"IF(AA60=\"\",\"\",VLOOKUP(AA60,基礎データ!K:L,2,FALSE))","v":""},"",{"$f":"IF(AV60=\"\",\"\",VLOOKUP(LEFT(AV60,6),競技データ!$C$2:$C$300,1,FALSE))","v":""},{"$f":"IF(AX60=\"\",\"\",VLOOKUP(LEFT(AX60,6),競技データ!$C$2:$C$300,1,FALSE))","v":""},{"$f":"IF(AZ60=\"\",\"\",VLOOKUP(LEFT(AZ60,6),競技データ!$C$2:$C$300,1,FALSE))","v":""},false,false,false,0,""]
[null,53,null,null,null,null,{"$f":"IF(C61=\"\",\"\",VLOOKUP($D$4,所属データ!$E:$H,4,FALSE))","v":""},{"$f":"IF(G61=\"\",\"\",VLOOKUP(G61,所属データ!$C:$G,4,0))","v":""},null,0,0,"",0,0,"",null,null,null,0,0,"",0,0,"",null,null,null,0,0,"",0,0,"",null,null,null,null,null,53,"",{"$f":"IF(F61=\"\",\"\",VLOOKUP(F61,基礎データ!H:I,2,FALSE))","v":""},"",{"$f":"IF($E61=\"\",\"\",VLOOKUP($E61,基礎データ!$E:$F,2,FALSE))","v":""},"","",{"$f":"IF(G61=\"\",\"\",VLOOKUP(G61,所属データ!C:G,2,FALSE))","v":""},{"$f":"IF(I61=\"\",\"\",VLOOKUP(I61,基礎データ!K:L,2,FALSE))","v":""},"",{"$f":"IF(R61=\"\",\"\",VLOOKUP(R61,基礎データ!K:L,2,FALSE))","v":""},"",{"$f":"IF(AA61=\"\",\"\",VLOOKUP(AA61,基礎データ!K:L,2,FALSE))","v":""},"",{"$f":"IF(AV61=\"\",\"\",VLOOKUP(LEFT(AV61,6),競技データ!$C$2:$C$300,1,FALSE))","v":""},{"$f":"IF(AX61=\"\",\"\",VLOOKUP(LEFT(AX61,6),競技データ!$C$2:$C$300,1,FALSE))","v":""},{"$f":"IF(AZ61=\"\",\"\",VLOOKUP(LEFT(AZ61,6),競技データ!$C$2:$C$300,1,FALSE))","v":""},false,false,false,0,""]
[null,54,null,null,null,null,{"$f":"IF(C62=\"\",\"\",VLOOKUP($D$4,所属データ!$E:$H,4,FALSE))","v":""},{"$f":"IF(G62=\"\",\"\",VLOOKUP(G62,所属データ!$C:$G,4,0))","v":""},null,0,0,"",0,0,"",null,null,null,0,0,"",0,0,"",null,null,null,0,0,"",0,0,"",null,null,null,null,null,54,"",{"$f":"IF(F62=\"\",\"\",VLOOKUP(F62,基礎データ!H:I,2,FALSE))","v":""},"",{"$f":"IF($E62=\"\",\"\",VLOOKUP($E62,基礎データ!$E:$F,2,FALSE))","v":""},"","",{"$f":"IF(G62=\"\",\"\",VLOOKUP(G62,所属データ!C:G,2,FALSE))","v":""},{"$f":"IF(I62=\"\",\"\",VLOOKUP(I62,基礎データ!K:L,2,FALSE))","v":""},"",{"$f":"IF(R62=\"\",\"\",VLOOKUP(R62,基礎データ!K:L,2,FALSE))","v":""},"",{"$f":"IF(AA62=\"\",\"\",VLOOKUP(AA62,基礎データ!K:L,2,FALSE))","v":""},"",{"$f":"IF(AV62=\"\",\"\",VLOOKUP(LEFT(AV62,6),競技データ!$C$2:$C$300,1,FALSE))","v":""},{"$f":"IF(AX62=\"\",\"\",VLOOKUP(LEFT(AX62,6),競技データ!$C$2:$C$300,1,FALSE))","v":""},{"$f":"IF(AZ62=\"\",\"\",VLOOKUP(LEFT(AZ62,6),競技データ!$C$2:$C$300,1,FALSE))","v":""},false,false,false,0,""]
[null,55,null,null,null,null,{"$f":"IF(C63=\"\",\"\",VLOOKUP($D$4,所属データ!$E:$H,4,FALSE))","v":""},{"$f":"IF(G63=\"\",\"\",VLOOKUP(G63,所属データ!$C:$G,4,0))","v":""},null,0,0,"",0,0,"",null,null,null,0,0,"",0,0,"",null,null,null,0,0,"",0,0,"",null,null,null,null,null,55,"",{"$f":"IF(F63=\"\",\"\",VLOOKUP(F63,基礎データ!H:I,2,FALSE))","v":""},"",{"$f":"IF($E63=\"\",\"\",VLOOKUP($E63,基礎データ!$E:$F,2,FALSE))","v":""},"","",{"$f":"IF(G63=\"\",\"\",VLOOKUP(G63,所属データ!C:G,2,FALSE))","v":""},{"$f":"IF(I63=\"\",\"\",VLOOKUP(I63,基礎データ!K:L,2,FALSE))","v":""},"",{"$f":"IF(R63=\"\",\"\",VLOOKUP(R63,基礎データ!K:L,2,FALSE))","v":""},"",{"$f":"IF(AA63=\"\",\"\",VLOOKUP(AA63,基礎データ!K:L,2,FALSE))","v":""},"",{"$f":"IF(AV63=\"\",\"\",VLOOKUP(LEFT(AV63,6),競技データ!$C$2:$C$300,1,FALSE))","v":""},{"$f":"IF(AX63=\"\",\"\",VLOOKUP(LEFT(AX63,6),競技データ!$C$2:$C$300,1,FALSE))","v":""},{"$f":"IF(AZ63=\"\",\"\",VLOOKUP(LEFT(AZ63,6),競技データ!$C$2:$C$300,1,FALSE))","v":""},false,false,false,0,""]
[null,56,null,null,null,null,{"$f":"IF(C64=\"\",\"\",VLOOKUP($D$4,所属データ!$E:$H,4,FALSE))","v":""},{"$f":"IF(G64=\"\",\"\",VLOOKUP(G64,所属データ!$C:$G,4,0))","v":""},null,0,0,"",0,0,"",null,null,null,0,0,"",0,0,"",null,null,null,0,0,"",0,0,"",null,null,null,null,null,56,"",{"$f":"IF(F64=\"\",\"\",VLOOKUP(F64,基礎データ!H:I,2,FALSE))","v":""},"",{"$f":"IF($E64=\"\",\"\",VLOOKUP($E64,基礎データ!$E:$F,2,FALSE))","v":""},"","",{"$f":"IF(G64=\"\",\"\",VLOOKUP(G64,所属データ!C:G,2,FALSE))","v":""},{"$f":"IF(I64=\"\",\"\",VLOOKUP(I64,基礎データ!K:L,2,FALSE))","v":""},"",{"$f":"IF(R64=\"\",\"\",VLOOKUP(R64,基礎データ!K:L,2,FALSE))","v":""},"",{"$f":"IF(AA64=\"\",\"\",VLOOKUP(AA64,基礎データ!K:L,2,FALSE))","v":""},"",{"$f":"IF(AV64=\"\",\"\",VLOOKUP(LEFT(AV64,6),競技データ!$C$2:$C$300,1,FALSE))","v":""},{"$f":"IF(AX64=\"\",\"\",VLOOKUP(LEFT(AX64,6),競技データ!$C$2:$C$300,1,FALSE))","v":""},{"$f":"IF(AZ64=\"\",\"\",VLOOKUP(LEFT(AZ64,6),競技データ!$C$2:$C$300,1,FALSE))","v":""},false,false,false,0,""]
[null,57,null,null,null,null,{"$f":"IF(C65=\"\",\"\",VLOOKUP($D$4,所属データ!$E:$H,4,FALSE))","v":""},{"$f":"IF(G65=\"\",\"\",VLOOKUP(G65,所属データ!$C:$G,4,0))","v":""},null,0,0,"",0,0,"",null,null,null,0,0,"",0,0,"",null,null,null,0,0,"",0,0,"",null,null,null,null,null,57,"",{"$f":"IF(F65=\"\",\"\",VLOOKUP(F65,基礎データ!H:I,2,FALSE))","v":""},"",{"$f":"IF($E65=\"\",\"\",VLOOKUP($E65,基礎データ!$E:$F,2,FALSE))","v":""},"","",{"$f":"IF(G65=\"\",\"\",VLOOKUP(G65,所属データ!C:G,2,FALSE))","v":""},{"$f":"IF(I65=\"\",\"\",VLOOKUP(I65,基礎データ!K:L,2,FALSE))","v":""},"",{"$f":"IF(R65=\"\",\"\",VLOOKUP(R65,基礎データ!K:L,2,FALSE))","v":""},"",{"$f":"IF(AA65=\"\",\"\",VLOOKUP(AA65,基礎データ!K:L,2,FALSE))","v":""},"",{"$f":"IF(AV65=\"\",\"\",VLOOKUP(LEFT(AV65,6),競技データ!$C$2:$C$300,1,FALSE))","v":""},{"$f":"IF(AX65=\"\",\"\",VLOOKUP(LEFT(AX65,6),競技データ!$C$2:$C$300,1,FALSE))","v":""},{"$f":"IF(AZ65=\"\",\"\",VLOOKUP(LEFT(AZ65,6),競技データ!$C$2:$C$300,1,FALSE))","v":""},false,false,false,0,""]
[null,58,null,null,null,null,{"$f":"IF(C66=\"\",\"\",VLOOKUP($D$4,所属データ!$E:$H,4,FALSE))","v":""},{"$f":"IF(G66=\"\",\"\",VLOOKUP(G66,所属データ!$C:$G,4,0))","v":""},null,0,0,"",0,0,"",null,null,null,0,0,"",0,0,"",null,null,null,0,0,"",0,0,"",null,null,null,null,null,58,"",{"$f":"IF(F66=\"\",\"\",VLOOKUP(F66,基礎データ!H:I,2,FALSE))","v":""},"",{"$f":"IF($E66=\"\",\"\",VLOOKUP($E66,基礎データ!$E:$F,2,FALSE))","v":""},"","",{"$f":"IF(G66=\"\",\"\",VLOOKUP(G66,所属データ!C:G,2,FALSE))","v":""},{"$f":"IF(I66=\"\",\"\",VLOOKUP(I66,基礎データ!K:L,2,FALSE))","v":""},"",{"$f":"IF(R66=\"\",\"\",VLOOKUP(R66,基礎データ!K:L,2,FALSE))","v":""},"",{"$f":"IF(AA66=\"\",\"\",VLOOKUP(AA66,基礎データ!K:L,2,FALSE))","v":""},"",{"$f":"IF(AV66=\"\",\"\",VLOOKUP(LEFT(AV66,6),競技データ!$C$2:$C$300,1,FALSE))","v":""},{"$f":"IF(AX66=\"\",\"\",VLOOKUP(LEFT(AX66,6),競技データ!$C$2:$C$300,1,FALSE))","v":""},{"$f":"IF(AZ66=\"\",\"\",VLOOKUP(LEFT(AZ66,6),競技データ!$C$2:$C$300,1,FALSE))","v":""},false,false,false,0,""]
[null,59,null,null,null,null,{"$f":"IF(C67=\"\",\"\",VLOOKUP($D$4,所属データ!$E:$H,4,FALSE))","v":""},{"$f":"IF(G67=\"\",\"\",VLOOKUP(G67,所属データ!$C:$G,4,0))","v":""},null,0,0,"",0,0,"",null,null,null,0,0,"",0,0,"",null,null,null,0,0,"",0,0,"",null,null,null,null,null,59,"",{"$f":"IF(F67=\"\",\"\",VLOOKUP(F67,基礎データ!H:I,2,FALSE))","v":""},"",{"$f":"IF($E67=\"\",\"\",VLOOKUP($E67,基礎データ!$E:$F,2,FALSE))","v":""},"","",{"$f":"IF(G67=\"\",\"\",VLOOKUP(G67,所属データ!C:G,2,FALSE))","v":""},{"$f":"IF(I67=\"\",\"\",VLOOKUP(I67,基礎データ!K:L,2,FALSE))","v":""},"",{"$f":"IF(R67=\"\",\"\",VLOOKUP(R67,基礎データ!K:L,2,FALSE))","v":""},"",{"$f":"IF(AA67=\"\",\"\",VLOOKUP(AA67,基礎データ!K:L,2,FALSE))","v":""},"",{"$f":"IF(AV67=\"\",\"\",VLOOKUP(LEFT(AV67,6),競技データ!$C$2:$C$300,1,FALSE))","v":""},{"$f":"IF(AX67=\"\",\"\",VLOOKUP(LEFT(AX67,6),競技データ!$C$2:$C$300,1,FALSE))","v":""},{"$f":"IF(AZ67=\"\",\"\",VLOOKUP(LEFT(AZ67,6),競技データ!$C$2:$C$300,1,FALSE))","v":""},false,false,false,0,""]
[null,60,null,null,null,null,{"$f":"IF(C68=\"\",\"\",VLOOKUP($D$4,所属データ!$E:$H,4,FALSE))","v":""},{"$f":"IF(G68=\"\",\"\",VLOOKUP(G68,所属データ!$C:$G,4,0))","v":""},null,0,0,"",0,0,"",null,null,null,0,0,"",0,0,"",null,null,null,0,0,"",0,0,"",null,null,null,null,null,60,"",{"$f":"IF(F68=\"\",\"\",VLOOKUP(F68,基礎データ!H:I,2,FALSE))","v":""},"",{"$f":"IF($E68=\"\",\"\",VLOOKUP($E68,基礎データ!$E:$F,2,FALSE))","v":""},"","",{"$f":"IF(G68=\"\",\"\",VLOOKUP(G68,所属データ!C:G,2,FALSE))","v":""},{"$f":"IF(I68=\"\",\"\",VLOOKUP(I68,基礎データ!K:L,2,FALSE))","v":""},"",{"$f":"IF(R68=\"\",\"\",VLOOKUP(R68,基礎データ!K:L,2,FALSE))","v":""},"",{"$f":"IF(AA68=\"\",\"\",VLOOKUP(AA68,基礎データ!K:L,2,FALSE))","v":""},"",{"$f":"IF(AV68=\"\",\"\",VLOOKUP(LEFT(AV68,6),競技データ!$C$2:$C$300,1,FALSE))","v":""},{"$f":"IF(AX68=\"\",\"\",VLOOKUP(LEFT(AX68,6),競技データ!$C$2:$C$300,1,FALSE))","v":""},{"$f":"IF(AZ68=\"\",\"\",VLOOKUP(LEFT(AZ68,6),競技データ!$C$2:$C$300,1,FALSE))","v":""},false,false,false,0,""]
[null,61,null,null,null,null,{"$f":"IF(C69=\"\",\"\",VLOOKUP($D$4,所属データ!$E:$H,4,FALSE))","v":""},{"$f":"IF(G69=\"\",\"\",VLOOKUP(G69,所属データ!$C:$G,4,0))","v":""},null,0,0,"",0,0,"",null,null,null,0,0,"",0,0,"",null,null,null,0,0,"",0,0,"",null,null,null,null,null,61,"",{"$f":"IF(F69=\"\",\"\",VLOOKUP(F69,基礎データ!H:I,2,FALSE))","v":""},"",{"$f":"IF($E69=\"\",\"\",VLOOKUP($E69,基礎データ!$E:$F,2,FALSE))","v":""},"","",{"$f":"IF(G69=\"\",\"\",VLOOKUP(G69,所属データ!C:G,2,FALSE))","v":""},{"$f":"IF(I69=\"\",\"\",VLOOKUP(I69,基礎データ!K:L,2,FALSE))","v":""},"",{"$f":"IF(R69=\"\",\"\",VLOOKUP(R69,基礎データ!K:L,2,FALSE))","v":""},"",{"$f":"IF(AA69=\"\",\"\",VLOOKUP(AA69,基礎データ!K:L,2,FALSE))","v":""},"",{"$f":"IF(AV69=\"\",\"\",VLOOKUP(LEFT(AV69,6),競技データ!$C$2:$C$300,1,FALSE))","v":""},{"$f":"IF(AX69=\"\",\"\",VLOOKUP(LEFT(AX69,6),競技データ!$C$2:$C$300,1,FALSE))","v":""},{"$f":"IF(AZ69=\"\",\"\",VLOOKUP(LEFT(AZ69,6),競技データ!$C$2:$C$300,1,FALSE))","v":""},false,false,false,0,""]
[null,62,null,null,null,null,{"$f":"IF(C70=\"\",\"\",VLOOKUP($D$4,所属データ!$E:$H,4,FALSE))","v":""},{"$f":"IF(G70=\"\",\"\",VLOOKUP(G70,所属データ!$C:$G,4,0))","v":""},null,0,0,"",0,0,"",null,null,null,0,0,"",0,0,"",null,null,null,0,0,"",0,0,"",null,null,null,null,null,62,"",{"$f":"IF(F70=\"\",\"\",VLOOKUP(F70,基礎データ!H:I,2,FALSE))","v":""},"",{"$f":"IF($E70=\"\",\"\",VLOOKUP($E70,基礎データ!$E:$F,2,FALSE))","v":""},"","",{"$f":"IF(G70=\"\",\"\",VLOOKUP(G70,所属データ!C:G,2,FALSE))","v":""},{"$f":"IF(I70=\"\",\"\",VLOOKUP(I70,基礎データ!K:L,2,FALSE))","v":""},"",{"$f":"IF(R70=\"\",\"\",VLOOKUP(R70,基礎データ!K:L,2,FALSE))","v":""},"",{"$f":"IF(AA70=\"\",\"\",VLOOKUP(AA70,基礎データ!K:L,2,FALSE))","v":""},"",{"$f":"IF(AV70=\"\",\"\",VLOOKUP(LEFT(AV70,6),競技データ!$C$2:$C$300,1,FALSE))","v":""},{"$f":"IF(AX70=\"\",\"\",VLOOKUP(LEFT(AX70,6),競技データ!$C$2:$C$300,1,FALSE))","v":""},{"$f":"IF(AZ70=\"\",\"\",VLOOKUP(LEFT(AZ70,6),競技データ!$C$2:$C$300,1,FALSE))","v":""},false,false,false,0,""]
[null,63,null,null,null,null,{"$f":"IF(C71=\"\",\"\",VLOOKUP($D$4,所属データ!$E:$H,4,FALSE))","v":""},{"$f":"IF(G71=\"\",\"\",VLOOKUP(G71,所属データ!$C:$G,4,0))","v":""},null,0,0,"",0,0,"",null,null,null,0,0,"",0,0,"",null,null,null,0,0,"",0,0,"",null,null,null,null,null,63,"",{"$f":"IF(F71=\"\",\"\",VLOOKUP(F71,基礎データ!H:I,2,FALSE))","v":""},"",{"$f":"IF($E71=\"\",\"\",VLOOKUP($E71,基礎データ!$E:$F,2,FALSE))","v":""},"","",{"$f":"IF(G71=\"\",\"\",VLOOKUP(G71,所属データ!C:G,2,FALSE))","v":""},{"$f":"IF(I71=\"\",\"\",VLOOKUP(I71,基礎データ!K:L,2,FALSE))","v":""},"",{"$f":"IF(R71=\"\",\"\",VLOOKUP(R71,基礎データ!K:L,2,FALSE))","v":""},"",{"$f":"IF(AA71=\"\",\"\",VLOOKUP(AA71,基礎データ!K:L,2,FALSE))","v":""},"",{"$f":"IF(AV71=\"\",\"\",VLOOKUP(LEFT(AV71,6),競技データ!$C$2:$C$300,1,FALSE))","v":""},{"$f":"IF(AX71=\"\",\"\",VLOOKUP(LEFT(AX71,6),競技データ!$C$2:$C$300,1,FALSE))","v":""},{"$f":"IF(AZ71=\"\",\"\",VLOOKUP(LEFT(AZ71,6),競技データ!$C$2:$C$300,1,FALSE))","v":""},false,false,false,0,""]
[null,64,null,null,null,null,{"$f":"IF(C72=\"\",\"\",VLOOKUP($D$4,所属データ!$E:$H,4,FALSE))","v":""},{"$f":"IF(G72=\"\",\"\",VLOOKUP(G72,所属データ!$C:$G,4,0))","v":""},null,0,0,"",0,0,"",null,null,null,0,0,"",0,0,"",null,null,null,0,0,"",0,0,"",null,null,null,null,null,64,"",{"$f":"IF(F72=\"\",\"\",VLOOKUP(F72,基礎データ!H:I,2,FALSE))","v":""},"",{"$f":"IF($E72=\"\",\"\",VLOOKUP($E72,基礎データ!$E:$F,2,FALSE))","v":""},"","",{"$f":"IF(G72=\"\",\"\",VLOOKUP(G72,所属データ!C:G,2,FALSE))","v":""},{"$f":"IF(I72=\"\",\"\",VLOOKUP(I72,基礎データ!K:L,2,FALSE))","v":""},"",{"$f":"IF(R72=\"\",\"\",VLOOKUP(R72,基礎データ!K:L,2,FALSE))","v":""},"",{"$f":"IF(AA72=\"\",\"\",VLOOKUP(AA72,基礎データ!K:L,2,FALSE))","v":""},"",{"$f":"IF(AV72=\"\",\"\",VLOOKUP(LEFT(AV72,6),競技データ!$C$2:$C$300,1,FALSE))","v":""},{"$f":"IF(AX72=\"\",\"\",VLOOKUP(LEFT(AX72,6),競技データ!$C$2:$C$300,1,FALSE))","v":""},{"$f":"IF(AZ72=\"\",\"\",VLOOKUP(LEFT(AZ72,6),競技データ!$C$2:$C$300,1,FALSE))","v":""},false,false,false,0,""]
[null,65,null,null,null,null,{"$f":"IF(C73=\"\",\"\",VLOOKUP($D$4,所属データ!$E:$H,4,FALSE))","v":""},{"$f":"IF(G73=\"\",\"\",VLOOKUP(G73,所属データ!$C:$G,4,0))","v":""},null,0,0,"",0,0,"",null,null,null,0,0,{"$f":"IF(R73=\"\",\"\",IF(R73=\"走幅跳\",\"ｍ\",IF(R73=\"立幅跳\",\"ｍ\",\"分\")))","v":""},0,0,{"$f":"IF(R73=\"\",\"\",IF(R73=\"走幅跳\",\"cm\",IF(R73=\"立幅跳\",\"cm\",\"秒\")))","v":""},null,null,null,0,0,"",0,0,"",null,null,null,null,null,65,"",{"$f":"IF(F73=\"\",\"\",VLOOKUP(F73,基礎データ!H:I,2,FALSE))","v":""},"",{"$f":"IF($E73=\"\",\"\",VLOOKUP($E73,基礎データ!$E:$F,2,FALSE))","v":""},"","",{"$f":"IF(G73=\"\",\"\",VLOOKUP(G73,所属データ!C:G,2,FALSE))","v":""},{"$f":"IF(I73=\"\",\"\",VLOOKUP(I73,基礎データ!K:L,2,FALSE))","v":""},"",{"$f":"IF(R73=\"\",\"\",VLOOKUP(R73,基礎データ!K:L,2,FALSE))","v":""},"",{"$f":"IF(AA73=\"\",\"\",VLOOKUP(AA73,基礎データ!K:L,2,FALSE))","v":""},"",{"$f":"IF(AV73=\"\",\"\",VLOOKUP(LEFT(AV73,6),競技データ!$C$2:$C$300,1,FALSE))","v":""},{"$f":"IF(AX73=\"\",\"\",VLOOKUP(LEFT(AX73,6),競技データ!$C$2:$C$300,1,FALSE))","v":""},{"$f":"IF(AZ73=\"\",\"\",VLOOKUP(LEFT(AZ73,6),競技データ!$C$2:$C$300,1,FALSE))","v":""},false,false,false,0,""]
[null,66,null,null,null,null,{"$f":"IF(C74=\"\",\"\",VLOOKUP($D$4,所属データ!$E:$H,4,FALSE))","v":""},{"$f":"IF(G74=\"\",\"\",VLOOKUP(G74,所属データ!$C:$G,4,0))","v":""},null,0,0,{"$f":"IF(I74=\"\",\"\",IF(I74=\"走幅跳\",\"ｍ\",IF(I74=\"立幅跳\",\"ｍ\",\"分\")))","v":""},0,0,{"$f":"IF(I74=\"\",\"\",IF(I74=\"走幅跳\",\"cm\",IF(I74=\"立幅跳\",\"cm\",\"秒\")))","v":""},null,null,null,0,0,"",0,0,"",null,null,null,0,0,{"$f":"IF(AA74=\"\",\"\",IF(AA74=\"走幅跳\",\"ｍ\",IF(AA74=\"立幅跳\",\"ｍ\",\"分\")))","v":""},0,0,{"$f":"IF(AA74=\"\",\"\",IF(AA74=\"走幅跳\",\"cm\",IF(AA74=\"立幅跳\",\"cm\",\"秒\")))","v":""},null,null,null,null,null,66,{"$f":"IF(C74=\"\",\"\",$AN$7+B74)","v":""},{"$f":"IF(F74=\"\",\"\",VLOOKUP(F74,基礎データ!H:I,2,FALSE))","v":""},{"$f":"IF(C74=\"\",\"\",AO74*100000000+AN74)","v":""},{"$f":"IF($E74=\"\",\"\",VLOOKUP($E74,基礎データ!$E:$F,2,FALSE))","v":""},{"$f":"IF(C74=\"\",\"\",C74&\"(\"&E74&\")\")","v":""},{"$f":"IF(C74=\"\",\"\",$AN$6)","v":""},{"$f":"IF(G74=\"\",\"\",VLOOKUP(G74,所属データ!C:G,2,FALSE))","v":""},{"$f":"IF(I74=\"\",\"\",VLOOKUP(I74,基礎データ!K:L,2,FALSE))","v":""},{"$f":"IF(AU74=\"\",\"\",IF(AU74=\"R215\",AU74&\"00\"&\" 0\"&J74&K74&M74&N74&P74&Q74,IF(AU74=\"R220\",AU74&\"00\"&\" 0\"&J74&K74&M74&N74&P74&Q74,IF(AU74=\"R601\",AU74&\"00\"&\" 0\"&J74&K74&M74&N74&P74&Q74,AU74&AQ74&\" 0\"&J74&K74&M74&N74&P74&Q74))))","v":""},{"$f":"IF(R74=\"\",\"\",VLOOKUP(R74,基礎データ!K:L,2,FALSE))","v":""},{"$f":"IF(AW74=\"\",\"\",IF(AW74=\"R215\",AW74&\"00\"&\" 0\"&$S74&$T74&$V74&$W74&$Y74&$Z74,IF(AW74=\"R220\",AW74&\"00\"&\" 0\"&$S74&$T74&$V74&$W74&$Y74&$Z74,IF(AW74=\"R601\",AW74&\"00\"&\" 0\"&$S74&$T74&$V74&$W74&$Y74&$Z74,AW74&$AQ74&\" 0\"&$S74&$T74&$V74&$W74&$Y74&$Z74))))","v":""},{"$f":"IF(AA74=\"\",\"\",VLOOKUP(AA74,基礎データ!K:L,2,FALSE))","v":""},{"$f":"IF(AY74=\"\",\"\",IF(AY74=\"R215\",AY74&\"00\"&\" 0\"&AB74&AC74&AE74&AF74&AH74&AI74,IF(AY74=\"R220\",AY74&\"00\"&\" 0\"&AB74&AC74&AE74&AF74&AH74&AI74,IF(AY74=\"R601\",AY74&\"00\"&\" 0\"&AB74&AC74&AE74&AF74&AH74&AI74,AY74&AQ74&\" 0\"&AB74&AC74&AE74&AF74&AH74&AI74))))","v":""},{"$f":"IF(AV74=\"\",\"\",VLOOKUP(LEFT(AV74,6),競技データ!$C$2:$C$300,1,FALSE))","v":""},{"$f":"IF(AX74=\"\",\"\",VLOOKUP(LEFT(AX74,6),競技データ!$C$2:$C$300,1,FALSE))","v":""},{"$f":"IF(AZ74=\"\",\"\",VLOOKUP(LEFT(AZ74,6),競技データ!$C$2:$C$300,1,FALSE))","v":""},{"$f":"ISERROR(BA74)","v":false},{"$f":"ISERROR(BB74)","v":false},false,{"$f":"COUNTIF(BD74:BF74,\"true\")","v":0},{"$f":"IF(AJ74=\"１００ｍ\",\"R025\"&AQ74,IF(AJ74=\"３００ｍ\",\"R026\"&AQ74,IF(AJ74=\"５００ｍ\",\"R027\"&AQ74,\"\")))","v":""}]
[null,67,null,null,null,null,{"$f":"IF(C75=\"\",\"\",VLOOKUP($D$4,所属データ!$E:$H,4,FALSE))","v":""},{"$f":"IF(G75=\"\",\"\",VLOOKUP(G75,所属データ!$C:$G,4,0))","v":""},null,0,0,"",0,0,"",null,null,null,0,0,"",0,0,"",null,null,null,0,0,"",0,0,"",null,null,null,null,null,67,"",{"$f":"IF(F75=\"\",\"\",VLOOKUP(F75,基礎データ!H:I,2,FALSE))","v":""},"",{"$f":"IF($E75=\"\",\"\",VLOOKUP($E75,基礎データ!$E:$F,2,FALSE))","v":""},"","",{"$f":"IF(G75=\"\",\"\",VLOOKUP(G75,所属データ!C:G,2,FALSE))","v":""},{"$f":"IF(I75=\"\",\"\",VLOOKUP(I75,基礎データ!K:L,2,FALSE))","v":""},"",{"$f":"IF(R75=\"\",\"\",VLOOKUP(R75,基礎データ!K:L,2,FALSE))","v":""},"",{"$f":"IF(AA75=\"\",\"\",VLOOKUP(AA75,基礎データ!K:L,2,FALSE))","v":""},"",{"$f":"IF(AV75=\"\",\"\",VLOOKUP(LEFT(AV75,6),競技データ!$C$2:$C$300,1,FALSE))","v":""},{"$f":"IF(AX75=\"\",\"\",VLOOKUP(LEFT(AX75,6),競技データ!$C$2:$C$300,1,FALSE))","v":""},{"$f":"IF(AZ75=\"\",\"\",VLOOKUP(LEFT(AZ75,6),競技データ!$C$2:$C$300,1,FALSE))","v":""},false,false,false,0,""]
[null,68,null,null,null,null,{"$f":"IF(C76=\"\",\"\",VLOOKUP($D$4,所属データ!$E:$H,4,FALSE))","v":""},{"$f":"IF(G76=\"\",\"\",VLOOKUP(G76,所属データ!$C:$G,4,0))","v":""},null,0,0,"",0,0,"",null,null,null,0,0,"",0,0,"",null,null,null,0,0,"",0,0,"",null,null,null,null,null,68,"",{"$f":"IF(F76=\"\",\"\",VLOOKUP(F76,基礎データ!H:I,2,FALSE))","v":""},"",{"$f":"IF($E76=\"\",\"\",VLOOKUP($E76,基礎データ!$E:$F,2,FALSE))","v":""},"","",{"$f":"IF(G76=\"\",\"\",VLOOKUP(G76,所属データ!C:G,2,FALSE))","v":""},{"$f":"IF(I76=\"\",\"\",VLOOKUP(I76,基礎データ!K:L,2,FALSE))","v":""},"",{"$f":"IF(R76=\"\",\"\",VLOOKUP(R76,基礎データ!K:L,2,FALSE))","v":""},"",{"$f":"IF(AA76=\"\",\"\",VLOOKUP(AA76,基礎データ!K:L,2,FALSE))","v":""},"",{"$f":"IF(AV76=\"\",\"\",VLOOKUP(LEFT(AV76,6),競技データ!$C$2:$C$300,1,FALSE))","v":""},{"$f":"IF(AX76=\"\",\"\",VLOOKUP(LEFT(AX76,6),競技データ!$C$2:$C$300,1,FALSE))","v":""},{"$f":"IF(AZ76=\"\",\"\",VLOOKUP(LEFT(AZ76,6),競技データ!$C$2:$C$300,1,FALSE))","v":""},false,false,false,0,""]
[null,69,null,null,null,null,{"$f":"IF(C77=\"\",\"\",VLOOKUP($D$4,所属データ!$E:$H,4,FALSE))","v":""},{"$f":"IF(G77=\"\",\"\",VLOOKUP(G77,所属データ!$C:$G,4,0))","v":""},null,0,0,"",0,0,"",null,null,null,0,0,"",0,0,"",null,null,null,0,0,"",0,0,"",null,null,null,null,null,69,"",{"$f":"IF(F77=\"\",\"\",VLOOKUP(F77,基礎データ!H:I,2,FALSE))","v":""},"",{"$f":"IF($E77=\"\",\"\",VLOOKUP($E77,基礎データ!$E:$F,2,FALSE))","v":""},"","",{"$f":"IF(G77=\"\",\"\",VLOOKUP(G77,所属データ!C:G,2,FALSE))","v":""},{"$f":"IF(I77=\"\",\"\",VLOOKUP(I77,基礎データ!K:L,2,FALSE))","v":""},"",{"$f":"IF(R77=\"\",\"\",VLOOKUP(R77,基礎データ!K:L,2,FALSE))","v":""},"",{"$f":"IF(AA77=\"\",\"\",VLOOKUP(AA77,基礎データ!K:L,2,FALSE))","v":""},"",{"$f":"IF(AV77=\"\",\"\",VLOOKUP(LEFT(AV77,6),競技データ!$C$2:$C$300,1,FALSE))","v":""},{"$f":"IF(AX77=\"\",\"\",VLOOKUP(LEFT(AX77,6),競技データ!$C$2:$C$300,1,FALSE))","v":""},{"$f":"IF(AZ77=\"\",\"\",VLOOKUP(LEFT(AZ77,6),競技データ!$C$2:$C$300,1,FALSE))","v":""},false,false,false,0,""]
[null,70,null,null,null,null,{"$f":"IF(C78=\"\",\"\",VLOOKUP($D$4,所属データ!$E:$H,4,FALSE))","v":""},{"$f":"IF(G78=\"\",\"\",VLOOKUP(G78,所属データ!$C:$G,4,0))","v":""},null,0,0,"",0,0,"",null,null,null,0,0,"",0,0,"",null,null,null,0,0,"",0,0,"",null,null,null,null,null,70,"",{"$f":"IF(F78=\"\",\"\",VLOOKUP(F78,基礎データ!H:I,2,FALSE))","v":""},"",{"$f":"IF($E78=\"\",\"\",VLOOKUP($E78,基礎データ!$E:$F,2,FALSE))","v":""},"","",{"$f":"IF(G78=\"\",\"\",VLOOKUP(G78,所属データ!C:G,2,FALSE))","v":""},{"$f":"IF(I78=\"\",\"\",VLOOKUP(I78,基礎データ!K:L,2,FALSE))","v":""},"",{"$f":"IF(R78=\"\",\"\",VLOOKUP(R78,基礎データ!K:L,2,FALSE))","v":""},"",{"$f":"IF(AA78=\"\",\"\",VLOOKUP(AA78,基礎データ!K:L,2,FALSE))","v":""},"",{"$f":"IF(AV78=\"\",\"\",VLOOKUP(LEFT(AV78,6),競技データ!$C$2:$C$300,1,FALSE))","v":""},{"$f":"IF(AX78=\"\",\"\",VLOOKUP(LEFT(AX78,6),競技データ!$C$2:$C$300,1,FALSE))","v":""},{"$f":"IF(AZ78=\"\",\"\",VLOOKUP(LEFT(AZ78,6),競技データ!$C$2:$C$300,1,FALSE))","v":""},false,false,false,0,""]
[null,71,null,null,null,null,{"$f":"IF(C79=\"\",\"\",VLOOKUP($D$4,所属データ!$E:$H,4,FALSE))","v":""},{"$f":"IF(G79=\"\",\"\",VLOOKUP(G79,所属データ!$C:$G,4,0))","v":""},null,0,0,"",0,0,"",null,null,null,0,0,"",0,0,"",null,null,null,0,0,"",0,0,"",null,null,null,null,null,71,"",{"$f":"IF(F79=\"\",\"\",VLOOKUP(F79,基礎データ!H:I,2,FALSE))","v":""},"",{"$f":"IF($E79=\"\",\"\",VLOOKUP($E79,基礎データ!$E:$F,2,FALSE))","v":""},"","",{"$f":"IF(G79=\"\",\"\",VLOOKUP(G79,所属データ!C:G,2,FALSE))","v":""},{"$f":"IF(I79=\"\",\"\",VLOOKUP(I79,基礎データ!K:L,2,FALSE))","v":""},"",{"$f":"IF(R79=\"\",\"\",VLOOKUP(R79,基礎データ!K:L,2,FALSE))","v":""},"",{"$f":"IF(AA79=\"\",\"\",VLOOKUP(AA79,基礎データ!K:L,2,FALSE))","v":""},"",{"$f":"IF(AV79=\"\",\"\",VLOOKUP(LEFT(AV79,6),競技データ!$C$2:$C$300,1,FALSE))","v":""},{"$f":"IF(AX79=\"\",\"\",VLOOKUP(LEFT(AX79,6),競技データ!$C$2:$C$300,1,FALSE))","v":""},{"$f":"IF(AZ79=\"\",\"\",VLOOKUP(LEFT(AZ79,6),競技データ!$C$2:$C$300,1,FALSE))","v":""},false,false,false,0,""]
[null,72,null,null,null,null,{"$f":"IF(C80=\"\",\"\",VLOOKUP($D$4,所属データ!$E:$H,4,FALSE))","v":""},{"$f":"IF(G80=\"\",\"\",VLOOKUP(G80,所属データ!$C:$G,4,0))","v":""},null,0,0,"",0,0,"",null,null,null,0,0,"",0,0,"",null,null,null,0,0,"",0,0,"",null,null,null,null,null,72,"",{"$f":"IF(F80=\"\",\"\",VLOOKUP(F80,基礎データ!H:I,2,FALSE))","v":""},"",{"$f":"IF($E80=\"\",\"\",VLOOKUP($E80,基礎データ!$E:$F,2,FALSE))","v":""},"","",{"$f":"IF(G80=\"\",\"\",VLOOKUP(G80,所属データ!C:G,2,FALSE))","v":""},{"$f":"IF(I80=\"\",\"\",VLOOKUP(I80,基礎データ!K:L,2,FALSE))","v":""},"",{"$f":"IF(R80=\"\",\"\",VLOOKUP(R80,基礎データ!K:L,2,FALSE))","v":""},"",{"$f":"IF(AA80=\"\",\"\",VLOOKUP(AA80,基礎データ!K:L,2,FALSE))","v":""},"",{"$f":"IF(AV80=\"\",\"\",VLOOKUP(LEFT(AV80,6),競技データ!$C$2:$C$300,1,FALSE))","v":""},{"$f":"IF(AX80=\"\",\"\",VLOOKUP(LEFT(AX80,6),競技データ!$C$2:$C$300,1,FALSE))","v":""},{"$f":"IF(AZ80=\"\",\"\",VLOOKUP(LEFT(AZ80,6),競技データ!$C$2:$C$300,1,FALSE))","v":""},false,false,false,0,""]
[null,73,null,null,null,null,{"$f":"IF(C81=\"\",\"\",VLOOKUP($D$4,所属データ!$E:$H,4,FALSE))","v":""},{"$f":"IF(G81=\"\",\"\",VLOOKUP(G81,所属データ!$C:$G,4,0))","v":""},null,0,0,"",0,0,"",null,null,null,0,0,"",0,0,"",null,null,null,0,0,"",0,0,"",null,null,null,null,null,73,"",{"$f":"IF(F81=\"\",\"\",VLOOKUP(F81,基礎データ!H:I,2,FALSE))","v":""},"",{"$f":"IF($E81=\"\",\"\",VLOOKUP($E81,基礎データ!$E:$F,2,FALSE))","v":""},"","",{"$f":"IF(G81=\"\",\"\",VLOOKUP(G81,所属データ!C:G,2,FALSE))","v":""},{"$f":"IF(I81=\"\",\"\",VLOOKUP(I81,基礎データ!K:L,2,FALSE))","v":""},"",{"$f":"IF(R81=\"\",\"\",VLOOKUP(R81,基礎データ!K:L,2,FALSE))","v":""},"",{"$f":"IF(AA81=\"\",\"\",VLOOKUP(AA81,基礎データ!K:L,2,FALSE))","v":""},"",{"$f":"IF(AV81=\"\",\"\",VLOOKUP(LEFT(AV81,6),競技データ!$C$2:$C$300,1,FALSE))","v":""},{"$f":"IF(AX81=\"\",\"\",VLOOKUP(LEFT(AX81,6),競技データ!$C$2:$C$300,1,FALSE))","v":""},{"$f":"IF(AZ81=\"\",\"\",VLOOKUP(LEFT(AZ81,6),競技データ!$C$2:$C$300,1,FALSE))","v":""},false,false,false,0,""]
[null,74,null,null,null,null,{"$f":"IF(C82=\"\",\"\",VLOOKUP($D$4,所属データ!$E:$H,4,FALSE))","v":""},{"$f":"IF(G82=\"\",\"\",VLOOKUP(G82,所属データ!$C:$G,4,0))","v":""},null,0,0,"",0,0,"",null,null,null,0,0,"",0,0,"",null,null,null,0,0,"",0,0,"",null,null,null,null,null,74,"",{"$f":"IF(F82=\"\",\"\",VLOOKUP(F82,基礎データ!H:I,2,FALSE))","v":""},"",{"$f":"IF($E82=\"\",\"\",VLOOKUP($E82,基礎データ!$E:$F,2,FALSE))","v":""},"","",{"$f":"IF(G82=\"\",\"\",VLOOKUP(G82,所属データ!C:G,2,FALSE))","v":""},{"$f":"IF(I82=\"\",\"\",VLOOKUP(I82,基礎データ!K:L,2,FALSE))","v":""},"",{"$f":"IF(R82=\"\",\"\",VLOOKUP(R82,基礎データ!K:L,2,FALSE))","v":""},"",{"$f":"IF(AA82=\"\",\"\",VLOOKUP(AA82,基礎データ!K:L,2,FALSE))","v":""},"",{"$f":"IF(AV82=\"\",\"\",VLOOKUP(LEFT(AV82,6),競技データ!$C$2:$C$300,1,FALSE))","v":""},{"$f":"IF(AX82=\"\",\"\",VLOOKUP(LEFT(AX82,6),競技データ!$C$2:$C$300,1,FALSE))","v":""},{"$f":"IF(AZ82=\"\",\"\",VLOOKUP(LEFT(AZ82,6),競技データ!$C$2:$C$300,1,FALSE))","v":""},false,false,false,0,""]
[null,75,null,null,null,null,{"$f":"IF(C83=\"\",\"\",VLOOKUP($D$4,所属データ!$E:$H,4,FALSE))","v":""},{"$f":"IF(G83=\"\",\"\",VLOOKUP(G83,所属データ!$C:$G,4,0))","v":""},null,0,0,"",0,0,"",null,null,null,0,0,"",0,0,"",null,null,null,0,0,"",0,0,"",null,null,null,null,null,75,"",{"$f":"IF(F83=\"\",\"\",VLOOKUP(F83,基礎データ!H:I,2,FALSE))","v":""},"",{"$f":"IF($E83=\"\",\"\",VLOOKUP($E83,基礎データ!$E:$F,2,FALSE))","v":""},"","",{"$f":"IF(G83=\"\",\"\",VLOOKUP(G83,所属データ!C:G,2,FALSE))","v":""},{"$f":"IF(I83=\"\",\"\",VLOOKUP(I83,基礎データ!K:L,2,FALSE))","v":""},"",{"$f":"IF(R83=\"\",\"\",VLOOKUP(R83,基礎データ!K:L,2,FALSE))","v":""},"",{"$f":"IF(AA83=\"\",\"\",VLOOKUP(AA83,基礎データ!K:L,2,FALSE))","v":""},"",{"$f":"IF(AV83=\"\",\"\",VLOOKUP(LEFT(AV83,6),競技データ!$C$2:$C$300,1,FALSE))","v":""},{"$f":"IF(AX83=\"\",\"\",VLOOKUP(LEFT(AX83,6),競技データ!$C$2:$C$300,1,FALSE))","v":""},{"$f":"IF(AZ83=\"\",\"\",VLOOKUP(LEFT(AZ83,6),競技データ!$C$2:$C$300,1,FALSE))","v":""},false,false,false,0,""]
[null,76,null,null,null,null,{"$f":"IF(C84=\"\",\"\",VLOOKUP($D$4,所属データ!$E:$H,4,FALSE))","v":""},{"$f":"IF(G84=\"\",\"\",VLOOKUP(G84,所属データ!$C:$G,4,0))","v":""},null,0,0,"",0,0,"",null,null,null,0,0,"",0,0,"",null,null,null,0,0,"",0,0,"",null,null,null,null,null,76,"",{"$f":"IF(F84=\"\",\"\",VLOOKUP(F84,基礎データ!H:I,2,FALSE))","v":""},"",{"$f":"IF($E84=\"\",\"\",VLOOKUP($E84,基礎データ!$E:$F,2,FALSE))","v":""},"","",{"$f":"IF(G84=\"\",\"\",VLOOKUP(G84,所属データ!C:G,2,FALSE))","v":""},{"$f":"IF(I84=\"\",\"\",VLOOKUP(I84,基礎データ!K:L,2,FALSE))","v":""},"",{"$f":"IF(R84=\"\",\"\",VLOOKUP(R84,基礎データ!K:L,2,FALSE))","v":""},"",{"$f":"IF(AA84=\"\",\"\",VLOOKUP(AA84,基礎データ!K:L,2,FALSE))","v":""},"",{"$f":"IF(AV84=\"\",\"\",VLOOKUP(LEFT(AV84,6),競技データ!$C$2:$C$300,1,FALSE))","v":""},{"$f":"IF(AX84=\"\",\"\",VLOOKUP(LEFT(AX84,6),競技データ!$C$2:$C$300,1,FALSE))","v":""},{"$f":"IF(AZ84=\"\",\"\",VLOOKUP(LEFT(AZ84,6),競技データ!$C$2:$C$300,1,FALSE))","v":""},false,false,false,0,""]
[null,77,null,null,null,null,{"$f":"IF(C85=\"\",\"\",VLOOKUP($D$4,所属データ!$E:$H,4,FALSE))","v":""},{"$f":"IF(G85=\"\",\"\",VLOOKUP(G85,所属データ!$C:$G,4,0))","v":""},null,0,0,"",0,0,"",null,null,null,0,0,"",0,0,"",null,null,null,0,0,"",0,0,"",null,null,null,null,null,77,"",{"$f":"IF(F85=\"\",\"\",VLOOKUP(F85,基礎データ!H:I,2,FALSE))","v":""},"",{"$f":"IF($E85=\"\",\"\",VLOOKUP($E85,基礎データ!$E:$F,2,FALSE))","v":""},"","",{"$f":"IF(G85=\"\",\"\",VLOOKUP(G85,所属データ!C:G,2,FALSE))","v":""},{"$f":"IF(I85=\"\",\"\",VLOOKUP(I85,基礎データ!K:L,2,FALSE))","v":""},"",{"$f":"IF(R85=\"\",\"\",VLOOKUP(R85,基礎データ!K:L,2,FALSE))","v":""},"",{"$f":"IF(AA85=\"\",\"\",VLOOKUP(AA85,基礎データ!K:L,2,FALSE))","v":""},"",{"$f":"IF(AV85=\"\",\"\",VLOOKUP(LEFT(AV85,6),競技データ!$C$2:$C$300,1,FALSE))","v":""},{"$f":"IF(AX85=\"\",\"\",VLOOKUP(LEFT(AX85,6),競技データ!$C$2:$C$300,1,FALSE))","v":""},{"$f":"IF(AZ85=\"\",\"\",VLOOKUP(LEFT(AZ85,6),競技データ!$C$2:$C$300,1,FALSE))","v":""},false,false,false,0,""]
[null,78,null,null,null,null,{"$f":"IF(C86=\"\",\"\",VLOOKUP($D$4,所属データ!$E:$H,4,FALSE))","v":""},{"$f":"IF(G86=\"\",\"\",VLOOKUP(G86,所属データ!$C:$G,4,0))","v":""},null,0,0,"",0,0,"",null,null,null,0,0,"",0,0,"",null,null,null,0,0,"",0,0,"",null,null,null,null,null,78,"",{"$f":"IF(F86=\"\",\"\",VLOOKUP(F86,基礎データ!H:I,2,FALSE))","v":""},"",{"$f":"IF($E86=\"\",\"\",VLOOKUP($E86,基礎データ!$E:$F,2,FALSE))","v":""},"","",{"$f":"IF(G86=\"\",\"\",VLOOKUP(G86,所属データ!C:G,2,FALSE))","v":""},{"$f":"IF(I86=\"\",\"\",VLOOKUP(I86,基礎データ!K:L,2,FALSE))","v":""},"",{"$f":"IF(R86=\"\",\"\",VLOOKUP(R86,基礎データ!K:L,2,FALSE))","v":""},"",{"$f":"IF(AA86=\"\",\"\",VLOOKUP(AA86,基礎データ!K:L,2,FALSE))","v":""},"",{"$f":"IF(AV86=\"\",\"\",VLOOKUP(LEFT(AV86,6),競技データ!$C$2:$C$300,1,FALSE))","v":""},{"$f":"IF(AX86=\"\",\"\",VLOOKUP(LEFT(AX86,6),競技データ!$C$2:$C$300,1,FALSE))","v":""},{"$f":"IF(AZ86=\"\",\"\",VLOOKUP(LEFT(AZ86,6),競技データ!$C$2:$C$300,1,FALSE))","v":""},false,false,false,0,""]
[null,79,null,null,null,null,{"$f":"IF(C87=\"\",\"\",VLOOKUP($D$4,所属データ!$E:$H,4,FALSE))","v":""},{"$f":"IF(G87=\"\",\"\",VLOOKUP(G87,所属データ!$C:$G,4,0))","v":""},null,0,0,"",0,0,"",null,null,null,0,0,"",0,0,"",null,null,null,0,0,"",0,0,"",null,null,null,null,null,79,"",{"$f":"IF(F87=\"\",\"\",VLOOKUP(F87,基礎データ!H:I,2,FALSE))","v":""},"",{"$f":"IF($E87=\"\",\"\",VLOOKUP($E87,基礎データ!$E:$F,2,FALSE))","v":""},"","",{"$f":"IF(G87=\"\",\"\",VLOOKUP(G87,所属データ!C:G,2,FALSE))","v":""},{"$f":"IF(I87=\"\",\"\",VLOOKUP(I87,基礎データ!K:L,2,FALSE))","v":""},"",{"$f":"IF(R87=\"\",\"\",VLOOKUP(R87,基礎データ!K:L,2,FALSE))","v":""},"",{"$f":"IF(AA87=\"\",\"\",VLOOKUP(AA87,基礎データ!K:L,2,FALSE))","v":""},"",{"$f":"IF(AV87=\"\",\"\",VLOOKUP(LEFT(AV87,6),競技データ!$C$2:$C$300,1,FALSE))","v":""},{"$f":"IF(AX87=\"\",\"\",VLOOKUP(LEFT(AX87,6),競技データ!$C$2:$C$300,1,FALSE))","v":""},{"$f":"IF(AZ87=\"\",\"\",VLOOKUP(LEFT(AZ87,6),競技データ!$C$2:$C$300,1,FALSE))","v":""},false,false,false,0,""]
[null,80,null,null,null,null,{"$f":"IF(C88=\"\",\"\",VLOOKUP($D$4,所属データ!$E:$H,4,FALSE))","v":""},{"$f":"IF(G88=\"\",\"\",VLOOKUP(G88,所属データ!$C:$G,4,0))","v":""},null,0,0,"",0,0,"",null,null,null,0,0,"",0,0,"",null,null,null,0,0,"",0,0,"",null,null,null,null,null,80,"",{"$f":"IF(F88=\"\",\"\",VLOOKUP(F88,基礎データ!H:I,2,FALSE))","v":""},"",{"$f":"IF($E88=\"\",\"\",VLOOKUP($E88,基礎データ!$E:$F,2,FALSE))","v":""},"","",{"$f":"IF(G88=\"\",\"\",VLOOKUP(G88,所属データ!C:G,2,FALSE))","v":""},{"$f":"IF(I88=\"\",\"\",VLOOKUP(I88,基礎データ!K:L,2,FALSE))","v":""},"",{"$f":"IF(R88=\"\",\"\",VLOOKUP(R88,基礎データ!K:L,2,FALSE))","v":""},"",{"$f":"IF(AA88=\"\",\"\",VLOOKUP(AA88,基礎データ!K:L,2,FALSE))","v":""},"",{"$f":"IF(AV88=\"\",\"\",VLOOKUP(LEFT(AV88,6),競技データ!$C$2:$C$300,1,FALSE))","v":""},{"$f":"IF(AX88=\"\",\"\",VLOOKUP(LEFT(AX88,6),競技データ!$C$2:$C$300,1,FALSE))","v":""},{"$f":"IF(AZ88=\"\",\"\",VLOOKUP(LEFT(AZ88,6),競技データ!$C$2:$C$300,1,FALSE))","v":""},false,false,false,0,""]
[null,81,null,null,null,null,{"$f":"IF(C89=\"\",\"\",VLOOKUP($D$4,所属データ!$E:$H,4,FALSE))","v":""},{"$f":"IF(G89=\"\",\"\",VLOOKUP(G89,所属データ!$C:$G,4,0))","v":""},null,0,0,"",0,0,"",null,null,null,0,0,"",0,0,"",null,null,null,0,0,"",0,0,"",null,null,null,null,null,81,"",{"$f":"IF(F89=\"\",\"\",VLOOKUP(F89,基礎データ!H:I,2,FALSE))","v":""},"",{"$f":"IF($E89=\"\",\"\",VLOOKUP($E89,基礎データ!$E:$F,2,FALSE))","v":""},"","",{"$f":"IF(G89=\"\",\"\",VLOOKUP(G89,所属データ!C:G,2,FALSE))","v":""},{"$f":"IF(I89=\"\",\"\",VLOOKUP(I89,基礎データ!K:L,2,FALSE))","v":""},"",{"$f":"IF(R89=\"\",\"\",VLOOKUP(R89,基礎データ!K:L,2,FALSE))","v":""},"",{"$f":"IF(AA89=\"\",\"\",VLOOKUP(AA89,基礎データ!K:L,2,FALSE))","v":""},"",{"$f":"IF(AV89=\"\",\"\",VLOOKUP(LEFT(AV89,6),競技データ!$C$2:$C$300,1,FALSE))","v":""},{"$f":"IF(AX89=\"\",\"\",VLOOKUP(LEFT(AX89,6),競技データ!$C$2:$C$300,1,FALSE))","v":""},{"$f":"IF(AZ89=\"\",\"\",VLOOKUP(LEFT(AZ89,6),競技データ!$C$2:$C$300,1,FALSE))","v":""},false,false,false,0,""]
[null,82,null,null,null,null,{"$f":"IF(C90=\"\",\"\",VLOOKUP($D$4,所属データ!$E:$H,4,FALSE))","v":""},{"$f":"IF(G90=\"\",\"\",VLOOKUP(G90,所属データ!$C:$G,4,0))","v":""},null,0,0,"",0,0,"",null,null,null,0,0,"",0,0,"",null,null,null,0,0,"",0,0,"",null,null,null,null,null,82,"",{"$f":"IF(F90=\"\",\"\",VLOOKUP(F90,基礎データ!H:I,2,FALSE))","v":""},"",{"$f":"IF($E90=\"\",\"\",VLOOKUP($E90,基礎データ!$E:$F,2,FALSE))","v":""},"","",{"$f":"IF(G90=\"\",\"\",VLOOKUP(G90,所属データ!C:G,2,FALSE))","v":""},{"$f":"IF(I90=\"\",\"\",VLOOKUP(I90,基礎データ!K:L,2,FALSE))","v":""},"",{"$f":"IF(R90=\"\",\"\",VLOOKUP(R90,基礎データ!K:L,2,FALSE))","v":""},"",{"$f":"IF(AA90=\"\",\"\",VLOOKUP(AA90,基礎データ!K:L,2,FALSE))","v":""},"",{"$f":"IF(AV90=\"\",\"\",VLOOKUP(LEFT(AV90,6),競技データ!$C$2:$C$300,1,FALSE))","v":""},{"$f":"IF(AX90=\"\",\"\",VLOOKUP(LEFT(AX90,6),競技データ!$C$2:$C$300,1,FALSE))","v":""},{"$f":"IF(AZ90=\"\",\"\",VLOOKUP(LEFT(AZ90,6),競技データ!$C$2:$C$300,1,FALSE))","v":""},false,false,false,0,""]
[null,83,null,null,null,null,{"$f":"IF(C91=\"\",\"\",VLOOKUP($D$4,所属データ!$E:$H,4,FALSE))","v":""},{"$f":"IF(G91=\"\",\"\",VLOOKUP(G91,所属データ!$C:$G,4,0))","v":""},null,0,0,"",0,0,"",null,null,null,0,0,"",0,0,"",null,null,null,0,0,"",0,0,"",null,null,null,null,null,83,"",{"$f":"IF(F91=\"\",\"\",VLOOKUP(F91,基礎データ!H:I,2,FALSE))","v":""},"",{"$f":"IF($E91=\"\",\"\",VLOOKUP($E91,基礎データ!$E:$F,2,FALSE))","v":""},"","",{"$f":"IF(G91=\"\",\"\",VLOOKUP(G91,所属データ!C:G,2,FALSE))","v":""},{"$f":"IF(I91=\"\",\"\",VLOOKUP(I91,基礎データ!K:L,2,FALSE))","v":""},"",{"$f":"IF(R91=\"\",\"\",VLOOKUP(R91,基礎データ!K:L,2,FALSE))","v":""},"",{"$f":"IF(AA91=\"\",\"\",VLOOKUP(AA91,基礎データ!K:L,2,FALSE))","v":""},"",{"$f":"IF(AV91=\"\",\"\",VLOOKUP(LEFT(AV91,6),競技データ!$C$2:$C$300,1,FALSE))","v":""},{"$f":"IF(AX91=\"\",\"\",VLOOKUP(LEFT(AX91,6),競技データ!$C$2:$C$300,1,FALSE))","v":""},{"$f":"IF(AZ91=\"\",\"\",VLOOKUP(LEFT(AZ91,6),競技データ!$C$2:$C$300,1,FALSE))","v":""},false,false,false,0,""]
[null,84,null,null,null,null,{"$f":"IF(C92=\"\",\"\",VLOOKUP($D$4,所属データ!$E:$H,4,FALSE))","v":""},{"$f":"IF(G92=\"\",\"\",VLOOKUP(G92,所属データ!$C:$G,4,0))","v":""},null,0,0,"",0,0,"",null,null,null,0,0,"",0,0,"",null,null,null,0,0,"",0,0,"",null,null,null,null,null,84,"",{"$f":"IF(F92=\"\",\"\",VLOOKUP(F92,基礎データ!H:I,2,FALSE))","v":""},"",{"$f":"IF($E92=\"\",\"\",VLOOKUP($E92,基礎データ!$E:$F,2,FALSE))","v":""},"","",{"$f":"IF(G92=\"\",\"\",VLOOKUP(G92,所属データ!C:G,2,FALSE))","v":""},{"$f":"IF(I92=\"\",\"\",VLOOKUP(I92,基礎データ!K:L,2,FALSE))","v":""},"",{"$f":"IF(R92=\"\",\"\",VLOOKUP(R92,基礎データ!K:L,2,FALSE))","v":""},"",{"$f":"IF(AA92=\"\",\"\",VLOOKUP(AA92,基礎データ!K:L,2,FALSE))","v":""},"",{"$f":"IF(AV92=\"\",\"\",VLOOKUP(LEFT(AV92,6),競技データ!$C$2:$C$300,1,FALSE))","v":""},{"$f":"IF(AX92=\"\",\"\",VLOOKUP(LEFT(AX92,6),競技データ!$C$2:$C$300,1,FALSE))","v":""},{"$f":"IF(AZ92=\"\",\"\",VLOOKUP(LEFT(AZ92,6),競技データ!$C$2:$C$300,1,FALSE))","v":""},false,false,false,0,""]
[null,85,null,null,null,null,{"$f":"IF(C93=\"\",\"\",VLOOKUP($D$4,所属データ!$E:$H,4,FALSE))","v":""},{"$f":"IF(G93=\"\",\"\",VLOOKUP(G93,所属データ!$C:$G,4,0))","v":""},null,0,0,"",0,0,"",null,null,null,0,0,"",0,0,"",null,null,null,0,0,"",0,0,"",null,null,null,null,null,85,"",{"$f":"IF(F93=\"\",\"\",VLOOKUP(F93,基礎データ!H:I,2,FALSE))","v":""},"",{"$f":"IF($E93=\"\",\"\",VLOOKUP($E93,基礎データ!$E:$F,2,FALSE))","v":""},"","",{"$f":"IF(G93=\"\",\"\",VLOOKUP(G93,所属データ!C:G,2,FALSE))","v":""},{"$f":"IF(I93=\"\",\"\",VLOOKUP(I93,基礎データ!K:L,2,FALSE))","v":""},"",{"$f":"IF(R93=\"\",\"\",VLOOKUP(R93,基礎データ!K:L,2,FALSE))","v":""},"",{"$f":"IF(AA93=\"\",\"\",VLOOKUP(AA93,基礎データ!K:L,2,FALSE))","v":""},"",{"$f":"IF(AV93=\"\",\"\",VLOOKUP(LEFT(AV93,6),競技データ!$C$2:$C$300,1,FALSE))","v":""},{"$f":"IF(AX93=\"\",\"\",VLOOKUP(LEFT(AX93,6),競技データ!$C$2:$C$300,1,FALSE))","v":""},{"$f":"IF(AZ93=\"\",\"\",VLOOKUP(LEFT(AZ93,6),競技データ!$C$2:$C$300,1,FALSE))","v":""},false,false,false,0,""]
[null,86,null,null,null,null,{"$f":"IF(C94=\"\",\"\",VLOOKUP($D$4,所属データ!$E:$H,4,FALSE))","v":""},{"$f":"IF(G94=\"\",\"\",VLOOKUP(G94,所属データ!$C:$G,4,0))","v":""},null,0,0,"",0,0,"",null,null,null,0,0,"",0,0,"",null,null,null,0,0,"",0,0,"",null,null,null,null,null,86,"",{"$f":"IF(F94=\"\",\"\",VLOOKUP(F94,基礎データ!H:I,2,FALSE))","v":""},"",{"$f":"IF($E94=\"\",\"\",VLOOKUP($E94,基礎データ!$E:$F,2,FALSE))","v":""},"","",{"$f":"IF(G94=\"\",\"\",VLOOKUP(G94,所属データ!C:G,2,FALSE))","v":""},{"$f":"IF(I94=\"\",\"\",VLOOKUP(I94,基礎データ!K:L,2,FALSE))","v":""},"",{"$f":"IF(R94=\"\",\"\",VLOOKUP(R94,基礎データ!K:L,2,FALSE))","v":""},"",{"$f":"IF(AA94=\"\",\"\",VLOOKUP(AA94,基礎データ!K:L,2,FALSE))","v":""},"",{"$f":"IF(AV94=\"\",\"\",VLOOKUP(LEFT(AV94,6),競技データ!$C$2:$C$300,1,FALSE))","v":""},{"$f":"IF(AX94=\"\",\"\",VLOOKUP(LEFT(AX94,6),競技データ!$C$2:$C$300,1,FALSE))","v":""},{"$f":"IF(AZ94=\"\",\"\",VLOOKUP(LEFT(AZ94,6),競技データ!$C$2:$C$300,1,FALSE))","v":""},false,false,false,0,""]
[null,87,null,null,null,null,{"$f":"IF(C95=\"\",\"\",VLOOKUP($D$4,所属データ!$E:$H,4,FALSE))","v":""},{"$f":"IF(G95=\"\",\"\",VLOOKUP(G95,所属データ!$C:$G,4,0))","v":""},null,0,0,"",0,0,"",null,null,null,0,0,"",0,0,"",null,null,null,0,0,"",0,0,"",null,null,null,null,null,87,"",{"$f":"IF(F95=\"\",\"\",VLOOKUP(F95,基礎データ!H:I,2,FALSE))","v":""},"",{"$f":"IF($E95=\"\",\"\",VLOOKUP($E95,基礎データ!$E:$F,2,FALSE))","v":""},"","",{"$f":"IF(G95=\"\",\"\",VLOOKUP(G95,所属データ!C:G,2,FALSE))","v":""},{"$f":"IF(I95=\"\",\"\",VLOOKUP(I95,基礎データ!K:L,2,FALSE))","v":""},"",{"$f":"IF(R95=\"\",\"\",VLOOKUP(R95,基礎データ!K:L,2,FALSE))","v":""},"",{"$f":"IF(AA95=\"\",\"\",VLOOKUP(AA95,基礎データ!K:L,2,FALSE))","v":""},"",{"$f":"IF(AV95=\"\",\"\",VLOOKUP(LEFT(AV95,6),競技データ!$C$2:$C$300,1,FALSE))","v":""},{"$f":"IF(AX95=\"\",\"\",VLOOKUP(LEFT(AX95,6),競技データ!$C$2:$C$300,1,FALSE))","v":""},{"$f":"IF(AZ95=\"\",\"\",VLOOKUP(LEFT(AZ95,6),競技データ!$C$2:$C$300,1,FALSE))","v":""},false,false,false,0,""]
[null,88,null,null,null,null,{"$f":"IF(C96=\"\",\"\",VLOOKUP($D$4,所属データ!$E:$H,4,FALSE))","v":""},{"$f":"IF(G96=\"\",\"\",VLOOKUP(G96,所属データ!$C:$G,4,0))","v":""},null,0,0,"",0,0,"",null,null,null,0,0,"",0,0,"",null,null,null,0,0,"",0,0,"",null,null,null,null,null,88,"",{"$f":"IF(F96=\"\",\"\",VLOOKUP(F96,基礎データ!H:I,2,FALSE))","v":""},"",{"$f":"IF($E96=\"\",\"\",VLOOKUP($E96,基礎データ!$E:$F,2,FALSE))","v":""},"","",{"$f":"IF(G96=\"\",\"\",VLOOKUP(G96,所属データ!C:G,2,FALSE))","v":""},{"$f":"IF(I96=\"\",\"\",VLOOKUP(I96,基礎データ!K:L,2,FALSE))","v":""},"",{"$f":"IF(R96=\"\",\"\",VLOOKUP(R96,基礎データ!K:L,2,FALSE))","v":""},"",{"$f":"IF(AA96=\"\",\"\",VLOOKUP(AA96,基礎データ!K:L,2,FALSE))","v":""},"",{"$f":"IF(AV96=\"\",\"\",VLOOKUP(LEFT(AV96,6),競技データ!$C$2:$C$300,1,FALSE))","v":""},{"$f":"IF(AX96=\"\",\"\",VLOOKUP(LEFT(AX96,6),競技データ!$C$2:$C$300,1,FALSE))","v":""},{"$f":"IF(AZ96=\"\",\"\",VLOOKUP(LEFT(AZ96,6),競技データ!$C$2:$C$300,1,FALSE))","v":""},false,false,false,0,""]
[null,89,null,null,null,null,{"$f":"IF(C97=\"\",\"\",VLOOKUP($D$4,所属データ!$E:$H,4,FALSE))","v":""},{"$f":"IF(G97=\"\",\"\",VLOOKUP(G97,所属データ!$C:$G,4,0))","v":""},null,0,0,"",0,0,"",null,null,null,0,0,"",0,0,"",null,null,null,0,0,"",0,0,"",null,null,null,null,null,89,"",{"$f":"IF(F97=\"\",\"\",VLOOKUP(F97,基礎データ!H:I,2,FALSE))","v":""},"",{"$f":"IF($E97=\"\",\"\",VLOOKUP($E97,基礎データ!$E:$F,2,FALSE))","v":""},"","",{"$f":"IF(G97=\"\",\"\",VLOOKUP(G97,所属データ!C:G,2,FALSE))","v":""},{"$f":"IF(I97=\"\",\"\",VLOOKUP(I97,基礎データ!K:L,2,FALSE))","v":""},"",{"$f":"IF(R97=\"\",\"\",VLOOKUP(R97,基礎データ!K:L,2,FALSE))","v":""},"",{"$f":"IF(AA97=\"\",\"\",VLOOKUP(AA97,基礎データ!K:L,2,FALSE))","v":""},"",{"$f":"IF(AV97=\"\",\"\",VLOOKUP(LEFT(AV97,6),競技データ!$C$2:$C$300,1,FALSE))","v":""},{"$f":"IF(AX97=\"\",\"\",VLOOKUP(LEFT(AX97,6),競技データ!$C$2:$C$300,1,FALSE))","v":""},{"$f":"IF(AZ97=\"\",\"\",VLOOKUP(LEFT(AZ97,6),競技データ!$C$2:$C$300,1,FALSE))","v":""},false,false,false,0,""]
[null,90,null,null,null,null,{"$f":"IF(C98=\"\",\"\",VLOOKUP($D$4,所属データ!$E:$H,4,FALSE))","v":""},{"$f":"IF(G98=\"\",\"\",VLOOKUP(G98,所属データ!$C:$G,4,0))","v":""},null,0,0,"",0,0,"",null,null,null,0,0,"",0,0,"",null,null,null,0,0,"",0,0,"",null,null,null,null,null,90,"",{"$f":"IF(F98=\"\",\"\",VLOOKUP(F98,基礎データ!H:I,2,FALSE))","v":""},"",{"$f":"IF($E98=\"\",\"\",VLOOKUP($E98,基礎データ!$E:$F,2,FALSE))","v":""},"","",{"$f":"IF(G98=\"\",\"\",VLOOKUP(G98,所属データ!C:G,2,FALSE))","v":""},{"$f":"IF(I98=\"\",\"\",VLOOKUP(I98,基礎データ!K:L,2,FALSE))","v":""},"",{"$f":"IF(R98=\"\",\"\",VLOOKUP(R98,基礎データ!K:L,2,FALSE))","v":""},"",{"$f":"IF(AA98=\"\",\"\",VLOOKUP(AA98,基礎データ!K:L,2,FALSE))","v":""},"",{"$f":"IF(AV98=\"\",\"\",VLOOKUP(LEFT(AV98,6),競技データ!$C$2:$C$300,1,FALSE))","v":""},{"$f":"IF(AX98=\"\",\"\",VLOOKUP(LEFT(AX98,6),競技データ!$C$2:$C$300,1,FALSE))","v":""},{"$f":"IF(AZ98=\"\",\"\",VLOOKUP(LEFT(AZ98,6),競技データ!$C$2:$C$300,1,FALSE))","v":""},false,false,false,0,""]
[null,91,null,null,null,null,{"$f":"IF(C99=\"\",\"\",VLOOKUP($D$4,所属データ!$E:$H,4,FALSE))","v":""},{"$f":"IF(G99=\"\",\"\",VLOOKUP(G99,所属データ!$C:$G,4,0))","v":""},null,0,0,"",0,0,"",null,null,null,0,0,"",0,0,"",null,null,null,0,0,"",0,0,"",null,null,null,null,null,91,"",{"$f":"IF(F99=\"\",\"\",VLOOKUP(F99,基礎データ!H:I,2,FALSE))","v":""},"",{"$f":"IF($E99=\"\",\"\",VLOOKUP($E99,基礎データ!$E:$F,2,FALSE))","v":""},"","",{"$f":"IF(G99=\"\",\"\",VLOOKUP(G99,所属データ!C:G,2,FALSE))","v":""},{"$f":"IF(I99=\"\",\"\",VLOOKUP(I99,基礎データ!K:L,2,FALSE))","v":""},"",{"$f":"IF(R99=\"\",\"\",VLOOKUP(R99,基礎データ!K:L,2,FALSE))","v":""},"",{"$f":"IF(AA99=\"\",\"\",VLOOKUP(AA99,基礎データ!K:L,2,FALSE))","v":""},"",{"$f":"IF(AV99=\"\",\"\",VLOOKUP(LEFT(AV99,6),競技データ!$C$2:$C$300,1,FALSE))","v":""},{"$f":"IF(AX99=\"\",\"\",VLOOKUP(LEFT(AX99,6),競技データ!$C$2:$C$300,1,FALSE))","v":""},{"$f":"IF(AZ99=\"\",\"\",VLOOKUP(LEFT(AZ99,6),競技データ!$C$2:$C$300,1,FALSE))","v":""},false,false,false,0,""]
[null,92,null,null,null,null,{"$f":"IF(C100=\"\",\"\",VLOOKUP($D$4,所属データ!$E:$H,4,FALSE))","v":""},{"$f":"IF(G100=\"\",\"\",VLOOKUP(G100,所属データ!$C:$G,4,0))","v":""},null,0,0,"",0,0,"",null,null,null,0,0,"",0,0,"",null,null,null,0,0,"",0,0,"",null,null,null,null,null,92,"",{"$f":"IF(F100=\"\",\"\",VLOOKUP(F100,基礎データ!H:I,2,FALSE))","v":""},"",{"$f":"IF($E100=\"\",\"\",VLOOKUP($E100,基礎データ!$E:$F,2,FALSE))","v":""},"","",{"$f":"IF(G100=\"\",\"\",VLOOKUP(G100,所属データ!C:G,2,FALSE))","v":""},{"$f":"IF(I100=\"\",\"\",VLOOKUP(I100,基礎データ!K:L,2,FALSE))","v":""},"",{"$f":"IF(R100=\"\",\"\",VLOOKUP(R100,基礎データ!K:L,2,FALSE))","v":""},"",{"$f":"IF(AA100=\"\",\"\",VLOOKUP(AA100,基礎データ!K:L,2,FALSE))","v":""},"",{"$f":"IF(AV100=\"\",\"\",VLOOKUP(LEFT(AV100,6),競技データ!$C$2:$C$300,1,FALSE))","v":""},{"$f":"IF(AX100=\"\",\"\",VLOOKUP(LEFT(AX100,6),競技データ!$C$2:$C$300,1,FALSE))","v":""},{"$f":"IF(AZ100=\"\",\"\",VLOOKUP(LEFT(AZ100,6),競技データ!$C$2:$C$300,1,FALSE))","v":""},false,false,false,0,""]
[null,93,null,null,null,null,{"$f":"IF(C101=\"\",\"\",VLOOKUP($D$4,所属データ!$E:$H,4,FALSE))","v":""},{"$f":"IF(G101=\"\",\"\",VLOOKUP(G101,所属データ!$C:$G,4,0))","v":""},null,0,0,"",0,0,"",null,null,null,0,0,"",0,0,"",null,null,null,0,0,"",0,0,"",null,null,null,null,null,93,"",{"$f":"IF(F101=\"\",\"\",VLOOKUP(F101,基礎データ!H:I,2,FALSE))","v":""},"",{"$f":"IF($E101=\"\",\"\",VLOOKUP($E101,基礎データ!$E:$F,2,FALSE))","v":""},"","",{"$f":"IF(G101=\"\",\"\",VLOOKUP(G101,所属データ!C:G,2,FALSE))","v":""},{"$f":"IF(I101=\"\",\"\",VLOOKUP(I101,基礎データ!K:L,2,FALSE))","v":""},"",{"$f":"IF(R101=\"\",\"\",VLOOKUP(R101,基礎データ!K:L,2,FALSE))","v":""},"",{"$f":"IF(AA101=\"\",\"\",VLOOKUP(AA101,基礎データ!K:L,2,FALSE))","v":""},"",{"$f":"IF(AV101=\"\",\"\",VLOOKUP(LEFT(AV101,6),競技データ!$C$2:$C$300,1,FALSE))","v":""},{"$f":"IF(AX101=\"\",\"\",VLOOKUP(LEFT(AX101,6),競技データ!$C$2:$C$300,1,FALSE))","v":""},{"$f":"IF(AZ101=\"\",\"\",VLOOKUP(LEFT(AZ101,6),競技データ!$C$2:$C$300,1,FALSE))","v":""},false,false,false,0,""]
[null,94,null,null,null,null,{"$f":"IF(C102=\"\",\"\",VLOOKUP($D$4,所属データ!$E:$H,4,FALSE))","v":""},{"$f":"IF(G102=\"\",\"\",VLOOKUP(G102,所属データ!$C:$G,4,0))","v":""},null,0,0,"",0,0,"",null,null,null,0,0,"",0,0,"",null,null,null,0,0,"",0,0,"",null,null,null,null,null,94,"",{"$f":"IF(F102=\"\",\"\",VLOOKUP(F102,基礎データ!H:I,2,FALSE))","v":""},"",{"$f":"IF($E102=\"\",\"\",VLOOKUP($E102,基礎データ!$E:$F,2,FALSE))","v":""},"","",{"$f":"IF(G102=\"\",\"\",VLOOKUP(G102,所属データ!C:G,2,FALSE))","v":""},{"$f":"IF(I102=\"\",\"\",VLOOKUP(I102,基礎データ!K:L,2,FALSE))","v":""},"",{"$f":"IF(R102=\"\",\"\",VLOOKUP(R102,基礎データ!K:L,2,FALSE))","v":""},"",{"$f":"IF(AA102=\"\",\"\",VLOOKUP(AA102,基礎データ!K:L,2,FALSE))","v":""},"",{"$f":"IF(AV102=\"\",\"\",VLOOKUP(LEFT(AV102,6),競技データ!$C$2:$C$300,1,FALSE))","v":""},{"$f":"IF(AX102=\"\",\"\",VLOOKUP(LEFT(AX102,6),競技データ!$C$2:$C$300,1,FALSE))","v":""},{"$f":"IF(AZ102=\"\",\"\",VLOOKUP(LEFT(AZ102,6),競技データ!$C$2:$C$300,1,FALSE))","v":""},false,false,false,0,""]
[null,95,null,null,null,null,{"$f":"IF(C103=\"\",\"\",VLOOKUP($D$4,所属データ!$E:$H,4,FALSE))","v":""},{"$f":"IF(G103=\"\",\"\",VLOOKUP(G103,所属データ!$C:$G,4,0))","v":""},null,0,0,"",0,0,"",null,null,null,0,0,"",0,0,"",null,null,null,0,0,"",0,0,"",null,null,null,null,null,95,"",{"$f":"IF(F103=\"\",\"\",VLOOKUP(F103,基礎データ!H:I,2,FALSE))","v":""},"",{"$f":"IF($E103=\"\",\"\",VLOOKUP($E103,基礎データ!$E:$F,2,FALSE))","v":""},"","",{"$f":"IF(G103=\"\",\"\",VLOOKUP(G103,所属データ!C:G,2,FALSE))","v":""},{"$f":"IF(I103=\"\",\"\",VLOOKUP(I103,基礎データ!K:L,2,FALSE))","v":""},"",{"$f":"IF(R103=\"\",\"\",VLOOKUP(R103,基礎データ!K:L,2,FALSE))","v":""},"",{"$f":"IF(AA103=\"\",\"\",VLOOKUP(AA103,基礎データ!K:L,2,FALSE))","v":""},"",{"$f":"IF(AV103=\"\",\"\",VLOOKUP(LEFT(AV103,6),競技データ!$C$2:$C$300,1,FALSE))","v":""},{"$f":"IF(AX103=\"\",\"\",VLOOKUP(LEFT(AX103,6),競技データ!$C$2:$C$300,1,FALSE))","v":""},{"$f":"IF(AZ103=\"\",\"\",VLOOKUP(LEFT(AZ103,6),競技データ!$C$2:$C$300,1,FALSE))","v":""},false,false,false,0,""]
[null,96,null,null,null,null,{"$f":"IF(C104=\"\",\"\",VLOOKUP($D$4,所属データ!$E:$H,4,FALSE))","v":""},{"$f":"IF(G104=\"\",\"\",VLOOKUP(G104,所属データ!$C:$G,4,0))","v":""},null,0,0,"",0,0,"",null,null,null,0,0,"",0,0,"",null,null,null,0,0,"",0,0,"",null,null,null,null,null,96,"",{"$f":"IF(F104=\"\",\"\",VLOOKUP(F104,基礎データ!H:I,2,FALSE))","v":""},"",{"$f":"IF($E104=\"\",\"\",VLOOKUP($E104,基礎データ!$E:$F,2,FALSE))","v":""},"","",{"$f":"IF(G104=\"\",\"\",VLOOKUP(G104,所属データ!C:G,2,FALSE))","v":""},{"$f":"IF(I104=\"\",\"\",VLOOKUP(I104,基礎データ!K:L,2,FALSE))","v":""},"",{"$f":"IF(R104=\"\",\"\",VLOOKUP(R104,基礎データ!K:L,2,FALSE))","v":""},"",{"$f":"IF(AA104=\"\",\"\",VLOOKUP(AA104,基礎データ!K:L,2,FALSE))","v":""},"",{"$f":"IF(AV104=\"\",\"\",VLOOKUP(LEFT(AV104,6),競技データ!$C$2:$C$300,1,FALSE))","v":""},{"$f":"IF(AX104=\"\",\"\",VLOOKUP(LEFT(AX104,6),競技データ!$C$2:$C$300,1,FALSE))","v":""},{"$f":"IF(AZ104=\"\",\"\",VLOOKUP(LEFT(AZ104,6),競技データ!$C$2:$C$300,1,FALSE))","v":""},false,false,false,0,""]
[null,97,null,null,null,null,{"$f":"IF(C105=\"\",\"\",VLOOKUP($D$4,所属データ!$E:$H,4,FALSE))","v":""},{"$f":"IF(G105=\"\",\"\",VLOOKUP(G105,所属データ!$C:$G,4,0))","v":""},null,0,0,"",0,0,"",null,null,null,0,0,"",0,0,"",null,null,null,0,0,"",0,0,"",null,null,null,null,null,97,"",{"$f":"IF(F105=\"\",\"\",VLOOKUP(F105,基礎データ!H:I,2,FALSE))","v":""},"",{"$f":"IF($E105=\"\",\"\",VLOOKUP($E105,基礎データ!$E:$F,2,FALSE))","v":""},"","",{"$f":"IF(G105=\"\",\"\",VLOOKUP(G105,所属データ!C:G,2,FALSE))","v":""},{"$f":"IF(I105=\"\",\"\",VLOOKUP(I105,基礎データ!K:L,2,FALSE))","v":""},"",{"$f":"IF(R105=\"\",\"\",VLOOKUP(R105,基礎データ!K:L,2,FALSE))","v":""},"",{"$f":"IF(AA105=\"\",\"\",VLOOKUP(AA105,基礎データ!K:L,2,FALSE))","v":""},"",{"$f":"IF(AV105=\"\",\"\",VLOOKUP(LEFT(AV105,6),競技データ!$C$2:$C$300,1,FALSE))","v":""},{"$f":"IF(AX105=\"\",\"\",VLOOKUP(LEFT(AX105,6),競技データ!$C$2:$C$300,1,FALSE))","v":""},{"$f":"IF(AZ105=\"\",\"\",VLOOKUP(LEFT(AZ105,6),競技データ!$C$2:$C$300,1,FALSE))","v":""},false,false,false,0,""]
[null,98,null,null,null,null,{"$f":"IF(C106=\"\",\"\",VLOOKUP($D$4,所属データ!$E:$H,4,FALSE))","v":""},{"$f":"IF(G106=\"\",\"\",VLOOKUP(G106,所属データ!$C:$G,4,0))","v":""},null,0,0,"",0,0,"",null,null,null,0,0,"",0,0,"",null,null,null,0,0,"",0,0,"",null,null,null,null,null,98,"",{"$f":"IF(F106=\"\",\"\",VLOOKUP(F106,基礎データ!H:I,2,FALSE))","v":""},"",{"$f":"IF($E106=\"\",\"\",VLOOKUP($E106,基礎データ!$E:$F,2,FALSE))","v":""},"","",{"$f":"IF(G106=\"\",\"\",VLOOKUP(G106,所属データ!C:G,2,FALSE))","v":""},{"$f":"IF(I106=\"\",\"\",VLOOKUP(I106,基礎データ!K:L,2,FALSE))","v":""},"",{"$f":"IF(R106=\"\",\"\",VLOOKUP(R106,基礎データ!K:L,2,FALSE))","v":""},"",{"$f":"IF(AA106=\"\",\"\",VLOOKUP(AA106,基礎データ!K:L,2,FALSE))","v":""},"",{"$f":"IF(AV106=\"\",\"\",VLOOKUP(LEFT(AV106,6),競技データ!$C$2:$C$300,1,FALSE))","v":""},{"$f":"IF(AX106=\"\",\"\",VLOOKUP(LEFT(AX106,6),競技データ!$C$2:$C$300,1,FALSE))","v":""},{"$f":"IF(AZ106=\"\",\"\",VLOOKUP(LEFT(AZ106,6),競技データ!$C$2:$C$300,1,FALSE))","v":""},false,false,false,0,""]
[null,99,null,null,null,null,{"$f":"IF(C107=\"\",\"\",VLOOKUP($D$4,所属データ!$E:$H,4,FALSE))","v":""},{"$f":"IF(G107=\"\",\"\",VLOOKUP(G107,所属データ!$C:$G,4,0))","v":""},null,0,0,"",0,0,"",null,null,null,0,0,"",0,0,"",null,null,null,0,0,"",0,0,"",null,null,null,null,null,99,"",{"$f":"IF(F107=\"\",\"\",VLOOKUP(F107,基礎データ!H:I,2,FALSE))","v":""},"",{"$f":"IF($E107=\"\",\"\",VLOOKUP($E107,基礎データ!$E:$F,2,FALSE))","v":""},"","",{"$f":"IF(G107=\"\",\"\",VLOOKUP(G107,所属データ!C:G,2,FALSE))","v":""},{"$f":"IF(I107=\"\",\"\",VLOOKUP(I107,基礎データ!K:L,2,FALSE))","v":""},"",{"$f":"IF(R107=\"\",\"\",VLOOKUP(R107,基礎データ!K:L,2,FALSE))","v":""},"",{"$f":"IF(AA107=\"\",\"\",VLOOKUP(AA107,基礎データ!K:L,2,FALSE))","v":""},"",{"$f":"IF(AV107=\"\",\"\",VLOOKUP(LEFT(AV107,6),競技データ!$C$2:$C$300,1,FALSE))","v":""},{"$f":"IF(AX107=\"\",\"\",VLOOKUP(LEFT(AX107,6),競技データ!$C$2:$C$300,1,FALSE))","v":""},{"$f":"IF(AZ107=\"\",\"\",VLOOKUP(LEFT(AZ107,6),競技データ!$C$2:$C$300,1,FALSE))","v":""},false,false,false,0,""]
[null,100,null,null,null,null,{"$f":"IF(C108=\"\",\"\",VLOOKUP($D$4,所属データ!$E:$H,4,FALSE))","v":""},{"$f":"IF(G108=\"\",\"\",VLOOKUP(G108,所属データ!$C:$G,4,0))","v":""},null,0,0,"",0,0,"",null,null,null,0,0,"",0,0,"",null,null,null,0,0,"",0,0,"",null,null,null,null,null,100,"",{"$f":"IF(F108=\"\",\"\",VLOOKUP(F108,基礎データ!H:I,2,FALSE))","v":""},"",{"$f":"IF($E108=\"\",\"\",VLOOKUP($E108,基礎データ!$E:$F,2,FALSE))","v":""},"","",{"$f":"IF(G108=\"\",\"\",VLOOKUP(G108,所属データ!C:G,2,FALSE))","v":""},{"$f":"IF(I108=\"\",\"\",VLOOKUP(I108,基礎データ!K:L,2,FALSE))","v":""},"",{"$f":"IF(R108=\"\",\"\",VLOOKUP(R108,基礎データ!K:L,2,FALSE))","v":""},"",{"$f":"IF(AA108=\"\",\"\",VLOOKUP(AA108,基礎データ!K:L,2,FALSE))","v":""},"",{"$f":"IF(AV108=\"\",\"\",VLOOKUP(LEFT(AV108,6),競技データ!$C$2:$C$300,1,FALSE))","v":""},{"$f":"IF(AX108=\"\",\"\",VLOOKUP(LEFT(AX108,6),競技データ!$C$2:$C$300,1,FALSE))","v":""},{"$f":"IF(AZ108=\"\",\"\",VLOOKUP(LEFT(AZ108,6),競技データ!$C$2:$C$300,1,FALSE))","v":""},false,false,false,0,""]
[null,101,null,null,null,null,{"$f":"IF(C109=\"\",\"\",VLOOKUP($D$4,所属データ!$E:$H,4,FALSE))","v":""},{"$f":"IF(G109=\"\",\"\",VLOOKUP(G109,所属データ!$C:$G,4,0))","v":""},null,0,0,{"$f":"IF(I109=\"\",\"\",IF(I109=\"走幅跳\",\"ｍ\",IF(I109=\"立幅跳\",\"ｍ\",\"分\")))","v":""},0,0,{"$f":"IF(I109=\"\",\"\",IF(I109=\"走幅跳\",\"cm\",IF(I109=\"立幅跳\",\"cm\",\"秒\")))","v":""},null,null,null,0,0,{"$f":"IF(R109=\"\",\"\",IF(R109=\"走幅跳\",\"ｍ\",IF(R109=\"立幅跳\",\"ｍ\",\"分\")))","v":""},0,0,{"$f":"IF(R109=\"\",\"\",IF(R109=\"走幅跳\",\"cm\",IF(R109=\"立幅跳\",\"cm\",\"秒\")))","v":""},null,null,null,0,0,{"$f":"IF(AA109=\"\",\"\",IF(AA109=\"走幅跳\",\"ｍ\",IF(AA109=\"立幅跳\",\"ｍ\",\"分\")))","v":""},0,0,{"$f":"IF(AA109=\"\",\"\",IF(AA109=\"走幅跳\",\"cm\",IF(AA109=\"立幅跳\",\"cm\",\"秒\")))","v":""},null,null,null,null,null,101,{"$f":"IF(C109=\"\",\"\",$AN$7+B109)","v":""},{"$f":"IF(F109=\"\",\"\",VLOOKUP(F109,基礎データ!H:I,2,FALSE))","v":""},{"$f":"IF(C109=\"\",\"\",AO109*100000000+AN109)","v":""},{"$f":"IF($E109=\"\",\"\",VLOOKUP($E109,基礎データ!$E:$F,2,FALSE))","v":""},{"$f":"IF(C109=\"\",\"\",C109&\"(\"&E109&\")\")","v":""},{"$f":"IF(C109=\"\",\"\",$AN$6)","v":""},{"$f":"IF(G109=\"\",\"\",VLOOKUP(G109,所属データ!C:G,2,FALSE))","v":""},{"$f":"IF(I109=\"\",\"\",VLOOKUP(I109,基礎データ!K:L,2,FALSE))","v":""},{"$f":"IF(AU109=\"\",\"\",IF(AU109=\"R215\",AU109&\"00\"&\" 0\"&J109&K109&M109&N109&P109&Q109,IF(AU109=\"R220\",AU109&\"00\"&\" 0\"&J109&K109&M109&N109&P109&Q109,IF(AU109=\"R601\",AU109&\"00\"&\" 0\"&J109&K109&M109&N109&P109&Q109,AU109&AQ109&\" 0\"&J109&K109&M109&N109&P109&Q109))))","v":""},{"$f":"IF(R109=\"\",\"\",VLOOKUP(R109,基礎データ!K:L,2,FALSE))","v":""},{"$f":"IF(AW109=\"\",\"\",IF(AW109=\"R215\",AW109&\"00\"&\" 0\"&$S109&$T109&$V109&$W109&$Y109&$Z109,IF(AW109=\"R220\",AW109&\"00\"&\" 0\"&$S109&$T109&$V109&$W109&$Y109&$Z109,IF(AW109=\"R601\",AW109&\"00\"&\" 0\"&$S109&$T109&$V109&$W109&$Y109&$Z109,AW109&$AQ109&\" 0\"&$S109&$T109&$V109&$W109&$Y109&$Z109))))","v":""},{"$f":"IF(AA109=\"\",\"\",VLOOKUP(AA109,基礎データ!K:L,2,FALSE))","v":""},{"$f":"IF(AY109=\"\",\"\",IF(AY109=\"R215\",AY109&\"00\"&\" 0\"&AB109&AC109&AE109&AF109&AH109&AI109,IF(AY109=\"R220\",AY109&\"00\"&\" 0\"&AB109&AC109&AE109&AF109&AH109&AI109,IF(AY109=\"R601\",AY109&\"00\"&\" 0\"&AB109&AC109&AE109&AF109&AH109&AI109,AY109&AQ109&\" 0\"&AB109&AC109&AE109&AF109&AH109&AI109))))","v":""},{"$f":"IF(AV109=\"\",\"\",VLOOKUP(LEFT(AV109,6),競技データ!$C$2:$C$300,1,FALSE))","v":""},{"$f":"IF(AX109=\"\",\"\",VLOOKUP(LEFT(AX109,6),競技データ!$C$2:$C$300,1,FALSE))","v":""},{"$f":"IF(AZ109=\"\",\"\",VLOOKUP(LEFT(AZ109,6),競技データ!$C$2:$C$300,1,FALSE))","v":""},{"$f":"ISERROR(BA109)","v":false},{"$f":"ISERROR(BB109)","v":false},{"$f":"ISERROR(BC109)","v":false},{"$f":"COUNTIF(BD109:BF109,\"true\")","v":0},{"$f":"IF(AJ109=\"１００ｍ\",\"R025\"&AQ109,IF(AJ109=\"３００ｍ\",\"R026\"&AQ109,IF(AJ109=\"５００ｍ\",\"R027\"&AQ109,\"\")))","v":""}]
[null,102,null,null,null,null,{"$f":"IF(C110=\"\",\"\",VLOOKUP($D$4,所属データ!$E:$H,4,FALSE))","v":""},{"$f":"IF(G110=\"\",\"\",VLOOKUP(G110,所属データ!$C:$G,4,0))","v":""},null,0,0,"",0,0,"",null,null,null,0,0,"",0,0,"",null,null,null,0,0,"",0,0,"",null,null,null,null,null,102,"",{"$f":"IF(F110=\"\",\"\",VLOOKUP(F110,基礎データ!H:I,2,FALSE))","v":""},"",{"$f":"IF($E110=\"\",\"\",VLOOKUP($E110,基礎データ!$E:$F,2,FALSE))","v":""},"","",{"$f":"IF(G110=\"\",\"\",VLOOKUP(G110,所属データ!C:G,2,FALSE))","v":""},{"$f":"IF(I110=\"\",\"\",VLOOKUP(I110,基礎データ!K:L,2,FALSE))","v":""},"",{"$f":"IF(R110=\"\",\"\",VLOOKUP(R110,基礎データ!K:L,2,FALSE))","v":""},"",{"$f":"IF(AA110=\"\",\"\",VLOOKUP(AA110,基礎データ!K:L,2,FALSE))","v":""},"",{"$f":"IF(AV110=\"\",\"\",VLOOKUP(LEFT(AV110,6),競技データ!$C$2:$C$300,1,FALSE))","v":""},{"$f":"IF(AX110=\"\",\"\",VLOOKUP(LEFT(AX110,6),競技データ!$C$2:$C$300,1,FALSE))","v":""},{"$f":"IF(AZ110=\"\",\"\",VLOOKUP(LEFT(AZ110,6),競技データ!$C$2:$C$300,1,FALSE))","v":""},false,false,false,0,""]
[null,103,null,null,null,null,{"$f":"IF(C111=\"\",\"\",VLOOKUP($D$4,所属データ!$E:$H,4,FALSE))","v":""},{"$f":"IF(G111=\"\",\"\",VLOOKUP(G111,所属データ!$C:$G,4,0))","v":""},null,0,0,"",0,0,"",null,null,null,0,0,"",0,0,"",null,null,null,0,0,"",0,0,"",null,null,null,null,null,103,"",{"$f":"IF(F111=\"\",\"\",VLOOKUP(F111,基礎データ!H:I,2,FALSE))","v":""},"",{"$f":"IF($E111=\"\",\"\",VLOOKUP($E111,基礎データ!$E:$F,2,FALSE))","v":""},"","",{"$f":"IF(G111=\"\",\"\",VLOOKUP(G111,所属データ!C:G,2,FALSE))","v":""},{"$f":"IF(I111=\"\",\"\",VLOOKUP(I111,基礎データ!K:L,2,FALSE))","v":""},"",{"$f":"IF(R111=\"\",\"\",VLOOKUP(R111,基礎データ!K:L,2,FALSE))","v":""},"",{"$f":"IF(AA111=\"\",\"\",VLOOKUP(AA111,基礎データ!K:L,2,FALSE))","v":""},"",{"$f":"IF(AV111=\"\",\"\",VLOOKUP(LEFT(AV111,6),競技データ!$C$2:$C$300,1,FALSE))","v":""},{"$f":"IF(AX111=\"\",\"\",VLOOKUP(LEFT(AX111,6),競技データ!$C$2:$C$300,1,FALSE))","v":""},{"$f":"IF(AZ111=\"\",\"\",VLOOKUP(LEFT(AZ111,6),競技データ!$C$2:$C$300,1,FALSE))","v":""},false,false,false,0,""]
[null,104,null,null,null,null,{"$f":"IF(C112=\"\",\"\",VLOOKUP($D$4,所属データ!$E:$H,4,FALSE))","v":""},{"$f":"IF(G112=\"\",\"\",VLOOKUP(G112,所属データ!$C:$G,4,0))","v":""},null,0,0,"",0,0,"",null,null,null,0,0,"",0,0,"",null,null,null,0,0,"",0,0,"",null,null,null,null,null,104,"",{"$f":"IF(F112=\"\",\"\",VLOOKUP(F112,基礎データ!H:I,2,FALSE))","v":""},"",{"$f":"IF($E112=\"\",\"\",VLOOKUP($E112,基礎データ!$E:$F,2,FALSE))","v":""},"","",{"$f":"IF(G112=\"\",\"\",VLOOKUP(G112,所属データ!C:G,2,FALSE))","v":""},{"$f":"IF(I112=\"\",\"\",VLOOKUP(I112,基礎データ!K:L,2,FALSE))","v":""},"",{"$f":"IF(R112=\"\",\"\",VLOOKUP(R112,基礎データ!K:L,2,FALSE))","v":""},"",{"$f":"IF(AA112=\"\",\"\",VLOOKUP(AA112,基礎データ!K:L,2,FALSE))","v":""},"",{"$f":"IF(AV112=\"\",\"\",VLOOKUP(LEFT(AV112,6),競技データ!$C$2:$C$300,1,FALSE))","v":""},{"$f":"IF(AX112=\"\",\"\",VLOOKUP(LEFT(AX112,6),競技データ!$C$2:$C$300,1,FALSE))","v":""},{"$f":"IF(AZ112=\"\",\"\",VLOOKUP(LEFT(AZ112,6),競技データ!$C$2:$C$300,1,FALSE))","v":""},false,false,false,0,""]
[null,105,null,null,null,null,{"$f":"IF(C113=\"\",\"\",VLOOKUP($D$4,所属データ!$E:$H,4,FALSE))","v":""},{"$f":"IF(G113=\"\",\"\",VLOOKUP(G113,所属データ!$C:$G,4,0))","v":""},null,0,0,"",0,0,"",null,null,null,0,0,"",0,0,"",null,null,null,0,0,"",0,0,"",null,null,null,null,null,105,"",{"$f":"IF(F113=\"\",\"\",VLOOKUP(F113,基礎データ!H:I,2,FALSE))","v":""},"",{"$f":"IF($E113=\"\",\"\",VLOOKUP($E113,基礎データ!$E:$F,2,FALSE))","v":""},"","",{"$f":"IF(G113=\"\",\"\",VLOOKUP(G113,所属データ!C:G,2,FALSE))","v":""},{"$f":"IF(I113=\"\",\"\",VLOOKUP(I113,基礎データ!K:L,2,FALSE))","v":""},"",{"$f":"IF(R113=\"\",\"\",VLOOKUP(R113,基礎データ!K:L,2,FALSE))","v":""},"",{"$f":"IF(AA113=\"\",\"\",VLOOKUP(AA113,基礎データ!K:L,2,FALSE))","v":""},"",{"$f":"IF(AV113=\"\",\"\",VLOOKUP(LEFT(AV113,6),競技データ!$C$2:$C$300,1,FALSE))","v":""},{"$f":"IF(AX113=\"\",\"\",VLOOKUP(LEFT(AX113,6),競技データ!$C$2:$C$300,1,FALSE))","v":""},{"$f":"IF(AZ113=\"\",\"\",VLOOKUP(LEFT(AZ113,6),競技データ!$C$2:$C$300,1,FALSE))","v":""},false,false,false,0,""]
[null,106,null,null,null,null,{"$f":"IF(C114=\"\",\"\",VLOOKUP($D$4,所属データ!$E:$H,4,FALSE))","v":""},{"$f":"IF(G114=\"\",\"\",VLOOKUP(G114,所属データ!$C:$G,4,0))","v":""},null,0,0,"",0,0,"",null,null,null,0,0,"",0,0,"",null,null,null,0,0,"",0,0,"",null,null,null,null,null,106,"",{"$f":"IF(F114=\"\",\"\",VLOOKUP(F114,基礎データ!H:I,2,FALSE))","v":""},"",{"$f":"IF($E114=\"\",\"\",VLOOKUP($E114,基礎データ!$E:$F,2,FALSE))","v":""},"","",{"$f":"IF(G114=\"\",\"\",VLOOKUP(G114,所属データ!C:G,2,FALSE))","v":""},{"$f":"IF(I114=\"\",\"\",VLOOKUP(I114,基礎データ!K:L,2,FALSE))","v":""},"",{"$f":"IF(R114=\"\",\"\",VLOOKUP(R114,基礎データ!K:L,2,FALSE))","v":""},"",{"$f":"IF(AA114=\"\",\"\",VLOOKUP(AA114,基礎データ!K:L,2,FALSE))","v":""},"",{"$f":"IF(AV114=\"\",\"\",VLOOKUP(LEFT(AV114,6),競技データ!$C$2:$C$300,1,FALSE))","v":""},{"$f":"IF(AX114=\"\",\"\",VLOOKUP(LEFT(AX114,6),競技データ!$C$2:$C$300,1,FALSE))","v":""},{"$f":"IF(AZ114=\"\",\"\",VLOOKUP(LEFT(AZ114,6),競技データ!$C$2:$C$300,1,FALSE))","v":""},false,false,false,0,""]
[null,107,null,null,null,null,{"$f":"IF(C115=\"\",\"\",VLOOKUP($D$4,所属データ!$E:$H,4,FALSE))","v":""},{"$f":"IF(G115=\"\",\"\",VLOOKUP(G115,所属データ!$C:$G,4,0))","v":""},null,0,0,"",0,0,"",null,null,null,0,0,"",0,0,"",null,null,null,0,0,"",0,0,"",null,null,null,null,null,107,"",{"$f":"IF(F115=\"\",\"\",VLOOKUP(F115,基礎データ!H:I,2,FALSE))","v":""},"",{"$f":"IF($E115=\"\",\"\",VLOOKUP($E115,基礎データ!$E:$F,2,FALSE))","v":""},"","",{"$f":"IF(G115=\"\",\"\",VLOOKUP(G115,所属データ!C:G,2,FALSE))","v":""},{"$f":"IF(I115=\"\",\"\",VLOOKUP(I115,基礎データ!K:L,2,FALSE))","v":""},"",{"$f":"IF(R115=\"\",\"\",VLOOKUP(R115,基礎データ!K:L,2,FALSE))","v":""},"",{"$f":"IF(AA115=\"\",\"\",VLOOKUP(AA115,基礎データ!K:L,2,FALSE))","v":""},"",{"$f":"IF(AV115=\"\",\"\",VLOOKUP(LEFT(AV115,6),競技データ!$C$2:$C$300,1,FALSE))","v":""},{"$f":"IF(AX115=\"\",\"\",VLOOKUP(LEFT(AX115,6),競技データ!$C$2:$C$300,1,FALSE))","v":""},{"$f":"IF(AZ115=\"\",\"\",VLOOKUP(LEFT(AZ115,6),競技データ!$C$2:$C$300,1,FALSE))","v":""},false,false,false,0,""]
[null,108,null,null,null,null,{"$f":"IF(C116=\"\",\"\",VLOOKUP($D$4,所属データ!$E:$H,4,FALSE))","v":""},{"$f":"IF(G116=\"\",\"\",VLOOKUP(G116,所属データ!$C:$G,4,0))","v":""},null,0,0,"",0,0,"",null,null,null,0,0,"",0,0,"",null,null,null,0,0,"",0,0,"",null,null,null,null,null,108,"",{"$f":"IF(F116=\"\",\"\",VLOOKUP(F116,基礎データ!H:I,2,FALSE))","v":""},"",{"$f":"IF($E116=\"\",\"\",VLOOKUP($E116,基礎データ!$E:$F,2,FALSE))","v":""},"","",{"$f":"IF(G116=\"\",\"\",VLOOKUP(G116,所属データ!C:G,2,FALSE))","v":""},{"$f":"IF(I116=\"\",\"\",VLOOKUP(I116,基礎データ!K:L,2,FALSE))","v":""},"",{"$f":"IF(R116=\"\",\"\",VLOOKUP(R116,基礎データ!K:L,2,FALSE))","v":""},"",{"$f":"IF(AA116=\"\",\"\",VLOOKUP(AA116,基礎データ!K:L,2,FALSE))","v":""},"",{"$f":"IF(AV116=\"\",\"\",VLOOKUP(LEFT(AV116,6),競技データ!$C$2:$C$300,1,FALSE))","v":""},{"$f":"IF(AX116=\"\",\"\",VLOOKUP(LEFT(AX116,6),競技データ!$C$2:$C$300,1,FALSE))","v":""},{"$f":"IF(AZ116=\"\",\"\",VLOOKUP(LEFT(AZ116,6),競技データ!$C$2:$C$300,1,FALSE))","v":""},false,false,false,0,""]
[null,109,null,null,null,null,{"$f":"IF(C117=\"\",\"\",VLOOKUP($D$4,所属データ!$E:$H,4,FALSE))","v":""},{"$f":"IF(G117=\"\",\"\",VLOOKUP(G117,所属データ!$C:$G,4,0))","v":""},null,0,0,"",0,0,"",null,null,null,0,0,"",0,0,"",null,null,null,0,0,"",0,0,"",null,null,null,null,null,109,"",{"$f":"IF(F117=\"\",\"\",VLOOKUP(F117,基礎データ!H:I,2,FALSE))","v":""},"",{"$f":"IF($E117=\"\",\"\",VLOOKUP($E117,基礎データ!$E:$F,2,FALSE))","v":""},"","",{"$f":"IF(G117=\"\",\"\",VLOOKUP(G117,所属データ!C:G,2,FALSE))","v":""},{"$f":"IF(I117=\"\",\"\",VLOOKUP(I117,基礎データ!K:L,2,FALSE))","v":""},"",{"$f":"IF(R117=\"\",\"\",VLOOKUP(R117,基礎データ!K:L,2,FALSE))","v":""},"",{"$f":"IF(AA117=\"\",\"\",VLOOKUP(AA117,基礎データ!K:L,2,FALSE))","v":""},"",{"$f":"IF(AV117=\"\",\"\",VLOOKUP(LEFT(AV117,6),競技データ!$C$2:$C$300,1,FALSE))","v":""},{"$f":"IF(AX117=\"\",\"\",VLOOKUP(LEFT(AX117,6),競技データ!$C$2:$C$300,1,FALSE))","v":""},{"$f":"IF(AZ117=\"\",\"\",VLOOKUP(LEFT(AZ117,6),競技データ!$C$2:$C$300,1,FALSE))","v":""},false,false,false,0,""]
[null,110,null,null,null,null,{"$f":"IF(C118=\"\",\"\",VLOOKUP($D$4,所属データ!$E:$H,4,FALSE))","v":""},{"$f":"IF(G118=\"\",\"\",VLOOKUP(G118,所属データ!$C:$G,4,0))","v":""},null,0,0,"",0,0,"",null,null,null,0,0,"",0,0,"",null,null,null,0,0,"",0,0,"",null,null,null,null,null,110,"",{"$f":"IF(F118=\"\",\"\",VLOOKUP(F118,基礎データ!H:I,2,FALSE))","v":""},"",{"$f":"IF($E118=\"\",\"\",VLOOKUP($E118,基礎データ!$E:$F,2,FALSE))","v":""},"","",{"$f":"IF(G118=\"\",\"\",VLOOKUP(G118,所属データ!C:G,2,FALSE))","v":""},{"$f":"IF(I118=\"\",\"\",VLOOKUP(I118,基礎データ!K:L,2,FALSE))","v":""},"",{"$f":"IF(R118=\"\",\"\",VLOOKUP(R118,基礎データ!K:L,2,FALSE))","v":""},"",{"$f":"IF(AA118=\"\",\"\",VLOOKUP(AA118,基礎データ!K:L,2,FALSE))","v":""},"",{"$f":"IF(AV118=\"\",\"\",VLOOKUP(LEFT(AV118,6),競技データ!$C$2:$C$300,1,FALSE))","v":""},{"$f":"IF(AX118=\"\",\"\",VLOOKUP(LEFT(AX118,6),競技データ!$C$2:$C$300,1,FALSE))","v":""},{"$f":"IF(AZ118=\"\",\"\",VLOOKUP(LEFT(AZ118,6),競技データ!$C$2:$C$300,1,FALSE))","v":""},false,false,false,0,""]
[null,111,null,null,null,null,{"$f":"IF(C119=\"\",\"\",VLOOKUP($D$4,所属データ!$E:$H,4,FALSE))","v":""},{"$f":"IF(G119=\"\",\"\",VLOOKUP(G119,所属データ!$C:$G,4,0))","v":""},null,0,0,"",0,0,"",null,null,null,0,0,"",0,0,"",null,null,null,0,0,"",0,0,"",null,null,null,null,null,111,"",{"$f":"IF(F119=\"\",\"\",VLOOKUP(F119,基礎データ!H:I,2,FALSE))","v":""},"",{"$f":"IF($E119=\"\",\"\",VLOOKUP($E119,基礎データ!$E:$F,2,FALSE))","v":""},"","",{"$f":"IF(G119=\"\",\"\",VLOOKUP(G119,所属データ!C:G,2,FALSE))","v":""},{"$f":"IF(I119=\"\",\"\",VLOOKUP(I119,基礎データ!K:L,2,FALSE))","v":""},"",{"$f":"IF(R119=\"\",\"\",VLOOKUP(R119,基礎データ!K:L,2,FALSE))","v":""},"",{"$f":"IF(AA119=\"\",\"\",VLOOKUP(AA119,基礎データ!K:L,2,FALSE))","v":""},"",{"$f":"IF(AV119=\"\",\"\",VLOOKUP(LEFT(AV119,6),競技データ!$C$2:$C$300,1,FALSE))","v":""},{"$f":"IF(AX119=\"\",\"\",VLOOKUP(LEFT(AX119,6),競技データ!$C$2:$C$300,1,FALSE))","v":""},{"$f":"IF(AZ119=\"\",\"\",VLOOKUP(LEFT(AZ119,6),競技データ!$C$2:$C$300,1,FALSE))","v":""},false,false,false,0,""]
[null,112,null,null,null,null,{"$f":"IF(C120=\"\",\"\",VLOOKUP($D$4,所属データ!$E:$H,4,FALSE))","v":""},{"$f":"IF(G120=\"\",\"\",VLOOKUP(G120,所属データ!$C:$G,4,0))","v":""},null,0,0,"",0,0,"",null,null,null,0,0,"",0,0,"",null,null,null,0,0,"",0,0,"",null,null,null,null,null,112,"",{"$f":"IF(F120=\"\",\"\",VLOOKUP(F120,基礎データ!H:I,2,FALSE))","v":""},"",{"$f":"IF($E120=\"\",\"\",VLOOKUP($E120,基礎データ!$E:$F,2,FALSE))","v":""},"","",{"$f":"IF(G120=\"\",\"\",VLOOKUP(G120,所属データ!C:G,2,FALSE))","v":""},{"$f":"IF(I120=\"\",\"\",VLOOKUP(I120,基礎データ!K:L,2,FALSE))","v":""},"",{"$f":"IF(R120=\"\",\"\",VLOOKUP(R120,基礎データ!K:L,2,FALSE))","v":""},"",{"$f":"IF(AA120=\"\",\"\",VLOOKUP(AA120,基礎データ!K:L,2,FALSE))","v":""},"",{"$f":"IF(AV120=\"\",\"\",VLOOKUP(LEFT(AV120,6),競技データ!$C$2:$C$300,1,FALSE))","v":""},{"$f":"IF(AX120=\"\",\"\",VLOOKUP(LEFT(AX120,6),競技データ!$C$2:$C$300,1,FALSE))","v":""},{"$f":"IF(AZ120=\"\",\"\",VLOOKUP(LEFT(AZ120,6),競技データ!$C$2:$C$300,1,FALSE))","v":""},false,false,false,0,""]
[null,113,null,null,null,null,{"$f":"IF(C121=\"\",\"\",VLOOKUP($D$4,所属データ!$E:$H,4,FALSE))","v":""},{"$f":"IF(G121=\"\",\"\",VLOOKUP(G121,所属データ!$C:$G,4,0))","v":""},null,0,0,"",0,0,"",null,null,null,0,0,"",0,0,"",null,null,null,0,0,"",0,0,"",null,null,null,null,null,113,"",{"$f":"IF(F121=\"\",\"\",VLOOKUP(F121,基礎データ!H:I,2,FALSE))","v":""},"",{"$f":"IF($E121=\"\",\"\",VLOOKUP($E121,基礎データ!$E:$F,2,FALSE))","v":""},"","",{"$f":"IF(G121=\"\",\"\",VLOOKUP(G121,所属データ!C:G,2,FALSE))","v":""},{"$f":"IF(I121=\"\",\"\",VLOOKUP(I121,基礎データ!K:L,2,FALSE))","v":""},"",{"$f":"IF(R121=\"\",\"\",VLOOKUP(R121,基礎データ!K:L,2,FALSE))","v":""},"",{"$f":"IF(AA121=\"\",\"\",VLOOKUP(AA121,基礎データ!K:L,2,FALSE))","v":""},"",{"$f":"IF(AV121=\"\",\"\",VLOOKUP(LEFT(AV121,6),競技データ!$C$2:$C$300,1,FALSE))","v":""},{"$f":"IF(AX121=\"\",\"\",VLOOKUP(LEFT(AX121,6),競技データ!$C$2:$C$300,1,FALSE))","v":""},{"$f":"IF(AZ121=\"\",\"\",VLOOKUP(LEFT(AZ121,6),競技データ!$C$2:$C$300,1,FALSE))","v":""},false,false,false,0,""]
[null,114,null,null,null,null,{"$f":"IF(C122=\"\",\"\",VLOOKUP($D$4,所属データ!$E:$H,4,FALSE))","v":""},{"$f":"IF(G122=\"\",\"\",VLOOKUP(G122,所属データ!$C:$G,4,0))","v":""},null,0,0,"",0,0,"",null,null,null,0,0,"",0,0,"",null,null,null,0,0,"",0,0,"",null,null,null,null,null,114,"",{"$f":"IF(F122=\"\",\"\",VLOOKUP(F122,基礎データ!H:I,2,FALSE))","v":""},"",{"$f":"IF($E122=\"\",\"\",VLOOKUP($E122,基礎データ!$E:$F,2,FALSE))","v":""},"","",{"$f":"IF(G122=\"\",\"\",VLOOKUP(G122,所属データ!C:G,2,FALSE))","v":""},{"$f":"IF(I122=\"\",\"\",VLOOKUP(I122,基礎データ!K:L,2,FALSE))","v":""},"",{"$f":"IF(R122=\"\",\"\",VLOOKUP(R122,基礎データ!K:L,2,FALSE))","v":""},"",{"$f":"IF(AA122=\"\",\"\",VLOOKUP(AA122,基礎データ!K:L,2,FALSE))","v":""},"",{"$f":"IF(AV122=\"\",\"\",VLOOKUP(LEFT(AV122,6),競技データ!$C$2:$C$300,1,FALSE))","v":""},{"$f":"IF(AX122=\"\",\"\",VLOOKUP(LEFT(AX122,6),競技データ!$C$2:$C$300,1,FALSE))","v":""},{"$f":"IF(AZ122=\"\",\"\",VLOOKUP(LEFT(AZ122,6),競技データ!$C$2:$C$300,1,FALSE))","v":""},false,false,false,0,""]
[null,115,null,null,null,null,{"$f":"IF(C123=\"\",\"\",VLOOKUP($D$4,所属データ!$E:$H,4,FALSE))","v":""},{"$f":"IF(G123=\"\",\"\",VLOOKUP(G123,所属データ!$C:$G,4,0))","v":""},null,0,0,"",0,0,"",null,null,null,0,0,"",0,0,"",null,null,null,0,0,"",0,0,"",null,null,null,null,null,115,"",{"$f":"IF(F123=\"\",\"\",VLOOKUP(F123,基礎データ!H:I,2,FALSE))","v":""},"",{"$f":"IF($E123=\"\",\"\",VLOOKUP($E123,基礎データ!$E:$F,2,FALSE))","v":""},"","",{"$f":"IF(G123=\"\",\"\",VLOOKUP(G123,所属データ!C:G,2,FALSE))","v":""},{"$f":"IF(I123=\"\",\"\",VLOOKUP(I123,基礎データ!K:L,2,FALSE))","v":""},"",{"$f":"IF(R123=\"\",\"\",VLOOKUP(R123,基礎データ!K:L,2,FALSE))","v":""},"",{"$f":"IF(AA123=\"\",\"\",VLOOKUP(AA123,基礎データ!K:L,2,FALSE))","v":""},"",{"$f":"IF(AV123=\"\",\"\",VLOOKUP(LEFT(AV123,6),競技データ!$C$2:$C$300,1,FALSE))","v":""},{"$f":"IF(AX123=\"\",\"\",VLOOKUP(LEFT(AX123,6),競技データ!$C$2:$C$300,1,FALSE))","v":""},{"$f":"IF(AZ123=\"\",\"\",VLOOKUP(LEFT(AZ123,6),競技データ!$C$2:$C$300,1,FALSE))","v":""},false,false,false,0,""]
[null,116,null,null,null,null,{"$f":"IF(C124=\"\",\"\",VLOOKUP($D$4,所属データ!$E:$H,4,FALSE))","v":""},{"$f":"IF(G124=\"\",\"\",VLOOKUP(G124,所属データ!$C:$G,4,0))","v":""},null,0,0,"",0,0,"",null,null,null,0,0,"",0,0,"",null,null,null,0,0,"",0,0,"",null,null,null,null,null,116,"",{"$f":"IF(F124=\"\",\"\",VLOOKUP(F124,基礎データ!H:I,2,FALSE))","v":""},"",{"$f":"IF($E124=\"\",\"\",VLOOKUP($E124,基礎データ!$E:$F,2,FALSE))","v":""},"","",{"$f":"IF(G124=\"\",\"\",VLOOKUP(G124,所属データ!C:G,2,FALSE))","v":""},{"$f":"IF(I124=\"\",\"\",VLOOKUP(I124,基礎データ!K:L,2,FALSE))","v":""},"",{"$f":"IF(R124=\"\",\"\",VLOOKUP(R124,基礎データ!K:L,2,FALSE))","v":""},"",{"$f":"IF(AA124=\"\",\"\",VLOOKUP(AA124,基礎データ!K:L,2,FALSE))","v":""},"",{"$f":"IF(AV124=\"\",\"\",VLOOKUP(LEFT(AV124,6),競技データ!$C$2:$C$300,1,FALSE))","v":""},{"$f":"IF(AX124=\"\",\"\",VLOOKUP(LEFT(AX124,6),競技データ!$C$2:$C$300,1,FALSE))","v":""},{"$f":"IF(AZ124=\"\",\"\",VLOOKUP(LEFT(AZ124,6),競技データ!$C$2:$C$300,1,FALSE))","v":""},false,false,false,0,""]
[null,117,null,null,null,null,{"$f":"IF(C125=\"\",\"\",VLOOKUP($D$4,所属データ!$E:$H,4,FALSE))","v":""},{"$f":"IF(G125=\"\",\"\",VLOOKUP(G125,所属データ!$C:$G,4,0))","v":""},null,0,0,"",0,0,"",null,null,null,0,0,"",0,0,"",null,null,null,0,0,"",0,0,"",null,null,null,null,null,117,"",{"$f":"IF(F125=\"\",\"\",VLOOKUP(F125,基礎データ!H:I,2,FALSE))","v":""},"",{"$f":"IF($E125=\"\",\"\",VLOOKUP($E125,基礎データ!$E:$F,2,FALSE))","v":""},"","",{"$f":"IF(G125=\"\",\"\",VLOOKUP(G125,所属データ!C:G,2,FALSE))","v":""},{"$f":"IF(I125=\"\",\"\",VLOOKUP(I125,基礎データ!K:L,2,FALSE))","v":""},"",{"$f":"IF(R125=\"\",\"\",VLOOKUP(R125,基礎データ!K:L,2,FALSE))","v":""},"",{"$f":"IF(AA125=\"\",\"\",VLOOKUP(AA125,基礎データ!K:L,2,FALSE))","v":""},"",{"$f":"IF(AV125=\"\",\"\",VLOOKUP(LEFT(AV125,6),競技データ!$C$2:$C$300,1,FALSE))","v":""},{"$f":"IF(AX125=\"\",\"\",VLOOKUP(LEFT(AX125,6),競技データ!$C$2:$C$300,1,FALSE))","v":""},{"$f":"IF(AZ125=\"\",\"\",VLOOKUP(LEFT(AZ125,6),競技データ!$C$2:$C$300,1,FALSE))","v":""},false,false,false,0,""]
[null,118,null,null,null,null,{"$f":"IF(C126=\"\",\"\",VLOOKUP($D$4,所属データ!$E:$H,4,FALSE))","v":""},{"$f":"IF(G126=\"\",\"\",VLOOKUP(G126,所属データ!$C:$G,4,0))","v":""},null,0,0,"",0,0,"",null,null,null,0,0,"",0,0,"",null,null,null,0,0,"",0,0,"",null,null,null,null,null,118,"",{"$f":"IF(F126=\"\",\"\",VLOOKUP(F126,基礎データ!H:I,2,FALSE))","v":""},"",{"$f":"IF($E126=\"\",\"\",VLOOKUP($E126,基礎データ!$E:$F,2,FALSE))","v":""},"","",{"$f":"IF(G126=\"\",\"\",VLOOKUP(G126,所属データ!C:G,2,FALSE))","v":""},{"$f":"IF(I126=\"\",\"\",VLOOKUP(I126,基礎データ!K:L,2,FALSE))","v":""},"",{"$f":"IF(R126=\"\",\"\",VLOOKUP(R126,基礎データ!K:L,2,FALSE))","v":""},"",{"$f":"IF(AA126=\"\",\"\",VLOOKUP(AA126,基礎データ!K:L,2,FALSE))","v":""},"",{"$f":"IF(AV126=\"\",\"\",VLOOKUP(LEFT(AV126,6),競技データ!$C$2:$C$300,1,FALSE))","v":""},{"$f":"IF(AX126=\"\",\"\",VLOOKUP(LEFT(AX126,6),競技データ!$C$2:$C$300,1,FALSE))","v":""},{"$f":"IF(AZ126=\"\",\"\",VLOOKUP(LEFT(AZ126,6),競技データ!$C$2:$C$300,1,FALSE))","v":""},false,false,false,0,""]
[null,119,null,null,null,null,{"$f":"IF(C127=\"\",\"\",VLOOKUP($D$4,所属データ!$E:$H,4,FALSE))","v":""},{"$f":"IF(G127=\"\",\"\",VLOOKUP(G127,所属データ!$C:$G,4,0))","v":""},null,0,0,"",0,0,"",null,null,null,0,0,"",0,0,"",null,null,null,0,0,"",0,0,"",null,null,null,null,null,119,"",{"$f":"IF(F127=\"\",\"\",VLOOKUP(F127,基礎データ!H:I,2,FALSE))","v":""},"",{"$f":"IF($E127=\"\",\"\",VLOOKUP($E127,基礎データ!$E:$F,2,FALSE))","v":""},"","",{"$f":"IF(G127=\"\",\"\",VLOOKUP(G127,所属データ!C:G,2,FALSE))","v":""},{"$f":"IF(I127=\"\",\"\",VLOOKUP(I127,基礎データ!K:L,2,FALSE))","v":""},"",{"$f":"IF(R127=\"\",\"\",VLOOKUP(R127,基礎データ!K:L,2,FALSE))","v":""},"",{"$f":"IF(AA127=\"\",\"\",VLOOKUP(AA127,基礎データ!K:L,2,FALSE))","v":""},"",{"$f":"IF(AV127=\"\",\"\",VLOOKUP(LEFT(AV127,6),競技データ!$C$2:$C$300,1,FALSE))","v":""},{"$f":"IF(AX127=\"\",\"\",VLOOKUP(LEFT(AX127,6),競技データ!$C$2:$C$300,1,FALSE))","v":""},{"$f":"IF(AZ127=\"\",\"\",VLOOKUP(LEFT(AZ127,6),競技データ!$C$2:$C$300,1,FALSE))","v":""},false,false,false,0,""]
[null,120,null,null,null,null,{"$f":"IF(C128=\"\",\"\",VLOOKUP($D$4,所属データ!$E:$H,4,FALSE))","v":""},{"$f":"IF(G128=\"\",\"\",VLOOKUP(G128,所属データ!$C:$G,4,0))","v":""},null,0,0,"",0,0,"",null,null,null,0,0,"",0,0,"",null,null,null,0,0,"",0,0,"",null,null,null,null,null,120,"",{"$f":"IF(F128=\"\",\"\",VLOOKUP(F128,基礎データ!H:I,2,FALSE))","v":""},"",{"$f":"IF($E128=\"\",\"\",VLOOKUP($E128,基礎データ!$E:$F,2,FALSE))","v":""},"","",{"$f":"IF(G128=\"\",\"\",VLOOKUP(G128,所属データ!C:G,2,FALSE))","v":""},{"$f":"IF(I128=\"\",\"\",VLOOKUP(I128,基礎データ!K:L,2,FALSE))","v":""},"",{"$f":"IF(R128=\"\",\"\",VLOOKUP(R128,基礎データ!K:L,2,FALSE))","v":""},"",{"$f":"IF(AA128=\"\",\"\",VLOOKUP(AA128,基礎データ!K:L,2,FALSE))","v":""},"",{"$f":"IF(AV128=\"\",\"\",VLOOKUP(LEFT(AV128,6),競技データ!$C$2:$C$300,1,FALSE))","v":""},{"$f":"IF(AX128=\"\",\"\",VLOOKUP(LEFT(AX128,6),競技データ!$C$2:$C$300,1,FALSE))","v":""},{"$f":"IF(AZ128=\"\",\"\",VLOOKUP(LEFT(AZ128,6),競技データ!$C$2:$C$300,1,FALSE))","v":""},false,false,false,0,""]
[null,121,null,null,null,null,{"$f":"IF(C129=\"\",\"\",VLOOKUP($D$4,所属データ!$E:$H,4,FALSE))","v":""},{"$f":"IF(G129=\"\",\"\",VLOOKUP(G129,所属データ!$C:$G,4,0))","v":""},null,0,0,"",0,0,"",null,null,null,0,0,"",0,0,"",null,null,null,0,0,"",0,0,"",null,null,null,null,null,121,"",{"$f":"IF(F129=\"\",\"\",VLOOKUP(F129,基礎データ!H:I,2,FALSE))","v":""},"",{"$f":"IF($E129=\"\",\"\",VLOOKUP($E129,基礎データ!$E:$F,2,FALSE))","v":""},"","",{"$f":"IF(G129=\"\",\"\",VLOOKUP(G129,所属データ!C:G,2,FALSE))","v":""},{"$f":"IF(I129=\"\",\"\",VLOOKUP(I129,基礎データ!K:L,2,FALSE))","v":""},"",{"$f":"IF(R129=\"\",\"\",VLOOKUP(R129,基礎データ!K:L,2,FALSE))","v":""},"",{"$f":"IF(AA129=\"\",\"\",VLOOKUP(AA129,基礎データ!K:L,2,FALSE))","v":""},"",{"$f":"IF(AV129=\"\",\"\",VLOOKUP(LEFT(AV129,6),競技データ!$C$2:$C$300,1,FALSE))","v":""},{"$f":"IF(AX129=\"\",\"\",VLOOKUP(LEFT(AX129,6),競技データ!$C$2:$C$300,1,FALSE))","v":""},{"$f":"IF(AZ129=\"\",\"\",VLOOKUP(LEFT(AZ129,6),競技データ!$C$2:$C$300,1,FALSE))","v":""},false,false,false,0,""]
[null,122,null,null,null,null,{"$f":"IF(C130=\"\",\"\",VLOOKUP($D$4,所属データ!$E:$H,4,FALSE))","v":""},{"$f":"IF(G130=\"\",\"\",VLOOKUP(G130,所属データ!$C:$G,4,0))","v":""},null,0,0,"",0,0,"",null,null,null,0,0,"",0,0,"",null,null,null,0,0,"",0,0,"",null,null,null,null,null,122,"",{"$f":"IF(F130=\"\",\"\",VLOOKUP(F130,基礎データ!H:I,2,FALSE))","v":""},"",{"$f":"IF($E130=\"\",\"\",VLOOKUP($E130,基礎データ!$E:$F,2,FALSE))","v":""},"","",{"$f":"IF(G130=\"\",\"\",VLOOKUP(G130,所属データ!C:G,2,FALSE))","v":""},{"$f":"IF(I130=\"\",\"\",VLOOKUP(I130,基礎データ!K:L,2,FALSE))","v":""},"",{"$f":"IF(R130=\"\",\"\",VLOOKUP(R130,基礎データ!K:L,2,FALSE))","v":""},"",{"$f":"IF(AA130=\"\",\"\",VLOOKUP(AA130,基礎データ!K:L,2,FALSE))","v":""},"",{"$f":"IF(AV130=\"\",\"\",VLOOKUP(LEFT(AV130,6),競技データ!$C$2:$C$300,1,FALSE))","v":""},{"$f":"IF(AX130=\"\",\"\",VLOOKUP(LEFT(AX130,6),競技データ!$C$2:$C$300,1,FALSE))","v":""},{"$f":"IF(AZ130=\"\",\"\",VLOOKUP(LEFT(AZ130,6),競技データ!$C$2:$C$300,1,FALSE))","v":""},false,false,false,0,""]
[null,123,null,null,null,null,{"$f":"IF(C131=\"\",\"\",VLOOKUP($D$4,所属データ!$E:$H,4,FALSE))","v":""},{"$f":"IF(G131=\"\",\"\",VLOOKUP(G131,所属データ!$C:$G,4,0))","v":""},null,0,0,"",0,0,"",null,null,null,0,0,"",0,0,"",null,null,null,0,0,"",0,0,"",null,null,null,null,null,123,"",{"$f":"IF(F131=\"\",\"\",VLOOKUP(F131,基礎データ!H:I,2,FALSE))","v":""},"",{"$f":"IF($E131=\"\",\"\",VLOOKUP($E131,基礎データ!$E:$F,2,FALSE))","v":""},"","",{"$f":"IF(G131=\"\",\"\",VLOOKUP(G131,所属データ!C:G,2,FALSE))","v":""},{"$f":"IF(I131=\"\",\"\",VLOOKUP(I131,基礎データ!K:L,2,FALSE))","v":""},"",{"$f":"IF(R131=\"\",\"\",VLOOKUP(R131,基礎データ!K:L,2,FALSE))","v":""},"",{"$f":"IF(AA131=\"\",\"\",VLOOKUP(AA131,基礎データ!K:L,2,FALSE))","v":""},"",{"$f":"IF(AV131=\"\",\"\",VLOOKUP(LEFT(AV131,6),競技データ!$C$2:$C$300,1,FALSE))","v":""},{"$f":"IF(AX131=\"\",\"\",VLOOKUP(LEFT(AX131,6),競技データ!$C$2:$C$300,1,FALSE))","v":""},{"$f":"IF(AZ131=\"\",\"\",VLOOKUP(LEFT(AZ131,6),競技データ!$C$2:$C$300,1,FALSE))","v":""},false,false,false,0,""]
[null,124,null,null,null,null,{"$f":"IF(C132=\"\",\"\",VLOOKUP($D$4,所属データ!$E:$H,4,FALSE))","v":""},{"$f":"IF(G132=\"\",\"\",VLOOKUP(G132,所属データ!$C:$G,4,0))","v":""},null,0,0,"",0,0,"",null,null,null,0,0,"",0,0,"",null,null,null,0,0,"",0,0,"",null,null,null,null,null,124,"",{"$f":"IF(F132=\"\",\"\",VLOOKUP(F132,基礎データ!H:I,2,FALSE))","v":""},"",{"$f":"IF($E132=\"\",\"\",VLOOKUP($E132,基礎データ!$E:$F,2,FALSE))","v":""},"","",{"$f":"IF(G132=\"\",\"\",VLOOKUP(G132,所属データ!C:G,2,FALSE))","v":""},{"$f":"IF(I132=\"\",\"\",VLOOKUP(I132,基礎データ!K:L,2,FALSE))","v":""},"",{"$f":"IF(R132=\"\",\"\",VLOOKUP(R132,基礎データ!K:L,2,FALSE))","v":""},"",{"$f":"IF(AA132=\"\",\"\",VLOOKUP(AA132,基礎データ!K:L,2,FALSE))","v":""},"",{"$f":"IF(AV132=\"\",\"\",VLOOKUP(LEFT(AV132,6),競技データ!$C$2:$C$300,1,FALSE))","v":""},{"$f":"IF(AX132=\"\",\"\",VLOOKUP(LEFT(AX132,6),競技データ!$C$2:$C$300,1,FALSE))","v":""},{"$f":"IF(AZ132=\"\",\"\",VLOOKUP(LEFT(AZ132,6),競技データ!$C$2:$C$300,1,FALSE))","v":""},false,false,false,0,""]
[null,125,null,null,null,null,{"$f":"IF(C133=\"\",\"\",VLOOKUP($D$4,所属データ!$E:$H,4,FALSE))","v":""},{"$f":"IF(G133=\"\",\"\",VLOOKUP(G133,所属データ!$C:$G,4,0))","v":""},null,0,0,"",0,0,"",null,null,null,0,0,"",0,0,"",null,null,null,0,0,"",0,0,"",null,null,null,null,null,125,"",{"$f":"IF(F133=\"\",\"\",VLOOKUP(F133,基礎データ!H:I,2,FALSE))","v":""},"",{"$f":"IF($E133=\"\",\"\",VLOOKUP($E133,基礎データ!$E:$F,2,FALSE))","v":""},"","",{"$f":"IF(G133=\"\",\"\",VLOOKUP(G133,所属データ!C:G,2,FALSE))","v":""},{"$f":"IF(I133=\"\",\"\",VLOOKUP(I133,基礎データ!K:L,2,FALSE))","v":""},"",{"$f":"IF(R133=\"\",\"\",VLOOKUP(R133,基礎データ!K:L,2,FALSE))","v":""},"",{"$f":"IF(AA133=\"\",\"\",VLOOKUP(AA133,基礎データ!K:L,2,FALSE))","v":""},"",{"$f":"IF(AV133=\"\",\"\",VLOOKUP(LEFT(AV133,6),競技データ!$C$2:$C$300,1,FALSE))","v":""},{"$f":"IF(AX133=\"\",\"\",VLOOKUP(LEFT(AX133,6),競技データ!$C$2:$C$300,1,FALSE))","v":""},{"$f":"IF(AZ133=\"\",\"\",VLOOKUP(LEFT(AZ133,6),競技データ!$C$2:$C$300,1,FALSE))","v":""},false,false,false,0,""]
[null,126,null,null,null,null,{"$f":"IF(C134=\"\",\"\",VLOOKUP($D$4,所属データ!$E:$H,4,FALSE))","v":""},{"$f":"IF(G134=\"\",\"\",VLOOKUP(G134,所属データ!$C:$G,4,0))","v":""},null,0,0,"",0,0,"",null,null,null,0,0,"",0,0,"",null,null,null,0,0,"",0,0,"",null,null,null,null,null,126,"",{"$f":"IF(F134=\"\",\"\",VLOOKUP(F134,基礎データ!H:I,2,FALSE))","v":""},"",{"$f":"IF($E134=\"\",\"\",VLOOKUP($E134,基礎データ!$E:$F,2,FALSE))","v":""},"","",{"$f":"IF(G134=\"\",\"\",VLOOKUP(G134,所属データ!C:G,2,FALSE))","v":""},{"$f":"IF(I134=\"\",\"\",VLOOKUP(I134,基礎データ!K:L,2,FALSE))","v":""},"",{"$f":"IF(R134=\"\",\"\",VLOOKUP(R134,基礎データ!K:L,2,FALSE))","v":""},"",{"$f":"IF(AA134=\"\",\"\",VLOOKUP(AA134,基礎データ!K:L,2,FALSE))","v":""},"",{"$f":"IF(AV134=\"\",\"\",VLOOKUP(LEFT(AV134,6),競技データ!$C$2:$C$300,1,FALSE))","v":""},{"$f":"IF(AX134=\"\",\"\",VLOOKUP(LEFT(AX134,6),競技データ!$C$2:$C$300,1,FALSE))","v":""},{"$f":"IF(AZ134=\"\",\"\",VLOOKUP(LEFT(AZ134,6),競技データ!$C$2:$C$300,1,FALSE))","v":""},false,false,false,0,""]
[null,127,null,null,null,null,{"$f":"IF(C135=\"\",\"\",VLOOKUP($D$4,所属データ!$E:$H,4,FALSE))","v":""},{"$f":"IF(G135=\"\",\"\",VLOOKUP(G135,所属データ!$C:$G,4,0))","v":""},null,0,0,"",0,0,"",null,null,null,0,0,"",0,0,"",null,null,null,0,0,"",0,0,"",null,null,null,null,null,127,"",{"$f":"IF(F135=\"\",\"\",VLOOKUP(F135,基礎データ!H:I,2,FALSE))","v":""},"",{"$f":"IF($E135=\"\",\"\",VLOOKUP($E135,基礎データ!$E:$F,2,FALSE))","v":""},"","",{"$f":"IF(G135=\"\",\"\",VLOOKUP(G135,所属データ!C:G,2,FALSE))","v":""},{"$f":"IF(I135=\"\",\"\",VLOOKUP(I135,基礎データ!K:L,2,FALSE))","v":""},"",{"$f":"IF(R135=\"\",\"\",VLOOKUP(R135,基礎データ!K:L,2,FALSE))","v":""},"",{"$f":"IF(AA135=\"\",\"\",VLOOKUP(AA135,基礎データ!K:L,2,FALSE))","v":""},"",{"$f":"IF(AV135=\"\",\"\",VLOOKUP(LEFT(AV135,6),競技データ!$C$2:$C$300,1,FALSE))","v":""},{"$f":"IF(AX135=\"\",\"\",VLOOKUP(LEFT(AX135,6),競技データ!$C$2:$C$300,1,FALSE))","v":""},{"$f":"IF(AZ135=\"\",\"\",VLOOKUP(LEFT(AZ135,6),競技データ!$C$2:$C$300,1,FALSE))","v":""},false,false,false,0,""]
[null,128,null,null,null,null,{"$f":"IF(C136=\"\",\"\",VLOOKUP($D$4,所属データ!$E:$H,4,FALSE))","v":""},{"$f":"IF(G136=\"\",\"\",VLOOKUP(G136,所属データ!$C:$G,4,0))","v":""},null,0,0,"",0,0,"",null,null,null,0,0,"",0,0,"",null,null,null,0,0,"",0,0,"",null,null,null,null,null,128,"",{"$f":"IF(F136=\"\",\"\",VLOOKUP(F136,基礎データ!H:I,2,FALSE))","v":""},"",{"$f":"IF($E136=\"\",\"\",VLOOKUP($E136,基礎データ!$E:$F,2,FALSE))","v":""},"","",{"$f":"IF(G136=\"\",\"\",VLOOKUP(G136,所属データ!C:G,2,FALSE))","v":""},{"$f":"IF(I136=\"\",\"\",VLOOKUP(I136,基礎データ!K:L,2,FALSE))","v":""},"",{"$f":"IF(R136=\"\",\"\",VLOOKUP(R136,基礎データ!K:L,2,FALSE))","v":""},"",{"$f":"IF(AA136=\"\",\"\",VLOOKUP(AA136,基礎データ!K:L,2,FALSE))","v":""},"",{"$f":"IF(AV136=\"\",\"\",VLOOKUP(LEFT(AV136,6),競技データ!$C$2:$C$300,1,FALSE))","v":""},{"$f":"IF(AX136=\"\",\"\",VLOOKUP(LEFT(AX136,6),競技データ!$C$2:$C$300,1,FALSE))","v":""},{"$f":"IF(AZ136=\"\",\"\",VLOOKUP(LEFT(AZ136,6),競技データ!$C$2:$C$300,1,FALSE))","v":""},false,false,false,0,""]
[null,129,null,null,null,null,{"$f":"IF(C137=\"\",\"\",VLOOKUP($D$4,所属データ!$E:$H,4,FALSE))","v":""},{"$f":"IF(G137=\"\",\"\",VLOOKUP(G137,所属データ!$C:$G,4,0))","v":""},null,0,0,"",0,0,"",null,null,null,0,0,"",0,0,"",null,null,null,0,0,"",0,0,"",null,null,null,null,null,129,"",{"$f":"IF(F137=\"\",\"\",VLOOKUP(F137,基礎データ!H:I,2,FALSE))","v":""},"",{"$f":"IF($E137=\"\",\"\",VLOOKUP($E137,基礎データ!$E:$F,2,FALSE))","v":""},"","",{"$f":"IF(G137=\"\",\"\",VLOOKUP(G137,所属データ!C:G,2,FALSE))","v":""},{"$f":"IF(I137=\"\",\"\",VLOOKUP(I137,基礎データ!K:L,2,FALSE))","v":""},"",{"$f":"IF(R137=\"\",\"\",VLOOKUP(R137,基礎データ!K:L,2,FALSE))","v":""},"",{"$f":"IF(AA137=\"\",\"\",VLOOKUP(AA137,基礎データ!K:L,2,FALSE))","v":""},"",{"$f":"IF(AV137=\"\",\"\",VLOOKUP(LEFT(AV137,6),競技データ!$C$2:$C$300,1,FALSE))","v":""},{"$f":"IF(AX137=\"\",\"\",VLOOKUP(LEFT(AX137,6),競技データ!$C$2:$C$300,1,FALSE))","v":""},{"$f":"IF(AZ137=\"\",\"\",VLOOKUP(LEFT(AZ137,6),競技データ!$C$2:$C$300,1,FALSE))","v":""},false,false,false,0,""]
[null,130,null,null,null,null,{"$f":"IF(C138=\"\",\"\",VLOOKUP($D$4,所属データ!$E:$H,4,FALSE))","v":""},{"$f":"IF(G138=\"\",\"\",VLOOKUP(G138,所属データ!$C:$G,4,0))","v":""},null,0,0,"",0,0,"",null,null,null,0,0,"",0,0,"",null,null,null,0,0,"",0,0,"",null,null,null,null,null,130,"",{"$f":"IF(F138=\"\",\"\",VLOOKUP(F138,基礎データ!H:I,2,FALSE))","v":""},"",{"$f":"IF($E138=\"\",\"\",VLOOKUP($E138,基礎データ!$E:$F,2,FALSE))","v":""},"","",{"$f":"IF(G138=\"\",\"\",VLOOKUP(G138,所属データ!C:G,2,FALSE))","v":""},{"$f":"IF(I138=\"\",\"\",VLOOKUP(I138,基礎データ!K:L,2,FALSE))","v":""},"",{"$f":"IF(R138=\"\",\"\",VLOOKUP(R138,基礎データ!K:L,2,FALSE))","v":""},"",{"$f":"IF(AA138=\"\",\"\",VLOOKUP(AA138,基礎データ!K:L,2,FALSE))","v":""},"",{"$f":"IF(AV138=\"\",\"\",VLOOKUP(LEFT(AV138,6),競技データ!$C$2:$C$300,1,FALSE))","v":""},{"$f":"IF(AX138=\"\",\"\",VLOOKUP(LEFT(AX138,6),競技データ!$C$2:$C$300,1,FALSE))","v":""},{"$f":"IF(AZ138=\"\",\"\",VLOOKUP(LEFT(AZ138,6),競技データ!$C$2:$C$300,1,FALSE))","v":""},false,false,false,0,""]
[null,131,null,null,null,null,{"$f":"IF(C139=\"\",\"\",VLOOKUP($D$4,所属データ!$E:$H,4,FALSE))","v":""},{"$f":"IF(G139=\"\",\"\",VLOOKUP(G139,所属データ!$C:$G,4,0))","v":""},null,0,0,"",0,0,"",null,null,null,0,0,"",0,0,"",null,null,null,0,0,"",0,0,"",null,null,null,null,null,131,"",{"$f":"IF(F139=\"\",\"\",VLOOKUP(F139,基礎データ!H:I,2,FALSE))","v":""},"",{"$f":"IF($E139=\"\",\"\",VLOOKUP($E139,基礎データ!$E:$F,2,FALSE))","v":""},"","",{"$f":"IF(G139=\"\",\"\",VLOOKUP(G139,所属データ!C:G,2,FALSE))","v":""},{"$f":"IF(I139=\"\",\"\",VLOOKUP(I139,基礎データ!K:L,2,FALSE))","v":""},"",{"$f":"IF(R139=\"\",\"\",VLOOKUP(R139,基礎データ!K:L,2,FALSE))","v":""},"",{"$f":"IF(AA139=\"\",\"\",VLOOKUP(AA139,基礎データ!K:L,2,FALSE))","v":""},"",{"$f":"IF(AV139=\"\",\"\",VLOOKUP(LEFT(AV139,6),競技データ!$C$2:$C$300,1,FALSE))","v":""},{"$f":"IF(AX139=\"\",\"\",VLOOKUP(LEFT(AX139,6),競技データ!$C$2:$C$300,1,FALSE))","v":""},{"$f":"IF(AZ139=\"\",\"\",VLOOKUP(LEFT(AZ139,6),競技データ!$C$2:$C$300,1,FALSE))","v":""},false,false,false,0,""]
[null,132,null,null,null,null,{"$f":"IF(C140=\"\",\"\",VLOOKUP($D$4,所属データ!$E:$H,4,FALSE))","v":""},{"$f":"IF(G140=\"\",\"\",VLOOKUP(G140,所属データ!$C:$G,4,0))","v":""},null,0,0,"",0,0,"",null,null,null,0,0,"",0,0,"",null,null,null,0,0,"",0,0,"",null,null,null,null,null,132,"",{"$f":"IF(F140=\"\",\"\",VLOOKUP(F140,基礎データ!H:I,2,FALSE))","v":""},"",{"$f":"IF($E140=\"\",\"\",VLOOKUP($E140,基礎データ!$E:$F,2,FALSE))","v":""},"","",{"$f":"IF(G140=\"\",\"\",VLOOKUP(G140,所属データ!C:G,2,FALSE))","v":""},{"$f":"IF(I140=\"\",\"\",VLOOKUP(I140,基礎データ!K:L,2,FALSE))","v":""},"",{"$f":"IF(R140=\"\",\"\",VLOOKUP(R140,基礎データ!K:L,2,FALSE))","v":""},"",{"$f":"IF(AA140=\"\",\"\",VLOOKUP(AA140,基礎データ!K:L,2,FALSE))","v":""},"",{"$f":"IF(AV140=\"\",\"\",VLOOKUP(LEFT(AV140,6),競技データ!$C$2:$C$300,1,FALSE))","v":""},{"$f":"IF(AX140=\"\",\"\",VLOOKUP(LEFT(AX140,6),競技データ!$C$2:$C$300,1,FALSE))","v":""},{"$f":"IF(AZ140=\"\",\"\",VLOOKUP(LEFT(AZ140,6),競技データ!$C$2:$C$300,1,FALSE))","v":""},false,false,false,0,""]
[null,133,null,null,null,null,{"$f":"IF(C141=\"\",\"\",VLOOKUP($D$4,所属データ!$E:$H,4,FALSE))","v":""},{"$f":"IF(G141=\"\",\"\",VLOOKUP(G141,所属データ!$C:$G,4,0))","v":""},null,0,0,"",0,0,"",null,null,null,0,0,"",0,0,"",null,null,null,0,0,"",0,0,"",null,null,null,null,null,133,"",{"$f":"IF(F141=\"\",\"\",VLOOKUP(F141,基礎データ!H:I,2,FALSE))","v":""},"",{"$f":"IF($E141=\"\",\"\",VLOOKUP($E141,基礎データ!$E:$F,2,FALSE))","v":""},"","",{"$f":"IF(G141=\"\",\"\",VLOOKUP(G141,所属データ!C:G,2,FALSE))","v":""},{"$f":"IF(I141=\"\",\"\",VLOOKUP(I141,基礎データ!K:L,2,FALSE))","v":""},"",{"$f":"IF(R141=\"\",\"\",VLOOKUP(R141,基礎データ!K:L,2,FALSE))","v":""},"",{"$f":"IF(AA141=\"\",\"\",VLOOKUP(AA141,基礎データ!K:L,2,FALSE))","v":""},"",{"$f":"IF(AV141=\"\",\"\",VLOOKUP(LEFT(AV141,6),競技データ!$C$2:$C$300,1,FALSE))","v":""},{"$f":"IF(AX141=\"\",\"\",VLOOKUP(LEFT(AX141,6),競技データ!$C$2:$C$300,1,FALSE))","v":""},{"$f":"IF(AZ141=\"\",\"\",VLOOKUP(LEFT(AZ141,6),競技データ!$C$2:$C$300,1,FALSE))","v":""},false,false,false,0,""]
[null,134,null,null,null,null,{"$f":"IF(C142=\"\",\"\",VLOOKUP($D$4,所属データ!$E:$H,4,FALSE))","v":""},{"$f":"IF(G142=\"\",\"\",VLOOKUP(G142,所属データ!$C:$G,4,0))","v":""},null,0,0,"",0,0,"",null,null,null,0,0,"",0,0,"",null,null,null,0,0,"",0,0,"",null,null,null,null,null,134,"",{"$f":"IF(F142=\"\",\"\",VLOOKUP(F142,基礎データ!H:I,2,FALSE))","v":""},"",{"$f":"IF($E142=\"\",\"\",VLOOKUP($E142,基礎データ!$E:$F,2,FALSE))","v":""},"","",{"$f":"IF(G142=\"\",\"\",VLOOKUP(G142,所属データ!C:G,2,FALSE))","v":""},{"$f":"IF(I142=\"\",\"\",VLOOKUP(I142,基礎データ!K:L,2,FALSE))","v":""},"",{"$f":"IF(R142=\"\",\"\",VLOOKUP(R142,基礎データ!K:L,2,FALSE))","v":""},"",{"$f":"IF(AA142=\"\",\"\",VLOOKUP(AA142,基礎データ!K:L,2,FALSE))","v":""},"",{"$f":"IF(AV142=\"\",\"\",VLOOKUP(LEFT(AV142,6),競技データ!$C$2:$C$300,1,FALSE))","v":""},{"$f":"IF(AX142=\"\",\"\",VLOOKUP(LEFT(AX142,6),競技データ!$C$2:$C$300,1,FALSE))","v":""},{"$f":"IF(AZ142=\"\",\"\",VLOOKUP(LEFT(AZ142,6),競技データ!$C$2:$C$300,1,FALSE))","v":""},false,false,false,0,""]
[null,135,null,null,null,null,{"$f":"IF(C143=\"\",\"\",VLOOKUP($D$4,所属データ!$E:$H,4,FALSE))","v":""},{"$f":"IF(G143=\"\",\"\",VLOOKUP(G143,所属データ!$C:$G,4,0))","v":""},null,0,0,"",0,0,"",null,null,null,0,0,"",0,0,"",null,null,null,0,0,"",0,0,"",null,null,null,null,null,135,"",{"$f":"IF(F143=\"\",\"\",VLOOKUP(F143,基礎データ!H:I,2,FALSE))","v":""},"",{"$f":"IF($E143=\"\",\"\",VLOOKUP($E143,基礎データ!$E:$F,2,FALSE))","v":""},"","",{"$f":"IF(G143=\"\",\"\",VLOOKUP(G143,所属データ!C:G,2,FALSE))","v":""},{"$f":"IF(I143=\"\",\"\",VLOOKUP(I143,基礎データ!K:L,2,FALSE))","v":""},"",{"$f":"IF(R143=\"\",\"\",VLOOKUP(R143,基礎データ!K:L,2,FALSE))","v":""},"",{"$f":"IF(AA143=\"\",\"\",VLOOKUP(AA143,基礎データ!K:L,2,FALSE))","v":""},"",{"$f":"IF(AV143=\"\",\"\",VLOOKUP(LEFT(AV143,6),競技データ!$C$2:$C$300,1,FALSE))","v":""},{"$f":"IF(AX143=\"\",\"\",VLOOKUP(LEFT(AX143,6),競技データ!$C$2:$C$300,1,FALSE))","v":""},{"$f":"IF(AZ143=\"\",\"\",VLOOKUP(LEFT(AZ143,6),競技データ!$C$2:$C$300,1,FALSE))","v":""},false,false,false,0,""]
[null,136,null,null,null,null,{"$f":"IF(C144=\"\",\"\",VLOOKUP($D$4,所属データ!$E:$H,4,FALSE))","v":""},{"$f":"IF(G144=\"\",\"\",VLOOKUP(G144,所属データ!$C:$G,4,0))","v":""},null,0,0,"",0,0,"",null,null,null,0,0,"",0,0,"",null,null,null,0,0,"",0,0,"",null,null,null,null,null,136,"",{"$f":"IF(F144=\"\",\"\",VLOOKUP(F144,基礎データ!H:I,2,FALSE))","v":""},"",{"$f":"IF($E144=\"\",\"\",VLOOKUP($E144,基礎データ!$E:$F,2,FALSE))","v":""},"","",{"$f":"IF(G144=\"\",\"\",VLOOKUP(G144,所属データ!C:G,2,FALSE))","v":""},{"$f":"IF(I144=\"\",\"\",VLOOKUP(I144,基礎データ!K:L,2,FALSE))","v":""},"",{"$f":"IF(R144=\"\",\"\",VLOOKUP(R144,基礎データ!K:L,2,FALSE))","v":""},"",{"$f":"IF(AA144=\"\",\"\",VLOOKUP(AA144,基礎データ!K:L,2,FALSE))","v":""},"",{"$f":"IF(AV144=\"\",\"\",VLOOKUP(LEFT(AV144,6),競技データ!$C$2:$C$300,1,FALSE))","v":""},{"$f":"IF(AX144=\"\",\"\",VLOOKUP(LEFT(AX144,6),競技データ!$C$2:$C$300,1,FALSE))","v":""},{"$f":"IF(AZ144=\"\",\"\",VLOOKUP(LEFT(AZ144,6),競技データ!$C$2:$C$300,1,FALSE))","v":""},false,false,false,0,""]
[null,137,null,null,null,null,{"$f":"IF(C145=\"\",\"\",VLOOKUP($D$4,所属データ!$E:$H,4,FALSE))","v":""},{"$f":"IF(G145=\"\",\"\",VLOOKUP(G145,所属データ!$C:$G,4,0))","v":""},null,0,0,"",0,0,"",null,null,null,0,0,"",0,0,"",null,null,null,0,0,"",0,0,"",null,null,null,null,null,137,"",{"$f":"IF(F145=\"\",\"\",VLOOKUP(F145,基礎データ!H:I,2,FALSE))","v":""},"",{"$f":"IF($E145=\"\",\"\",VLOOKUP($E145,基礎データ!$E:$F,2,FALSE))","v":""},"","",{"$f":"IF(G145=\"\",\"\",VLOOKUP(G145,所属データ!C:G,2,FALSE))","v":""},{"$f":"IF(I145=\"\",\"\",VLOOKUP(I145,基礎データ!K:L,2,FALSE))","v":""},"",{"$f":"IF(R145=\"\",\"\",VLOOKUP(R145,基礎データ!K:L,2,FALSE))","v":""},"",{"$f":"IF(AA145=\"\",\"\",VLOOKUP(AA145,基礎データ!K:L,2,FALSE))","v":""},"",{"$f":"IF(AV145=\"\",\"\",VLOOKUP(LEFT(AV145,6),競技データ!$C$2:$C$300,1,FALSE))","v":""},{"$f":"IF(AX145=\"\",\"\",VLOOKUP(LEFT(AX145,6),競技データ!$C$2:$C$300,1,FALSE))","v":""},{"$f":"IF(AZ145=\"\",\"\",VLOOKUP(LEFT(AZ145,6),競技データ!$C$2:$C$300,1,FALSE))","v":""},false,false,false,0,""]
[null,138,null,null,null,null,{"$f":"IF(C146=\"\",\"\",VLOOKUP($D$4,所属データ!$E:$H,4,FALSE))","v":""},{"$f":"IF(G146=\"\",\"\",VLOOKUP(G146,所属データ!$C:$G,4,0))","v":""},null,0,0,"",0,0,"",null,null,null,0,0,"",0,0,"",null,null,null,0,0,"",0,0,"",null,null,null,null,null,138,"",{"$f":"IF(F146=\"\",\"\",VLOOKUP(F146,基礎データ!H:I,2,FALSE))","v":""},"",{"$f":"IF($E146=\"\",\"\",VLOOKUP($E146,基礎データ!$E:$F,2,FALSE))","v":""},"","",{"$f":"IF(G146=\"\",\"\",VLOOKUP(G146,所属データ!C:G,2,FALSE))","v":""},{"$f":"IF(I146=\"\",\"\",VLOOKUP(I146,基礎データ!K:L,2,FALSE))","v":""},"",{"$f":"IF(R146=\"\",\"\",VLOOKUP(R146,基礎データ!K:L,2,FALSE))","v":""},"",{"$f":"IF(AA146=\"\",\"\",VLOOKUP(AA146,基礎データ!K:L,2,FALSE))","v":""},"",{"$f":"IF(AV146=\"\",\"\",VLOOKUP(LEFT(AV146,6),競技データ!$C$2:$C$300,1,FALSE))","v":""},{"$f":"IF(AX146=\"\",\"\",VLOOKUP(LEFT(AX146,6),競技データ!$C$2:$C$300,1,FALSE))","v":""},{"$f":"IF(AZ146=\"\",\"\",VLOOKUP(LEFT(AZ146,6),競技データ!$C$2:$C$300,1,FALSE))","v":""},false,false,false,0,""]
[null,139,null,null,null,null,{"$f":"IF(C147=\"\",\"\",VLOOKUP($D$4,所属データ!$E:$H,4,FALSE))","v":""},{"$f":"IF(G147=\"\",\"\",VLOOKUP(G147,所属データ!$C:$G,4,0))","v":""},null,0,0,"",0,0,"",null,null,null,0,0,"",0,0,"",null,null,null,0,0,"",0,0,"",null,null,null,null,null,139,"",{"$f":"IF(F147=\"\",\"\",VLOOKUP(F147,基礎データ!H:I,2,FALSE))","v":""},"",{"$f":"IF($E147=\"\",\"\",VLOOKUP($E147,基礎データ!$E:$F,2,FALSE))","v":""},"","",{"$f":"IF(G147=\"\",\"\",VLOOKUP(G147,所属データ!C:G,2,FALSE))","v":""},{"$f":"IF(I147=\"\",\"\",VLOOKUP(I147,基礎データ!K:L,2,FALSE))","v":""},"",{"$f":"IF(R147=\"\",\"\",VLOOKUP(R147,基礎データ!K:L,2,FALSE))","v":""},"",{"$f":"IF(AA147=\"\",\"\",VLOOKUP(AA147,基礎データ!K:L,2,FALSE))","v":""},"",{"$f":"IF(AV147=\"\",\"\",VLOOKUP(LEFT(AV147,6),競技データ!$C$2:$C$300,1,FALSE))","v":""},{"$f":"IF(AX147=\"\",\"\",VLOOKUP(LEFT(AX147,6),競技データ!$C$2:$C$300,1,FALSE))","v":""},{"$f":"IF(AZ147=\"\",\"\",VLOOKUP(LEFT(AZ147,6),競技データ!$C$2:$C$300,1,FALSE))","v":""},false,false,false,0,""]
[null,140,null,null,null,null,{"$f":"IF(C148=\"\",\"\",VLOOKUP($D$4,所属データ!$E:$H,4,FALSE))","v":""},{"$f":"IF(G148=\"\",\"\",VLOOKUP(G148,所属データ!$C:$G,4,0))","v":""},null,0,0,"",0,0,"",null,null,null,0,0,"",0,0,"",null,null,null,0,0,"",0,0,"",null,null,null,null,null,140,"",{"$f":"IF(F148=\"\",\"\",VLOOKUP(F148,基礎データ!H:I,2,FALSE))","v":""},"",{"$f":"IF($E148=\"\",\"\",VLOOKUP($E148,基礎データ!$E:$F,2,FALSE))","v":""},"","",{"$f":"IF(G148=\"\",\"\",VLOOKUP(G148,所属データ!C:G,2,FALSE))","v":""},{"$f":"IF(I148=\"\",\"\",VLOOKUP(I148,基礎データ!K:L,2,FALSE))","v":""},"",{"$f":"IF(R148=\"\",\"\",VLOOKUP(R148,基礎データ!K:L,2,FALSE))","v":""},"",{"$f":"IF(AA148=\"\",\"\",VLOOKUP(AA148,基礎データ!K:L,2,FALSE))","v":""},"",{"$f":"IF(AV148=\"\",\"\",VLOOKUP(LEFT(AV148,6),競技データ!$C$2:$C$300,1,FALSE))","v":""},{"$f":"IF(AX148=\"\",\"\",VLOOKUP(LEFT(AX148,6),競技データ!$C$2:$C$300,1,FALSE))","v":""},{"$f":"IF(AZ148=\"\",\"\",VLOOKUP(LEFT(AZ148,6),競技データ!$C$2:$C$300,1,FALSE))","v":""},false,false,false,0,""]
[null,141,null,null,null,null,{"$f":"IF(C149=\"\",\"\",VLOOKUP($D$4,所属データ!$E:$H,4,FALSE))","v":""},{"$f":"IF(G149=\"\",\"\",VLOOKUP(G149,所属データ!$C:$G,4,0))","v":""},null,0,0,"",0,0,"",null,null,null,0,0,"",0,0,"",null,null,null,0,0,"",0,0,"",null,null,null,null,null,141,"",{"$f":"IF(F149=\"\",\"\",VLOOKUP(F149,基礎データ!H:I,2,FALSE))","v":""},"",{"$f":"IF($E149=\"\",\"\",VLOOKUP($E149,基礎データ!$E:$F,2,FALSE))","v":""},"","",{"$f":"IF(G149=\"\",\"\",VLOOKUP(G149,所属データ!C:G,2,FALSE))","v":""},{"$f":"IF(I149=\"\",\"\",VLOOKUP(I149,基礎データ!K:L,2,FALSE))","v":""},"",{"$f":"IF(R149=\"\",\"\",VLOOKUP(R149,基礎データ!K:L,2,FALSE))","v":""},"",{"$f":"IF(AA149=\"\",\"\",VLOOKUP(AA149,基礎データ!K:L,2,FALSE))","v":""},"",{"$f":"IF(AV149=\"\",\"\",VLOOKUP(LEFT(AV149,6),競技データ!$C$2:$C$300,1,FALSE))","v":""},{"$f":"IF(AX149=\"\",\"\",VLOOKUP(LEFT(AX149,6),競技データ!$C$2:$C$300,1,FALSE))","v":""},{"$f":"IF(AZ149=\"\",\"\",VLOOKUP(LEFT(AZ149,6),競技データ!$C$2:$C$300,1,FALSE))","v":""},false,false,false,0,""]
[null,142,null,null,null,null,{"$f":"IF(C150=\"\",\"\",VLOOKUP($D$4,所属データ!$E:$H,4,FALSE))","v":""},{"$f":"IF(G150=\"\",\"\",VLOOKUP(G150,所属データ!$C:$G,4,0))","v":""},null,0,0,"",0,0,"",null,null,null,0,0,"",0,0,"",null,null,null,0,0,"",0,0,"",null,null,null,null,null,142,"",{"$f":"IF(F150=\"\",\"\",VLOOKUP(F150,基礎データ!H:I,2,FALSE))","v":""},"",{"$f":"IF($E150=\"\",\"\",VLOOKUP($E150,基礎データ!$E:$F,2,FALSE))","v":""},"","",{"$f":"IF(G150=\"\",\"\",VLOOKUP(G150,所属データ!C:G,2,FALSE))","v":""},{"$f":"IF(I150=\"\",\"\",VLOOKUP(I150,基礎データ!K:L,2,FALSE))","v":""},"",{"$f":"IF(R150=\"\",\"\",VLOOKUP(R150,基礎データ!K:L,2,FALSE))","v":""},"",{"$f":"IF(AA150=\"\",\"\",VLOOKUP(AA150,基礎データ!K:L,2,FALSE))","v":""},"",{"$f":"IF(AV150=\"\",\"\",VLOOKUP(LEFT(AV150,6),競技データ!$C$2:$C$300,1,FALSE))","v":""},{"$f":"IF(AX150=\"\",\"\",VLOOKUP(LEFT(AX150,6),競技データ!$C$2:$C$300,1,FALSE))","v":""},{"$f":"IF(AZ150=\"\",\"\",VLOOKUP(LEFT(AZ150,6),競技データ!$C$2:$C$300,1,FALSE))","v":""},false,false,false,0,""]
[null,143,null,null,null,null,{"$f":"IF(C151=\"\",\"\",VLOOKUP($D$4,所属データ!$E:$H,4,FALSE))","v":""},{"$f":"IF(G151=\"\",\"\",VLOOKUP(G151,所属データ!$C:$G,4,0))","v":""},null,0,0,"",0,0,"",null,null,null,0,0,"",0,0,"",null,null,null,0,0,"",0,0,"",null,null,null,null,null,143,"",{"$f":"IF(F151=\"\",\"\",VLOOKUP(F151,基礎データ!H:I,2,FALSE))","v":""},"",{"$f":"IF($E151=\"\",\"\",VLOOKUP($E151,基礎データ!$E:$F,2,FALSE))","v":""},"","",{"$f":"IF(G151=\"\",\"\",VLOOKUP(G151,所属データ!C:G,2,FALSE))","v":""},{"$f":"IF(I151=\"\",\"\",VLOOKUP(I151,基礎データ!K:L,2,FALSE))","v":""},"",{"$f":"IF(R151=\"\",\"\",VLOOKUP(R151,基礎データ!K:L,2,FALSE))","v":""},"",{"$f":"IF(AA151=\"\",\"\",VLOOKUP(AA151,基礎データ!K:L,2,FALSE))","v":""},"",{"$f":"IF(AV151=\"\",\"\",VLOOKUP(LEFT(AV151,6),競技データ!$C$2:$C$300,1,FALSE))","v":""},{"$f":"IF(AX151=\"\",\"\",VLOOKUP(LEFT(AX151,6),競技データ!$C$2:$C$300,1,FALSE))","v":""},{"$f":"IF(AZ151=\"\",\"\",VLOOKUP(LEFT(AZ151,6),競技データ!$C$2:$C$300,1,FALSE))","v":""},false,false,false,0,""]
[null,144,null,null,null,null,{"$f":"IF(C152=\"\",\"\",VLOOKUP($D$4,所属データ!$E:$H,4,FALSE))","v":""},{"$f":"IF(G152=\"\",\"\",VLOOKUP(G152,所属データ!$C:$G,4,0))","v":""},null,0,0,"",0,0,"",null,null,null,0,0,"",0,0,"",null,null,null,0,0,"",0,0,"",null,null,null,null,null,144,"",{"$f":"IF(F152=\"\",\"\",VLOOKUP(F152,基礎データ!H:I,2,FALSE))","v":""},"",{"$f":"IF($E152=\"\",\"\",VLOOKUP($E152,基礎データ!$E:$F,2,FALSE))","v":""},"","",{"$f":"IF(G152=\"\",\"\",VLOOKUP(G152,所属データ!C:G,2,FALSE))","v":""},{"$f":"IF(I152=\"\",\"\",VLOOKUP(I152,基礎データ!K:L,2,FALSE))","v":""},"",{"$f":"IF(R152=\"\",\"\",VLOOKUP(R152,基礎データ!K:L,2,FALSE))","v":""},"",{"$f":"IF(AA152=\"\",\"\",VLOOKUP(AA152,基礎データ!K:L,2,FALSE))","v":""},"",{"$f":"IF(AV152=\"\",\"\",VLOOKUP(LEFT(AV152,6),競技データ!$C$2:$C$300,1,FALSE))","v":""},{"$f":"IF(AX152=\"\",\"\",VLOOKUP(LEFT(AX152,6),競技データ!$C$2:$C$300,1,FALSE))","v":""},{"$f":"IF(AZ152=\"\",\"\",VLOOKUP(LEFT(AZ152,6),競技データ!$C$2:$C$300,1,FALSE))","v":""},false,false,false,0,""]
[null,145,null,null,null,null,{"$f":"IF(C153=\"\",\"\",VLOOKUP($D$4,所属データ!$E:$H,4,FALSE))","v":""},{"$f":"IF(G153=\"\",\"\",VLOOKUP(G153,所属データ!$C:$G,4,0))","v":""},null,0,0,"",0,0,"",null,null,null,0,0,"",0,0,"",null,null,null,0,0,"",0,0,"",null,null,null,null,null,145,"",{"$f":"IF(F153=\"\",\"\",VLOOKUP(F153,基礎データ!H:I,2,FALSE))","v":""},"",{"$f":"IF($E153=\"\",\"\",VLOOKUP($E153,基礎データ!$E:$F,2,FALSE))","v":""},"","",{"$f":"IF(G153=\"\",\"\",VLOOKUP(G153,所属データ!C:G,2,FALSE))","v":""},{"$f":"IF(I153=\"\",\"\",VLOOKUP(I153,基礎データ!K:L,2,FALSE))","v":""},"",{"$f":"IF(R153=\"\",\"\",VLOOKUP(R153,基礎データ!K:L,2,FALSE))","v":""},"",{"$f":"IF(AA153=\"\",\"\",VLOOKUP(AA153,基礎データ!K:L,2,FALSE))","v":""},"",{"$f":"IF(AV153=\"\",\"\",VLOOKUP(LEFT(AV153,6),競技データ!$C$2:$C$300,1,FALSE))","v":""},{"$f":"IF(AX153=\"\",\"\",VLOOKUP(LEFT(AX153,6),競技データ!$C$2:$C$300,1,FALSE))","v":""},{"$f":"IF(AZ153=\"\",\"\",VLOOKUP(LEFT(AZ153,6),競技データ!$C$2:$C$300,1,FALSE))","v":""},false,false,false,0,""]
[null,146,null,null,null,null,{"$f":"IF(C154=\"\",\"\",VLOOKUP($D$4,所属データ!$E:$H,4,FALSE))","v":""},{"$f":"IF(G154=\"\",\"\",VLOOKUP(G154,所属データ!$C:$G,4,0))","v":""},null,0,0,"",0,0,"",null,null,null,0,0,"",0,0,"",null,null,null,0,0,"",0,0,"",null,null,null,null,null,146,"",{"$f":"IF(F154=\"\",\"\",VLOOKUP(F154,基礎データ!H:I,2,FALSE))","v":""},"",{"$f":"IF($E154=\"\",\"\",VLOOKUP($E154,基礎データ!$E:$F,2,FALSE))","v":""},"","",{"$f":"IF(G154=\"\",\"\",VLOOKUP(G154,所属データ!C:G,2,FALSE))","v":""},{"$f":"IF(I154=\"\",\"\",VLOOKUP(I154,基礎データ!K:L,2,FALSE))","v":""},"",{"$f":"IF(R154=\"\",\"\",VLOOKUP(R154,基礎データ!K:L,2,FALSE))","v":""},"",{"$f":"IF(AA154=\"\",\"\",VLOOKUP(AA154,基礎データ!K:L,2,FALSE))","v":""},"",{"$f":"IF(AV154=\"\",\"\",VLOOKUP(LEFT(AV154,6),競技データ!$C$2:$C$300,1,FALSE))","v":""},{"$f":"IF(AX154=\"\",\"\",VLOOKUP(LEFT(AX154,6),競技データ!$C$2:$C$300,1,FALSE))","v":""},{"$f":"IF(AZ154=\"\",\"\",VLOOKUP(LEFT(AZ154,6),競技データ!$C$2:$C$300,1,FALSE))","v":""},false,false,false,0,""]
[null,147,null,null,null,null,{"$f":"IF(C155=\"\",\"\",VLOOKUP($D$4,所属データ!$E:$H,4,FALSE))","v":""},{"$f":"IF(G155=\"\",\"\",VLOOKUP(G155,所属データ!$C:$G,4,0))","v":""},null,0,0,"",0,0,"",null,null,null,0,0,"",0,0,"",null,null,null,0,0,"",0,0,"",null,null,null,null,null,147,"",{"$f":"IF(F155=\"\",\"\",VLOOKUP(F155,基礎データ!H:I,2,FALSE))","v":""},"",{"$f":"IF($E155=\"\",\"\",VLOOKUP($E155,基礎データ!$E:$F,2,FALSE))","v":""},"","",{"$f":"IF(G155=\"\",\"\",VLOOKUP(G155,所属データ!C:G,2,FALSE))","v":""},{"$f":"IF(I155=\"\",\"\",VLOOKUP(I155,基礎データ!K:L,2,FALSE))","v":""},"",{"$f":"IF(R155=\"\",\"\",VLOOKUP(R155,基礎データ!K:L,2,FALSE))","v":""},"",{"$f":"IF(AA155=\"\",\"\",VLOOKUP(AA155,基礎データ!K:L,2,FALSE))","v":""},"",{"$f":"IF(AV155=\"\",\"\",VLOOKUP(LEFT(AV155,6),競技データ!$C$2:$C$300,1,FALSE))","v":""},{"$f":"IF(AX155=\"\",\"\",VLOOKUP(LEFT(AX155,6),競技データ!$C$2:$C$300,1,FALSE))","v":""},{"$f":"IF(AZ155=\"\",\"\",VLOOKUP(LEFT(AZ155,6),競技データ!$C$2:$C$300,1,FALSE))","v":""},false,false,false,0,""]
[null,148,null,null,null,null,{"$f":"IF(C156=\"\",\"\",VLOOKUP($D$4,所属データ!$E:$H,4,FALSE))","v":""},{"$f":"IF(G156=\"\",\"\",VLOOKUP(G156,所属データ!$C:$G,4,0))","v":""},null,0,0,"",0,0,"",null,null,null,0,0,"",0,0,"",null,null,null,0,0,"",0,0,"",null,null,null,null,null,148,"",{"$f":"IF(F156=\"\",\"\",VLOOKUP(F156,基礎データ!H:I,2,FALSE))","v":""},"",{"$f":"IF($E156=\"\",\"\",VLOOKUP($E156,基礎データ!$E:$F,2,FALSE))","v":""},"","",{"$f":"IF(G156=\"\",\"\",VLOOKUP(G156,所属データ!C:G,2,FALSE))","v":""},{"$f":"IF(I156=\"\",\"\",VLOOKUP(I156,基礎データ!K:L,2,FALSE))","v":""},"",{"$f":"IF(R156=\"\",\"\",VLOOKUP(R156,基礎データ!K:L,2,FALSE))","v":""},"",{"$f":"IF(AA156=\"\",\"\",VLOOKUP(AA156,基礎データ!K:L,2,FALSE))","v":""},"",{"$f":"IF(AV156=\"\",\"\",VLOOKUP(LEFT(AV156,6),競技データ!$C$2:$C$300,1,FALSE))","v":""},{"$f":"IF(AX156=\"\",\"\",VLOOKUP(LEFT(AX156,6),競技データ!$C$2:$C$300,1,FALSE))","v":""},{"$f":"IF(AZ156=\"\",\"\",VLOOKUP(LEFT(AZ156,6),競技データ!$C$2:$C$300,1,FALSE))","v":""},false,false,false,0,""]
[null,149,null,null,null,null,{"$f":"IF(C157=\"\",\"\",VLOOKUP($D$4,所属データ!$E:$H,4,FALSE))","v":""},{"$f":"IF(G157=\"\",\"\",VLOOKUP(G157,所属データ!$C:$G,4,0))","v":""},null,0,0,"",0,0,"",null,null,null,0,0,"",0,0,"",null,null,null,0,0,"",0,0,"",null,null,null,null,null,149,"",{"$f":"IF(F157=\"\",\"\",VLOOKUP(F157,基礎データ!H:I,2,FALSE))","v":""},"",{"$f":"IF($E157=\"\",\"\",VLOOKUP($E157,基礎データ!$E:$F,2,FALSE))","v":""},"","",{"$f":"IF(G157=\"\",\"\",VLOOKUP(G157,所属データ!C:G,2,FALSE))","v":""},{"$f":"IF(I157=\"\",\"\",VLOOKUP(I157,基礎データ!K:L,2,FALSE))","v":""},"",{"$f":"IF(R157=\"\",\"\",VLOOKUP(R157,基礎データ!K:L,2,FALSE))","v":""},"",{"$f":"IF(AA157=\"\",\"\",VLOOKUP(AA157,基礎データ!K:L,2,FALSE))","v":""},"",{"$f":"IF(AV157=\"\",\"\",VLOOKUP(LEFT(AV157,6),競技データ!$C$2:$C$300,1,FALSE))","v":""},{"$f":"IF(AX157=\"\",\"\",VLOOKUP(LEFT(AX157,6),競技データ!$C$2:$C$300,1,FALSE))","v":""},{"$f":"IF(AZ157=\"\",\"\",VLOOKUP(LEFT(AZ157,6),競技データ!$C$2:$C$300,1,FALSE))","v":""},false,false,false,0,""]
[null,150,null,null,null,null,{"$f":"IF(C158=\"\",\"\",VLOOKUP($D$4,所属データ!$E:$H,4,FALSE))","v":""},{"$f":"IF(G158=\"\",\"\",VLOOKUP(G158,所属データ!$C:$G,4,0))","v":""},null,0,0,"",0,0,"",null,null,null,0,0,"",0,0,"",null,null,null,0,0,"",0,0,"",null,null,null,null,null,150,"",{"$f":"IF(F158=\"\",\"\",VLOOKUP(F158,基礎データ!H:I,2,FALSE))","v":""},"",{"$f":"IF($E158=\"\",\"\",VLOOKUP($E158,基礎データ!$E:$F,2,FALSE))","v":""},"","",{"$f":"IF(G158=\"\",\"\",VLOOKUP(G158,所属データ!C:G,2,FALSE))","v":""},{"$f":"IF(I158=\"\",\"\",VLOOKUP(I158,基礎データ!K:L,2,FALSE))","v":""},"",{"$f":"IF(R158=\"\",\"\",VLOOKUP(R158,基礎データ!K:L,2,FALSE))","v":""},"",{"$f":"IF(AA158=\"\",\"\",VLOOKUP(AA158,基礎データ!K:L,2,FALSE))","v":""},"",{"$f":"IF(AV158=\"\",\"\",VLOOKUP(LEFT(AV158,6),競技データ!$C$2:$C$300,1,FALSE))","v":""},{"$f":"IF(AX158=\"\",\"\",VLOOKUP(LEFT(AX158,6),競技データ!$C$2:$C$300,1,FALSE))","v":""},{"$f":"IF(AZ158=\"\",\"\",VLOOKUP(LEFT(AZ158,6),競技データ!$C$2:$C$300,1,FALSE))","v":""},false,false,false,0,""]
[null,151,null,null,null,null,{"$f":"IF(C159=\"\",\"\",VLOOKUP($D$4,所属データ!$E:$H,4,FALSE))","v":""},{"$f":"IF(G159=\"\",\"\",VLOOKUP(G159,所属データ!$C:$G,4,0))","v":""},null,0,0,"",0,0,"",null,null,null,0,0,"",0,0,"",null,null,null,0,0,"",0,0,"",null,null,null,null,null,151,"",{"$f":"IF(F159=\"\",\"\",VLOOKUP(F159,基礎データ!H:I,2,FALSE))","v":""},"",{"$f":"IF($E159=\"\",\"\",VLOOKUP($E159,基礎データ!$E:$F,2,FALSE))","v":""},"","",{"$f":"IF(G159=\"\",\"\",VLOOKUP(G159,所属データ!C:G,2,FALSE))","v":""},{"$f":"IF(I159=\"\",\"\",VLOOKUP(I159,基礎データ!K:L,2,FALSE))","v":""},"",{"$f":"IF(R159=\"\",\"\",VLOOKUP(R159,基礎データ!K:L,2,FALSE))","v":""},"",{"$f":"IF(AA159=\"\",\"\",VLOOKUP(AA159,基礎データ!K:L,2,FALSE))","v":""},"",{"$f":"IF(AV159=\"\",\"\",VLOOKUP(LEFT(AV159,6),競技データ!$C$2:$C$300,1,FALSE))","v":""},{"$f":"IF(AX159=\"\",\"\",VLOOKUP(LEFT(AX159,6),競技データ!$C$2:$C$300,1,FALSE))","v":""},{"$f":"IF(AZ159=\"\",\"\",VLOOKUP(LEFT(AZ159,6),競技データ!$C$2:$C$300,1,FALSE))","v":""},false,false,false,0,""]
[null,152,null,null,null,null,{"$f":"IF(C160=\"\",\"\",VLOOKUP($D$4,所属データ!$E:$H,4,FALSE))","v":""},{"$f":"IF(G160=\"\",\"\",VLOOKUP(G160,所属データ!$C:$G,4,0))","v":""},null,0,0,"",0,0,"",null,null,null,0,0,"",0,0,"",null,null,null,0,0,"",0,0,"",null,null,null,null,null,152,"",{"$f":"IF(F160=\"\",\"\",VLOOKUP(F160,基礎データ!H:I,2,FALSE))","v":""},"",{"$f":"IF($E160=\"\",\"\",VLOOKUP($E160,基礎データ!$E:$F,2,FALSE))","v":""},"","",{"$f":"IF(G160=\"\",\"\",VLOOKUP(G160,所属データ!C:G,2,FALSE))","v":""},{"$f":"IF(I160=\"\",\"\",VLOOKUP(I160,基礎データ!K:L,2,FALSE))","v":""},"",{"$f":"IF(R160=\"\",\"\",VLOOKUP(R160,基礎データ!K:L,2,FALSE))","v":""},"",{"$f":"IF(AA160=\"\",\"\",VLOOKUP(AA160,基礎データ!K:L,2,FALSE))","v":""},"",{"$f":"IF(AV160=\"\",\"\",VLOOKUP(LEFT(AV160,6),競技データ!$C$2:$C$300,1,FALSE))","v":""},{"$f":"IF(AX160=\"\",\"\",VLOOKUP(LEFT(AX160,6),競技データ!$C$2:$C$300,1,FALSE))","v":""},{"$f":"IF(AZ160=\"\",\"\",VLOOKUP(LEFT(AZ160,6),競技データ!$C$2:$C$300,1,FALSE))","v":""},false,false,false,0,""]
[null,153,null,null,null,null,{"$f":"IF(C161=\"\",\"\",VLOOKUP($D$4,所属データ!$E:$H,4,FALSE))","v":""},{"$f":"IF(G161=\"\",\"\",VLOOKUP(G161,所属データ!$C:$G,4,0))","v":""},null,0,0,"",0,0,"",null,null,null,0,0,"",0,0,"",null,null,null,0,0,"",0,0,"",null,null,null,null,null,153,"",{"$f":"IF(F161=\"\",\"\",VLOOKUP(F161,基礎データ!H:I,2,FALSE))","v":""},"",{"$f":"IF($E161=\"\",\"\",VLOOKUP($E161,基礎データ!$E:$F,2,FALSE))","v":""},"","",{"$f":"IF(G161=\"\",\"\",VLOOKUP(G161,所属データ!C:G,2,FALSE))","v":""},{"$f":"IF(I161=\"\",\"\",VLOOKUP(I161,基礎データ!K:L,2,FALSE))","v":""},"",{"$f":"IF(R161=\"\",\"\",VLOOKUP(R161,基礎データ!K:L,2,FALSE))","v":""},"",{"$f":"IF(AA161=\"\",\"\",VLOOKUP(AA161,基礎データ!K:L,2,FALSE))","v":""},"",{"$f":"IF(AV161=\"\",\"\",VLOOKUP(LEFT(AV161,6),競技データ!$C$2:$C$300,1,FALSE))","v":""},{"$f":"IF(AX161=\"\",\"\",VLOOKUP(LEFT(AX161,6),競技データ!$C$2:$C$300,1,FALSE))","v":""},{"$f":"IF(AZ161=\"\",\"\",VLOOKUP(LEFT(AZ161,6),競技データ!$C$2:$C$300,1,FALSE))","v":""},false,false,false,0,""]
[null,154,null,null,null,null,{"$f":"IF(C162=\"\",\"\",VLOOKUP($D$4,所属データ!$E:$H,4,FALSE))","v":""},{"$f":"IF(G162=\"\",\"\",VLOOKUP(G162,所属データ!$C:$G,4,0))","v":""},null,0,0,"",0,0,"",null,null,null,0,0,"",0,0,"",null,null,null,0,0,"",0,0,"",null,null,null,null,null,154,"",{"$f":"IF(F162=\"\",\"\",VLOOKUP(F162,基礎データ!H:I,2,FALSE))","v":""},"",{"$f":"IF($E162=\"\",\"\",VLOOKUP($E162,基礎データ!$E:$F,2,FALSE))","v":""},"","",{"$f":"IF(G162=\"\",\"\",VLOOKUP(G162,所属データ!C:G,2,FALSE))","v":""},{"$f":"IF(I162=\"\",\"\",VLOOKUP(I162,基礎データ!K:L,2,FALSE))","v":""},"",{"$f":"IF(R162=\"\",\"\",VLOOKUP(R162,基礎データ!K:L,2,FALSE))","v":""},"",{"$f":"IF(AA162=\"\",\"\",VLOOKUP(AA162,基礎データ!K:L,2,FALSE))","v":""},"",{"$f":"IF(AV162=\"\",\"\",VLOOKUP(LEFT(AV162,6),競技データ!$C$2:$C$300,1,FALSE))","v":""},{"$f":"IF(AX162=\"\",\"\",VLOOKUP(LEFT(AX162,6),競技データ!$C$2:$C$300,1,FALSE))","v":""},{"$f":"IF(AZ162=\"\",\"\",VLOOKUP(LEFT(AZ162,6),競技データ!$C$2:$C$300,1,FALSE))","v":""},false,false,false,0,""]
[null,155,null,null,null,null,{"$f":"IF(C163=\"\",\"\",VLOOKUP($D$4,所属データ!$E:$H,4,FALSE))","v":""},{"$f":"IF(G163=\"\",\"\",VLOOKUP(G163,所属データ!$C:$G,4,0))","v":""},null,0,0,"",0,0,"",null,null,null,0,0,"",0,0,"",null,null,null,0,0,"",0,0,"",null,null,null,null,null,155,"",{"$f":"IF(F163=\"\",\"\",VLOOKUP(F163,基礎データ!H:I,2,FALSE))","v":""},"",{"$f":"IF($E163=\"\",\"\",VLOOKUP($E163,基礎データ!$E:$F,2,FALSE))","v":""},"","",{"$f":"IF(G163=\"\",\"\",VLOOKUP(G163,所属データ!C:G,2,FALSE))","v":""},{"$f":"IF(I163=\"\",\"\",VLOOKUP(I163,基礎データ!K:L,2,FALSE))","v":""},"",{"$f":"IF(R163=\"\",\"\",VLOOKUP(R163,基礎データ!K:L,2,FALSE))","v":""},"",{"$f":"IF(AA163=\"\",\"\",VLOOKUP(AA163,基礎データ!K:L,2,FALSE))","v":""},"",{"$f":"IF(AV163=\"\",\"\",VLOOKUP(LEFT(AV163,6),競技データ!$C$2:$C$300,1,FALSE))","v":""},{"$f":"IF(AX163=\"\",\"\",VLOOKUP(LEFT(AX163,6),競技データ!$C$2:$C$300,1,FALSE))","v":""},{"$f":"IF(AZ163=\"\",\"\",VLOOKUP(LEFT(AZ163,6),競技データ!$C$2:$C$300,1,FALSE))","v":""},false,false,false,0,""]
[null,156,null,null,null,null,{"$f":"IF(C164=\"\",\"\",VLOOKUP($D$4,所属データ!$E:$H,4,FALSE))","v":""},{"$f":"IF(G164=\"\",\"\",VLOOKUP(G164,所属データ!$C:$G,4,0))","v":""},null,0,0,"",0,0,"",null,null,null,0,0,"",0,0,"",null,null,null,0,0,"",0,0,"",null,null,null,null,null,156,"",{"$f":"IF(F164=\"\",\"\",VLOOKUP(F164,基礎データ!H:I,2,FALSE))","v":""},"",{"$f":"IF($E164=\"\",\"\",VLOOKUP($E164,基礎データ!$E:$F,2,FALSE))","v":""},"","",{"$f":"IF(G164=\"\",\"\",VLOOKUP(G164,所属データ!C:G,2,FALSE))","v":""},{"$f":"IF(I164=\"\",\"\",VLOOKUP(I164,基礎データ!K:L,2,FALSE))","v":""},"",{"$f":"IF(R164=\"\",\"\",VLOOKUP(R164,基礎データ!K:L,2,FALSE))","v":""},"",{"$f":"IF(AA164=\"\",\"\",VLOOKUP(AA164,基礎データ!K:L,2,FALSE))","v":""},"",{"$f":"IF(AV164=\"\",\"\",VLOOKUP(LEFT(AV164,6),競技データ!$C$2:$C$300,1,FALSE))","v":""},{"$f":"IF(AX164=\"\",\"\",VLOOKUP(LEFT(AX164,6),競技データ!$C$2:$C$300,1,FALSE))","v":""},{"$f":"IF(AZ164=\"\",\"\",VLOOKUP(LEFT(AZ164,6),競技データ!$C$2:$C$300,1,FALSE))","v":""},false,false,false,0,""]
[null,157,null,null,null,null,{"$f":"IF(C165=\"\",\"\",VLOOKUP($D$4,所属データ!$E:$H,4,FALSE))","v":""},{"$f":"IF(G165=\"\",\"\",VLOOKUP(G165,所属データ!$C:$G,4,0))","v":""},null,0,0,"",0,0,"",null,null,null,0,0,"",0,0,"",null,null,null,0,0,"",0,0,"",null,null,null,null,null,157,"",{"$f":"IF(F165=\"\",\"\",VLOOKUP(F165,基礎データ!H:I,2,FALSE))","v":""},"",{"$f":"IF($E165=\"\",\"\",VLOOKUP($E165,基礎データ!$E:$F,2,FALSE))","v":""},"","",{"$f":"IF(G165=\"\",\"\",VLOOKUP(G165,所属データ!C:G,2,FALSE))","v":""},{"$f":"IF(I165=\"\",\"\",VLOOKUP(I165,基礎データ!K:L,2,FALSE))","v":""},"",{"$f":"IF(R165=\"\",\"\",VLOOKUP(R165,基礎データ!K:L,2,FALSE))","v":""},"",{"$f":"IF(AA165=\"\",\"\",VLOOKUP(AA165,基礎データ!K:L,2,FALSE))","v":""},"",{"$f":"IF(AV165=\"\",\"\",VLOOKUP(LEFT(AV165,6),競技データ!$C$2:$C$300,1,FALSE))","v":""},{"$f":"IF(AX165=\"\",\"\",VLOOKUP(LEFT(AX165,6),競技データ!$C$2:$C$300,1,FALSE))","v":""},{"$f":"IF(AZ165=\"\",\"\",VLOOKUP(LEFT(AZ165,6),競技データ!$C$2:$C$300,1,FALSE))","v":""},false,false,false,0,""]
[null,158,null,null,null,null,{"$f":"IF(C166=\"\",\"\",VLOOKUP($D$4,所属データ!$E:$H,4,FALSE))","v":""},{"$f":"IF(G166=\"\",\"\",VLOOKUP(G166,所属データ!$C:$G,4,0))","v":""},null,0,0,"",0,0,"",null,null,null,0,0,"",0,0,"",null,null,null,0,0,"",0,0,"",null,null,null,null,null,158,"",{"$f":"IF(F166=\"\",\"\",VLOOKUP(F166,基礎データ!H:I,2,FALSE))","v":""},"",{"$f":"IF($E166=\"\",\"\",VLOOKUP($E166,基礎データ!$E:$F,2,FALSE))","v":""},"","",{"$f":"IF(G166=\"\",\"\",VLOOKUP(G166,所属データ!C:G,2,FALSE))","v":""},{"$f":"IF(I166=\"\",\"\",VLOOKUP(I166,基礎データ!K:L,2,FALSE))","v":""},"",{"$f":"IF(R166=\"\",\"\",VLOOKUP(R166,基礎データ!K:L,2,FALSE))","v":""},"",{"$f":"IF(AA166=\"\",\"\",VLOOKUP(AA166,基礎データ!K:L,2,FALSE))","v":""},"",{"$f":"IF(AV166=\"\",\"\",VLOOKUP(LEFT(AV166,6),競技データ!$C$2:$C$300,1,FALSE))","v":""},{"$f":"IF(AX166=\"\",\"\",VLOOKUP(LEFT(AX166,6),競技データ!$C$2:$C$300,1,FALSE))","v":""},{"$f":"IF(AZ166=\"\",\"\",VLOOKUP(LEFT(AZ166,6),競技データ!$C$2:$C$300,1,FALSE))","v":""},false,false,false,0,""]
[null,159,null,null,null,null,{"$f":"IF(C167=\"\",\"\",VLOOKUP($D$4,所属データ!$E:$H,4,FALSE))","v":""},{"$f":"IF(G167=\"\",\"\",VLOOKUP(G167,所属データ!$C:$G,4,0))","v":""},null,0,0,"",0,0,"",null,null,null,0,0,"",0,0,"",null,null,null,0,0,"",0,0,"",null,null,null,null,null,159,"",{"$f":"IF(F167=\"\",\"\",VLOOKUP(F167,基礎データ!H:I,2,FALSE))","v":""},"",{"$f":"IF($E167=\"\",\"\",VLOOKUP($E167,基礎データ!$E:$F,2,FALSE))","v":""},"","",{"$f":"IF(G167=\"\",\"\",VLOOKUP(G167,所属データ!C:G,2,FALSE))","v":""},{"$f":"IF(I167=\"\",\"\",VLOOKUP(I167,基礎データ!K:L,2,FALSE))","v":""},"",{"$f":"IF(R167=\"\",\"\",VLOOKUP(R167,基礎データ!K:L,2,FALSE))","v":""},"",{"$f":"IF(AA167=\"\",\"\",VLOOKUP(AA167,基礎データ!K:L,2,FALSE))","v":""},"",{"$f":"IF(AV167=\"\",\"\",VLOOKUP(LEFT(AV167,6),競技データ!$C$2:$C$300,1,FALSE))","v":""},{"$f":"IF(AX167=\"\",\"\",VLOOKUP(LEFT(AX167,6),競技データ!$C$2:$C$300,1,FALSE))","v":""},{"$f":"IF(AZ167=\"\",\"\",VLOOKUP(LEFT(AZ167,6),競技データ!$C$2:$C$300,1,FALSE))","v":""},false,false,false,0,""]
[null,160,null,null,null,null,{"$f":"IF(C168=\"\",\"\",VLOOKUP($D$4,所属データ!$E:$H,4,FALSE))","v":""},{"$f":"IF(G168=\"\",\"\",VLOOKUP(G168,所属データ!$C:$G,4,0))","v":""},null,0,0,"",0,0,"",null,null,null,0,0,"",0,0,"",null,null,null,0,0,"",0,0,"",null,null,null,null,null,160,"",{"$f":"IF(F168=\"\",\"\",VLOOKUP(F168,基礎データ!H:I,2,FALSE))","v":""},"",{"$f":"IF($E168=\"\",\"\",VLOOKUP($E168,基礎データ!$E:$F,2,FALSE))","v":""},"","",{"$f":"IF(G168=\"\",\"\",VLOOKUP(G168,所属データ!C:G,2,FALSE))","v":""},{"$f":"IF(I168=\"\",\"\",VLOOKUP(I168,基礎データ!K:L,2,FALSE))","v":""},"",{"$f":"IF(R168=\"\",\"\",VLOOKUP(R168,基礎データ!K:L,2,FALSE))","v":""},"",{"$f":"IF(AA168=\"\",\"\",VLOOKUP(AA168,基礎データ!K:L,2,FALSE))","v":""},"",{"$f":"IF(AV168=\"\",\"\",VLOOKUP(LEFT(AV168,6),競技データ!$C$2:$C$300,1,FALSE))","v":""},{"$f":"IF(AX168=\"\",\"\",VLOOKUP(LEFT(AX168,6),競技データ!$C$2:$C$300,1,FALSE))","v":""},{"$f":"IF(AZ168=\"\",\"\",VLOOKUP(LEFT(AZ168,6),競技データ!$C$2:$C$300,1,FALSE))","v":""},false,false,false,0,""]
[null,161,null,null,null,null,{"$f":"IF(C169=\"\",\"\",VLOOKUP($D$4,所属データ!$E:$H,4,FALSE))","v":""},{"$f":"IF(G169=\"\",\"\",VLOOKUP(G169,所属データ!$C:$G,4,0))","v":""},null,0,0,"",0,0,"",null,null,null,0,0,"",0,0,"",null,null,null,0,0,"",0,0,"",null,null,null,null,null,161,"",{"$f":"IF(F169=\"\",\"\",VLOOKUP(F169,基礎データ!H:I,2,FALSE))","v":""},"",{"$f":"IF($E169=\"\",\"\",VLOOKUP($E169,基礎データ!$E:$F,2,FALSE))","v":""},"","",{"$f":"IF(G169=\"\",\"\",VLOOKUP(G169,所属データ!C:G,2,FALSE))","v":""},{"$f":"IF(I169=\"\",\"\",VLOOKUP(I169,基礎データ!K:L,2,FALSE))","v":""},"",{"$f":"IF(R169=\"\",\"\",VLOOKUP(R169,基礎データ!K:L,2,FALSE))","v":""},"",{"$f":"IF(AA169=\"\",\"\",VLOOKUP(AA169,基礎データ!K:L,2,FALSE))","v":""},"",{"$f":"IF(AV169=\"\",\"\",VLOOKUP(LEFT(AV169,6),競技データ!$C$2:$C$300,1,FALSE))","v":""},{"$f":"IF(AX169=\"\",\"\",VLOOKUP(LEFT(AX169,6),競技データ!$C$2:$C$300,1,FALSE))","v":""},{"$f":"IF(AZ169=\"\",\"\",VLOOKUP(LEFT(AZ169,6),競技データ!$C$2:$C$300,1,FALSE))","v":""},false,false,false,0,""]
[null,162,null,null,null,null,{"$f":"IF(C170=\"\",\"\",VLOOKUP($D$4,所属データ!$E:$H,4,FALSE))","v":""},{"$f":"IF(G170=\"\",\"\",VLOOKUP(G170,所属データ!$C:$G,4,0))","v":""},null,0,0,"",0,0,"",null,null,null,0,0,"",0,0,"",null,null,null,0,0,"",0,0,"",null,null,null,null,null,162,"",{"$f":"IF(F170=\"\",\"\",VLOOKUP(F170,基礎データ!H:I,2,FALSE))","v":""},"",{"$f":"IF($E170=\"\",\"\",VLOOKUP($E170,基礎データ!$E:$F,2,FALSE))","v":""},"","",{"$f":"IF(G170=\"\",\"\",VLOOKUP(G170,所属データ!C:G,2,FALSE))","v":""},{"$f":"IF(I170=\"\",\"\",VLOOKUP(I170,基礎データ!K:L,2,FALSE))","v":""},"",{"$f":"IF(R170=\"\",\"\",VLOOKUP(R170,基礎データ!K:L,2,FALSE))","v":""},"",{"$f":"IF(AA170=\"\",\"\",VLOOKUP(AA170,基礎データ!K:L,2,FALSE))","v":""},"",{"$f":"IF(AV170=\"\",\"\",VLOOKUP(LEFT(AV170,6),競技データ!$C$2:$C$300,1,FALSE))","v":""},{"$f":"IF(AX170=\"\",\"\",VLOOKUP(LEFT(AX170,6),競技データ!$C$2:$C$300,1,FALSE))","v":""},{"$f":"IF(AZ170=\"\",\"\",VLOOKUP(LEFT(AZ170,6),競技データ!$C$2:$C$300,1,FALSE))","v":""},false,false,false,0,""]
[null,163,null,null,null,null,{"$f":"IF(C171=\"\",\"\",VLOOKUP($D$4,所属データ!$E:$H,4,FALSE))","v":""},{"$f":"IF(G171=\"\",\"\",VLOOKUP(G171,所属データ!$C:$G,4,0))","v":""},null,0,0,"",0,0,"",null,null,null,0,0,"",0,0,"",null,null,null,0,0,"",0,0,"",null,null,null,null,null,163,"",{"$f":"IF(F171=\"\",\"\",VLOOKUP(F171,基礎データ!H:I,2,FALSE))","v":""},"",{"$f":"IF($E171=\"\",\"\",VLOOKUP($E171,基礎データ!$E:$F,2,FALSE))","v":""},"","",{"$f":"IF(G171=\"\",\"\",VLOOKUP(G171,所属データ!C:G,2,FALSE))","v":""},{"$f":"IF(I171=\"\",\"\",VLOOKUP(I171,基礎データ!K:L,2,FALSE))","v":""},"",{"$f":"IF(R171=\"\",\"\",VLOOKUP(R171,基礎データ!K:L,2,FALSE))","v":""},"",{"$f":"IF(AA171=\"\",\"\",VLOOKUP(AA171,基礎データ!K:L,2,FALSE))","v":""},"",{"$f":"IF(AV171=\"\",\"\",VLOOKUP(LEFT(AV171,6),競技データ!$C$2:$C$300,1,FALSE))","v":""},{"$f":"IF(AX171=\"\",\"\",VLOOKUP(LEFT(AX171,6),競技データ!$C$2:$C$300,1,FALSE))","v":""},{"$f":"IF(AZ171=\"\",\"\",VLOOKUP(LEFT(AZ171,6),競技データ!$C$2:$C$300,1,FALSE))","v":""},false,false,false,0,""]
[null,164,null,null,null,null,{"$f":"IF(C172=\"\",\"\",VLOOKUP($D$4,所属データ!$E:$H,4,FALSE))","v":""},{"$f":"IF(G172=\"\",\"\",VLOOKUP(G172,所属データ!$C:$G,4,0))","v":""},null,0,0,"",0,0,"",null,null,null,0,0,"",0,0,"",null,null,null,0,0,"",0,0,"",null,null,null,null,null,164,"",{"$f":"IF(F172=\"\",\"\",VLOOKUP(F172,基礎データ!H:I,2,FALSE))","v":""},"",{"$f":"IF($E172=\"\",\"\",VLOOKUP($E172,基礎データ!$E:$F,2,FALSE))","v":""},"","",{"$f":"IF(G172=\"\",\"\",VLOOKUP(G172,所属データ!C:G,2,FALSE))","v":""},{"$f":"IF(I172=\"\",\"\",VLOOKUP(I172,基礎データ!K:L,2,FALSE))","v":""},"",{"$f":"IF(R172=\"\",\"\",VLOOKUP(R172,基礎データ!K:L,2,FALSE))","v":""},"",{"$f":"IF(AA172=\"\",\"\",VLOOKUP(AA172,基礎データ!K:L,2,FALSE))","v":""},"",{"$f":"IF(AV172=\"\",\"\",VLOOKUP(LEFT(AV172,6),競技データ!$C$2:$C$300,1,FALSE))","v":""},{"$f":"IF(AX172=\"\",\"\",VLOOKUP(LEFT(AX172,6),競技データ!$C$2:$C$300,1,FALSE))","v":""},{"$f":"IF(AZ172=\"\",\"\",VLOOKUP(LEFT(AZ172,6),競技データ!$C$2:$C$300,1,FALSE))","v":""},false,false,false,0,""]
[null,165,null,null,null,null,{"$f":"IF(C173=\"\",\"\",VLOOKUP($D$4,所属データ!$E:$H,4,FALSE))","v":""},{"$f":"IF(G173=\"\",\"\",VLOOKUP(G173,所属データ!$C:$G,4,0))","v":""},null,0,0,{"$f":"IF(I173=\"\",\"\",IF(I173=\"走幅跳\",\"ｍ\",IF(I173=\"立幅跳\",\"ｍ\",\"分\")))","v":""},0,0,{"$f":"IF(I173=\"\",\"\",IF(I173=\"走幅跳\",\"cm\",IF(I173=\"立幅跳\",\"cm\",\"秒\")))","v":""},null,null,null,0,0,{"$f":"IF(R173=\"\",\"\",IF(R173=\"走幅跳\",\"ｍ\",IF(R173=\"立幅跳\",\"ｍ\",\"分\")))","v":""},0,0,{"$f":"IF(R173=\"\",\"\",IF(R173=\"走幅跳\",\"cm\",IF(R173=\"立幅跳\",\"cm\",\"秒\")))","v":""},null,null,null,0,0,{"$f":"IF(AA173=\"\",\"\",IF(AA173=\"走幅跳\",\"ｍ\",IF(AA173=\"立幅跳\",\"ｍ\",\"分\")))","v":""},0,0,{"$f":"IF(AA173=\"\",\"\",IF(AA173=\"走幅跳\",\"cm\",IF(AA173=\"立幅跳\",\"cm\",\"秒\")))","v":""},null,null,null,null,null,165,{"$f":"IF(C173=\"\",\"\",$AN$7+B173)","v":""},{"$f":"IF(F173=\"\",\"\",VLOOKUP(F173,基礎データ!H:I,2,FALSE))","v":""},{"$f":"IF(C173=\"\",\"\",AO173*100000000+AN173)","v":""},{"$f":"IF($E173=\"\",\"\",VLOOKUP($E173,基礎データ!$E:$F,2,FALSE))","v":""},{"$f":"IF(C173=\"\",\"\",C173&\"(\"&E173&\")\")","v":""},{"$f":"IF(C173=\"\",\"\",$AN$6)","v":""},{"$f":"IF(G173=\"\",\"\",VLOOKUP(G173,所属データ!C:G,2,FALSE))","v":""},{"$f":"IF(I173=\"\",\"\",VLOOKUP(I173,基礎データ!K:L,2,FALSE))","v":""},{"$f":"IF(AU173=\"\",\"\",IF(AU173=\"R215\",AU173&\"00\"&\" 0\"&J173&K173&M173&N173&P173&Q173,IF(AU173=\"R220\",AU173&\"00\"&\" 0\"&J173&K173&M173&N173&P173&Q173,IF(AU173=\"R601\",AU173&\"00\"&\" 0\"&J173&K173&M173&N173&P173&Q173,AU173&AQ173&\" 0\"&J173&K173&M173&N173&P173&Q173))))","v":""},{"$f":"IF(R173=\"\",\"\",VLOOKUP(R173,基礎データ!K:L,2,FALSE))","v":""},{"$f":"IF(AW173=\"\",\"\",IF(AW173=\"R215\",AW173&\"00\"&\" 0\"&$S173&$T173&$V173&$W173&$Y173&$Z173,IF(AW173=\"R220\",AW173&\"00\"&\" 0\"&$S173&$T173&$V173&$W173&$Y173&$Z173,IF(AW173=\"R601\",AW173&\"00\"&\" 0\"&$S173&$T173&$V173&$W173&$Y173&$Z173,AW173&$AQ173&\" 0\"&$S173&$T173&$V173&$W173&$Y173&$Z173))))","v":""},{"$f":"IF(AA173=\"\",\"\",VLOOKUP(AA173,基礎データ!K:L,2,FALSE))","v":""},{"$f":"IF(AY173=\"\",\"\",IF(AY173=\"R215\",AY173&\"00\"&\" 0\"&AB173&AC173&AE173&AF173&AH173&AI173,IF(AY173=\"R220\",AY173&\"00\"&\" 0\"&AB173&AC173&AE173&AF173&AH173&AI173,IF(AY173=\"R601\",AY173&\"00\"&\" 0\"&AB173&AC173&AE173&AF173&AH173&AI173,AY173&AQ173&\" 0\"&AB173&AC173&AE173&AF173&AH173&AI173))))","v":""},{"$f":"IF(AV173=\"\",\"\",VLOOKUP(LEFT(AV173,6),競技データ!$C$2:$C$300,1,FALSE))","v":""},{"$f":"IF(AX173=\"\",\"\",VLOOKUP(LEFT(AX173,6),競技データ!$C$2:$C$300,1,FALSE))","v":""},{"$f":"IF(AZ173=\"\",\"\",VLOOKUP(LEFT(AZ173,6),競技データ!$C$2:$C$300,1,FALSE))","v":""},{"$f":"ISERROR(BA173)","v":false},{"$f":"ISERROR(BB173)","v":false},{"$f":"ISERROR(BC173)","v":false},{"$f":"COUNTIF(BD173:BF173,\"true\")","v":0},{"$f":"IF(AJ173=\"１００ｍ\",\"R025\"&AQ173,IF(AJ173=\"３００ｍ\",\"R026\"&AQ173,IF(AJ173=\"５００ｍ\",\"R027\"&AQ173,\"\")))","v":""}]
[null,166,null,null,null,null,{"$f":"IF(C174=\"\",\"\",VLOOKUP($D$4,所属データ!$E:$H,4,FALSE))","v":""},{"$f":"IF(G174=\"\",\"\",VLOOKUP(G174,所属データ!$C:$G,4,0))","v":""},null,0,0,"",0,0,"",null,null,null,0,0,"",0,0,"",null,null,null,0,0,"",0,0,"",null,null,null,null,null,166,"",{"$f":"IF(F174=\"\",\"\",VLOOKUP(F174,基礎データ!H:I,2,FALSE))","v":""},"",{"$f":"IF($E174=\"\",\"\",VLOOKUP($E174,基礎データ!$E:$F,2,FALSE))","v":""},"","",{"$f":"IF(G174=\"\",\"\",VLOOKUP(G174,所属データ!C:G,2,FALSE))","v":""},{"$f":"IF(I174=\"\",\"\",VLOOKUP(I174,基礎データ!K:L,2,FALSE))","v":""},"",{"$f":"IF(R174=\"\",\"\",VLOOKUP(R174,基礎データ!K:L,2,FALSE))","v":""},"",{"$f":"IF(AA174=\"\",\"\",VLOOKUP(AA174,基礎データ!K:L,2,FALSE))","v":""},"",{"$f":"IF(AV174=\"\",\"\",VLOOKUP(LEFT(AV174,6),競技データ!$C$2:$C$300,1,FALSE))","v":""},{"$f":"IF(AX174=\"\",\"\",VLOOKUP(LEFT(AX174,6),競技データ!$C$2:$C$300,1,FALSE))","v":""},{"$f":"IF(AZ174=\"\",\"\",VLOOKUP(LEFT(AZ174,6),競技データ!$C$2:$C$300,1,FALSE))","v":""},false,false,false,0,""]
[null,167,null,null,null,null,{"$f":"IF(C175=\"\",\"\",VLOOKUP($D$4,所属データ!$E:$H,4,FALSE))","v":""},{"$f":"IF(G175=\"\",\"\",VLOOKUP(G175,所属データ!$C:$G,4,0))","v":""},null,0,0,"",0,0,"",null,null,null,0,0,"",0,0,"",null,null,null,0,0,"",0,0,"",null,null,null,null,null,167,"",{"$f":"IF(F175=\"\",\"\",VLOOKUP(F175,基礎データ!H:I,2,FALSE))","v":""},"",{"$f":"IF($E175=\"\",\"\",VLOOKUP($E175,基礎データ!$E:$F,2,FALSE))","v":""},"","",{"$f":"IF(G175=\"\",\"\",VLOOKUP(G175,所属データ!C:G,2,FALSE))","v":""},{"$f":"IF(I175=\"\",\"\",VLOOKUP(I175,基礎データ!K:L,2,FALSE))","v":""},"",{"$f":"IF(R175=\"\",\"\",VLOOKUP(R175,基礎データ!K:L,2,FALSE))","v":""},"",{"$f":"IF(AA175=\"\",\"\",VLOOKUP(AA175,基礎データ!K:L,2,FALSE))","v":""},"",{"$f":"IF(AV175=\"\",\"\",VLOOKUP(LEFT(AV175,6),競技データ!$C$2:$C$300,1,FALSE))","v":""},{"$f":"IF(AX175=\"\",\"\",VLOOKUP(LEFT(AX175,6),競技データ!$C$2:$C$300,1,FALSE))","v":""},{"$f":"IF(AZ175=\"\",\"\",VLOOKUP(LEFT(AZ175,6),競技データ!$C$2:$C$300,1,FALSE))","v":""},false,false,false,0,""]
[null,168,null,null,null,null,{"$f":"IF(C176=\"\",\"\",VLOOKUP($D$4,所属データ!$E:$H,4,FALSE))","v":""},{"$f":"IF(G176=\"\",\"\",VLOOKUP(G176,所属データ!$C:$G,4,0))","v":""},null,0,0,"",0,0,"",null,null,null,0,0,"",0,0,"",null,null,null,0,0,"",0,0,"",null,null,null,null,null,168,"",{"$f":"IF(F176=\"\",\"\",VLOOKUP(F176,基礎データ!H:I,2,FALSE))","v":""},"",{"$f":"IF($E176=\"\",\"\",VLOOKUP($E176,基礎データ!$E:$F,2,FALSE))","v":""},"","",{"$f":"IF(G176=\"\",\"\",VLOOKUP(G176,所属データ!C:G,2,FALSE))","v":""},{"$f":"IF(I176=\"\",\"\",VLOOKUP(I176,基礎データ!K:L,2,FALSE))","v":""},"",{"$f":"IF(R176=\"\",\"\",VLOOKUP(R176,基礎データ!K:L,2,FALSE))","v":""},"",{"$f":"IF(AA176=\"\",\"\",VLOOKUP(AA176,基礎データ!K:L,2,FALSE))","v":""},"",{"$f":"IF(AV176=\"\",\"\",VLOOKUP(LEFT(AV176,6),競技データ!$C$2:$C$300,1,FALSE))","v":""},{"$f":"IF(AX176=\"\",\"\",VLOOKUP(LEFT(AX176,6),競技データ!$C$2:$C$300,1,FALSE))","v":""},{"$f":"IF(AZ176=\"\",\"\",VLOOKUP(LEFT(AZ176,6),競技データ!$C$2:$C$300,1,FALSE))","v":""},false,false,false,0,""]
[null,169,null,null,null,null,{"$f":"IF(C177=\"\",\"\",VLOOKUP($D$4,所属データ!$E:$H,4,FALSE))","v":""},{"$f":"IF(G177=\"\",\"\",VLOOKUP(G177,所属データ!$C:$G,4,0))","v":""},null,0,0,"",0,0,"",null,null,null,0,0,"",0,0,"",null,null,null,0,0,"",0,0,"",null,null,null,null,null,169,"",{"$f":"IF(F177=\"\",\"\",VLOOKUP(F177,基礎データ!H:I,2,FALSE))","v":""},"",{"$f":"IF($E177=\"\",\"\",VLOOKUP($E177,基礎データ!$E:$F,2,FALSE))","v":""},"","",{"$f":"IF(G177=\"\",\"\",VLOOKUP(G177,所属データ!C:G,2,FALSE))","v":""},{"$f":"IF(I177=\"\",\"\",VLOOKUP(I177,基礎データ!K:L,2,FALSE))","v":""},"",{"$f":"IF(R177=\"\",\"\",VLOOKUP(R177,基礎データ!K:L,2,FALSE))","v":""},"",{"$f":"IF(AA177=\"\",\"\",VLOOKUP(AA177,基礎データ!K:L,2,FALSE))","v":""},"",{"$f":"IF(AV177=\"\",\"\",VLOOKUP(LEFT(AV177,6),競技データ!$C$2:$C$300,1,FALSE))","v":""},{"$f":"IF(AX177=\"\",\"\",VLOOKUP(LEFT(AX177,6),競技データ!$C$2:$C$300,1,FALSE))","v":""},{"$f":"IF(AZ177=\"\",\"\",VLOOKUP(LEFT(AZ177,6),競技データ!$C$2:$C$300,1,FALSE))","v":""},false,false,false,0,""]
[null,170,null,null,null,null,{"$f":"IF(C178=\"\",\"\",VLOOKUP($D$4,所属データ!$E:$H,4,FALSE))","v":""},{"$f":"IF(G178=\"\",\"\",VLOOKUP(G178,所属データ!$C:$G,4,0))","v":""},null,0,0,"",0,0,"",null,null,null,0,0,"",0,0,"",null,null,null,0,0,"",0,0,"",null,null,null,null,null,170,"",{"$f":"IF(F178=\"\",\"\",VLOOKUP(F178,基礎データ!H:I,2,FALSE))","v":""},"",{"$f":"IF($E178=\"\",\"\",VLOOKUP($E178,基礎データ!$E:$F,2,FALSE))","v":""},"","",{"$f":"IF(G178=\"\",\"\",VLOOKUP(G178,所属データ!C:G,2,FALSE))","v":""},{"$f":"IF(I178=\"\",\"\",VLOOKUP(I178,基礎データ!K:L,2,FALSE))","v":""},"",{"$f":"IF(R178=\"\",\"\",VLOOKUP(R178,基礎データ!K:L,2,FALSE))","v":""},"",{"$f":"IF(AA178=\"\",\"\",VLOOKUP(AA178,基礎データ!K:L,2,FALSE))","v":""},"",{"$f":"IF(AV178=\"\",\"\",VLOOKUP(LEFT(AV178,6),競技データ!$C$2:$C$300,1,FALSE))","v":""},{"$f":"IF(AX178=\"\",\"\",VLOOKUP(LEFT(AX178,6),競技データ!$C$2:$C$300,1,FALSE))","v":""},{"$f":"IF(AZ178=\"\",\"\",VLOOKUP(LEFT(AZ178,6),競技データ!$C$2:$C$300,1,FALSE))","v":""},false,false,false,0,""]
[null,171,null,null,null,null,{"$f":"IF(C179=\"\",\"\",VLOOKUP($D$4,所属データ!$E:$H,4,FALSE))","v":""},{"$f":"IF(G179=\"\",\"\",VLOOKUP(G179,所属データ!$C:$G,4,0))","v":""},null,0,0,"",0,0,"",null,null,null,0,0,"",0,0,"",null,null,null,0,0,"",0,0,"",null,null,null,null,null,171,"",{"$f":"IF(F179=\"\",\"\",VLOOKUP(F179,基礎データ!H:I,2,FALSE))","v":""},"",{"$f":"IF($E179=\"\",\"\",VLOOKUP($E179,基礎データ!$E:$F,2,FALSE))","v":""},"","",{"$f":"IF(G179=\"\",\"\",VLOOKUP(G179,所属データ!C:G,2,FALSE))","v":""},{"$f":"IF(I179=\"\",\"\",VLOOKUP(I179,基礎データ!K:L,2,FALSE))","v":""},"",{"$f":"IF(R179=\"\",\"\",VLOOKUP(R179,基礎データ!K:L,2,FALSE))","v":""},"",{"$f":"IF(AA179=\"\",\"\",VLOOKUP(AA179,基礎データ!K:L,2,FALSE))","v":""},"",{"$f":"IF(AV179=\"\",\"\",VLOOKUP(LEFT(AV179,6),競技データ!$C$2:$C$300,1,FALSE))","v":""},{"$f":"IF(AX179=\"\",\"\",VLOOKUP(LEFT(AX179,6),競技データ!$C$2:$C$300,1,FALSE))","v":""},{"$f":"IF(AZ179=\"\",\"\",VLOOKUP(LEFT(AZ179,6),競技データ!$C$2:$C$300,1,FALSE))","v":""},false,false,false,0,""]
[null,172,null,null,null,null,{"$f":"IF(C180=\"\",\"\",VLOOKUP($D$4,所属データ!$E:$H,4,FALSE))","v":""},{"$f":"IF(G180=\"\",\"\",VLOOKUP(G180,所属データ!$C:$G,4,0))","v":""},null,0,0,"",0,0,"",null,null,null,0,0,"",0,0,"",null,null,null,0,0,"",0,0,"",null,null,null,null,null,172,"",{"$f":"IF(F180=\"\",\"\",VLOOKUP(F180,基礎データ!H:I,2,FALSE))","v":""},"",{"$f":"IF($E180=\"\",\"\",VLOOKUP($E180,基礎データ!$E:$F,2,FALSE))","v":""},"","",{"$f":"IF(G180=\"\",\"\",VLOOKUP(G180,所属データ!C:G,2,FALSE))","v":""},{"$f":"IF(I180=\"\",\"\",VLOOKUP(I180,基礎データ!K:L,2,FALSE))","v":""},"",{"$f":"IF(R180=\"\",\"\",VLOOKUP(R180,基礎データ!K:L,2,FALSE))","v":""},"",{"$f":"IF(AA180=\"\",\"\",VLOOKUP(AA180,基礎データ!K:L,2,FALSE))","v":""},"",{"$f":"IF(AV180=\"\",\"\",VLOOKUP(LEFT(AV180,6),競技データ!$C$2:$C$300,1,FALSE))","v":""},{"$f":"IF(AX180=\"\",\"\",VLOOKUP(LEFT(AX180,6),競技データ!$C$2:$C$300,1,FALSE))","v":""},{"$f":"IF(AZ180=\"\",\"\",VLOOKUP(LEFT(AZ180,6),競技データ!$C$2:$C$300,1,FALSE))","v":""},false,false,false,0,""]
[null,173,null,null,null,null,{"$f":"IF(C181=\"\",\"\",VLOOKUP($D$4,所属データ!$E:$H,4,FALSE))","v":""},{"$f":"IF(G181=\"\",\"\",VLOOKUP(G181,所属データ!$C:$G,4,0))","v":""},null,0,0,"",0,0,"",null,null,null,0,0,"",0,0,"",null,null,null,0,0,"",0,0,"",null,null,null,null,null,173,"",{"$f":"IF(F181=\"\",\"\",VLOOKUP(F181,基礎データ!H:I,2,FALSE))","v":""},"",{"$f":"IF($E181=\"\",\"\",VLOOKUP($E181,基礎データ!$E:$F,2,FALSE))","v":""},"","",{"$f":"IF(G181=\"\",\"\",VLOOKUP(G181,所属データ!C:G,2,FALSE))","v":""},{"$f":"IF(I181=\"\",\"\",VLOOKUP(I181,基礎データ!K:L,2,FALSE))","v":""},"",{"$f":"IF(R181=\"\",\"\",VLOOKUP(R181,基礎データ!K:L,2,FALSE))","v":""},"",{"$f":"IF(AA181=\"\",\"\",VLOOKUP(AA181,基礎データ!K:L,2,FALSE))","v":""},"",{"$f":"IF(AV181=\"\",\"\",VLOOKUP(LEFT(AV181,6),競技データ!$C$2:$C$300,1,FALSE))","v":""},{"$f":"IF(AX181=\"\",\"\",VLOOKUP(LEFT(AX181,6),競技データ!$C$2:$C$300,1,FALSE))","v":""},{"$f":"IF(AZ181=\"\",\"\",VLOOKUP(LEFT(AZ181,6),競技データ!$C$2:$C$300,1,FALSE))","v":""},false,false,false,0,""]
[null,174,null,null,null,null,{"$f":"IF(C182=\"\",\"\",VLOOKUP($D$4,所属データ!$E:$H,4,FALSE))","v":""},{"$f":"IF(G182=\"\",\"\",VLOOKUP(G182,所属データ!$C:$G,4,0))","v":""},null,0,0,"",0,0,"",null,null,null,0,0,"",0,0,"",null,null,null,0,0,"",0,0,"",null,null,null,null,null,174,"",{"$f":"IF(F182=\"\",\"\",VLOOKUP(F182,基礎データ!H:I,2,FALSE))","v":""},"",{"$f":"IF($E182=\"\",\"\",VLOOKUP($E182,基礎データ!$E:$F,2,FALSE))","v":""},"","",{"$f":"IF(G182=\"\",\"\",VLOOKUP(G182,所属データ!C:G,2,FALSE))","v":""},{"$f":"IF(I182=\"\",\"\",VLOOKUP(I182,基礎データ!K:L,2,FALSE))","v":""},"",{"$f":"IF(R182=\"\",\"\",VLOOKUP(R182,基礎データ!K:L,2,FALSE))","v":""},"",{"$f":"IF(AA182=\"\",\"\",VLOOKUP(AA182,基礎データ!K:L,2,FALSE))","v":""},"",{"$f":"IF(AV182=\"\",\"\",VLOOKUP(LEFT(AV182,6),競技データ!$C$2:$C$300,1,FALSE))","v":""},{"$f":"IF(AX182=\"\",\"\",VLOOKUP(LEFT(AX182,6),競技データ!$C$2:$C$300,1,FALSE))","v":""},{"$f":"IF(AZ182=\"\",\"\",VLOOKUP(LEFT(AZ182,6),競技データ!$C$2:$C$300,1,FALSE))","v":""},false,false,false,0,""]
[null,175,null,null,null,null,{"$f":"IF(C183=\"\",\"\",VLOOKUP($D$4,所属データ!$E:$H,4,FALSE))","v":""},{"$f":"IF(G183=\"\",\"\",VLOOKUP(G183,所属データ!$C:$G,4,0))","v":""},null,0,0,"",0,0,"",null,null,null,0,0,"",0,0,"",null,null,null,0,0,"",0,0,"",null,null,null,null,null,175,"",{"$f":"IF(F183=\"\",\"\",VLOOKUP(F183,基礎データ!H:I,2,FALSE))","v":""},"",{"$f":"IF($E183=\"\",\"\",VLOOKUP($E183,基礎データ!$E:$F,2,FALSE))","v":""},"","",{"$f":"IF(G183=\"\",\"\",VLOOKUP(G183,所属データ!C:G,2,FALSE))","v":""},{"$f":"IF(I183=\"\",\"\",VLOOKUP(I183,基礎データ!K:L,2,FALSE))","v":""},"",{"$f":"IF(R183=\"\",\"\",VLOOKUP(R183,基礎データ!K:L,2,FALSE))","v":""},"",{"$f":"IF(AA183=\"\",\"\",VLOOKUP(AA183,基礎データ!K:L,2,FALSE))","v":""},"",{"$f":"IF(AV183=\"\",\"\",VLOOKUP(LEFT(AV183,6),競技データ!$C$2:$C$300,1,FALSE))","v":""},{"$f":"IF(AX183=\"\",\"\",VLOOKUP(LEFT(AX183,6),競技データ!$C$2:$C$300,1,FALSE))","v":""},{"$f":"IF(AZ183=\"\",\"\",VLOOKUP(LEFT(AZ183,6),競技データ!$C$2:$C$300,1,FALSE))","v":""},false,false,false,0,""]
[null,176,null,null,null,null,{"$f":"IF(C184=\"\",\"\",VLOOKUP($D$4,所属データ!$E:$H,4,FALSE))","v":""},{"$f":"IF(G184=\"\",\"\",VLOOKUP(G184,所属データ!$C:$G,4,0))","v":""},null,0,0,"",0,0,"",null,null,null,0,0,"",0,0,"",null,null,null,0,0,"",0,0,"",null,null,null,null,null,176,"",{"$f":"IF(F184=\"\",\"\",VLOOKUP(F184,基礎データ!H:I,2,FALSE))","v":""},"",{"$f":"IF($E184=\"\",\"\",VLOOKUP($E184,基礎データ!$E:$F,2,FALSE))","v":""},"","",{"$f":"IF(G184=\"\",\"\",VLOOKUP(G184,所属データ!C:G,2,FALSE))","v":""},{"$f":"IF(I184=\"\",\"\",VLOOKUP(I184,基礎データ!K:L,2,FALSE))","v":""},"",{"$f":"IF(R184=\"\",\"\",VLOOKUP(R184,基礎データ!K:L,2,FALSE))","v":""},"",{"$f":"IF(AA184=\"\",\"\",VLOOKUP(AA184,基礎データ!K:L,2,FALSE))","v":""},"",{"$f":"IF(AV184=\"\",\"\",VLOOKUP(LEFT(AV184,6),競技データ!$C$2:$C$300,1,FALSE))","v":""},{"$f":"IF(AX184=\"\",\"\",VLOOKUP(LEFT(AX184,6),競技データ!$C$2:$C$300,1,FALSE))","v":""},{"$f":"IF(AZ184=\"\",\"\",VLOOKUP(LEFT(AZ184,6),競技データ!$C$2:$C$300,1,FALSE))","v":""},false,false,false,0,""]
[null,177,null,null,null,null,{"$f":"IF(C185=\"\",\"\",VLOOKUP($D$4,所属データ!$E:$H,4,FALSE))","v":""},{"$f":"IF(G185=\"\",\"\",VLOOKUP(G185,所属データ!$C:$G,4,0))","v":""},null,0,0,"",0,0,"",null,null,null,0,0,"",0,0,"",null,null,null,0,0,"",0,0,"",null,null,null,null,null,177,"",{"$f":"IF(F185=\"\",\"\",VLOOKUP(F185,基礎データ!H:I,2,FALSE))","v":""},"",{"$f":"IF($E185=\"\",\"\",VLOOKUP($E185,基礎データ!$E:$F,2,FALSE))","v":""},"","",{"$f":"IF(G185=\"\",\"\",VLOOKUP(G185,所属データ!C:G,2,FALSE))","v":""},{"$f":"IF(I185=\"\",\"\",VLOOKUP(I185,基礎データ!K:L,2,FALSE))","v":""},"",{"$f":"IF(R185=\"\",\"\",VLOOKUP(R185,基礎データ!K:L,2,FALSE))","v":""},"",{"$f":"IF(AA185=\"\",\"\",VLOOKUP(AA185,基礎データ!K:L,2,FALSE))","v":""},"",{"$f":"IF(AV185=\"\",\"\",VLOOKUP(LEFT(AV185,6),競技データ!$C$2:$C$300,1,FALSE))","v":""},{"$f":"IF(AX185=\"\",\"\",VLOOKUP(LEFT(AX185,6),競技データ!$C$2:$C$300,1,FALSE))","v":""},{"$f":"IF(AZ185=\"\",\"\",VLOOKUP(LEFT(AZ185,6),競技データ!$C$2:$C$300,1,FALSE))","v":""},false,false,false,0,""]
[null,178,null,null,null,null,{"$f":"IF(C186=\"\",\"\",VLOOKUP($D$4,所属データ!$E:$H,4,FALSE))","v":""},{"$f":"IF(G186=\"\",\"\",VLOOKUP(G186,所属データ!$C:$G,4,0))","v":""},null,0,0,"",0,0,"",null,null,null,0,0,"",0,0,"",null,null,null,0,0,"",0,0,"",null,null,null,null,null,178,"",{"$f":"IF(F186=\"\",\"\",VLOOKUP(F186,基礎データ!H:I,2,FALSE))","v":""},"",{"$f":"IF($E186=\"\",\"\",VLOOKUP($E186,基礎データ!$E:$F,2,FALSE))","v":""},"","",{"$f":"IF(G186=\"\",\"\",VLOOKUP(G186,所属データ!C:G,2,FALSE))","v":""},{"$f":"IF(I186=\"\",\"\",VLOOKUP(I186,基礎データ!K:L,2,FALSE))","v":""},"",{"$f":"IF(R186=\"\",\"\",VLOOKUP(R186,基礎データ!K:L,2,FALSE))","v":""},"",{"$f":"IF(AA186=\"\",\"\",VLOOKUP(AA186,基礎データ!K:L,2,FALSE))","v":""},"",{"$f":"IF(AV186=\"\",\"\",VLOOKUP(LEFT(AV186,6),競技データ!$C$2:$C$300,1,FALSE))","v":""},{"$f":"IF(AX186=\"\",\"\",VLOOKUP(LEFT(AX186,6),競技データ!$C$2:$C$300,1,FALSE))","v":""},{"$f":"IF(AZ186=\"\",\"\",VLOOKUP(LEFT(AZ186,6),競技データ!$C$2:$C$300,1,FALSE))","v":""},false,false,false,0,""]
[null,179,null,null,null,null,{"$f":"IF(C187=\"\",\"\",VLOOKUP($D$4,所属データ!$E:$H,4,FALSE))","v":""},{"$f":"IF(G187=\"\",\"\",VLOOKUP(G187,所属データ!$C:$G,4,0))","v":""},null,0,0,"",0,0,"",null,null,null,0,0,"",0,0,"",null,null,null,0,0,"",0,0,"",null,null,null,null,null,179,"",{"$f":"IF(F187=\"\",\"\",VLOOKUP(F187,基礎データ!H:I,2,FALSE))","v":""},"",{"$f":"IF($E187=\"\",\"\",VLOOKUP($E187,基礎データ!$E:$F,2,FALSE))","v":""},"","",{"$f":"IF(G187=\"\",\"\",VLOOKUP(G187,所属データ!C:G,2,FALSE))","v":""},{"$f":"IF(I187=\"\",\"\",VLOOKUP(I187,基礎データ!K:L,2,FALSE))","v":""},"",{"$f":"IF(R187=\"\",\"\",VLOOKUP(R187,基礎データ!K:L,2,FALSE))","v":""},"",{"$f":"IF(AA187=\"\",\"\",VLOOKUP(AA187,基礎データ!K:L,2,FALSE))","v":""},"",{"$f":"IF(AV187=\"\",\"\",VLOOKUP(LEFT(AV187,6),競技データ!$C$2:$C$300,1,FALSE))","v":""},{"$f":"IF(AX187=\"\",\"\",VLOOKUP(LEFT(AX187,6),競技データ!$C$2:$C$300,1,FALSE))","v":""},{"$f":"IF(AZ187=\"\",\"\",VLOOKUP(LEFT(AZ187,6),競技データ!$C$2:$C$300,1,FALSE))","v":""},false,false,false,0,""]
[null,180,null,null,null,null,{"$f":"IF(C188=\"\",\"\",VLOOKUP($D$4,所属データ!$E:$H,4,FALSE))","v":""},{"$f":"IF(G188=\"\",\"\",VLOOKUP(G188,所属データ!$C:$G,4,0))","v":""},null,0,0,"",0,0,"",null,null,null,0,0,"",0,0,"",null,null,null,0,0,"",0,0,"",null,null,null,null,null,180,"",{"$f":"IF(F188=\"\",\"\",VLOOKUP(F188,基礎データ!H:I,2,FALSE))","v":""},"",{"$f":"IF($E188=\"\",\"\",VLOOKUP($E188,基礎データ!$E:$F,2,FALSE))","v":""},"","",{"$f":"IF(G188=\"\",\"\",VLOOKUP(G188,所属データ!C:G,2,FALSE))","v":""},{"$f":"IF(I188=\"\",\"\",VLOOKUP(I188,基礎データ!K:L,2,FALSE))","v":""},"",{"$f":"IF(R188=\"\",\"\",VLOOKUP(R188,基礎データ!K:L,2,FALSE))","v":""},"",{"$f":"IF(AA188=\"\",\"\",VLOOKUP(AA188,基礎データ!K:L,2,FALSE))","v":""},"",{"$f":"IF(AV188=\"\",\"\",VLOOKUP(LEFT(AV188,6),競技データ!$C$2:$C$300,1,FALSE))","v":""},{"$f":"IF(AX188=\"\",\"\",VLOOKUP(LEFT(AX188,6),競技データ!$C$2:$C$300,1,FALSE))","v":""},{"$f":"IF(AZ188=\"\",\"\",VLOOKUP(LEFT(AZ188,6),競技データ!$C$2:$C$300,1,FALSE))","v":""},false,false,false,0,""]
[null,181,null,null,null,null,{"$f":"IF(C189=\"\",\"\",VLOOKUP($D$4,所属データ!$E:$H,4,FALSE))","v":""},{"$f":"IF(G189=\"\",\"\",VLOOKUP(G189,所属データ!$C:$G,4,0))","v":""},null,0,0,"",0,0,"",null,null,null,0,0,"",0,0,"",null,null,null,0,0,"",0,0,"",null,null,null,null,null,181,"",{"$f":"IF(F189=\"\",\"\",VLOOKUP(F189,基礎データ!H:I,2,FALSE))","v":""},"",{"$f":"IF($E189=\"\",\"\",VLOOKUP($E189,基礎データ!$E:$F,2,FALSE))","v":""},"","",{"$f":"IF(G189=\"\",\"\",VLOOKUP(G189,所属データ!C:G,2,FALSE))","v":""},{"$f":"IF(I189=\"\",\"\",VLOOKUP(I189,基礎データ!K:L,2,FALSE))","v":""},"",{"$f":"IF(R189=\"\",\"\",VLOOKUP(R189,基礎データ!K:L,2,FALSE))","v":""},"",{"$f":"IF(AA189=\"\",\"\",VLOOKUP(AA189,基礎データ!K:L,2,FALSE))","v":""},"",{"$f":"IF(AV189=\"\",\"\",VLOOKUP(LEFT(AV189,6),競技データ!$C$2:$C$300,1,FALSE))","v":""},{"$f":"IF(AX189=\"\",\"\",VLOOKUP(LEFT(AX189,6),競技データ!$C$2:$C$300,1,FALSE))","v":""},{"$f":"IF(AZ189=\"\",\"\",VLOOKUP(LEFT(AZ189,6),競技データ!$C$2:$C$300,1,FALSE))","v":""},false,false,false,0,""]
[null,182,null,null,null,null,{"$f":"IF(C190=\"\",\"\",VLOOKUP($D$4,所属データ!$E:$H,4,FALSE))","v":""},{"$f":"IF(G190=\"\",\"\",VLOOKUP(G190,所属データ!$C:$G,4,0))","v":""},null,0,0,"",0,0,"",null,null,null,0,0,"",0,0,"",null,null,null,0,0,"",0,0,"",null,null,null,null,null,182,"",{"$f":"IF(F190=\"\",\"\",VLOOKUP(F190,基礎データ!H:I,2,FALSE))","v":""},"",{"$f":"IF($E190=\"\",\"\",VLOOKUP($E190,基礎データ!$E:$F,2,FALSE))","v":""},"","",{"$f":"IF(G190=\"\",\"\",VLOOKUP(G190,所属データ!C:G,2,FALSE))","v":""},{"$f":"IF(I190=\"\",\"\",VLOOKUP(I190,基礎データ!K:L,2,FALSE))","v":""},"",{"$f":"IF(R190=\"\",\"\",VLOOKUP(R190,基礎データ!K:L,2,FALSE))","v":""},"",{"$f":"IF(AA190=\"\",\"\",VLOOKUP(AA190,基礎データ!K:L,2,FALSE))","v":""},"",{"$f":"IF(AV190=\"\",\"\",VLOOKUP(LEFT(AV190,6),競技データ!$C$2:$C$300,1,FALSE))","v":""},{"$f":"IF(AX190=\"\",\"\",VLOOKUP(LEFT(AX190,6),競技データ!$C$2:$C$300,1,FALSE))","v":""},{"$f":"IF(AZ190=\"\",\"\",VLOOKUP(LEFT(AZ190,6),競技データ!$C$2:$C$300,1,FALSE))","v":""},false,false,false,0,""]
[null,183,null,null,null,null,{"$f":"IF(C191=\"\",\"\",VLOOKUP($D$4,所属データ!$E:$H,4,FALSE))","v":""},{"$f":"IF(G191=\"\",\"\",VLOOKUP(G191,所属データ!$C:$G,4,0))","v":""},null,0,0,"",0,0,"",null,null,null,0,0,"",0,0,"",null,null,null,0,0,"",0,0,"",null,null,null,null,null,183,"",{"$f":"IF(F191=\"\",\"\",VLOOKUP(F191,基礎データ!H:I,2,FALSE))","v":""},"",{"$f":"IF($E191=\"\",\"\",VLOOKUP($E191,基礎データ!$E:$F,2,FALSE))","v":""},"","",{"$f":"IF(G191=\"\",\"\",VLOOKUP(G191,所属データ!C:G,2,FALSE))","v":""},{"$f":"IF(I191=\"\",\"\",VLOOKUP(I191,基礎データ!K:L,2,FALSE))","v":""},"",{"$f":"IF(R191=\"\",\"\",VLOOKUP(R191,基礎データ!K:L,2,FALSE))","v":""},"",{"$f":"IF(AA191=\"\",\"\",VLOOKUP(AA191,基礎データ!K:L,2,FALSE))","v":""},"",{"$f":"IF(AV191=\"\",\"\",VLOOKUP(LEFT(AV191,6),競技データ!$C$2:$C$300,1,FALSE))","v":""},{"$f":"IF(AX191=\"\",\"\",VLOOKUP(LEFT(AX191,6),競技データ!$C$2:$C$300,1,FALSE))","v":""},{"$f":"IF(AZ191=\"\",\"\",VLOOKUP(LEFT(AZ191,6),競技データ!$C$2:$C$300,1,FALSE))","v":""},false,false,false,0,""]
[null,184,null,null,null,null,{"$f":"IF(C192=\"\",\"\",VLOOKUP($D$4,所属データ!$E:$H,4,FALSE))","v":""},{"$f":"IF(G192=\"\",\"\",VLOOKUP(G192,所属データ!$C:$G,4,0))","v":""},null,0,0,"",0,0,"",null,null,null,0,0,"",0,0,"",null,null,null,0,0,"",0,0,"",null,null,null,null,null,184,"",{"$f":"IF(F192=\"\",\"\",VLOOKUP(F192,基礎データ!H:I,2,FALSE))","v":""},"",{"$f":"IF($E192=\"\",\"\",VLOOKUP($E192,基礎データ!$E:$F,2,FALSE))","v":""},"","",{"$f":"IF(G192=\"\",\"\",VLOOKUP(G192,所属データ!C:G,2,FALSE))","v":""},{"$f":"IF(I192=\"\",\"\",VLOOKUP(I192,基礎データ!K:L,2,FALSE))","v":""},"",{"$f":"IF(R192=\"\",\"\",VLOOKUP(R192,基礎データ!K:L,2,FALSE))","v":""},"",{"$f":"IF(AA192=\"\",\"\",VLOOKUP(AA192,基礎データ!K:L,2,FALSE))","v":""},"",{"$f":"IF(AV192=\"\",\"\",VLOOKUP(LEFT(AV192,6),競技データ!$C$2:$C$300,1,FALSE))","v":""},{"$f":"IF(AX192=\"\",\"\",VLOOKUP(LEFT(AX192,6),競技データ!$C$2:$C$300,1,FALSE))","v":""},{"$f":"IF(AZ192=\"\",\"\",VLOOKUP(LEFT(AZ192,6),競技データ!$C$2:$C$300,1,FALSE))","v":""},false,false,false,0,""]
[null,185,null,null,null,null,{"$f":"IF(C193=\"\",\"\",VLOOKUP($D$4,所属データ!$E:$H,4,FALSE))","v":""},{"$f":"IF(G193=\"\",\"\",VLOOKUP(G193,所属データ!$C:$G,4,0))","v":""},null,0,0,"",0,0,"",null,null,null,0,0,"",0,0,"",null,null,null,0,0,"",0,0,"",null,null,null,null,null,185,"",{"$f":"IF(F193=\"\",\"\",VLOOKUP(F193,基礎データ!H:I,2,FALSE))","v":""},"",{"$f":"IF($E193=\"\",\"\",VLOOKUP($E193,基礎データ!$E:$F,2,FALSE))","v":""},"","",{"$f":"IF(G193=\"\",\"\",VLOOKUP(G193,所属データ!C:G,2,FALSE))","v":""},{"$f":"IF(I193=\"\",\"\",VLOOKUP(I193,基礎データ!K:L,2,FALSE))","v":""},"",{"$f":"IF(R193=\"\",\"\",VLOOKUP(R193,基礎データ!K:L,2,FALSE))","v":""},"",{"$f":"IF(AA193=\"\",\"\",VLOOKUP(AA193,基礎データ!K:L,2,FALSE))","v":""},"",{"$f":"IF(AV193=\"\",\"\",VLOOKUP(LEFT(AV193,6),競技データ!$C$2:$C$300,1,FALSE))","v":""},{"$f":"IF(AX193=\"\",\"\",VLOOKUP(LEFT(AX193,6),競技データ!$C$2:$C$300,1,FALSE))","v":""},{"$f":"IF(AZ193=\"\",\"\",VLOOKUP(LEFT(AZ193,6),競技データ!$C$2:$C$300,1,FALSE))","v":""},false,false,false,0,""]
[null,186,null,null,null,null,{"$f":"IF(C194=\"\",\"\",VLOOKUP($D$4,所属データ!$E:$H,4,FALSE))","v":""},{"$f":"IF(G194=\"\",\"\",VLOOKUP(G194,所属データ!$C:$G,4,0))","v":""},null,0,0,"",0,0,"",null,null,null,0,0,"",0,0,"",null,null,null,0,0,"",0,0,"",null,null,null,null,null,186,"",{"$f":"IF(F194=\"\",\"\",VLOOKUP(F194,基礎データ!H:I,2,FALSE))","v":""},"",{"$f":"IF($E194=\"\",\"\",VLOOKUP($E194,基礎データ!$E:$F,2,FALSE))","v":""},"","",{"$f":"IF(G194=\"\",\"\",VLOOKUP(G194,所属データ!C:G,2,FALSE))","v":""},{"$f":"IF(I194=\"\",\"\",VLOOKUP(I194,基礎データ!K:L,2,FALSE))","v":""},"",{"$f":"IF(R194=\"\",\"\",VLOOKUP(R194,基礎データ!K:L,2,FALSE))","v":""},"",{"$f":"IF(AA194=\"\",\"\",VLOOKUP(AA194,基礎データ!K:L,2,FALSE))","v":""},"",{"$f":"IF(AV194=\"\",\"\",VLOOKUP(LEFT(AV194,6),競技データ!$C$2:$C$300,1,FALSE))","v":""},{"$f":"IF(AX194=\"\",\"\",VLOOKUP(LEFT(AX194,6),競技データ!$C$2:$C$300,1,FALSE))","v":""},{"$f":"IF(AZ194=\"\",\"\",VLOOKUP(LEFT(AZ194,6),競技データ!$C$2:$C$300,1,FALSE))","v":""},false,false,false,0,""]
[null,187,null,null,null,null,{"$f":"IF(C195=\"\",\"\",VLOOKUP($D$4,所属データ!$E:$H,4,FALSE))","v":""},{"$f":"IF(G195=\"\",\"\",VLOOKUP(G195,所属データ!$C:$G,4,0))","v":""},null,0,0,"",0,0,"",null,null,null,0,0,"",0,0,"",null,null,null,0,0,"",0,0,"",null,null,null,null,null,187,"",{"$f":"IF(F195=\"\",\"\",VLOOKUP(F195,基礎データ!H:I,2,FALSE))","v":""},"",{"$f":"IF($E195=\"\",\"\",VLOOKUP($E195,基礎データ!$E:$F,2,FALSE))","v":""},"","",{"$f":"IF(G195=\"\",\"\",VLOOKUP(G195,所属データ!C:G,2,FALSE))","v":""},{"$f":"IF(I195=\"\",\"\",VLOOKUP(I195,基礎データ!K:L,2,FALSE))","v":""},"",{"$f":"IF(R195=\"\",\"\",VLOOKUP(R195,基礎データ!K:L,2,FALSE))","v":""},"",{"$f":"IF(AA195=\"\",\"\",VLOOKUP(AA195,基礎データ!K:L,2,FALSE))","v":""},"",{"$f":"IF(AV195=\"\",\"\",VLOOKUP(LEFT(AV195,6),競技データ!$C$2:$C$300,1,FALSE))","v":""},{"$f":"IF(AX195=\"\",\"\",VLOOKUP(LEFT(AX195,6),競技データ!$C$2:$C$300,1,FALSE))","v":""},{"$f":"IF(AZ195=\"\",\"\",VLOOKUP(LEFT(AZ195,6),競技データ!$C$2:$C$300,1,FALSE))","v":""},false,false,false,0,""]
[null,188,null,null,null,null,{"$f":"IF(C196=\"\",\"\",VLOOKUP($D$4,所属データ!$E:$H,4,FALSE))","v":""},{"$f":"IF(G196=\"\",\"\",VLOOKUP(G196,所属データ!$C:$G,4,0))","v":""},null,0,0,"",0,0,"",null,null,null,0,0,"",0,0,"",null,null,null,0,0,"",0,0,"",null,null,null,null,null,188,"",{"$f":"IF(F196=\"\",\"\",VLOOKUP(F196,基礎データ!H:I,2,FALSE))","v":""},"",{"$f":"IF($E196=\"\",\"\",VLOOKUP($E196,基礎データ!$E:$F,2,FALSE))","v":""},"","",{"$f":"IF(G196=\"\",\"\",VLOOKUP(G196,所属データ!C:G,2,FALSE))","v":""},{"$f":"IF(I196=\"\",\"\",VLOOKUP(I196,基礎データ!K:L,2,FALSE))","v":""},"",{"$f":"IF(R196=\"\",\"\",VLOOKUP(R196,基礎データ!K:L,2,FALSE))","v":""},"",{"$f":"IF(AA196=\"\",\"\",VLOOKUP(AA196,基礎データ!K:L,2,FALSE))","v":""},"",{"$f":"IF(AV196=\"\",\"\",VLOOKUP(LEFT(AV196,6),競技データ!$C$2:$C$300,1,FALSE))","v":""},{"$f":"IF(AX196=\"\",\"\",VLOOKUP(LEFT(AX196,6),競技データ!$C$2:$C$300,1,FALSE))","v":""},{"$f":"IF(AZ196=\"\",\"\",VLOOKUP(LEFT(AZ196,6),競技データ!$C$2:$C$300,1,FALSE))","v":""},false,false,false,0,""]
[null,189,null,null,null,null,{"$f":"IF(C197=\"\",\"\",VLOOKUP($D$4,所属データ!$E:$H,4,FALSE))","v":""},{"$f":"IF(G197=\"\",\"\",VLOOKUP(G197,所属データ!$C:$G,4,0))","v":""},null,0,0,"",0,0,"",null,null,null,0,0,"",0,0,"",null,null,null,0,0,"",0,0,"",null,null,null,null,null,189,"",{"$f":"IF(F197=\"\",\"\",VLOOKUP(F197,基礎データ!H:I,2,FALSE))","v":""},"",{"$f":"IF($E197=\"\",\"\",VLOOKUP($E197,基礎データ!$E:$F,2,FALSE))","v":""},"","",{"$f":"IF(G197=\"\",\"\",VLOOKUP(G197,所属データ!C:G,2,FALSE))","v":""},{"$f":"IF(I197=\"\",\"\",VLOOKUP(I197,基礎データ!K:L,2,FALSE))","v":""},"",{"$f":"IF(R197=\"\",\"\",VLOOKUP(R197,基礎データ!K:L,2,FALSE))","v":""},"",{"$f":"IF(AA197=\"\",\"\",VLOOKUP(AA197,基礎データ!K:L,2,FALSE))","v":""},"",{"$f":"IF(AV197=\"\",\"\",VLOOKUP(LEFT(AV197,6),競技データ!$C$2:$C$300,1,FALSE))","v":""},{"$f":"IF(AX197=\"\",\"\",VLOOKUP(LEFT(AX197,6),競技データ!$C$2:$C$300,1,FALSE))","v":""},{"$f":"IF(AZ197=\"\",\"\",VLOOKUP(LEFT(AZ197,6),競技データ!$C$2:$C$300,1,FALSE))","v":""},false,false,false,0,""]
[null,190,null,null,null,null,{"$f":"IF(C198=\"\",\"\",VLOOKUP($D$4,所属データ!$E:$H,4,FALSE))","v":""},{"$f":"IF(G198=\"\",\"\",VLOOKUP(G198,所属データ!$C:$G,4,0))","v":""},null,0,0,"",0,0,"",null,null,null,0,0,"",0,0,"",null,null,null,0,0,"",0,0,"",null,null,null,null,null,190,"",{"$f":"IF(F198=\"\",\"\",VLOOKUP(F198,基礎データ!H:I,2,FALSE))","v":""},"",{"$f":"IF($E198=\"\",\"\",VLOOKUP($E198,基礎データ!$E:$F,2,FALSE))","v":""},"","",{"$f":"IF(G198=\"\",\"\",VLOOKUP(G198,所属データ!C:G,2,FALSE))","v":""},{"$f":"IF(I198=\"\",\"\",VLOOKUP(I198,基礎データ!K:L,2,FALSE))","v":""},"",{"$f":"IF(R198=\"\",\"\",VLOOKUP(R198,基礎データ!K:L,2,FALSE))","v":""},"",{"$f":"IF(AA198=\"\",\"\",VLOOKUP(AA198,基礎データ!K:L,2,FALSE))","v":""},"",{"$f":"IF(AV198=\"\",\"\",VLOOKUP(LEFT(AV198,6),競技データ!$C$2:$C$300,1,FALSE))","v":""},{"$f":"IF(AX198=\"\",\"\",VLOOKUP(LEFT(AX198,6),競技データ!$C$2:$C$300,1,FALSE))","v":""},{"$f":"IF(AZ198=\"\",\"\",VLOOKUP(LEFT(AZ198,6),競技データ!$C$2:$C$300,1,FALSE))","v":""},false,false,false,0,""]
[null,191,null,null,null,null,{"$f":"IF(C199=\"\",\"\",VLOOKUP($D$4,所属データ!$E:$H,4,FALSE))","v":""},{"$f":"IF(G199=\"\",\"\",VLOOKUP(G199,所属データ!$C:$G,4,0))","v":""},null,0,0,"",0,0,"",null,null,null,0,0,"",0,0,"",null,null,null,0,0,"",0,0,"",null,null,null,null,null,191,"",{"$f":"IF(F199=\"\",\"\",VLOOKUP(F199,基礎データ!H:I,2,FALSE))","v":""},"",{"$f":"IF($E199=\"\",\"\",VLOOKUP($E199,基礎データ!$E:$F,2,FALSE))","v":""},"","",{"$f":"IF(G199=\"\",\"\",VLOOKUP(G199,所属データ!C:G,2,FALSE))","v":""},{"$f":"IF(I199=\"\",\"\",VLOOKUP(I199,基礎データ!K:L,2,FALSE))","v":""},"",{"$f":"IF(R199=\"\",\"\",VLOOKUP(R199,基礎データ!K:L,2,FALSE))","v":""},"",{"$f":"IF(AA199=\"\",\"\",VLOOKUP(AA199,基礎データ!K:L,2,FALSE))","v":""},"",{"$f":"IF(AV199=\"\",\"\",VLOOKUP(LEFT(AV199,6),競技データ!$C$2:$C$300,1,FALSE))","v":""},{"$f":"IF(AX199=\"\",\"\",VLOOKUP(LEFT(AX199,6),競技データ!$C$2:$C$300,1,FALSE))","v":""},{"$f":"IF(AZ199=\"\",\"\",VLOOKUP(LEFT(AZ199,6),競技データ!$C$2:$C$300,1,FALSE))","v":""},false,false,false,0,""]
[null,192,null,null,null,null,{"$f":"IF(C200=\"\",\"\",VLOOKUP($D$4,所属データ!$E:$H,4,FALSE))","v":""},{"$f":"IF(G200=\"\",\"\",VLOOKUP(G200,所属データ!$C:$G,4,0))","v":""},null,0,0,"",0,0,"",null,null,null,0,0,"",0,0,"",null,null,null,0,0,"",0,0,"",null,null,null,null,null,192,"",{"$f":"IF(F200=\"\",\"\",VLOOKUP(F200,基礎データ!H:I,2,FALSE))","v":""},"",{"$f":"IF($E200=\"\",\"\",VLOOKUP($E200,基礎データ!$E:$F,2,FALSE))","v":""},"","",{"$f":"IF(G200=\"\",\"\",VLOOKUP(G200,所属データ!C:G,2,FALSE))","v":""},{"$f":"IF(I200=\"\",\"\",VLOOKUP(I200,基礎データ!K:L,2,FALSE))","v":""},"",{"$f":"IF(R200=\"\",\"\",VLOOKUP(R200,基礎データ!K:L,2,FALSE))","v":""},"",{"$f":"IF(AA200=\"\",\"\",VLOOKUP(AA200,基礎データ!K:L,2,FALSE))","v":""},"",{"$f":"IF(AV200=\"\",\"\",VLOOKUP(LEFT(AV200,6),競技データ!$C$2:$C$300,1,FALSE))","v":""},{"$f":"IF(AX200=\"\",\"\",VLOOKUP(LEFT(AX200,6),競技データ!$C$2:$C$300,1,FALSE))","v":""},{"$f":"IF(AZ200=\"\",\"\",VLOOKUP(LEFT(AZ200,6),競技データ!$C$2:$C$300,1,FALSE))","v":""},false,false,false,0,""]
[null,193,null,null,null,null,{"$f":"IF(C201=\"\",\"\",VLOOKUP($D$4,所属データ!$E:$H,4,FALSE))","v":""},{"$f":"IF(G201=\"\",\"\",VLOOKUP(G201,所属データ!$C:$G,4,0))","v":""},null,0,0,"",0,0,"",null,null,null,0,0,"",0,0,"",null,null,null,0,0,"",0,0,"",null,null,null,null,null,193,"",{"$f":"IF(F201=\"\",\"\",VLOOKUP(F201,基礎データ!H:I,2,FALSE))","v":""},"",{"$f":"IF($E201=\"\",\"\",VLOOKUP($E201,基礎データ!$E:$F,2,FALSE))","v":""},"","",{"$f":"IF(G201=\"\",\"\",VLOOKUP(G201,所属データ!C:G,2,FALSE))","v":""},{"$f":"IF(I201=\"\",\"\",VLOOKUP(I201,基礎データ!K:L,2,FALSE))","v":""},"",{"$f":"IF(R201=\"\",\"\",VLOOKUP(R201,基礎データ!K:L,2,FALSE))","v":""},"",{"$f":"IF(AA201=\"\",\"\",VLOOKUP(AA201,基礎データ!K:L,2,FALSE))","v":""},"",{"$f":"IF(AV201=\"\",\"\",VLOOKUP(LEFT(AV201,6),競技データ!$C$2:$C$300,1,FALSE))","v":""},{"$f":"IF(AX201=\"\",\"\",VLOOKUP(LEFT(AX201,6),競技データ!$C$2:$C$300,1,FALSE))","v":""},{"$f":"IF(AZ201=\"\",\"\",VLOOKUP(LEFT(AZ201,6),競技データ!$C$2:$C$300,1,FALSE))","v":""},false,false,false,0,""]
[null,194,null,null,null,null,{"$f":"IF(C202=\"\",\"\",VLOOKUP($D$4,所属データ!$E:$H,4,FALSE))","v":""},{"$f":"IF(G202=\"\",\"\",VLOOKUP(G202,所属データ!$C:$G,4,0))","v":""},null,0,0,{"$f":"IF(I202=\"\",\"\",IF(I202=\"走幅跳\",\"ｍ\",IF(I202=\"立幅跳\",\"ｍ\",\"分\")))","v":""},0,0,{"$f":"IF(I202=\"\",\"\",IF(I202=\"走幅跳\",\"cm\",IF(I202=\"立幅跳\",\"cm\",\"秒\")))","v":""},null,null,null,0,0,{"$f":"IF(R202=\"\",\"\",IF(R202=\"走幅跳\",\"ｍ\",IF(R202=\"立幅跳\",\"ｍ\",\"分\")))","v":""},0,0,{"$f":"IF(R202=\"\",\"\",IF(R202=\"走幅跳\",\"cm\",IF(R202=\"立幅跳\",\"cm\",\"秒\")))","v":""},null,null,null,0,0,{"$f":"IF(AA202=\"\",\"\",IF(AA202=\"走幅跳\",\"ｍ\",IF(AA202=\"立幅跳\",\"ｍ\",\"分\")))","v":""},0,0,{"$f":"IF(AA202=\"\",\"\",IF(AA202=\"走幅跳\",\"cm\",IF(AA202=\"立幅跳\",\"cm\",\"秒\")))","v":""},null,null,null,null,null,194,{"$f":"IF(C202=\"\",\"\",$AN$7+B202)","v":""},{"$f":"IF(F202=\"\",\"\",VLOOKUP(F202,基礎データ!H:I,2,FALSE))","v":""},{"$f":"IF(C202=\"\",\"\",AO202*100000000+AN202)","v":""},{"$f":"IF($E202=\"\",\"\",VLOOKUP($E202,基礎データ!$E:$F,2,FALSE))","v":""},{"$f":"IF(C202=\"\",\"\",C202&\"(\"&E202&\")\")","v":""},{"$f":"IF(C202=\"\",\"\",$AN$6)","v":""},{"$f":"IF(G202=\"\",\"\",VLOOKUP(G202,所属データ!C:G,2,FALSE))","v":""},{"$f":"IF(I202=\"\",\"\",VLOOKUP(I202,基礎データ!K:L,2,FALSE))","v":""},{"$f":"IF(AU202=\"\",\"\",IF(AU202=\"R215\",AU202&\"00\"&\" 0\"&J202&K202&M202&N202&P202&Q202,IF(AU202=\"R220\",AU202&\"00\"&\" 0\"&J202&K202&M202&N202&P202&Q202,IF(AU202=\"R601\",AU202&\"00\"&\" 0\"&J202&K202&M202&N202&P202&Q202,AU202&AQ202&\" 0\"&J202&K202&M202&N202&P202&Q202))))","v":""},{"$f":"IF(R202=\"\",\"\",VLOOKUP(R202,基礎データ!K:L,2,FALSE))","v":""},{"$f":"IF(AW202=\"\",\"\",IF(AW202=\"R215\",AW202&\"00\"&\" 0\"&$S202&$T202&$V202&$W202&$Y202&$Z202,IF(AW202=\"R220\",AW202&\"00\"&\" 0\"&$S202&$T202&$V202&$W202&$Y202&$Z202,IF(AW202=\"R601\",AW202&\"00\"&\" 0\"&$S202&$T202&$V202&$W202&$Y202&$Z202,AW202&$AQ202&\" 0\"&$S202&$T202&$V202&$W202&$Y202&$Z202))))","v":""},{"$f":"IF(AA202=\"\",\"\",VLOOKUP(AA202,基礎データ!K:L,2,FALSE))","v":""},{"$f":"IF(AY202=\"\",\"\",IF(AY202=\"R215\",AY202&\"00\"&\" 0\"&AB202&AC202&AE202&AF202&AH202&AI202,IF(AY202=\"R220\",AY202&\"00\"&\" 0\"&AB202&AC202&AE202&AF202&AH202&AI202,IF(AY202=\"R601\",AY202&\"00\"&\" 0\"&AB202&AC202&AE202&AF202&AH202&AI202,AY202&AQ202&\" 0\"&AB202&AC202&AE202&AF202&AH202&AI202))))","v":""},{"$f":"IF(AV202=\"\",\"\",VLOOKUP(LEFT(AV202,6),競技データ!$C$2:$C$300,1,FALSE))","v":""},{"$f":"IF(AX202=\"\",\"\",VLOOKUP(LEFT(AX202,6),競技データ!$C$2:$C$300,1,FALSE))","v":""},{"$f":"IF(AZ202=\"\",\"\",VLOOKUP(LEFT(AZ202,6),競技データ!$C$2:$C$300,1,FALSE))","v":""},{"$f":"ISERROR(BA202)","v":false},{"$f":"ISERROR(BB202)","v":false},{"$f":"ISERROR(BC202)","v":false},{"$f":"COUNTIF(BD202:BF202,\"true\")","v":0},{"$f":"IF(AJ202=\"１００ｍ\",\"R025\"&AQ202,IF(AJ202=\"３００ｍ\",\"R026\"&AQ202,IF(AJ202=\"５００ｍ\",\"R027\"&AQ202,\"\")))","v":""}]
[null,195,null,null,null,null,{"$f":"IF(C203=\"\",\"\",VLOOKUP($D$4,所属データ!$E:$H,4,FALSE))","v":""},{"$f":"IF(G203=\"\",\"\",VLOOKUP(G203,所属データ!$C:$G,4,0))","v":""},null,0,0,"",0,0,"",null,null,null,0,0,"",0,0,"",null,null,null,0,0,"",0,0,"",null,null,null,null,null,195,"",{"$f":"IF(F203=\"\",\"\",VLOOKUP(F203,基礎データ!H:I,2,FALSE))","v":""},"",{"$f":"IF($E203=\"\",\"\",VLOOKUP($E203,基礎データ!$E:$F,2,FALSE))","v":""},"","",{"$f":"IF(G203=\"\",\"\",VLOOKUP(G203,所属データ!C:G,2,FALSE))","v":""},{"$f":"IF(I203=\"\",\"\",VLOOKUP(I203,基礎データ!K:L,2,FALSE))","v":""},"",{"$f":"IF(R203=\"\",\"\",VLOOKUP(R203,基礎データ!K:L,2,FALSE))","v":""},"",{"$f":"IF(AA203=\"\",\"\",VLOOKUP(AA203,基礎データ!K:L,2,FALSE))","v":""},"",{"$f":"IF(AV203=\"\",\"\",VLOOKUP(LEFT(AV203,6),競技データ!$C$2:$C$300,1,FALSE))","v":""},{"$f":"IF(AX203=\"\",\"\",VLOOKUP(LEFT(AX203,6),競技データ!$C$2:$C$300,1,FALSE))","v":""},{"$f":"IF(AZ203=\"\",\"\",VLOOKUP(LEFT(AZ203,6),競技データ!$C$2:$C$300,1,FALSE))","v":""},false,false,false,0,""]
[null,196,null,null,null,null,{"$f":"IF(C204=\"\",\"\",VLOOKUP($D$4,所属データ!$E:$H,4,FALSE))","v":""},{"$f":"IF(G204=\"\",\"\",VLOOKUP(G204,所属データ!$C:$G,4,0))","v":""},null,0,0,"",0,0,"",null,null,null,0,0,"",0,0,"",null,null,null,0,0,"",0,0,"",null,null,null,null,null,196,"",{"$f":"IF(F204=\"\",\"\",VLOOKUP(F204,基礎データ!H:I,2,FALSE))","v":""},"",{"$f":"IF($E204=\"\",\"\",VLOOKUP($E204,基礎データ!$E:$F,2,FALSE))","v":""},"","",{"$f":"IF(G204=\"\",\"\",VLOOKUP(G204,所属データ!C:G,2,FALSE))","v":""},{"$f":"IF(I204=\"\",\"\",VLOOKUP(I204,基礎データ!K:L,2,FALSE))","v":""},"",{"$f":"IF(R204=\"\",\"\",VLOOKUP(R204,基礎データ!K:L,2,FALSE))","v":""},"",{"$f":"IF(AA204=\"\",\"\",VLOOKUP(AA204,基礎データ!K:L,2,FALSE))","v":""},"",{"$f":"IF(AV204=\"\",\"\",VLOOKUP(LEFT(AV204,6),競技データ!$C$2:$C$300,1,FALSE))","v":""},{"$f":"IF(AX204=\"\",\"\",VLOOKUP(LEFT(AX204,6),競技データ!$C$2:$C$300,1,FALSE))","v":""},{"$f":"IF(AZ204=\"\",\"\",VLOOKUP(LEFT(AZ204,6),競技データ!$C$2:$C$300,1,FALSE))","v":""},false,false,false,0,""]
[null,197,null,null,null,null,{"$f":"IF(C205=\"\",\"\",VLOOKUP($D$4,所属データ!$E:$H,4,FALSE))","v":""},{"$f":"IF(G205=\"\",\"\",VLOOKUP(G205,所属データ!$C:$G,4,0))","v":""},null,0,0,"",0,0,"",null,null,null,0,0,"",0,0,"",null,null,null,0,0,"",0,0,"",null,null,null,null,null,197,"",{"$f":"IF(F205=\"\",\"\",VLOOKUP(F205,基礎データ!H:I,2,FALSE))","v":""},"",{"$f":"IF($E205=\"\",\"\",VLOOKUP($E205,基礎データ!$E:$F,2,FALSE))","v":""},"","",{"$f":"IF(G205=\"\",\"\",VLOOKUP(G205,所属データ!C:G,2,FALSE))","v":""},{"$f":"IF(I205=\"\",\"\",VLOOKUP(I205,基礎データ!K:L,2,FALSE))","v":""},"",{"$f":"IF(R205=\"\",\"\",VLOOKUP(R205,基礎データ!K:L,2,FALSE))","v":""},"",{"$f":"IF(AA205=\"\",\"\",VLOOKUP(AA205,基礎データ!K:L,2,FALSE))","v":""},"",{"$f":"IF(AV205=\"\",\"\",VLOOKUP(LEFT(AV205,6),競技データ!$C$2:$C$300,1,FALSE))","v":""},{"$f":"IF(AX205=\"\",\"\",VLOOKUP(LEFT(AX205,6),競技データ!$C$2:$C$300,1,FALSE))","v":""},{"$f":"IF(AZ205=\"\",\"\",VLOOKUP(LEFT(AZ205,6),競技データ!$C$2:$C$300,1,FALSE))","v":""},false,false,false,0,""]
[null,198,null,null,null,null,{"$f":"IF(C206=\"\",\"\",VLOOKUP($D$4,所属データ!$E:$H,4,FALSE))","v":""},{"$f":"IF(G206=\"\",\"\",VLOOKUP(G206,所属データ!$C:$G,4,0))","v":""},null,0,0,"",0,0,"",null,null,null,0,0,"",0,0,"",null,null,null,0,0,"",0,0,"",null,null,null,null,null,198,"",{"$f":"IF(F206=\"\",\"\",VLOOKUP(F206,基礎データ!H:I,2,FALSE))","v":""},"",{"$f":"IF($E206=\"\",\"\",VLOOKUP($E206,基礎データ!$E:$F,2,FALSE))","v":""},"","",{"$f":"IF(G206=\"\",\"\",VLOOKUP(G206,所属データ!C:G,2,FALSE))","v":""},{"$f":"IF(I206=\"\",\"\",VLOOKUP(I206,基礎データ!K:L,2,FALSE))","v":""},"",{"$f":"IF(R206=\"\",\"\",VLOOKUP(R206,基礎データ!K:L,2,FALSE))","v":""},"",{"$f":"IF(AA206=\"\",\"\",VLOOKUP(AA206,基礎データ!K:L,2,FALSE))","v":""},"",{"$f":"IF(AV206=\"\",\"\",VLOOKUP(LEFT(AV206,6),競技データ!$C$2:$C$300,1,FALSE))","v":""},{"$f":"IF(AX206=\"\",\"\",VLOOKUP(LEFT(AX206,6),競技データ!$C$2:$C$300,1,FALSE))","v":""},{"$f":"IF(AZ206=\"\",\"\",VLOOKUP(LEFT(AZ206,6),競技データ!$C$2:$C$300,1,FALSE))","v":""},false,false,false,0,""]
[null,199,null,null,null,null,{"$f":"IF(C207=\"\",\"\",VLOOKUP($D$4,所属データ!$E:$H,4,FALSE))","v":""},{"$f":"IF(G207=\"\",\"\",VLOOKUP(G207,所属データ!$C:$G,4,0))","v":""},null,0,0,"",0,0,"",null,null,null,0,0,"",0,0,"",null,null,null,0,0,"",0,0,"",null,null,null,null,null,199,"",{"$f":"IF(F207=\"\",\"\",VLOOKUP(F207,基礎データ!H:I,2,FALSE))","v":""},"",{"$f":"IF($E207=\"\",\"\",VLOOKUP($E207,基礎データ!$E:$F,2,FALSE))","v":""},"","",{"$f":"IF(G207=\"\",\"\",VLOOKUP(G207,所属データ!C:G,2,FALSE))","v":""},{"$f":"IF(I207=\"\",\"\",VLOOKUP(I207,基礎データ!K:L,2,FALSE))","v":""},"",{"$f":"IF(R207=\"\",\"\",VLOOKUP(R207,基礎データ!K:L,2,FALSE))","v":""},"",{"$f":"IF(AA207=\"\",\"\",VLOOKUP(AA207,基礎データ!K:L,2,FALSE))","v":""},"",{"$f":"IF(AV207=\"\",\"\",VLOOKUP(LEFT(AV207,6),競技データ!$C$2:$C$300,1,FALSE))","v":""},{"$f":"IF(AX207=\"\",\"\",VLOOKUP(LEFT(AX207,6),競技データ!$C$2:$C$300,1,FALSE))","v":""},{"$f":"IF(AZ207=\"\",\"\",VLOOKUP(LEFT(AZ207,6),競技データ!$C$2:$C$300,1,FALSE))","v":""},false,false,false,0,""]
[null,200,null,null,null,null,{"$f":"IF(C208=\"\",\"\",VLOOKUP($D$4,所属データ!$E:$H,4,FALSE))","v":""},{"$f":"IF(G208=\"\",\"\",VLOOKUP(G208,所属データ!$C:$G,4,0))","v":""},null,0,0,"",0,0,"",null,null,null,0,0,"",0,0,"",null,null,null,0,0,"",0,0,"",null,null,null,null,null,200,"",{"$f":"IF(F208=\"\",\"\",VLOOKUP(F208,基礎データ!H:I,2,FALSE))","v":""},"",{"$f":"IF($E208=\"\",\"\",VLOOKUP($E208,基礎データ!$E:$F,2,FALSE))","v":""},"","",{"$f":"IF(G208=\"\",\"\",VLOOKUP(G208,所属データ!C:G,2,FALSE))","v":""},{"$f":"IF(I208=\"\",\"\",VLOOKUP(I208,基礎データ!K:L,2,FALSE))","v":""},"",{"$f":"IF(R208=\"\",\"\",VLOOKUP(R208,基礎データ!K:L,2,FALSE))","v":""},"",{"$f":"IF(AA208=\"\",\"\",VLOOKUP(AA208,基礎データ!K:L,2,FALSE))","v":""},"",{"$f":"IF(AV208=\"\",\"\",VLOOKUP(LEFT(AV208,6),競技データ!$C$2:$C$300,1,FALSE))","v":""},{"$f":"IF(AX208=\"\",\"\",VLOOKUP(LEFT(AX208,6),競技データ!$C$2:$C$300,1,FALSE))","v":""},{"$f":"IF(AZ208=\"\",\"\",VLOOKUP(LEFT(AZ208,6),競技データ!$C$2:$C$300,1,FALSE))","v":""},false,false,false,0,""]

{"sheet":"リレー登録","index":2,"n_rows":55,"n_cols":40,"rows_kept":55,"cut":false,"hidden":false,"merged":[[53,2,54,2],[49,1,54,1],[53,5,54,5],[53,6,54,6],[53,7,54,7],[53,8,54,8],[53,9,54,9],[53,10,54,10],[53,11,54,11],[51,2,52,2],[51,5,52,5],[51,6,52,6],[51,7,52,7],[51,8,52,8],[51,9,52,9],[51,10,52,10],[51,11,52,11],[47,1,48,2],[47,3,48,3],[47,4,48,4],[47,5,48,11],[47,12,47,15],[47,16,47,19],[49,2,50,2],[49,5,50,5],[49,6,50,6],[49,7,50,7],[49,8,50,8],[49,9,50,9],[49,10,50,10],[49,11,50,11],[38,11,39,11],[32,5,33,5],[38,2,39,2],[38,5,39,5],[3,1,12,1],[13,1,22,1],[26,1,35,1],[36,1,45,1],[24,16,24,19],[44,2,45,2],[40,10,41,10],[42,2,43,2],[42,5,43,5],[42,6,43,6],[42,7,43,7],[42,8,43,8],[42,9,43,9],[40,2,41,2],[40,5,41,5],[40,6,41,6],[38,6,39,6],[38,7,39,7],[38,8,39,8],[30,6,31,6],[1,12,1,19],[40,7,41,7],[40,8,41,8],[44,11,45,11],[1,3,2,3],[42,10,43,10],[42,11,43,11],[40,11,41,11],[36,11,37,11],[34,10,35,10],[34,11,35,11],[32,11,33,11],[28,11,29,11],[26,10,27,10],[26,11,27,11],[38,9,39,9],[38,10,39,10],[44,5,45,5],[44,6,45,6],[44,7,45,7],[44,8,45,8],[44,9,45,9],[44,10,45,10],[40,9,41,9],[36,10,37,10],[32,9,33,9],[32,10,33,10],[34,2,35,2],[34,5,35,5],[34,6,35,6],[34,7,35,7],[34,8,35,8],[34,9,35,9],[32,2,33,2],[36,2,37,2],[36,5,37,5],[36,6,37,6],[36,7,37,7],[36,8,37,8],[36,9,37,9],[32,6,33,6],[32,7,33,7],[32,8,33,8],[24,12,24,15],[26,2,27,2],[26,5,27,5],[26,6,27,6],[26,7,27,7],[26,8,27,8],[26,9,27,9],[24,1,25,2],[24,4,25,4],[24,3,25,3],[28,2,29,2],[28,5,29,5],[28,6,29,6],[28,7,29,7],[28,8,29,8],[28,9,29,9],[28,10,29,10],[24,5,25,11],[30,2,31,2],[30,5,31,5],[30,11,31,11],[30,10,31,10],[30,7,31,7],[30,8,31,8],[30,9,31,9],[21,6,22,6],[21,7,22,7],[21,8,22,8],[21,9,22,9],[21,10,22,10],[21,11,22,11],[19,5,20,5],[19,6,20,6],[19,7,20,7],[19,8,20,8],[19,9,20,9],[19,10,20,10],[19,11,20,11],[21,5,22,5],[17,5,18,5],[17,6,18,6],[17,7,18,7],[17,8,18,8],[17,9,18,9],[17,10,18,10],[17,11,18,11],[15,5,16,5],[15,6,16,6],[15,7,16,7],[15,8,16,8],[15,9,16,9],[13,8,14,8],[13,9,14,9],[13,10,14,10],[13,11,14,11],[13,5,14,5],[13,6,14,6],[13,7,14,7],[15,10,16,10],[15,11,16,11],[7,11,8,11],[9,8,10,8],[9,9,10,9],[9,10,10,10],[9,11,10,11],[9,5,10,5],[9,6,10,6],[9,7,10,7],[11,5,12,5],[11,6,12,6],[11,7,12,7],[11,8,12,8],[11,9,12,9],[11,10,12,10],[11,11,12,11],[3,8,4,8],[3,9,4,9],[3,10,4,10],[7,5,8,5],[7,6,8,6],[7,7,8,7],[7,8,8,8],[7,9,8,9],[7,10,8,10],[3,11,4,11],[1,5,2,11],[5,11,6,11],[19,2,20,2],[21,2,22,2],[3,5,4,5],[3,6,4,6],[3,7,4,7],[3,2,4,2],[5,2,6,2],[7,2,8,2],[9,2,10,2],[11,2,12,2],[13,2,14,2],[15,2,16,2],[17,2,18,2],[1,4,2,4],[1,1,2,2],[5,5,6,5],[5,6,6,6],[5,7,6,7],[5,8,6,8],[5,9,6,9],[5,10,6,10]]}
[null,"リレーエントリーシート",null,null,null,null,null,null,null,null,null,null,null,"参加チーム数",{"$f":"27-COUNTIF(E4:E55,\"\")","v":0}]
[null,null,null,"種別","チーム名","タイム",null,null,null,null,null,null,"選手No.（上段にNo.を入力。下段に氏名が自動表示されます）"]
[null,null,null,null,null,null,null,null,null,null,null,null,"選手１","選手２","選手３","選手４","選手５","選手６","選手７","選手８",null,null,null,null,"DB","ZK","KC","N1","N2","TM","KM","LN","S1","S2","S3","S4","S5","S6","S7","S8"]
[null,"５・６・中学男子",1,"小学",{"$f":"IF(M4=\"\",\"\",CONCATENATE(個人種目登録!$D$4,リレー登録!U4))","v":""},0,"分",0,0,"秒",null,null,null,null,null,null,null,null,null,null," A",null,null,"小学",{"$f":"IF(E4=\"\",\"\",個人種目登録!$AN$7&リレー登録!C4)","v":""},{"$f":"IF(Y4=\"\",\"\",Y4)","v":""},{"$f":"IF(Y4=\"\",\"\",個人種目登録!$AN$6)","v":""},{"$f":"IF(D4=\"\",\"\",E4)","v":""},null,{"$f":"IF(Y4=\"\",\"\",F4&H4&I4&K4&L4)","v":""},null,null,{"$f":"IF(M4=\"\",\"\",VLOOKUP(M4,個人種目登録!$AM$9:$AP$208,4,FALSE))","v":""},{"$f":"IF(N4=\"\",\"\",VLOOKUP(N4,個人種目登録!$AM$9:$AP$208,4,FALSE))","v":""},{"$f":"IF(O4=\"\",\"\",VLOOKUP(O4,個人種目登録!$AM$9:$AP$208,4,FALSE))","v":""},{"$f":"IF(P4=\"\",\"\",VLOOKUP(P4,個人種目登録!$AM$9:$AP$208,4,FALSE))","v":""},{"$f":"IF(Q4=\"\",\"\",VLOOKUP(Q4,個人種目登録!$AM$9:$AP$208,4,FALSE))","v":""},{"$f":"IF(R4=\"\",\"\",VLOOKUP(R4,個人種目登録!$AM$9:$AP$208,4,FALSE))","v":""},{"$f":"IF(S4=\"\",\"\",VLOOKUP(S4,個人種目登録!$AM$9:$AP$208,4,FALSE))","v":""},{"$f":"IF(T4=\"\",\"\",VLOOKUP(T4,個人種目登録!$AM$9:$AP$208,4,FALSE))","v":""}]
[null,null,null,"×","×",null,null,null,null,null,null,null,{"$f":"IF(M4=\"\",\"\",VLOOKUP(M4,個人種目登録!$AM:$AR,6,FALSE))","v":""},{"$f":"IF(N4=\"\",\"\",VLOOKUP(N4,個人種目登録!$AM:$AR,6,FALSE))","v":""},{"$f":"IF(O4=\"\",\"\",VLOOKUP(O4,個人種目登録!$AM:$AR,6,FALSE))","v":""},{"$f":"IF(P4=\"\",\"\",VLOOKUP(P4,個人種目登録!$AM:$AR,6,FALSE))","v":""},{"$f":"IF(Q4=\"\",\"\",VLOOKUP(Q4,個人種目登録!$AM:$AR,6,FALSE))","v":""},{"$f":"IF(R4=\"\",\"\",VLOOKUP(R4,個人種目登録!$AM:$AR,6,FALSE))","v":""},{"$f":"IF(S4=\"\",\"\",VLOOKUP(S4,個人種目登録!$AM:$AR,6,FALSE))","v":""},{"$f":"IF(T4=\"\",\"\",VLOOKUP(T4,個人種目登録!$AM:$AR,6,FALSE))","v":""},null,{"$f":"IF(E5=\"\",\"\",IF(D5=\"中学男子\",E5&\"(中)\",E5))","v":"×"},null,"中学",{"$f":"IF(E4=\"\",\"\",個人種目登録!$AN$7&リレー登録!C5)","v":""},{"$f":"IF(Y5=\"\",\"\",Y5)","v":""},{"$f":"IF(Y5=\"\",\"\",個人種目登録!$AN$6)","v":""},{"$f":"IF(D5=\"\",\"\",E5)","v":"×"},null,{"$f":"IF(Y5=\"\",\"\",F5&H5&I5&K5&L5)","v":""},null,null,{"$f":"IF(M5=\"\",\"\",VLOOKUP(M5,個人種目登録!$AM$9:$AP$208,4,FALSE))","v":""},{"$f":"IF(N5=\"\",\"\",VLOOKUP(N5,個人種目登録!$AM$9:$AP$208,4,FALSE))","v":""},{"$f":"IF(O5=\"\",\"\",VLOOKUP(O5,個人種目登録!$AM$9:$AP$208,4,FALSE))","v":""},{"$f":"IF(P5=\"\",\"\",VLOOKUP(P5,個人種目登録!$AM$9:$AP$208,4,FALSE))","v":""},{"$f":"IF(Q5=\"\",\"\",VLOOKUP(Q5,個人種目登録!$AM$9:$AP$208,4,FALSE))","v":""},{"$f":"IF(R5=\"\",\"\",VLOOKUP(R5,個人種目登録!$AM$9:$AP$208,4,FALSE))","v":""},{"$f":"IF(S5=\"\",\"\",VLOOKUP(S5,個人種目登録!$AM$9:$AP$208,4,FALSE))","v":""},{"$f":"IF(T5=\"\",\"\",VLOOKUP(T5,個人種目登録!$AM$9:$AP$208,4,FALSE))","v":""}]
[null,null,2,"小学",{"$f":"IF(M6=\"\",\"\",CONCATENATE(個人種目登録!$D$4,リレー登録!U6))","v":""},0,"分",0,0,"秒",null,null,null,null,null,null,null,null,null,null," B","",null,null,{"$f":"IF(E6=\"\",\"\",個人種目登録!$AN$7&リレー登録!C6)","v":""},"",{"$f":"IF(Y6=\"\",\"\",個人種目登録!$AN$6)","v":""},"",null,"",null,null,{"$f":"IF(M6=\"\",\"\",VLOOKUP(M6,個人種目登録!$AM$9:$AP$208,4,FALSE))","v":""},{"$f":"IF(N6=\"\",\"\",VLOOKUP(N6,個人種目登録!$AM$9:$AP$208,4,FALSE))","v":""},{"$f":"IF(O6=\"\",\"\",VLOOKUP(O6,個人種目登録!$AM$9:$AP$208,4,FALSE))","v":""},{"$f":"IF(P6=\"\",\"\",VLOOKUP(P6,個人種目登録!$AM$9:$AP$208,4,FALSE))","v":""},{"$f":"IF(Q6=\"\",\"\",VLOOKUP(Q6,個人種目登録!$AM$9:$AP$208,4,FALSE))","v":""},{"$f":"IF(R6=\"\",\"\",VLOOKUP(R6,個人種目登録!$AM$9:$AP$208,4,FALSE))","v":""},{"$f":"IF(S6=\"\",\"\",VLOOKUP(S6,個人種目登録!$AM$9:$AP$208,4,FALSE))","v":""},{"$f":"IF(T6=\"\",\"\",VLOOKUP(T6,個人種目登録!$AM$9:$AP$208,4,FALSE))","v":""}]
[null,null,null,"×","×",null,null,null,null,null,null,null,{"$f":"IF(M6=\"\",\"\",VLOOKUP(M6,個人種目登録!$AM:$AR,6,FALSE))","v":""},{"$f":"IF(N6=\"\",\"\",VLOOKUP(N6,個人種目登録!$AM:$AR,6,FALSE))","v":""},{"$f":"IF(O6=\"\",\"\",VLOOKUP(O6,個人種目登録!$AM:$AR,6,FALSE))","v":""},{"$f":"IF(P6=\"\",\"\",VLOOKUP(P6,個人種目登録!$AM:$AR,6,FALSE))","v":""},{"$f":"IF(Q6=\"\",\"\",VLOOKUP(Q6,個人種目登録!$AM:$AR,6,FALSE))","v":""},{"$f":"IF(R6=\"\",\"\",VLOOKUP(R6,個人種目登録!$AM:$AR,6,FALSE))","v":""},{"$f":"IF(S6=\"\",\"\",VLOOKUP(S6,個人種目登録!$AM:$AR,6,FALSE))","v":""},{"$f":"IF(T6=\"\",\"\",VLOOKUP(T6,個人種目登録!$AM:$AR,6,FALSE))","v":""},null,"×",null,null,{"$f":"IF(E6=\"\",\"\",個人種目登録!$AN$7&リレー登録!C7)","v":""},"",{"$f":"IF(Y7=\"\",\"\",個人種目登録!$AN$6)","v":""},"×",null,"",null,null,{"$f":"IF(M7=\"\",\"\",VLOOKUP(M7,個人種目登録!$AM$9:$AP$208,4,FALSE))","v":""},{"$f":"IF(N7=\"\",\"\",VLOOKUP(N7,個人種目登録!$AM$9:$AP$208,4,FALSE))","v":""},{"$f":"IF(O7=\"\",\"\",VLOOKUP(O7,個人種目登録!$AM$9:$AP$208,4,FALSE))","v":""},{"$f":"IF(P7=\"\",\"\",VLOOKUP(P7,個人種目登録!$AM$9:$AP$208,4,FALSE))","v":""},{"$f":"IF(Q7=\"\",\"\",VLOOKUP(Q7,個人種目登録!$AM$9:$AP$208,4,FALSE))","v":""},{"$f":"IF(R7=\"\",\"\",VLOOKUP(R7,個人種目登録!$AM$9:$AP$208,4,FALSE))","v":""},{"$f":"IF(S7=\"\",\"\",VLOOKUP(S7,個人種目登録!$AM$9:$AP$208,4,FALSE))","v":""},{"$f":"IF(T7=\"\",\"\",VLOOKUP(T7,個人種目登録!$AM$9:$AP$208,4,FALSE))","v":""}]
[null,null,3,"小学",{"$f":"IF(M8=\"\",\"\",CONCATENATE(個人種目登録!$D$4,リレー登録!U8))","v":""},0,"分",0,0,"秒",null,null,null,null,null,null,null,null,null,null," C","",null,null,{"$f":"IF(E8=\"\",\"\",個人種目登録!$AN$7&リレー登録!C8)","v":""},"",{"$f":"IF(Y8=\"\",\"\",個人種目登録!$AN$6)","v":""},"",null,"",null,null,{"$f":"IF(M8=\"\",\"\",VLOOKUP(M8,個人種目登録!$AM$9:$AP$208,4,FALSE))","v":""},{"$f":"IF(N8=\"\",\"\",VLOOKUP(N8,個人種目登録!$AM$9:$AP$208,4,FALSE))","v":""},{"$f":"IF(O8=\"\",\"\",VLOOKUP(O8,個人種目登録!$AM$9:$AP$208,4,FALSE))","v":""},{"$f":"IF(P8=\"\",\"\",VLOOKUP(P8,個人種目登録!$AM$9:$AP$208,4,FALSE))","v":""},{"$f":"IF(Q8=\"\",\"\",VLOOKUP(Q8,個人種目登録!$AM$9:$AP$208,4,FALSE))","v":""},{"$f":"IF(R8=\"\",\"\",VLOOKUP(R8,個人種目登録!$AM$9:$AP$208,4,FALSE))","v":""},{"$f":"IF(S8=\"\",\"\",VLOOKUP(S8,個人種目登録!$AM$9:$AP$208,4,FALSE))","v":""},{"$f":"IF(T8=\"\",\"\",VLOOKUP(T8,個人種目登録!$AM$9:$AP$208,4,FALSE))","v":""}]
[null,null,null,"×","×",null,null,null,null,null,null,null,{"$f":"IF(M8=\"\",\"\",VLOOKUP(M8,個人種目登録!$AM:$AR,6,FALSE))","v":""},{"$f":"IF(N8=\"\",\"\",VLOOKUP(N8,個人種目登録!$AM:$AR,6,FALSE))","v":""},{"$f":"IF(O8=\"\",\"\",VLOOKUP(O8,個人種目登録!$AM:$AR,6,FALSE))","v":""},{"$f":"IF(P8=\"\",\"\",VLOOKUP(P8,個人種目登録!$AM:$AR,6,FALSE))","v":""},{"$f":"IF(Q8=\"\",\"\",VLOOKUP(Q8,個人種目登録!$AM:$AR,6,FALSE))","v":""},{"$f":"IF(R8=\"\",\"\",VLOOKUP(R8,個人種目登録!$AM:$AR,6,FALSE))","v":""},{"$f":"IF(S8=\"\",\"\",VLOOKUP(S8,個人種目登録!$AM:$AR,6,FALSE))","v":""},{"$f":"IF(T8=\"\",\"\",VLOOKUP(T8,個人種目登録!$AM:$AR,6,FALSE))","v":""},null,"×",null,null,{"$f":"IF(E8=\"\",\"\",個人種目登録!$AN$7&リレー登録!C9)","v":""},"",{"$f":"IF(Y9=\"\",\"\",個人種目登録!$AN$6)","v":""},"×",null,"",null,null,{"$f":"IF(M9=\"\",\"\",VLOOKUP(M9,個人種目登録!$AM$9:$AP$208,4,FALSE))","v":""},{"$f":"IF(N9=\"\",\"\",VLOOKUP(N9,個人種目登録!$AM$9:$AP$208,4,FALSE))","v":""},{"$f":"IF(O9=\"\",\"\",VLOOKUP(O9,個人種目登録!$AM$9:$AP$208,4,FALSE))","v":""},{"$f":"IF(P9=\"\",\"\",VLOOKUP(P9,個人種目登録!$AM$9:$AP$208,4,FALSE))","v":""},{"$f":"IF(Q9=\"\",\"\",VLOOKUP(Q9,個人種目登録!$AM$9:$AP$208,4,FALSE))","v":""},{"$f":"IF(R9=\"\",\"\",VLOOKUP(R9,個人種目登録!$AM$9:$AP$208,4,FALSE))","v":""},{"$f":"IF(S9=\"\",\"\",VLOOKUP(S9,個人種目登録!$AM$9:$AP$208,4,FALSE))","v":""},{"$f":"IF(T9=\"\",\"\",VLOOKUP(T9,個人種目登録!$AM$9:$AP$208,4,FALSE))","v":""}]
[null,null,4,"小学",{"$f":"IF(M10=\"\",\"\",CONCATENATE(個人種目登録!$D$4,リレー登録!U10))","v":""},0,"分",0,0,"秒",null,null,null,null,null,null,null,null,null,null," D","",null,null,{"$f":"IF(E10=\"\",\"\",個人種目登録!$AN$7&リレー登録!C10)","v":""},"",{"$f":"IF(Y10=\"\",\"\",個人種目登録!$AN$6)","v":""},"",null,"",null,null,{"$f":"IF(M10=\"\",\"\",VLOOKUP(M10,個人種目登録!$AM$9:$AP$208,4,FALSE))","v":""},{"$f":"IF(N10=\"\",\"\",VLOOKUP(N10,個人種目登録!$AM$9:$AP$208,4,FALSE))","v":""},{"$f":"IF(O10=\"\",\"\",VLOOKUP(O10,個人種目登録!$AM$9:$AP$208,4,FALSE))","v":""},{"$f":"IF(P10=\"\",\"\",VLOOKUP(P10,個人種目登録!$AM$9:$AP$208,4,FALSE))","v":""},{"$f":"IF(Q10=\"\",\"\",VLOOKUP(Q10,個人種目登録!$AM$9:$AP$208,4,FALSE))","v":""},{"$f":"IF(R10=\"\",\"\",VLOOKUP(R10,個人種目登録!$AM$9:$AP$208,4,FALSE))","v":""},{"$f":"IF(S10=\"\",\"\",VLOOKUP(S10,個人種目登録!$AM$9:$AP$208,4,FALSE))","v":""},{"$f":"IF(T10=\"\",\"\",VLOOKUP(T10,個人種目登録!$AM$9:$AP$208,4,FALSE))","v":""}]
[null,null,null,"×","×",null,null,null,null,null,null,null,{"$f":"IF(M10=\"\",\"\",VLOOKUP(M10,個人種目登録!$AM:$AR,6,FALSE))","v":""},{"$f":"IF(N10=\"\",\"\",VLOOKUP(N10,個人種目登録!$AM:$AR,6,FALSE))","v":""},{"$f":"IF(O10=\"\",\"\",VLOOKUP(O10,個人種目登録!$AM:$AR,6,FALSE))","v":""},{"$f":"IF(P10=\"\",\"\",VLOOKUP(P10,個人種目登録!$AM:$AR,6,FALSE))","v":""},{"$f":"IF(Q10=\"\",\"\",VLOOKUP(Q10,個人種目登録!$AM:$AR,6,FALSE))","v":""},{"$f":"IF(R10=\"\",\"\",VLOOKUP(R10,個人種目登録!$AM:$AR,6,FALSE))","v":""},{"$f":"IF(S10=\"\",\"\",VLOOKUP(S10,個人種目登録!$AM:$AR,6,FALSE))","v":""},{"$f":"IF(T10=\"\",\"\",VLOOKUP(T10,個人種目登録!$AM:$AR,6,FALSE))","v":""},null,"×",null,null,{"$f":"IF(E10=\"\",\"\",個人種目登録!$AN$7&リレー登録!C11)","v":""},"",{"$f":"IF(Y11=\"\",\"\",個人種目登録!$AN$6)","v":""},"×",null,"",null,null,{"$f":"IF(M11=\"\",\"\",VLOOKUP(M11,個人種目登録!$AM$9:$AP$208,4,FALSE))","v":""},{"$f":"IF(N11=\"\",\"\",VLOOKUP(N11,個人種目登録!$AM$9:$AP$208,4,FALSE))","v":""},{"$f":"IF(O11=\"\",\"\",VLOOKUP(O11,個人種目登録!$AM$9:$AP$208,4,FALSE))","v":""},{"$f":"IF(P11=\"\",\"\",VLOOKUP(P11,個人種目登録!$AM$9:$AP$208,4,FALSE))","v":""},{"$f":"IF(Q11=\"\",\"\",VLOOKUP(Q11,個人種目登録!$AM$9:$AP$208,4,FALSE))","v":""},{"$f":"IF(R11=\"\",\"\",VLOOKUP(R11,個人種目登録!$AM$9:$AP$208,4,FALSE))","v":""},{"$f":"IF(S11=\"\",\"\",VLOOKUP(S11,個人種目登録!$AM$9:$AP$208,4,FALSE))","v":""},{"$f":"IF(T11=\"\",\"\",VLOOKUP(T11,個人種目登録!$AM$9:$AP$208,4,FALSE))","v":""}]
[null,null,5,"中学",{"$f":"IF(M12=\"\",\"\",CONCATENATE(個人種目登録!$D$4,リレー登録!U12))","v":""},0,"分",0,0,"秒",null,null,null,null,null,null,null,null,null,null," E","",null,null,{"$f":"IF(E12=\"\",\"\",個人種目登録!$AN$7&リレー登録!C12)","v":""},"",{"$f":"IF(Y12=\"\",\"\",個人種目登録!$AN$6)","v":""},"",null,"",null,null,{"$f":"IF(M12=\"\",\"\",VLOOKUP(M12,個人種目登録!$AM$9:$AP$208,4,FALSE))","v":""},{"$f":"IF(N12=\"\",\"\",VLOOKUP(N12,個人種目登録!$AM$9:$AP$208,4,FALSE))","v":""},{"$f":"IF(O12=\"\",\"\",VLOOKUP(O12,個人種目登録!$AM$9:$AP$208,4,FALSE))","v":""},{"$f":"IF(P12=\"\",\"\",VLOOKUP(P12,個人種目登録!$AM$9:$AP$208,4,FALSE))","v":""},{"$f":"IF(Q12=\"\",\"\",VLOOKUP(Q12,個人種目登録!$AM$9:$AP$208,4,FALSE))","v":""},{"$f":"IF(R12=\"\",\"\",VLOOKUP(R12,個人種目登録!$AM$9:$AP$208,4,FALSE))","v":""},{"$f":"IF(S12=\"\",\"\",VLOOKUP(S12,個人種目登録!$AM$9:$AP$208,4,FALSE))","v":""},{"$f":"IF(T12=\"\",\"\",VLOOKUP(T12,個人種目登録!$AM$9:$AP$208,4,FALSE))","v":""}]
[null,null,null,"×","×",null,null,null,null,null,null,null,{"$f":"IF(M12=\"\",\"\",VLOOKUP(M12,個人種目登録!$AM:$AR,6,FALSE))","v":""},{"$f":"IF(N12=\"\",\"\",VLOOKUP(N12,個人種目登録!$AM:$AR,6,FALSE))","v":""},{"$f":"IF(O12=\"\",\"\",VLOOKUP(O12,個人種目登録!$AM:$AR,6,FALSE))","v":""},{"$f":"IF(P12=\"\",\"\",VLOOKUP(P12,個人種目登録!$AM:$AR,6,FALSE))","v":""},{"$f":"IF(Q12=\"\",\"\",VLOOKUP(Q12,個人種目登録!$AM:$AR,6,FALSE))","v":""},{"$f":"IF(R12=\"\",\"\",VLOOKUP(R12,個人種目登録!$AM:$AR,6,FALSE))","v":""},{"$f":"IF(S12=\"\",\"\",VLOOKUP(S12,個人種目登録!$AM:$AR,6,FALSE))","v":""},{"$f":"IF(T12=\"\",\"\",VLOOKUP(T12,個人種目登録!$AM:$AR,6,FALSE))","v":""},null,"×",null,null,{"$f":"IF(E12=\"\",\"\",個人種目登録!$AN$7&リレー登録!C13)","v":""},"",{"$f":"IF(Y13=\"\",\"\",個人種目登録!$AN$6)","v":""},"×",null,"",null,null,{"$f":"IF(M13=\"\",\"\",VLOOKUP(M13,個人種目登録!$AM$9:$AP$208,4,FALSE))","v":""},{"$f":"IF(N13=\"\",\"\",VLOOKUP(N13,個人種目登録!$AM$9:$AP$208,4,FALSE))","v":""},{"$f":"IF(O13=\"\",\"\",VLOOKUP(O13,個人種目登録!$AM$9:$AP$208,4,FALSE))","v":""},{"$f":"IF(P13=\"\",\"\",VLOOKUP(P13,個人種目登録!$AM$9:$AP$208,4,FALSE))","v":""},{"$f":"IF(Q13=\"\",\"\",VLOOKUP(Q13,個人種目登録!$AM$9:$AP$208,4,FALSE))","v":""},{"$f":"IF(R13=\"\",\"\",VLOOKUP(R13,個人種目登録!$AM$9:$AP$208,4,FALSE))","v":""},{"$f":"IF(S13=\"\",\"\",VLOOKUP(S13,個人種目登録!$AM$9:$AP$208,4,FALSE))","v":""},{"$f":"IF(T13=\"\",\"\",VLOOKUP(T13,個人種目登録!$AM$9:$AP$208,4,FALSE))","v":""}]
[null,"中学年男子",1,"小学",{"$f":"IF(M14=\"\",\"\",CONCATENATE(個人種目登録!$D$4,リレー登録!U14))","v":""},0,"分",0,0,"秒",null,null,null,null,null,null,null,null,null,null," A","",null,null,{"$f":"IF(E14=\"\",\"\",個人種目登録!$AN$7&リレー登録!C14)","v":""},"",{"$f":"IF(Y14=\"\",\"\",個人種目登録!$AN$6)","v":""},"",null,"",null,null,{"$f":"IF(M14=\"\",\"\",VLOOKUP(M14,個人種目登録!$AM$9:$AP$208,4,FALSE))","v":""},{"$f":"IF(N14=\"\",\"\",VLOOKUP(N14,個人種目登録!$AM$9:$AP$208,4,FALSE))","v":""},{"$f":"IF(O14=\"\",\"\",VLOOKUP(O14,個人種目登録!$AM$9:$AP$208,4,FALSE))","v":""},{"$f":"IF(P14=\"\",\"\",VLOOKUP(P14,個人種目登録!$AM$9:$AP$208,4,FALSE))","v":""},{"$f":"IF(Q14=\"\",\"\",VLOOKUP(Q14,個人種目登録!$AM$9:$AP$208,4,FALSE))","v":""},{"$f":"IF(R14=\"\",\"\",VLOOKUP(R14,個人種目登録!$AM$9:$AP$208,4,FALSE))","v":""},{"$f":"IF(S14=\"\",\"\",VLOOKUP(S14,個人種目登録!$AM$9:$AP$208,4,FALSE))","v":""},{"$f":"IF(T14=\"\",\"\",VLOOKUP(T14,個人種目登録!$AM$9:$AP$208,4,FALSE))","v":""}]
[null,null,null,"×","×",null,null,null,null,null,null,null,{"$f":"IF(M14=\"\",\"\",VLOOKUP(M14,個人種目登録!$AM:$AR,6,FALSE))","v":""},{"$f":"IF(N14=\"\",\"\",VLOOKUP(N14,個人種目登録!$AM:$AR,6,FALSE))","v":""},{"$f":"IF(O14=\"\",\"\",VLOOKUP(O14,個人種目登録!$AM:$AR,6,FALSE))","v":""},{"$f":"IF(P14=\"\",\"\",VLOOKUP(P14,個人種目登録!$AM:$AR,6,FALSE))","v":""},{"$f":"IF(Q14=\"\",\"\",VLOOKUP(Q14,個人種目登録!$AM:$AR,6,FALSE))","v":""},{"$f":"IF(R14=\"\",\"\",VLOOKUP(R14,個人種目登録!$AM:$AR,6,FALSE))","v":""},{"$f":"IF(S14=\"\",\"\",VLOOKUP(S14,個人種目登録!$AM:$AR,6,FALSE))","v":""},{"$f":"IF(T14=\"\",\"\",VLOOKUP(T14,個人種目登録!$AM:$AR,6,FALSE))","v":""},null,"×",null,null,{"$f":"IF(E14=\"\",\"\",個人種目登録!$AN$7&リレー登録!C15)","v":""},"",{"$f":"IF(Y15=\"\",\"\",個人種目登録!$AN$6)","v":""},"×",null,"",null,null,{"$f":"IF(M15=\"\",\"\",VLOOKUP(M15,個人種目登録!$AM$9:$AP$208,4,FALSE))","v":""},{"$f":"IF(N15=\"\",\"\",VLOOKUP(N15,個人種目登録!$AM$9:$AP$208,4,FALSE))","v":""},{"$f":"IF(O15=\"\",\"\",VLOOKUP(O15,個人種目登録!$AM$9:$AP$208,4,FALSE))","v":""},{"$f":"IF(P15=\"\",\"\",VLOOKUP(P15,個人種目登録!$AM$9:$AP$208,4,FALSE))","v":""},{"$f":"IF(Q15=\"\",\"\",VLOOKUP(Q15,個人種目登録!$AM$9:$AP$208,4,FALSE))","v":""},{"$f":"IF(R15=\"\",\"\",VLOOKUP(R15,個人種目登録!$AM$9:$AP$208,4,FALSE))","v":""},{"$f":"IF(S15=\"\",\"\",VLOOKUP(S15,個人種目登録!$AM$9:$AP$208,4,FALSE))","v":""},{"$f":"IF(T15=\"\",\"\",VLOOKUP(T15,個人種目登録!$AM$9:$AP$208,4,FALSE))","v":""}]
[null,null,2,"小学",{"$f":"IF(M16=\"\",\"\",CONCATENATE(個人種目登録!$D$4,リレー登録!U16))","v":""},0,"分",0,0,"秒",null,null,null,null,null,null,null,null,null,null," B","",null,null,{"$f":"IF(E16=\"\",\"\",個人種目登録!$AN$7&リレー登録!C16)","v":""},"",{"$f":"IF(Y16=\"\",\"\",個人種目登録!$AN$6)","v":""},"",null,"",null,null,{"$f":"IF(M16=\"\",\"\",VLOOKUP(M16,個人種目登録!$AM$9:$AP$208,4,FALSE))","v":""},{"$f":"IF(N16=\"\",\"\",VLOOKUP(N16,個人種目登録!$AM$9:$AP$208,4,FALSE))","v":""},{"$f":"IF(O16=\"\",\"\",VLOOKUP(O16,個人種目登録!$AM$9:$AP$208,4,FALSE))","v":""},{"$f":"IF(P16=\"\",\"\",VLOOKUP(P16,個人種目登録!$AM$9:$AP$208,4,FALSE))","v":""},{"$f":"IF(Q16=\"\",\"\",VLOOKUP(Q16,個人種目登録!$AM$9:$AP$208,4,FALSE))","v":""},{"$f":"IF(R16=\"\",\"\",VLOOKUP(R16,個人種目登録!$AM$9:$AP$208,4,FALSE))","v":""},{"$f":"IF(S16=\"\",\"\",VLOOKUP(S16,個人種目登録!$AM$9:$AP$208,4,FALSE))","v":""},{"$f":"IF(T16=\"\",\"\",VLOOKUP(T16,個人種目登録!$AM$9:$AP$208,4,FALSE))","v":""}]
[null,null,null,"×","×",null,null,null,null,null,null,null,{"$f":"IF(M16=\"\",\"\",VLOOKUP(M16,個人種目登録!$AM:$AR,6,FALSE))","v":""},{"$f":"IF(N16=\"\",\"\",VLOOKUP(N16,個人種目登録!$AM:$AR,6,FALSE))","v":""},{"$f":"IF(O16=\"\",\"\",VLOOKUP(O16,個人種目登録!$AM:$AR,6,FALSE))","v":""},{"$f":"IF(P16=\"\",\"\",VLOOKUP(P16,個人種目登録!$AM:$AR,6,FALSE))","v":""},{"$f":"IF(Q16=\"\",\"\",VLOOKUP(Q16,個人種目登録!$AM:$AR,6,FALSE))","v":""},{"$f":"IF(R16=\"\",\"\",VLOOKUP(R16,個人種目登録!$AM:$AR,6,FALSE))","v":""},{"$f":"IF(S16=\"\",\"\",VLOOKUP(S16,個人種目登録!$AM:$AR,6,FALSE))","v":""},{"$f":"IF(T16=\"\",\"\",VLOOKUP(T16,個人種目登録!$AM:$AR,6,FALSE))","v":""},null,"×",null,null,{"$f":"IF(E16=\"\",\"\",個人種目登録!$AN$7&リレー登録!C17)","v":""},"",{"$f":"IF(Y17=\"\",\"\",個人種目登録!$AN$6)","v":""},"×",null,"",null,null,{"$f":"IF(M17=\"\",\"\",VLOOKUP(M17,個人種目登録!$AM$9:$AP$208,4,FALSE))","v":""},{"$f":"IF(N17=\"\",\"\",VLOOKUP(N17,個人種目登録!$AM$9:$AP$208,4,FALSE))","v":""},{"$f":"IF(O17=\"\",\"\",VLOOKUP(O17,個人種目登録!$AM$9:$AP$208,4,FALSE))","v":""},{"$f":"IF(P17=\"\",\"\",VLOOKUP(P17,個人種目登録!$AM$9:$AP$208,4,FALSE))","v":""},{"$f":"IF(Q17=\"\",\"\",VLOOKUP(Q17,個人種目登録!$AM$9:$AP$208,4,FALSE))","v":""},{"$f":"IF(R17=\"\",\"\",VLOOKUP(R17,個人種目登録!$AM$9:$AP$208,4,FALSE))","v":""},{"$f":"IF(S17=\"\",\"\",VLOOKUP(S17,個人種目登録!$AM$9:$AP$208,4,FALSE))","v":""},{"$f":"IF(T17=\"\",\"\",VLOOKUP(T17,個人種目登録!$AM$9:$AP$208,4,FALSE))","v":""}]
[null,null,3,"小学",{"$f":"IF(M18=\"\",\"\",CONCATENATE(個人種目登録!$D$4,リレー登録!U18))","v":""},0,"分",0,0,"秒",null,null,null,null,null,null,null,null,null,null," C","",null,null,{"$f":"IF(E18=\"\",\"\",個人種目登録!$AN$7&リレー登録!C18)","v":""},"",{"$f":"IF(Y18=\"\",\"\",個人種目登録!$AN$6)","v":""},"",null,"",null,null,{"$f":"IF(M18=\"\",\"\",VLOOKUP(M18,個人種目登録!$AM$9:$AP$208,4,FALSE))","v":""},{"$f":"IF(N18=\"\",\"\",VLOOKUP(N18,個人種目登録!$AM$9:$AP$208,4,FALSE))","v":""},{"$f":"IF(O18=\"\",\"\",VLOOKUP(O18,個人種目登録!$AM$9:$AP$208,4,FALSE))","v":""},{"$f":"IF(P18=\"\",\"\",VLOOKUP(P18,個人種目登録!$AM$9:$AP$208,4,FALSE))","v":""},{"$f":"IF(Q18=\"\",\"\",VLOOKUP(Q18,個人種目登録!$AM$9:$AP$208,4,FALSE))","v":""},{"$f":"IF(R18=\"\",\"\",VLOOKUP(R18,個人種目登録!$AM$9:$AP$208,4,FALSE))","v":""},{"$f":"IF(S18=\"\",\"\",VLOOKUP(S18,個人種目登録!$AM$9:$AP$208,4,FALSE))","v":""},{"$f":"IF(T18=\"\",\"\",VLOOKUP(T18,個人種目登録!$AM$9:$AP$208,4,FALSE))","v":""}]
[null,null,null,"×","×",null,null,null,null,null,null,null,{"$f":"IF(M18=\"\",\"\",VLOOKUP(M18,個人種目登録!$AM:$AR,6,FALSE))","v":""},{"$f":"IF(N18=\"\",\"\",VLOOKUP(N18,個人種目登録!$AM:$AR,6,FALSE))","v":""},{"$f":"IF(O18=\"\",\"\",VLOOKUP(O18,個人種目登録!$AM:$AR,6,FALSE))","v":""},{"$f":"IF(P18=\"\",\"\",VLOOKUP(P18,個人種目登録!$AM:$AR,6,FALSE))","v":""},{"$f":"IF(Q18=\"\",\"\",VLOOKUP(Q18,個人種目登録!$AM:$AR,6,FALSE))","v":""},{"$f":"IF(R18=\"\",\"\",VLOOKUP(R18,個人種目登録!$AM:$AR,6,FALSE))","v":""},{"$f":"IF(S18=\"\",\"\",VLOOKUP(S18,個人種目登録!$AM:$AR,6,FALSE))","v":""},{"$f":"IF(T18=\"\",\"\",VLOOKUP(T18,個人種目登録!$AM:$AR,6,FALSE))","v":""},null,"×",null,null,{"$f":"IF(E18=\"\",\"\",個人種目登録!$AN$7&リレー登録!C19)","v":""},"",{"$f":"IF(Y19=\"\",\"\",個人種目登録!$AN$6)","v":""},"×",null,"",null,null,{"$f":"IF(M19=\"\",\"\",VLOOKUP(M19,個人種目登録!$AM$9:$AP$208,4,FALSE))","v":""},{"$f":"IF(N19=\"\",\"\",VLOOKUP(N19,個人種目登録!$AM$9:$AP$208,4,FALSE))","v":""},{"$f":"IF(O19=\"\",\"\",VLOOKUP(O19,個人種目登録!$AM$9:$AP$208,4,FALSE))","v":""},{"$f":"IF(P19=\"\",\"\",VLOOKUP(P19,個人種目登録!$AM$9:$AP$208,4,FALSE))","v":""},{"$f":"IF(Q19=\"\",\"\",VLOOKUP(Q19,個人種目登録!$AM$9:$AP$208,4,FALSE))","v":""},{"$f":"IF(R19=\"\",\"\",VLOOKUP(R19,個人種目登録!$AM$9:$AP$208,4,FALSE))","v":""},{"$f":"IF(S19=\"\",\"\",VLOOKUP(S19,個人種目登録!$AM$9:$AP$208,4,FALSE))","v":""},{"$f":"IF(T19=\"\",\"\",VLOOKUP(T19,個人種目登録!$AM$9:$AP$208,4,FALSE))","v":""}]
[null,null,4,"小学",{"$f":"IF(M20=\"\",\"\",CONCATENATE(個人種目登録!$D$4,リレー登録!U20))","v":""},0,"分",0,0,"秒",null,null,null,null,null,null,null,null,null,null," D","",null,null,{"$f":"IF(E20=\"\",\"\",個人種目登録!$AN$7&リレー登録!C20)","v":""},"",{"$f":"IF(Y20=\"\",\"\",個人種目登録!$AN$6)","v":""},"",null,"",null,null,{"$f":"IF(M20=\"\",\"\",VLOOKUP(M20,個人種目登録!$AM$9:$AP$208,4,FALSE))","v":""},{"$f":"IF(N20=\"\",\"\",VLOOKUP(N20,個人種目登録!$AM$9:$AP$208,4,FALSE))","v":""},{"$f":"IF(O20=\"\",\"\",VLOOKUP(O20,個人種目登録!$AM$9:$AP$208,4,FALSE))","v":""},{"$f":"IF(P20=\"\",\"\",VLOOKUP(P20,個人種目登録!$AM$9:$AP$208,4,FALSE))","v":""},{"$f":"IF(Q20=\"\",\"\",VLOOKUP(Q20,個人種目登録!$AM$9:$AP$208,4,FALSE))","v":""},{"$f":"IF(R20=\"\",\"\",VLOOKUP(R20,個人種目登録!$AM$9:$AP$208,4,FALSE))","v":""},{"$f":"IF(S20=\"\",\"\",VLOOKUP(S20,個人種目登録!$AM$9:$AP$208,4,FALSE))","v":""},{"$f":"IF(T20=\"\",\"\",VLOOKUP(T20,個人種目登録!$AM$9:$AP$208,4,FALSE))","v":""}]
[null,null,null,"×","×",null,null,null,null,null,null,null,{"$f":"IF(M20=\"\",\"\",VLOOKUP(M20,個人種目登録!$AM:$AR,6,FALSE))","v":""},{"$f":"IF(N20=\"\",\"\",VLOOKUP(N20,個人種目登録!$AM:$AR,6,FALSE))","v":""},{"$f":"IF(O20=\"\",\"\",VLOOKUP(O20,個人種目登録!$AM:$AR,6,FALSE))","v":""},{"$f":"IF(P20=\"\",\"\",VLOOKUP(P20,個人種目登録!$AM:$AR,6,FALSE))","v":""},{"$f":"IF(Q20=\"\",\"\",VLOOKUP(Q20,個人種目登録!$AM:$AR,6,FALSE))","v":""},{"$f":"IF(R20=\"\",\"\",VLOOKUP(R20,個人種目登録!$AM:$AR,6,FALSE))","v":""},{"$f":"IF(S20=\"\",\"\",VLOOKUP(S20,個人種目登録!$AM:$AR,6,FALSE))","v":""},{"$f":"IF(T20=\"\",\"\",VLOOKUP(T20,個人種目登録!$AM:$AR,6,FALSE))","v":""},null,"×",null,null,{"$f":"IF(E20=\"\",\"\",個人種目登録!$AN$7&リレー登録!C21)","v":""},"",{"$f":"IF(Y21=\"\",\"\",個人種目登録!$AN$6)","v":""},"×",null,"",null,null,{"$f":"IF(M21=\"\",\"\",VLOOKUP(M21,個人種目登録!$AM$9:$AP$208,4,FALSE))","v":""},{"$f":"IF(N21=\"\",\"\",VLOOKUP(N21,個人種目登録!$AM$9:$AP$208,4,FALSE))","v":""},{"$f":"IF(O21=\"\",\"\",VLOOKUP(O21,個人種目登録!$AM$9:$AP$208,4,FALSE))","v":""},{"$f":"IF(P21=\"\",\"\",VLOOKUP(P21,個人種目登録!$AM$9:$AP$208,4,FALSE))","v":""},{"$f":"IF(Q21=\"\",\"\",VLOOKUP(Q21,個人種目登録!$AM$9:$AP$208,4,FALSE))","v":""},{"$f":"IF(R21=\"\",\"\",VLOOKUP(R21,個人種目登録!$AM$9:$AP$208,4,FALSE))","v":""},{"$f":"IF(S21=\"\",\"\",VLOOKUP(S21,個人種目登録!$AM$9:$AP$208,4,FALSE))","v":""},{"$f":"IF(T21=\"\",\"\",VLOOKUP(T21,個人種目登録!$AM$9:$AP$208,4,FALSE))","v":""}]
[null,null,5,"小学",{"$f":"IF(M22=\"\",\"\",CONCATENATE(個人種目登録!$D$4,リレー登録!U22))","v":""},0,"分",0,0,"秒",null,null,null,null,null,null,null,null,null,null," E","",null,null,{"$f":"IF(E22=\"\",\"\",個人種目登録!$AN$7&リレー登録!C22)","v":""},"",{"$f":"IF(Y22=\"\",\"\",個人種目登録!$AN$6)","v":""},"",null,"",null,null,{"$f":"IF(M22=\"\",\"\",VLOOKUP(M22,個人種目登録!$AM$9:$AP$208,4,FALSE))","v":""},{"$f":"IF(N22=\"\",\"\",VLOOKUP(N22,個人種目登録!$AM$9:$AP$208,4,FALSE))","v":""},{"$f":"IF(O22=\"\",\"\",VLOOKUP(O22,個人種目登録!$AM$9:$AP$208,4,FALSE))","v":""},{"$f":"IF(P22=\"\",\"\",VLOOKUP(P22,個人種目登録!$AM$9:$AP$208,4,FALSE))","v":""},{"$f":"IF(Q22=\"\",\"\",VLOOKUP(Q22,個人種目登録!$AM$9:$AP$208,4,FALSE))","v":""},{"$f":"IF(R22=\"\",\"\",VLOOKUP(R22,個人種目登録!$AM$9:$AP$208,4,FALSE))","v":""},{"$f":"IF(S22=\"\",\"\",VLOOKUP(S22,個人種目登録!$AM$9:$AP$208,4,FALSE))","v":""},{"$f":"IF(T22=\"\",\"\",VLOOKUP(T22,個人種目登録!$AM$9:$AP$208,4,FALSE))","v":""}]
[null,null,null,"×","×",null,null,null,null,null,null,null,{"$f":"IF(M22=\"\",\"\",VLOOKUP(M22,個人種目登録!$AM:$AR,6,FALSE))","v":""},{"$f":"IF(N22=\"\",\"\",VLOOKUP(N22,個人種目登録!$AM:$AR,6,FALSE))","v":""},{"$f":"IF(O22=\"\",\"\",VLOOKUP(O22,個人種目登録!$AM:$AR,6,FALSE))","v":""},{"$f":"IF(P22=\"\",\"\",VLOOKUP(P22,個人種目登録!$AM:$AR,6,FALSE))","v":""},{"$f":"IF(Q22=\"\",\"\",VLOOKUP(Q22,個人種目登録!$AM:$AR,6,FALSE))","v":""},{"$f":"IF(R22=\"\",\"\",VLOOKUP(R22,個人種目登録!$AM:$AR,6,FALSE))","v":""},{"$f":"IF(S22=\"\",\"\",VLOOKUP(S22,個人種目登録!$AM:$AR,6,FALSE))","v":""},{"$f":"IF(T22=\"\",\"\",VLOOKUP(T22,個人種目登録!$AM:$AR,6,FALSE))","v":""},null,"×",null,null,{"$f":"IF(E22=\"\",\"\",個人種目登録!$AN$7&リレー登録!C23)","v":""},"",{"$f":"IF(Y23=\"\",\"\",個人種目登録!$AN$6)","v":""},"×",null,"",null,null,{"$f":"IF(M23=\"\",\"\",VLOOKUP(M23,個人種目登録!$AM$9:$AP$208,4,FALSE))","v":""},{"$f":"IF(N23=\"\",\"\",VLOOKUP(N23,個人種目登録!$AM$9:$AP$208,4,FALSE))","v":""},{"$f":"IF(O23=\"\",\"\",VLOOKUP(O23,個人種目登録!$AM$9:$AP$208,4,FALSE))","v":""},{"$f":"IF(P23=\"\",\"\",VLOOKUP(P23,個人種目登録!$AM$9:$AP$208,4,FALSE))","v":""},{"$f":"IF(Q23=\"\",\"\",VLOOKUP(Q23,個人種目登録!$AM$9:$AP$208,4,FALSE))","v":""},{"$f":"IF(R23=\"\",\"\",VLOOKUP(R23,個人種目登録!$AM$9:$AP$208,4,FALSE))","v":""},{"$f":"IF(S23=\"\",\"\",VLOOKUP(S23,個人種目登録!$AM$9:$AP$208,4,FALSE))","v":""},{"$f":"IF(T23=\"\",\"\",VLOOKUP(T23,個人種目登録!$AM$9:$AP$208,4,FALSE))","v":""}]
[null,null,null,null,null,null,null,null,null,null,null,null,null,null,null,null,null,null,null,null,null,null,null,null,null,null,null,null,null,null,null,null,{"$f":"IF(M24=\"\",\"\",VLOOKUP(M24,個人種目登録!$AM$9:$AP$208,4,FALSE))","v":""},{"$f":"IF(N24=\"\",\"\",VLOOKUP(N24,個人種目登録!$AM$9:$AP$208,4,FALSE))","v":""},{"$f":"IF(O24=\"\",\"\",VLOOKUP(O24,個人種目登録!$AM$9:$AP$208,4,FALSE))","v":""},{"$f":"IF(P24=\"\",\"\",VLOOKUP(P24,個人種目登録!$AM$9:$AP$208,4,FALSE))","v":""},{"$f":"IF(Q24=\"\",\"\",VLOOKUP(Q24,個人種目登録!$AM$9:$AP$208,4,FALSE))","v":""},{"$f":"IF(R24=\"\",\"\",VLOOKUP(R24,個人種目登録!$AM$9:$AP$208,4,FALSE))","v":""},{"$f":"IF(S24=\"\",\"\",VLOOKUP(S24,個人種目登録!$AM$9:$AP$208,4,FALSE))","v":""},{"$f":"IF(T24=\"\",\"\",VLOOKUP(T24,個人種目登録!$AM$9:$AP$208,4,FALSE))","v":""}]
[null,null,null,"種別","チーム名","タイム",null,null,null,null,null,null,"選手No.（上段にNo.を入力。下段に氏名が自動表示されます）",null,null,null,"選手No.（上段にNo.を入力。下段に氏名が自動表示されます）"]
[null,null,null,null,null,null,null,null,null,null,null,null,"選手１","選手２","選手３","選手４","選手５","選手６","選手７","選手８"]
[null,"５・６・中学女子",1,"小学",{"$f":"IF(M27=\"\",\"\",CONCATENATE(個人種目登録!$D$4,リレー登録!U27))","v":""},0,"分",0,0,"秒",null,null,null,null,null,null,null,null,null,null," A",{"$f":"(20-COUNTIF(D27:D46,\"\"))/2","v":10},null,null,{"$f":"IF(E27=\"\",\"\",個人種目登録!$AN$7&リレー登録!C27)","v":""},{"$f":"IF(Y27=\"\",\"\",Y27)","v":""},{"$f":"IF(Y27=\"\",\"\",個人種目登録!$AN$6)","v":""},{"$f":"IF(D27=\"\",\"\",E27)","v":""},null,{"$f":"IF(Y27=\"\",\"\",F27&H27&I27&K27&L27)","v":""},null,null,{"$f":"IF(M27=\"\",\"\",VLOOKUP(M27,個人種目登録!$AM$9:$AP$208,4,FALSE))","v":""},{"$f":"IF(N27=\"\",\"\",VLOOKUP(N27,個人種目登録!$AM$9:$AP$208,4,FALSE))","v":""},{"$f":"IF(O27=\"\",\"\",VLOOKUP(O27,個人種目登録!$AM$9:$AP$208,4,FALSE))","v":""},{"$f":"IF(P27=\"\",\"\",VLOOKUP(P27,個人種目登録!$AM$9:$AP$208,4,FALSE))","v":""},{"$f":"IF(Q27=\"\",\"\",VLOOKUP(Q27,個人種目登録!$AM$9:$AP$208,4,FALSE))","v":""},{"$f":"IF(R27=\"\",\"\",VLOOKUP(R27,個人種目登録!$AM$9:$AP$208,4,FALSE))","v":""},{"$f":"IF(S27=\"\",\"\",VLOOKUP(S27,個人種目登録!$AM$9:$AP$208,4,FALSE))","v":""},{"$f":"IF(T27=\"\",\"\",VLOOKUP(T27,個人種目登録!$AM$9:$AP$208,4,FALSE))","v":""}]
[null,null,null,"×","×",null,null,null,null,null,null,null,{"$f":"IF(M27=\"\",\"\",VLOOKUP(M27,個人種目登録!$AM:$AR,6,FALSE))","v":""},{"$f":"IF(N27=\"\",\"\",VLOOKUP(N27,個人種目登録!$AM:$AR,6,FALSE))","v":""},{"$f":"IF(O27=\"\",\"\",VLOOKUP(O27,個人種目登録!$AM:$AR,6,FALSE))","v":""},{"$f":"IF(P27=\"\",\"\",VLOOKUP(P27,個人種目登録!$AM:$AR,6,FALSE))","v":""},{"$f":"IF(Q27=\"\",\"\",VLOOKUP(Q27,個人種目登録!$AM:$AR,6,FALSE))","v":""},{"$f":"IF(R27=\"\",\"\",VLOOKUP(R27,個人種目登録!$AM:$AR,6,FALSE))","v":""},{"$f":"IF(S27=\"\",\"\",VLOOKUP(S27,個人種目登録!$AM:$AR,6,FALSE))","v":""},{"$f":"IF(T27=\"\",\"\",VLOOKUP(T27,個人種目登録!$AM:$AR,6,FALSE))","v":""},null,{"$f":"IF(E28=\"\",\"\",IF(D28=\"中学女子\",E28&\"(中)\",E28))","v":"×"},null,null,{"$f":"IF(E27=\"\",\"\",個人種目登録!$AN$7&リレー登録!C28)","v":""},"",{"$f":"IF(Y28=\"\",\"\",個人種目登録!$AN$6)","v":""},"×",null,"",null,null,{"$f":"IF(M28=\"\",\"\",VLOOKUP(M28,個人種目登録!$AM$9:$AP$208,4,FALSE))","v":""},{"$f":"IF(N28=\"\",\"\",VLOOKUP(N28,個人種目登録!$AM$9:$AP$208,4,FALSE))","v":""},{"$f":"IF(O28=\"\",\"\",VLOOKUP(O28,個人種目登録!$AM$9:$AP$208,4,FALSE))","v":""},{"$f":"IF(P28=\"\",\"\",VLOOKUP(P28,個人種目登録!$AM$9:$AP$208,4,FALSE))","v":""},{"$f":"IF(Q28=\"\",\"\",VLOOKUP(Q28,個人種目登録!$AM$9:$AP$208,4,FALSE))","v":""},{"$f":"IF(R28=\"\",\"\",VLOOKUP(R28,個人種目登録!$AM$9:$AP$208,4,FALSE))","v":""},{"$f":"IF(S28=\"\",\"\",VLOOKUP(S28,個人種目登録!$AM$9:$AP$208,4,FALSE))","v":""},{"$f":"IF(T28=\"\",\"\",VLOOKUP(T28,個人種目登録!$AM$9:$AP$208,4,FALSE))","v":""}]
[null,null,2,"小学",{"$f":"IF(M29=\"\",\"\",CONCATENATE(個人種目登録!$D$4,リレー登録!U29))","v":""},0,"分",0,0,"秒",null,null,null,null,null,null,null,null,null,null," B","",null,null,{"$f":"IF(E29=\"\",\"\",個人種目登録!$AN$7&リレー登録!C29)","v":""},"",{"$f":"IF(Y29=\"\",\"\",個人種目登録!$AN$6)","v":""},"",null,"",null,null,{"$f":"IF(M29=\"\",\"\",VLOOKUP(M29,個人種目登録!$AM$9:$AP$208,4,FALSE))","v":""},{"$f":"IF(N29=\"\",\"\",VLOOKUP(N29,個人種目登録!$AM$9:$AP$208,4,FALSE))","v":""},{"$f":"IF(O29=\"\",\"\",VLOOKUP(O29,個人種目登録!$AM$9:$AP$208,4,FALSE))","v":""},{"$f":"IF(P29=\"\",\"\",VLOOKUP(P29,個人種目登録!$AM$9:$AP$208,4,FALSE))","v":""},{"$f":"IF(Q29=\"\",\"\",VLOOKUP(Q29,個人種目登録!$AM$9:$AP$208,4,FALSE))","v":""},{"$f":"IF(R29=\"\",\"\",VLOOKUP(R29,個人種目登録!$AM$9:$AP$208,4,FALSE))","v":""},{"$f":"IF(S29=\"\",\"\",VLOOKUP(S29,個人種目登録!$AM$9:$AP$208,4,FALSE))","v":""},{"$f":"IF(T29=\"\",\"\",VLOOKUP(T29,個人種目登録!$AM$9:$AP$208,4,FALSE))","v":""}]
[null,null,null,"×","×",null,null,null,null,null,null,null,{"$f":"IF(M29=\"\",\"\",VLOOKUP(M29,個人種目登録!$AM:$AR,6,FALSE))","v":""},{"$f":"IF(N29=\"\",\"\",VLOOKUP(N29,個人種目登録!$AM:$AR,6,FALSE))","v":""},{"$f":"IF(O29=\"\",\"\",VLOOKUP(O29,個人種目登録!$AM:$AR,6,FALSE))","v":""},{"$f":"IF(P29=\"\",\"\",VLOOKUP(P29,個人種目登録!$AM:$AR,6,FALSE))","v":""},{"$f":"IF(Q29=\"\",\"\",VLOOKUP(Q29,個人種目登録!$AM:$AR,6,FALSE))","v":""},{"$f":"IF(R29=\"\",\"\",VLOOKUP(R29,個人種目登録!$AM:$AR,6,FALSE))","v":""},{"$f":"IF(S29=\"\",\"\",VLOOKUP(S29,個人種目登録!$AM:$AR,6,FALSE))","v":""},{"$f":"IF(T29=\"\",\"\",VLOOKUP(T29,個人種目登録!$AM:$AR,6,FALSE))","v":""},null,"×",null,null,{"$f":"IF(E29=\"\",\"\",個人種目登録!$AN$7&リレー登録!C30)","v":""},"",{"$f":"IF(Y30=\"\",\"\",個人種目登録!$AN$6)","v":""},"×",null,"",null,null,{"$f":"IF(M30=\"\",\"\",VLOOKUP(M30,個人種目登録!$AM$9:$AP$208,4,FALSE))","v":""},{"$f":"IF(N30=\"\",\"\",VLOOKUP(N30,個人種目登録!$AM$9:$AP$208,4,FALSE))","v":""},{"$f":"IF(O30=\"\",\"\",VLOOKUP(O30,個人種目登録!$AM$9:$AP$208,4,FALSE))","v":""},{"$f":"IF(P30=\"\",\"\",VLOOKUP(P30,個人種目登録!$AM$9:$AP$208,4,FALSE))","v":""},{"$f":"IF(Q30=\"\",\"\",VLOOKUP(Q30,個人種目登録!$AM$9:$AP$208,4,FALSE))","v":""},{"$f":"IF(R30=\"\",\"\",VLOOKUP(R30,個人種目登録!$AM$9:$AP$208,4,FALSE))","v":""},{"$f":"IF(S30=\"\",\"\",VLOOKUP(S30,個人種目登録!$AM$9:$AP$208,4,FALSE))","v":""},{"$f":"IF(T30=\"\",\"\",VLOOKUP(T30,個人種目登録!$AM$9:$AP$208,4,FALSE))","v":""}]
[null,null,3,"小学",{"$f":"IF(M31=\"\",\"\",CONCATENATE(個人種目登録!$D$4,リレー登録!U31))","v":""},0,"分",0,0,"秒",null,null,null,null,null,null,null,null,null,null," C","",null,null,{"$f":"IF(E31=\"\",\"\",個人種目登録!$AN$7&リレー登録!C31)","v":""},"",{"$f":"IF(Y31=\"\",\"\",個人種目登録!$AN$6)","v":""},"",null,"",null,null,{"$f":"IF(M31=\"\",\"\",VLOOKUP(M31,個人種目登録!$AM$9:$AP$208,4,FALSE))","v":""},{"$f":"IF(N31=\"\",\"\",VLOOKUP(N31,個人種目登録!$AM$9:$AP$208,4,FALSE))","v":""},{"$f":"IF(O31=\"\",\"\",VLOOKUP(O31,個人種目登録!$AM$9:$AP$208,4,FALSE))","v":""},{"$f":"IF(P31=\"\",\"\",VLOOKUP(P31,個人種目登録!$AM$9:$AP$208,4,FALSE))","v":""},{"$f":"IF(Q31=\"\",\"\",VLOOKUP(Q31,個人種目登録!$AM$9:$AP$208,4,FALSE))","v":""},{"$f":"IF(R31=\"\",\"\",VLOOKUP(R31,個人種目登録!$AM$9:$AP$208,4,FALSE))","v":""},{"$f":"IF(S31=\"\",\"\",VLOOKUP(S31,個人種目登録!$AM$9:$AP$208,4,FALSE))","v":""},{"$f":"IF(T31=\"\",\"\",VLOOKUP(T31,個人種目登録!$AM$9:$AP$208,4,FALSE))","v":""}]
[null,null,null,"×","×",null,null,null,null,null,null,null,{"$f":"IF(M31=\"\",\"\",VLOOKUP(M31,個人種目登録!$AM:$AR,6,FALSE))","v":""},{"$f":"IF(N31=\"\",\"\",VLOOKUP(N31,個人種目登録!$AM:$AR,6,FALSE))","v":""},{"$f":"IF(O31=\"\",\"\",VLOOKUP(O31,個人種目登録!$AM:$AR,6,FALSE))","v":""},{"$f":"IF(P31=\"\",\"\",VLOOKUP(P31,個人種目登録!$AM:$AR,6,FALSE))","v":""},{"$f":"IF(Q31=\"\",\"\",VLOOKUP(Q31,個人種目登録!$AM:$AR,6,FALSE))","v":""},{"$f":"IF(R31=\"\",\"\",VLOOKUP(R31,個人種目登録!$AM:$AR,6,FALSE))","v":""},{"$f":"IF(S31=\"\",\"\",VLOOKUP(S31,個人種目登録!$AM:$AR,6,FALSE))","v":""},{"$f":"IF(T31=\"\",\"\",VLOOKUP(T31,個人種目登録!$AM:$AR,6,FALSE))","v":""},null,"×",null,null,{"$f":"IF(E31=\"\",\"\",個人種目登録!$AN$7&リレー登録!C32)","v":""},"",{"$f":"IF(Y32=\"\",\"\",個人種目登録!$AN$6)","v":""},"×",null,"",null,null,{"$f":"IF(M32=\"\",\"\",VLOOKUP(M32,個人種目登録!$AM$9:$AP$208,4,FALSE))","v":""},{"$f":"IF(N32=\"\",\"\",VLOOKUP(N32,個人種目登録!$AM$9:$AP$208,4,FALSE))","v":""},{"$f":"IF(O32=\"\",\"\",VLOOKUP(O32,個人種目登録!$AM$9:$AP$208,4,FALSE))","v":""},{"$f":"IF(P32=\"\",\"\",VLOOKUP(P32,個人種目登録!$AM$9:$AP$208,4,FALSE))","v":""},{"$f":"IF(Q32=\"\",\"\",VLOOKUP(Q32,個人種目登録!$AM$9:$AP$208,4,FALSE))","v":""},{"$f":"IF(R32=\"\",\"\",VLOOKUP(R32,個人種目登録!$AM$9:$AP$208,4,FALSE))","v":""},{"$f":"IF(S32=\"\",\"\",VLOOKUP(S32,個人種目登録!$AM$9:$AP$208,4,FALSE))","v":""},{"$f":"IF(T32=\"\",\"\",VLOOKUP(T32,個人種目登録!$AM$9:$AP$208,4,FALSE))","v":""}]
[null,null,4,"小学",{"$f":"IF(M33=\"\",\"\",CONCATENATE(個人種目登録!$D$4,リレー登録!U33))","v":""},0,"分",0,0,"秒",null,null,null,null,null,null,null,null,null,null," D","",null,null,{"$f":"IF(E33=\"\",\"\",個人種目登録!$AN$7&リレー登録!C33)","v":""},"",{"$f":"IF(Y33=\"\",\"\",個人種目登録!$AN$6)","v":""},"",null,"",null,null,{"$f":"IF(M33=\"\",\"\",VLOOKUP(M33,個人種目登録!$AM$9:$AP$208,4,FALSE))","v":""},{"$f":"IF(N33=\"\",\"\",VLOOKUP(N33,個人種目登録!$AM$9:$AP$208,4,FALSE))","v":""},{"$f":"IF(O33=\"\",\"\",VLOOKUP(O33,個人種目登録!$AM$9:$AP$208,4,FALSE))","v":""},{"$f":"IF(P33=\"\",\"\",VLOOKUP(P33,個人種目登録!$AM$9:$AP$208,4,FALSE))","v":""},{"$f":"IF(Q33=\"\",\"\",VLOOKUP(Q33,個人種目登録!$AM$9:$AP$208,4,FALSE))","v":""},{"$f":"IF(R33=\"\",\"\",VLOOKUP(R33,個人種目登録!$AM$9:$AP$208,4,FALSE))","v":""},{"$f":"IF(S33=\"\",\"\",VLOOKUP(S33,個人種目登録!$AM$9:$AP$208,4,FALSE))","v":""},{"$f":"IF(T33=\"\",\"\",VLOOKUP(T33,個人種目登録!$AM$9:$AP$208,4,FALSE))","v":""}]
[null,null,null,"×","×",null,null,null,null,null,null,null,{"$f":"IF(M33=\"\",\"\",VLOOKUP(M33,個人種目登録!$AM:$AR,6,FALSE))","v":""},{"$f":"IF(N33=\"\",\"\",VLOOKUP(N33,個人種目登録!$AM:$AR,6,FALSE))","v":""},{"$f":"IF(O33=\"\",\"\",VLOOKUP(O33,個人種目登録!$AM:$AR,6,FALSE))","v":""},{"$f":"IF(P33=\"\",\"\",VLOOKUP(P33,個人種目登録!$AM:$AR,6,FALSE))","v":""},{"$f":"IF(Q33=\"\",\"\",VLOOKUP(Q33,個人種目登録!$AM:$AR,6,FALSE))","v":""},{"$f":"IF(R33=\"\",\"\",VLOOKUP(R33,個人種目登録!$AM:$AR,6,FALSE))","v":""},{"$f":"IF(S33=\"\",\"\",VLOOKUP(S33,個人種目登録!$AM:$AR,6,FALSE))","v":""},{"$f":"IF(T33=\"\",\"\",VLOOKUP(T33,個人種目登録!$AM:$AR,6,FALSE))","v":""},null,"×",null,null,{"$f":"IF(E33=\"\",\"\",個人種目登録!$AN$7&リレー登録!C34)","v":""},"",{"$f":"IF(Y34=\"\",\"\",個人種目登録!$AN$6)","v":""},"×",null,"",null,null,{"$f":"IF(M34=\"\",\"\",VLOOKUP(M34,個人種目登録!$AM$9:$AP$208,4,FALSE))","v":""},{"$f":"IF(N34=\"\",\"\",VLOOKUP(N34,個人種目登録!$AM$9:$AP$208,4,FALSE))","v":""},{"$f":"IF(O34=\"\",\"\",VLOOKUP(O34,個人種目登録!$AM$9:$AP$208,4,FALSE))","v":""},{"$f":"IF(P34=\"\",\"\",VLOOKUP(P34,個人種目登録!$AM$9:$AP$208,4,FALSE))","v":""},{"$f":"IF(Q34=\"\",\"\",VLOOKUP(Q34,個人種目登録!$AM$9:$AP$208,4,FALSE))","v":""},{"$f":"IF(R34=\"\",\"\",VLOOKUP(R34,個人種目登録!$AM$9:$AP$208,4,FALSE))","v":""},{"$f":"IF(S34=\"\",\"\",VLOOKUP(S34,個人種目登録!$AM$9:$AP$208,4,FALSE))","v":""},{"$f":"IF(T34=\"\",\"\",VLOOKUP(T34,個人種目登録!$AM$9:$AP$208,4,FALSE))","v":""}]
[null,null,5,"中学",{"$f":"IF(M35=\"\",\"\",CONCATENATE(個人種目登録!$D$4,リレー登録!U35))","v":""},0,"分",0,0,"秒",null,null,null,null,null,null,null,null,null,null," E","",null,null,{"$f":"IF(E35=\"\",\"\",個人種目登録!$AN$7&リレー登録!C35)","v":""},"",{"$f":"IF(Y35=\"\",\"\",個人種目登録!$AN$6)","v":""},"",null,"",null,null,{"$f":"IF(M35=\"\",\"\",VLOOKUP(M35,個人種目登録!$AM$9:$AP$208,4,FALSE))","v":""},{"$f":"IF(N35=\"\",\"\",VLOOKUP(N35,個人種目登録!$AM$9:$AP$208,4,FALSE))","v":""},{"$f":"IF(O35=\"\",\"\",VLOOKUP(O35,個人種目登録!$AM$9:$AP$208,4,FALSE))","v":""},{"$f":"IF(P35=\"\",\"\",VLOOKUP(P35,個人種目登録!$AM$9:$AP$208,4,FALSE))","v":""},{"$f":"IF(Q35=\"\",\"\",VLOOKUP(Q35,個人種目登録!$AM$9:$AP$208,4,FALSE))","v":""},{"$f":"IF(R35=\"\",\"\",VLOOKUP(R35,個人種目登録!$AM$9:$AP$208,4,FALSE))","v":""},{"$f":"IF(S35=\"\",\"\",VLOOKUP(S35,個人種目登録!$AM$9:$AP$208,4,FALSE))","v":""},{"$f":"IF(T35=\"\",\"\",VLOOKUP(T35,個人種目登録!$AM$9:$AP$208,4,FALSE))","v":""}]
[null,null,null,"×","×",null,null,null,null,null,null,null,{"$f":"IF(M35=\"\",\"\",VLOOKUP(M35,個人種目登録!$AM:$AR,6,FALSE))","v":""},{"$f":"IF(N35=\"\",\"\",VLOOKUP(N35,個人種目登録!$AM:$AR,6,FALSE))","v":""},{"$f":"IF(O35=\"\",\"\",VLOOKUP(O35,個人種目登録!$AM:$AR,6,FALSE))","v":""},{"$f":"IF(P35=\"\",\"\",VLOOKUP(P35,個人種目登録!$AM:$AR,6,FALSE))","v":""},{"$f":"IF(Q35=\"\",\"\",VLOOKUP(Q35,個人種目登録!$AM:$AR,6,FALSE))","v":""},{"$f":"IF(R35=\"\",\"\",VLOOKUP(R35,個人種目登録!$AM:$AR,6,FALSE))","v":""},{"$f":"IF(S35=\"\",\"\",VLOOKUP(S35,個人種目登録!$AM:$AR,6,FALSE))","v":""},{"$f":"IF(T35=\"\",\"\",VLOOKUP(T35,個人種目登録!$AM:$AR,6,FALSE))","v":""},null,"×",null,null,{"$f":"IF(E35=\"\",\"\",個人種目登録!$AN$7&リレー登録!C36)","v":""},"",{"$f":"IF(Y36=\"\",\"\",個人種目登録!$AN$6)","v":""},"×",null,"",null,null,{"$f":"IF(M36=\"\",\"\",VLOOKUP(M36,個人種目登録!$AM$9:$AP$208,4,FALSE))","v":""},{"$f":"IF(N36=\"\",\"\",VLOOKUP(N36,個人種目登録!$AM$9:$AP$208,4,FALSE))","v":""},{"$f":"IF(O36=\"\",\"\",VLOOKUP(O36,個人種目登録!$AM$9:$AP$208,4,FALSE))","v":""},{"$f":"IF(P36=\"\",\"\",VLOOKUP(P36,個人種目登録!$AM$9:$AP$208,4,FALSE))","v":""},{"$f":"IF(Q36=\"\",\"\",VLOOKUP(Q36,個人種目登録!$AM$9:$AP$208,4,FALSE))","v":""},{"$f":"IF(R36=\"\",\"\",VLOOKUP(R36,個人種目登録!$AM$9:$AP$208,4,FALSE))","v":""},{"$f":"IF(S36=\"\",\"\",VLOOKUP(S36,個人種目登録!$AM$9:$AP$208,4,FALSE))","v":""},{"$f":"IF(T36=\"\",\"\",VLOOKUP(T36,個人種目登録!$AM$9:$AP$208,4,FALSE))","v":""}]
[null,"中学年女子",1,"小学",{"$f":"IF(M37=\"\",\"\",CONCATENATE(個人種目登録!$D$4,リレー登録!U37))","v":""},0,"分",0,0,"秒",null,null,null,null,null,null,null,null,null,null," A","",null,null,{"$f":"IF(E37=\"\",\"\",個人種目登録!$AN$7&リレー登録!C37)","v":""},"",{"$f":"IF(Y37=\"\",\"\",個人種目登録!$AN$6)","v":""},"",null,"",null,null,{"$f":"IF(M37=\"\",\"\",VLOOKUP(M37,個人種目登録!$AM$9:$AP$208,4,FALSE))","v":""},{"$f":"IF(N37=\"\",\"\",VLOOKUP(N37,個人種目登録!$AM$9:$AP$208,4,FALSE))","v":""},{"$f":"IF(O37=\"\",\"\",VLOOKUP(O37,個人種目登録!$AM$9:$AP$208,4,FALSE))","v":""},{"$f":"IF(P37=\"\",\"\",VLOOKUP(P37,個人種目登録!$AM$9:$AP$208,4,FALSE))","v":""},{"$f":"IF(Q37=\"\",\"\",VLOOKUP(Q37,個人種目登録!$AM$9:$AP$208,4,FALSE))","v":""},{"$f":"IF(R37=\"\",\"\",VLOOKUP(R37,個人種目登録!$AM$9:$AP$208,4,FALSE))","v":""},{"$f":"IF(S37=\"\",\"\",VLOOKUP(S37,個人種目登録!$AM$9:$AP$208,4,FALSE))","v":""},{"$f":"IF(T37=\"\",\"\",VLOOKUP(T37,個人種目登録!$AM$9:$AP$208,4,FALSE))","v":""}]
[null,null,null,"×","×",null,null,null,null,null,null,null,{"$f":"IF(M37=\"\",\"\",VLOOKUP(M37,個人種目登録!$AM:$AR,6,FALSE))","v":""},{"$f":"IF(N37=\"\",\"\",VLOOKUP(N37,個人種目登録!$AM:$AR,6,FALSE))","v":""},{"$f":"IF(O37=\"\",\"\",VLOOKUP(O37,個人種目登録!$AM:$AR,6,FALSE))","v":""},{"$f":"IF(P37=\"\",\"\",VLOOKUP(P37,個人種目登録!$AM:$AR,6,FALSE))","v":""},{"$f":"IF(Q37=\"\",\"\",VLOOKUP(Q37,個人種目登録!$AM:$AR,6,FALSE))","v":""},{"$f":"IF(R37=\"\",\"\",VLOOKUP(R37,個人種目登録!$AM:$AR,6,FALSE))","v":""},{"$f":"IF(S37=\"\",\"\",VLOOKUP(S37,個人種目登録!$AM:$AR,6,FALSE))","v":""},{"$f":"IF(T37=\"\",\"\",VLOOKUP(T37,個人種目登録!$AM:$AR,6,FALSE))","v":""},null,"×",null,null,{"$f":"IF(E37=\"\",\"\",個人種目登録!$AN$7&リレー登録!C38)","v":""},"",{"$f":"IF(Y38=\"\",\"\",個人種目登録!$AN$6)","v":""},"×",null,"",null,null,{"$f":"IF(M38=\"\",\"\",VLOOKUP(M38,個人種目登録!$AM$9:$AP$208,4,FALSE))","v":""},{"$f":"IF(N38=\"\",\"\",VLOOKUP(N38,個人種目登録!$AM$9:$AP$208,4,FALSE))","v":""},{"$f":"IF(O38=\"\",\"\",VLOOKUP(O38,個人種目登録!$AM$9:$AP$208,4,FALSE))","v":""},{"$f":"IF(P38=\"\",\"\",VLOOKUP(P38,個人種目登録!$AM$9:$AP$208,4,FALSE))","v":""},{"$f":"IF(Q38=\"\",\"\",VLOOKUP(Q38,個人種目登録!$AM$9:$AP$208,4,FALSE))","v":""},{"$f":"IF(R38=\"\",\"\",VLOOKUP(R38,個人種目登録!$AM$9:$AP$208,4,FALSE))","v":""},{"$f":"IF(S38=\"\",\"\",VLOOKUP(S38,個人種目登録!$AM$9:$AP$208,4,FALSE))","v":""},{"$f":"IF(T38=\"\",\"\",VLOOKUP(T38,個人種目登録!$AM$9:$AP$208,4,FALSE))","v":""}]
[null,null,2,"小学",{"$f":"IF(M39=\"\",\"\",CONCATENATE(個人種目登録!$D$4,リレー登録!U39))","v":""},0,"分",0,0,"秒",null,null,null,null,null,null,null,null,null,null," B","",null,null,{"$f":"IF(E39=\"\",\"\",個人種目登録!$AN$7&リレー登録!C39)","v":""},"",{"$f":"IF(Y39=\"\",\"\",個人種目登録!$AN$6)","v":""},"",null,"",null,null,{"$f":"IF(M39=\"\",\"\",VLOOKUP(M39,個人種目登録!$AM$9:$AP$208,4,FALSE))","v":""},{"$f":"IF(N39=\"\",\"\",VLOOKUP(N39,個人種目登録!$AM$9:$AP$208,4,FALSE))","v":""},{"$f":"IF(O39=\"\",\"\",VLOOKUP(O39,個人種目登録!$AM$9:$AP$208,4,FALSE))","v":""},{"$f":"IF(P39=\"\",\"\",VLOOKUP(P39,個人種目登録!$AM$9:$AP$208,4,FALSE))","v":""},{"$f":"IF(Q39=\"\",\"\",VLOOKUP(Q39,個人種目登録!$AM$9:$AP$208,4,FALSE))","v":""},{"$f":"IF(R39=\"\",\"\",VLOOKUP(R39,個人種目登録!$AM$9:$AP$208,4,FALSE))","v":""},{"$f":"IF(S39=\"\",\"\",VLOOKUP(S39,個人種目登録!$AM$9:$AP$208,4,FALSE))","v":""},{"$f":"IF(T39=\"\",\"\",VLOOKUP(T39,個人種目登録!$AM$9:$AP$208,4,FALSE))","v":""}]
[null,null,null,"×","×",null,null,null,null,null,null,null,{"$f":"IF(M39=\"\",\"\",VLOOKUP(M39,個人種目登録!$AM:$AR,6,FALSE))","v":""},{"$f":"IF(N39=\"\",\"\",VLOOKUP(N39,個人種目登録!$AM:$AR,6,FALSE))","v":""},{"$f":"IF(O39=\"\",\"\",VLOOKUP(O39,個人種目登録!$AM:$AR,6,FALSE))","v":""},{"$f":"IF(P39=\"\",\"\",VLOOKUP(P39,個人種目登録!$AM:$AR,6,FALSE))","v":""},{"$f":"IF(Q39=\"\",\"\",VLOOKUP(Q39,個人種目登録!$AM:$AR,6,FALSE))","v":""},{"$f":"IF(R39=\"\",\"\",VLOOKUP(R39,個人種目登録!$AM:$AR,6,FALSE))","v":""},{"$f":"IF(S39=\"\",\"\",VLOOKUP(S39,個人種目登録!$AM:$AR,6,FALSE))","v":""},{"$f":"IF(T39=\"\",\"\",VLOOKUP(T39,個人種目登録!$AM:$AR,6,FALSE))","v":""},null,"×",null,null,{"$f":"IF(E39=\"\",\"\",個人種目登録!$AN$7&リレー登録!C40)","v":""},"",{"$f":"IF(Y40=\"\",\"\",個人種目登録!$AN$6)","v":""},"×",null,"",null,null,{"$f":"IF(M40=\"\",\"\",VLOOKUP(M40,個人種目登録!$AM$9:$AP$208,4,FALSE))","v":""},{"$f":"IF(N40=\"\",\"\",VLOOKUP(N40,個人種目登録!$AM$9:$AP$208,4,FALSE))","v":""},{"$f":"IF(O40=\"\",\"\",VLOOKUP(O40,個人種目登録!$AM$9:$AP$208,4,FALSE))","v":""},{"$f":"IF(P40=\"\",\"\",VLOOKUP(P40,個人種目登録!$AM$9:$AP$208,4,FALSE))","v":""},{"$f":"IF(Q40=\"\",\"\",VLOOKUP(Q40,個人種目登録!$AM$9:$AP$208,4,FALSE))","v":""},{"$f":"IF(R40=\"\",\"\",VLOOKUP(R40,個人種目登録!$AM$9:$AP$208,4,FALSE))","v":""},{"$f":"IF(S40=\"\",\"\",VLOOKUP(S40,個人種目登録!$AM$9:$AP$208,4,FALSE))","v":""},{"$f":"IF(T40=\"\",\"\",VLOOKUP(T40,個人種目登録!$AM$9:$AP$208,4,FALSE))","v":""}]
[null,null,3,"小学",{"$f":"IF(M41=\"\",\"\",CONCATENATE(個人種目登録!$D$4,リレー登録!U41))","v":""},0,"分",0,0,"秒",null,null,null,null,null,null,null,null,null,null," C","",null,null,{"$f":"IF(E41=\"\",\"\",個人種目登録!$AN$7&リレー登録!C41)","v":""},"",{"$f":"IF(Y41=\"\",\"\",個人種目登録!$AN$6)","v":""},"",null,"",null,null,{"$f":"IF(M41=\"\",\"\",VLOOKUP(M41,個人種目登録!$AM$9:$AP$208,4,FALSE))","v":""},{"$f":"IF(N41=\"\",\"\",VLOOKUP(N41,個人種目登録!$AM$9:$AP$208,4,FALSE))","v":""},{"$f":"IF(O41=\"\",\"\",VLOOKUP(O41,個人種目登録!$AM$9:$AP$208,4,FALSE))","v":""},{"$f":"IF(P41=\"\",\"\",VLOOKUP(P41,個人種目登録!$AM$9:$AP$208,4,FALSE))","v":""},{"$f":"IF(Q41=\"\",\"\",VLOOKUP(Q41,個人種目登録!$AM$9:$AP$208,4,FALSE))","v":""},{"$f":"IF(R41=\"\",\"\",VLOOKUP(R41,個人種目登録!$AM$9:$AP$208,4,FALSE))","v":""},{"$f":"IF(S41=\"\",\"\",VLOOKUP(S41,個人種目登録!$AM$9:$AP$208,4,FALSE))","v":""},{"$f":"IF(T41=\"\",\"\",VLOOKUP(T41,個人種目登録!$AM$9:$AP$208,4,FALSE))","v":""}]
[null,null,null,"×","×",null,null,null,null,null,null,null,{"$f":"IF(M41=\"\",\"\",VLOOKUP(M41,個人種目登録!$AM:$AR,6,FALSE))","v":""},{"$f":"IF(N41=\"\",\"\",VLOOKUP(N41,個人種目登録!$AM:$AR,6,FALSE))","v":""},{"$f":"IF(O41=\"\",\"\",VLOOKUP(O41,個人種目登録!$AM:$AR,6,FALSE))","v":""},{"$f":"IF(P41=\"\",\"\",VLOOKUP(P41,個人種目登録!$AM:$AR,6,FALSE))","v":""},{"$f":"IF(Q41=\"\",\"\",VLOOKUP(Q41,個人種目登録!$AM:$AR,6,FALSE))","v":""},{"$f":"IF(R41=\"\",\"\",VLOOKUP(R41,個人種目登録!$AM:$AR,6,FALSE))","v":""},{"$f":"IF(S41=\"\",\"\",VLOOKUP(S41,個人種目登録!$AM:$AR,6,FALSE))","v":""},{"$f":"IF(T41=\"\",\"\",VLOOKUP(T41,個人種目登録!$AM:$AR,6,FALSE))","v":""},null,"×",null,null,{"$f":"IF(E41=\"\",\"\",個人種目登録!$AN$7&リレー登録!C42)","v":""},"",{"$f":"IF(Y42=\"\",\"\",個人種目登録!$AN$6)","v":""},"×",null,"",null,null,{"$f":"IF(M42=\"\",\"\",VLOOKUP(M42,個人種目登録!$AM$9:$AP$208,4,FALSE))","v":""},{"$f":"IF(N42=\"\",\"\",VLOOKUP(N42,個人種目登録!$AM$9:$AP$208,4,FALSE))","v":""},{"$f":"IF(O42=\"\",\"\",VLOOKUP(O42,個人種目登録!$AM$9:$AP$208,4,FALSE))","v":""},{"$f":"IF(P42=\"\",\"\",VLOOKUP(P42,個人種目登録!$AM$9:$AP$208,4,FALSE))","v":""},{"$f":"IF(Q42=\"\",\"\",VLOOKUP(Q42,個人種目登録!$AM$9:$AP$208,4,FALSE))","v":""},{"$f":"IF(R42=\"\",\"\",VLOOKUP(R42,個人種目登録!$AM$9:$AP$208,4,FALSE))","v":""},{"$f":"IF(S42=\"\",\"\",VLOOKUP(S42,個人種目登録!$AM$9:$AP$208,4,FALSE))","v":""},{"$f":"IF(T42=\"\",\"\",VLOOKUP(T42,個人種目登録!$AM$9:$AP$208,4,FALSE))","v":""}]
[null,null,4,"小学",{"$f":"IF(M43=\"\",\"\",CONCATENATE(個人種目登録!$D$4,リレー登録!U43))","v":""},0,"分",0,0,"秒",null,null,null,null,null,null,null,null,null,null," D","",null,null,{"$f":"IF(E43=\"\",\"\",個人種目登録!$AN$7&リレー登録!C43)","v":""},"",{"$f":"IF(Y43=\"\",\"\",個人種目登録!$AN$6)","v":""},"",null,"",null,null,{"$f":"IF(M43=\"\",\"\",VLOOKUP(M43,個人種目登録!$AM$9:$AP$208,4,FALSE))","v":""},{"$f":"IF(N43=\"\",\"\",VLOOKUP(N43,個人種目登録!$AM$9:$AP$208,4,FALSE))","v":""},{"$f":"IF(O43=\"\",\"\",VLOOKUP(O43,個人種目登録!$AM$9:$AP$208,4,FALSE))","v":""},{"$f":"IF(P43=\"\",\"\",VLOOKUP(P43,個人種目登録!$AM$9:$AP$208,4,FALSE))","v":""},{"$f":"IF(Q43=\"\",\"\",VLOOKUP(Q43,個人種目登録!$AM$9:$AP$208,4,FALSE))","v":""},{"$f":"IF(R43=\"\",\"\",VLOOKUP(R43,個人種目登録!$AM$9:$AP$208,4,FALSE))","v":""},{"$f":"IF(S43=\"\",\"\",VLOOKUP(S43,個人種目登録!$AM$9:$AP$208,4,FALSE))","v":""},{"$f":"IF(T43=\"\",\"\",VLOOKUP(T43,個人種目登録!$AM$9:$AP$208,4,FALSE))","v":""}]
[null,null,null,"×","×",null,null,null,null,null,null,null,{"$f":"IF(M43=\"\",\"\",VLOOKUP(M43,個人種目登録!$AM:$AR,6,FALSE))","v":""},{"$f":"IF(N43=\"\",\"\",VLOOKUP(N43,個人種目登録!$AM:$AR,6,FALSE))","v":""},{"$f":"IF(O43=\"\",\"\",VLOOKUP(O43,個人種目登録!$AM:$AR,6,FALSE))","v":""},{"$f":"IF(P43=\"\",\"\",VLOOKUP(P43,個人種目登録!$AM:$AR,6,FALSE))","v":""},{"$f":"IF(Q43=\"\",\"\",VLOOKUP(Q43,個人種目登録!$AM:$AR,6,FALSE))","v":""},{"$f":"IF(R43=\"\",\"\",VLOOKUP(R43,個人種目登録!$AM:$AR,6,FALSE))","v":""},{"$f":"IF(S43=\"\",\"\",VLOOKUP(S43,個人種目登録!$AM:$AR,6,FALSE))","v":""},{"$f":"IF(T43=\"\",\"\",VLOOKUP(T43,個人種目登録!$AM:$AR,6,FALSE))","v":""},null,"×",null,null,{"$f":"IF(E43=\"\",\"\",個人種目登録!$AN$7&リレー登録!C44)","v":""},"",{"$f":"IF(Y44=\"\",\"\",個人種目登録!$AN$6)","v":""},"×",null,"",null,null,{"$f":"IF(M44=\"\",\"\",VLOOKUP(M44,個人種目登録!$AM$9:$AP$208,4,FALSE))","v":""},{"$f":"IF(N44=\"\",\"\",VLOOKUP(N44,個人種目登録!$AM$9:$AP$208,4,FALSE))","v":""},{"$f":"IF(O44=\"\",\"\",VLOOKUP(O44,個人種目登録!$AM$9:$AP$208,4,FALSE))","v":""},{"$f":"IF(P44=\"\",\"\",VLOOKUP(P44,個人種目登録!$AM$9:$AP$208,4,FALSE))","v":""},{"$f":"IF(Q44=\"\",\"\",VLOOKUP(Q44,個人種目登録!$AM$9:$AP$208,4,FALSE))","v":""},{"$f":"IF(R44=\"\",\"\",VLOOKUP(R44,個人種目登録!$AM$9:$AP$208,4,FALSE))","v":""},{"$f":"IF(S44=\"\",\"\",VLOOKUP(S44,個人種目登録!$AM$9:$AP$208,4,FALSE))","v":""},{"$f":"IF(T44=\"\",\"\",VLOOKUP(T44,個人種目登録!$AM$9:$AP$208,4,FALSE))","v":""}]
[null,null,5,"小学",{"$f":"IF(M45=\"\",\"\",CONCATENATE(個人種目登録!$D$4,リレー登録!U45))","v":""},0,"分",0,0,"秒",null,null,null,null,null,null,null,null,null,null," E","",null,null,{"$f":"IF(E45=\"\",\"\",個人種目登録!$AN$7&リレー登録!C45)","v":""},"",{"$f":"IF(Y45=\"\",\"\",個人種目登録!$AN$6)","v":""},"",null,"",null,null,{"$f":"IF(M45=\"\",\"\",VLOOKUP(M45,個人種目登録!$AM$9:$AP$208,4,FALSE))","v":""},{"$f":"IF(N45=\"\",\"\",VLOOKUP(N45,個人種目登録!$AM$9:$AP$208,4,FALSE))","v":""},{"$f":"IF(O45=\"\",\"\",VLOOKUP(O45,個人種目登録!$AM$9:$AP$208,4,FALSE))","v":""},{"$f":"IF(P45=\"\",\"\",VLOOKUP(P45,個人種目登録!$AM$9:$AP$208,4,FALSE))","v":""},{"$f":"IF(Q45=\"\",\"\",VLOOKUP(Q45,個人種目登録!$AM$9:$AP$208,4,FALSE))","v":""},{"$f":"IF(R45=\"\",\"\",VLOOKUP(R45,個人種目登録!$AM$9:$AP$208,4,FALSE))","v":""},{"$f":"IF(S45=\"\",\"\",VLOOKUP(S45,個人種目登録!$AM$9:$AP$208,4,FALSE))","v":""},{"$f":"IF(T45=\"\",\"\",VLOOKUP(T45,個人種目登録!$AM$9:$AP$208,4,FALSE))","v":""}]
[null,null,null,"×","×",null,null,null,null,null,null,null,{"$f":"IF(M45=\"\",\"\",VLOOKUP(M45,個人種目登録!$AM:$AR,6,FALSE))","v":""},{"$f":"IF(N45=\"\",\"\",VLOOKUP(N45,個人種目登録!$AM:$AR,6,FALSE))","v":""},{"$f":"IF(O45=\"\",\"\",VLOOKUP(O45,個人種目登録!$AM:$AR,6,FALSE))","v":""},{"$f":"IF(P45=\"\",\"\",VLOOKUP(P45,個人種目登録!$AM:$AR,6,FALSE))","v":""},{"$f":"IF(Q45=\"\",\"\",VLOOKUP(Q45,個人種目登録!$AM:$AR,6,FALSE))","v":""},{"$f":"IF(R45=\"\",\"\",VLOOKUP(R45,個人種目登録!$AM:$AR,6,FALSE))","v":""},{"$f":"IF(S45=\"\",\"\",VLOOKUP(S45,個人種目登録!$AM:$AR,6,FALSE))","v":""},{"$f":"IF(T45=\"\",\"\",VLOOKUP(T45,個人種目登録!$AM:$AR,6,FALSE))","v":""},null,"×",null,null,{"$f":"IF(E45=\"\",\"\",個人種目登録!$AN$7&リレー登録!C46)","v":""},"",{"$f":"IF(Y46=\"\",\"\",個人種目登録!$AN$6)","v":""},"×",null,"",null,null,{"$f":"IF(M46=\"\",\"\",VLOOKUP(M46,個人種目登録!$AM$9:$AP$208,4,FALSE))","v":""},{"$f":"IF(N46=\"\",\"\",VLOOKUP(N46,個人種目登録!$AM$9:$AP$208,4,FALSE))","v":""},{"$f":"IF(O46=\"\",\"\",VLOOKUP(O46,個人種目登録!$AM$9:$AP$208,4,FALSE))","v":""},{"$f":"IF(P46=\"\",\"\",VLOOKUP(P46,個人種目登録!$AM$9:$AP$208,4,FALSE))","v":""},{"$f":"IF(Q46=\"\",\"\",VLOOKUP(Q46,個人種目登録!$AM$9:$AP$208,4,FALSE))","v":""},{"$f":"IF(R46=\"\",\"\",VLOOKUP(R46,個人種目登録!$AM$9:$AP$208,4,FALSE))","v":""},{"$f":"IF(S46=\"\",\"\",VLOOKUP(S46,個人種目登録!$AM$9:$AP$208,4,FALSE))","v":""},{"$f":"IF(T46=\"\",\"\",VLOOKUP(T46,個人種目登録!$AM$9:$AP$208,4,FALSE))","v":""}]
[null,null,null,null,null,null,null,null,null,null,null,null,null,null,null,null,null,null,null,null,null,null,null,null,null,null,null,null,null,null,null,null,{"$f":"IF(M47=\"\",\"\",VLOOKUP(M47,個人種目登録!$AM$9:$AP$208,4,FALSE))","v":""},{"$f":"IF(N47=\"\",\"\",VLOOKUP(N47,個人種目登録!$AM$9:$AP$208,4,FALSE))","v":""},{"$f":"IF(O47=\"\",\"\",VLOOKUP(O47,個人種目登録!$AM$9:$AP$208,4,FALSE))","v":""},{"$f":"IF(P47=\"\",\"\",VLOOKUP(P47,個人種目登録!$AM$9:$AP$208,4,FALSE))","v":""},{"$f":"IF(Q47=\"\",\"\",VLOOKUP(Q47,個人種目登録!$AM$9:$AP$208,4,FALSE))","v":""},{"$f":"IF(R47=\"\",\"\",VLOOKUP(R47,個人種目登録!$AM$9:$AP$208,4,FALSE))","v":""},{"$f":"IF(S47=\"\",\"\",VLOOKUP(S47,個人種目登録!$AM$9:$AP$208,4,FALSE))","v":""},{"$f":"IF(T47=\"\",\"\",VLOOKUP(T47,個人種目登録!$AM$9:$AP$208,4,FALSE))","v":""}]
[null,null,null,"種別","チーム名","タイム",null,null,null,null,null,null,"選手No.（上段にNo.を入力。下段に氏名が自動表示されます）",null,null,null,"選手No.（上段にNo.を入力。下段に氏名が自動表示されます）"]
[null,null,null,null,null,null,null,null,null,null,null,null,"選手１","選手２","選手３","選手４","補員1","補員2","選手３","選手４"]
[null,"混合",1,"小学",{"$f":"IF(M50=\"\",\"\",CONCATENATE(個人種目登録!$D$4,リレー登録!U50))","v":""},0,"分",0,0,"秒",null,null,null,null,null,null,null,null,null,null," A",{"$f":"(20-COUNTIF(D50:D55,\"\"))/2","v":10},null,null,{"$f":"IF(E50=\"\",\"\",個人種目登録!$AN$7&リレー登録!C50)","v":""},{"$f":"IF(Y50=\"\",\"\",Y50)","v":""},{"$f":"IF(Y50=\"\",\"\",個人種目登録!$AN$6)","v":""},{"$f":"IF(D50=\"\",\"\",E50)","v":""},null,{"$f":"IF(Y50=\"\",\"\",F50&H50&I50&K50&L50)","v":""},null,null,{"$f":"IF(M50=\"\",\"\",VLOOKUP(M50,個人種目登録!$AM$9:$AP$208,4,FALSE))","v":""},{"$f":"IF(N50=\"\",\"\",VLOOKUP(N50,個人種目登録!$AM$9:$AP$208,4,FALSE))","v":""},{"$f":"IF(O50=\"\",\"\",VLOOKUP(O50,個人種目登録!$AM$9:$AP$208,4,FALSE))","v":""},{"$f":"IF(P50=\"\",\"\",VLOOKUP(P50,個人種目登録!$AM$9:$AP$208,4,FALSE))","v":""},{"$f":"IF(Q50=\"\",\"\",VLOOKUP(Q50,個人種目登録!$AM$9:$AP$208,4,FALSE))","v":""},{"$f":"IF(R50=\"\",\"\",VLOOKUP(R50,個人種目登録!$AM$9:$AP$208,4,FALSE))","v":""},{"$f":"IF(S50=\"\",\"\",VLOOKUP(S50,個人種目登録!$AM$9:$AP$208,4,FALSE))","v":""},{"$f":"IF(T50=\"\",\"\",VLOOKUP(T50,個人種目登録!$AM$9:$AP$208,4,FALSE))","v":""}]
[null,null,null,"×","×",null,null,null,null,null,null,null,{"$f":"IF(M50=\"\",\"\",VLOOKUP(M50,個人種目登録!$AM:$AR,6,FALSE))","v":""},{"$f":"IF(N50=\"\",\"\",VLOOKUP(N50,個人種目登録!$AM:$AR,6,FALSE))","v":""},{"$f":"IF(O50=\"\",\"\",VLOOKUP(O50,個人種目登録!$AM:$AR,6,FALSE))","v":""},{"$f":"IF(P50=\"\",\"\",VLOOKUP(P50,個人種目登録!$AM:$AR,6,FALSE))","v":""},{"$f":"IF(Q50=\"\",\"\",VLOOKUP(Q50,個人種目登録!$AM:$AR,6,FALSE))","v":""},{"$f":"IF(R50=\"\",\"\",VLOOKUP(R50,個人種目登録!$AM:$AR,6,FALSE))","v":""},{"$f":"IF(S50=\"\",\"\",VLOOKUP(S50,個人種目登録!$AM:$AR,6,FALSE))","v":""},{"$f":"IF(T50=\"\",\"\",VLOOKUP(T50,個人種目登録!$AM:$AR,6,FALSE))","v":""},null,{"$f":"IF(E51=\"\",\"\",IF(D51=\"中学女子\",E51&\"(中)\",E51))","v":"×"},null,null,{"$f":"IF(E50=\"\",\"\",個人種目登録!$AN$7&リレー登録!C51)","v":""},"",{"$f":"IF(Y51=\"\",\"\",個人種目登録!$AN$6)","v":""},"×",null,"",null,null,{"$f":"IF(M51=\"\",\"\",VLOOKUP(M51,個人種目登録!$AM$9:$AP$208,4,FALSE))","v":""},{"$f":"IF(N51=\"\",\"\",VLOOKUP(N51,個人種目登録!$AM$9:$AP$208,4,FALSE))","v":""},{"$f":"IF(O51=\"\",\"\",VLOOKUP(O51,個人種目登録!$AM$9:$AP$208,4,FALSE))","v":""},{"$f":"IF(P51=\"\",\"\",VLOOKUP(P51,個人種目登録!$AM$9:$AP$208,4,FALSE))","v":""},{"$f":"IF(Q51=\"\",\"\",VLOOKUP(Q51,個人種目登録!$AM$9:$AP$208,4,FALSE))","v":""},{"$f":"IF(R51=\"\",\"\",VLOOKUP(R51,個人種目登録!$AM$9:$AP$208,4,FALSE))","v":""},{"$f":"IF(S51=\"\",\"\",VLOOKUP(S51,個人種目登録!$AM$9:$AP$208,4,FALSE))","v":""},{"$f":"IF(T51=\"\",\"\",VLOOKUP(T51,個人種目登録!$AM$9:$AP$208,4,FALSE))","v":""}]
[null,null,2,"小学",{"$f":"IF(M52=\"\",\"\",CONCATENATE(個人種目登録!$D$4,リレー登録!U52))","v":""},0,"分",0,0,"秒",null,null,null,null,null,null,null,null,null,null," B","",null,null,{"$f":"IF(E52=\"\",\"\",個人種目登録!$AN$7&リレー登録!C52)","v":""},"",{"$f":"IF(Y52=\"\",\"\",個人種目登録!$AN$6)","v":""},"",null,"",null,null,{"$f":"IF(M52=\"\",\"\",VLOOKUP(M52,個人種目登録!$AM$9:$AP$208,4,FALSE))","v":""},{"$f":"IF(N52=\"\",\"\",VLOOKUP(N52,個人種目登録!$AM$9:$AP$208,4,FALSE))","v":""},{"$f":"IF(O52=\"\",\"\",VLOOKUP(O52,個人種目登録!$AM$9:$AP$208,4,FALSE))","v":""},{"$f":"IF(P52=\"\",\"\",VLOOKUP(P52,個人種目登録!$AM$9:$AP$208,4,FALSE))","v":""},{"$f":"IF(Q52=\"\",\"\",VLOOKUP(Q52,個人種目登録!$AM$9:$AP$208,4,FALSE))","v":""},{"$f":"IF(R52=\"\",\"\",VLOOKUP(R52,個人種目登録!$AM$9:$AP$208,4,FALSE))","v":""},{"$f":"IF(S52=\"\",\"\",VLOOKUP(S52,個人種目登録!$AM$9:$AP$208,4,FALSE))","v":""},{"$f":"IF(T52=\"\",\"\",VLOOKUP(T52,個人種目登録!$AM$9:$AP$208,4,FALSE))","v":""}]
[null,null,null,"×","×",null,null,null,null,null,null,null,{"$f":"IF(M52=\"\",\"\",VLOOKUP(M52,個人種目登録!$AM:$AR,6,FALSE))","v":""},{"$f":"IF(N52=\"\",\"\",VLOOKUP(N52,個人種目登録!$AM:$AR,6,FALSE))","v":""},{"$f":"IF(O52=\"\",\"\",VLOOKUP(O52,個人種目登録!$AM:$AR,6,FALSE))","v":""},{"$f":"IF(P52=\"\",\"\",VLOOKUP(P52,個人種目登録!$AM:$AR,6,FALSE))","v":""},{"$f":"IF(Q52=\"\",\"\",VLOOKUP(Q52,個人種目登録!$AM:$AR,6,FALSE))","v":""},{"$f":"IF(R52=\"\",\"\",VLOOKUP(R52,個人種目登録!$AM:$AR,6,FALSE))","v":""},{"$f":"IF(S52=\"\",\"\",VLOOKUP(S52,個人種目登録!$AM:$AR,6,FALSE))","v":""},{"$f":"IF(T52=\"\",\"\",VLOOKUP(T52,個人種目登録!$AM:$AR,6,FALSE))","v":""},null,"×",null,null,{"$f":"IF(E52=\"\",\"\",個人種目登録!$AN$7&リレー登録!C53)","v":""},"",{"$f":"IF(Y53=\"\",\"\",個人種目登録!$AN$6)","v":""},"×",null,"",null,null,{"$f":"IF(M53=\"\",\"\",VLOOKUP(M53,個人種目登録!$AM$9:$AP$208,4,FALSE))","v":""},{"$f":"IF(N53=\"\",\"\",VLOOKUP(N53,個人種目登録!$AM$9:$AP$208,4,FALSE))","v":""},{"$f":"IF(O53=\"\",\"\",VLOOKUP(O53,個人種目登録!$AM$9:$AP$208,4,FALSE))","v":""},{"$f":"IF(P53=\"\",\"\",VLOOKUP(P53,個人種目登録!$AM$9:$AP$208,4,FALSE))","v":""},{"$f":"IF(Q53=\"\",\"\",VLOOKUP(Q53,個人種目登録!$AM$9:$AP$208,4,FALSE))","v":""},{"$f":"IF(R53=\"\",\"\",VLOOKUP(R53,個人種目登録!$AM$9:$AP$208,4,FALSE))","v":""},{"$f":"IF(S53=\"\",\"\",VLOOKUP(S53,個人種目登録!$AM$9:$AP$208,4,FALSE))","v":""},{"$f":"IF(T53=\"\",\"\",VLOOKUP(T53,個人種目登録!$AM$9:$AP$208,4,FALSE))","v":""}]
[null,null,3,"中学",{"$f":"IF(M54=\"\",\"\",CONCATENATE(個人種目登録!$D$4,リレー登録!U54))","v":""},0,"分",0,0,"秒",null,null,null,null,null,null,null,null,null,null," 中学","",null,null,{"$f":"IF(E54=\"\",\"\",個人種目登録!$AN$7&リレー登録!C54)","v":""},"",{"$f":"IF(Y54=\"\",\"\",個人種目登録!$AN$6)","v":""},"",null,"",null,null,{"$f":"IF(M54=\"\",\"\",VLOOKUP(M54,個人種目登録!$AM$9:$AP$208,4,FALSE))","v":""},{"$f":"IF(N54=\"\",\"\",VLOOKUP(N54,個人種目登録!$AM$9:$AP$208,4,FALSE))","v":""},{"$f":"IF(O54=\"\",\"\",VLOOKUP(O54,個人種目登録!$AM$9:$AP$208,4,FALSE))","v":""},{"$f":"IF(P54=\"\",\"\",VLOOKUP(P54,個人種目登録!$AM$9:$AP$208,4,FALSE))","v":""},{"$f":"IF(Q54=\"\",\"\",VLOOKUP(Q54,個人種目登録!$AM$9:$AP$208,4,FALSE))","v":""},{"$f":"IF(R54=\"\",\"\",VLOOKUP(R54,個人種目登録!$AM$9:$AP$208,4,FALSE))","v":""},{"$f":"IF(S54=\"\",\"\",VLOOKUP(S54,個人種目登録!$AM$9:$AP$208,4,FALSE))","v":""},{"$f":"IF(T54=\"\",\"\",VLOOKUP(T54,個人種目登録!$AM$9:$AP$208,4,FALSE))","v":""}]
[null,null,null,"×","×",null,null,null,null,null,null,null,{"$f":"IF(M54=\"\",\"\",VLOOKUP(M54,個人種目登録!$AM:$AR,6,FALSE))","v":""},{"$f":"IF(N54=\"\",\"\",VLOOKUP(N54,個人種目登録!$AM:$AR,6,FALSE))","v":""},{"$f":"IF(O54=\"\",\"\",VLOOKUP(O54,個人種目登録!$AM:$AR,6,FALSE))","v":""},{"$f":"IF(P54=\"\",\"\",VLOOKUP(P54,個人種目登録!$AM:$AR,6,FALSE))","v":""},{"$f":"IF(Q54=\"\",\"\",VLOOKUP(Q54,個人種目登録!$AM:$AR,6,FALSE))","v":""},{"$f":"IF(R54=\"\",\"\",VLOOKUP(R54,個人種目登録!$AM:$AR,6,FALSE))","v":""},{"$f":"IF(S54=\"\",\"\",VLOOKUP(S54,個人種目登録!$AM:$AR,6,FALSE))","v":""},{"$f":"IF(T54=\"\",\"\",VLOOKUP(T54,個人種目登録!$AM:$AR,6,FALSE))","v":""},null,"×",null,null,{"$f":"IF(E54=\"\",\"\",個人種目登録!$AN$7&リレー登録!C55)","v":""},"",{"$f":"IF(Y55=\"\",\"\",個人種目登録!$AN$6)","v":""},"×",null,"",null,null,{"$f":"IF(M55=\"\",\"\",VLOOKUP(M55,個人種目登録!$AM$9:$AP$208,4,FALSE))","v":""},{"$f":"IF(N55=\"\",\"\",VLOOKUP(N55,個人種目登録!$AM$9:$AP$208,4,FALSE))","v":""},{"$f":"IF(O55=\"\",\"\",VLOOKUP(O55,個人種目登録!$AM$9:$AP$208,4,FALSE))","v":""},{"$f":"IF(P55=\"\",\"\",VLOOKUP(P55,個人種目登録!$AM$9:$AP$208,4,FALSE))","v":""},{"$f":"IF(Q55=\"\",\"\",VLOOKUP(Q55,個人種目登録!$AM$9:$AP$208,4,FALSE))","v":""},{"$f":"IF(R55=\"\",\"\",VLOOKUP(R55,個人種目登録!$AM$9:$AP$208,4,FALSE))","v":""},{"$f":"IF(S55=\"\",\"\",VLOOKUP(S55,個人種目登録!$AM$9:$AP$208,4,FALSE))","v":""},{"$f":"IF(T55=\"\",\"\",VLOOKUP(T55,個人種目登録!$AM$9:$AP$208,4,FALSE))","v":""}]

{"sheet":"選手DBﾃﾞｰﾀ取得","index":3,"n_rows":201,"n_cols":17,"rows_kept":201,"cut":false,"hidden":false,"merged":[]}
["DB","N1","N2","SX","KC","MC","TL","WT","ZK","S1","S2","S3","S4",null,null,null,{"$f":"199-COUNTIF(A2:A101,\"\")","v":99}]
[{"$f":"IF(個人種目登録!AP9=\"\",\"\",個人種目登録!AP9)","v":""},{"$f":"IF(個人種目登録!AR9=\"\",\"\",個人種目登録!AR9)","v":""},{"$f":"IF(個人種目登録!D9=\"\",\"\",個人種目登録!D9)","v":""},{"$f":"IF(個人種目登録!AO9=\"\",\"\",個人種目登録!AO9)","v":""},{"$f":"IF(個人種目登録!AS9=\"\",\"\",個人種目登録!AS9)","v":""},{"$f":"IF(個人種目登録!AT9=\"\",\"\",個人種目登録!AT9)","v":""},null,null,{"$f":"IF(個人種目登録!AN9=\"\",\"\",個人種目登録!AN9)","v":""},{"$f":"IF(個人種目登録!AV9=\"\",\"\",個人種目登録!AV9)","v":""},{"$f":"IF(個人種目登録!AX9=\"\",\"\",個人種目登録!AX9)","v":""},{"$f":"IF(個人種目登録!AZ9=\"\",\"\",個人種目登録!AZ9)","v":""},{"$f":"IF(個人種目登録!BH9=\"\",\"\",個人種目登録!BH9)","v":""}]
[{"$f":"IF(個人種目登録!AP10=\"\",\"\",個人種目登録!AP10)","v":""},{"$f":"IF(個人種目登録!AR10=\"\",\"\",個人種目登録!AR10)","v":""},{"$f":"IF(個人種目登録!D10=\"\",\"\",個人種目登録!D10)","v":""},{"$f":"IF(個人種目登録!AO10=\"\",\"\",個人種目登録!AO10)","v":""},{"$f":"IF(個人種目登録!AS10=\"\",\"\",個人種目登録!AS10)","v":""},{"$f":"IF(個人種目登録!AT10=\"\",\"\",個人種目登録!AT10)","v":""},null,null,{"$f":"IF(個人種目登録!AN10=\"\",\"\",個人種目登録!AN10)","v":""},{"$f":"IF(個人種目登録!AV10=\"\",\"\",個人種目登録!AV10)","v":""},{"$f":"IF(個人種目登録!AX10=\"\",\"\",個人種目登録!AX10)","v":""},{"$f":"IF(個人種目登録!AZ10=\"\",\"\",個人種目登録!AZ10)","v":""},{"$f":"IF(個人種目登録!BH10=\"\",\"\",個人種目登録!BH10)","v":""}]
[{"$f":"IF(個人種目登録!AP11=\"\",\"\",個人種目登録!AP11)","v":""},{"$f":"IF(個人種目登録!AR11=\"\",\"\",個人種目登録!AR11)","v":""},{"$f":"IF(個人種目登録!D11=\"\",\"\",個人種目登録!D11)","v":""},{"$f":"IF(個人種目登録!AO11=\"\",\"\",個人種目登録!AO11)","v":""},{"$f":"IF(個人種目登録!AS11=\"\",\"\",個人種目登録!AS11)","v":""},{"$f":"IF(個人種目登録!AT11=\"\",\"\",個人種目登録!AT11)","v":""},null,null,{"$f":"IF(個人種目登録!AN11=\"\",\"\",個人種目登録!AN11)","v":""},{"$f":"IF(個人種目登録!AV11=\"\",\"\",個人種目登録!AV11)","v":""},{"$f":"IF(個人種目登録!AX11=\"\",\"\",個人種目登録!AX11)","v":""},{"$f":"IF(個人種目登録!AZ11=\"\",\"\",個人種目登録!AZ11)","v":""},{"$f":"IF(個人種目登録!BH11=\"\",\"\",個人種目登録!BH11)","v":""}]
[{"$f":"IF(個人種目登録!AP12=\"\",\"\",個人種目登録!AP12)","v":""},{"$f":"IF(個人種目登録!AR12=\"\",\"\",個人種目登録!AR12)","v":""},{"$f":"IF(個人種目登録!D12=\"\",\"\",個人種目登録!D12)","v":""},{"$f":"IF(個人種目登録!AO12=\"\",\"\",個人種目登録!AO12)","v":""},{"$f":"IF(個人種目登録!AS12=\"\",\"\",個人種目登録!AS12)","v":""},{"$f":"IF(個人種目登録!AT12=\"\",\"\",個人種目登録!AT12)","v":""},null,null,{"$f":"IF(個人種目登録!AN12=\"\",\"\",個人種目登録!AN12)","v":""},{"$f":"IF(個人種目登録!AV12=\"\",\"\",個人種目登録!AV12)","v":""},{"$f":"IF(個人種目登録!AX12=\"\",\"\",個人種目登録!AX12)","v":""},{"$f":"IF(個人種目登録!AZ12=\"\",\"\",個人種目登録!AZ12)","v":""},{"$f":"IF(個人種目登録!BH12=\"\",\"\",個人種目登録!BH12)","v":""}]
[{"$f":"IF(個人種目登録!AP13=\"\",\"\",個人種目登録!AP13)","v":""},{"$f":"IF(個人種目登録!AR13=\"\",\"\",個人種目登録!AR13)","v":""},{"$f":"IF(個人種目登録!D13=\"\",\"\",個人種目登録!D13)","v":""},{"$f":"IF(個人種目登録!AO13=\"\",\"\",個人種目登録!AO13)","v":""},{"$f":"IF(個人種目登録!AS13=\"\",\"\",個人種目登録!AS13)","v":""},{"$f":"IF(個人種目登録!AT13=\"\",\"\",個人種目登録!AT13)","v":""},null,null,{"$f":"IF(個人種目登録!AN13=\"\",\"\",個人種目登録!AN13)","v":""},{"$f":"IF(個人種目登録!AV13=\"\",\"\",個人種目登録!AV13)","v":""},{"$f":"IF(個人種目登録!AX13=\"\",\"\",個人種目登録!AX13)","v":""},{"$f":"IF(個人種目登録!AZ13=\"\",\"\",個人種目登録!AZ13)","v":""},{"$f":"IF(個人種目登録!BH13=\"\",\"\",個人種目登録!BH13)","v":""}]
[{"$f":"IF(個人種目登録!AP14=\"\",\"\",個人種目登録!AP14)","v":""},{"$f":"IF(個人種目登録!AR14=\"\",\"\",個人種目登録!AR14)","v":""},{"$f":"IF(個人種目登録!D14=\"\",\"\",個人種目登録!D14)","v":""},{"$f":"IF(個人種目登録!AO14=\"\",\"\",個人種目登録!AO14)","v":""},{"$f":"IF(個人種目登録!AS14=\"\",\"\",個人種目登録!AS14)","v":""},{"$f":"IF(個人種目登録!AT14=\"\",\"\",個人種目登録!AT14)","v":""},null,null,{"$f":"IF(個人種目登録!AN14=\"\",\"\",個人種目登録!AN14)","v":""},{"$f":"IF(個人種目登録!AV14=\"\",\"\",個人種目登録!AV14)","v":""},{"$f":"IF(個人種目登録!AX14=\"\",\"\",個人種目登録!AX14)","v":""},{"$f":"IF(個人種目登録!AZ14=\"\",\"\",個人種目登録!AZ14)","v":""},{"$f":"IF(個人種目登録!BH14=\"\",\"\",個人種目登録!BH14)","v":""}]
[{"$f":"IF(個人種目登録!AP15=\"\",\"\",個人種目登録!AP15)","v":""},{"$f":"IF(個人種目登録!AR15=\"\",\"\",個人種目登録!AR15)","v":""},{"$f":"IF(個人種目登録!D15=\"\",\"\",個人種目登録!D15)","v":""},{"$f":"IF(個人種目登録!AO15=\"\",\"\",個人種目登録!AO15)","v":""},{"$f":"IF(個人種目登録!AS15=\"\",\"\",個人種目登録!AS15)","v":""},{"$f":"IF(個人種目登録!AT15=\"\",\"\",個人種目登録!AT15)","v":""},null,null,{"$f":"IF(個人種目登録!AN15=\"\",\"\",個人種目登録!AN15)","v":""},{"$f":"IF(個人種目登録!AV15=\"\",\"\",個人種目登録!AV15)","v":""},{"$f":"IF(個人種目登録!AX15=\"\",\"\",個人種目登録!AX15)","v":""},{"$f":"IF(個人種目登録!AZ15=\"\",\"\",個人種目登録!AZ15)","v":""},{"$f":"IF(個人種目登録!BH15=\"\",\"\",個人種目登録!BH15)","v":""}]
[{"$f":"IF(個人種目登録!AP16=\"\",\"\",個人種目登録!AP16)","v":""},{"$f":"IF(個人種目登録!AR16=\"\",\"\",個人種目登録!AR16)","v":""},{"$f":"IF(個人種目登録!D16=\"\",\"\",個人種目登録!D16)","v":""},{"$f":"IF(個人種目登録!AO16=\"\",\"\",個人種目登録!AO16)","v":""},{"$f":"IF(個人種目登録!AS16=\"\",\"\",個人種目登録!AS16)","v":""},{"$f":"IF(個人種目登録!AT16=\"\",\"\",個人種目登録!AT16)","v":""},null,null,{"$f":"IF(個人種目登録!AN16=\"\",\"\",個人種目登録!AN16)","v":""},{"$f":"IF(個人種目登録!AV16=\"\",\"\",個人種目登録!AV16)","v":""},{"$f":"IF(個人種目登録!AX16=\"\",\"\",個人種目登録!AX16)","v":""},{"$f":"IF(個人種目登録!AZ16=\"\",\"\",個人種目登録!AZ16)","v":""},{"$f":"IF(個人種目登録!BH16=\"\",\"\",個人種目登録!BH16)","v":""}]
[{"$f":"IF(個人種目登録!AP17=\"\",\"\",個人種目登録!AP17)","v":""},{"$f":"IF(個人種目登録!AR17=\"\",\"\",個人種目登録!AR17)","v":""},{"$f":"IF(個人種目登録!D17=\"\",\"\",個人種目登録!D17)","v":""},{"$f":"IF(個人種目登録!AO17=\"\",\"\",個人種目登録!AO17)","v":""},{"$f":"IF(個人種目登録!AS17=\"\",\"\",個人種目登録!AS17)","v":""},{"$f":"IF(個人種目登録!AT17=\"\",\"\",個人種目登録!AT17)","v":""},null,null,{"$f":"IF(個人種目登録!AN17=\"\",\"\",個人種目登録!AN17)","v":""},{"$f":"IF(個人種目登録!AV17=\"\",\"\",個人種目登録!AV17)","v":""},{"$f":"IF(個人種目登録!AX17=\"\",\"\",個人種目登録!AX17)","v":""},{"$f":"IF(個人種目登録!AZ17=\"\",\"\",個人種目登録!AZ17)","v":""},{"$f":"IF(個人種目登録!BH17=\"\",\"\",個人種目登録!BH17)","v":""}]
[{"$f":"IF(個人種目登録!AP18=\"\",\"\",個人種目登録!AP18)","v":""},{"$f":"IF(個人種目登録!AR18=\"\",\"\",個人種目登録!AR18)","v":""},{"$f":"IF(個人種目登録!D18=\"\",\"\",個人種目登録!D18)","v":""},{"$f":"IF(個人種目登録!AO18=\"\",\"\",個人種目登録!AO18)","v":""},{"$f":"IF(個人種目登録!AS18=\"\",\"\",個人種目登録!AS18)","v":""},{"$f":"IF(個人種目登録!AT18=\"\",\"\",個人種目登録!AT18)","v":""},null,null,{"$f":"IF(個人種目登録!AN18=\"\",\"\",個人種目登録!AN18)","v":""},{"$f":"IF(個人種目登録!AV18=\"\",\"\",個人種目登録!AV18)","v":""},{"$f":"IF(個人種目登録!AX18=\"\",\"\",個人種目登録!AX18)","v":""},{"$f":"IF(個人種目登録!AZ18=\"\",\"\",個人種目登録!AZ18)","v":""},{"$f":"IF(個人種目登録!BH18=\"\",\"\",個人種目登録!BH18)","v":""}]
[{"$f":"IF(個人種目登録!AP19=\"\",\"\",個人種目登録!AP19)","v":""},{"$f":"IF(個人種目登録!AR19=\"\",\"\",個人種目登録!AR19)","v":""},{"$f":"IF(個人種目登録!D19=\"\",\"\",個人種目登録!D19)","v":""},{"$f":"IF(個人種目登録!AO19=\"\",\"\",個人種目登録!AO19)","v":""},{"$f":"IF(個人種目登録!AS19=\"\",\"\",個人種目登録!AS19)","v":""},{"$f":"IF(個人種目登録!AT19=\"\",\"\",個人種目登録!AT19)","v":""},null,null,{"$f":"IF(個人種目登録!AN19=\"\",\"\",個人種目登録!AN19)","v":""},{"$f":"IF(個人種目登録!AV19=\"\",\"\",個人種目登録!AV19)","v":""},{"$f":"IF(個人種目登録!AX19=\"\",\"\",個人種目登録!AX19)","v":""},{"$f":"IF(個人種目登録!AZ19=\"\",\"\",個人種目登録!AZ19)","v":""},{"$f":"IF(個人種目登録!BH19=\"\",\"\",個人種目登録!BH19)","v":""}]
[{"$f":"IF(個人種目登録!AP20=\"\",\"\",個人種目登録!AP20)","v":""},{"$f":"IF(個人種目登録!AR20=\"\",\"\",個人種目登録!AR20)","v":""},{"$f":"IF(個人種目登録!D20=\"\",\"\",個人種目登録!D20)","v":""},{"$f":"IF(個人種目登録!AO20=\"\",\"\",個人種目登録!AO20)","v":""},{"$f":"IF(個人種目登録!AS20=\"\",\"\",個人種目登録!AS20)","v":""},{"$f":"IF(個人種目登録!AT20=\"\",\"\",個人種目登録!AT20)","v":""},null,null,{"$f":"IF(個人種目登録!AN20=\"\",\"\",個人種目登録!AN20)","v":""},{"$f":"IF(個人種目登録!AV20=\"\",\"\",個人種目登録!AV20)","v":""},{"$f":"IF(個人種目登録!AX20=\"\",\"\",個人種目登録!AX20)","v":""},{"$f":"IF(個人種目登録!AZ20=\"\",\"\",個人種目登録!AZ20)","v":""},{"$f":"IF(個人種目登録!BH20=\"\",\"\",個人種目登録!BH20)","v":""}]
[{"$f":"IF(個人種目登録!AP21=\"\",\"\",個人種目登録!AP21)","v":""},{"$f":"IF(個人種目登録!AR21=\"\",\"\",個人種目登録!AR21)","v":""},{"$f":"IF(個人種目登録!D21=\"\",\"\",個人種目登録!D21)","v":""},{"$f":"IF(個人種目登録!AO21=\"\",\"\",個人種目登録!AO21)","v":""},{"$f":"IF(個人種目登録!AS21=\"\",\"\",個人種目登録!AS21)","v":""},{"$f":"IF(個人種目登録!AT21=\"\",\"\",個人種目登録!AT21)","v":""},null,null,{"$f":"IF(個人種目登録!AN21=\"\",\"\",個人種目登録!AN21)","v":""},{"$f":"IF(個人種目登録!AV21=\"\",\"\",個人種目登録!AV21)","v":""},{"$f":"IF(個人種目登録!AX21=\"\",\"\",個人種目登録!AX21)","v":""},{"$f":"IF(個人種目登録!AZ21=\"\",\"\",個人種目登録!AZ21)","v":""},{"$f":"IF(個人種目登録!BH21=\"\",\"\",個人種目登録!BH21)","v":""}]
[{"$f":"IF(個人種目登録!AP22=\"\",\"\",個人種目登録!AP22)","v":""},{"$f":"IF(個人種目登録!AR22=\"\",\"\",個人種目登録!AR22)","v":""},{"$f":"IF(個人種目登録!D22=\"\",\"\",個人種目登録!D22)","v":""},{"$f":"IF(個人種目登録!AO22=\"\",\"\",個人種目登録!AO22)","v":""},{"$f":"IF(個人種目登録!AS22=\"\",\"\",個人種目登録!AS22)","v":""},{"$f":"IF(個人種目登録!AT22=\"\",\"\",個人種目登録!AT22)","v":""},null,null,{"$f":"IF(個人種目登録!AN22=\"\",\"\",個人種目登録!AN22)","v":""},{"$f":"IF(個人種目登録!AV22=\"\",\"\",個人種目登録!AV22)","v":""},{"$f":"IF(個人種目登録!AX22=\"\",\"\",個人種目登録!AX22)","v":""},{"$f":"IF(個人種目登録!AZ22=\"\",\"\",個人種目登録!AZ22)","v":""},{"$f":"IF(個人種目登録!BH22=\"\",\"\",個人種目登録!BH22)","v":""}]
[{"$f":"IF(個人種目登録!AP23=\"\",\"\",個人種目登録!AP23)","v":""},{"$f":"IF(個人種目登録!AR23=\"\",\"\",個人種目登録!AR23)","v":""},{"$f":"IF(個人種目登録!D23=\"\",\"\",個人種目登録!D23)","v":""},{"$f":"IF(個人種目登録!AO23=\"\",\"\",個人種目登録!AO23)","v":""},{"$f":"IF(個人種目登録!AS23=\"\",\"\",個人種目登録!AS23)","v":""},{"$f":"IF(個人種目登録!AT23=\"\",\"\",個人種目登録!AT23)","v":""},null,null,{"$f":"IF(個人種目登録!AN23=\"\",\"\",個人種目登録!AN23)","v":""},{"$f":"IF(個人種目登録!AV23=\"\",\"\",個人種目登録!AV23)","v":""},{"$f":"IF(個人種目登録!AX23=\"\",\"\",個人種目登録!AX23)","v":""},{"$f":"IF(個人種目登録!AZ23=\"\",\"\",個人種目登録!AZ23)","v":""},{"$f":"IF(個人種目登録!BH23=\"\",\"\",個人種目登録!BH23)","v":""}]
[{"$f":"IF(個人種目登録!AP24=\"\",\"\",個人種目登録!AP24)","v":""},{"$f":"IF(個人種目登録!AR24=\"\",\"\",個人種目登録!AR24)","v":""},{"$f":"IF(個人種目登録!D24=\"\",\"\",個人種目登録!D24)","v":""},{"$f":"IF(個人種目登録!AO24=\"\",\"\",個人種目登録!AO24)","v":""},{"$f":"IF(個人種目登録!AS24=\"\",\"\",個人種目登録!AS24)","v":""},{"$f":"IF(個人種目登録!AT24=\"\",\"\",個人種目登録!AT24)","v":""},null,null,{"$f":"IF(個人種目登録!AN24=\"\",\"\",個人種目登録!AN24)","v":""},{"$f":"IF(個人種目登録!AV24=\"\",\"\",個人種目登録!AV24)","v":""},{"$f":"IF(個人種目登録!AX24=\"\",\"\",個人種目登録!AX24)","v":""},{"$f":"IF(個人種目登録!AZ24=\"\",\"\",個人種目登録!AZ24)","v":""},{"$f":"IF(個人種目登録!BH24=\"\",\"\",個人種目登録!BH24)","v":""}]
[{"$f":"IF(個人種目登録!AP25=\"\",\"\",個人種目登録!AP25)","v":""},{"$f":"IF(個人種目登録!AR25=\"\",\"\",個人種目登録!AR25)","v":""},{"$f":"IF(個人種目登録!D25=\"\",\"\",個人種目登録!D25)","v":""},{"$f":"IF(個人種目登録!AO25=\"\",\"\",個人種目登録!AO25)","v":""},{"$f":"IF(個人種目登録!AS25=\"\",\"\",個人種目登録!AS25)","v":""},{"$f":"IF(個人種目登録!AT25=\"\",\"\",個人種目登録!AT25)","v":""},null,null,{"$f":"IF(個人種目登録!AN25=\"\",\"\",個人種目登録!AN25)","v":""},{"$f":"IF(個人種目登録!AV25=\"\",\"\",個人種目登録!AV25)","v":""},{"$f":"IF(個人種目登録!AX25=\"\",\"\",個人種目登録!AX25)","v":""},{"$f":"IF(個人種目登録!AZ25=\"\",\"\",個人種目登録!AZ25)","v":""},{"$f":"IF(個人種目登録!BH25=\"\",\"\",個人種目登録!BH25)","v":""}]
[{"$f":"IF(個人種目登録!AP26=\"\",\"\",個人種目登録!AP26)","v":""},{"$f":"IF(個人種目登録!AR26=\"\",\"\",個人種目登録!AR26)","v":""},{"$f":"IF(個人種目登録!D26=\"\",\"\",個人種目登録!D26)","v":""},{"$f":"IF(個人種目登録!AO26=\"\",\"\",個人種目登録!AO26)","v":""},{"$f":"IF(個人種目登録!AS26=\"\",\"\",個人種目登録!AS26)","v":""},{"$f":"IF(個人種目登録!AT26=\"\",\"\",個人種目登録!AT26)","v":""},null,null,{"$f":"IF(個人種目登録!AN26=\"\",\"\",個人種目登録!AN26)","v":""},{"$f":"IF(個人種目登録!AV26=\"\",\"\",個人種目登録!AV26)","v":""},{"$f":"IF(個人種目登録!AX26=\"\",\"\",個人種目登録!AX26)","v":""},{"$f":"IF(個人種目登録!AZ26=\"\",\"\",個人種目登録!AZ26)","v":""},{"$f":"IF(個人種目登録!BH26=\"\",\"\",個人種目登録!BH26)","v":""}]
[{"$f":"IF(個人種目登録!AP27=\"\",\"\",個人種目登録!AP27)","v":""},{"$f":"IF(個人種目登録!AR27=\"\",\"\",個人種目登録!AR27)","v":""},{"$f":"IF(個人種目登録!D27=\"\",\"\",個人種目登録!D27)","v":""},{"$f":"IF(個人種目登録!AO27=\"\",\"\",個人種目登録!AO27)","v":""},{"$f":"IF(個人種目登録!AS27=\"\",\"\",個人種目登録!AS27)","v":""},{"$f":"IF(個人種目登録!AT27=\"\",\"\",個人種目登録!AT27)","v":""},null,null,{"$f":"IF(個人種目登録!AN27=\"\",\"\",個人種目登録!AN27)","v":""},{"$f":"IF(個人種目登録!AV27=\"\",\"\",個人種目登録!AV27)","v":""},{"$f":"IF(個人種目登録!AX27=\"\",\"\",個人種目登録!AX27)","v":""},{"$f":"IF(個人種目登録!AZ27=\"\",\"\",個人種目登録!AZ27)","v":""},{"$f":"IF(個人種目登録!BH27=\"\",\"\",個人種目登録!BH27)","v":""}]
[{"$f":"IF(個人種目登録!AP28=\"\",\"\",個人種目登録!AP28)","v":""},{"$f":"IF(個人種目登録!AR28=\"\",\"\",個人種目登録!AR28)","v":""},{"$f":"IF(個人種目登録!D28=\"\",\"\",個人種目登録!D28)","v":""},{"$f":"IF(個人種目登録!AO28=\"\",\"\",個人種目登録!AO28)","v":""},{"$f":"IF(個人種目登録!AS28=\"\",\"\",個人種目登録!AS28)","v":""},{"$f":"IF(個人種目登録!AT28=\"\",\"\",個人種目登録!AT28)","v":""},null,null,{"$f":"IF(個人種目登録!AN28=\"\",\"\",個人種目登録!AN28)","v":""},{"$f":"IF(個人種目登録!AV28=\"\",\"\",個人種目登録!AV28)","v":""},{"$f":"IF(個人種目登録!AX28=\"\",\"\",個人種目登録!AX28)","v":""},{"$f":"IF(個人種目登録!AZ28=\"\",\"\",個人種目登録!AZ28)","v":""},{"$f":"IF(個人種目登録!BH28=\"\",\"\",個人種目登録!BH28)","v":""}]
[{"$f":"IF(個人種目登録!AP29=\"\",\"\",個人種目登録!AP29)","v":""},{"$f":"IF(個人種目登録!AR29=\"\",\"\",個人種目登録!AR29)","v":""},{"$f":"IF(個人種目登録!D29=\"\",\"\",個人種目登録!D29)","v":""},{"$f":"IF(個人種目登録!AO29=\"\",\"\",個人種目登録!AO29)","v":""},{"$f":"IF(個人種目登録!AS29=\"\",\"\",個人種目登録!AS29)","v":""},{"$f":"IF(個人種目登録!AT29=\"\",\"\",個人種目登録!AT29)","v":""},null,null,{"$f":"IF(個人種目登録!AN29=\"\",\"\",個人種目登録!AN29)","v":""},{"$f":"IF(個人種目登録!AV29=\"\",\"\",個人種目登録!AV29)","v":""},{"$f":"IF(個人種目登録!AX29=\"\",\"\",個人種目登録!AX29)","v":""},{"$f":"IF(個人種目登録!AZ29=\"\",\"\",個人種目登録!AZ29)","v":""},{"$f":"IF(個人種目登録!BH29=\"\",\"\",個人種目登録!BH29)","v":""}]
[{"$f":"IF(個人種目登録!AP30=\"\",\"\",個人種目登録!AP30)","v":""},{"$f":"IF(個人種目登録!AR30=\"\",\"\",個人種目登録!AR30)","v":""},{"$f":"IF(個人種目登録!D30=\"\",\"\",個人種目登録!D30)","v":""},{"$f":"IF(個人種目登録!AO30=\"\",\"\",個人種目登録!AO30)","v":""},{"$f":"IF(個人種目登録!AS30=\"\",\"\",個人種目登録!AS30)","v":""},{"$f":"IF(個人種目登録!AT30=\"\",\"\",個人種目登録!AT30)","v":""},null,null,{"$f":"IF(個人種目登録!AN30=\"\",\"\",個人種目登録!AN30)","v":""},{"$f":"IF(個人種目登録!AV30=\"\",\"\",個人種目登録!AV30)","v":""},{"$f":"IF(個人種目登録!AX30=\"\",\"\",個人種目登録!AX30)","v":""},{"$f":"IF(個人種目登録!AZ30=\"\",\"\",個人種目登録!AZ30)","v":""},{"$f":"IF(個人種目登録!BH30=\"\",\"\",個人種目登録!BH30)","v":""}]
[{"$f":"IF(個人種目登録!AP31=\"\",\"\",個人種目登録!AP31)","v":""},{"$f":"IF(個人種目登録!AR31=\"\",\"\",個人種目登録!AR31)","v":""},{"$f":"IF(個人種目登録!D31=\"\",\"\",個人種目登録!D31)","v":""},{"$f":"IF(個人種目登録!AO31=\"\",\"\",個人種目登録!AO31)","v":""},{"$f":"IF(個人種目登録!AS31=\"\",\"\",個人種目登録!AS31)","v":""},{"$f":"IF(個人種目登録!AT31=\"\",\"\",個人種目登録!AT31)","v":""},null,null,{"$f":"IF(個人種目登録!AN31=\"\",\"\",個人種目登録!AN31)","v":""},{"$f":"IF(個人種目登録!AV31=\"\",\"\",個人種目登録!AV31)","v":""},{"$f":"IF(個人種目登録!AX31=\"\",\"\",個人種目登録!AX31)","v":""},{"$f":"IF(個人種目登録!AZ31=\"\",\"\",個人種目登録!AZ31)","v":""},{"$f":"IF(個人種目登録!BH31=\"\",\"\",個人種目登録!BH31)","v":""}]
[{"$f":"IF(個人種目登録!AP32=\"\",\"\",個人種目登録!AP32)","v":""},{"$f":"IF(個人種目登録!AR32=\"\",\"\",個人種目登録!AR32)","v":""},{"$f":"IF(個人種目登録!D32=\"\",\"\",個人種目登録!D32)","v":""},{"$f":"IF(個人種目登録!AO32=\"\",\"\",個人種目登録!AO32)","v":""},{"$f":"IF(個人種目登録!AS32=\"\",\"\",個人種目登録!AS32)","v":""},{"$f":"IF(個人種目登録!AT32=\"\",\"\",個人種目登録!AT32)","v":""},null,null,{"$f":"IF(個人種目登録!AN32=\"\",\"\",個人種目登録!AN32)","v":""},{"$f":"IF(個人種目登録!AV32=\"\",\"\",個人種目登録!AV32)","v":""},{"$f":"IF(個人種目登録!AX32=\"\",\"\",個人種目登録!AX32)","v":""},{"$f":"IF(個人種目登録!AZ32=\"\",\"\",個人種目登録!AZ32)","v":""},{"$f":"IF(個人種目登録!BH32=\"\",\"\",個人種目登録!BH32)","v":""}]
[{"$f":"IF(個人種目登録!AP33=\"\",\"\",個人種目登録!AP33)","v":""},{"$f":"IF(個人種目登録!AR33=\"\",\"\",個人種目登録!AR33)","v":""},{"$f":"IF(個人種目登録!D33=\"\",\"\",個人種目登録!D33)","v":""},{"$f":"IF(個人種目登録!AO33=\"\",\"\",個人種目登録!AO33)","v":""},{"$f":"IF(個人種目登録!AS33=\"\",\"\",個人種目登録!AS33)","v":""},{"$f":"IF(個人種目登録!AT33=\"\",\"\",個人種目登録!AT33)","v":""},null,null,{"$f":"IF(個人種目登録!AN33=\"\",\"\",個人種目登録!AN33)","v":""},{"$f":"IF(個人種目登録!AV33=\"\",\"\",個人種目登録!AV33)","v":""},{"$f":"IF(個人種目登録!AX33=\"\",\"\",個人種目登録!AX33)","v":""},{"$f":"IF(個人種目登録!AZ33=\"\",\"\",個人種目登録!AZ33)","v":""},{"$f":"IF(個人種目登録!BH33=\"\",\"\",個人種目登録!BH33)","v":""}]
[{"$f":"IF(個人種目登録!AP34=\"\",\"\",個人種目登録!AP34)","v":""},{"$f":"IF(個人種目登録!AR34=\"\",\"\",個人種目登録!AR34)","v":""},{"$f":"IF(個人種目登録!D34=\"\",\"\",個人種目登録!D34)","v":""},{"$f":"IF(個人種目登録!AO34=\"\",\"\",個人種目登録!AO34)","v":""},{"$f":"IF(個人種目登録!AS34=\"\",\"\",個人種目登録!AS34)","v":""},{"$f":"IF(個人種目登録!AT34=\"\",\"\",個人種目登録!AT34)","v":""},null,null,{"$f":"IF(個人種目登録!AN34=\"\",\"\",個人種目登録!AN34)","v":""},{"$f":"IF(個人種目登録!AV34=\"\",\"\",個人種目登録!AV34)","v":""},{"$f":"IF(個人種目登録!AX34=\"\",\"\",個人種目登録!AX34)","v":""},{"$f":"IF(個人種目登録!AZ34=\"\",\"\",個人種目登録!AZ34)","v":""},{"$f":"IF(個人種目登録!BH34=\"\",\"\",個人種目登録!BH34)","v":""}]
[{"$f":"IF(個人種目登録!AP35=\"\",\"\",個人種目登録!AP35)","v":""},{"$f":"IF(個人種目登録!AR35=\"\",\"\",個人種目登録!AR35)","v":""},{"$f":"IF(個人種目登録!D35=\"\",\"\",個人種目登録!D35)","v":""},{"$f":"IF(個人種目登録!AO35=\"\",\"\",個人種目登録!AO35)","v":""},{"$f":"IF(個人種目登録!AS35=\"\",\"\",個人種目登録!AS35)","v":""},{"$f":"IF(個人種目登録!AT35=\"\",\"\",個人種目登録!AT35)","v":""},null,null,{"$f":"IF(個人種目登録!AN35=\"\",\"\",個人種目登録!AN35)","v":""},{"$f":"IF(個人種目登録!AV35=\"\",\"\",個人種目登録!AV35)","v":""},{"$f":"IF(個人種目登録!AX35=\"\",\"\",個人種目登録!AX35)","v":""},{"$f":"IF(個人種目登録!AZ35=\"\",\"\",個人種目登録!AZ35)","v":""},{"$f":"IF(個人種目登録!BH35=\"\",\"\",個人種目登録!BH35)","v":""}]
[{"$f":"IF(個人種目登録!AP36=\"\",\"\",個人種目登録!AP36)","v":""},{"$f":"IF(個人種目登録!AR36=\"\",\"\",個人種目登録!AR36)","v":""},{"$f":"IF(個人種目登録!D36=\"\",\"\",個人種目登録!D36)","v":""},{"$f":"IF(個人種目登録!AO36=\"\",\"\",個人種目登録!AO36)","v":""},{"$f":"IF(個人種目登録!AS36=\"\",\"\",個人種目登録!AS36)","v":""},{"$f":"IF(個人種目登録!AT36=\"\",\"\",個人種目登録!AT36)","v":""},null,null,{"$f":"IF(個人種目登録!AN36=\"\",\"\",個人種目登録!AN36)","v":""},{"$f":"IF(個人種目登録!AV36=\"\",\"\",個人種目登録!AV36)","v":""},{"$f":"IF(個人種目登録!AX36=\"\",\"\",個人種目登録!AX36)","v":""},{"$f":"IF(個人種目登録!AZ36=\"\",\"\",個人種目登録!AZ36)","v":""},{"$f":"IF(個人種目登録!BH36=\"\",\"\",個人種目登録!BH36)","v":""}]
[{"$f":"IF(個人種目登録!AP37=\"\",\"\",個人種目登録!AP37)","v":""},{"$f":"IF(個人種目登録!AR37=\"\",\"\",個人種目登録!AR37)","v":""},{"$f":"IF(個人種目登録!D37=\"\",\"\",個人種目登録!D37)","v":""},{"$f":"IF(個人種目登録!AO37=\"\",\"\",個人種目登録!AO37)","v":""},{"$f":"IF(個人種目登録!AS37=\"\",\"\",個人種目登録!AS37)","v":""},{"$f":"IF(個人種目登録!AT37=\"\",\"\",個人種目登録!AT37)","v":""},null,null,{"$f":"IF(個人種目登録!AN37=\"\",\"\",個人種目登録!AN37)","v":""},{"$f":"IF(個人種目登録!AV37=\"\",\"\",個人種目登録!AV37)","v":""},{"$f":"IF(個人種目登録!AX37=\"\",\"\",個人種目登録!AX37)","v":""},{"$f":"IF(個人種目登録!AZ37=\"\",\"\",個人種目登録!AZ37)","v":""},{"$f":"IF(個人種目登録!BH37=\"\",\"\",個人種目登録!BH37)","v":""}]
[{"$f":"IF(個人種目登録!AP38=\"\",\"\",個人種目登録!AP38)","v":""},{"$f":"IF(個人種目登録!AR38=\"\",\"\",個人種目登録!AR38)","v":""},{"$f":"IF(個人種目登録!D38=\"\",\"\",個人種目登録!D38)","v":""},{"$f":"IF(個人種目登録!AO38=\"\",\"\",個人種目登録!AO38)","v":""},{"$f":"IF(個人種目登録!AS38=\"\",\"\",個人種目登録!AS38)","v":""},{"$f":"IF(個人種目登録!AT38=\"\",\"\",個人種目登録!AT38)","v":""},null,null,{"$f":"IF(個人種目登録!AN38=\"\",\"\",個人種目登録!AN38)","v":""},{"$f":"IF(個人種目登録!AV38=\"\",\"\",個人種目登録!AV38)","v":""},{"$f":"IF(個人種目登録!AX38=\"\",\"\",個人種目登録!AX38)","v":""},{"$f":"IF(個人種目登録!AZ38=\"\",\"\",個人種目登録!AZ38)","v":""},{"$f":"IF(個人種目登録!BH38=\"\",\"\",個人種目登録!BH38)","v":""}]
[{"$f":"IF(個人種目登録!AP39=\"\",\"\",個人種目登録!AP39)","v":""},{"$f":"IF(個人種目登録!AR39=\"\",\"\",個人種目登録!AR39)","v":""},{"$f":"IF(個人種目登録!D39=\"\",\"\",個人種目登録!D39)","v":""},{"$f":"IF(個人種目登録!AO39=\"\",\"\",個人種目登録!AO39)","v":""},{"$f":"IF(個人種目登録!AS39=\"\",\"\",個人種目登録!AS39)","v":""},{"$f":"IF(個人種目登録!AT39=\"\",\"\",個人種目登録!AT39)","v":""},null,null,{"$f":"IF(個人種目登録!AN39=\"\",\"\",個人種目登録!AN39)","v":""},{"$f":"IF(個人種目登録!AV39=\"\",\"\",個人種目登録!AV39)","v":""},{"$f":"IF(個人種目登録!AX39=\"\",\"\",個人種目登録!AX39)","v":""},{"$f":"IF(個人種目登録!AZ39=\"\",\"\",個人種目登録!AZ39)","v":""},{"$f":"IF(個人種目登録!BH39=\"\",\"\",個人種目登録!BH39)","v":""}]
[{"$f":"IF(個人種目登録!AP40=\"\",\"\",個人種目登録!AP40)","v":""},{"$f":"IF(個人種目登録!AR40=\"\",\"\",個人種目登録!AR40)","v":""},{"$f":"IF(個人種目登録!D40=\"\",\"\",個人種目登録!D40)","v":""},{"$f":"IF(個人種目登録!AO40=\"\",\"\",個人種目登録!AO40)","v":""},{"$f":"IF(個人種目登録!AS40=\"\",\"\",個人種目登録!AS40)","v":""},{"$f":"IF(個人種目登録!AT40=\"\",\"\",個人種目登録!AT40)","v":""},null,null,{"$f":"IF(個人種目登録!AN40=\"\",\"\",個人種目登録!AN40)","v":""},{"$f":"IF(個人種目登録!AV40=\"\",\"\",個人種目登録!AV40)","v":""},{"$f":"IF(個人種目登録!AX40=\"\",\"\",個人種目登録!AX40)","v":""},{"$f":"IF(個人種目登録!AZ40=\"\",\"\",個人種目登録!AZ40)","v":""},{"$f":"IF(個人種目登録!BH40=\"\",\"\",個人種目登録!BH40)","v":""}]
[{"$f":"IF(個人種目登録!AP41=\"\",\"\",個人種目登録!AP41)","v":""},{"$f":"IF(個人種目登録!AR41=\"\",\"\",個人種目登録!AR41)","v":""},{"$f":"IF(個人種目登録!D41=\"\",\"\",個人種目登録!D41)","v":""},{"$f":"IF(個人種目登録!AO41=\"\",\"\",個人種目登録!AO41)","v":""},{"$f":"IF(個人種目登録!AS41=\"\",\"\",個人種目登録!AS41)","v":""},{"$f":"IF(個人種目登録!AT41=\"\",\"\",個人種目登録!AT41)","v":""},null,null,{"$f":"IF(個人種目登録!AN41=\"\",\"\",個人種目登録!AN41)","v":""},{"$f":"IF(個人種目登録!AV41=\"\",\"\",個人種目登録!AV41)","v":""},{"$f":"IF(個人種目登録!AX41=\"\",\"\",個人種目登録!AX41)","v":""},{"$f":"IF(個人種目登録!AZ41=\"\",\"\",個人種目登録!AZ41)","v":""},{"$f":"IF(個人種目登録!BH41=\"\",\"\",個人種目登録!BH41)","v":""}]
[{"$f":"IF(個人種目登録!AP42=\"\",\"\",個人種目登録!AP42)","v":""},{"$f":"IF(個人種目登録!AR42=\"\",\"\",個人種目登録!AR42)","v":""},{"$f":"IF(個人種目登録!D42=\"\",\"\",個人種目登録!D42)","v":""},{"$f":"IF(個人種目登録!AO42=\"\",\"\",個人種目登録!AO42)","v":""},{"$f":"IF(個人種目登録!AS42=\"\",\"\",個人種目登録!AS42)","v":""},{"$f":"IF(個人種目登録!AT42=\"\",\"\",個人種目登録!AT42)","v":""},null,null,{"$f":"IF(個人種目登録!AN42=\"\",\"\",個人種目登録!AN42)","v":""},{"$f":"IF(個人種目登録!AV42=\"\",\"\",個人種目登録!AV42)","v":""},{"$f":"IF(個人種目登録!AX42=\"\",\"\",個人種目登録!AX42)","v":""},{"$f":"IF(個人種目登録!AZ42=\"\",\"\",個人種目登録!AZ42)","v":""},{"$f":"IF(個人種目登録!BH42=\"\",\"\",個人種目登録!BH42)","v":""}]
[{"$f":"IF(個人種目登録!AP43=\"\",\"\",個人種目登録!AP43)","v":""},{"$f":"IF(個人種目登録!AR43=\"\",\"\",個人種目登録!AR43)","v":""},{"$f":"IF(個人種目登録!D43=\"\",\"\",個人種目登録!D43)","v":""},{"$f":"IF(個人種目登録!AO43=\"\",\"\",個人種目登録!AO43)","v":""},{"$f":"IF(個人種目登録!AS43=\"\",\"\",個人種目登録!AS43)","v":""},{"$f":"IF(個人種目登録!AT43=\"\",\"\",個人種目登録!AT43)","v":""},null,null,{"$f":"IF(個人種目登録!AN43=\"\",\"\",個人種目登録!AN43)","v":""},{"$f":"IF(個人種目登録!AV43=\"\",\"\",個人種目登録!AV43)","v":""},{"$f":"IF(個人種目登録!AX43=\"\",\"\",個人種目登録!AX43)","v":""},{"$f":"IF(個人種目登録!AZ43=\"\",\"\",個人種目登録!AZ43)","v":""},{"$f":"IF(個人種目登録!BH43=\"\",\"\",個人種目登録!BH43)","v":""}]
[{"$f":"IF(個人種目登録!AP44=\"\",\"\",個人種目登録!AP44)","v":""},{"$f":"IF(個人種目登録!AR44=\"\",\"\",個人種目登録!AR44)","v":""},{"$f":"IF(個人種目登録!D44=\"\",\"\",個人種目登録!D44)","v":""},{"$f":"IF(個人種目登録!AO44=\"\",\"\",個人種目登録!AO44)","v":""},{"$f":"IF(個人種目登録!AS44=\"\",\"\",個人種目登録!AS44)","v":""},{"$f":"IF(個人種目登録!AT44=\"\",\"\",個人種目登録!AT44)","v":""},null,null,{"$f":"IF(個人種目登録!AN44=\"\",\"\",個人種目登録!AN44)","v":""},{"$f":"IF(個人種目登録!AV44=\"\",\"\",個人種目登録!AV44)","v":""},{"$f":"IF(個人種目登録!AX44=\"\",\"\",個人種目登録!AX44)","v":""},{"$f":"IF(個人種目登録!AZ44=\"\",\"\",個人種目登録!AZ44)","v":""},{"$f":"IF(個人種目登録!BH44=\"\",\"\",個人種目登録!BH44)","v":""}]
[{"$f":"IF(個人種目登録!AP45=\"\",\"\",個人種目登録!AP45)","v":""},{"$f":"IF(個人種目登録!AR45=\"\",\"\",個人種目登録!AR45)","v":""},{"$f":"IF(個人種目登録!D45=\"\",\"\",個人種目登録!D45)","v":""},{"$f":"IF(個人種目登録!AO45=\"\",\"\",個人種目登録!AO45)","v":""},{"$f":"IF(個人種目登録!AS45=\"\",\"\",個人種目登録!AS45)","v":""},{"$f":"IF(個人種目登録!AT45=\"\",\"\",個人種目登録!AT45)","v":""},null,null,{"$f":"IF(個人種目登録!AN45=\"\",\"\",個人種目登録!AN45)","v":""},{"$f":"IF(個人種目登録!AV45=\"\",\"\",個人種目登録!AV45)","v":""},{"$f":"IF(個人種目登録!AX45=\"\",\"\",個人種目登録!AX45)","v":""},{"$f":"IF(個人種目登録!AZ45=\"\",\"\",個人種目登録!AZ45)","v":""},{"$f":"IF(個人種目登録!BH45=\"\",\"\",個人種目登録!BH45)","v":""}]
[{"$f":"IF(個人種目登録!AP46=\"\",\"\",個人種目登録!AP46)","v":""},{"$f":"IF(個人種目登録!AR46=\"\",\"\",個人種目登録!AR46)","v":""},{"$f":"IF(個人種目登録!D46=\"\",\"\",個人種目登録!D46)","v":""},{"$f":"IF(個人種目登録!AO46=\"\",\"\",個人種目登録!AO46)","v":""},{"$f":"IF(個人種目登録!AS46=\"\",\"\",個人種目登録!AS46)","v":""},{"$f":"IF(個人種目登録!AT46=\"\",\"\",個人種目登録!AT46)","v":""},null,null,{"$f":"IF(個人種目登録!AN46=\"\",\"\",個人種目登録!AN46)","v":""},{"$f":"IF(個人種目登録!AV46=\"\",\"\",個人種目登録!AV46)","v":""},{"$f":"IF(個人種目登録!AX46=\"\",\"\",個人種目登録!AX46)","v":""},{"$f":"IF(個人種目登録!AZ46=\"\",\"\",個人種目登録!AZ46)","v":""},{"$f":"IF(個人種目登録!BH46=\"\",\"\",個人種目登録!BH46)","v":""}]
[{"$f":"IF(個人種目登録!AP47=\"\",\"\",個人種目登録!AP47)","v":""},{"$f":"IF(個人種目登録!AR47=\"\",\"\",個人種目登録!AR47)","v":""},{"$f":"IF(個人種目登録!D47=\"\",\"\",個人種目登録!D47)","v":""},{"$f":"IF(個人種目登録!AO47=\"\",\"\",個人種目登録!AO47)","v":""},{"$f":"IF(個人種目登録!AS47=\"\",\"\",個人種目登録!AS47)","v":""},{"$f":"IF(個人種目登録!AT47=\"\",\"\",個人種目登録!AT47)","v":""},null,null,{"$f":"IF(個人種目登録!AN47=\"\",\"\",個人種目登録!AN47)","v":""},{"$f":"IF(個人種目登録!AV47=\"\",\"\",個人種目登録!AV47)","v":""},{"$f":"IF(個人種目登録!AX47=\"\",\"\",個人種目登録!AX47)","v":""},{"$f":"IF(個人種目登録!AZ47=\"\",\"\",個人種目登録!AZ47)","v":""},{"$f":"IF(個人種目登録!BH47=\"\",\"\",個人種目登録!BH47)","v":""}]
[{"$f":"IF(個人種目登録!AP48=\"\",\"\",個人種目登録!AP48)","v":""},{"$f":"IF(個人種目登録!AR48=\"\",\"\",個人種目登録!AR48)","v":""},{"$f":"IF(個人種目登録!D48=\"\",\"\",個人種目登録!D48)","v":""},{"$f":"IF(個人種目登録!AO48=\"\",\"\",個人種目登録!AO48)","v":""},{"$f":"IF(個人種目登録!AS48=\"\",\"\",個人種目登録!AS48)","v":""},{"$f":"IF(個人種目登録!AT48=\"\",\"\",個人種目登録!AT48)","v":""},null,null,{"$f":"IF(個人種目登録!AN48=\"\",\"\",個人種目登録!AN48)","v":""},{"$f":"IF(個人種目登録!AV48=\"\",\"\",個人種目登録!AV48)","v":""},{"$f":"IF(個人種目登録!AX48=\"\",\"\",個人種目登録!AX48)","v":""},{"$f":"IF(個人種目登録!AZ48=\"\",\"\",個人種目登録!AZ48)","v":""},{"$f":"IF(個人種目登録!BH48=\"\",\"\",個人種目登録!BH48)","v":""}]
[{"$f":"IF(個人種目登録!AP49=\"\",\"\",個人種目登録!AP49)","v":""},{"$f":"IF(個人種目登録!AR49=\"\",\"\",個人種目登録!AR49)","v":""},{"$f":"IF(個人種目登録!D49=\"\",\"\",個人種目登録!D49)","v":""},{"$f":"IF(個人種目登録!AO49=\"\",\"\",個人種目登録!AO49)","v":""},{"$f":"IF(個人種目登録!AS49=\"\",\"\",個人種目登録!AS49)","v":""},{"$f":"IF(個人種目登録!AT49=\"\",\"\",個人種目登録!AT49)","v":""},null,null,{"$f":"IF(個人種目登録!AN49=\"\",\"\",個人種目登録!AN49)","v":""},{"$f":"IF(個人種目登録!AV49=\"\",\"\",個人種目登録!AV49)","v":""},{"$f":"IF(個人種目登録!AX49=\"\",\"\",個人種目登録!AX49)","v":""},{"$f":"IF(個人種目登録!AZ49=\"\",\"\",個人種目登録!AZ49)","v":""},{"$f":"IF(個人種目登録!BH49=\"\",\"\",個人種目登録!BH49)","v":""}]
[{"$f":"IF(個人種目登録!AP50=\"\",\"\",個人種目登録!AP50)","v":""},{"$f":"IF(個人種目登録!AR50=\"\",\"\",個人種目登録!AR50)","v":""},{"$f":"IF(個人種目登録!D50=\"\",\"\",個人種目登録!D50)","v":""},{"$f":"IF(個人種目登録!AO50=\"\",\"\",個人種目登録!AO50)","v":""},{"$f":"IF(個人種目登録!AS50=\"\",\"\",個人種目登録!AS50)","v":""},{"$f":"IF(個人種目登録!AT50=\"\",\"\",個人種目登録!AT50)","v":""},null,null,{"$f":"IF(個人種目登録!AN50=\"\",\"\",個人種目登録!AN50)","v":""},{"$f":"IF(個人種目登録!AV50=\"\",\"\",個人種目登録!AV50)","v":""},{"$f":"IF(個人種目登録!AX50=\"\",\"\",個人種目登録!AX50)","v":""},{"$f":"IF(個人種目登録!AZ50=\"\",\"\",個人種目登録!AZ50)","v":""},{"$f":"IF(個人種目登録!BH50=\"\",\"\",個人種目登録!BH50)","v":""}]
[{"$f":"IF(個人種目登録!AP51=\"\",\"\",個人種目登録!AP51)","v":""},{"$f":"IF(個人種目登録!AR51=\"\",\"\",個人種目登録!AR51)","v":""},{"$f":"IF(個人種目登録!D51=\"\",\"\",個人種目登録!D51)","v":""},{"$f":"IF(個人種目登録!AO51=\"\",\"\",個人種目登録!AO51)","v":""},{"$f":"IF(個人種目登録!AS51=\"\",\"\",個人種目登録!AS51)","v":""},{"$f":"IF(個人種目登録!AT51=\"\",\"\",個人種目登録!AT51)","v":""},null,null,{"$f":"IF(個人種目登録!AN51=\"\",\"\",個人種目登録!AN51)","v":""},{"$f":"IF(個人種目登録!AV51=\"\",\"\",個人種目登録!AV51)","v":""},{"$f":"IF(個人種目登録!AX51=\"\",\"\",個人種目登録!AX51)","v":""},{"$f":"IF(個人種目登録!AZ51=\"\",\"\",個人種目登録!AZ51)","v":""},{"$f":"IF(個人種目登録!BH51=\"\",\"\",個人種目登録!BH51)","v":""}]
[{"$f":"IF(個人種目登録!AP52=\"\",\"\",個人種目登録!AP52)","v":""},{"$f":"IF(個人種目登録!AR52=\"\",\"\",個人種目登録!AR52)","v":""},{"$f":"IF(個人種目登録!D52=\"\",\"\",個人種目登録!D52)","v":""},{"$f":"IF(個人種目登録!AO52=\"\",\"\",個人種目登録!AO52)","v":""},{"$f":"IF(個人種目登録!AS52=\"\",\"\",個人種目登録!AS52)","v":""},{"$f":"IF(個人種目登録!AT52=\"\",\"\",個人種目登録!AT52)","v":""},null,null,{"$f":"IF(個人種目登録!AN52=\"\",\"\",個人種目登録!AN52)","v":""},{"$f":"IF(個人種目登録!AV52=\"\",\"\",個人種目登録!AV52)","v":""},{"$f":"IF(個人種目登録!AX52=\"\",\"\",個人種目登録!AX52)","v":""},{"$f":"IF(個人種目登録!AZ52=\"\",\"\",個人種目登録!AZ52)","v":""},{"$f":"IF(個人種目登録!BH52=\"\",\"\",個人種目登録!BH52)","v":""}]
[{"$f":"IF(個人種目登録!AP53=\"\",\"\",個人種目登録!AP53)","v":""},{"$f":"IF(個人種目登録!AR53=\"\",\"\",個人種目登録!AR53)","v":""},{"$f":"IF(個人種目登録!D53=\"\",\"\",個人種目登録!D53)","v":""},{"$f":"IF(個人種目登録!AO53=\"\",\"\",個人種目登録!AO53)","v":""},{"$f":"IF(個人種目登録!AS53=\"\",\"\",個人種目登録!AS53)","v":""},{"$f":"IF(個人種目登録!AT53=\"\",\"\",個人種目登録!AT53)","v":""},null,null,{"$f":"IF(個人種目登録!AN53=\"\",\"\",個人種目登録!AN53)","v":""},{"$f":"IF(個人種目登録!AV53=\"\",\"\",個人種目登録!AV53)","v":""},{"$f":"IF(個人種目登録!AX53=\"\",\"\",個人種目登録!AX53)","v":""},{"$f":"IF(個人種目登録!AZ53=\"\",\"\",個人種目登録!AZ53)","v":""},{"$f":"IF(個人種目登録!BH53=\"\",\"\",個人種目登録!BH53)","v":""}]
[{"$f":"IF(個人種目登録!AP54=\"\",\"\",個人種目登録!AP54)","v":""},{"$f":"IF(個人種目登録!AR54=\"\",\"\",個人種目登録!AR54)","v":""},{"$f":"IF(個人種目登録!D54=\"\",\"\",個人種目登録!D54)","v":""},{"$f":"IF(個人種目登録!AO54=\"\",\"\",個人種目登録!AO54)","v":""},{"$f":"IF(個人種目登録!AS54=\"\",\"\",個人種目登録!AS54)","v":""},{"$f":"IF(個人種目登録!AT54=\"\",\"\",個人種目登録!AT54)","v":""},null,null,{"$f":"IF(個人種目登録!AN54=\"\",\"\",個人種目登録!AN54)","v":""},{"$f":"IF(個人種目登録!AV54=\"\",\"\",個人種目登録!AV54)","v":""},{"$f":"IF(個人種目登録!AX54=\"\",\"\",個人種目登録!AX54)","v":""},{"$f":"IF(個人種目登録!AZ54=\"\",\"\",個人種目登録!AZ54)","v":""},{"$f":"IF(個人種目登録!BH54=\"\",\"\",個人種目登録!BH54)","v":""}]
[{"$f":"IF(個人種目登録!AP55=\"\",\"\",個人種目登録!AP55)","v":""},{"$f":"IF(個人種目登録!AR55=\"\",\"\",個人種目登録!AR55)","v":""},{"$f":"IF(個人種目登録!D55=\"\",\"\",個人種目登録!D55)","v":""},{"$f":"IF(個人種目登録!AO55=\"\",\"\",個人種目登録!AO55)","v":""},{"$f":"IF(個人種目登録!AS55=\"\",\"\",個人種目登録!AS55)","v":""},{"$f":"IF(個人種目登録!AT55=\"\",\"\",個人種目登録!AT55)","v":""},null,null,{"$f":"IF(個人種目登録!AN55=\"\",\"\",個人種目登録!AN55)","v":""},{"$f":"IF(個人種目登録!AV55=\"\",\"\",個人種目登録!AV55)","v":""},{"$f":"IF(個人種目登録!AX55=\"\",\"\",個人種目登録!AX55)","v":""},{"$f":"IF(個人種目登録!AZ55=\"\",\"\",個人種目登録!AZ55)","v":""},{"$f":"IF(個人種目登録!BH55=\"\",\"\",個人種目登録!BH55)","v":""}]
[{"$f":"IF(個人種目登録!AP56=\"\",\"\",個人種目登録!AP56)","v":""},{"$f":"IF(個人種目登録!AR56=\"\",\"\",個人種目登録!AR56)","v":""},{"$f":"IF(個人種目登録!D56=\"\",\"\",個人種目登録!D56)","v":""},{"$f":"IF(個人種目登録!AO56=\"\",\"\",個人種目登録!AO56)","v":""},{"$f":"IF(個人種目登録!AS56=\"\",\"\",個人種目登録!AS56)","v":""},{"$f":"IF(個人種目登録!AT56=\"\",\"\",個人種目登録!AT56)","v":""},null,null,{"$f":"IF(個人種目登録!AN56=\"\",\"\",個人種目登録!AN56)","v":""},{"$f":"IF(個人種目登録!AV56=\"\",\"\",個人種目登録!AV56)","v":""},{"$f":"IF(個人種目登録!AX56=\"\",\"\",個人種目登録!AX56)","v":""},{"$f":"IF(個人種目登録!AZ56=\"\",\"\",個人種目登録!AZ56)","v":""},{"$f":"IF(個人種目登録!BH56=\"\",\"\",個人種目登録!BH56)","v":""}]
[{"$f":"IF(個人種目登録!AP57=\"\",\"\",個人種目登録!AP57)","v":""},{"$f":"IF(個人種目登録!AR57=\"\",\"\",個人種目登録!AR57)","v":""},{"$f":"IF(個人種目登録!D57=\"\",\"\",個人種目登録!D57)","v":""},{"$f":"IF(個人種目登録!AO57=\"\",\"\",個人種目登録!AO57)","v":""},{"$f":"IF(個人種目登録!AS57=\"\",\"\",個人種目登録!AS57)","v":""},{"$f":"IF(個人種目登録!AT57=\"\",\"\",個人種目登録!AT57)","v":""},null,null,{"$f":"IF(個人種目登録!AN57=\"\",\"\",個人種目登録!AN57)","v":""},{"$f":"IF(個人種目登録!AV57=\"\",\"\",個人種目登録!AV57)","v":""},{"$f":"IF(個人種目登録!AX57=\"\",\"\",個人種目登録!AX57)","v":""},{"$f":"IF(個人種目登録!AZ57=\"\",\"\",個人種目登録!AZ57)","v":""},{"$f":"IF(個人種目登録!BH57=\"\",\"\",個人種目登録!BH57)","v":""}]
[{"$f":"IF(個人種目登録!AP58=\"\",\"\",個人種目登録!AP58)","v":""},{"$f":"IF(個人種目登録!AR58=\"\",\"\",個人種目登録!AR58)","v":""},{"$f":"IF(個人種目登録!D58=\"\",\"\",個人種目登録!D58)","v":""},{"$f":"IF(個人種目登録!AO58=\"\",\"\",個人種目登録!AO58)","v":""},{"$f":"IF(個人種目登録!AS58=\"\",\"\",個人種目登録!AS58)","v":""},{"$f":"IF(個人種目登録!AT58=\"\",\"\",個人種目登録!AT58)","v":""},null,null,{"$f":"IF(個人種目登録!AN58=\"\",\"\",個人種目登録!AN58)","v":""},{"$f":"IF(個人種目登録!AV58=\"\",\"\",個人種目登録!AV58)","v":""},{"$f":"IF(個人種目登録!AX58=\"\",\"\",個人種目登録!AX58)","v":""},{"$f":"IF(個人種目登録!AZ58=\"\",\"\",個人種目登録!AZ58)","v":""},{"$f":"IF(個人種目登録!BH58=\"\",\"\",個人種目登録!BH58)","v":""}]
[{"$f":"IF(個人種目登録!AP59=\"\",\"\",個人種目登録!AP59)","v":""},{"$f":"IF(個人種目登録!AR59=\"\",\"\",個人種目登録!AR59)","v":""},{"$f":"IF(個人種目登録!D59=\"\",\"\",個人種目登録!D59)","v":""},{"$f":"IF(個人種目登録!AO59=\"\",\"\",個人種目登録!AO59)","v":""},{"$f":"IF(個人種目登録!AS59=\"\",\"\",個人種目登録!AS59)","v":""},{"$f":"IF(個人種目登録!AT59=\"\",\"\",個人種目登録!AT59)","v":""},null,null,{"$f":"IF(個人種目登録!AN59=\"\",\"\",個人種目登録!AN59)","v":""},{"$f":"IF(個人種目登録!AV59=\"\",\"\",個人種目登録!AV59)","v":""},{"$f":"IF(個人種目登録!AX59=\"\",\"\",個人種目登録!AX59)","v":""},{"$f":"IF(個人種目登録!AZ59=\"\",\"\",個人種目登録!AZ59)","v":""},{"$f":"IF(個人種目登録!BH59=\"\",\"\",個人種目登録!BH59)","v":""}]
[{"$f":"IF(個人種目登録!AP60=\"\",\"\",個人種目登録!AP60)","v":""},{"$f":"IF(個人種目登録!AR60=\"\",\"\",個人種目登録!AR60)","v":""},{"$f":"IF(個人種目登録!D60=\"\",\"\",個人種目登録!D60)","v":""},{"$f":"IF(個人種目登録!AO60=\"\",\"\",個人種目登録!AO60)","v":""},{"$f":"IF(個人種目登録!AS60=\"\",\"\",個人種目登録!AS60)","v":""},{"$f":"IF(個人種目登録!AT60=\"\",\"\",個人種目登録!AT60)","v":""},null,null,{"$f":"IF(個人種目登録!AN60=\"\",\"\",個人種目登録!AN60)","v":""},{"$f":"IF(個人種目登録!AV60=\"\",\"\",個人種目登録!AV60)","v":""},{"$f":"IF(個人種目登録!AX60=\"\",\"\",個人種目登録!AX60)","v":""},{"$f":"IF(個人種目登録!AZ60=\"\",\"\",個人種目登録!AZ60)","v":""},{"$f":"IF(個人種目登録!BH60=\"\",\"\",個人種目登録!BH60)","v":""}]
[{"$f":"IF(個人種目登録!AP61=\"\",\"\",個人種目登録!AP61)","v":""},{"$f":"IF(個人種目登録!AR61=\"\",\"\",個人種目登録!AR61)","v":""},{"$f":"IF(個人種目登録!D61=\"\",\"\",個人種目登録!D61)","v":""},{"$f":"IF(個人種目登録!AO61=\"\",\"\",個人種目登録!AO61)","v":""},{"$f":"IF(個人種目登録!AS61=\"\",\"\",個人種目登録!AS61)","v":""},{"$f":"IF(個人種目登録!AT61=\"\",\"\",個人種目登録!AT61)","v":""},null,null,{"$f":"IF(個人種目登録!AN61=\"\",\"\",個人種目登録!AN61)","v":""},{"$f":"IF(個人種目登録!AV61=\"\",\"\",個人種目登録!AV61)","v":""},{"$f":"IF(個人種目登録!AX61=\"\",\"\",個人種目登録!AX61)","v":""},{"$f":"IF(個人種目登録!AZ61=\"\",\"\",個人種目登録!AZ61)","v":""},{"$f":"IF(個人種目登録!BH61=\"\",\"\",個人種目登録!BH61)","v":""}]
[{"$f":"IF(個人種目登録!AP62=\"\",\"\",個人種目登録!AP62)","v":""},{"$f":"IF(個人種目登録!AR62=\"\",\"\",個人種目登録!AR62)","v":""},{"$f":"IF(個人種目登録!D62=\"\",\"\",個人種目登録!D62)","v":""},{"$f":"IF(個人種目登録!AO62=\"\",\"\",個人種目登録!AO62)","v":""},{"$f":"IF(個人種目登録!AS62=\"\",\"\",個人種目登録!AS62)","v":""},{"$f":"IF(個人種目登録!AT62=\"\",\"\",個人種目登録!AT62)","v":""},null,null,{"$f":"IF(個人種目登録!AN62=\"\",\"\",個人種目登録!AN62)","v":""},{"$f":"IF(個人種目登録!AV62=\"\",\"\",個人種目登録!AV62)","v":""},{"$f":"IF(個人種目登録!AX62=\"\",\"\",個人種目登録!AX62)","v":""},{"$f":"IF(個人種目登録!AZ62=\"\",\"\",個人種目登録!AZ62)","v":""},{"$f":"IF(個人種目登録!BH62=\"\",\"\",個人種目登録!BH62)","v":""}]
[{"$f":"IF(個人種目登録!AP63=\"\",\"\",個人種目登録!AP63)","v":""},{"$f":"IF(個人種目登録!AR63=\"\",\"\",個人種目登録!AR63)","v":""},{"$f":"IF(個人種目登録!D63=\"\",\"\",個人種目登録!D63)","v":""},{"$f":"IF(個人種目登録!AO63=\"\",\"\",個人種目登録!AO63)","v":""},{"$f":"IF(個人種目登録!AS63=\"\",\"\",個人種目登録!AS63)","v":""},{"$f":"IF(個人種目登録!AT63=\"\",\"\",個人種目登録!AT63)","v":""},null,null,{"$f":"IF(個人種目登録!AN63=\"\",\"\",個人種目登録!AN63)","v":""},{"$f":"IF(個人種目登録!AV63=\"\",\"\",個人種目登録!AV63)","v":""},{"$f":"IF(個人種目登録!AX63=\"\",\"\",個人種目登録!AX63)","v":""},{"$f":"IF(個人種目登録!AZ63=\"\",\"\",個人種目登録!AZ63)","v":""},{"$f":"IF(個人種目登録!BH63=\"\",\"\",個人種目登録!BH63)","v":""}]
[{"$f":"IF(個人種目登録!AP64=\"\",\"\",個人種目登録!AP64)","v":""},{"$f":"IF(個人種目登録!AR64=\"\",\"\",個人種目登録!AR64)","v":""},{"$f":"IF(個人種目登録!D64=\"\",\"\",個人種目登録!D64)","v":""},{"$f":"IF(個人種目登録!AO64=\"\",\"\",個人種目登録!AO64)","v":""},{"$f":"IF(個人種目登録!AS64=\"\",\"\",個人種目登録!AS64)","v":""},{"$f":"IF(個人種目登録!AT64=\"\",\"\",個人種目登録!AT64)","v":""},null,null,{"$f":"IF(個人種目登録!AN64=\"\",\"\",個人種目登録!AN64)","v":""},{"$f":"IF(個人種目登録!AV64=\"\",\"\",個人種目登録!AV64)","v":""},{"$f":"IF(個人種目登録!AX64=\"\",\"\",個人種目登録!AX64)","v":""},{"$f":"IF(個人種目登録!AZ64=\"\",\"\",個人種目登録!AZ64)","v":""},{"$f":"IF(個人種目登録!BH64=\"\",\"\",個人種目登録!BH64)","v":""}]
[{"$f":"IF(個人種目登録!AP65=\"\",\"\",個人種目登録!AP65)","v":""},{"$f":"IF(個人種目登録!AR65=\"\",\"\",個人種目登録!AR65)","v":""},{"$f":"IF(個人種目登録!D65=\"\",\"\",個人種目登録!D65)","v":""},{"$f":"IF(個人種目登録!AO65=\"\",\"\",個人種目登録!AO65)","v":""},{"$f":"IF(個人種目登録!AS65=\"\",\"\",個人種目登録!AS65)","v":""},{"$f":"IF(個人種目登録!AT65=\"\",\"\",個人種目登録!AT65)","v":""},null,null,{"$f":"IF(個人種目登録!AN65=\"\",\"\",個人種目登録!AN65)","v":""},{"$f":"IF(個人種目登録!AV65=\"\",\"\",個人種目登録!AV65)","v":""},{"$f":"IF(個人種目登録!AX65=\"\",\"\",個人種目登録!AX65)","v":""},{"$f":"IF(個人種目登録!AZ65=\"\",\"\",個人種目登録!AZ65)","v":""},{"$f":"IF(個人種目登録!BH65=\"\",\"\",個人種目登録!BH65)","v":""}]
[{"$f":"IF(個人種目登録!AP66=\"\",\"\",個人種目登録!AP66)","v":""},{"$f":"IF(個人種目登録!AR66=\"\",\"\",個人種目登録!AR66)","v":""},{"$f":"IF(個人種目登録!D66=\"\",\"\",個人種目登録!D66)","v":""},{"$f":"IF(個人種目登録!AO66=\"\",\"\",個人種目登録!AO66)","v":""},{"$f":"IF(個人種目登録!AS66=\"\",\"\",個人種目登録!AS66)","v":""},{"$f":"IF(個人種目登録!AT66=\"\",\"\",個人種目登録!AT66)","v":""},null,null,{"$f":"IF(個人種目登録!AN66=\"\",\"\",個人種目登録!AN66)","v":""},{"$f":"IF(個人種目登録!AV66=\"\",\"\",個人種目登録!AV66)","v":""},{"$f":"IF(個人種目登録!AX66=\"\",\"\",個人種目登録!AX66)","v":""},{"$f":"IF(個人種目登録!AZ66=\"\",\"\",個人種目登録!AZ66)","v":""},{"$f":"IF(個人種目登録!BH66=\"\",\"\",個人種目登録!BH66)","v":""}]
[{"$f":"IF(個人種目登録!AP67=\"\",\"\",個人種目登録!AP67)","v":""},{"$f":"IF(個人種目登録!AR67=\"\",\"\",個人種目登録!AR67)","v":""},{"$f":"IF(個人種目登録!D67=\"\",\"\",個人種目登録!D67)","v":""},{"$f":"IF(個人種目登録!AO67=\"\",\"\",個人種目登録!AO67)","v":""},{"$f":"IF(個人種目登録!AS67=\"\",\"\",個人種目登録!AS67)","v":""},{"$f":"IF(個人種目登録!AT67=\"\",\"\",個人種目登録!AT67)","v":""},null,null,{"$f":"IF(個人種目登録!AN67=\"\",\"\",個人種目登録!AN67)","v":""},{"$f":"IF(個人種目登録!AV67=\"\",\"\",個人種目登録!AV67)","v":""},{"$f":"IF(個人種目登録!AX67=\"\",\"\",個人種目登録!AX67)","v":""},{"$f":"IF(個人種目登録!AZ67=\"\",\"\",個人種目登録!AZ67)","v":""},{"$f":"IF(個人種目登録!BH67=\"\",\"\",個人種目登録!BH67)","v":""}]
[{"$f":"IF(個人種目登録!AP68=\"\",\"\",個人種目登録!AP68)","v":""},{"$f":"IF(個人種目登録!AR68=\"\",\"\",個人種目登録!AR68)","v":""},{"$f":"IF(個人種目登録!D68=\"\",\"\",個人種目登録!D68)","v":""},{"$f":"IF(個人種目登録!AO68=\"\",\"\",個人種目登録!AO68)","v":""},{"$f":"IF(個人種目登録!AS68=\"\",\"\",個人種目登録!AS68)","v":""},{"$f":"IF(個人種目登録!AT68=\"\",\"\",個人種目登録!AT68)","v":""},null,null,{"$f":"IF(個人種目登録!AN68=\"\",\"\",個人種目登録!AN68)","v":""},{"$f":"IF(個人種目登録!AV68=\"\",\"\",個人種目登録!AV68)","v":""},{"$f":"IF(個人種目登録!AX68=\"\",\"\",個人種目登録!AX68)","v":""},{"$f":"IF(個人種目登録!AZ68=\"\",\"\",個人種目登録!AZ68)","v":""},{"$f":"IF(個人種目登録!BH68=\"\",\"\",個人種目登録!BH68)","v":""}]
[{"$f":"IF(個人種目登録!AP69=\"\",\"\",個人種目登録!AP69)","v":""},{"$f":"IF(個人種目登録!AR69=\"\",\"\",個人種目登録!AR69)","v":""},{"$f":"IF(個人種目登録!D69=\"\",\"\",個人種目登録!D69)","v":""},{"$f":"IF(個人種目登録!AO69=\"\",\"\",個人種目登録!AO69)","v":""},{"$f":"IF(個人種目登録!AS69=\"\",\"\",個人種目登録!AS69)","v":""},{"$f":"IF(個人種目登録!AT69=\"\",\"\",個人種目登録!AT69)","v":""},null,null,{"$f":"IF(個人種目登録!AN69=\"\",\"\",個人種目登録!AN69)","v":""},{"$f":"IF(個人種目登録!AV69=\"\",\"\",個人種目登録!AV69)","v":""},{"$f":"IF(個人種目登録!AX69=\"\",\"\",個人種目登録!AX69)","v":""},{"$f":"IF(個人種目登録!AZ69=\"\",\"\",個人種目登録!AZ69)","v":""},{"$f":"IF(個人種目登録!BH69=\"\",\"\",個人種目登録!BH69)","v":""}]
[{"$f":"IF(個人種目登録!AP70=\"\",\"\",個人種目登録!AP70)","v":""},{"$f":"IF(個人種目登録!AR70=\"\",\"\",個人種目登録!AR70)","v":""},{"$f":"IF(個人種目登録!D70=\"\",\"\",個人種目登録!D70)","v":""},{"$f":"IF(個人種目登録!AO70=\"\",\"\",個人種目登録!AO70)","v":""},{"$f":"IF(個人種目登録!AS70=\"\",\"\",個人種目登録!AS70)","v":""},{"$f":"IF(個人種目登録!AT70=\"\",\"\",個人種目登録!AT70)","v":""},null,null,{"$f":"IF(個人種目登録!AN70=\"\",\"\",個人種目登録!AN70)","v":""},{"$f":"IF(個人種目登録!AV70=\"\",\"\",個人種目登録!AV70)","v":""},{"$f":"IF(個人種目登録!AX70=\"\",\"\",個人種目登録!AX70)","v":""},{"$f":"IF(個人種目登録!AZ70=\"\",\"\",個人種目登録!AZ70)","v":""},{"$f":"IF(個人種目登録!BH70=\"\",\"\",個人種目登録!BH70)","v":""}]
[{"$f":"IF(個人種目登録!AP71=\"\",\"\",個人種目登録!AP71)","v":""},{"$f":"IF(個人種目登録!AR71=\"\",\"\",個人種目登録!AR71)","v":""},{"$f":"IF(個人種目登録!D71=\"\",\"\",個人種目登録!D71)","v":""},{"$f":"IF(個人種目登録!AO71=\"\",\"\",個人種目登録!AO71)","v":""},{"$f":"IF(個人種目登録!AS71=\"\",\"\",個人種目登録!AS71)","v":""},{"$f":"IF(個人種目登録!AT71=\"\",\"\",個人種目登録!AT71)","v":""},null,null,{"$f":"IF(個人種目登録!AN71=\"\",\"\",個人種目登録!AN71)","v":""},{"$f":"IF(個人種目登録!AV71=\"\",\"\",個人種目登録!AV71)","v":""},{"$f":"IF(個人種目登録!AX71=\"\",\"\",個人種目登録!AX71)","v":""},{"$f":"IF(個人種目登録!AZ71=\"\",\"\",個人種目登録!AZ71)","v":""},{"$f":"IF(個人種目登録!BH71=\"\",\"\",個人種目登録!BH71)","v":""}]
[{"$f":"IF(個人種目登録!AP72=\"\",\"\",個人種目登録!AP72)","v":""},{"$f":"IF(個人種目登録!AR72=\"\",\"\",個人種目登録!AR72)","v":""},{"$f":"IF(個人種目登録!D72=\"\",\"\",個人種目登録!D72)","v":""},{"$f":"IF(個人種目登録!AO72=\"\",\"\",個人種目登録!AO72)","v":""},{"$f":"IF(個人種目登録!AS72=\"\",\"\",個人種目登録!AS72)","v":""},{"$f":"IF(個人種目登録!AT72=\"\",\"\",個人種目登録!AT72)","v":""},null,null,{"$f":"IF(個人種目登録!AN72=\"\",\"\",個人種目登録!AN72)","v":""},{"$f":"IF(個人種目登録!AV72=\"\",\"\",個人種目登録!AV72)","v":""},{"$f":"IF(個人種目登録!AX72=\"\",\"\",個人種目登録!AX72)","v":""},{"$f":"IF(個人種目登録!AZ72=\"\",\"\",個人種目登録!AZ72)","v":""},{"$f":"IF(個人種目登録!BH72=\"\",\"\",個人種目登録!BH72)","v":""}]
[{"$f":"IF(個人種目登録!AP73=\"\",\"\",個人種目登録!AP73)","v":""},{"$f":"IF(個人種目登録!AR73=\"\",\"\",個人種目登録!AR73)","v":""},{"$f":"IF(個人種目登録!D73=\"\",\"\",個人種目登録!D73)","v":""},{"$f":"IF(個人種目登録!AO73=\"\",\"\",個人種目登録!AO73)","v":""},{"$f":"IF(個人種目登録!AS73=\"\",\"\",個人種目登録!AS73)","v":""},{"$f":"IF(個人種目登録!AT73=\"\",\"\",個人種目登録!AT73)","v":""},null,null,{"$f":"IF(個人種目登録!AN73=\"\",\"\",個人種目登録!AN73)","v":""},{"$f":"IF(個人種目登録!AV73=\"\",\"\",個人種目登録!AV73)","v":""},{"$f":"IF(個人種目登録!AX73=\"\",\"\",個人種目登録!AX73)","v":""},{"$f":"IF(個人種目登録!AZ73=\"\",\"\",個人種目登録!AZ73)","v":""},{"$f":"IF(個人種目登録!BH73=\"\",\"\",個人種目登録!BH73)","v":""}]
[{"$f":"IF(個人種目登録!AP74=\"\",\"\",個人種目登録!AP74)","v":""},{"$f":"IF(個人種目登録!AR74=\"\",\"\",個人種目登録!AR74)","v":""},{"$f":"IF(個人種目登録!D74=\"\",\"\",個人種目登録!D74)","v":""},{"$f":"IF(個人種目登録!AO74=\"\",\"\",個人種目登録!AO74)","v":""},{"$f":"IF(個人種目登録!AS74=\"\",\"\",個人種目登録!AS74)","v":""},{"$f":"IF(個人種目登録!AT74=\"\",\"\",個人種目登録!AT74)","v":""},null,null,{"$f":"IF(個人種目登録!AN74=\"\",\"\",個人種目登録!AN74)","v":""},{"$f":"IF(個人種目登録!AV74=\"\",\"\",個人種目登録!AV74)","v":""},{"$f":"IF(個人種目登録!AX74=\"\",\"\",個人種目登録!AX74)","v":""},{"$f":"IF(個人種目登録!AZ74=\"\",\"\",個人種目登録!AZ74)","v":""},{"$f":"IF(個人種目登録!BH74=\"\",\"\",個人種目登録!BH74)","v":""}]
[{"$f":"IF(個人種目登録!AP75=\"\",\"\",個人種目登録!AP75)","v":""},{"$f":"IF(個人種目登録!AR75=\"\",\"\",個人種目登録!AR75)","v":""},{"$f":"IF(個人種目登録!D75=\"\",\"\",個人種目登録!D75)","v":""},{"$f":"IF(個人種目登録!AO75=\"\",\"\",個人種目登録!AO75)","v":""},{"$f":"IF(個人種目登録!AS75=\"\",\"\",個人種目登録!AS75)","v":""},{"$f":"IF(個人種目登録!AT75=\"\",\"\",個人種目登録!AT75)","v":""},null,null,{"$f":"IF(個人種目登録!AN75=\"\",\"\",個人種目登録!AN75)","v":""},{"$f":"IF(個人種目登録!AV75=\"\",\"\",個人種目登録!AV75)","v":""},{"$f":"IF(個人種目登録!AX75=\"\",\"\",個人種目登録!AX75)","v":""},{"$f":"IF(個人種目登録!AZ75=\"\",\"\",個人種目登録!AZ75)","v":""},{"$f":"IF(個人種目登録!BH75=\"\",\"\",個人種目登録!BH75)","v":""}]
[{"$f":"IF(個人種目登録!AP76=\"\",\"\",個人種目登録!AP76)","v":""},{"$f":"IF(個人種目登録!AR76=\"\",\"\",個人種目登録!AR76)","v":""},{"$f":"IF(個人種目登録!D76=\"\",\"\",個人種目登録!D76)","v":""},{"$f":"IF(個人種目登録!AO76=\"\",\"\",個人種目登録!AO76)","v":""},{"$f":"IF(個人種目登録!AS76=\"\",\"\",個人種目登録!AS76)","v":""},{"$f":"IF(個人種目登録!AT76=\"\",\"\",個人種目登録!AT76)","v":""},null,null,{"$f":"IF(個人種目登録!AN76=\"\",\"\",個人種目登録!AN76)","v":""},{"$f":"IF(個人種目登録!AV76=\"\",\"\",個人種目登録!AV76)","v":""},{"$f":"IF(個人種目登録!AX76=\"\",\"\",個人種目登録!AX76)","v":""},{"$f":"IF(個人種目登録!AZ76=\"\",\"\",個人種目登録!AZ76)","v":""},{"$f":"IF(個人種目登録!BH76=\"\",\"\",個人種目登録!BH76)","v":""}]
[{"$f":"IF(個人種目登録!AP77=\"\",\"\",個人種目登録!AP77)","v":""},{"$f":"IF(個人種目登録!AR77=\"\",\"\",個人種目登録!AR77)","v":""},{"$f":"IF(個人種目登録!D77=\"\",\"\",個人種目登録!D77)","v":""},{"$f":"IF(個人種目登録!AO77=\"\",\"\",個人種目登録!AO77)","v":""},{"$f":"IF(個人種目登録!AS77=\"\",\"\",個人種目登録!AS77)","v":""},{"$f":"IF(個人種目登録!AT77=\"\",\"\",個人種目登録!AT77)","v":""},null,null,{"$f":"IF(個人種目登録!AN77=\"\",\"\",個人種目登録!AN77)","v":""},{"$f":"IF(個人種目登録!AV77=\"\",\"\",個人種目登録!AV77)","v":""},{"$f":"IF(個人種目登録!AX77=\"\",\"\",個人種目登録!AX77)","v":""},{"$f":"IF(個人種目登録!AZ77=\"\",\"\",個人種目登録!AZ77)","v":""},{"$f":"IF(個人種目登録!BH77=\"\",\"\",個人種目登録!BH77)","v":""}]
[{"$f":"IF(個人種目登録!AP78=\"\",\"\",個人種目登録!AP78)","v":""},{"$f":"IF(個人種目登録!AR78=\"\",\"\",個人種目登録!AR78)","v":""},{"$f":"IF(個人種目登録!D78=\"\",\"\",個人種目登録!D78)","v":""},{"$f":"IF(個人種目登録!AO78=\"\",\"\",個人種目登録!AO78)","v":""},{"$f":"IF(個人種目登録!AS78=\"\",\"\",個人種目登録!AS78)","v":""},{"$f":"IF(個人種目登録!AT78=\"\",\"\",個人種目登録!AT78)","v":""},null,null,{"$f":"IF(個人種目登録!AN78=\"\",\"\",個人種目登録!AN78)","v":""},{"$f":"IF(個人種目登録!AV78=\"\",\"\",個人種目登録!AV78)","v":""},{"$f":"IF(個人種目登録!AX78=\"\",\"\",個人種目登録!AX78)","v":""},{"$f":"IF(個人種目登録!AZ78=\"\",\"\",個人種目登録!AZ78)","v":""},{"$f":"IF(個人種目登録!BH78=\"\",\"\",個人種目登録!BH78)","v":""}]
[{"$f":"IF(個人種目登録!AP79=\"\",\"\",個人種目登録!AP79)","v":""},{"$f":"IF(個人種目登録!AR79=\"\",\"\",個人種目登録!AR79)","v":""},{"$f":"IF(個人種目登録!D79=\"\",\"\",個人種目登録!D79)","v":""},{"$f":"IF(個人種目登録!AO79=\"\",\"\",個人種目登録!AO79)","v":""},{"$f":"IF(個人種目登録!AS79=\"\",\"\",個人種目登録!AS79)","v":""},{"$f":"IF(個人種目登録!AT79=\"\",\"\",個人種目登録!AT79)","v":""},null,null,{"$f":"IF(個人種目登録!AN79=\"\",\"\",個人種目登録!AN79)","v":""},{"$f":"IF(個人種目登録!AV79=\"\",\"\",個人種目登録!AV79)","v":""},{"$f":"IF(個人種目登録!AX79=\"\",\"\",個人種目登録!AX79)","v":""},{"$f":"IF(個人種目登録!AZ79=\"\",\"\",個人種目登録!AZ79)","v":""},{"$f":"IF(個人種目登録!BH79=\"\",\"\",個人種目登録!BH79)","v":""}]
[{"$f":"IF(個人種目登録!AP80=\"\",\"\",個人種目登録!AP80)","v":""},{"$f":"IF(個人種目登録!AR80=\"\",\"\",個人種目登録!AR80)","v":""},{"$f":"IF(個人種目登録!D80=\"\",\"\",個人種目登録!D80)","v":""},{"$f":"IF(個人種目登録!AO80=\"\",\"\",個人種目登録!AO80)","v":""},{"$f":"IF(個人種目登録!AS80=\"\",\"\",個人種目登録!AS80)","v":""},{"$f":"IF(個人種目登録!AT80=\"\",\"\",個人種目登録!AT80)","v":""},null,null,{"$f":"IF(個人種目登録!AN80=\"\",\"\",個人種目登録!AN80)","v":""},{"$f":"IF(個人種目登録!AV80=\"\",\"\",個人種目登録!AV80)","v":""},{"$f":"IF(個人種目登録!AX80=\"\",\"\",個人種目登録!AX80)","v":""},{"$f":"IF(個人種目登録!AZ80=\"\",\"\",個人種目登録!AZ80)","v":""},{"$f":"IF(個人種目登録!BH80=\"\",\"\",個人種目登録!BH80)","v":""}]
[{"$f":"IF(個人種目登録!AP81=\"\",\"\",個人種目登録!AP81)","v":""},{"$f":"IF(個人種目登録!AR81=\"\",\"\",個人種目登録!AR81)","v":""},{"$f":"IF(個人種目登録!D81=\"\",\"\",個人種目登録!D81)","v":""},{"$f":"IF(個人種目登録!AO81=\"\",\"\",個人種目登録!AO81)","v":""},{"$f":"IF(個人種目登録!AS81=\"\",\"\",個人種目登録!AS81)","v":""},{"$f":"IF(個人種目登録!AT81=\"\",\"\",個人種目登録!AT81)","v":""},null,null,{"$f":"IF(個人種目登録!AN81=\"\",\"\",個人種目登録!AN81)","v":""},{"$f":"IF(個人種目登録!AV81=\"\",\"\",個人種目登録!AV81)","v":""},{"$f":"IF(個人種目登録!AX81=\"\",\"\",個人種目登録!AX81)","v":""},{"$f":"IF(個人種目登録!AZ81=\"\",\"\",個人種目登録!AZ81)","v":""},{"$f":"IF(個人種目登録!BH81=\"\",\"\",個人種目登録!BH81)","v":""}]
[{"$f":"IF(個人種目登録!AP82=\"\",\"\",個人種目登録!AP82)","v":""},{"$f":"IF(個人種目登録!AR82=\"\",\"\",個人種目登録!AR82)","v":""},{"$f":"IF(個人種目登録!D82=\"\",\"\",個人種目登録!D82)","v":""},{"$f":"IF(個人種目登録!AO82=\"\",\"\",個人種目登録!AO82)","v":""},{"$f":"IF(個人種目登録!AS82=\"\",\"\",個人種目登録!AS82)","v":""},{"$f":"IF(個人種目登録!AT82=\"\",\"\",個人種目登録!AT82)","v":""},null,null,{"$f":"IF(個人種目登録!AN82=\"\",\"\",個人種目登録!AN82)","v":""},{"$f":"IF(個人種目登録!AV82=\"\",\"\",個人種目登録!AV82)","v":""},{"$f":"IF(個人種目登録!AX82=\"\",\"\",個人種目登録!AX82)","v":""},{"$f":"IF(個人種目登録!AZ82=\"\",\"\",個人種目登録!AZ82)","v":""},{"$f":"IF(個人種目登録!BH82=\"\",\"\",個人種目登録!BH82)","v":""}]
[{"$f":"IF(個人種目登録!AP83=\"\",\"\",個人種目登録!AP83)","v":""},{"$f":"IF(個人種目登録!AR83=\"\",\"\",個人種目登録!AR83)","v":""},{"$f":"IF(個人種目登録!D83=\"\",\"\",個人種目登録!D83)","v":""},{"$f":"IF(個人種目登録!AO83=\"\",\"\",個人種目登録!AO83)","v":""},{"$f":"IF(個人種目登録!AS83=\"\",\"\",個人種目登録!AS83)","v":""},{"$f":"IF(個人種目登録!AT83=\"\",\"\",個人種目登録!AT83)","v":""},null,null,{"$f":"IF(個人種目登録!AN83=\"\",\"\",個人種目登録!AN83)","v":""},{"$f":"IF(個人種目登録!AV83=\"\",\"\",個人種目登録!AV83)","v":""},{"$f":"IF(個人種目登録!AX83=\"\",\"\",個人種目登録!AX83)","v":""},{"$f":"IF(個人種目登録!AZ83=\"\",\"\",個人種目登録!AZ83)","v":""},{"$f":"IF(個人種目登録!BH83=\"\",\"\",個人種目登録!BH83)","v":""}]
[{"$f":"IF(個人種目登録!AP84=\"\",\"\",個人種目登録!AP84)","v":""},{"$f":"IF(個人種目登録!AR84=\"\",\"\",個人種目登録!AR84)","v":""},{"$f":"IF(個人種目登録!D84=\"\",\"\",個人種目登録!D84)","v":""},{"$f":"IF(個人種目登録!AO84=\"\",\"\",個人種目登録!AO84)","v":""},{"$f":"IF(個人種目登録!AS84=\"\",\"\",個人種目登録!AS84)","v":""},{"$f":"IF(個人種目登録!AT84=\"\",\"\",個人種目登録!AT84)","v":""},null,null,{"$f":"IF(個人種目登録!AN84=\"\",\"\",個人種目登録!AN84)","v":""},{"$f":"IF(個人種目登録!AV84=\"\",\"\",個人種目登録!AV84)","v":""},{"$f":"IF(個人種目登録!AX84=\"\",\"\",個人種目登録!AX84)","v":""},{"$f":"IF(個人種目登録!AZ84=\"\",\"\",個人種目登録!AZ84)","v":""},{"$f":"IF(個人種目登録!BH84=\"\",\"\",個人種目登録!BH84)","v":""}]
[{"$f":"IF(個人種目登録!AP85=\"\",\"\",個人種目登録!AP85)","v":""},{"$f":"IF(個人種目登録!AR85=\"\",\"\",個人種目登録!AR85)","v":""},{"$f":"IF(個人種目登録!D85=\"\",\"\",個人種目登録!D85)","v":""},{"$f":"IF(個人種目登録!AO85=\"\",\"\",個人種目登録!AO85)","v":""},{"$f":"IF(個人種目登録!AS85=\"\",\"\",個人種目登録!AS85)","v":""},{"$f":"IF(個人種目登録!AT85=\"\",\"\",個人種目登録!AT85)","v":""},null,null,{"$f":"IF(個人種目登録!AN85=\"\",\"\",個人種目登録!AN85)","v":""},{"$f":"IF(個人種目登録!AV85=\"\",\"\",個人種目登録!AV85)","v":""},{"$f":"IF(個人種目登録!AX85=\"\",\"\",個人種目登録!AX85)","v":""},{"$f":"IF(個人種目登録!AZ85=\"\",\"\",個人種目登録!AZ85)","v":""},{"$f":"IF(個人種目登録!BH85=\"\",\"\",個人種目登録!BH85)","v":""}]
[{"$f":"IF(個人種目登録!AP86=\"\",\"\",個人種目登録!AP86)","v":""},{"$f":"IF(個人種目登録!AR86=\"\",\"\",個人種目登録!AR86)","v":""},{"$f":"IF(個人種目登録!D86=\"\",\"\",個人種目登録!D86)","v":""},{"$f":"IF(個人種目登録!AO86=\"\",\"\",個人種目登録!AO86)","v":""},{"$f":"IF(個人種目登録!AS86=\"\",\"\",個人種目登録!AS86)","v":""},{"$f":"IF(個人種目登録!AT86=\"\",\"\",個人種目登録!AT86)","v":""},null,null,{"$f":"IF(個人種目登録!AN86=\"\",\"\",個人種目登録!AN86)","v":""},{"$f":"IF(個人種目登録!AV86=\"\",\"\",個人種目登録!AV86)","v":""},{"$f":"IF(個人種目登録!AX86=\"\",\"\",個人種目登録!AX86)","v":""},{"$f":"IF(個人種目登録!AZ86=\"\",\"\",個人種目登録!AZ86)","v":""},{"$f":"IF(個人種目登録!BH86=\"\",\"\",個人種目登録!BH86)","v":""}]
[{"$f":"IF(個人種目登録!AP87=\"\",\"\",個人種目登録!AP87)","v":""},{"$f":"IF(個人種目登録!AR87=\"\",\"\",個人種目登録!AR87)","v":""},{"$f":"IF(個人種目登録!D87=\"\",\"\",個人種目登録!D87)","v":""},{"$f":"IF(個人種目登録!AO87=\"\",\"\",個人種目登録!AO87)","v":""},{"$f":"IF(個人種目登録!AS87=\"\",\"\",個人種目登録!AS87)","v":""},{"$f":"IF(個人種目登録!AT87=\"\",\"\",個人種目登録!AT87)","v":""},null,null,{"$f":"IF(個人種目登録!AN87=\"\",\"\",個人種目登録!AN87)","v":""},{"$f":"IF(個人種目登録!AV87=\"\",\"\",個人種目登録!AV87)","v":""},{"$f":"IF(個人種目登録!AX87=\"\",\"\",個人種目登録!AX87)","v":""},{"$f":"IF(個人種目登録!AZ87=\"\",\"\",個人種目登録!AZ87)","v":""},{"$f":"IF(個人種目登録!BH87=\"\",\"\",個人種目登録!BH87)","v":""}]
[{"$f":"IF(個人種目登録!AP88=\"\",\"\",個人種目登録!AP88)","v":""},{"$f":"IF(個人種目登録!AR88=\"\",\"\",個人種目登録!AR88)","v":""},{"$f":"IF(個人種目登録!D88=\"\",\"\",個人種目登録!D88)","v":""},{"$f":"IF(個人種目登録!AO88=\"\",\"\",個人種目登録!AO88)","v":""},{"$f":"IF(個人種目登録!AS88=\"\",\"\",個人種目登録!AS88)","v":""},{"$f":"IF(個人種目登録!AT88=\"\",\"\",個人種目登録!AT88)","v":""},null,null,{"$f":"IF(個人種目登録!AN88=\"\",\"\",個人種目登録!AN88)","v":""},{"$f":"IF(個人種目登録!AV88=\"\",\"\",個人種目登録!AV88)","v":""},{"$f":"IF(個人種目登録!AX88=\"\",\"\",個人種目登録!AX88)","v":""},{"$f":"IF(個人種目登録!AZ88=\"\",\"\",個人種目登録!AZ88)","v":""},{"$f":"IF(個人種目登録!BH88=\"\",\"\",個人種目登録!BH88)","v":""}]
[{"$f":"IF(個人種目登録!AP89=\"\",\"\",個人種目登録!AP89)","v":""},{"$f":"IF(個人種目登録!AR89=\"\",\"\",個人種目登録!AR89)","v":""},{"$f":"IF(個人種目登録!D89=\"\",\"\",個人種目登録!D89)","v":""},{"$f":"IF(個人種目登録!AO89=\"\",\"\",個人種目登録!AO89)","v":""},{"$f":"IF(個人種目登録!AS89=\"\",\"\",個人種目登録!AS89)","v":""},{"$f":"IF(個人種目登録!AT89=\"\",\"\",個人種目登録!AT89)","v":""},null,null,{"$f":"IF(個人種目登録!AN89=\"\",\"\",個人種目登録!AN89)","v":""},{"$f":"IF(個人種目登録!AV89=\"\",\"\",個人種目登録!AV89)","v":""},{"$f":"IF(個人種目登録!AX89=\"\",\"\",個人種目登録!AX89)","v":""},{"$f":"IF(個人種目登録!AZ89=\"\",\"\",個人種目登録!AZ89)","v":""},{"$f":"IF(個人種目登録!BH89=\"\",\"\",個人種目登録!BH89)","v":""}]
[{"$f":"IF(個人種目登録!AP90=\"\",\"\",個人種目登録!AP90)","v":""},{"$f":"IF(個人種目登録!AR90=\"\",\"\",個人種目登録!AR90)","v":""},{"$f":"IF(個人種目登録!D90=\"\",\"\",個人種目登録!D90)","v":""},{"$f":"IF(個人種目登録!AO90=\"\",\"\",個人種目登録!AO90)","v":""},{"$f":"IF(個人種目登録!AS90=\"\",\"\",個人種目登録!AS90)","v":""},{"$f":"IF(個人種目登録!AT90=\"\",\"\",個人種目登録!AT90)","v":""},null,null,{"$f":"IF(個人種目登録!AN90=\"\",\"\",個人種目登録!AN90)","v":""},{"$f":"IF(個人種目登録!AV90=\"\",\"\",個人種目登録!AV90)","v":""},{"$f":"IF(個人種目登録!AX90=\"\",\"\",個人種目登録!AX90)","v":""},{"$f":"IF(個人種目登録!AZ90=\"\",\"\",個人種目登録!AZ90)","v":""},{"$f":"IF(個人種目登録!BH90=\"\",\"\",個人種目登録!BH90)","v":""}]
[{"$f":"IF(個人種目登録!AP91=\"\",\"\",個人種目登録!AP91)","v":""},{"$f":"IF(個人種目登録!AR91=\"\",\"\",個人種目登録!AR91)","v":""},{"$f":"IF(個人種目登録!D91=\"\",\"\",個人種目登録!D91)","v":""},{"$f":"IF(個人種目登録!AO91=\"\",\"\",個人種目登録!AO91)","v":""},{"$f":"IF(個人種目登録!AS91=\"\",\"\",個人種目登録!AS91)","v":""},{"$f":"IF(個人種目登録!AT91=\"\",\"\",個人種目登録!AT91)","v":""},null,null,{"$f":"IF(個人種目登録!AN91=\"\",\"\",個人種目登録!AN91)","v":""},{"$f":"IF(個人種目登録!AV91=\"\",\"\",個人種目登録!AV91)","v":""},{"$f":"IF(個人種目登録!AX91=\"\",\"\",個人種目登録!AX91)","v":""},{"$f":"IF(個人種目登録!AZ91=\"\",\"\",個人種目登録!AZ91)","v":""},{"$f":"IF(個人種目登録!BH91=\"\",\"\",個人種目登録!BH91)","v":""}]
[{"$f":"IF(個人種目登録!AP92=\"\",\"\",個人種目登録!AP92)","v":""},{"$f":"IF(個人種目登録!AR92=\"\",\"\",個人種目登録!AR92)","v":""},{"$f":"IF(個人種目登録!D92=\"\",\"\",個人種目登録!D92)","v":""},{"$f":"IF(個人種目登録!AO92=\"\",\"\",個人種目登録!AO92)","v":""},{"$f":"IF(個人種目登録!AS92=\"\",\"\",個人種目登録!AS92)","v":""},{"$f":"IF(個人種目登録!AT92=\"\",\"\",個人種目登録!AT92)","v":""},null,null,{"$f":"IF(個人種目登録!AN92=\"\",\"\",個人種目登録!AN92)","v":""},{"$f":"IF(個人種目登録!AV92=\"\",\"\",個人種目登録!AV92)","v":""},{"$f":"IF(個人種目登録!AX92=\"\",\"\",個人種目登録!AX92)","v":""},{"$f":"IF(個人種目登録!AZ92=\"\",\"\",個人種目登録!AZ92)","v":""},{"$f":"IF(個人種目登録!BH92=\"\",\"\",個人種目登録!BH92)","v":""}]
[{"$f":"IF(個人種目登録!AP93=\"\",\"\",個人種目登録!AP93)","v":""},{"$f":"IF(個人種目登録!AR93=\"\",\"\",個人種目登録!AR93)","v":""},{"$f":"IF(個人種目登録!D93=\"\",\"\",個人種目登録!D93)","v":""},{"$f":"IF(個人種目登録!AO93=\"\",\"\",個人種目登録!AO93)","v":""},{"$f":"IF(個人種目登録!AS93=\"\",\"\",個人種目登録!AS93)","v":""},{"$f":"IF(個人種目登録!AT93=\"\",\"\",個人種目登録!AT93)","v":""},null,null,{"$f":"IF(個人種目登録!AN93=\"\",\"\",個人種目登録!AN93)","v":""},{"$f":"IF(個人種目登録!AV93=\"\",\"\",個人種目登録!AV93)","v":""},{"$f":"IF(個人種目登録!AX93=\"\",\"\",個人種目登録!AX93)","v":""},{"$f":"IF(個人種目登録!AZ93=\"\",\"\",個人種目登録!AZ93)","v":""},{"$f":"IF(個人種目登録!BH93=\"\",\"\",個人種目登録!BH93)","v":""}]
[{"$f":"IF(個人種目登録!AP94=\"\",\"\",個人種目登録!AP94)","v":""},{"$f":"IF(個人種目登録!AR94=\"\",\"\",個人種目登録!AR94)","v":""},{"$f":"IF(個人種目登録!D94=\"\",\"\",個人種目登録!D94)","v":""},{"$f":"IF(個人種目登録!AO94=\"\",\"\",個人種目登録!AO94)","v":""},{"$f":"IF(個人種目登録!AS94=\"\",\"\",個人種目登録!AS94)","v":""},{"$f":"IF(個人種目登録!AT94=\"\",\"\",個人種目登録!AT94)","v":""},null,null,{"$f":"IF(個人種目登録!AN94=\"\",\"\",個人種目登録!AN94)","v":""},{"$f":"IF(個人種目登録!AV94=\"\",\"\",個人種目登録!AV94)","v":""},{"$f":"IF(個人種目登録!AX94=\"\",\"\",個人種目登録!AX94)","v":""},{"$f":"IF(個人種目登録!AZ94=\"\",\"\",個人種目登録!AZ94)","v":""},{"$f":"IF(個人種目登録!BH94=\"\",\"\",個人種目登録!BH94)","v":""}]
[{"$f":"IF(個人種目登録!AP95=\"\",\"\",個人種目登録!AP95)","v":""},{"$f":"IF(個人種目登録!AR95=\"\",\"\",個人種目登録!AR95)","v":""},{"$f":"IF(個人種目登録!D95=\"\",\"\",個人種目登録!D95)","v":""},{"$f":"IF(個人種目登録!AO95=\"\",\"\",個人種目登録!AO95)","v":""},{"$f":"IF(個人種目登録!AS95=\"\",\"\",個人種目登録!AS95)","v":""},{"$f":"IF(個人種目登録!AT95=\"\",\"\",個人種目登録!AT95)","v":""},null,null,{"$f":"IF(個人種目登録!AN95=\"\",\"\",個人種目登録!AN95)","v":""},{"$f":"IF(個人種目登録!AV95=\"\",\"\",個人種目登録!AV95)","v":""},{"$f":"IF(個人種目登録!AX95=\"\",\"\",個人種目登録!AX95)","v":""},{"$f":"IF(個人種目登録!AZ95=\"\",\"\",個人種目登録!AZ95)","v":""},{"$f":"IF(個人種目登録!BH95=\"\",\"\",個人種目登録!BH95)","v":""}]
[{"$f":"IF(個人種目登録!AP96=\"\",\"\",個人種目登録!AP96)","v":""},{"$f":"IF(個人種目登録!AR96=\"\",\"\",個人種目登録!AR96)","v":""},{"$f":"IF(個人種目登録!D96=\"\",\"\",個人種目登録!D96)","v":""},{"$f":"IF(個人種目登録!AO96=\"\",\"\",個人種目登録!AO96)","v":""},{"$f":"IF(個人種目登録!AS96=\"\",\"\",個人種目登録!AS96)","v":""},{"$f":"IF(個人種目登録!AT96=\"\",\"\",個人種目登録!AT96)","v":""},null,null,{"$f":"IF(個人種目登録!AN96=\"\",\"\",個人種目登録!AN96)","v":""},{"$f":"IF(個人種目登録!AV96=\"\",\"\",個人種目登録!AV96)","v":""},{"$f":"IF(個人種目登録!AX96=\"\",\"\",個人種目登録!AX96)","v":""},{"$f":"IF(個人種目登録!AZ96=\"\",\"\",個人種目登録!AZ96)","v":""},{"$f":"IF(個人種目登録!BH96=\"\",\"\",個人種目登録!BH96)","v":""}]
[{"$f":"IF(個人種目登録!AP97=\"\",\"\",個人種目登録!AP97)","v":""},{"$f":"IF(個人種目登録!AR97=\"\",\"\",個人種目登録!AR97)","v":""},{"$f":"IF(個人種目登録!D97=\"\",\"\",個人種目登録!D97)","v":""},{"$f":"IF(個人種目登録!AO97=\"\",\"\",個人種目登録!AO97)","v":""},{"$f":"IF(個人種目登録!AS97=\"\",\"\",個人種目登録!AS97)","v":""},{"$f":"IF(個人種目登録!AT97=\"\",\"\",個人種目登録!AT97)","v":""},null,null,{"$f":"IF(個人種目登録!AN97=\"\",\"\",個人種目登録!AN97)","v":""},{"$f":"IF(個人種目登録!AV97=\"\",\"\",個人種目登録!AV97)","v":""},{"$f":"IF(個人種目登録!AX97=\"\",\"\",個人種目登録!AX97)","v":""},{"$f":"IF(個人種目登録!AZ97=\"\",\"\",個人種目登録!AZ97)","v":""},{"$f":"IF(個人種目登録!BH97=\"\",\"\",個人種目登録!BH97)","v":""}]
[{"$f":"IF(個人種目登録!AP98=\"\",\"\",個人種目登録!AP98)","v":""},{"$f":"IF(個人種目登録!AR98=\"\",\"\",個人種目登録!AR98)","v":""},{"$f":"IF(個人種目登録!D98=\"\",\"\",個人種目登録!D98)","v":""},{"$f":"IF(個人種目登録!AO98=\"\",\"\",個人種目登録!AO98)","v":""},{"$f":"IF(個人種目登録!AS98=\"\",\"\",個人種目登録!AS98)","v":""},{"$f":"IF(個人種目登録!AT98=\"\",\"\",個人種目登録!AT98)","v":""},null,null,{"$f":"IF(個人種目登録!AN98=\"\",\"\",個人種目登録!AN98)","v":""},{"$f":"IF(個人種目登録!AV98=\"\",\"\",個人種目登録!AV98)","v":""},{"$f":"IF(個人種目登録!AX98=\"\",\"\",個人種目登録!AX98)","v":""},{"$f":"IF(個人種目登録!AZ98=\"\",\"\",個人種目登録!AZ98)","v":""},{"$f":"IF(個人種目登録!BH98=\"\",\"\",個人種目登録!BH98)","v":""}]
[{"$f":"IF(個人種目登録!AP99=\"\",\"\",個人種目登録!AP99)","v":""},{"$f":"IF(個人種目登録!AR99=\"\",\"\",個人種目登録!AR99)","v":""},{"$f":"IF(個人種目登録!D99=\"\",\"\",個人種目登録!D99)","v":""},{"$f":"IF(個人種目登録!AO99=\"\",\"\",個人種目登録!AO99)","v":""},{"$f":"IF(個人種目登録!AS99=\"\",\"\",個人種目登録!AS99)","v":""},{"$f":"IF(個人種目登録!AT99=\"\",\"\",個人種目登録!AT99)","v":""},null,null,{"$f":"IF(個人種目登録!AN99=\"\",\"\",個人種目登録!AN99)","v":""},{"$f":"IF(個人種目登録!AV99=\"\",\"\",個人種目登録!AV99)","v":""},{"$f":"IF(個人種目登録!AX99=\"\",\"\",個人種目登録!AX99)","v":""},{"$f":"IF(個人種目登録!AZ99=\"\",\"\",個人種目登録!AZ99)","v":""},{"$f":"IF(個人種目登録!BH99=\"\",\"\",個人種目登録!BH99)","v":""}]
[{"$f":"IF(個人種目登録!AP100=\"\",\"\",個人種目登録!AP100)","v":""},{"$f":"IF(個人種目登録!AR100=\"\",\"\",個人種目登録!AR100)","v":""},{"$f":"IF(個人種目登録!D100=\"\",\"\",個人種目登録!D100)","v":""},{"$f":"IF(個人種目登録!AO100=\"\",\"\",個人種目登録!AO100)","v":""},{"$f":"IF(個人種目登録!AS100=\"\",\"\",個人種目登録!AS100)","v":""},{"$f":"IF(個人種目登録!AT100=\"\",\"\",個人種目登録!AT100)","v":""},null,null,{"$f":"IF(個人種目登録!AN100=\"\",\"\",個人種目登録!AN100)","v":""},{"$f":"IF(個人種目登録!AV100=\"\",\"\",個人種目登録!AV100)","v":""},{"$f":"IF(個人種目登録!AX100=\"\",\"\",個人種目登録!AX100)","v":""},{"$f":"IF(個人種目登録!AZ100=\"\",\"\",個人種目登録!AZ100)","v":""},{"$f":"IF(個人種目登録!BH100=\"\",\"\",個人種目登録!BH100)","v":""}]
[{"$f":"IF(個人種目登録!AP101=\"\",\"\",個人種目登録!AP101)","v":""},{"$f":"IF(個人種目登録!AR101=\"\",\"\",個人種目登録!AR101)","v":""},{"$f":"IF(個人種目登録!D101=\"\",\"\",個人種目登録!D101)","v":""},{"$f":"IF(個人種目登録!AO101=\"\",\"\",個人種目登録!AO101)","v":""},{"$f":"IF(個人種目登録!AS101=\"\",\"\",個人種目登録!AS101)","v":""},{"$f":"IF(個人種目登録!AT101=\"\",\"\",個人種目登録!AT101)","v":""},null,null,{"$f":"IF(個人種目登録!AN101=\"\",\"\",個人種目登録!AN101)","v":""},{"$f":"IF(個人種目登録!AV101=\"\",\"\",個人種目登録!AV101)","v":""},{"$f":"IF(個人種目登録!AX101=\"\",\"\",個人種目登録!AX101)","v":""},{"$f":"IF(個人種目登録!AZ101=\"\",\"\",個人種目登録!AZ101)","v":""},{"$f":"IF(個人種目登録!BH101=\"\",\"\",個人種目登録!BH101)","v":""}]
[{"$f":"IF(個人種目登録!AP102=\"\",\"\",個人種目登録!AP102)","v":""},{"$f":"IF(個人種目登録!AR102=\"\",\"\",個人種目登録!AR102)","v":""},{"$f":"IF(個人種目登録!D102=\"\",\"\",個人種目登録!D102)","v":""},{"$f":"IF(個人種目登録!AO102=\"\",\"\",個人種目登録!AO102)","v":""},{"$f":"IF(個人種目登録!AS102=\"\",\"\",個人種目登録!AS102)","v":""},{"$f":"IF(個人種目登録!AT102=\"\",\"\",個人種目登録!AT102)","v":""},null,null,{"$f":"IF(個人種目登録!AN102=\"\",\"\",個人種目登録!AN102)","v":""},{"$f":"IF(個人種目登録!AV102=\"\",\"\",個人種目登録!AV102)","v":""},{"$f":"IF(個人種目登録!AX102=\"\",\"\",個人種目登録!AX102)","v":""},{"$f":"IF(個人種目登録!AZ102=\"\",\"\",個人種目登録!AZ102)","v":""},{"$f":"IF(個人種目登録!BH102=\"\",\"\",個人種目登録!BH102)","v":""}]
[{"$f":"IF(個人種目登録!AP103=\"\",\"\",個人種目登録!AP103)","v":""},{"$f":"IF(個人種目登録!AR103=\"\",\"\",個人種目登録!AR103)","v":""},{"$f":"IF(個人種目登録!D103=\"\",\"\",個人種目登録!D103)","v":""},{"$f":"IF(個人種目登録!AO103=\"\",\"\",個人種目登録!AO103)","v":""},{"$f":"IF(個人種目登録!AS103=\"\",\"\",個人種目登録!AS103)","v":""},{"$f":"IF(個人種目登録!AT103=\"\",\"\",個人種目登録!AT103)","v":""},null,null,{"$f":"IF(個人種目登録!AN103=\"\",\"\",個人種目登録!AN103)","v":""},{"$f":"IF(個人種目登録!AV103=\"\",\"\",個人種目登録!AV103)","v":""},{"$f":"IF(個人種目登録!AX103=\"\",\"\",個人種目登録!AX103)","v":""},{"$f":"IF(個人種目登録!AZ103=\"\",\"\",個人種目登録!AZ103)","v":""},{"$f":"IF(個人種目登録!BH103=\"\",\"\",個人種目登録!BH103)","v":""}]
[{"$f":"IF(個人種目登録!AP104=\"\",\"\",個人種目登録!AP104)","v":""},{"$f":"IF(個人種目登録!AR104=\"\",\"\",個人種目登録!AR104)","v":""},{"$f":"IF(個人種目登録!D104=\"\",\"\",個人種目登録!D104)","v":""},{"$f":"IF(個人種目登録!AO104=\"\",\"\",個人種目登録!AO104)","v":""},{"$f":"IF(個人種目登録!AS104=\"\",\"\",個人種目登録!AS104)","v":""},{"$f":"IF(個人種目登録!AT104=\"\",\"\",個人種目登録!AT104)","v":""},null,null,{"$f":"IF(個人種目登録!AN104=\"\",\"\",個人種目登録!AN104)","v":""},{"$f":"IF(個人種目登録!AV104=\"\",\"\",個人種目登録!AV104)","v":""},{"$f":"IF(個人種目登録!AX104=\"\",\"\",個人種目登録!AX104)","v":""},{"$f":"IF(個人種目登録!AZ104=\"\",\"\",個人種目登録!AZ104)","v":""},{"$f":"IF(個人種目登録!BH104=\"\",\"\",個人種目登録!BH104)","v":""}]
[{"$f":"IF(個人種目登録!AP105=\"\",\"\",個人種目登録!AP105)","v":""},{"$f":"IF(個人種目登録!AR105=\"\",\"\",個人種目登録!AR105)","v":""},{"$f":"IF(個人種目登録!D105=\"\",\"\",個人種目登録!D105)","v":""},{"$f":"IF(個人種目登録!AO105=\"\",\"\",個人種目登録!AO105)","v":""},{"$f":"IF(個人種目登録!AS105=\"\",\"\",個人種目登録!AS105)","v":""},{"$f":"IF(個人種目登録!AT105=\"\",\"\",個人種目登録!AT105)","v":""},null,null,{"$f":"IF(個人種目登録!AN105=\"\",\"\",個人種目登録!AN105)","v":""},{"$f":"IF(個人種目登録!AV105=\"\",\"\",個人種目登録!AV105)","v":""},{"$f":"IF(個人種目登録!AX105=\"\",\"\",個人種目登録!AX105)","v":""},{"$f":"IF(個人種目登録!AZ105=\"\",\"\",個人種目登録!AZ105)","v":""},{"$f":"IF(個人種目登録!BH105=\"\",\"\",個人種目登録!BH105)","v":""}]
[{"$f":"IF(個人種目登録!AP106=\"\",\"\",個人種目登録!AP106)","v":""},{"$f":"IF(個人種目登録!AR106=\"\",\"\",個人種目登録!AR106)","v":""},{"$f":"IF(個人種目登録!D106=\"\",\"\",個人種目登録!D106)","v":""},{"$f":"IF(個人種目登録!AO106=\"\",\"\",個人種目登録!AO106)","v":""},{"$f":"IF(個人種目登録!AS106=\"\",\"\",個人種目登録!AS106)","v":""},{"$f":"IF(個人種目登録!AT106=\"\",\"\",個人種目登録!AT106)","v":""},null,null,{"$f":"IF(個人種目登録!AN106=\"\",\"\",個人種目登録!AN106)","v":""},{"$f":"IF(個人種目登録!AV106=\"\",\"\",個人種目登録!AV106)","v":""},{"$f":"IF(個人種目登録!AX106=\"\",\"\",個人種目登録!AX106)","v":""},{"$f":"IF(個人種目登録!AZ106=\"\",\"\",個人種目登録!AZ106)","v":""},{"$f":"IF(個人種目登録!BH106=\"\",\"\",個人種目登録!BH106)","v":""}]
[{"$f":"IF(個人種目登録!AP107=\"\",\"\",個人種目登録!AP107)","v":""},{"$f":"IF(個人種目登録!AR107=\"\",\"\",個人種目登録!AR107)","v":""},{"$f":"IF(個人種目登録!D107=\"\",\"\",個人種目登録!D107)","v":""},{"$f":"IF(個人種目登録!AO107=\"\",\"\",個人種目登録!AO107)","v":""},{"$f":"IF(個人種目登録!AS107=\"\",\"\",個人種目登録!AS107)","v":""},{"$f":"IF(個人種目登録!AT107=\"\",\"\",個人種目登録!AT107)","v":""},null,null,{"$f":"IF(個人種目登録!AN107=\"\",\"\",個人種目登録!AN107)","v":""},{"$f":"IF(個人種目登録!AV107=\"\",\"\",個人種目登録!AV107)","v":""},{"$f":"IF(個人種目登録!AX107=\"\",\"\",個人種目登録!AX107)","v":""},{"$f":"IF(個人種目登録!AZ107=\"\",\"\",個人種目登録!AZ107)","v":""},{"$f":"IF(個人種目登録!BH107=\"\",\"\",個人種目登録!BH107)","v":""}]
[{"$f":"IF(個人種目登録!AP108=\"\",\"\",個人種目登録!AP108)","v":""},{"$f":"IF(個人種目登録!AR108=\"\",\"\",個人種目登録!AR108)","v":""},{"$f":"IF(個人種目登録!D108=\"\",\"\",個人種目登録!D108)","v":""},{"$f":"IF(個人種目登録!AO108=\"\",\"\",個人種目登録!AO108)","v":""},{"$f":"IF(個人種目登録!AS108=\"\",\"\",個人種目登録!AS108)","v":""},{"$f":"IF(個人種目登録!AT108=\"\",\"\",個人種目登録!AT108)","v":""},null,null,{"$f":"IF(個人種目登録!AN108=\"\",\"\",個人種目登録!AN108)","v":""},{"$f":"IF(個人種目登録!AV108=\"\",\"\",個人種目登録!AV108)","v":""},{"$f":"IF(個人種目登録!AX108=\"\",\"\",個人種目登録!AX108)","v":""},{"$f":"IF(個人種目登録!AZ108=\"\",\"\",個人種目登録!AZ108)","v":""},{"$f":"IF(個人種目登録!BH108=\"\",\"\",個人種目登録!BH108)","v":""}]
[{"$f":"IF(個人種目登録!AP109=\"\",\"\",個人種目登録!AP109)","v":""},{"$f":"IF(個人種目登録!AR109=\"\",\"\",個人種目登録!AR109)","v":""},{"$f":"IF(個人種目登録!D109=\"\",\"\",個人種目登録!D109)","v":""},{"$f":"IF(個人種目登録!AO109=\"\",\"\",個人種目登録!AO109)","v":""},{"$f":"IF(個人種目登録!AS109=\"\",\"\",個人種目登録!AS109)","v":""},{"$f":"IF(個人種目登録!AT109=\"\",\"\",個人種目登録!AT109)","v":""},null,null,{"$f":"IF(個人種目登録!AN109=\"\",\"\",個人種目登録!AN109)","v":""},{"$f":"IF(個人種目登録!AV109=\"\",\"\",個人種目登録!AV109)","v":""},{"$f":"IF(個人種目登録!AX109=\"\",\"\",個人種目登録!AX109)","v":""},{"$f":"IF(個人種目登録!AZ109=\"\",\"\",個人種目登録!AZ109)","v":""},{"$f":"IF(個人種目登録!BH109=\"\",\"\",個人種目登録!BH109)","v":""}]
[{"$f":"IF(個人種目登録!AP110=\"\",\"\",個人種目登録!AP110)","v":""},{"$f":"IF(個人種目登録!AR110=\"\",\"\",個人種目登録!AR110)","v":""},{"$f":"IF(個人種目登録!D110=\"\",\"\",個人種目登録!D110)","v":""},{"$f":"IF(個人種目登録!AO110=\"\",\"\",個人種目登録!AO110)","v":""},{"$f":"IF(個人種目登録!AS110=\"\",\"\",個人種目登録!AS110)","v":""},{"$f":"IF(個人種目登録!AT110=\"\",\"\",個人種目登録!AT110)","v":""},null,null,{"$f":"IF(個人種目登録!AN110=\"\",\"\",個人種目登録!AN110)","v":""},{"$f":"IF(個人種目登録!AV110=\"\",\"\",個人種目登録!AV110)","v":""},{"$f":"IF(個人種目登録!AX110=\"\",\"\",個人種目登録!AX110)","v":""},{"$f":"IF(個人種目登録!AZ110=\"\",\"\",個人種目登録!AZ110)","v":""},{"$f":"IF(個人種目登録!BH110=\"\",\"\",個人種目登録!BH110)","v":""}]
[{"$f":"IF(個人種目登録!AP111=\"\",\"\",個人種目登録!AP111)","v":""},{"$f":"IF(個人種目登録!AR111=\"\",\"\",個人種目登録!AR111)","v":""},{"$f":"IF(個人種目登録!D111=\"\",\"\",個人種目登録!D111)","v":""},{"$f":"IF(個人種目登録!AO111=\"\",\"\",個人種目登録!AO111)","v":""},{"$f":"IF(個人種目登録!AS111=\"\",\"\",個人種目登録!AS111)","v":""},{"$f":"IF(個人種目登録!AT111=\"\",\"\",個人種目登録!AT111)","v":""},null,null,{"$f":"IF(個人種目登録!AN111=\"\",\"\",個人種目登録!AN111)","v":""},{"$f":"IF(個人種目登録!AV111=\"\",\"\",個人種目登録!AV111)","v":""},{"$f":"IF(個人種目登録!AX111=\"\",\"\",個人種目登録!AX111)","v":""},{"$f":"IF(個人種目登録!AZ111=\"\",\"\",個人種目登録!AZ111)","v":""},{"$f":"IF(個人種目登録!BH111=\"\",\"\",個人種目登録!BH111)","v":""}]
[{"$f":"IF(個人種目登録!AP112=\"\",\"\",個人種目登録!AP112)","v":""},{"$f":"IF(個人種目登録!AR112=\"\",\"\",個人種目登録!AR112)","v":""},{"$f":"IF(個人種目登録!D112=\"\",\"\",個人種目登録!D112)","v":""},{"$f":"IF(個人種目登録!AO112=\"\",\"\",個人種目登録!AO112)","v":""},{"$f":"IF(個人種目登録!AS112=\"\",\"\",個人種目登録!AS112)","v":""},{"$f":"IF(個人種目登録!AT112=\"\",\"\",個人種目登録!AT112)","v":""},null,null,{"$f":"IF(個人種目登録!AN112=\"\",\"\",個人種目登録!AN112)","v":""},{"$f":"IF(個人種目登録!AV112=\"\",\"\",個人種目登録!AV112)","v":""},{"$f":"IF(個人種目登録!AX112=\"\",\"\",個人種目登録!AX112)","v":""},{"$f":"IF(個人種目登録!AZ112=\"\",\"\",個人種目登録!AZ112)","v":""},{"$f":"IF(個人種目登録!BH112=\"\",\"\",個人種目登録!BH112)","v":""}]
[{"$f":"IF(個人種目登録!AP113=\"\",\"\",個人種目登録!AP113)","v":""},{"$f":"IF(個人種目登録!AR113=\"\",\"\",個人種目登録!AR113)","v":""},{"$f":"IF(個人種目登録!D113=\"\",\"\",個人種目登録!D113)","v":""},{"$f":"IF(個人種目登録!AO113=\"\",\"\",個人種目登録!AO113)","v":""},{"$f":"IF(個人種目登録!AS113=\"\",\"\",個人種目登録!AS113)","v":""},{"$f":"IF(個人種目登録!AT113=\"\",\"\",個人種目登録!AT113)","v":""},null,null,{"$f":"IF(個人種目登録!AN113=\"\",\"\",個人種目登録!AN113)","v":""},{"$f":"IF(個人種目登録!AV113=\"\",\"\",個人種目登録!AV113)","v":""},{"$f":"IF(個人種目登録!AX113=\"\",\"\",個人種目登録!AX113)","v":""},{"$f":"IF(個人種目登録!AZ113=\"\",\"\",個人種目登録!AZ113)","v":""},{"$f":"IF(個人種目登録!BH113=\"\",\"\",個人種目登録!BH113)","v":""}]
[{"$f":"IF(個人種目登録!AP114=\"\",\"\",個人種目登録!AP114)","v":""},{"$f":"IF(個人種目登録!AR114=\"\",\"\",個人種目登録!AR114)","v":""},{"$f":"IF(個人種目登録!D114=\"\",\"\",個人種目登録!D114)","v":""},{"$f":"IF(個人種目登録!AO114=\"\",\"\",個人種目登録!AO114)","v":""},{"$f":"IF(個人種目登録!AS114=\"\",\"\",個人種目登録!AS114)","v":""},{"$f":"IF(個人種目登録!AT114=\"\",\"\",個人種目登録!AT114)","v":""},null,null,{"$f":"IF(個人種目登録!AN114=\"\",\"\",個人種目登録!AN114)","v":""},{"$f":"IF(個人種目登録!AV114=\"\",\"\",個人種目登録!AV114)","v":""},{"$f":"IF(個人種目登録!AX114=\"\",\"\",個人種目登録!AX114)","v":""},{"$f":"IF(個人種目登録!AZ114=\"\",\"\",個人種目登録!AZ114)","v":""},{"$f":"IF(個人種目登録!BH114=\"\",\"\",個人種目登録!BH114)","v":""}]
[{"$f":"IF(個人種目登録!AP115=\"\",\"\",個人種目登録!AP115)","v":""},{"$f":"IF(個人種目登録!AR115=\"\",\"\",個人種目登録!AR115)","v":""},{"$f":"IF(個人種目登録!D115=\"\",\"\",個人種目登録!D115)","v":""},{"$f":"IF(個人種目登録!AO115=\"\",\"\",個人種目登録!AO115)","v":""},{"$f":"IF(個人種目登録!AS115=\"\",\"\",個人種目登録!AS115)","v":""},{"$f":"IF(個人種目登録!AT115=\"\",\"\",個人種目登録!AT115)","v":""},null,null,{"$f":"IF(個人種目登録!AN115=\"\",\"\",個人種目登録!AN115)","v":""},{"$f":"IF(個人種目登録!AV115=\"\",\"\",個人種目登録!AV115)","v":""},{"$f":"IF(個人種目登録!AX115=\"\",\"\",個人種目登録!AX115)","v":""},{"$f":"IF(個人種目登録!AZ115=\"\",\"\",個人種目登録!AZ115)","v":""},{"$f":"IF(個人種目登録!BH115=\"\",\"\",個人種目登録!BH115)","v":""}]
[{"$f":"IF(個人種目登録!AP116=\"\",\"\",個人種目登録!AP116)","v":""},{"$f":"IF(個人種目登録!AR116=\"\",\"\",個人種目登録!AR116)","v":""},{"$f":"IF(個人種目登録!D116=\"\",\"\",個人種目登録!D116)","v":""},{"$f":"IF(個人種目登録!AO116=\"\",\"\",個人種目登録!AO116)","v":""},{"$f":"IF(個人種目登録!AS116=\"\",\"\",個人種目登録!AS116)","v":""},{"$f":"IF(個人種目登録!AT116=\"\",\"\",個人種目登録!AT116)","v":""},null,null,{"$f":"IF(個人種目登録!AN116=\"\",\"\",個人種目登録!AN116)","v":""},{"$f":"IF(個人種目登録!AV116=\"\",\"\",個人種目登録!AV116)","v":""},{"$f":"IF(個人種目登録!AX116=\"\",\"\",個人種目登録!AX116)","v":""},{"$f":"IF(個人種目登録!AZ116=\"\",\"\",個人種目登録!AZ116)","v":""},{"$f":"IF(個人種目登録!BH116=\"\",\"\",個人種目登録!BH116)","v":""}]
[{"$f":"IF(個人種目登録!AP117=\"\",\"\",個人種目登録!AP117)","v":""},{"$f":"IF(個人種目登録!AR117=\"\",\"\",個人種目登録!AR117)","v":""},{"$f":"IF(個人種目登録!D117=\"\",\"\",個人種目登録!D117)","v":""},{"$f":"IF(個人種目登録!AO117=\"\",\"\",個人種目登録!AO117)","v":""},{"$f":"IF(個人種目登録!AS117=\"\",\"\",個人種目登録!AS117)","v":""},{"$f":"IF(個人種目登録!AT117=\"\",\"\",個人種目登録!AT117)","v":""},null,null,{"$f":"IF(個人種目登録!AN117=\"\",\"\",個人種目登録!AN117)","v":""},{"$f":"IF(個人種目登録!AV117=\"\",\"\",個人種目登録!AV117)","v":""},{"$f":"IF(個人種目登録!AX117=\"\",\"\",個人種目登録!AX117)","v":""},{"$f":"IF(個人種目登録!AZ117=\"\",\"\",個人種目登録!AZ117)","v":""},{"$f":"IF(個人種目登録!BH117=\"\",\"\",個人種目登録!BH117)","v":""}]
[{"$f":"IF(個人種目登録!AP118=\"\",\"\",個人種目登録!AP118)","v":""},{"$f":"IF(個人種目登録!AR118=\"\",\"\",個人種目登録!AR118)","v":""},{"$f":"IF(個人種目登録!D118=\"\",\"\",個人種目登録!D118)","v":""},{"$f":"IF(個人種目登録!AO118=\"\",\"\",個人種目登録!AO118)","v":""},{"$f":"IF(個人種目登録!AS118=\"\",\"\",個人種目登録!AS118)","v":""},{"$f":"IF(個人種目登録!AT118=\"\",\"\",個人種目登録!AT118)","v":""},null,null,{"$f":"IF(個人種目登録!AN118=\"\",\"\",個人種目登録!AN118)","v":""},{"$f":"IF(個人種目登録!AV118=\"\",\"\",個人種目登録!AV118)","v":""},{"$f":"IF(個人種目登録!AX118=\"\",\"\",個人種目登録!AX118)","v":""},{"$f":"IF(個人種目登録!AZ118=\"\",\"\",個人種目登録!AZ118)","v":""},{"$f":"IF(個人種目登録!BH118=\"\",\"\",個人種目登録!BH118)","v":""}]
[{"$f":"IF(個人種目登録!AP119=\"\",\"\",個人種目登録!AP119)","v":""},{"$f":"IF(個人種目登録!AR119=\"\",\"\",個人種目登録!AR119)","v":""},{"$f":"IF(個人種目登録!D119=\"\",\"\",個人種目登録!D119)","v":""},{"$f":"IF(個人種目登録!AO119=\"\",\"\",個人種目登録!AO119)","v":""},{"$f":"IF(個人種目登録!AS119=\"\",\"\",個人種目登録!AS119)","v":""},{"$f":"IF(個人種目登録!AT119=\"\",\"\",個人種目登録!AT119)","v":""},null,null,{"$f":"IF(個人種目登録!AN119=\"\",\"\",個人種目登録!AN119)","v":""},{"$f":"IF(個人種目登録!AV119=\"\",\"\",個人種目登録!AV119)","v":""},{"$f":"IF(個人種目登録!AX119=\"\",\"\",個人種目登録!AX119)","v":""},{"$f":"IF(個人種目登録!AZ119=\"\",\"\",個人種目登録!AZ119)","v":""},{"$f":"IF(個人種目登録!BH119=\"\",\"\",個人種目登録!BH119)","v":""}]
[{"$f":"IF(個人種目登録!AP120=\"\",\"\",個人種目登録!AP120)","v":""},{"$f":"IF(個人種目登録!AR120=\"\",\"\",個人種目登録!AR120)","v":""},{"$f":"IF(個人種目登録!D120=\"\",\"\",個人種目登録!D120)","v":""},{"$f":"IF(個人種目登録!AO120=\"\",\"\",個人種目登録!AO120)","v":""},{"$f":"IF(個人種目登録!AS120=\"\",\"\",個人種目登録!AS120)","v":""},{"$f":"IF(個人種目登録!AT120=\"\",\"\",個人種目登録!AT120)","v":""},null,null,{"$f":"IF(個人種目登録!AN120=\"\",\"\",個人種目登録!AN120)","v":""},{"$f":"IF(個人種目登録!AV120=\"\",\"\",個人種目登録!AV120)","v":""},{"$f":"IF(個人種目登録!AX120=\"\",\"\",個人種目登録!AX120)","v":""},{"$f":"IF(個人種目登録!AZ120=\"\",\"\",個人種目登録!AZ120)","v":""},{"$f":"IF(個人種目登録!BH120=\"\",\"\",個人種目登録!BH120)","v":""}]
[{"$f":"IF(個人種目登録!AP121=\"\",\"\",個人種目登録!AP121)","v":""},{"$f":"IF(個人種目登録!AR121=\"\",\"\",個人種目登録!AR121)","v":""},{"$f":"IF(個人種目登録!D121=\"\",\"\",個人種目登録!D121)","v":""},{"$f":"IF(個人種目登録!AO121=\"\",\"\",個人種目登録!AO121)","v":""},{"$f":"IF(個人種目登録!AS121=\"\",\"\",個人種目登録!AS121)","v":""},{"$f":"IF(個人種目登録!AT121=\"\",\"\",個人種目登録!AT121)","v":""},null,null,{"$f":"IF(個人種目登録!AN121=\"\",\"\",個人種目登録!AN121)","v":""},{"$f":"IF(個人種目登録!AV121=\"\",\"\",個人種目登録!AV121)","v":""},{"$f":"IF(個人種目登録!AX121=\"\",\"\",個人種目登録!AX121)","v":""},{"$f":"IF(個人種目登録!AZ121=\"\",\"\",個人種目登録!AZ121)","v":""},{"$f":"IF(個人種目登録!BH121=\"\",\"\",個人種目登録!BH121)","v":""}]
[{"$f":"IF(個人種目登録!AP122=\"\",\"\",個人種目登録!AP122)","v":""},{"$f":"IF(個人種目登録!AR122=\"\",\"\",個人種目登録!AR122)","v":""},{"$f":"IF(個人種目登録!D122=\"\",\"\",個人種目登録!D122)","v":""},{"$f":"IF(個人種目登録!AO122=\"\",\"\",個人種目登録!AO122)","v":""},{"$f":"IF(個人種目登録!AS122=\"\",\"\",個人種目登録!AS122)","v":""},{"$f":"IF(個人種目登録!AT122=\"\",\"\",個人種目登録!AT122)","v":""},null,null,{"$f":"IF(個人種目登録!AN122=\"\",\"\",個人種目登録!AN122)","v":""},{"$f":"IF(個人種目登録!AV122=\"\",\"\",個人種目登録!AV122)","v":""},{"$f":"IF(個人種目登録!AX122=\"\",\"\",個人種目登録!AX122)","v":""},{"$f":"IF(個人種目登録!AZ122=\"\",\"\",個人種目登録!AZ122)","v":""},{"$f":"IF(個人種目登録!BH122=\"\",\"\",個人種目登録!BH122)","v":""}]
[{"$f":"IF(個人種目登録!AP123=\"\",\"\",個人種目登録!AP123)","v":""},{"$f":"IF(個人種目登録!AR123=\"\",\"\",個人種目登録!AR123)","v":""},{"$f":"IF(個人種目登録!D123=\"\",\"\",個人種目登録!D123)","v":""},{"$f":"IF(個人種目登録!AO123=\"\",\"\",個人種目登録!AO123)","v":""},{"$f":"IF(個人種目登録!AS123=\"\",\"\",個人種目登録!AS123)","v":""},{"$f":"IF(個人種目登録!AT123=\"\",\"\",個人種目登録!AT123)","v":""},null,null,{"$f":"IF(個人種目登録!AN123=\"\",\"\",個人種目登録!AN123)","v":""},{"$f":"IF(個人種目登録!AV123=\"\",\"\",個人種目登録!AV123)","v":""},{"$f":"IF(個人種目登録!AX123=\"\",\"\",個人種目登録!AX123)","v":""},{"$f":"IF(個人種目登録!AZ123=\"\",\"\",個人種目登録!AZ123)","v":""},{"$f":"IF(個人種目登録!BH123=\"\",\"\",個人種目登録!BH123)","v":""}]
[{"$f":"IF(個人種目登録!AP124=\"\",\"\",個人種目登録!AP124)","v":""},{"$f":"IF(個人種目登録!AR124=\"\",\"\",個人種目登録!AR124)","v":""},{"$f":"IF(個人種目登録!D124=\"\",\"\",個人種目登録!D124)","v":""},{"$f":"IF(個人種目登録!AO124=\"\",\"\",個人種目登録!AO124)","v":""},{"$f":"IF(個人種目登録!AS124=\"\",\"\",個人種目登録!AS124)","v":""},{"$f":"IF(個人種目登録!AT124=\"\",\"\",個人種目登録!AT124)","v":""},null,null,{"$f":"IF(個人種目登録!AN124=\"\",\"\",個人種目登録!AN124)","v":""},{"$f":"IF(個人種目登録!AV124=\"\",\"\",個人種目登録!AV124)","v":""},{"$f":"IF(個人種目登録!AX124=\"\",\"\",個人種目登録!AX124)","v":""},{"$f":"IF(個人種目登録!AZ124=\"\",\"\",個人種目登録!AZ124)","v":""},{"$f":"IF(個人種目登録!BH124=\"\",\"\",個人種目登録!BH124)","v":""}]
[{"$f":"IF(個人種目登録!AP125=\"\",\"\",個人種目登録!AP125)","v":""},{"$f":"IF(個人種目登録!AR125=\"\",\"\",個人種目登録!AR125)","v":""},{"$f":"IF(個人種目登録!D125=\"\",\"\",個人種目登録!D125)","v":""},{"$f":"IF(個人種目登録!AO125=\"\",\"\",個人種目登録!AO125)","v":""},{"$f":"IF(個人種目登録!AS125=\"\",\"\",個人種目登録!AS125)","v":""},{"$f":"IF(個人種目登録!AT125=\"\",\"\",個人種目登録!AT125)","v":""},null,null,{"$f":"IF(個人種目登録!AN125=\"\",\"\",個人種目登録!AN125)","v":""},{"$f":"IF(個人種目登録!AV125=\"\",\"\",個人種目登録!AV125)","v":""},{"$f":"IF(個人種目登録!AX125=\"\",\"\",個人種目登録!AX125)","v":""},{"$f":"IF(個人種目登録!AZ125=\"\",\"\",個人種目登録!AZ125)","v":""},{"$f":"IF(個人種目登録!BH125=\"\",\"\",個人種目登録!BH125)","v":""}]
[{"$f":"IF(個人種目登録!AP126=\"\",\"\",個人種目登録!AP126)","v":""},{"$f":"IF(個人種目登録!AR126=\"\",\"\",個人種目登録!AR126)","v":""},{"$f":"IF(個人種目登録!D126=\"\",\"\",個人種目登録!D126)","v":""},{"$f":"IF(個人種目登録!AO126=\"\",\"\",個人種目登録!AO126)","v":""},{"$f":"IF(個人種目登録!AS126=\"\",\"\",個人種目登録!AS126)","v":""},{"$f":"IF(個人種目登録!AT126=\"\",\"\",個人種目登録!AT126)","v":""},null,null,{"$f":"IF(個人種目登録!AN126=\"\",\"\",個人種目登録!AN126)","v":""},{"$f":"IF(個人種目登録!AV126=\"\",\"\",個人種目登録!AV126)","v":""},{"$f":"IF(個人種目登録!AX126=\"\",\"\",個人種目登録!AX126)","v":""},{"$f":"IF(個人種目登録!AZ126=\"\",\"\",個人種目登録!AZ126)","v":""},{"$f":"IF(個人種目登録!BH126=\"\",\"\",個人種目登録!BH126)","v":""}]
[{"$f":"IF(個人種目登録!AP127=\"\",\"\",個人種目登録!AP127)","v":""},{"$f":"IF(個人種目登録!AR127=\"\",\"\",個人種目登録!AR127)","v":""},{"$f":"IF(個人種目登録!D127=\"\",\"\",個人種目登録!D127)","v":""},{"$f":"IF(個人種目登録!AO127=\"\",\"\",個人種目登録!AO127)","v":""},{"$f":"IF(個人種目登録!AS127=\"\",\"\",個人種目登録!AS127)","v":""},{"$f":"IF(個人種目登録!AT127=\"\",\"\",個人種目登録!AT127)","v":""},null,null,{"$f":"IF(個人種目登録!AN127=\"\",\"\",個人種目登録!AN127)","v":""},{"$f":"IF(個人種目登録!AV127=\"\",\"\",個人種目登録!AV127)","v":""},{"$f":"IF(個人種目登録!AX127=\"\",\"\",個人種目登録!AX127)","v":""},{"$f":"IF(個人種目登録!AZ127=\"\",\"\",個人種目登録!AZ127)","v":""},{"$f":"IF(個人種目登録!BH127=\"\",\"\",個人種目登録!BH127)","v":""}]
[{"$f":"IF(個人種目登録!AP128=\"\",\"\",個人種目登録!AP128)","v":""},{"$f":"IF(個人種目登録!AR128=\"\",\"\",個人種目登録!AR128)","v":""},{"$f":"IF(個人種目登録!D128=\"\",\"\",個人種目登録!D128)","v":""},{"$f":"IF(個人種目登録!AO128=\"\",\"\",個人種目登録!AO128)","v":""},{"$f":"IF(個人種目登録!AS128=\"\",\"\",個人種目登録!AS128)","v":""},{"$f":"IF(個人種目登録!AT128=\"\",\"\",個人種目登録!AT128)","v":""},null,null,{"$f":"IF(個人種目登録!AN128=\"\",\"\",個人種目登録!AN128)","v":""},{"$f":"IF(個人種目登録!AV128=\"\",\"\",個人種目登録!AV128)","v":""},{"$f":"IF(個人種目登録!AX128=\"\",\"\",個人種目登録!AX128)","v":""},{"$f":"IF(個人種目登録!AZ128=\"\",\"\",個人種目登録!AZ128)","v":""},{"$f":"IF(個人種目登録!BH128=\"\",\"\",個人種目登録!BH128)","v":""}]
[{"$f":"IF(個人種目登録!AP129=\"\",\"\",個人種目登録!AP129)","v":""},{"$f":"IF(個人種目登録!AR129=\"\",\"\",個人種目登録!AR129)","v":""},{"$f":"IF(個人種目登録!D129=\"\",\"\",個人種目登録!D129)","v":""},{"$f":"IF(個人種目登録!AO129=\"\",\"\",個人種目登録!AO129)","v":""},{"$f":"IF(個人種目登録!AS129=\"\",\"\",個人種目登録!AS129)","v":""},{"$f":"IF(個人種目登録!AT129=\"\",\"\",個人種目登録!AT129)","v":""},null,null,{"$f":"IF(個人種目登録!AN129=\"\",\"\",個人種目登録!AN129)","v":""},{"$f":"IF(個人種目登録!AV129=\"\",\"\",個人種目登録!AV129)","v":""},{"$f":"IF(個人種目登録!AX129=\"\",\"\",個人種目登録!AX129)","v":""},{"$f":"IF(個人種目登録!AZ129=\"\",\"\",個人種目登録!AZ129)","v":""},{"$f":"IF(個人種目登録!BH129=\"\",\"\",個人種目登録!BH129)","v":""}]
[{"$f":"IF(個人種目登録!AP130=\"\",\"\",個人種目登録!AP130)","v":""},{"$f":"IF(個人種目登録!AR130=\"\",\"\",個人種目登録!AR130)","v":""},{"$f":"IF(個人種目登録!D130=\"\",\"\",個人種目登録!D130)","v":""},{"$f":"IF(個人種目登録!AO130=\"\",\"\",個人種目登録!AO130)","v":""},{"$f":"IF(個人種目登録!AS130=\"\",\"\",個人種目登録!AS130)","v":""},{"$f":"IF(個人種目登録!AT130=\"\",\"\",個人種目登録!AT130)","v":""},null,null,{"$f":"IF(個人種目登録!AN130=\"\",\"\",個人種目登録!AN130)","v":""},{"$f":"IF(個人種目登録!AV130=\"\",\"\",個人種目登録!AV130)","v":""},{"$f":"IF(個人種目登録!AX130=\"\",\"\",個人種目登録!AX130)","v":""},{"$f":"IF(個人種目登録!AZ130=\"\",\"\",個人種目登録!AZ130)","v":""},{"$f":"IF(個人種目登録!BH130=\"\",\"\",個人種目登録!BH130)","v":""}]
[{"$f":"IF(個人種目登録!AP131=\"\",\"\",個人種目登録!AP131)","v":""},{"$f":"IF(個人種目登録!AR131=\"\",\"\",個人種目登録!AR131)","v":""},{"$f":"IF(個人種目登録!D131=\"\",\"\",個人種目登録!D131)","v":""},{"$f":"IF(個人種目登録!AO131=\"\",\"\",個人種目登録!AO131)","v":""},{"$f":"IF(個人種目登録!AS131=\"\",\"\",個人種目登録!AS131)","v":""},{"$f":"IF(個人種目登録!AT131=\"\",\"\",個人種目登録!AT131)","v":""},null,null,{"$f":"IF(個人種目登録!AN131=\"\",\"\",個人種目登録!AN131)","v":""},{"$f":"IF(個人種目登録!AV131=\"\",\"\",個人種目登録!AV131)","v":""},{"$f":"IF(個人種目登録!AX131=\"\",\"\",個人種目登録!AX131)","v":""},{"$f":"IF(個人種目登録!AZ131=\"\",\"\",個人種目登録!AZ131)","v":""},{"$f":"IF(個人種目登録!BH131=\"\",\"\",個人種目登録!BH131)","v":""}]
[{"$f":"IF(個人種目登録!AP132=\"\",\"\",個人種目登録!AP132)","v":""},{"$f":"IF(個人種目登録!AR132=\"\",\"\",個人種目登録!AR132)","v":""},{"$f":"IF(個人種目登録!D132=\"\",\"\",個人種目登録!D132)","v":""},{"$f":"IF(個人種目登録!AO132=\"\",\"\",個人種目登録!AO132)","v":""},{"$f":"IF(個人種目登録!AS132=\"\",\"\",個人種目登録!AS132)","v":""},{"$f":"IF(個人種目登録!AT132=\"\",\"\",個人種目登録!AT132)","v":""},null,null,{"$f":"IF(個人種目登録!AN132=\"\",\"\",個人種目登録!AN132)","v":""},{"$f":"IF(個人種目登録!AV132=\"\",\"\",個人種目登録!AV132)","v":""},{"$f":"IF(個人種目登録!AX132=\"\",\"\",個人種目登録!AX132)","v":""},{"$f":"IF(個人種目登録!AZ132=\"\",\"\",個人種目登録!AZ132)","v":""},{"$f":"IF(個人種目登録!BH132=\"\",\"\",個人種目登録!BH132)","v":""}]
[{"$f":"IF(個人種目登録!AP133=\"\",\"\",個人種目登録!AP133)","v":""},{"$f":"IF(個人種目登録!AR133=\"\",\"\",個人種目登録!AR133)","v":""},{"$f":"IF(個人種目登録!D133=\"\",\"\",個人種目登録!D133)","v":""},{"$f":"IF(個人種目登録!AO133=\"\",\"\",個人種目登録!AO133)","v":""},{"$f":"IF(個人種目登録!AS133=\"\",\"\",個人種目登録!AS133)","v":""},{"$f":"IF(個人種目登録!AT133=\"\",\"\",個人種目登録!AT133)","v":""},null,null,{"$f":"IF(個人種目登録!AN133=\"\",\"\",個人種目登録!AN133)","v":""},{"$f":"IF(個人種目登録!AV133=\"\",\"\",個人種目登録!AV133)","v":""},{"$f":"IF(個人種目登録!AX133=\"\",\"\",個人種目登録!AX133)","v":""},{"$f":"IF(個人種目登録!AZ133=\"\",\"\",個人種目登録!AZ133)","v":""},{"$f":"IF(個人種目登録!BH133=\"\",\"\",個人種目登録!BH133)","v":""}]
[{"$f":"IF(個人種目登録!AP134=\"\",\"\",個人種目登録!AP134)","v":""},{"$f":"IF(個人種目登録!AR134=\"\",\"\",個人種目登録!AR134)","v":""},{"$f":"IF(個人種目登録!D134=\"\",\"\",個人種目登録!D134)","v":""},{"$f":"IF(個人種目登録!AO134=\"\",\"\",個人種目登録!AO134)","v":""},{"$f":"IF(個人種目登録!AS134=\"\",\"\",個人種目登録!AS134)","v":""},{"$f":"IF(個人種目登録!AT134=\"\",\"\",個人種目登録!AT134)","v":""},null,null,{"$f":"IF(個人種目登録!AN134=\"\",\"\",個人種目登録!AN134)","v":""},{"$f":"IF(個人種目登録!AV134=\"\",\"\",個人種目登録!AV134)","v":""},{"$f":"IF(個人種目登録!AX134=\"\",\"\",個人種目登録!AX134)","v":""},{"$f":"IF(個人種目登録!AZ134=\"\",\"\",個人種目登録!AZ134)","v":""},{"$f":"IF(個人種目登録!BH134=\"\",\"\",個人種目登録!BH134)","v":""}]
[{"$f":"IF(個人種目登録!AP135=\"\",\"\",個人種目登録!AP135)","v":""},{"$f":"IF(個人種目登録!AR135=\"\",\"\",個人種目登録!AR135)","v":""},{"$f":"IF(個人種目登録!D135=\"\",\"\",個人種目登録!D135)","v":""},{"$f":"IF(個人種目登録!AO135=\"\",\"\",個人種目登録!AO135)","v":""},{"$f":"IF(個人種目登録!AS135=\"\",\"\",個人種目登録!AS135)","v":""},{"$f":"IF(個人種目登録!AT135=\"\",\"\",個人種目登録!AT135)","v":""},null,null,{"$f":"IF(個人種目登録!AN135=\"\",\"\",個人種目登録!AN135)","v":""},{"$f":"IF(個人種目登録!AV135=\"\",\"\",個人種目登録!AV135)","v":""},{"$f":"IF(個人種目登録!AX135=\"\",\"\",個人種目登録!AX135)","v":""},{"$f":"IF(個人種目登録!AZ135=\"\",\"\",個人種目登録!AZ135)","v":""},{"$f":"IF(個人種目登録!BH135=\"\",\"\",個人種目登録!BH135)","v":""}]
[{"$f":"IF(個人種目登録!AP136=\"\",\"\",個人種目登録!AP136)","v":""},{"$f":"IF(個人種目登録!AR136=\"\",\"\",個人種目登録!AR136)","v":""},{"$f":"IF(個人種目登録!D136=\"\",\"\",個人種目登録!D136)","v":""},{"$f":"IF(個人種目登録!AO136=\"\",\"\",個人種目登録!AO136)","v":""},{"$f":"IF(個人種目登録!AS136=\"\",\"\",個人種目登録!AS136)","v":""},{"$f":"IF(個人種目登録!AT136=\"\",\"\",個人種目登録!AT136)","v":""},null,null,{"$f":"IF(個人種目登録!AN136=\"\",\"\",個人種目登録!AN136)","v":""},{"$f":"IF(個人種目登録!AV136=\"\",\"\",個人種目登録!AV136)","v":""},{"$f":"IF(個人種目登録!AX136=\"\",\"\",個人種目登録!AX136)","v":""},{"$f":"IF(個人種目登録!AZ136=\"\",\"\",個人種目登録!AZ136)","v":""},{"$f":"IF(個人種目登録!BH136=\"\",\"\",個人種目登録!BH136)","v":""}]
[{"$f":"IF(個人種目登録!AP137=\"\",\"\",個人種目登録!AP137)","v":""},{"$f":"IF(個人種目登録!AR137=\"\",\"\",個人種目登録!AR137)","v":""},{"$f":"IF(個人種目登録!D137=\"\",\"\",個人種目登録!D137)","v":""},{"$f":"IF(個人種目登録!AO137=\"\",\"\",個人種目登録!AO137)","v":""},{"$f":"IF(個人種目登録!AS137=\"\",\"\",個人種目登録!AS137)","v":""},{"$f":"IF(個人種目登録!AT137=\"\",\"\",個人種目登録!AT137)","v":""},null,null,{"$f":"IF(個人種目登録!AN137=\"\",\"\",個人種目登録!AN137)","v":""},{"$f":"IF(個人種目登録!AV137=\"\",\"\",個人種目登録!AV137)","v":""},{"$f":"IF(個人種目登録!AX137=\"\",\"\",個人種目登録!AX137)","v":""},{"$f":"IF(個人種目登録!AZ137=\"\",\"\",個人種目登録!AZ137)","v":""},{"$f":"IF(個人種目登録!BH137=\"\",\"\",個人種目登録!BH137)","v":""}]
[{"$f":"IF(個人種目登録!AP138=\"\",\"\",個人種目登録!AP138)","v":""},{"$f":"IF(個人種目登録!AR138=\"\",\"\",個人種目登録!AR138)","v":""},{"$f":"IF(個人種目登録!D138=\"\",\"\",個人種目登録!D138)","v":""},{"$f":"IF(個人種目登録!AO138=\"\",\"\",個人種目登録!AO138)","v":""},{"$f":"IF(個人種目登録!AS138=\"\",\"\",個人種目登録!AS138)","v":""},{"$f":"IF(個人種目登録!AT138=\"\",\"\",個人種目登録!AT138)","v":""},null,null,{"$f":"IF(個人種目登録!AN138=\"\",\"\",個人種目登録!AN138)","v":""},{"$f":"IF(個人種目登録!AV138=\"\",\"\",個人種目登録!AV138)","v":""},{"$f":"IF(個人種目登録!AX138=\"\",\"\",個人種目登録!AX138)","v":""},{"$f":"IF(個人種目登録!AZ138=\"\",\"\",個人種目登録!AZ138)","v":""},{"$f":"IF(個人種目登録!BH138=\"\",\"\",個人種目登録!BH138)","v":""}]
[{"$f":"IF(個人種目登録!AP139=\"\",\"\",個人種目登録!AP139)","v":""},{"$f":"IF(個人種目登録!AR139=\"\",\"\",個人種目登録!AR139)","v":""},{"$f":"IF(個人種目登録!D139=\"\",\"\",個人種目登録!D139)","v":""},{"$f":"IF(個人種目登録!AO139=\"\",\"\",個人種目登録!AO139)","v":""},{"$f":"IF(個人種目登録!AS139=\"\",\"\",個人種目登録!AS139)","v":""},{"$f":"IF(個人種目登録!AT139=\"\",\"\",個人種目登録!AT139)","v":""},null,null,{"$f":"IF(個人種目登録!AN139=\"\",\"\",個人種目登録!AN139)","v":""},{"$f":"IF(個人種目登録!AV139=\"\",\"\",個人種目登録!AV139)","v":""},{"$f":"IF(個人種目登録!AX139=\"\",\"\",個人種目登録!AX139)","v":""},{"$f":"IF(個人種目登録!AZ139=\"\",\"\",個人種目登録!AZ139)","v":""},{"$f":"IF(個人種目登録!BH139=\"\",\"\",個人種目登録!BH139)","v":""}]
[{"$f":"IF(個人種目登録!AP140=\"\",\"\",個人種目登録!AP140)","v":""},{"$f":"IF(個人種目登録!AR140=\"\",\"\",個人種目登録!AR140)","v":""},{"$f":"IF(個人種目登録!D140=\"\",\"\",個人種目登録!D140)","v":""},{"$f":"IF(個人種目登録!AO140=\"\",\"\",個人種目登録!AO140)","v":""},{"$f":"IF(個人種目登録!AS140=\"\",\"\",個人種目登録!AS140)","v":""},{"$f":"IF(個人種目登録!AT140=\"\",\"\",個人種目登録!AT140)","v":""},null,null,{"$f":"IF(個人種目登録!AN140=\"\",\"\",個人種目登録!AN140)","v":""},{"$f":"IF(個人種目登録!AV140=\"\",\"\",個人種目登録!AV140)","v":""},{"$f":"IF(個人種目登録!AX140=\"\",\"\",個人種目登録!AX140)","v":""},{"$f":"IF(個人種目登録!AZ140=\"\",\"\",個人種目登録!AZ140)","v":""},{"$f":"IF(個人種目登録!BH140=\"\",\"\",個人種目登録!BH140)","v":""}]
[{"$f":"IF(個人種目登録!AP141=\"\",\"\",個人種目登録!AP141)","v":""},{"$f":"IF(個人種目登録!AR141=\"\",\"\",個人種目登録!AR141)","v":""},{"$f":"IF(個人種目登録!D141=\"\",\"\",個人種目登録!D141)","v":""},{"$f":"IF(個人種目登録!AO141=\"\",\"\",個人種目登録!AO141)","v":""},{"$f":"IF(個人種目登録!AS141=\"\",\"\",個人種目登録!AS141)","v":""},{"$f":"IF(個人種目登録!AT141=\"\",\"\",個人種目登録!AT141)","v":""},null,null,{"$f":"IF(個人種目登録!AN141=\"\",\"\",個人種目登録!AN141)","v":""},{"$f":"IF(個人種目登録!AV141=\"\",\"\",個人種目登録!AV141)","v":""},{"$f":"IF(個人種目登録!AX141=\"\",\"\",個人種目登録!AX141)","v":""},{"$f":"IF(個人種目登録!AZ141=\"\",\"\",個人種目登録!AZ141)","v":""},{"$f":"IF(個人種目登録!BH141=\"\",\"\",個人種目登録!BH141)","v":""}]
[{"$f":"IF(個人種目登録!AP142=\"\",\"\",個人種目登録!AP142)","v":""},{"$f":"IF(個人種目登録!AR142=\"\",\"\",個人種目登録!AR142)","v":""},{"$f":"IF(個人種目登録!D142=\"\",\"\",個人種目登録!D142)","v":""},{"$f":"IF(個人種目登録!AO142=\"\",\"\",個人種目登録!AO142)","v":""},{"$f":"IF(個人種目登録!AS142=\"\",\"\",個人種目登録!AS142)","v":""},{"$f":"IF(個人種目登録!AT142=\"\",\"\",個人種目登録!AT142)","v":""},null,null,{"$f":"IF(個人種目登録!AN142=\"\",\"\",個人種目登録!AN142)","v":""},{"$f":"IF(個人種目登録!AV142=\"\",\"\",個人種目登録!AV142)","v":""},{"$f":"IF(個人種目登録!AX142=\"\",\"\",個人種目登録!AX142)","v":""},{"$f":"IF(個人種目登録!AZ142=\"\",\"\",個人種目登録!AZ142)","v":""},{"$f":"IF(個人種目登録!BH142=\"\",\"\",個人種目登録!BH142)","v":""}]
[{"$f":"IF(個人種目登録!AP143=\"\",\"\",個人種目登録!AP143)","v":""},{"$f":"IF(個人種目登録!AR143=\"\",\"\",個人種目登録!AR143)","v":""},{"$f":"IF(個人種目登録!D143=\"\",\"\",個人種目登録!D143)","v":""},{"$f":"IF(個人種目登録!AO143=\"\",\"\",個人種目登録!AO143)","v":""},{"$f":"IF(個人種目登録!AS143=\"\",\"\",個人種目登録!AS143)","v":""},{"$f":"IF(個人種目登録!AT143=\"\",\"\",個人種目登録!AT143)","v":""},null,null,{"$f":"IF(個人種目登録!AN143=\"\",\"\",個人種目登録!AN143)","v":""},{"$f":"IF(個人種目登録!AV143=\"\",\"\",個人種目登録!AV143)","v":""},{"$f":"IF(個人種目登録!AX143=\"\",\"\",個人種目登録!AX143)","v":""},{"$f":"IF(個人種目登録!AZ143=\"\",\"\",個人種目登録!AZ143)","v":""},{"$f":"IF(個人種目登録!BH143=\"\",\"\",個人種目登録!BH143)","v":""}]
[{"$f":"IF(個人種目登録!AP144=\"\",\"\",個人種目登録!AP144)","v":""},{"$f":"IF(個人種目登録!AR144=\"\",\"\",個人種目登録!AR144)","v":""},{"$f":"IF(個人種目登録!D144=\"\",\"\",個人種目登録!D144)","v":""},{"$f":"IF(個人種目登録!AO144=\"\",\"\",個人種目登録!AO144)","v":""},{"$f":"IF(個人種目登録!AS144=\"\",\"\",個人種目登録!AS144)","v":""},{"$f":"IF(個人種目登録!AT144=\"\",\"\",個人種目登録!AT144)","v":""},null,null,{"$f":"IF(個人種目登録!AN144=\"\",\"\",個人種目登録!AN144)","v":""},{"$f":"IF(個人種目登録!AV144=\"\",\"\",個人種目登録!AV144)","v":""},{"$f":"IF(個人種目登録!AX144=\"\",\"\",個人種目登録!AX144)","v":""},{"$f":"IF(個人種目登録!AZ144=\"\",\"\",個人種目登録!AZ144)","v":""},{"$f":"IF(個人種目登録!BH144=\"\",\"\",個人種目登録!BH144)","v":""}]
[{"$f":"IF(個人種目登録!AP145=\"\",\"\",個人種目登録!AP145)","v":""},{"$f":"IF(個人種目登録!AR145=\"\",\"\",個人種目登録!AR145)","v":""},{"$f":"IF(個人種目登録!D145=\"\",\"\",個人種目登録!D145)","v":""},{"$f":"IF(個人種目登録!AO145=\"\",\"\",個人種目登録!AO145)","v":""},{"$f":"IF(個人種目登録!AS145=\"\",\"\",個人種目登録!AS145)","v":""},{"$f":"IF(個人種目登録!AT145=\"\",\"\",個人種目登録!AT145)","v":""},null,null,{"$f":"IF(個人種目登録!AN145=\"\",\"\",個人種目登録!AN145)","v":""},{"$f":"IF(個人種目登録!AV145=\"\",\"\",個人種目登録!AV145)","v":""},{"$f":"IF(個人種目登録!AX145=\"\",\"\",個人種目登録!AX145)","v":""},{"$f":"IF(個人種目登録!AZ145=\"\",\"\",個人種目登録!AZ145)","v":""},{"$f":"IF(個人種目登録!BH145=\"\",\"\",個人種目登録!BH145)","v":""}]
[{"$f":"IF(個人種目登録!AP146=\"\",\"\",個人種目登録!AP146)","v":""},{"$f":"IF(個人種目登録!AR146=\"\",\"\",個人種目登録!AR146)","v":""},{"$f":"IF(個人種目登録!D146=\"\",\"\",個人種目登録!D146)","v":""},{"$f":"IF(個人種目登録!AO146=\"\",\"\",個人種目登録!AO146)","v":""},{"$f":"IF(個人種目登録!AS146=\"\",\"\",個人種目登録!AS146)","v":""},{"$f":"IF(個人種目登録!AT146=\"\",\"\",個人種目登録!AT146)","v":""},null,null,{"$f":"IF(個人種目登録!AN146=\"\",\"\",個人種目登録!AN146)","v":""},{"$f":"IF(個人種目登録!AV146=\"\",\"\",個人種目登録!AV146)","v":""},{"$f":"IF(個人種目登録!AX146=\"\",\"\",個人種目登録!AX146)","v":""},{"$f":"IF(個人種目登録!AZ146=\"\",\"\",個人種目登録!AZ146)","v":""},{"$f":"IF(個人種目登録!BH146=\"\",\"\",個人種目登録!BH146)","v":""}]
[{"$f":"IF(個人種目登録!AP147=\"\",\"\",個人種目登録!AP147)","v":""},{"$f":"IF(個人種目登録!AR147=\"\",\"\",個人種目登録!AR147)","v":""},{"$f":"IF(個人種目登録!D147=\"\",\"\",個人種目登録!D147)","v":""},{"$f":"IF(個人種目登録!AO147=\"\",\"\",個人種目登録!AO147)","v":""},{"$f":"IF(個人種目登録!AS147=\"\",\"\",個人種目登録!AS147)","v":""},{"$f":"IF(個人種目登録!AT147=\"\",\"\",個人種目登録!AT147)","v":""},null,null,{"$f":"IF(個人種目登録!AN147=\"\",\"\",個人種目登録!AN147)","v":""},{"$f":"IF(個人種目登録!AV147=\"\",\"\",個人種目登録!AV147)","v":""},{"$f":"IF(個人種目登録!AX147=\"\",\"\",個人種目登録!AX147)","v":""},{"$f":"IF(個人種目登録!AZ147=\"\",\"\",個人種目登録!AZ147)","v":""},{"$f":"IF(個人種目登録!BH147=\"\",\"\",個人種目登録!BH147)","v":""}]
[{"$f":"IF(個人種目登録!AP148=\"\",\"\",個人種目登録!AP148)","v":""},{"$f":"IF(個人種目登録!AR148=\"\",\"\",個人種目登録!AR148)","v":""},{"$f":"IF(個人種目登録!D148=\"\",\"\",個人種目登録!D148)","v":""},{"$f":"IF(個人種目登録!AO148=\"\",\"\",個人種目登録!AO148)","v":""},{"$f":"IF(個人種目登録!AS148=\"\",\"\",個人種目登録!AS148)","v":""},{"$f":"IF(個人種目登録!AT148=\"\",\"\",個人種目登録!AT148)","v":""},null,null,{"$f":"IF(個人種目登録!AN148=\"\",\"\",個人種目登録!AN148)","v":""},{"$f":"IF(個人種目登録!AV148=\"\",\"\",個人種目登録!AV148)","v":""},{"$f":"IF(個人種目登録!AX148=\"\",\"\",個人種目登録!AX148)","v":""},{"$f":"IF(個人種目登録!AZ148=\"\",\"\",個人種目登録!AZ148)","v":""},{"$f":"IF(個人種目登録!BH148=\"\",\"\",個人種目登録!BH148)","v":""}]
[{"$f":"IF(個人種目登録!AP149=\"\",\"\",個人種目登録!AP149)","v":""},{"$f":"IF(個人種目登録!AR149=\"\",\"\",個人種目登録!AR149)","v":""},{"$f":"IF(個人種目登録!D149=\"\",\"\",個人種目登録!D149)","v":""},{"$f":"IF(個人種目登録!AO149=\"\",\"\",個人種目登録!AO149)","v":""},{"$f":"IF(個人種目登録!AS149=\"\",\"\",個人種目登録!AS149)","v":""},{"$f":"IF(個人種目登録!AT149=\"\",\"\",個人種目登録!AT149)","v":""},null,null,{"$f":"IF(個人種目登録!AN149=\"\",\"\",個人種目登録!AN149)","v":""},{"$f":"IF(個人種目登録!AV149=\"\",\"\",個人種目登録!AV149)","v":""},{"$f":"IF(個人種目登録!AX149=\"\",\"\",個人種目登録!AX149)","v":""},{"$f":"IF(個人種目登録!AZ149=\"\",\"\",個人種目登録!AZ149)","v":""},{"$f":"IF(個人種目登録!BH149=\"\",\"\",個人種目登録!BH149)","v":""}]
[{"$f":"IF(個人種目登録!AP150=\"\",\"\",個人種目登録!AP150)","v":""},{"$f":"IF(個人種目登録!AR150=\"\",\"\",個人種目登録!AR150)","v":""},{"$f":"IF(個人種目登録!D150=\"\",\"\",個人種目登録!D150)","v":""},{"$f":"IF(個人種目登録!AO150=\"\",\"\",個人種目登録!AO150)","v":""},{"$f":"IF(個人種目登録!AS150=\"\",\"\",個人種目登録!AS150)","v":""},{"$f":"IF(個人種目登録!AT150=\"\",\"\",個人種目登録!AT150)","v":""},null,null,{"$f":"IF(個人種目登録!AN150=\"\",\"\",個人種目登録!AN150)","v":""},{"$f":"IF(個人種目登録!AV150=\"\",\"\",個人種目登録!AV150)","v":""},{"$f":"IF(個人種目登録!AX150=\"\",\"\",個人種目登録!AX150)","v":""},{"$f":"IF(個人種目登録!AZ150=\"\",\"\",個人種目登録!AZ150)","v":""},{"$f":"IF(個人種目登録!BH150=\"\",\"\",個人種目登録!BH150)","v":""}]
[{"$f":"IF(個人種目登録!AP151=\"\",\"\",個人種目登録!AP151)","v":""},{"$f":"IF(個人種目登録!AR151=\"\",\"\",個人種目登録!AR151)","v":""},{"$f":"IF(個人種目登録!D151=\"\",\"\",個人種目登録!D151)","v":""},{"$f":"IF(個人種目登録!AO151=\"\",\"\",個人種目登録!AO151)","v":""},{"$f":"IF(個人種目登録!AS151=\"\",\"\",個人種目登録!AS151)","v":""},{"$f":"IF(個人種目登録!AT151=\"\",\"\",個人種目登録!AT151)","v":""},null,null,{"$f":"IF(個人種目登録!AN151=\"\",\"\",個人種目登録!AN151)","v":""},{"$f":"IF(個人種目登録!AV151=\"\",\"\",個人種目登録!AV151)","v":""},{"$f":"IF(個人種目登録!AX151=\"\",\"\",個人種目登録!AX151)","v":""},{"$f":"IF(個人種目登録!AZ151=\"\",\"\",個人種目登録!AZ151)","v":""},{"$f":"IF(個人種目登録!BH151=\"\",\"\",個人種目登録!BH151)","v":""}]
[{"$f":"IF(個人種目登録!AP152=\"\",\"\",個人種目登録!AP152)","v":""},{"$f":"IF(個人種目登録!AR152=\"\",\"\",個人種目登録!AR152)","v":""},{"$f":"IF(個人種目登録!D152=\"\",\"\",個人種目登録!D152)","v":""},{"$f":"IF(個人種目登録!AO152=\"\",\"\",個人種目登録!AO152)","v":""},{"$f":"IF(個人種目登録!AS152=\"\",\"\",個人種目登録!AS152)","v":""},{"$f":"IF(個人種目登録!AT152=\"\",\"\",個人種目登録!AT152)","v":""},null,null,{"$f":"IF(個人種目登録!AN152=\"\",\"\",個人種目登録!AN152)","v":""},{"$f":"IF(個人種目登録!AV152=\"\",\"\",個人種目登録!AV152)","v":""},{"$f":"IF(個人種目登録!AX152=\"\",\"\",個人種目登録!AX152)","v":""},{"$f":"IF(個人種目登録!AZ152=\"\",\"\",個人種目登録!AZ152)","v":""},{"$f":"IF(個人種目登録!BH152=\"\",\"\",個人種目登録!BH152)","v":""}]
[{"$f":"IF(個人種目登録!AP153=\"\",\"\",個人種目登録!AP153)","v":""},{"$f":"IF(個人種目登録!AR153=\"\",\"\",個人種目登録!AR153)","v":""},{"$f":"IF(個人種目登録!D153=\"\",\"\",個人種目登録!D153)","v":""},{"$f":"IF(個人種目登録!AO153=\"\",\"\",個人種目登録!AO153)","v":""},{"$f":"IF(個人種目登録!AS153=\"\",\"\",個人種目登録!AS153)","v":""},{"$f":"IF(個人種目登録!AT153=\"\",\"\",個人種目登録!AT153)","v":""},null,null,{"$f":"IF(個人種目登録!AN153=\"\",\"\",個人種目登録!AN153)","v":""},{"$f":"IF(個人種目登録!AV153=\"\",\"\",個人種目登録!AV153)","v":""},{"$f":"IF(個人種目登録!AX153=\"\",\"\",個人種目登録!AX153)","v":""},{"$f":"IF(個人種目登録!AZ153=\"\",\"\",個人種目登録!AZ153)","v":""},{"$f":"IF(個人種目登録!BH153=\"\",\"\",個人種目登録!BH153)","v":""}]
[{"$f":"IF(個人種目登録!AP154=\"\",\"\",個人種目登録!AP154)","v":""},{"$f":"IF(個人種目登録!AR154=\"\",\"\",個人種目登録!AR154)","v":""},{"$f":"IF(個人種目登録!D154=\"\",\"\",個人種目登録!D154)","v":""},{"$f":"IF(個人種目登録!AO154=\"\",\"\",個人種目登録!AO154)","v":""},{"$f":"IF(個人種目登録!AS154=\"\",\"\",個人種目登録!AS154)","v":""},{"$f":"IF(個人種目登録!AT154=\"\",\"\",個人種目登録!AT154)","v":""},null,null,{"$f":"IF(個人種目登録!AN154=\"\",\"\",個人種目登録!AN154)","v":""},{"$f":"IF(個人種目登録!AV154=\"\",\"\",個人種目登録!AV154)","v":""},{"$f":"IF(個人種目登録!AX154=\"\",\"\",個人種目登録!AX154)","v":""},{"$f":"IF(個人種目登録!AZ154=\"\",\"\",個人種目登録!AZ154)","v":""},{"$f":"IF(個人種目登録!BH154=\"\",\"\",個人種目登録!BH154)","v":""}]
[{"$f":"IF(個人種目登録!AP155=\"\",\"\",個人種目登録!AP155)","v":""},{"$f":"IF(個人種目登録!AR155=\"\",\"\",個人種目登録!AR155)","v":""},{"$f":"IF(個人種目登録!D155=\"\",\"\",個人種目登録!D155)","v":""},{"$f":"IF(個人種目登録!AO155=\"\",\"\",個人種目登録!AO155)","v":""},{"$f":"IF(個人種目登録!AS155=\"\",\"\",個人種目登録!AS155)","v":""},{"$f":"IF(個人種目登録!AT155=\"\",\"\",個人種目登録!AT155)","v":""},null,null,{"$f":"IF(個人種目登録!AN155=\"\",\"\",個人種目登録!AN155)","v":""},{"$f":"IF(個人種目登録!AV155=\"\",\"\",個人種目登録!AV155)","v":""},{"$f":"IF(個人種目登録!AX155=\"\",\"\",個人種目登録!AX155)","v":""},{"$f":"IF(個人種目登録!AZ155=\"\",\"\",個人種目登録!AZ155)","v":""},{"$f":"IF(個人種目登録!BH155=\"\",\"\",個人種目登録!BH155)","v":""}]
[{"$f":"IF(個人種目登録!AP156=\"\",\"\",個人種目登録!AP156)","v":""},{"$f":"IF(個人種目登録!AR156=\"\",\"\",個人種目登録!AR156)","v":""},{"$f":"IF(個人種目登録!D156=\"\",\"\",個人種目登録!D156)","v":""},{"$f":"IF(個人種目登録!AO156=\"\",\"\",個人種目登録!AO156)","v":""},{"$f":"IF(個人種目登録!AS156=\"\",\"\",個人種目登録!AS156)","v":""},{"$f":"IF(個人種目登録!AT156=\"\",\"\",個人種目登録!AT156)","v":""},null,null,{"$f":"IF(個人種目登録!AN156=\"\",\"\",個人種目登録!AN156)","v":""},{"$f":"IF(個人種目登録!AV156=\"\",\"\",個人種目登録!AV156)","v":""},{"$f":"IF(個人種目登録!AX156=\"\",\"\",個人種目登録!AX156)","v":""},{"$f":"IF(個人種目登録!AZ156=\"\",\"\",個人種目登録!AZ156)","v":""},{"$f":"IF(個人種目登録!BH156=\"\",\"\",個人種目登録!BH156)","v":""}]
[{"$f":"IF(個人種目登録!AP157=\"\",\"\",個人種目登録!AP157)","v":""},{"$f":"IF(個人種目登録!AR157=\"\",\"\",個人種目登録!AR157)","v":""},{"$f":"IF(個人種目登録!D157=\"\",\"\",個人種目登録!D157)","v":""},{"$f":"IF(個人種目登録!AO157=\"\",\"\",個人種目登録!AO157)","v":""},{"$f":"IF(個人種目登録!AS157=\"\",\"\",個人種目登録!AS157)","v":""},{"$f":"IF(個人種目登録!AT157=\"\",\"\",個人種目登録!AT157)","v":""},null,null,{"$f":"IF(個人種目登録!AN157=\"\",\"\",個人種目登録!AN157)","v":""},{"$f":"IF(個人種目登録!AV157=\"\",\"\",個人種目登録!AV157)","v":""},{"$f":"IF(個人種目登録!AX157=\"\",\"\",個人種目登録!AX157)","v":""},{"$f":"IF(個人種目登録!AZ157=\"\",\"\",個人種目登録!AZ157)","v":""},{"$f":"IF(個人種目登録!BH157=\"\",\"\",個人種目登録!BH157)","v":""}]
[{"$f":"IF(個人種目登録!AP158=\"\",\"\",個人種目登録!AP158)","v":""},{"$f":"IF(個人種目登録!AR158=\"\",\"\",個人種目登録!AR158)","v":""},{"$f":"IF(個人種目登録!D158=\"\",\"\",個人種目登録!D158)","v":""},{"$f":"IF(個人種目登録!AO158=\"\",\"\",個人種目登録!AO158)","v":""},{"$f":"IF(個人種目登録!AS158=\"\",\"\",個人種目登録!AS158)","v":""},{"$f":"IF(個人種目登録!AT158=\"\",\"\",個人種目登録!AT158)","v":""},null,null,{"$f":"IF(個人種目登録!AN158=\"\",\"\",個人種目登録!AN158)","v":""},{"$f":"IF(個人種目登録!AV158=\"\",\"\",個人種目登録!AV158)","v":""},{"$f":"IF(個人種目登録!AX158=\"\",\"\",個人種目登録!AX158)","v":""},{"$f":"IF(個人種目登録!AZ158=\"\",\"\",個人種目登録!AZ158)","v":""},{"$f":"IF(個人種目登録!BH158=\"\",\"\",個人種目登録!BH158)","v":""}]
[{"$f":"IF(個人種目登録!AP159=\"\",\"\",個人種目登録!AP159)","v":""},{"$f":"IF(個人種目登録!AR159=\"\",\"\",個人種目登録!AR159)","v":""},{"$f":"IF(個人種目登録!D159=\"\",\"\",個人種目登録!D159)","v":""},{"$f":"IF(個人種目登録!AO159=\"\",\"\",個人種目登録!AO159)","v":""},{"$f":"IF(個人種目登録!AS159=\"\",\"\",個人種目登録!AS159)","v":""},{"$f":"IF(個人種目登録!AT159=\"\",\"\",個人種目登録!AT159)","v":""},null,null,{"$f":"IF(個人種目登録!AN159=\"\",\"\",個人種目登録!AN159)","v":""},{"$f":"IF(個人種目登録!AV159=\"\",\"\",個人種目登録!AV159)","v":""},{"$f":"IF(個人種目登録!AX159=\"\",\"\",個人種目登録!AX159)","v":""},{"$f":"IF(個人種目登録!AZ159=\"\",\"\",個人種目登録!AZ159)","v":""},{"$f":"IF(個人種目登録!BH159=\"\",\"\",個人種目登録!BH159)","v":""}]
[{"$f":"IF(個人種目登録!AP160=\"\",\"\",個人種目登録!AP160)","v":""},{"$f":"IF(個人種目登録!AR160=\"\",\"\",個人種目登録!AR160)","v":""},{"$f":"IF(個人種目登録!D160=\"\",\"\",個人種目登録!D160)","v":""},{"$f":"IF(個人種目登録!AO160=\"\",\"\",個人種目登録!AO160)","v":""},{"$f":"IF(個人種目登録!AS160=\"\",\"\",個人種目登録!AS160)","v":""},{"$f":"IF(個人種目登録!AT160=\"\",\"\",個人種目登録!AT160)","v":""},null,null,{"$f":"IF(個人種目登録!AN160=\"\",\"\",個人種目登録!AN160)","v":""},{"$f":"IF(個人種目登録!AV160=\"\",\"\",個人種目登録!AV160)","v":""},{"$f":"IF(個人種目登録!AX160=\"\",\"\",個人種目登録!AX160)","v":""},{"$f":"IF(個人種目登録!AZ160=\"\",\"\",個人種目登録!AZ160)","v":""},{"$f":"IF(個人種目登録!BH160=\"\",\"\",個人種目登録!BH160)","v":""}]
[{"$f":"IF(個人種目登録!AP161=\"\",\"\",個人種目登録!AP161)","v":""},{"$f":"IF(個人種目登録!AR161=\"\",\"\",個人種目登録!AR161)","v":""},{"$f":"IF(個人種目登録!D161=\"\",\"\",個人種目登録!D161)","v":""},{"$f":"IF(個人種目登録!AO161=\"\",\"\",個人種目登録!AO161)","v":""},{"$f":"IF(個人種目登録!AS161=\"\",\"\",個人種目登録!AS161)","v":""},{"$f":"IF(個人種目登録!AT161=\"\",\"\",個人種目登録!AT161)","v":""},null,null,{"$f":"IF(個人種目登録!AN161=\"\",\"\",個人種目登録!AN161)","v":""},{"$f":"IF(個人種目登録!AV161=\"\",\"\",個人種目登録!AV161)","v":""},{"$f":"IF(個人種目登録!AX161=\"\",\"\",個人種目登録!AX161)","v":""},{"$f":"IF(個人種目登録!AZ161=\"\",\"\",個人種目登録!AZ161)","v":""},{"$f":"IF(個人種目登録!BH161=\"\",\"\",個人種目登録!BH161)","v":""}]
[{"$f":"IF(個人種目登録!AP162=\"\",\"\",個人種目登録!AP162)","v":""},{"$f":"IF(個人種目登録!AR162=\"\",\"\",個人種目登録!AR162)","v":""},{"$f":"IF(個人種目登録!D162=\"\",\"\",個人種目登録!D162)","v":""},{"$f":"IF(個人種目登録!AO162=\"\",\"\",個人種目登録!AO162)","v":""},{"$f":"IF(個人種目登録!AS162=\"\",\"\",個人種目登録!AS162)","v":""},{"$f":"IF(個人種目登録!AT162=\"\",\"\",個人種目登録!AT162)","v":""},null,null,{"$f":"IF(個人種目登録!AN162=\"\",\"\",個人種目登録!AN162)","v":""},{"$f":"IF(個人種目登録!AV162=\"\",\"\",個人種目登録!AV162)","v":""},{"$f":"IF(個人種目登録!AX162=\"\",\"\",個人種目登録!AX162)","v":""},{"$f":"IF(個人種目登録!AZ162=\"\",\"\",個人種目登録!AZ162)","v":""},{"$f":"IF(個人種目登録!BH162=\"\",\"\",個人種目登録!BH162)","v":""}]
[{"$f":"IF(個人種目登録!AP163=\"\",\"\",個人種目登録!AP163)","v":""},{"$f":"IF(個人種目登録!AR163=\"\",\"\",個人種目登録!AR163)","v":""},{"$f":"IF(個人種目登録!D163=\"\",\"\",個人種目登録!D163)","v":""},{"$f":"IF(個人種目登録!AO163=\"\",\"\",個人種目登録!AO163)","v":""},{"$f":"IF(個人種目登録!AS163=\"\",\"\",個人種目登録!AS163)","v":""},{"$f":"IF(個人種目登録!AT163=\"\",\"\",個人種目登録!AT163)","v":""},null,null,{"$f":"IF(個人種目登録!AN163=\"\",\"\",個人種目登録!AN163)","v":""},{"$f":"IF(個人種目登録!AV163=\"\",\"\",個人種目登録!AV163)","v":""},{"$f":"IF(個人種目登録!AX163=\"\",\"\",個人種目登録!AX163)","v":""},{"$f":"IF(個人種目登録!AZ163=\"\",\"\",個人種目登録!AZ163)","v":""},{"$f":"IF(個人種目登録!BH163=\"\",\"\",個人種目登録!BH163)","v":""}]
[{"$f":"IF(個人種目登録!AP164=\"\",\"\",個人種目登録!AP164)","v":""},{"$f":"IF(個人種目登録!AR164=\"\",\"\",個人種目登録!AR164)","v":""},{"$f":"IF(個人種目登録!D164=\"\",\"\",個人種目登録!D164)","v":""},{"$f":"IF(個人種目登録!AO164=\"\",\"\",個人種目登録!AO164)","v":""},{"$f":"IF(個人種目登録!AS164=\"\",\"\",個人種目登録!AS164)","v":""},{"$f":"IF(個人種目登録!AT164=\"\",\"\",個人種目登録!AT164)","v":""},null,null,{"$f":"IF(個人種目登録!AN164=\"\",\"\",個人種目登録!AN164)","v":""},{"$f":"IF(個人種目登録!AV164=\"\",\"\",個人種目登録!AV164)","v":""},{"$f":"IF(個人種目登録!AX164=\"\",\"\",個人種目登録!AX164)","v":""},{"$f":"IF(個人種目登録!AZ164=\"\",\"\",個人種目登録!AZ164)","v":""},{"$f":"IF(個人種目登録!BH164=\"\",\"\",個人種目登録!BH164)","v":""}]
[{"$f":"IF(個人種目登録!AP165=\"\",\"\",個人種目登録!AP165)","v":""},{"$f":"IF(個人種目登録!AR165=\"\",\"\",個人種目登録!AR165)","v":""},{"$f":"IF(個人種目登録!D165=\"\",\"\",個人種目登録!D165)","v":""},{"$f":"IF(個人種目登録!AO165=\"\",\"\",個人種目登録!AO165)","v":""},{"$f":"IF(個人種目登録!AS165=\"\",\"\",個人種目登録!AS165)","v":""},{"$f":"IF(個人種目登録!AT165=\"\",\"\",個人種目登録!AT165)","v":""},null,null,{"$f":"IF(個人種目登録!AN165=\"\",\"\",個人種目登録!AN165)","v":""},{"$f":"IF(個人種目登録!AV165=\"\",\"\",個人種目登録!AV165)","v":""},{"$f":"IF(個人種目登録!AX165=\"\",\"\",個人種目登録!AX165)","v":""},{"$f":"IF(個人種目登録!AZ165=\"\",\"\",個人種目登録!AZ165)","v":""},{"$f":"IF(個人種目登録!BH165=\"\",\"\",個人種目登録!BH165)","v":""}]
[{"$f":"IF(個人種目登録!AP166=\"\",\"\",個人種目登録!AP166)","v":""},{"$f":"IF(個人種目登録!AR166=\"\",\"\",個人種目登録!AR166)","v":""},{"$f":"IF(個人種目登録!D166=\"\",\"\",個人種目登録!D166)","v":""},{"$f":"IF(個人種目登録!AO166=\"\",\"\",個人種目登録!AO166)","v":""},{"$f":"IF(個人種目登録!AS166=\"\",\"\",個人種目登録!AS166)","v":""},{"$f":"IF(個人種目登録!AT166=\"\",\"\",個人種目登録!AT166)","v":""},null,null,{"$f":"IF(個人種目登録!AN166=\"\",\"\",個人種目登録!AN166)","v":""},{"$f":"IF(個人種目登録!AV166=\"\",\"\",個人種目登録!AV166)","v":""},{"$f":"IF(個人種目登録!AX166=\"\",\"\",個人種目登録!AX166)","v":""},{"$f":"IF(個人種目登録!AZ166=\"\",\"\",個人種目登録!AZ166)","v":""},{"$f":"IF(個人種目登録!BH166=\"\",\"\",個人種目登録!BH166)","v":""}]
[{"$f":"IF(個人種目登録!AP167=\"\",\"\",個人種目登録!AP167)","v":""},{"$f":"IF(個人種目登録!AR167=\"\",\"\",個人種目登録!AR167)","v":""},{"$f":"IF(個人種目登録!D167=\"\",\"\",個人種目登録!D167)","v":""},{"$f":"IF(個人種目登録!AO167=\"\",\"\",個人種目登録!AO167)","v":""},{"$f":"IF(個人種目登録!AS167=\"\",\"\",個人種目登録!AS167)","v":""},{"$f":"IF(個人種目登録!AT167=\"\",\"\",個人種目登録!AT167)","v":""},null,null,{"$f":"IF(個人種目登録!AN167=\"\",\"\",個人種目登録!AN167)","v":""},{"$f":"IF(個人種目登録!AV167=\"\",\"\",個人種目登録!AV167)","v":""},{"$f":"IF(個人種目登録!AX167=\"\",\"\",個人種目登録!AX167)","v":""},{"$f":"IF(個人種目登録!AZ167=\"\",\"\",個人種目登録!AZ167)","v":""},{"$f":"IF(個人種目登録!BH167=\"\",\"\",個人種目登録!BH167)","v":""}]
[{"$f":"IF(個人種目登録!AP168=\"\",\"\",個人種目登録!AP168)","v":""},{"$f":"IF(個人種目登録!AR168=\"\",\"\",個人種目登録!AR168)","v":""},{"$f":"IF(個人種目登録!D168=\"\",\"\",個人種目登録!D168)","v":""},{"$f":"IF(個人種目登録!AO168=\"\",\"\",個人種目登録!AO168)","v":""},{"$f":"IF(個人種目登録!AS168=\"\",\"\",個人種目登録!AS168)","v":""},{"$f":"IF(個人種目登録!AT168=\"\",\"\",個人種目登録!AT168)","v":""},null,null,{"$f":"IF(個人種目登録!AN168=\"\",\"\",個人種目登録!AN168)","v":""},{"$f":"IF(個人種目登録!AV168=\"\",\"\",個人種目登録!AV168)","v":""},{"$f":"IF(個人種目登録!AX168=\"\",\"\",個人種目登録!AX168)","v":""},{"$f":"IF(個人種目登録!AZ168=\"\",\"\",個人種目登録!AZ168)","v":""},{"$f":"IF(個人種目登録!BH168=\"\",\"\",個人種目登録!BH168)","v":""}]
[{"$f":"IF(個人種目登録!AP169=\"\",\"\",個人種目登録!AP169)","v":""},{"$f":"IF(個人種目登録!AR169=\"\",\"\",個人種目登録!AR169)","v":""},{"$f":"IF(個人種目登録!D169=\"\",\"\",個人種目登録!D169)","v":""},{"$f":"IF(個人種目登録!AO169=\"\",\"\",個人種目登録!AO169)","v":""},{"$f":"IF(個人種目登録!AS169=\"\",\"\",個人種目登録!AS169)","v":""},{"$f":"IF(個人種目登録!AT169=\"\",\"\",個人種目登録!AT169)","v":""},null,null,{"$f":"IF(個人種目登録!AN169=\"\",\"\",個人種目登録!AN169)","v":""},{"$f":"IF(個人種目登録!AV169=\"\",\"\",個人種目登録!AV169)","v":""},{"$f":"IF(個人種目登録!AX169=\"\",\"\",個人種目登録!AX169)","v":""},{"$f":"IF(個人種目登録!AZ169=\"\",\"\",個人種目登録!AZ169)","v":""},{"$f":"IF(個人種目登録!BH169=\"\",\"\",個人種目登録!BH169)","v":""}]
[{"$f":"IF(個人種目登録!AP170=\"\",\"\",個人種目登録!AP170)","v":""},{"$f":"IF(個人種目登録!AR170=\"\",\"\",個人種目登録!AR170)","v":""},{"$f":"IF(個人種目登録!D170=\"\",\"\",個人種目登録!D170)","v":""},{"$f":"IF(個人種目登録!AO170=\"\",\"\",個人種目登録!AO170)","v":""},{"$f":"IF(個人種目登録!AS170=\"\",\"\",個人種目登録!AS170)","v":""},{"$f":"IF(個人種目登録!AT170=\"\",\"\",個人種目登録!AT170)","v":""},null,null,{"$f":"IF(個人種目登録!AN170=\"\",\"\",個人種目登録!AN170)","v":""},{"$f":"IF(個人種目登録!AV170=\"\",\"\",個人種目登録!AV170)","v":""},{"$f":"IF(個人種目登録!AX170=\"\",\"\",個人種目登録!AX170)","v":""},{"$f":"IF(個人種目登録!AZ170=\"\",\"\",個人種目登録!AZ170)","v":""},{"$f":"IF(個人種目登録!BH170=\"\",\"\",個人種目登録!BH170)","v":""}]
[{"$f":"IF(個人種目登録!AP171=\"\",\"\",個人種目登録!AP171)","v":""},{"$f":"IF(個人種目登録!AR171=\"\",\"\",個人種目登録!AR171)","v":""},{"$f":"IF(個人種目登録!D171=\"\",\"\",個人種目登録!D171)","v":""},{"$f":"IF(個人種目登録!AO171=\"\",\"\",個人種目登録!AO171)","v":""},{"$f":"IF(個人種目登録!AS171=\"\",\"\",個人種目登録!AS171)","v":""},{"$f":"IF(個人種目登録!AT171=\"\",\"\",個人種目登録!AT171)","v":""},null,null,{"$f":"IF(個人種目登録!AN171=\"\",\"\",個人種目登録!AN171)","v":""},{"$f":"IF(個人種目登録!AV171=\"\",\"\",個人種目登録!AV171)","v":""},{"$f":"IF(個人種目登録!AX171=\"\",\"\",個人種目登録!AX171)","v":""},{"$f":"IF(個人種目登録!AZ171=\"\",\"\",個人種目登録!AZ171)","v":""},{"$f":"IF(個人種目登録!BH171=\"\",\"\",個人種目登録!BH171)","v":""}]
[{"$f":"IF(個人種目登録!AP172=\"\",\"\",個人種目登録!AP172)","v":""},{"$f":"IF(個人種目登録!AR172=\"\",\"\",個人種目登録!AR172)","v":""},{"$f":"IF(個人種目登録!D172=\"\",\"\",個人種目登録!D172)","v":""},{"$f":"IF(個人種目登録!AO172=\"\",\"\",個人種目登録!AO172)","v":""},{"$f":"IF(個人種目登録!AS172=\"\",\"\",個人種目登録!AS172)","v":""},{"$f":"IF(個人種目登録!AT172=\"\",\"\",個人種目登録!AT172)","v":""},null,null,{"$f":"IF(個人種目登録!AN172=\"\",\"\",個人種目登録!AN172)","v":""},{"$f":"IF(個人種目登録!AV172=\"\",\"\",個人種目登録!AV172)","v":""},{"$f":"IF(個人種目登録!AX172=\"\",\"\",個人種目登録!AX172)","v":""},{"$f":"IF(個人種目登録!AZ172=\"\",\"\",個人種目登録!AZ172)","v":""},{"$f":"IF(個人種目登録!BH172=\"\",\"\",個人種目登録!BH172)","v":""}]
[{"$f":"IF(個人種目登録!AP173=\"\",\"\",個人種目登録!AP173)","v":""},{"$f":"IF(個人種目登録!AR173=\"\",\"\",個人種目登録!AR173)","v":""},{"$f":"IF(個人種目登録!D173=\"\",\"\",個人種目登録!D173)","v":""},{"$f":"IF(個人種目登録!AO173=\"\",\"\",個人種目登録!AO173)","v":""},{"$f":"IF(個人種目登録!AS173=\"\",\"\",個人種目登録!AS173)","v":""},{"$f":"IF(個人種目登録!AT173=\"\",\"\",個人種目登録!AT173)","v":""},null,null,{"$f":"IF(個人種目登録!AN173=\"\",\"\",個人種目登録!AN173)","v":""},{"$f":"IF(個人種目登録!AV173=\"\",\"\",個人種目登録!AV173)","v":""},{"$f":"IF(個人種目登録!AX173=\"\",\"\",個人種目登録!AX173)","v":""},{"$f":"IF(個人種目登録!AZ173=\"\",\"\",個人種目登録!AZ173)","v":""},{"$f":"IF(個人種目登録!BH173=\"\",\"\",個人種目登録!BH173)","v":""}]
[{"$f":"IF(個人種目登録!AP174=\"\",\"\",個人種目登録!AP174)","v":""},{"$f":"IF(個人種目登録!AR174=\"\",\"\",個人種目登録!AR174)","v":""},{"$f":"IF(個人種目登録!D174=\"\",\"\",個人種目登録!D174)","v":""},{"$f":"IF(個人種目登録!AO174=\"\",\"\",個人種目登録!AO174)","v":""},{"$f":"IF(個人種目登録!AS174=\"\",\"\",個人種目登録!AS174)","v":""},{"$f":"IF(個人種目登録!AT174=\"\",\"\",個人種目登録!AT174)","v":""},null,null,{"$f":"IF(個人種目登録!AN174=\"\",\"\",個人種目登録!AN174)","v":""},{"$f":"IF(個人種目登録!AV174=\"\",\"\",個人種目登録!AV174)","v":""},{"$f":"IF(個人種目登録!AX174=\"\",\"\",個人種目登録!AX174)","v":""},{"$f":"IF(個人種目登録!AZ174=\"\",\"\",個人種目登録!AZ174)","v":""},{"$f":"IF(個人種目登録!BH174=\"\",\"\",個人種目登録!BH174)","v":""}]
[{"$f":"IF(個人種目登録!AP175=\"\",\"\",個人種目登録!AP175)","v":""},{"$f":"IF(個人種目登録!AR175=\"\",\"\",個人種目登録!AR175)","v":""},{"$f":"IF(個人種目登録!D175=\"\",\"\",個人種目登録!D175)","v":""},{"$f":"IF(個人種目登録!AO175=\"\",\"\",個人種目登録!AO175)","v":""},{"$f":"IF(個人種目登録!AS175=\"\",\"\",個人種目登録!AS175)","v":""},{"$f":"IF(個人種目登録!AT175=\"\",\"\",個人種目登録!AT175)","v":""},null,null,{"$f":"IF(個人種目登録!AN175=\"\",\"\",個人種目登録!AN175)","v":""},{"$f":"IF(個人種目登録!AV175=\"\",\"\",個人種目登録!AV175)","v":""},{"$f":"IF(個人種目登録!AX175=\"\",\"\",個人種目登録!AX175)","v":""},{"$f":"IF(個人種目登録!AZ175=\"\",\"\",個人種目登録!AZ175)","v":""},{"$f":"IF(個人種目登録!BH175=\"\",\"\",個人種目登録!BH175)","v":""}]
[{"$f":"IF(個人種目登録!AP176=\"\",\"\",個人種目登録!AP176)","v":""},{"$f":"IF(個人種目登録!AR176=\"\",\"\",個人種目登録!AR176)","v":""},{"$f":"IF(個人種目登録!D176=\"\",\"\",個人種目登録!D176)","v":""},{"$f":"IF(個人種目登録!AO176=\"\",\"\",個人種目登録!AO176)","v":""},{"$f":"IF(個人種目登録!AS176=\"\",\"\",個人種目登録!AS176)","v":""},{"$f":"IF(個人種目登録!AT176=\"\",\"\",個人種目登録!AT176)","v":""},null,null,{"$f":"IF(個人種目登録!AN176=\"\",\"\",個人種目登録!AN176)","v":""},{"$f":"IF(個人種目登録!AV176=\"\",\"\",個人種目登録!AV176)","v":""},{"$f":"IF(個人種目登録!AX176=\"\",\"\",個人種目登録!AX176)","v":""},{"$f":"IF(個人種目登録!AZ176=\"\",\"\",個人種目登録!AZ176)","v":""},{"$f":"IF(個人種目登録!BH176=\"\",\"\",個人種目登録!BH176)","v":""}]
[{"$f":"IF(個人種目登録!AP177=\"\",\"\",個人種目登録!AP177)","v":""},{"$f":"IF(個人種目登録!AR177=\"\",\"\",個人種目登録!AR177)","v":""},{"$f":"IF(個人種目登録!D177=\"\",\"\",個人種目登録!D177)","v":""},{"$f":"IF(個人種目登録!AO177=\"\",\"\",個人種目登録!AO177)","v":""},{"$f":"IF(個人種目登録!AS177=\"\",\"\",個人種目登録!AS177)","v":""},{"$f":"IF(個人種目登録!AT177=\"\",\"\",個人種目登録!AT177)","v":""},null,null,{"$f":"IF(個人種目登録!AN177=\"\",\"\",個人種目登録!AN177)","v":""},{"$f":"IF(個人種目登録!AV177=\"\",\"\",個人種目登録!AV177)","v":""},{"$f":"IF(個人種目登録!AX177=\"\",\"\",個人種目登録!AX177)","v":""},{"$f":"IF(個人種目登録!AZ177=\"\",\"\",個人種目登録!AZ177)","v":""},{"$f":"IF(個人種目登録!BH177=\"\",\"\",個人種目登録!BH177)","v":""}]
[{"$f":"IF(個人種目登録!AP178=\"\",\"\",個人種目登録!AP178)","v":""},{"$f":"IF(個人種目登録!AR178=\"\",\"\",個人種目登録!AR178)","v":""},{"$f":"IF(個人種目登録!D178=\"\",\"\",個人種目登録!D178)","v":""},{"$f":"IF(個人種目登録!AO178=\"\",\"\",個人種目登録!AO178)","v":""},{"$f":"IF(個人種目登録!AS178=\"\",\"\",個人種目登録!AS178)","v":""},{"$f":"IF(個人種目登録!AT178=\"\",\"\",個人種目登録!AT178)","v":""},null,null,{"$f":"IF(個人種目登録!AN178=\"\",\"\",個人種目登録!AN178)","v":""},{"$f":"IF(個人種目登録!AV178=\"\",\"\",個人種目登録!AV178)","v":""},{"$f":"IF(個人種目登録!AX178=\"\",\"\",個人種目登録!AX178)","v":""},{"$f":"IF(個人種目登録!AZ178=\"\",\"\",個人種目登録!AZ178)","v":""},{"$f":"IF(個人種目登録!BH178=\"\",\"\",個人種目登録!BH178)","v":""}]
[{"$f":"IF(個人種目登録!AP179=\"\",\"\",個人種目登録!AP179)","v":""},{"$f":"IF(個人種目登録!AR179=\"\",\"\",個人種目登録!AR179)","v":""},{"$f":"IF(個人種目登録!D179=\"\",\"\",個人種目登録!D179)","v":""},{"$f":"IF(個人種目登録!AO179=\"\",\"\",個人種目登録!AO179)","v":""},{"$f":"IF(個人種目登録!AS179=\"\",\"\",個人種目登録!AS179)","v":""},{"$f":"IF(個人種目登録!AT179=\"\",\"\",個人種目登録!AT179)","v":""},null,null,{"$f":"IF(個人種目登録!AN179=\"\",\"\",個人種目登録!AN179)","v":""},{"$f":"IF(個人種目登録!AV179=\"\",\"\",個人種目登録!AV179)","v":""},{"$f":"IF(個人種目登録!AX179=\"\",\"\",個人種目登録!AX179)","v":""},{"$f":"IF(個人種目登録!AZ179=\"\",\"\",個人種目登録!AZ179)","v":""},{"$f":"IF(個人種目登録!BH179=\"\",\"\",個人種目登録!BH179)","v":""}]
[{"$f":"IF(個人種目登録!AP180=\"\",\"\",個人種目登録!AP180)","v":""},{"$f":"IF(個人種目登録!AR180=\"\",\"\",個人種目登録!AR180)","v":""},{"$f":"IF(個人種目登録!D180=\"\",\"\",個人種目登録!D180)","v":""},{"$f":"IF(個人種目登録!AO180=\"\",\"\",個人種目登録!AO180)","v":""},{"$f":"IF(個人種目登録!AS180=\"\",\"\",個人種目登録!AS180)","v":""},{"$f":"IF(個人種目登録!AT180=\"\",\"\",個人種目登録!AT180)","v":""},null,null,{"$f":"IF(個人種目登録!AN180=\"\",\"\",個人種目登録!AN180)","v":""},{"$f":"IF(個人種目登録!AV180=\"\",\"\",個人種目登録!AV180)","v":""},{"$f":"IF(個人種目登録!AX180=\"\",\"\",個人種目登録!AX180)","v":""},{"$f":"IF(個人種目登録!AZ180=\"\",\"\",個人種目登録!AZ180)","v":""},{"$f":"IF(個人種目登録!BH180=\"\",\"\",個人種目登録!BH180)","v":""}]
[{"$f":"IF(個人種目登録!AP181=\"\",\"\",個人種目登録!AP181)","v":""},{"$f":"IF(個人種目登録!AR181=\"\",\"\",個人種目登録!AR181)","v":""},{"$f":"IF(個人種目登録!D181=\"\",\"\",個人種目登録!D181)","v":""},{"$f":"IF(個人種目登録!AO181=\"\",\"\",個人種目登録!AO181)","v":""},{"$f":"IF(個人種目登録!AS181=\"\",\"\",個人種目登録!AS181)","v":""},{"$f":"IF(個人種目登録!AT181=\"\",\"\",個人種目登録!AT181)","v":""},null,null,{"$f":"IF(個人種目登録!AN181=\"\",\"\",個人種目登録!AN181)","v":""},{"$f":"IF(個人種目登録!AV181=\"\",\"\",個人種目登録!AV181)","v":""},{"$f":"IF(個人種目登録!AX181=\"\",\"\",個人種目登録!AX181)","v":""},{"$f":"IF(個人種目登録!AZ181=\"\",\"\",個人種目登録!AZ181)","v":""},{"$f":"IF(個人種目登録!BH181=\"\",\"\",個人種目登録!BH181)","v":""}]
[{"$f":"IF(個人種目登録!AP182=\"\",\"\",個人種目登録!AP182)","v":""},{"$f":"IF(個人種目登録!AR182=\"\",\"\",個人種目登録!AR182)","v":""},{"$f":"IF(個人種目登録!D182=\"\",\"\",個人種目登録!D182)","v":""},{"$f":"IF(個人種目登録!AO182=\"\",\"\",個人種目登録!AO182)","v":""},{"$f":"IF(個人種目登録!AS182=\"\",\"\",個人種目登録!AS182)","v":""},{"$f":"IF(個人種目登録!AT182=\"\",\"\",個人種目登録!AT182)","v":""},null,null,{"$f":"IF(個人種目登録!AN182=\"\",\"\",個人種目登録!AN182)","v":""},{"$f":"IF(個人種目登録!AV182=\"\",\"\",個人種目登録!AV182)","v":""},{"$f":"IF(個人種目登録!AX182=\"\",\"\",個人種目登録!AX182)","v":""},{"$f":"IF(個人種目登録!AZ182=\"\",\"\",個人種目登録!AZ182)","v":""},{"$f":"IF(個人種目登録!BH182=\"\",\"\",個人種目登録!BH182)","v":""}]
[{"$f":"IF(個人種目登録!AP183=\"\",\"\",個人種目登録!AP183)","v":""},{"$f":"IF(個人種目登録!AR183=\"\",\"\",個人種目登録!AR183)","v":""},{"$f":"IF(個人種目登録!D183=\"\",\"\",個人種目登録!D183)","v":""},{"$f":"IF(個人種目登録!AO183=\"\",\"\",個人種目登録!AO183)","v":""},{"$f":"IF(個人種目登録!AS183=\"\",\"\",個人種目登録!AS183)","v":""},{"$f":"IF(個人種目登録!AT183=\"\",\"\",個人種目登録!AT183)","v":""},null,null,{"$f":"IF(個人種目登録!AN183=\"\",\"\",個人種目登録!AN183)","v":""},{"$f":"IF(個人種目登録!AV183=\"\",\"\",個人種目登録!AV183)","v":""},{"$f":"IF(個人種目登録!AX183=\"\",\"\",個人種目登録!AX183)","v":""},{"$f":"IF(個人種目登録!AZ183=\"\",\"\",個人種目登録!AZ183)","v":""},{"$f":"IF(個人種目登録!BH183=\"\",\"\",個人種目登録!BH183)","v":""}]
[{"$f":"IF(個人種目登録!AP184=\"\",\"\",個人種目登録!AP184)","v":""},{"$f":"IF(個人種目登録!AR184=\"\",\"\",個人種目登録!AR184)","v":""},{"$f":"IF(個人種目登録!D184=\"\",\"\",個人種目登録!D184)","v":""},{"$f":"IF(個人種目登録!AO184=\"\",\"\",個人種目登録!AO184)","v":""},{"$f":"IF(個人種目登録!AS184=\"\",\"\",個人種目登録!AS184)","v":""},{"$f":"IF(個人種目登録!AT184=\"\",\"\",個人種目登録!AT184)","v":""},null,null,{"$f":"IF(個人種目登録!AN184=\"\",\"\",個人種目登録!AN184)","v":""},{"$f":"IF(個人種目登録!AV184=\"\",\"\",個人種目登録!AV184)","v":""},{"$f":"IF(個人種目登録!AX184=\"\",\"\",個人種目登録!AX184)","v":""},{"$f":"IF(個人種目登録!AZ184=\"\",\"\",個人種目登録!AZ184)","v":""},{"$f":"IF(個人種目登録!BH184=\"\",\"\",個人種目登録!BH184)","v":""}]
[{"$f":"IF(個人種目登録!AP185=\"\",\"\",個人種目登録!AP185)","v":""},{"$f":"IF(個人種目登録!AR185=\"\",\"\",個人種目登録!AR185)","v":""},{"$f":"IF(個人種目登録!D185=\"\",\"\",個人種目登録!D185)","v":""},{"$f":"IF(個人種目登録!AO185=\"\",\"\",個人種目登録!AO185)","v":""},{"$f":"IF(個人種目登録!AS185=\"\",\"\",個人種目登録!AS185)","v":""},{"$f":"IF(個人種目登録!AT185=\"\",\"\",個人種目登録!AT185)","v":""},null,null,{"$f":"IF(個人種目登録!AN185=\"\",\"\",個人種目登録!AN185)","v":""},{"$f":"IF(個人種目登録!AV185=\"\",\"\",個人種目登録!AV185)","v":""},{"$f":"IF(個人種目登録!AX185=\"\",\"\",個人種目登録!AX185)","v":""},{"$f":"IF(個人種目登録!AZ185=\"\",\"\",個人種目登録!AZ185)","v":""},{"$f":"IF(個人種目登録!BH185=\"\",\"\",個人種目登録!BH185)","v":""}]
[{"$f":"IF(個人種目登録!AP186=\"\",\"\",個人種目登録!AP186)","v":""},{"$f":"IF(個人種目登録!AR186=\"\",\"\",個人種目登録!AR186)","v":""},{"$f":"IF(個人種目登録!D186=\"\",\"\",個人種目登録!D186)","v":""},{"$f":"IF(個人種目登録!AO186=\"\",\"\",個人種目登録!AO186)","v":""},{"$f":"IF(個人種目登録!AS186=\"\",\"\",個人種目登録!AS186)","v":""},{"$f":"IF(個人種目登録!AT186=\"\",\"\",個人種目登録!AT186)","v":""},null,null,{"$f":"IF(個人種目登録!AN186=\"\",\"\",個人種目登録!AN186)","v":""},{"$f":"IF(個人種目登録!AV186=\"\",\"\",個人種目登録!AV186)","v":""},{"$f":"IF(個人種目登録!AX186=\"\",\"\",個人種目登録!AX186)","v":""},{"$f":"IF(個人種目登録!AZ186=\"\",\"\",個人種目登録!AZ186)","v":""},{"$f":"IF(個人種目登録!BH186=\"\",\"\",個人種目登録!BH186)","v":""}]
[{"$f":"IF(個人種目登録!AP187=\"\",\"\",個人種目登録!AP187)","v":""},{"$f":"IF(個人種目登録!AR187=\"\",\"\",個人種目登録!AR187)","v":""},{"$f":"IF(個人種目登録!D187=\"\",\"\",個人種目登録!D187)","v":""},{"$f":"IF(個人種目登録!AO187=\"\",\"\",個人種目登録!AO187)","v":""},{"$f":"IF(個人種目登録!AS187=\"\",\"\",個人種目登録!AS187)","v":""},{"$f":"IF(個人種目登録!AT187=\"\",\"\",個人種目登録!AT187)","v":""},null,null,{"$f":"IF(個人種目登録!AN187=\"\",\"\",個人種目登録!AN187)","v":""},{"$f":"IF(個人種目登録!AV187=\"\",\"\",個人種目登録!AV187)","v":""},{"$f":"IF(個人種目登録!AX187=\"\",\"\",個人種目登録!AX187)","v":""},{"$f":"IF(個人種目登録!AZ187=\"\",\"\",個人種目登録!AZ187)","v":""},{"$f":"IF(個人種目登録!BH187=\"\",\"\",個人種目登録!BH187)","v":""}]
[{"$f":"IF(個人種目登録!AP188=\"\",\"\",個人種目登録!AP188)","v":""},{"$f":"IF(個人種目登録!AR188=\"\",\"\",個人種目登録!AR188)","v":""},{"$f":"IF(個人種目登録!D188=\"\",\"\",個人種目登録!D188)","v":""},{"$f":"IF(個人種目登録!AO188=\"\",\"\",個人種目登録!AO188)","v":""},{"$f":"IF(個人種目登録!AS188=\"\",\"\",個人種目登録!AS188)","v":""},{"$f":"IF(個人種目登録!AT188=\"\",\"\",個人種目登録!AT188)","v":""},null,null,{"$f":"IF(個人種目登録!AN188=\"\",\"\",個人種目登録!AN188)","v":""},{"$f":"IF(個人種目登録!AV188=\"\",\"\",個人種目登録!AV188)","v":""},{"$f":"IF(個人種目登録!AX188=\"\",\"\",個人種目登録!AX188)","v":""},{"$f":"IF(個人種目登録!AZ188=\"\",\"\",個人種目登録!AZ188)","v":""},{"$f":"IF(個人種目登録!BH188=\"\",\"\",個人種目登録!BH188)","v":""}]
[{"$f":"IF(個人種目登録!AP189=\"\",\"\",個人種目登録!AP189)","v":""},{"$f":"IF(個人種目登録!AR189=\"\",\"\",個人種目登録!AR189)","v":""},{"$f":"IF(個人種目登録!D189=\"\",\"\",個人種目登録!D189)","v":""},{"$f":"IF(個人種目登録!AO189=\"\",\"\",個人種目登録!AO189)","v":""},{"$f":"IF(個人種目登録!AS189=\"\",\"\",個人種目登録!AS189)","v":""},{"$f":"IF(個人種目登録!AT189=\"\",\"\",個人種目登録!AT189)","v":""},null,null,{"$f":"IF(個人種目登録!AN189=\"\",\"\",個人種目登録!AN189)","v":""},{"$f":"IF(個人種目登録!AV189=\"\",\"\",個人種目登録!AV189)","v":""},{"$f":"IF(個人種目登録!AX189=\"\",\"\",個人種目登録!AX189)","v":""},{"$f":"IF(個人種目登録!AZ189=\"\",\"\",個人種目登録!AZ189)","v":""},{"$f":"IF(個人種目登録!BH189=\"\",\"\",個人種目登録!BH189)","v":""}]
[{"$f":"IF(個人種目登録!AP190=\"\",\"\",個人種目登録!AP190)","v":""},{"$f":"IF(個人種目登録!AR190=\"\",\"\",個人種目登録!AR190)","v":""},{"$f":"IF(個人種目登録!D190=\"\",\"\",個人種目登録!D190)","v":""},{"$f":"IF(個人種目登録!AO190=\"\",\"\",個人種目登録!AO190)","v":""},{"$f":"IF(個人種目登録!AS190=\"\",\"\",個人種目登録!AS190)","v":""},{"$f":"IF(個人種目登録!AT190=\"\",\"\",個人種目登録!AT190)","v":""},null,null,{"$f":"IF(個人種目登録!AN190=\"\",\"\",個人種目登録!AN190)","v":""},{"$f":"IF(個人種目登録!AV190=\"\",\"\",個人種目登録!AV190)","v":""},{"$f":"IF(個人種目登録!AX190=\"\",\"\",個人種目登録!AX190)","v":""},{"$f":"IF(個人種目登録!AZ190=\"\",\"\",個人種目登録!AZ190)","v":""},{"$f":"IF(個人種目登録!BH190=\"\",\"\",個人種目登録!BH190)","v":""}]
[{"$f":"IF(個人種目登録!AP191=\"\",\"\",個人種目登録!AP191)","v":""},{"$f":"IF(個人種目登録!AR191=\"\",\"\",個人種目登録!AR191)","v":""},{"$f":"IF(個人種目登録!D191=\"\",\"\",個人種目登録!D191)","v":""},{"$f":"IF(個人種目登録!AO191=\"\",\"\",個人種目登録!AO191)","v":""},{"$f":"IF(個人種目登録!AS191=\"\",\"\",個人種目登録!AS191)","v":""},{"$f":"IF(個人種目登録!AT191=\"\",\"\",個人種目登録!AT191)","v":""},null,null,{"$f":"IF(個人種目登録!AN191=\"\",\"\",個人種目登録!AN191)","v":""},{"$f":"IF(個人種目登録!AV191=\"\",\"\",個人種目登録!AV191)","v":""},{"$f":"IF(個人種目登録!AX191=\"\",\"\",個人種目登録!AX191)","v":""},{"$f":"IF(個人種目登録!AZ191=\"\",\"\",個人種目登録!AZ191)","v":""},{"$f":"IF(個人種目登録!BH191=\"\",\"\",個人種目登録!BH191)","v":""}]
[{"$f":"IF(個人種目登録!AP192=\"\",\"\",個人種目登録!AP192)","v":""},{"$f":"IF(個人種目登録!AR192=\"\",\"\",個人種目登録!AR192)","v":""},{"$f":"IF(個人種目登録!D192=\"\",\"\",個人種目登録!D192)","v":""},{"$f":"IF(個人種目登録!AO192=\"\",\"\",個人種目登録!AO192)","v":""},{"$f":"IF(個人種目登録!AS192=\"\",\"\",個人種目登録!AS192)","v":""},{"$f":"IF(個人種目登録!AT192=\"\",\"\",個人種目登録!AT192)","v":""},null,null,{"$f":"IF(個人種目登録!AN192=\"\",\"\",個人種目登録!AN192)","v":""},{"$f":"IF(個人種目登録!AV192=\"\",\"\",個人種目登録!AV192)","v":""},{"$f":"IF(個人種目登録!AX192=\"\",\"\",個人種目登録!AX192)","v":""},{"$f":"IF(個人種目登録!AZ192=\"\",\"\",個人種目登録!AZ192)","v":""},{"$f":"IF(個人種目登録!BH192=\"\",\"\",個人種目登録!BH192)","v":""}]
[{"$f":"IF(個人種目登録!AP193=\"\",\"\",個人種目登録!AP193)","v":""},{"$f":"IF(個人種目登録!AR193=\"\",\"\",個人種目登録!AR193)","v":""},{"$f":"IF(個人種目登録!D193=\"\",\"\",個人種目登録!D193)","v":""},{"$f":"IF(個人種目登録!AO193=\"\",\"\",個人種目登録!AO193)","v":""},{"$f":"IF(個人種目登録!AS193=\"\",\"\",個人種目登録!AS193)","v":""},{"$f":"IF(個人種目登録!AT193=\"\",\"\",個人種目登録!AT193)","v":""},null,null,{"$f":"IF(個人種目登録!AN193=\"\",\"\",個人種目登録!AN193)","v":""},{"$f":"IF(個人種目登録!AV193=\"\",\"\",個人種目登録!AV193)","v":""},{"$f":"IF(個人種目登録!AX193=\"\",\"\",個人種目登録!AX193)","v":""},{"$f":"IF(個人種目登録!AZ193=\"\",\"\",個人種目登録!AZ193)","v":""},{"$f":"IF(個人種目登録!BH193=\"\",\"\",個人種目登録!BH193)","v":""}]
[{"$f":"IF(個人種目登録!AP194=\"\",\"\",個人種目登録!AP194)","v":""},{"$f":"IF(個人種目登録!AR194=\"\",\"\",個人種目登録!AR194)","v":""},{"$f":"IF(個人種目登録!D194=\"\",\"\",個人種目登録!D194)","v":""},{"$f":"IF(個人種目登録!AO194=\"\",\"\",個人種目登録!AO194)","v":""},{"$f":"IF(個人種目登録!AS194=\"\",\"\",個人種目登録!AS194)","v":""},{"$f":"IF(個人種目登録!AT194=\"\",\"\",個人種目登録!AT194)","v":""},null,null,{"$f":"IF(個人種目登録!AN194=\"\",\"\",個人種目登録!AN194)","v":""},{"$f":"IF(個人種目登録!AV194=\"\",\"\",個人種目登録!AV194)","v":""},{"$f":"IF(個人種目登録!AX194=\"\",\"\",個人種目登録!AX194)","v":""},{"$f":"IF(個人種目登録!AZ194=\"\",\"\",個人種目登録!AZ194)","v":""},{"$f":"IF(個人種目登録!BH194=\"\",\"\",個人種目登録!BH194)","v":""}]
[{"$f":"IF(個人種目登録!AP195=\"\",\"\",個人種目登録!AP195)","v":""},{"$f":"IF(個人種目登録!AR195=\"\",\"\",個人種目登録!AR195)","v":""},{"$f":"IF(個人種目登録!D195=\"\",\"\",個人種目登録!D195)","v":""},{"$f":"IF(個人種目登録!AO195=\"\",\"\",個人種目登録!AO195)","v":""},{"$f":"IF(個人種目登録!AS195=\"\",\"\",個人種目登録!AS195)","v":""},{"$f":"IF(個人種目登録!AT195=\"\",\"\",個人種目登録!AT195)","v":""},null,null,{"$f":"IF(個人種目登録!AN195=\"\",\"\",個人種目登録!AN195)","v":""},{"$f":"IF(個人種目登録!AV195=\"\",\"\",個人種目登録!AV195)","v":""},{"$f":"IF(個人種目登録!AX195=\"\",\"\",個人種目登録!AX195)","v":""},{"$f":"IF(個人種目登録!AZ195=\"\",\"\",個人種目登録!AZ195)","v":""},{"$f":"IF(個人種目登録!BH195=\"\",\"\",個人種目登録!BH195)","v":""}]
[{"$f":"IF(個人種目登録!AP196=\"\",\"\",個人種目登録!AP196)","v":""},{"$f":"IF(個人種目登録!AR196=\"\",\"\",個人種目登録!AR196)","v":""},{"$f":"IF(個人種目登録!D196=\"\",\"\",個人種目登録!D196)","v":""},{"$f":"IF(個人種目登録!AO196=\"\",\"\",個人種目登録!AO196)","v":""},{"$f":"IF(個人種目登録!AS196=\"\",\"\",個人種目登録!AS196)","v":""},{"$f":"IF(個人種目登録!AT196=\"\",\"\",個人種目登録!AT196)","v":""},null,null,{"$f":"IF(個人種目登録!AN196=\"\",\"\",個人種目登録!AN196)","v":""},{"$f":"IF(個人種目登録!AV196=\"\",\"\",個人種目登録!AV196)","v":""},{"$f":"IF(個人種目登録!AX196=\"\",\"\",個人種目登録!AX196)","v":""},{"$f":"IF(個人種目登録!AZ196=\"\",\"\",個人種目登録!AZ196)","v":""},{"$f":"IF(個人種目登録!BH196=\"\",\"\",個人種目登録!BH196)","v":""}]
[{"$f":"IF(個人種目登録!AP197=\"\",\"\",個人種目登録!AP197)","v":""},{"$f":"IF(個人種目登録!AR197=\"\",\"\",個人種目登録!AR197)","v":""},{"$f":"IF(個人種目登録!D197=\"\",\"\",個人種目登録!D197)","v":""},{"$f":"IF(個人種目登録!AO197=\"\",\"\",個人種目登録!AO197)","v":""},{"$f":"IF(個人種目登録!AS197=\"\",\"\",個人種目登録!AS197)","v":""},{"$f":"IF(個人種目登録!AT197=\"\",\"\",個人種目登録!AT197)","v":""},null,null,{"$f":"IF(個人種目登録!AN197=\"\",\"\",個人種目登録!AN197)","v":""},{"$f":"IF(個人種目登録!AV197=\"\",\"\",個人種目登録!AV197)","v":""},{"$f":"IF(個人種目登録!AX197=\"\",\"\",個人種目登録!AX197)","v":""},{"$f":"IF(個人種目登録!AZ197=\"\",\"\",個人種目登録!AZ197)","v":""},{"$f":"IF(個人種目登録!BH197=\"\",\"\",個人種目登録!BH197)","v":""}]
[{"$f":"IF(個人種目登録!AP198=\"\",\"\",個人種目登録!AP198)","v":""},{"$f":"IF(個人種目登録!AR198=\"\",\"\",個人種目登録!AR198)","v":""},{"$f":"IF(個人種目登録!D198=\"\",\"\",個人種目登録!D198)","v":""},{"$f":"IF(個人種目登録!AO198=\"\",\"\",個人種目登録!AO198)","v":""},{"$f":"IF(個人種目登録!AS198=\"\",\"\",個人種目登録!AS198)","v":""},{"$f":"IF(個人種目登録!AT198=\"\",\"\",個人種目登録!AT198)","v":""},null,null,{"$f":"IF(個人種目登録!AN198=\"\",\"\",個人種目登録!AN198)","v":""},{"$f":"IF(個人種目登録!AV198=\"\",\"\",個人種目登録!AV198)","v":""},{"$f":"IF(個人種目登録!AX198=\"\",\"\",個人種目登録!AX198)","v":""},{"$f":"IF(個人種目登録!AZ198=\"\",\"\",個人種目登録!AZ198)","v":""},{"$f":"IF(個人種目登録!BH198=\"\",\"\",個人種目登録!BH198)","v":""}]
[{"$f":"IF(個人種目登録!AP199=\"\",\"\",個人種目登録!AP199)","v":""},{"$f":"IF(個人種目登録!AR199=\"\",\"\",個人種目登録!AR199)","v":""},{"$f":"IF(個人種目登録!D199=\"\",\"\",個人種目登録!D199)","v":""},{"$f":"IF(個人種目登録!AO199=\"\",\"\",個人種目登録!AO199)","v":""},{"$f":"IF(個人種目登録!AS199=\"\",\"\",個人種目登録!AS199)","v":""},{"$f":"IF(個人種目登録!AT199=\"\",\"\",個人種目登録!AT199)","v":""},null,null,{"$f":"IF(個人種目登録!AN199=\"\",\"\",個人種目登録!AN199)","v":""},{"$f":"IF(個人種目登録!AV199=\"\",\"\",個人種目登録!AV199)","v":""},{"$f":"IF(個人種目登録!AX199=\"\",\"\",個人種目登録!AX199)","v":""},{"$f":"IF(個人種目登録!AZ199=\"\",\"\",個人種目登録!AZ199)","v":""},{"$f":"IF(個人種目登録!BH199=\"\",\"\",個人種目登録!BH199)","v":""}]
[{"$f":"IF(個人種目登録!AP200=\"\",\"\",個人種目登録!AP200)","v":""},{"$f":"IF(個人種目登録!AR200=\"\",\"\",個人種目登録!AR200)","v":""},{"$f":"IF(個人種目登録!D200=\"\",\"\",個人種目登録!D200)","v":""},{"$f":"IF(個人種目登録!AO200=\"\",\"\",個人種目登録!AO200)","v":""},{"$f":"IF(個人種目登録!AS200=\"\",\"\",個人種目登録!AS200)","v":""},{"$f":"IF(個人種目登録!AT200=\"\",\"\",個人種目登録!AT200)","v":""},null,null,{"$f":"IF(個人種目登録!AN200=\"\",\"\",個人種目登録!AN200)","v":""},{"$f":"IF(個人種目登録!AV200=\"\",\"\",個人種目登録!AV200)","v":""},{"$f":"IF(個人種目登録!AX200=\"\",\"\",個人種目登録!AX200)","v":""},{"$f":"IF(個人種目登録!AZ200=\"\",\"\",個人種目登録!AZ200)","v":""},{"$f":"IF(個人種目登録!BH200=\"\",\"\",個人種目登録!BH200)","v":""}]
[{"$f":"IF(個人種目登録!AP201=\"\",\"\",個人種目登録!AP201)","v":""},{"$f":"IF(個人種目登録!AR201=\"\",\"\",個人種目登録!AR201)","v":""},{"$f":"IF(個人種目登録!D201=\"\",\"\",個人種目登録!D201)","v":""},{"$f":"IF(個人種目登録!AO201=\"\",\"\",個人種目登録!AO201)","v":""},{"$f":"IF(個人種目登録!AS201=\"\",\"\",個人種目登録!AS201)","v":""},{"$f":"IF(個人種目登録!AT201=\"\",\"\",個人種目登録!AT201)","v":""},null,null,{"$f":"IF(個人種目登録!AN201=\"\",\"\",個人種目登録!AN201)","v":""},{"$f":"IF(個人種目登録!AV201=\"\",\"\",個人種目登録!AV201)","v":""},{"$f":"IF(個人種目登録!AX201=\"\",\"\",個人種目登録!AX201)","v":""},{"$f":"IF(個人種目登録!AZ201=\"\",\"\",個人種目登録!AZ201)","v":""},{"$f":"IF(個人種目登録!BH201=\"\",\"\",個人種目登録!BH201)","v":""}]
[{"$f":"IF(個人種目登録!AP202=\"\",\"\",個人種目登録!AP202)","v":""},{"$f":"IF(個人種目登録!AR202=\"\",\"\",個人種目登録!AR202)","v":""},{"$f":"IF(個人種目登録!D202=\"\",\"\",個人種目登録!D202)","v":""},{"$f":"IF(個人種目登録!AO202=\"\",\"\",個人種目登録!AO202)","v":""},{"$f":"IF(個人種目登録!AS202=\"\",\"\",個人種目登録!AS202)","v":""},{"$f":"IF(個人種目登録!AT202=\"\",\"\",個人種目登録!AT202)","v":""},null,null,{"$f":"IF(個人種目登録!AN202=\"\",\"\",個人種目登録!AN202)","v":""},{"$f":"IF(個人種目登録!AV202=\"\",\"\",個人種目登録!AV202)","v":""},{"$f":"IF(個人種目登録!AX202=\"\",\"\",個人種目登録!AX202)","v":""},{"$f":"IF(個人種目登録!AZ202=\"\",\"\",個人種目登録!AZ202)","v":""},{"$f":"IF(個人種目登録!BH202=\"\",\"\",個人種目登録!BH202)","v":""}]
[{"$f":"IF(個人種目登録!AP203=\"\",\"\",個人種目登録!AP203)","v":""},{"$f":"IF(個人種目登録!AR203=\"\",\"\",個人種目登録!AR203)","v":""},{"$f":"IF(個人種目登録!D203=\"\",\"\",個人種目登録!D203)","v":""},{"$f":"IF(個人種目登録!AO203=\"\",\"\",個人種目登録!AO203)","v":""},{"$f":"IF(個人種目登録!AS203=\"\",\"\",個人種目登録!AS203)","v":""},{"$f":"IF(個人種目登録!AT203=\"\",\"\",個人種目登録!AT203)","v":""},null,null,{"$f":"IF(個人種目登録!AN203=\"\",\"\",個人種目登録!AN203)","v":""},{"$f":"IF(個人種目登録!AV203=\"\",\"\",個人種目登録!AV203)","v":""},{"$f":"IF(個人種目登録!AX203=\"\",\"\",個人種目登録!AX203)","v":""},{"$f":"IF(個人種目登録!AZ203=\"\",\"\",個人種目登録!AZ203)","v":""},{"$f":"IF(個人種目登録!BH203=\"\",\"\",個人種目登録!BH203)","v":""}]
[{"$f":"IF(個人種目登録!AP204=\"\",\"\",個人種目登録!AP204)","v":""},{"$f":"IF(個人種目登録!AR204=\"\",\"\",個人種目登録!AR204)","v":""},{"$f":"IF(個人種目登録!D204=\"\",\"\",個人種目登録!D204)","v":""},{"$f":"IF(個人種目登録!AO204=\"\",\"\",個人種目登録!AO204)","v":""},{"$f":"IF(個人種目登録!AS204=\"\",\"\",個人種目登録!AS204)","v":""},{"$f":"IF(個人種目登録!AT204=\"\",\"\",個人種目登録!AT204)","v":""},null,null,{"$f":"IF(個人種目登録!AN204=\"\",\"\",個人種目登録!AN204)","v":""},{"$f":"IF(個人種目登録!AV204=\"\",\"\",個人種目登録!AV204)","v":""},{"$f":"IF(個人種目登録!AX204=\"\",\"\",個人種目登録!AX204)","v":""},{"$f":"IF(個人種目登録!AZ204=\"\",\"\",個人種目登録!AZ204)","v":""},{"$f":"IF(個人種目登録!BH204=\"\",\"\",個人種目登録!BH204)","v":""}]
[{"$f":"IF(個人種目登録!AP205=\"\",\"\",個人種目登録!AP205)","v":""},{"$f":"IF(個人種目登録!AR205=\"\",\"\",個人種目登録!AR205)","v":""},{"$f":"IF(個人種目登録!D205=\"\",\"\",個人種目登録!D205)","v":""},{"$f":"IF(個人種目登録!AO205=\"\",\"\",個人種目登録!AO205)","v":""},{"$f":"IF(個人種目登録!AS205=\"\",\"\",個人種目登録!AS205)","v":""},{"$f":"IF(個人種目登録!AT205=\"\",\"\",個人種目登録!AT205)","v":""},null,null,{"$f":"IF(個人種目登録!AN205=\"\",\"\",個人種目登録!AN205)","v":""},{"$f":"IF(個人種目登録!AV205=\"\",\"\",個人種目登録!AV205)","v":""},{"$f":"IF(個人種目登録!AX205=\"\",\"\",個人種目登録!AX205)","v":""},{"$f":"IF(個人種目登録!AZ205=\"\",\"\",個人種目登録!AZ205)","v":""},{"$f":"IF(個人種目登録!BH205=\"\",\"\",個人種目登録!BH205)","v":""}]
[{"$f":"IF(個人種目登録!AP206=\"\",\"\",個人種目登録!AP206)","v":""},{"$f":"IF(個人種目登録!AR206=\"\",\"\",個人種目登録!AR206)","v":""},{"$f":"IF(個人種目登録!D206=\"\",\"\",個人種目登録!D206)","v":""},{"$f":"IF(個人種目登録!AO206=\"\",\"\",個人種目登録!AO206)","v":""},{"$f":"IF(個人種目登録!AS206=\"\",\"\",個人種目登録!AS206)","v":""},{"$f":"IF(個人種目登録!AT206=\"\",\"\",個人種目登録!AT206)","v":""},null,null,{"$f":"IF(個人種目登録!AN206=\"\",\"\",個人種目登録!AN206)","v":""},{"$f":"IF(個人種目登録!AV206=\"\",\"\",個人種目登録!AV206)","v":""},{"$f":"IF(個人種目登録!AX206=\"\",\"\",個人種目登録!AX206)","v":""},{"$f":"IF(個人種目登録!AZ206=\"\",\"\",個人種目登録!AZ206)","v":""},{"$f":"IF(個人種目登録!BH206=\"\",\"\",個人種目登録!BH206)","v":""}]
[{"$f":"IF(個人種目登録!AP207=\"\",\"\",個人種目登録!AP207)","v":""},{"$f":"IF(個人種目登録!AR207=\"\",\"\",個人種目登録!AR207)","v":""},{"$f":"IF(個人種目登録!D207=\"\",\"\",個人種目登録!D207)","v":""},{"$f":"IF(個人種目登録!AO207=\"\",\"\",個人種目登録!AO207)","v":""},{"$f":"IF(個人種目登録!AS207=\"\",\"\",個人種目登録!AS207)","v":""},{"$f":"IF(個人種目登録!AT207=\"\",\"\",個人種目登録!AT207)","v":""},null,null,{"$f":"IF(個人種目登録!AN207=\"\",\"\",個人種目登録!AN207)","v":""},{"$f":"IF(個人種目登録!AV207=\"\",\"\",個人種目登録!AV207)","v":""},{"$f":"IF(個人種目登録!AX207=\"\",\"\",個人種目登録!AX207)","v":""},{"$f":"IF(個人種目登録!AZ207=\"\",\"\",個人種目登録!AZ207)","v":""},{"$f":"IF(個人種目登録!BH207=\"\",\"\",個人種目登録!BH207)","v":""}]
[{"$f":"IF(個人種目登録!AP208=\"\",\"\",個人種目登録!AP208)","v":""},{"$f":"IF(個人種目登録!AR208=\"\",\"\",個人種目登録!AR208)","v":""},{"$f":"IF(個人種目登録!D208=\"\",\"\",個人種目登録!D208)","v":""},{"$f":"IF(個人種目登録!AO208=\"\",\"\",個人種目登録!AO208)","v":""},{"$f":"IF(個人種目登録!AS208=\"\",\"\",個人種目登録!AS208)","v":""},{"$f":"IF(個人種目登録!AT208=\"\",\"\",個人種目登録!AT208)","v":""},null,null,{"$f":"IF(個人種目登録!AN208=\"\",\"\",個人種目登録!AN208)","v":""},{"$f":"IF(個人種目登録!AV208=\"\",\"\",個人種目登録!AV208)","v":""},{"$f":"IF(個人種目登録!AX208=\"\",\"\",個人種目登録!AX208)","v":""},{"$f":"IF(個人種目登録!AZ208=\"\",\"\",個人種目登録!AZ208)","v":""},{"$f":"IF(個人種目登録!BH208=\"\",\"\",個人種目登録!BH208)","v":""}]

{"sheet":"ﾘﾚｰﾃﾞｰﾀ取得","index":4,"n_rows":32,"n_cols":20,"rows_kept":32,"cut":false,"hidden":false,"merged":[[1,0,10,0],[15,0,24,0],[29,0,31,0]]}
[null,null,"DB","ZK","KC","N1","N2","TM","KM","LN","S1","S2","S3","S4","S5","S6","S7","S8"]
["男子",1,{"$f":"IF(リレー登録!Y4=\"\",\"\",リレー登録!Y4)","v":""},{"$f":"IF(リレー登録!Z4=\"\",\"\",リレー登録!Z4)","v":""},{"$f":"IF(リレー登録!AA4=\"\",\"\",リレー登録!AA4)","v":""},{"$f":"IF(リレー登録!AB4=\"\",\"\",リレー登録!AB4)","v":""},{"$f":"IF(リレー登録!AC4=\"\",\"\",リレー登録!AC4)","v":""},{"$f":"IF(リレー登録!AD4=\"\",\"\",リレー登録!AD4)","v":""},{"$f":"IF(リレー登録!AE4=\"\",\"\",リレー登録!AE4)","v":""},{"$f":"IF(リレー登録!AF4=\"\",\"\",リレー登録!AF4)","v":""},{"$f":"IF(リレー登録!AG4=\"\",\"\",リレー登録!AG4)","v":""},{"$f":"IF(リレー登録!AH4=\"\",\"\",リレー登録!AH4)","v":""},{"$f":"IF(リレー登録!AI4=\"\",\"\",リレー登録!AI4)","v":""},{"$f":"IF(リレー登録!AJ4=\"\",\"\",リレー登録!AJ4)","v":""},{"$f":"IF(リレー登録!AK4=\"\",\"\",リレー登録!AK4)","v":""},{"$f":"IF(リレー登録!AL4=\"\",\"\",リレー登録!AL4)","v":""},{"$f":"IF(リレー登録!AM4=\"\",\"\",リレー登録!AM4)","v":""},{"$f":"IF(リレー登録!AN4=\"\",\"\",リレー登録!AN4)","v":""},null,{"$f":"1-COUNTIF(C2,\"\")","v":0}]
[null,2,{"$f":"IF(リレー登録!Y6=\"\",\"\",リレー登録!Y6)","v":""},{"$f":"IF(リレー登録!Z6=\"\",\"\",リレー登録!Z6)","v":""},{"$f":"IF(リレー登録!AA6=\"\",\"\",リレー登録!AA6)","v":""},{"$f":"IF(リレー登録!AB6=\"\",\"\",リレー登録!AB6)","v":""},{"$f":"IF(リレー登録!AC6=\"\",\"\",リレー登録!AC6)","v":""},{"$f":"IF(リレー登録!AD6=\"\",\"\",リレー登録!AD6)","v":""},{"$f":"IF(リレー登録!AE6=\"\",\"\",リレー登録!AE6)","v":""},{"$f":"IF(リレー登録!AF6=\"\",\"\",リレー登録!AF6)","v":""},{"$f":"IF(リレー登録!AG6=\"\",\"\",リレー登録!AG6)","v":""},{"$f":"IF(リレー登録!AH6=\"\",\"\",リレー登録!AH6)","v":""},{"$f":"IF(リレー登録!AI6=\"\",\"\",リレー登録!AI6)","v":""},{"$f":"IF(リレー登録!AJ6=\"\",\"\",リレー登録!AJ6)","v":""},{"$f":"IF(リレー登録!AK6=\"\",\"\",リレー登録!AK6)","v":""},{"$f":"IF(リレー登録!AL6=\"\",\"\",リレー登録!AL6)","v":""},{"$f":"IF(リレー登録!AM6=\"\",\"\",リレー登録!AM6)","v":""},{"$f":"IF(リレー登録!AN6=\"\",\"\",リレー登録!AN6)","v":""},null,{"$f":"9-COUNTIF(C3:C11,\"\")","v":0}]
[null,3,{"$f":"IF(リレー登録!Y8=\"\",\"\",リレー登録!Y8)","v":""},{"$f":"IF(リレー登録!Z8=\"\",\"\",リレー登録!Z8)","v":""},{"$f":"IF(リレー登録!AA8=\"\",\"\",リレー登録!AA8)","v":""},{"$f":"IF(リレー登録!AB8=\"\",\"\",リレー登録!AB8)","v":""},{"$f":"IF(リレー登録!AC8=\"\",\"\",リレー登録!AC8)","v":""},{"$f":"IF(リレー登録!AD8=\"\",\"\",リレー登録!AD8)","v":""},{"$f":"IF(リレー登録!AE8=\"\",\"\",リレー登録!AE8)","v":""},{"$f":"IF(リレー登録!AF8=\"\",\"\",リレー登録!AF8)","v":""},{"$f":"IF(リレー登録!AG8=\"\",\"\",リレー登録!AG8)","v":""},{"$f":"IF(リレー登録!AH8=\"\",\"\",リレー登録!AH8)","v":""},{"$f":"IF(リレー登録!AI8=\"\",\"\",リレー登録!AI8)","v":""},{"$f":"IF(リレー登録!AJ8=\"\",\"\",リレー登録!AJ8)","v":""},{"$f":"IF(リレー登録!AK8=\"\",\"\",リレー登録!AK8)","v":""},{"$f":"IF(リレー登録!AL8=\"\",\"\",リレー登録!AL8)","v":""},{"$f":"IF(リレー登録!AM8=\"\",\"\",リレー登録!AM8)","v":""},{"$f":"IF(リレー登録!AN8=\"\",\"\",リレー登録!AN8)","v":""}]
[null,4,{"$f":"IF(リレー登録!Y10=\"\",\"\",リレー登録!Y10)","v":""},{"$f":"IF(リレー登録!Z10=\"\",\"\",リレー登録!Z10)","v":""},{"$f":"IF(リレー登録!AA10=\"\",\"\",リレー登録!AA10)","v":""},{"$f":"IF(リレー登録!AB10=\"\",\"\",リレー登録!AB10)","v":""},{"$f":"IF(リレー登録!AC10=\"\",\"\",リレー登録!AC10)","v":""},{"$f":"IF(リレー登録!AD10=\"\",\"\",リレー登録!AD10)","v":""},{"$f":"IF(リレー登録!AE10=\"\",\"\",リレー登録!AE10)","v":""},{"$f":"IF(リレー登録!AF10=\"\",\"\",リレー登録!AF10)","v":""},{"$f":"IF(リレー登録!AG10=\"\",\"\",リレー登録!AG10)","v":""},{"$f":"IF(リレー登録!AH10=\"\",\"\",リレー登録!AH10)","v":""},{"$f":"IF(リレー登録!AI10=\"\",\"\",リレー登録!AI10)","v":""},{"$f":"IF(リレー登録!AJ10=\"\",\"\",リレー登録!AJ10)","v":""},{"$f":"IF(リレー登録!AK10=\"\",\"\",リレー登録!AK10)","v":""},{"$f":"IF(リレー登録!AL10=\"\",\"\",リレー登録!AL10)","v":""},{"$f":"IF(リレー登録!AM10=\"\",\"\",リレー登録!AM10)","v":""},{"$f":"IF(リレー登録!AN10=\"\",\"\",リレー登録!AN10)","v":""}]
[null,5,{"$f":"IF(リレー登録!Y12=\"\",\"\",リレー登録!Y12)","v":""},{"$f":"IF(リレー登録!Z12=\"\",\"\",リレー登録!Z12)","v":""},{"$f":"IF(リレー登録!AA12=\"\",\"\",リレー登録!AA12)","v":""},{"$f":"IF(リレー登録!AB12=\"\",\"\",リレー登録!AB12)","v":""},{"$f":"IF(リレー登録!AC12=\"\",\"\",リレー登録!AC12)","v":""},{"$f":"IF(リレー登録!AD12=\"\",\"\",リレー登録!AD12)","v":""},{"$f":"IF(リレー登録!AE12=\"\",\"\",リレー登録!AE12)","v":""},{"$f":"IF(リレー登録!AF12=\"\",\"\",リレー登録!AF12)","v":""},{"$f":"IF(リレー登録!AG12=\"\",\"\",リレー登録!AG12)","v":""},{"$f":"IF(リレー登録!AH12=\"\",\"\",リレー登録!AH12)","v":""},{"$f":"IF(リレー登録!AI12=\"\",\"\",リレー登録!AI12)","v":""},{"$f":"IF(リレー登録!AJ12=\"\",\"\",リレー登録!AJ12)","v":""},{"$f":"IF(リレー登録!AK12=\"\",\"\",リレー登録!AK12)","v":""},{"$f":"IF(リレー登録!AL12=\"\",\"\",リレー登録!AL12)","v":""},{"$f":"IF(リレー登録!AM12=\"\",\"\",リレー登録!AM12)","v":""},{"$f":"IF(リレー登録!AN12=\"\",\"\",リレー登録!AN12)","v":""}]
[null,6,{"$f":"IF(リレー登録!Y14=\"\",\"\",リレー登録!Y14)","v":""},{"$f":"IF(リレー登録!Z14=\"\",\"\",リレー登録!Z14)","v":""},{"$f":"IF(リレー登録!AA14=\"\",\"\",リレー登録!AA14)","v":""},{"$f":"IF(リレー登録!AB14=\"\",\"\",リレー登録!AB14)","v":""},{"$f":"IF(リレー登録!AC14=\"\",\"\",リレー登録!AC14)","v":""},{"$f":"IF(リレー登録!AD14=\"\",\"\",リレー登録!AD14)","v":""},{"$f":"IF(リレー登録!AE14=\"\",\"\",リレー登録!AE14)","v":""},{"$f":"IF(リレー登録!AF14=\"\",\"\",リレー登録!AF14)","v":""},{"$f":"IF(リレー登録!AG14=\"\",\"\",リレー登録!AG14)","v":""},{"$f":"IF(リレー登録!AH14=\"\",\"\",リレー登録!AH14)","v":""},{"$f":"IF(リレー登録!AI14=\"\",\"\",リレー登録!AI14)","v":""},{"$f":"IF(リレー登録!AJ14=\"\",\"\",リレー登録!AJ14)","v":""},{"$f":"IF(リレー登録!AK14=\"\",\"\",リレー登録!AK14)","v":""},{"$f":"IF(リレー登録!AL14=\"\",\"\",リレー登録!AL14)","v":""},{"$f":"IF(リレー登録!AM14=\"\",\"\",リレー登録!AM14)","v":""},{"$f":"IF(リレー登録!AN14=\"\",\"\",リレー登録!AN14)","v":""}]
[null,7,{"$f":"IF(リレー登録!Y16=\"\",\"\",リレー登録!Y16)","v":""},{"$f":"IF(リレー登録!Z16=\"\",\"\",リレー登録!Z16)","v":""},{"$f":"IF(リレー登録!AA16=\"\",\"\",リレー登録!AA16)","v":""},{"$f":"IF(リレー登録!AB16=\"\",\"\",リレー登録!AB16)","v":""},{"$f":"IF(リレー登録!AC16=\"\",\"\",リレー登録!AC16)","v":""},{"$f":"IF(リレー登録!AD16=\"\",\"\",リレー登録!AD16)","v":""},{"$f":"IF(リレー登録!AE16=\"\",\"\",リレー登録!AE16)","v":""},{"$f":"IF(リレー登録!AF16=\"\",\"\",リレー登録!AF16)","v":""},{"$f":"IF(リレー登録!AG16=\"\",\"\",リレー登録!AG16)","v":""},{"$f":"IF(リレー登録!AH16=\"\",\"\",リレー登録!AH16)","v":""},{"$f":"IF(リレー登録!AI16=\"\",\"\",リレー登録!AI16)","v":""},{"$f":"IF(リレー登録!AJ16=\"\",\"\",リレー登録!AJ16)","v":""},{"$f":"IF(リレー登録!AK16=\"\",\"\",リレー登録!AK16)","v":""},{"$f":"IF(リレー登録!AL16=\"\",\"\",リレー登録!AL16)","v":""},{"$f":"IF(リレー登録!AM16=\"\",\"\",リレー登録!AM16)","v":""},{"$f":"IF(リレー登録!AN16=\"\",\"\",リレー登録!AN16)","v":""}]
[null,8,{"$f":"IF(リレー登録!Y18=\"\",\"\",リレー登録!Y18)","v":""},{"$f":"IF(リレー登録!Z18=\"\",\"\",リレー登録!Z18)","v":""},{"$f":"IF(リレー登録!AA18=\"\",\"\",リレー登録!AA18)","v":""},{"$f":"IF(リレー登録!AB18=\"\",\"\",リレー登録!AB18)","v":""},{"$f":"IF(リレー登録!AC18=\"\",\"\",リレー登録!AC18)","v":""},{"$f":"IF(リレー登録!AD18=\"\",\"\",リレー登録!AD18)","v":""},{"$f":"IF(リレー登録!AE18=\"\",\"\",リレー登録!AE18)","v":""},{"$f":"IF(リレー登録!AF18=\"\",\"\",リレー登録!AF18)","v":""},{"$f":"IF(リレー登録!AG18=\"\",\"\",リレー登録!AG18)","v":""},{"$f":"IF(リレー登録!AH18=\"\",\"\",リレー登録!AH18)","v":""},{"$f":"IF(リレー登録!AI18=\"\",\"\",リレー登録!AI18)","v":""},{"$f":"IF(リレー登録!AJ18=\"\",\"\",リレー登録!AJ18)","v":""},{"$f":"IF(リレー登録!AK18=\"\",\"\",リレー登録!AK18)","v":""},{"$f":"IF(リレー登録!AL18=\"\",\"\",リレー登録!AL18)","v":""},{"$f":"IF(リレー登録!AM18=\"\",\"\",リレー登録!AM18)","v":""},{"$f":"IF(リレー登録!AN18=\"\",\"\",リレー登録!AN18)","v":""}]
[null,9,{"$f":"IF(リレー登録!Y20=\"\",\"\",リレー登録!Y20)","v":""},{"$f":"IF(リレー登録!Z20=\"\",\"\",リレー登録!Z20)","v":""},{"$f":"IF(リレー登録!AA20=\"\",\"\",リレー登録!AA20)","v":""},{"$f":"IF(リレー登録!AB20=\"\",\"\",リレー登録!AB20)","v":""},{"$f":"IF(リレー登録!AC20=\"\",\"\",リレー登録!AC20)","v":""},{"$f":"IF(リレー登録!AD20=\"\",\"\",リレー登録!AD20)","v":""},{"$f":"IF(リレー登録!AE20=\"\",\"\",リレー登録!AE20)","v":""},{"$f":"IF(リレー登録!AF20=\"\",\"\",リレー登録!AF20)","v":""},{"$f":"IF(リレー登録!AG20=\"\",\"\",リレー登録!AG20)","v":""},{"$f":"IF(リレー登録!AH20=\"\",\"\",リレー登録!AH20)","v":""},{"$f":"IF(リレー登録!AI20=\"\",\"\",リレー登録!AI20)","v":""},{"$f":"IF(リレー登録!AJ20=\"\",\"\",リレー登録!AJ20)","v":""},{"$f":"IF(リレー登録!AK20=\"\",\"\",リレー登録!AK20)","v":""},{"$f":"IF(リレー登録!AL20=\"\",\"\",リレー登録!AL20)","v":""},{"$f":"IF(リレー登録!AM20=\"\",\"\",リレー登録!AM20)","v":""},{"$f":"IF(リレー登録!AN20=\"\",\"\",リレー登録!AN20)","v":""}]
[null,10,{"$f":"IF(リレー登録!Y22=\"\",\"\",リレー登録!Y22)","v":""},{"$f":"IF(リレー登録!Z22=\"\",\"\",リレー登録!Z22)","v":""},{"$f":"IF(リレー登録!AA22=\"\",\"\",リレー登録!AA22)","v":""},{"$f":"IF(リレー登録!AB22=\"\",\"\",リレー登録!AB22)","v":""},{"$f":"IF(リレー登録!AC22=\"\",\"\",リレー登録!AC22)","v":""},{"$f":"IF(リレー登録!AD22=\"\",\"\",リレー登録!AD22)","v":""},{"$f":"IF(リレー登録!AE22=\"\",\"\",リレー登録!AE22)","v":""},{"$f":"IF(リレー登録!AF22=\"\",\"\",リレー登録!AF22)","v":""},{"$f":"IF(リレー登録!AG22=\"\",\"\",リレー登録!AG22)","v":""},{"$f":"IF(リレー登録!AH22=\"\",\"\",リレー登録!AH22)","v":""},{"$f":"IF(リレー登録!AI22=\"\",\"\",リレー登録!AI22)","v":""},{"$f":"IF(リレー登録!AJ22=\"\",\"\",リレー登録!AJ22)","v":""},{"$f":"IF(リレー登録!AK22=\"\",\"\",リレー登録!AK22)","v":""},{"$f":"IF(リレー登録!AL22=\"\",\"\",リレー登録!AL22)","v":""},{"$f":"IF(リレー登録!AM22=\"\",\"\",リレー登録!AM22)","v":""},{"$f":"IF(リレー登録!AN22=\"\",\"\",リレー登録!AN22)","v":""}]
[]
[]
[]
[null,null,"DB","ZK","KC","N1","N2","TM","KM","LN","S1","S2","S3","S4","S5","S6","S7","S8"]
["女子",1,{"$f":"IF(リレー登録!Y27=\"\",\"\",リレー登録!Y27)","v":""},{"$f":"IF(リレー登録!Z27=\"\",\"\",リレー登録!Z27)","v":""},{"$f":"IF(リレー登録!AA27=\"\",\"\",リレー登録!AA27)","v":""},{"$f":"IF(リレー登録!AB27=\"\",\"\",リレー登録!AB27)","v":""},{"$f":"IF(リレー登録!AC27=\"\",\"\",リレー登録!AC27)","v":""},{"$f":"IF(リレー登録!AD27=\"\",\"\",リレー登録!AD27)","v":""},{"$f":"IF(リレー登録!AE27=\"\",\"\",リレー登録!AE27)","v":""},{"$f":"IF(リレー登録!AF27=\"\",\"\",リレー登録!AF27)","v":""},{"$f":"IF(リレー登録!AG27=\"\",\"\",リレー登録!AG27)","v":""},{"$f":"IF(リレー登録!AH27=\"\",\"\",リレー登録!AH27)","v":""},{"$f":"IF(リレー登録!AI27=\"\",\"\",リレー登録!AI27)","v":""},{"$f":"IF(リレー登録!AJ27=\"\",\"\",リレー登録!AJ27)","v":""},{"$f":"IF(リレー登録!AK27=\"\",\"\",リレー登録!AK27)","v":""},{"$f":"IF(リレー登録!AL27=\"\",\"\",リレー登録!AL27)","v":""},{"$f":"IF(リレー登録!AM27=\"\",\"\",リレー登録!AM27)","v":""},{"$f":"IF(リレー登録!AN27=\"\",\"\",リレー登録!AN27)","v":""},null,{"$f":"10-COUNTIF(C16:C25,\"\")","v":0}]
[null,2,{"$f":"IF(リレー登録!Y29=\"\",\"\",リレー登録!Y29)","v":""},{"$f":"IF(リレー登録!Z29=\"\",\"\",リレー登録!Z29)","v":""},{"$f":"IF(リレー登録!AA29=\"\",\"\",リレー登録!AA29)","v":""},{"$f":"IF(リレー登録!AB29=\"\",\"\",リレー登録!AB29)","v":""},{"$f":"IF(リレー登録!AC29=\"\",\"\",リレー登録!AC29)","v":""},{"$f":"IF(リレー登録!AD29=\"\",\"\",リレー登録!AD29)","v":""},{"$f":"IF(リレー登録!AE29=\"\",\"\",リレー登録!AE29)","v":""},{"$f":"IF(リレー登録!AF29=\"\",\"\",リレー登録!AF29)","v":""},{"$f":"IF(リレー登録!AG29=\"\",\"\",リレー登録!AG29)","v":""},{"$f":"IF(リレー登録!AH29=\"\",\"\",リレー登録!AH29)","v":""},{"$f":"IF(リレー登録!AI29=\"\",\"\",リレー登録!AI29)","v":""},{"$f":"IF(リレー登録!AJ29=\"\",\"\",リレー登録!AJ29)","v":""},{"$f":"IF(リレー登録!AK29=\"\",\"\",リレー登録!AK29)","v":""},{"$f":"IF(リレー登録!AL29=\"\",\"\",リレー登録!AL29)","v":""},{"$f":"IF(リレー登録!AM29=\"\",\"\",リレー登録!AM29)","v":""},{"$f":"IF(リレー登録!AN29=\"\",\"\",リレー登録!AN29)","v":""}]
[null,3,{"$f":"IF(リレー登録!Y31=\"\",\"\",リレー登録!Y31)","v":""},{"$f":"IF(リレー登録!Z31=\"\",\"\",リレー登録!Z31)","v":""},{"$f":"IF(リレー登録!AA31=\"\",\"\",リレー登録!AA31)","v":""},{"$f":"IF(リレー登録!AB31=\"\",\"\",リレー登録!AB31)","v":""},{"$f":"IF(リレー登録!AC31=\"\",\"\",リレー登録!AC31)","v":""},{"$f":"IF(リレー登録!AD31=\"\",\"\",リレー登録!AD31)","v":""},{"$f":"IF(リレー登録!AE31=\"\",\"\",リレー登録!AE31)","v":""},{"$f":"IF(リレー登録!AF31=\"\",\"\",リレー登録!AF31)","v":""},{"$f":"IF(リレー登録!AG31=\"\",\"\",リレー登録!AG31)","v":""},{"$f":"IF(リレー登録!AH31=\"\",\"\",リレー登録!AH31)","v":""},{"$f":"IF(リレー登録!AI31=\"\",\"\",リレー登録!AI31)","v":""},{"$f":"IF(リレー登録!AJ31=\"\",\"\",リレー登録!AJ31)","v":""},{"$f":"IF(リレー登録!AK31=\"\",\"\",リレー登録!AK31)","v":""},{"$f":"IF(リレー登録!AL31=\"\",\"\",リレー登録!AL31)","v":""},{"$f":"IF(リレー登録!AM31=\"\",\"\",リレー登録!AM31)","v":""},{"$f":"IF(リレー登録!AN31=\"\",\"\",リレー登録!AN31)","v":""}]
[null,4,{"$f":"IF(リレー登録!Y33=\"\",\"\",リレー登録!Y33)","v":""},{"$f":"IF(リレー登録!Z33=\"\",\"\",リレー登録!Z33)","v":""},{"$f":"IF(リレー登録!AA33=\"\",\"\",リレー登録!AA33)","v":""},{"$f":"IF(リレー登録!AB33=\"\",\"\",リレー登録!AB33)","v":""},{"$f":"IF(リレー登録!AC33=\"\",\"\",リレー登録!AC33)","v":""},{"$f":"IF(リレー登録!AD33=\"\",\"\",リレー登録!AD33)","v":""},{"$f":"IF(リレー登録!AE33=\"\",\"\",リレー登録!AE33)","v":""},{"$f":"IF(リレー登録!AF33=\"\",\"\",リレー登録!AF33)","v":""},{"$f":"IF(リレー登録!AG33=\"\",\"\",リレー登録!AG33)","v":""},{"$f":"IF(リレー登録!AH33=\"\",\"\",リレー登録!AH33)","v":""},{"$f":"IF(リレー登録!AI33=\"\",\"\",リレー登録!AI33)","v":""},{"$f":"IF(リレー登録!AJ33=\"\",\"\",リレー登録!AJ33)","v":""},{"$f":"IF(リレー登録!AK33=\"\",\"\",リレー登録!AK33)","v":""},{"$f":"IF(リレー登録!AL33=\"\",\"\",リレー登録!AL33)","v":""},{"$f":"IF(リレー登録!AM33=\"\",\"\",リレー登録!AM33)","v":""},{"$f":"IF(リレー登録!AN33=\"\",\"\",リレー登録!AN33)","v":""}]
[null,5,{"$f":"IF(リレー登録!Y35=\"\",\"\",リレー登録!Y35)","v":""},{"$f":"IF(リレー登録!Z35=\"\",\"\",リレー登録!Z35)","v":""},{"$f":"IF(リレー登録!AA35=\"\",\"\",リレー登録!AA35)","v":""},{"$f":"IF(リレー登録!AB35=\"\",\"\",リレー登録!AB35)","v":""},{"$f":"IF(リレー登録!AC35=\"\",\"\",リレー登録!AC35)","v":""},{"$f":"IF(リレー登録!AD35=\"\",\"\",リレー登録!AD35)","v":""},{"$f":"IF(リレー登録!AE35=\"\",\"\",リレー登録!AE35)","v":""},{"$f":"IF(リレー登録!AF35=\"\",\"\",リレー登録!AF35)","v":""},{"$f":"IF(リレー登録!AG35=\"\",\"\",リレー登録!AG35)","v":""},{"$f":"IF(リレー登録!AH35=\"\",\"\",リレー登録!AH35)","v":""},{"$f":"IF(リレー登録!AI35=\"\",\"\",リレー登録!AI35)","v":""},{"$f":"IF(リレー登録!AJ35=\"\",\"\",リレー登録!AJ35)","v":""},{"$f":"IF(リレー登録!AK35=\"\",\"\",リレー登録!AK35)","v":""},{"$f":"IF(リレー登録!AL35=\"\",\"\",リレー登録!AL35)","v":""},{"$f":"IF(リレー登録!AM35=\"\",\"\",リレー登録!AM35)","v":""},{"$f":"IF(リレー登録!AN35=\"\",\"\",リレー登録!AN35)","v":""}]
[null,6,{"$f":"IF(リレー登録!Y37=\"\",\"\",リレー登録!Y37)","v":""},{"$f":"IF(リレー登録!Z37=\"\",\"\",リレー登録!Z37)","v":""},{"$f":"IF(リレー登録!AA37=\"\",\"\",リレー登録!AA37)","v":""},{"$f":"IF(リレー登録!AB37=\"\",\"\",リレー登録!AB37)","v":""},{"$f":"IF(リレー登録!AC37=\"\",\"\",リレー登録!AC37)","v":""},{"$f":"IF(リレー登録!AD37=\"\",\"\",リレー登録!AD37)","v":""},{"$f":"IF(リレー登録!AE37=\"\",\"\",リレー登録!AE37)","v":""},{"$f":"IF(リレー登録!AF37=\"\",\"\",リレー登録!AF37)","v":""},{"$f":"IF(リレー登録!AG37=\"\",\"\",リレー登録!AG37)","v":""},{"$f":"IF(リレー登録!AH37=\"\",\"\",リレー登録!AH37)","v":""},{"$f":"IF(リレー登録!AI37=\"\",\"\",リレー登録!AI37)","v":""},{"$f":"IF(リレー登録!AJ37=\"\",\"\",リレー登録!AJ37)","v":""},{"$f":"IF(リレー登録!AK37=\"\",\"\",リレー登録!AK37)","v":""},{"$f":"IF(リレー登録!AL37=\"\",\"\",リレー登録!AL37)","v":""},{"$f":"IF(リレー登録!AM37=\"\",\"\",リレー登録!AM37)","v":""},{"$f":"IF(リレー登録!AN37=\"\",\"\",リレー登録!AN37)","v":""}]
[null,7,{"$f":"IF(リレー登録!Y39=\"\",\"\",リレー登録!Y39)","v":""},{"$f":"IF(リレー登録!Z39=\"\",\"\",リレー登録!Z39)","v":""},{"$f":"IF(リレー登録!AA39=\"\",\"\",リレー登録!AA39)","v":""},{"$f":"IF(リレー登録!AB39=\"\",\"\",リレー登録!AB39)","v":""},{"$f":"IF(リレー登録!AC39=\"\",\"\",リレー登録!AC39)","v":""},{"$f":"IF(リレー登録!AD39=\"\",\"\",リレー登録!AD39)","v":""},{"$f":"IF(リレー登録!AE39=\"\",\"\",リレー登録!AE39)","v":""},{"$f":"IF(リレー登録!AF39=\"\",\"\",リレー登録!AF39)","v":""},{"$f":"IF(リレー登録!AG39=\"\",\"\",リレー登録!AG39)","v":""},{"$f":"IF(リレー登録!AH39=\"\",\"\",リレー登録!AH39)","v":""},{"$f":"IF(リレー登録!AI39=\"\",\"\",リレー登録!AI39)","v":""},{"$f":"IF(リレー登録!AJ39=\"\",\"\",リレー登録!AJ39)","v":""},{"$f":"IF(リレー登録!AK39=\"\",\"\",リレー登録!AK39)","v":""},{"$f":"IF(リレー登録!AL39=\"\",\"\",リレー登録!AL39)","v":""},{"$f":"IF(リレー登録!AM39=\"\",\"\",リレー登録!AM39)","v":""},{"$f":"IF(リレー登録!AN39=\"\",\"\",リレー登録!AN39)","v":""}]
[null,8,{"$f":"IF(リレー登録!Y41=\"\",\"\",リレー登録!Y41)","v":""},{"$f":"IF(リレー登録!Z41=\"\",\"\",リレー登録!Z41)","v":""},{"$f":"IF(リレー登録!AA41=\"\",\"\",リレー登録!AA41)","v":""},{"$f":"IF(リレー登録!AB41=\"\",\"\",リレー登録!AB41)","v":""},{"$f":"IF(リレー登録!AC41=\"\",\"\",リレー登録!AC41)","v":""},{"$f":"IF(リレー登録!AD41=\"\",\"\",リレー登録!AD41)","v":""},{"$f":"IF(リレー登録!AE41=\"\",\"\",リレー登録!AE41)","v":""},{"$f":"IF(リレー登録!AF41=\"\",\"\",リレー登録!AF41)","v":""},{"$f":"IF(リレー登録!AG41=\"\",\"\",リレー登録!AG41)","v":""},{"$f":"IF(リレー登録!AH41=\"\",\"\",リレー登録!AH41)","v":""},{"$f":"IF(リレー登録!AI41=\"\",\"\",リレー登録!AI41)","v":""},{"$f":"IF(リレー登録!AJ41=\"\",\"\",リレー登録!AJ41)","v":""},{"$f":"IF(リレー登録!AK41=\"\",\"\",リレー登録!AK41)","v":""},{"$f":"IF(リレー登録!AL41=\"\",\"\",リレー登録!AL41)","v":""},{"$f":"IF(リレー登録!AM41=\"\",\"\",リレー登録!AM41)","v":""},{"$f":"IF(リレー登録!AN41=\"\",\"\",リレー登録!AN41)","v":""}]
[null,9,{"$f":"IF(リレー登録!Y43=\"\",\"\",リレー登録!Y43)","v":""},{"$f":"IF(リレー登録!Z43=\"\",\"\",リレー登録!Z43)","v":""},{"$f":"IF(リレー登録!AA43=\"\",\"\",リレー登録!AA43)","v":""},{"$f":"IF(リレー登録!AB43=\"\",\"\",リレー登録!AB43)","v":""},{"$f":"IF(リレー登録!AC43=\"\",\"\",リレー登録!AC43)","v":""},{"$f":"IF(リレー登録!AD43=\"\",\"\",リレー登録!AD43)","v":""},{"$f":"IF(リレー登録!AE43=\"\",\"\",リレー登録!AE43)","v":""},{"$f":"IF(リレー登録!AF43=\"\",\"\",リレー登録!AF43)","v":""},{"$f":"IF(リレー登録!AG43=\"\",\"\",リレー登録!AG43)","v":""},{"$f":"IF(リレー登録!AH43=\"\",\"\",リレー登録!AH43)","v":""},{"$f":"IF(リレー登録!AI43=\"\",\"\",リレー登録!AI43)","v":""},{"$f":"IF(リレー登録!AJ43=\"\",\"\",リレー登録!AJ43)","v":""},{"$f":"IF(リレー登録!AK43=\"\",\"\",リレー登録!AK43)","v":""},{"$f":"IF(リレー登録!AL43=\"\",\"\",リレー登録!AL43)","v":""},{"$f":"IF(リレー登録!AM43=\"\",\"\",リレー登録!AM43)","v":""},{"$f":"IF(リレー登録!AN43=\"\",\"\",リレー登録!AN43)","v":""}]
[null,10,{"$f":"IF(リレー登録!Y45=\"\",\"\",リレー登録!Y45)","v":""},{"$f":"IF(リレー登録!Z45=\"\",\"\",リレー登録!Z45)","v":""},{"$f":"IF(リレー登録!AA45=\"\",\"\",リレー登録!AA45)","v":""},{"$f":"IF(リレー登録!AB45=\"\",\"\",リレー登録!AB45)","v":""},{"$f":"IF(リレー登録!AC45=\"\",\"\",リレー登録!AC45)","v":""},{"$f":"IF(リレー登録!AD45=\"\",\"\",リレー登録!AD45)","v":""},{"$f":"IF(リレー登録!AE45=\"\",\"\",リレー登録!AE45)","v":""},{"$f":"IF(リレー登録!AF45=\"\",\"\",リレー登録!AF45)","v":""},{"$f":"IF(リレー登録!AG45=\"\",\"\",リレー登録!AG45)","v":""},{"$f":"IF(リレー登録!AH45=\"\",\"\",リレー登録!AH45)","v":""},{"$f":"IF(リレー登録!AI45=\"\",\"\",リレー登録!AI45)","v":""},{"$f":"IF(リレー登録!AJ45=\"\",\"\",リレー登録!AJ45)","v":""},{"$f":"IF(リレー登録!AK45=\"\",\"\",リレー登録!AK45)","v":""},{"$f":"IF(リレー登録!AL45=\"\",\"\",リレー登録!AL45)","v":""},{"$f":"IF(リレー登録!AM45=\"\",\"\",リレー登録!AM45)","v":""},{"$f":"IF(リレー登録!AN45=\"\",\"\",リレー登録!AN45)","v":""}]
[]
[]
[]
[null,null,"DB","ZK","KC","N1","N2","TM","KM","LN","S1","S2","S3","S4","S5","S6","S7","S8"]
["混合",1,{"$f":"IF(リレー登録!Y50=\"\",\"\",リレー登録!Y50)","v":""},{"$f":"IF(リレー登録!Z50=\"\",\"\",リレー登録!Z50)","v":""},{"$f":"IF(リレー登録!AA50=\"\",\"\",リレー登録!AA50)","v":""},{"$f":"IF(リレー登録!AB50=\"\",\"\",リレー登録!AB50)","v":""},{"$f":"IF(リレー登録!AC50=\"\",\"\",リレー登録!AC50)","v":""},{"$f":"IF(リレー登録!AD50=\"\",\"\",リレー登録!AD50)","v":""},{"$f":"IF(リレー登録!AE50=\"\",\"\",リレー登録!AE50)","v":""},{"$f":"IF(リレー登録!AF50=\"\",\"\",リレー登録!AF50)","v":""},{"$f":"IF(リレー登録!AG50=\"\",\"\",リレー登録!AG50)","v":""},{"$f":"IF(リレー登録!AH50=\"\",\"\",リレー登録!AH50)","v":""},{"$f":"IF(リレー登録!AI50=\"\",\"\",リレー登録!AI50)","v":""},{"$f":"IF(リレー登録!AJ50=\"\",\"\",リレー登録!AJ50)","v":""},{"$f":"IF(リレー登録!AK50=\"\",\"\",リレー登録!AK50)","v":""},{"$f":"IF(リレー登録!AL50=\"\",\"\",リレー登録!AL50)","v":""},{"$f":"IF(リレー登録!AM50=\"\",\"\",リレー登録!AM50)","v":""},{"$f":"IF(リレー登録!AN50=\"\",\"\",リレー登録!AN50)","v":""},null,3]
[null,2,{"$f":"IF(リレー登録!Y52=\"\",\"\",リレー登録!Y52)","v":""},{"$f":"IF(リレー登録!Z52=\"\",\"\",リレー登録!Z52)","v":""},{"$f":"IF(リレー登録!AA52=\"\",\"\",リレー登録!AA52)","v":""},{"$f":"IF(リレー登録!AB52=\"\",\"\",リレー登録!AB52)","v":""},{"$f":"IF(リレー登録!AC52=\"\",\"\",リレー登録!AC52)","v":""},{"$f":"IF(リレー登録!AD52=\"\",\"\",リレー登録!AD52)","v":""},{"$f":"IF(リレー登録!AE52=\"\",\"\",リレー登録!AE52)","v":""},{"$f":"IF(リレー登録!AF52=\"\",\"\",リレー登録!AF52)","v":""},{"$f":"IF(リレー登録!AG52=\"\",\"\",リレー登録!AG52)","v":""},{"$f":"IF(リレー登録!AH52=\"\",\"\",リレー登録!AH52)","v":""},{"$f":"IF(リレー登録!AI52=\"\",\"\",リレー登録!AI52)","v":""},{"$f":"IF(リレー登録!AJ52=\"\",\"\",リレー登録!AJ52)","v":""},{"$f":"IF(リレー登録!AK52=\"\",\"\",リレー登録!AK52)","v":""},{"$f":"IF(リレー登録!AL52=\"\",\"\",リレー登録!AL52)","v":""},{"$f":"IF(リレー登録!AM52=\"\",\"\",リレー登録!AM52)","v":""},{"$f":"IF(リレー登録!AN52=\"\",\"\",リレー登録!AN52)","v":""}]
[null,3,{"$f":"IF(リレー登録!Y54=\"\",\"\",リレー登録!Y54)","v":""},{"$f":"IF(リレー登録!Z54=\"\",\"\",リレー登録!Z54)","v":""},{"$f":"IF(リレー登録!AA54=\"\",\"\",リレー登録!AA54)","v":""},{"$f":"IF(リレー登録!AB54=\"\",\"\",リレー登録!AB54)","v":""},{"$f":"IF(リレー登録!AC54=\"\",\"\",リレー登録!AC54)","v":""},{"$f":"IF(リレー登録!AD54=\"\",\"\",リレー登録!AD54)","v":""},{"$f":"IF(リレー登録!AE54=\"\",\"\",リレー登録!AE54)","v":""},{"$f":"IF(リレー登録!AF54=\"\",\"\",リレー登録!AF54)","v":""},{"$f":"IF(リレー登録!AG54=\"\",\"\",リレー登録!AG54)","v":""},{"$f":"IF(リレー登録!AH54=\"\",\"\",リレー登録!AH54)","v":""},{"$f":"IF(リレー登録!AI54=\"\",\"\",リレー登録!AI54)","v":""},{"$f":"IF(リレー登録!AJ54=\"\",\"\",リレー登録!AJ54)","v":""},{"$f":"IF(リレー登録!AK54=\"\",\"\",リレー登録!AK54)","v":""},{"$f":"IF(リレー登録!AL54=\"\",\"\",リレー登録!AL54)","v":""},{"$f":"IF(リレー登録!AM54=\"\",\"\",リレー登録!AM54)","v":""},{"$f":"IF(リレー登録!AN54=\"\",\"\",リレー登録!AN54)","v":""}]

{"sheet":"所属データ","index":5,"n_rows":33,"n_cols":8,"rows_kept":33,"cut":false,"hidden":false,"merged":[]}
["群馬県内クラブ一覧表"]
["郡市名","№","学校コード\n申し込みには\nこのｺｰﾄﾞを入力","コード","学校名","略称","ﾖﾐｶﾞﾅ"]
[50,1,{"$f":"IF(B3<10,CONCATENATE($A$3,\"0\",B3)*1,CONCATENATE($A$3,B3)*1)","v":5001},105001,"群馬陸上競技協会","群馬陸協","群馬陸協",{"$f":"C3","v":5001}]
["クラブ",2,{"$f":"IF(B4<10,CONCATENATE($A$3,\"0\",B4)*1,CONCATENATE($A$3,B4)*1)","v":5002},105002,"高崎市陸上競技協会","高崎市陸協","高崎市陸協",{"$f":"C4","v":5002}]
[null,3,5003,105003,"吾妻榛嶺ｸﾗﾌﾞ","吾妻榛嶺ｸﾗﾌﾞ","吾妻榛嶺ｸﾗﾌﾞ",5003]
[null,4,5004,105004,"碓氷陸上競技ｸﾗﾌﾞ","碓氷ｸﾗﾌﾞ","碓氷ｸﾗﾌﾞ",5004]
[null,5,5005,105005,"館林陸上競技ｸﾗﾌﾞ","館林ｸﾗﾌﾞ","館林ｸﾗﾌﾞ",5005]
[null,6,5006,105006,"渋川陸上競技ｸﾗﾌﾞ","渋川ｸﾗﾌﾞ","渋川ｸﾗﾌﾞ",5006]
[null,7,5007,105007,"藤岡市陸上競技ｸﾗﾌﾞ","藤岡ｸﾗﾌﾞ","藤岡ｸﾗﾌﾞ",5007]
[null,8,5008,105008,"勢多陸上競技ｸﾗﾌﾞ","勢多ｸﾗﾌﾞ","勢多ｸﾗﾌﾞ",5008]
[null,9,5009,105009,"前橋市陸上競技協会","前橋市陸協","前橋市陸協",5009]
[null,10,5010,105010,"桐生市陸上競技協会","桐生市陸協","桐生市陸協",5010]
[null,11,5011,105011,"利根陸上競技ｸﾗﾌﾞ","利根ｸﾗﾌﾞ","利根ｸﾗﾌﾞ",5011]
[null,12,5012,105012,"沼田市陸上ｸﾗﾌﾞ","沼田ｸﾗﾌﾞ","沼田ｸﾗﾌﾞ",5012]
[null,13,5013,105013,"富岡市陸上競技協会","富岡市陸協","富岡市陸協",5013]
[null,14,5014,105014,"伊勢崎陸上競技ｸﾗﾌﾞ","伊勢崎ｸﾗﾌﾞ","伊勢崎ｸﾗﾌﾞ",5014]
[null,15,5015,105015,"新田陸上競技倶楽部","新田倶楽部","新田倶楽部",5015]
[null,16,5016,105016,"上州ｱｽﾘｰﾄｸﾗﾌﾞ","上州ｱｽﾘｰﾄｸﾗﾌﾞ","上州ｱｽﾘｰﾄｸﾗﾌﾞ",5016]
[null,17,5017,105017,"太田市陸上競技協会","太田市陸協","太田市陸協",5017]
[null,18,5018,105018,"安中市陸上競技協会","安中市陸協","安中市陸協",5018]
[null,19,5019,105019,"境陸上競技ｸﾗﾌﾞ","境ｸﾗﾌﾞ","境ｸﾗﾌﾞ",5019]
[null,20,5020,105020,"ﾁｰﾑK","ﾁｰﾑK","ﾁｰﾑK",5020]
[null,21,{"$f":"IF(B23<10,CONCATENATE($A$3,\"0\",B23)*1,CONCATENATE($A$3,B23)*1)","v":5021},105021,"たちばなR.C","たちばなR.C","たちばなR.C",5021]
[null,22,5022,105022,"ｱﾗﾏｷｯｽﾞ","ｱﾗﾏｷｯｽﾞ","ｱﾗﾏｷｯｽﾞ",5022]
[null,23,5023,105023,"おおたｽﾎﾟｰﾂ学校","おおたSG","おおたSG",5023]
[null,24,5024,105024,"ESPｱｽﾚﾁｯｸｸﾗﾌﾞ","ESP","ESP",5024]
[null,25,5025,105025,"どりかむ太田","どりかむ太田","どりかむ太田",5025]
[null,26,5026,105026,"金古ﾗﾝﾆﾝｸﾞｸﾗﾌﾞ","金古RC","金古RC",5026]
[null,27,5027,105027,"ｽｰﾊﾟｰｱｽﾘｰﾄ玉村","SA玉村","SA玉村",5027]
[null,28,5028,105028,"登利平ｱｽﾘｰﾄｸﾗﾌﾞ","登利平AC","登利平AC",5028]
[null,29,{"$f":"IF(B31<10,CONCATENATE($A$3,\"0\",B31)*1,CONCATENATE($A$3,B31)*1)","v":5029},105029,"ﾖｼｲAC","よしいAC","よしいAC",{"$f":"C31","v":5029}]
[null,30,5030,105030,"ｲｼﾀﾞAC","石田AC","石田AC",5030]
[null,31,{"$f":"IF(B33<10,CONCATENATE($A$3,\"0\",B33)*1,CONCATENATE($A$3,B33)*1)","v":5031},105031,"RTｼﾞｮｲ","RTｼﾞｮｲ","RTｼﾞｮｲ",{"$f":"C33","v":5031}]

{"sheet":"基礎データ","index":6,"n_rows":33,"n_cols":17,"rows_kept":33,"cut":false,"hidden":false,"merged":[]}
[]
[null,"クラブ","ｸﾗﾌﾞｺｰﾄﾞ(KC)",null,"学年","学年ｺｰﾄﾞ",null,"性別","性別ｺｰﾄﾞ",null,"種目","種目ｺｰﾄﾞ"]
[null,"群馬陸上競技協会",10,null,1,"01","小1","男",1,null,"５０ｍ","R421",null,"園","５０ｍ","５００ｍ","幅跳び"]
[null,"高崎市陸上競技協会",20,null,2,"02","小2","女",2,null,"１００ｍ","R002",null,1,"５０ｍ","５００ｍ","幅跳び"]
[null,"吾妻榛嶺ｸﾗﾌﾞ",30,null,3,"03","小3",null,null,null,"８００ｍ","R006",null,2,"５０ｍ","５００ｍ","幅跳び"]
[null,"碓氷陸上競技ｸﾗﾌﾞ",40,null,4,"04","小4",null,null,null,"小ｺﾝﾊﾞｲﾝﾄﾞA総合得点(全国ﾙｰﾙ)","R215",null,3,"１００ｍ","８００ｍ","幅跳び"]
[null,"館林陸上競技ｸﾗﾌﾞ",50,null,5,"05","小5",null,null,null,"小ｺﾝﾊﾞｲﾝﾄﾞB総合得点(全国ﾙｰﾙ)","R220",null,4,"１００ｍ","８００ｍ","幅跳び"]
[null,"渋川陸上競技ｸﾗﾌﾞ",60,null,6,"06","小6",null,null,null,"４×１００ｍ","R601",null,5,"１００ｍ","８００ｍ","走幅跳"]
[null,"藤岡市陸上競技ｸﾗﾌﾞ",70,null,"中","10","中",null,null,null,null,null,null,6,"１００ｍ","８００ｍ","走幅跳"]
[null,"勢多陸上競技ｸﾗﾌﾞ",80,null,null,"10",null,null,null,null,null,null,null,"中","１００ｍ","８００ｍ","走幅跳"]
[null,"前橋市陸上競技協会",90,null,null,"10"]
[null,"桐生市陸上競技協会",100,null,"園","37","園"]
[null,"利根陸上競技ｸﾗﾌﾞ",110,null,12,"07","12年"]
[null,"沼田市陸上ｸﾗﾌﾞ",120,null,34,"08","34年"]
[null,"富岡市陸上競技協会",130,null,56,"09","56年"]
[null,"伊勢崎陸上競技ｸﾗﾌﾞ",140]
[null,"新田陸上競技倶楽部",150]
[null,"上州ｱｽﾘｰﾄｸﾗﾌﾞ",160]
[null,"太田市陸上競技協会",170]
[null,"安中市陸上競技協会",180]
[null,"境陸上競技ｸﾗﾌﾞ",190]
[null,"ﾁｰﾑK",200]
[null,"たちばなR.C",210]
[null,"ｱﾗﾏｷｯｽﾞ",220]
[null,"おおたｽﾎﾟｰﾂ学校",230]
[null,"ESPｱｽﾚﾁｯｸｸﾗﾌﾞ",240]
[null,"どりかむ太田",250]
[null,"金古ﾗﾝﾆﾝｸﾞｸﾗﾌﾞ",260]
[null,"ｽｰﾊﾟｰｱｽﾘｰﾄ玉村",270]
[null,"登利平ｱｽﾘｰﾄｸﾗﾌﾞ",280]
[null,"よしいAC",290]
[null,"石田AC",300]
[null,"RTｼﾞｮｲ",310]

{"sheet":"競技データ","index":7,"n_rows":400,"n_cols":3,"rows_kept":400,"cut":false,"hidden":false,"merged":[]}
["コード","種目名"]
["421   101","５０ｍ男子1年",{"$f":"\"R\"&LEFT(A2,3)&RIGHT(A2,2)","v":"R42101"}]
["421   102","５０ｍ男子2年",{"$f":"\"R\"&LEFT(A3,3)&RIGHT(A3,2)","v":"R42102"}]
["002   103","１００ｍ男子3年","R00203"]
["002   104","１００ｍ男子4年","R00204"]
["006   103","８００ｍ男子3年","R00603"]
["006   104","８００ｍ男子4年","R00604"]
["006   105","８００ｍ男子5年","R00605"]
["006   106","８００ｍ男子6年","R00606"]
["002   105","１００ｍ男子5年","R00205"]
["002   106","１００ｍ男子6年","R00206"]
["215   100","小ｺﾝﾊﾞｲﾝﾄﾞA総合得点(全国ﾙｰﾙ)男子小学共通","R21500"]
["220   100","小ｺﾝﾊﾞｲﾝﾄﾞB総合得点(全国ﾙｰﾙ)男子小学共通","R22000"]
["421   201","５０ｍ女子1年","R42101"]
["421   202","５０ｍ女子2年","R42102"]
["002   203","１００ｍ女子3年","R00203"]
["002   204","１００ｍ女子4年","R00204"]
["006   203","８００ｍ女子3年","R00603"]
["006   204","８００ｍ女子4年","R00604"]
["006   205","８００ｍ女子5年","R00605"]
["006   206","８００ｍ女子6年","R00606"]
["002   205","１００ｍ女子5年","R00205"]
["002   206","１００ｍ女子6年","R00206"]
["215   200","小ｺﾝﾊﾞｲﾝﾄﾞA総合得点(全国ﾙｰﾙ)女子小学共通","R21500"]
["220   200","小ｺﾝﾊﾞｲﾝﾄﾞB総合得点(全国ﾙｰﾙ)女子小学共通","R22000"]
["601   300","４×１００ｍ混合小学共通","R60100"]
["","","R"]
["","","R"]
["","","R"]
["","","R"]
["","","R"]
["","","R"]
["","","R"]
["","","R"]
["","","R"]
["","","R"]
["","","R"]
["","","R"]
["","","R"]
["","","R"]
["","","R"]
["","","R"]
["","","R"]
["","","R"]
["","","R"]
["","","R"]
["","","R"]
["","","R"]
["","","R"]
["","","R"]
["","","R"]
["","","R"]
["","","R"]
["","","R"]
["","","R"]
["","","R"]
["","","R"]
["","","R"]
["","","R"]
["","","R"]
["","","R"]
["","","R"]
["","","R"]
["","","R"]
["","","R"]
["","","R"]
["","",{"$f":"\"R\"&LEFT(A67,3)&RIGHT(A67,2)","v":"R"}]
["","","R"]
["","","R"]
["","","R"]
["","","R"]
["","","R"]
["","","R"]
["","","R"]
["","","R"]
["","","R"]
["","","R"]
["","","R"]
["","","R"]
["","","R"]
["","","R"]
["","","R"]
["","","R"]
["","","R"]
["","","R"]
["","","R"]
["","","R"]
["","","R"]
["","","R"]
["","","R"]
["","","R"]
["","","R"]
["","","R"]
["","","R"]
["","","R"]
["","","R"]
["","","R"]
["","","R"]
["","","R"]
["","","R"]
["","","R"]
["","","R"]
["","","R"]
["","","R"]
["","","R"]
["","","R"]
["","","R"]
["","","R"]
["","","R"]
["","","R"]
["","","R"]
["","","R"]
["","","R"]
["","","R"]
["","","R"]
["","","R"]
["","","R"]
["","","R"]
["","","R"]
["","","R"]
["","","R"]
["","","R"]
["","","R"]
["","","R"]
["","","R"]
["","","R"]
["","","R"]
["","","R"]
["","","R"]
["","","R"]
["","",{"$f":"\"R\"&LEFT(A131,3)&RIGHT(A131,2)","v":"R"}]
["","","R"]
["","","R"]
["","","R"]
["","","R"]
["","","R"]
["","","R"]
["","","R"]
["","","R"]
["","","R"]
["","","R"]
["","","R"]
["","","R"]
["","","R"]
["","","R"]
["","","R"]
["","","R"]
["","","R"]
["","","R"]
["","","R"]
["","","R"]
["","","R"]
["","","R"]
["","","R"]
["","","R"]
["","","R"]
["","","R"]
["","","R"]
["","","R"]
["","","R"]
["","","R"]
["","","R"]
["","","R"]
["","","R"]
["","","R"]
["","","R"]
["","","R"]
["","","R"]
["","","R"]
["","","R"]
["","","R"]
["","","R"]
["","","R"]
["","","R"]
["","","R"]
["","","R"]
["","","R"]
["","","R"]
["","","R"]
["","","R"]
["","","R"]
["","","R"]
["","","R"]
["","","R"]
["","","R"]
["","","R"]
["","","R"]
["","","R"]
["","","R"]
["","","R"]
["","","R"]
["","","R"]
["","","R"]
["","","R"]
["","",{"$f":"\"R\"&LEFT(A195,3)&RIGHT(A195,2)","v":"R"}]
["","","R"]
["","","R"]
["","","R"]
["","","R"]
["","","R"]
["","","R"]
["","","R"]
["","","R"]
["","","R"]
["","","R"]
["","","R"]
["","","R"]
["","","R"]
["","","R"]
["","","R"]
["","","R"]
["","","R"]
["","","R"]
["","","R"]
["","","R"]
["","","R"]
["","","R"]
["","","R"]
["","","R"]
["","","R"]
["","","R"]
["","","R"]
["","","R"]
["","","R"]
["","","R"]
["","","R"]
["","","R"]
["","","R"]
["","","R"]
["","","R"]
["","","R"]
["","","R"]
["","","R"]
["","","R"]
["","","R"]
["","","R"]
["","","R"]
["","","R"]
["","","R"]
["","","R"]
["","","R"]
["","","R"]
["","","R"]
["","","R"]
["","","R"]
["","","R"]
["","","R"]
["","","R"]
["","","R"]
["","","R"]
["","","R"]
["","","R"]
["","","R"]
["","","R"]
["","","R"]
["","","R"]
["","","R"]
["","","R"]
["","",{"$f":"\"R\"&LEFT(A259,3)&RIGHT(A259,2)","v":"R"}]
["","","R"]
["","","R"]
["","","R"]
["","","R"]
["","","R"]
["","","R"]
["","","R"]
["","","R"]
["","","R"]
["","","R"]
["","","R"]
["","","R"]
["","","R"]
["","","R"]
["","","R"]
["","","R"]
["","","R"]
["","","R"]
["","","R"]
["","","R"]
["","","R"]
["","","R"]
["","","R"]
["","","R"]
["","","R"]
["","","R"]
["","","R"]
["","","R"]
["","","R"]
["","","R"]
["","","R"]
["","","R"]
["","","R"]
["","","R"]
["","","R"]
["","","R"]
["","","R"]
["","","R"]
["","","R"]
["","","R"]
["","","R"]
["",""]
["",""]
["",""]
["",""]
["",""]
["",""]
["",""]
["",""]
["",""]
["",""]
["",""]
["",""]
["",""]
["",""]
["",""]
["",""]
["",""]
["",""]
["",""]
["",""]
["",""]
["",""]
["",""]
["",""]
["",""]
["",""]
["",""]
["",""]
["",""]
["",""]
["",""]
["",""]
["",""]
["",""]
["",""]
["",""]
["",""]
["",""]
["",""]
["",""]
["",""]
["",""]
["",""]
["",""]
["",""]
["",""]
["",""]
["",""]
["",""]
["",""]
["",""]
["",""]
["",""]
["",""]
["",""]
["",""]
["",""]
["",""]
["",""]
["",""]
["",""]
["",""]
["",""]
["",""]
["",""]
["",""]
["",""]
["",""]
["",""]
["",""]
["",""]
["",""]
["",""]
["",""]
["",""]
["",""]
["",""]
["",""]
["",""]
["",""]
["",""]
["",""]
["",""]
["",""]
["",""]
["",""]
["",""]
["",""]
["",""]
["",""]
["",""]
["",""]
["",""]
["",""]
["",""]
["",""]
["",""]
["",""]
["",""]
["",""]

{"sheet":"処理用","index":8,"n_rows":0,"n_cols":0,"rows_kept":0,"cut":false,"hidden":true,"merged":[]}