{"text_format":"1","workbook":"xlsx","n_sheets":41,"sheets":["成績一覧","得点集計","エントリー","女１年100m","女２年100m","女200m","女800m","女３年1500m","女1500m","女100mH","女走高跳","女走幅跳","女砲丸投","女OP100m","女OP800m","女OP走幅跳","女OP砲丸投","男１年100m","男3年3000m","男２年100m","男200m","男400m","男800m","男1500m","男3000m","男110mH","男走高跳","男走幅跳","男砲丸投","男OP100m","男OP走幅跳","リレー記録","男３年100m","男リレー","女リレー","男OP1500m ","女OP走高跳","男OP砲丸投","男OP走高跳","成績発表","県大会出場"],"not_rendered":{"charts":0,"images":4,"macros":1,"external_links":0,"defined_names":42,"comments":2,"pivot_tables":0},"unopened":[],"bounds":{"document_bytes":16777216,"sheet_cells":100000,"rows_first":2000,"rows_last":500,"rows_between":2000,"halvings":0,"cell_chars":16384,"cell_head_chars":4096},"cells_cut":0,"cells_raw":0,"read":"whole","date_system":"1900"}

{"sheet":"成績一覧","index":0,"n_rows":37,"n_cols":25,"rows_kept":37,"cut":false,"hidden":false,"merged":[[0,13,0,15],[0,16,0,17],[34,18,34,20],[35,18,35,19],[12,13,12,15],[28,17,28,19],[19,13,19,16],[2,21,2,24],[12,17,12,19],[36,10,36,11],[34,10,34,12],[34,13,34,14],[34,15,34,17],[35,15,35,16],[36,15,36,16],[36,18,36,19],[2,9,2,12],[2,13,2,16],[13,13,13,15],[27,9,27,11],[27,13,27,15],[28,13,28,15],[28,21,28,23],[2,1,2,4],[19,1,19,4],[35,2,35,3],[36,2,36,3],[34,2,34,4],[28,1,28,3],[27,1,27,3],[12,1,12,3],[13,1,13,3],[36,0,36,1],[36,7,36,8],[34,0,34,1],[34,7,34,9],[35,0,35,1],[28,5,28,7],[28,9,28,11],[35,10,35,11],[34,5,34,6],[35,7,35,8],[34,21,34,22],[27,5,27,7],[12,21,12,23],[13,21,13,23],[12,9,12,11],[19,21,19,24],[27,17,27,19],[27,21,27,23],[19,17,19,20],[19,5,19,8],[19,9,19,12],[2,5,2,8],[2,17,2,20],[12,5,12,7],[13,5,13,7],[13,17,13,19],[13,9,13,11]]}
["平成２８年度　藤岡多野中体連 秋季陸上競技大会成績一覧表",null,null,null,null,null,null,null,null,null,null,null,null,"2016-09-18",null,null,"天候：くもり",null,"場所：藤岡市総合運動公園陸上競技場"]
[]
["男子","１位",null,null,null,"2位",null,null,null,"3位",null,null,null,"4位",null,null,null,"5位",null,null,null,"6位"]
[null,"氏名","所属","年","記録","氏名","所属","年","記録","氏名","所属","年","記録","氏名","所属","年","記録","氏名","所属","年","記録","氏名","所属","年","記録"]
["1年100m",{"$f":"男１年100m!D4","v":"神谷  脩斗"},{"$f":"男１年100m!G4","v":"東中"},{"$f":"男１年100m!F4","v":1},{"$f":"男１年100m!H4","v":1323},{"$f":"男１年100m!D5","v":"川端　悠斗"},{"$f":"男１年100m!G5","v":"小野"},{"$f":"男１年100m!F5","v":1},{"$f":"男１年100m!H5","v":1365},{"$f":"男１年100m!D6","v":"小林    翔"},{"$f":"男１年100m!G6","v":"東中"},{"$f":"男１年100m!F6","v":1},{"$f":"男１年100m!H6","v":1378},{"$f":"男１年100m!D7","v":"齋藤　佳太"},{"$f":"男１年100m!G7","v":"北中"},{"$f":"男１年100m!F7","v":1},{"$f":"男１年100m!H7","v":1397},{"$f":"男１年100m!D8","v":"佐藤  弘崇"},{"$f":"男１年100m!G8","v":"鬼石"},{"$f":"男１年100m!F8","v":1},{"$f":"男１年100m!H8","v":1427},{"$f":"男１年100m!D9","v":"前村　帝明"},{"$f":"男１年100m!G9","v":"北中"},{"$f":"男１年100m!F9","v":1},{"$f":"男１年100m!H9","v":1428}]
["2年100m",{"$f":"男２年100m!D4","v":"関口  大登"},{"$f":"男２年100m!G4","v":"小野"},{"$f":"男２年100m!F4","v":2},{"$f":"男２年100m!H4","v":1179},{"$f":"男２年100m!D5","v":"高山  大樹"},{"$f":"男２年100m!G5","v":"西中"},{"$f":"男２年100m!F5","v":2},{"$f":"男２年100m!H5","v":1267},{"$f":"男２年100m!D6","v":"折原  優貴"},{"$f":"男２年100m!G6","v":"小野"},{"$f":"男２年100m!F6","v":2},{"$f":"男２年100m!H6","v":1309},{"$f":"男２年100m!D7","v":"早川慎太郎"},{"$f":"男２年100m!G7","v":"鬼石"},{"$f":"男２年100m!F7","v":2},{"$f":"男２年100m!H7","v":1311},{"$f":"男２年100m!D8","v":"永岡  玖規"},{"$f":"男２年100m!G8","v":"北中"},{"$f":"男２年100m!F8","v":2},{"$f":"男２年100m!H8","v":1333},{"$f":"男２年100m!D9","v":"江本    蓮"},{"$f":"男２年100m!G9","v":"鬼石"},{"$f":"男２年100m!F9","v":2},{"$f":"男２年100m!H9","v":1391}]
["200m",{"$f":"男200m!D4","v":"関口  大登"},{"$f":"男200m!G4","v":"小野"},{"$f":"男200m!F4","v":2},{"$f":"男200m!H4","v":2488},{"$f":"男200m!D5","v":"阿佐美光紀"},{"$f":"男200m!G5","v":"北中"},{"$f":"男200m!F5","v":2},{"$f":"男200m!H5","v":2628},{"$f":"男200m!D6","v":"早川慎太郎"},{"$f":"男200m!G6","v":"鬼石"},{"$f":"男200m!F6","v":2},{"$f":"男200m!H6","v":2732},{"$f":"男200m!D7","v":"塚越    猛"},{"$f":"男200m!G7","v":"小野"},{"$f":"男200m!F7","v":2},{"$f":"男200m!H7","v":2780},{"$f":"男200m!D8","v":"齋藤　佳太"},{"$f":"男200m!G8","v":"北中"},{"$f":"男200m!F8","v":1},{"$f":"男200m!H8","v":2875},{"$f":"男200m!D9","v":"蓮  真那斗"},{"$f":"男200m!G9","v":"鬼石"},{"$f":"男200m!F9","v":1},{"$f":"男200m!H9","v":2952}]
["400m",{"$f":"男400m!D4","v":"倉林  航大"},{"$f":"男400m!G4","v":"西中"},{"$f":"男400m!F4","v":2},{"$f":"男400m!H4","v":10169},{"$f":"男400m!D5","v":"前村  明俊"},{"$f":"男400m!G5","v":"北中"},{"$f":"男400m!F5","v":2},{"$f":"男400m!H5","v":10278},{"$f":"男400m!D6","v":"神谷  脩斗"},{"$f":"男400m!G6","v":"東中"},{"$f":"男400m!F6","v":1},{"$f":"男400m!H6","v":10299},{"$f":"男400m!D7","v":"江本    蓮"},{"$f":"男400m!G7","v":"鬼石"},{"$f":"男400m!F7","v":2},{"$f":"男400m!H7","v":10554},{"$f":"男400m!D8","v":"望月  叡人"},{"$f":"男400m!G8","v":"東中"},{"$f":"男400m!F8","v":1},{"$f":"男400m!H8","v":10652},{"$f":"男400m!D9","v":"前村　帝明"},{"$f":"男400m!G9","v":"北中"},{"$f":"男400m!F9","v":1},{"$f":"男400m!H9","v":10771}]
["800m",{"$f":"男800m!D4","v":"清水    樹"},{"$f":"男800m!G4","v":"北中"},{"$f":"男800m!F4","v":2},{"$f":"男800m!H4","v":22477},{"$f":"男800m!D5","v":"前村  明俊"},{"$f":"男800m!G5","v":"北中"},{"$f":"男800m!F5","v":2},{"$f":"男800m!H5","v":23890},{"$f":"男800m!D6","v":"中里  光希"},{"$f":"男800m!G6","v":"東中"},{"$f":"男800m!F6","v":1},{"$f":"男800m!H6","v":24100},{"$f":"男800m!D7","v":"木下    奏"},{"$f":"男800m!G7","v":"鬼石"},{"$f":"男800m!F7","v":2},{"$f":"男800m!H7","v":24448},{"$f":"男800m!D8","v":"岩上  大地"},{"$f":"男800m!G8","v":"西中"},{"$f":"男800m!F8","v":2},{"$f":"男800m!H8","v":24517},{"$f":"男800m!D9","v":"清水  太斗"},{"$f":"男800m!G9","v":"東中"},{"$f":"男800m!F9","v":1},{"$f":"男800m!H9","v":25148}]
["1500m",{"$f":"男1500m!D4","v":"井上  将吾"},{"$f":"男1500m!G4","v":"東中"},{"$f":"男1500m!F4","v":2},{"$f":"男1500m!H4","v":45027},{"$f":"男1500m!D5","v":"清水    樹"},{"$f":"男1500m!G5","v":"北中"},{"$f":"男1500m!F5","v":2},{"$f":"男1500m!H5","v":45846},{"$f":"男1500m!D6","v":"福田  颯吾"},{"$f":"男1500m!G6","v":"北中"},{"$f":"男1500m!F6","v":2},{"$f":"男1500m!H6","v":50595},{"$f":"男1500m!D7","v":"柳澤  佑太"},{"$f":"男1500m!G7","v":"小野"},{"$f":"男1500m!F7","v":2},{"$f":"男1500m!H7","v":51312},{"$f":"男1500m!D8","v":"武藤  遥歩"},{"$f":"男1500m!G8","v":"鬼石"},{"$f":"男1500m!F8","v":2},{"$f":"男1500m!H8","v":51328},{"$f":"男1500m!D9","v":"設楽　  嶺"},{"$f":"男1500m!G9","v":"小野"},{"$f":"男1500m!F9","v":1},{"$f":"男1500m!H9","v":51824}]
["3000m",{"$f":"男3000m!D4","v":"坂口    旭"},{"$f":"男3000m!G4","v":"北中"},{"$f":"男3000m!F4","v":2},{"$f":"男3000m!H4","v":102424},{"$f":"男3000m!D5","v":"井上  将吾"},{"$f":"男3000m!G5","v":"東中"},{"$f":"男3000m!F5","v":2},{"$f":"男3000m!H5","v":103627},{"$f":"男3000m!D6","v":"柳澤  佑太"},{"$f":"男3000m!G6","v":"小野"},{"$f":"男3000m!F6","v":2},{"$f":"男3000m!H6","v":112561},{"$f":"男3000m!D7","v":"武藤  遥歩"},{"$f":"男3000m!G7","v":"鬼石"},{"$f":"男3000m!F7","v":2},{"$f":"男3000m!H7","v":113000},{"$f":"男3000m!D8","v":"中里  光希"},{"$f":"男3000m!G8","v":"東中"},{"$f":"男3000m!F8","v":1},{"$f":"男3000m!H8","v":115210},{"$f":"男3000m!D9","v":0},{"$f":"男3000m!G9","v":0},{"$f":"男3000m!F9","v":0},{"$f":"男3000m!H9","v":0}]
["110mH",{"$f":"男110mH!D4","v":"中井  大地"},{"$f":"男110mH!G4","v":"北中"},{"$f":"男110mH!F4","v":2},{"$f":"男110mH!H4","v":1838},{"$f":"男110mH!D5","v":"塚越    猛"},{"$f":"男110mH!G5","v":"小野"},{"$f":"男110mH!F5","v":2},{"$f":"男110mH!H5","v":2011},{"$f":"男110mH!D6","v":"岩上  大地"},{"$f":"男110mH!G6","v":"西中"},{"$f":"男110mH!F6","v":2},{"$f":"男110mH!H6","v":2075},{"$f":"男110mH!D7","v":"川端　悠斗"},{"$f":"男110mH!G7","v":"小野"},{"$f":"男110mH!F7","v":1},{"$f":"男110mH!H7","v":2152},{"$f":"男110mH!D8","v":"望月  叡人"},{"$f":"男110mH!G8","v":"東中"},{"$f":"男110mH!F8","v":1},{"$f":"男110mH!H8","v":2322},{"$f":"男110mH!D9","v":"小坂  青羽"},{"$f":"男110mH!G9","v":"東中"},{"$f":"男110mH!F9","v":1},{"$f":"男110mH!H9","v":2453}]
["4×100mR",{"$f":"リレー記録!C4","v":"小野"},null,null,{"$f":"リレー記録!E4","v":4943},{"$f":"リレー記録!C5","v":"北中"},null,null,{"$f":"リレー記録!E5","v":5167},{"$f":"リレー記録!C6","v":"西中"},null,null,{"$f":"リレー記録!E6","v":5226},{"$f":"リレー記録!C7","v":"鬼石"},null,null,{"$f":"リレー記録!E7","v":5386},{"$f":"リレー記録!C8","v":"東中"},null,null,{"$f":"リレー記録!E8","v":5409}]
[null,{"$f":"リレー記録!D4","v":"折原,塚越,島崎,関口"},null,null,null,{"$f":"リレー記録!D5","v":"齋藤,阿佐美,前村,永岡"},null,null,null,{"$f":"リレー記録!D6","v":"倉林,高山,前村,岩上"},null,null,null,{"$f":"リレー記録!D7","v":"木下,早川,江本,佐藤"},null,null,null,{"$f":"リレー記録!D8","v":"小林,神谷,福島,望月"}]
["走高跳",{"$f":"男走高跳!C4","v":"倉林  航大"},{"$f":"男走高跳!F4","v":"西中"},{"$f":"男走高跳!E4","v":2},{"$f":"男走高跳!AN4","v":160},{"$f":"男走高跳!C5","v":"阿部　一貫"},{"$f":"男走高跳!F5","v":"小野"},{"$f":"男走高跳!E5","v":1},{"$f":"男走高跳!AN5","v":130},null,null,null,null,{"$f":"男走高跳!C7","v":0},{"$f":"男走高跳!F7","v":0},{"$f":"男走高跳!E7","v":0},{"$f":"男走高跳!AN7","v":0},{"$f":"男走高跳!C8","v":0},{"$f":"男走高跳!F8","v":0},{"$f":"男走高跳!E8","v":0},{"$f":"男走高跳!AN8","v":0},{"$f":"男走高跳!C9","v":0},{"$f":"男走高跳!F9","v":0},{"$f":"男走高跳!E9","v":0},{"$f":"男走高跳!AN9","v":0}]
["走幅跳",{"$f":"男走幅跳!C4","v":"中井  大地"},{"$f":"男走幅跳!F4","v":"北中"},{"$f":"男走幅跳!E4","v":2},{"$f":"男走幅跳!N4","v":521},{"$f":"男走幅跳!C5","v":"島崎  勝志"},{"$f":"男走幅跳!F5","v":"小野"},{"$f":"男走幅跳!E5","v":2},{"$f":"男走幅跳!N5","v":504},{"$f":"男走幅跳!C6","v":"永岡  玖規"},{"$f":"男走幅跳!F6","v":"北中"},{"$f":"男走幅跳!E6","v":2},{"$f":"男走幅跳!N6","v":503},{"$f":"男走幅跳!C7","v":"高山  大樹"},{"$f":"男走幅跳!F7","v":"西中"},{"$f":"男走幅跳!E7","v":2},{"$f":"男走幅跳!N7","v":439},{"$f":"男走幅跳!C8","v":"小林    翔"},{"$f":"男走幅跳!F8","v":"東中"},{"$f":"男走幅跳!E8","v":1},{"$f":"男走幅跳!N8","v":419},{"$f":"男走幅跳!C9","v":"鶴見　  颯"},{"$f":"男走幅跳!F9","v":"小野"},{"$f":"男走幅跳!E9","v":1},{"$f":"男走幅跳!N9","v":405}]
["砲丸投",{"$f":"男砲丸投!C4","v":"折原  優貴"},{"$f":"男砲丸投!F4","v":"小野"},{"$f":"男砲丸投!E4","v":2},{"$f":"男砲丸投!N4","v":872},{"$f":"男砲丸投!C5","v":"島崎  勝志"},{"$f":"男砲丸投!F5","v":"小野"},{"$f":"男砲丸投!E5","v":2},{"$f":"男砲丸投!N5","v":787},{"$f":"男砲丸投!C6","v":"阿佐美光紀"},{"$f":"男砲丸投!F6","v":"北中"},{"$f":"男砲丸投!E6","v":2},{"$f":"男砲丸投!N6","v":777},{"$f":"男砲丸投!C7","v":"宮前飛佳瑠"},{"$f":"男砲丸投!F7","v":"鬼石"},{"$f":"男砲丸投!E7","v":2},{"$f":"男砲丸投!N7","v":723},{"$f":"男砲丸投!C8","v":"福島慎太郎"},{"$f":"男砲丸投!F8","v":"東中"},{"$f":"男砲丸投!E8","v":1},{"$f":"男砲丸投!N8","v":605},{"$f":"男砲丸投!C9","v":"黒澤  民愛"},{"$f":"男砲丸投!F9","v":"東中"},{"$f":"男砲丸投!E9","v":1},{"$f":"男砲丸投!N9","v":480}]
[]
[]
["女子","１位",null,null,null,"2位",null,null,null,"3位",null,null,null,"4位",null,null,null,"5位",null,null,null,"6位"]
[null,"氏名","所属","年","記録","氏名","所属","年","記録","氏名","所属","年","記録","氏名","所属","年","記録","氏名","所属","年","記録","氏名","所属","年","記録"]
["1年100m",{"$f":"女１年100m!D4","v":"大澤  真希"},{"$f":"女１年100m!G4","v":"鬼石"},{"$f":"女１年100m!F4","v":1},{"$f":"女１年100m!H4","v":1460},{"$f":"女１年100m!D5","v":"山下　奈緒"},{"$f":"女１年100m!G5","v":"北中"},{"$f":"女１年100m!F5","v":1},{"$f":"女１年100m!H5","v":1484},{"$f":"女１年100m!D6","v":"久保  詩織"},{"$f":"女１年100m!G6","v":"東中"},{"$f":"女１年100m!F6","v":1},{"$f":"女１年100m!H6","v":1521},{"$f":"女１年100m!D7","v":"黛    藍那"},{"$f":"女１年100m!G7","v":"西中"},{"$f":"女１年100m!F7","v":1},{"$f":"女１年100m!H7","v":1556},{"$f":"女１年100m!D8","v":"大岡  美鈴"},{"$f":"女１年100m!G8","v":"東中"},{"$f":"女１年100m!F8","v":1},{"$f":"女１年100m!H8","v":1618},{"$f":"女１年100m!D9","v":"田替藤萌衣"},{"$f":"女１年100m!G9","v":"北中"},{"$f":"女１年100m!F9","v":1},{"$f":"女１年100m!H9","v":1647}]
["2年100m",{"$f":"女２年100m!D4","v":"登坂  未央"},{"$f":"女２年100m!G4","v":"小野"},{"$f":"女２年100m!F4","v":2},{"$f":"女２年100m!H4","v":1392},{"$f":"女２年100m!D5","v":"金井  萌花"},{"$f":"女２年100m!G5","v":"小野"},{"$f":"女２年100m!F5","v":2},{"$f":"女２年100m!H5","v":1406},{"$f":"女２年100m!D6","v":"三木紗季帆"},{"$f":"女２年100m!G6","v":"鬼石"},{"$f":"女２年100m!F6","v":2},{"$f":"女２年100m!H6","v":1449},{"$f":"女２年100m!D7","v":"柳田    葵"},{"$f":"女２年100m!G7","v":"北中"},{"$f":"女２年100m!F7","v":2},{"$f":"女２年100m!H7","v":1484},{"$f":"女２年100m!D8","v":"原田  萌百"},{"$f":"女２年100m!G8","v":"東中"},{"$f":"女２年100m!F8","v":2},{"$f":"女２年100m!H8","v":1600},{"$f":"女２年100m!D9","v":"林    杏奈"},{"$f":"女２年100m!G9","v":"西中"},{"$f":"女２年100m!F9","v":2},{"$f":"女２年100m!H9","v":1603}]
["200m",{"$f":"女200m!D4","v":"金井  萌花"},{"$f":"女200m!G4","v":"小野"},{"$f":"女200m!F4","v":2},{"$f":"女200m!H4","v":2882},{"$f":"女200m!D5","v":"三木紗季帆"},{"$f":"女200m!G5","v":"鬼石"},{"$f":"女200m!F5","v":2},{"$f":"女200m!H5","v":2977},{"$f":"女200m!D6","v":"山下　奈緒"},{"$f":"女200m!G6","v":"北中"},{"$f":"女200m!F6","v":1},{"$f":"女200m!H6","v":3117},{"$f":"女200m!D7","v":"吉村  泉咲"},{"$f":"女200m!G7","v":"東中"},{"$f":"女200m!F7","v":2},{"$f":"女200m!H7","v":3144},{"$f":"女200m!D8","v":"大野  瀬奈"},{"$f":"女200m!G8","v":"西中"},{"$f":"女200m!F8","v":2},{"$f":"女200m!H8","v":3227},{"$f":"女200m!D9","v":"澤里  莉芽"},{"$f":"女200m!G9","v":"東中"},{"$f":"女200m!F9","v":2},{"$f":"女200m!H9","v":3239}]
["800m",{"$f":"女800m!D4","v":"須田  菜緒"},{"$f":"女800m!G4","v":"小野"},{"$f":"女800m!F4","v":2},{"$f":"女800m!H4","v":23486},{"$f":"女800m!D5","v":"藤田  夏美"},{"$f":"女800m!G5","v":"小野"},{"$f":"女800m!F5","v":2},{"$f":"女800m!H5","v":24155},{"$f":"女800m!D6","v":"滝川  真紀"},{"$f":"女800m!G6","v":"鬼石"},{"$f":"女800m!F6","v":2},{"$f":"女800m!H6","v":25159},{"$f":"女800m!D7","v":"渡邉安夕音"},{"$f":"女800m!G7","v":"北中"},{"$f":"女800m!F7","v":2},{"$f":"女800m!H7","v":25920},{"$f":"女800m!D8","v":"大澤  里奈"},{"$f":"女800m!G8","v":"東中"},{"$f":"女800m!F8","v":2},{"$f":"女800m!H8","v":25949},{"$f":"女800m!D9","v":"田口  光梨"},{"$f":"女800m!G9","v":"北中"},{"$f":"女800m!F9","v":2},{"$f":"女800m!H9","v":30723}]
["1500m",{"$f":"女1500m!D4","v":"清水　華帆"},{"$f":"女1500m!G4","v":"北中"},{"$f":"女1500m!F4","v":1},{"$f":"女1500m!H4","v":51823},{"$f":"女1500m!D5","v":"須田  菜緒"},{"$f":"女1500m!G5","v":"小野"},{"$f":"女1500m!F5","v":2},{"$f":"女1500m!H5","v":52088},{"$f":"女1500m!D6","v":"臼田あかり"},{"$f":"女1500m!G6","v":"小野"},{"$f":"女1500m!F6","v":2},{"$f":"女1500m!H6","v":54659},{"$f":"女1500m!D7","v":"渡邉安夕音"},{"$f":"女1500m!G7","v":"北中"},{"$f":"女1500m!F7","v":2},{"$f":"女1500m!H7","v":54945},{"$f":"女1500m!D8","v":"大澤  里奈"},{"$f":"女1500m!G8","v":"東中"},{"$f":"女1500m!F8","v":2},{"$f":"女1500m!H8","v":60454},{"$f":"女1500m!D9","v":"齋藤  真由"},{"$f":"女1500m!G9","v":"東中"},{"$f":"女1500m!F9","v":2},{"$f":"女1500m!H9","v":61936}]
["100mH",{"$f":"女100mH!D4","v":"鈴木  紅奈"},{"$f":"女100mH!G4","v":"東中"},{"$f":"女100mH!F4","v":2},{"$f":"女100mH!H4","v":1812},{"$f":"女100mH!D5","v":"小暮    南"},{"$f":"女100mH!G5","v":"西中"},{"$f":"女100mH!F5","v":1},{"$f":"女100mH!H5","v":1833},{"$f":"女100mH!D6","v":"浅見  怜美"},{"$f":"女100mH!G6","v":"北中"},{"$f":"女100mH!F6","v":2},{"$f":"女100mH!H6","v":1852},{"$f":"女100mH!D7","v":"林    朱理"},{"$f":"女100mH!G7","v":"北中"},{"$f":"女100mH!F7","v":2},{"$f":"女100mH!H7","v":1887},{"$f":"女100mH!D8","v":"布施  彩奈"},{"$f":"女100mH!G8","v":"鬼石"},{"$f":"女100mH!F8","v":1},{"$f":"女100mH!H8","v":1898},{"$f":"女100mH!D9","v":"林    杏奈"},{"$f":"女100mH!G9","v":"西中"},{"$f":"女100mH!F9","v":2},{"$f":"女100mH!H9","v":2029}]
["4×100mR",{"$f":"リレー記録!C14","v":"小野"},null,null,{"$f":"リレー記録!E14","v":5621},{"$f":"リレー記録!C15","v":"北中"},null,null,{"$f":"リレー記録!E15","v":5715},{"$f":"リレー記録!C16","v":"鬼石"},null,null,{"$f":"リレー記録!E16","v":5898},{"$f":"リレー記録!C17","v":"東中"},null,null,{"$f":"リレー記録!E17","v":5899},{"$f":"リレー記録!C18","v":"西中"},null,null,{"$f":"リレー記録!E18","v":10132}]
[null,{"$f":"リレー記録!D14","v":"杉山,藤田,金井,登坂"},null,null,null,{"$f":"リレー記録!D15","v":"柳田,根岸,山下,浅見"},null,null,null,{"$f":"リレー記録!D16","v":"大澤,三木,滝川,布施"},null,null,null,{"$f":"リレー記録!D17","v":"原田,鈴木,吉村,澤里"},null,null,null,{"$f":"リレー記録!D18","v":"黛,大野,林,小暮"}]
["走高跳",{"$f":"女走高跳!C4","v":"滝川  真紀"},{"$f":"女走高跳!F4","v":"鬼石"},{"$f":"女走高跳!E4","v":2},{"$f":"女走高跳!AK4","v":135},{"$f":"女走高跳!C5","v":"浅見  怜美"},{"$f":"女走高跳!F5","v":"北中"},{"$f":"女走高跳!E5","v":2},{"$f":"女走高跳!AK5","v":130},{"$f":"女走高跳!C6","v":"大澤  真希"},{"$f":"女走高跳!F6","v":"鬼石"},{"$f":"女走高跳!E6","v":1},{"$f":"女走高跳!AK6","v":125},{"$f":"女走高跳!C7","v":"佐藤    遥"},{"$f":"女走高跳!F7","v":"西中"},{"$f":"女走高跳!E7","v":2},{"$f":"女走高跳!AK7","v":120},{"$f":"女走高跳!C8","v":"瀬下  結生"},{"$f":"女走高跳!F8","v":"北中"},{"$f":"女走高跳!E8","v":2},{"$f":"女走高跳!AK8","v":115},{"$f":"女走高跳!C9","v":"鈴木  紅奈"},{"$f":"女走高跳!F9","v":"東中"},{"$f":"女走高跳!E9","v":2},{"$f":"女走高跳!AK9","v":115}]
["走幅跳",{"$f":"女走幅跳!C4","v":"布施  彩奈"},{"$f":"女走幅跳!F4","v":"鬼石"},{"$f":"女走幅跳!E4","v":1},{"$f":"女走幅跳!N4","v":408},{"$f":"女走幅跳!C5","v":"吉村  泉咲"},{"$f":"女走幅跳!F5","v":"東中"},{"$f":"女走幅跳!E5","v":2},{"$f":"女走幅跳!N5","v":403},{"$f":"女走幅跳!C6","v":"小暮    南"},{"$f":"女走幅跳!F6","v":"西中"},{"$f":"女走幅跳!E6","v":1},{"$f":"女走幅跳!N6","v":392},{"$f":"女走幅跳!C7","v":"黛    藍那"},{"$f":"女走幅跳!F7","v":"西中"},{"$f":"女走幅跳!E7","v":1},{"$f":"女走幅跳!N7","v":370},{"$f":"女走幅跳!C8","v":"小林　遥々"},{"$f":"女走幅跳!F8","v":"小野"},{"$f":"女走幅跳!E8","v":1},{"$f":"女走幅跳!N8","v":357},{"$f":"女走幅跳!C9","v":"原田  萌百"},{"$f":"女走幅跳!F9","v":"東中"},{"$f":"女走幅跳!E9","v":2},{"$f":"女走幅跳!N9","v":353}]
["砲丸投",{"$f":"女砲丸投!C4","v":"登坂  未央"},{"$f":"女砲丸投!F4","v":"小野"},{"$f":"女砲丸投!E4","v":2},{"$f":"女砲丸投!N4","v":778},{"$f":"女砲丸投!C5","v":"松井千花子"},{"$f":"女砲丸投!F5","v":"北中"},{"$f":"女砲丸投!E5","v":2},{"$f":"女砲丸投!N5","v":743},{"$f":"女砲丸投!C6","v":"杉山  美空"},{"$f":"女砲丸投!F6","v":"小野"},{"$f":"女砲丸投!E6","v":2},{"$f":"女砲丸投!N6","v":689},{"$f":"女砲丸投!C7","v":"森本  怜来"},{"$f":"女砲丸投!F7","v":"西中"},{"$f":"女砲丸投!E7","v":1},{"$f":"女砲丸投!N7","v":683},{"$f":"女砲丸投!C8","v":"矢内  実里"},{"$f":"女砲丸投!F8","v":"北中"},{"$f":"女砲丸投!E8","v":2},{"$f":"女砲丸投!N8","v":673},{"$f":"女砲丸投!C9","v":"大岡  咲稀"},{"$f":"女砲丸投!F9","v":"東中"},{"$f":"女砲丸投!E9","v":2},{"$f":"女砲丸投!N9","v":632}]
[]
[]
["団体総合成績",null,"1位",null,null,"2位",null,"3位",null,null,"4位",null,null,"5位"]
["男子総合",null,{"$f":"得点集計!C41","v":"北中"},null,{"$f":"得点集計!D41","v":70},{"$f":"得点集計!C42","v":"小野"},{"$f":"得点集計!D42","v":68},{"$f":"得点集計!C43","v":"東中"},null,{"$f":"得点集計!D43","v":44},{"$f":"得点集計!C44","v":"西中"},null,{"$f":"得点集計!D44","v":30},{"$f":"得点集計!C45","v":"鬼石"},{"$f":"得点集計!D45","v":28}]
["女子総合",null,{"$f":"得点集計!C52","v":"小野"},null,{"$f":"得点集計!D52","v":55},{"$f":"得点集計!C53","v":"北中"},{"$f":"得点集計!D53","v":52},{"$f":"得点集計!C54","v":"鬼石"},null,{"$f":"得点集計!D54","v":41},{"$f":"得点集計!C55","v":"東中"},null,{"$f":"得点集計!D55","v":34},{"$f":"得点集計!C56","v":"西中"},{"$f":"得点集計!D56","v":27}]

{"sheet":"得点集計","index":1,"n_rows":56,"n_cols":15,"rows_kept":56,"cut":false,"hidden":false,"merged":[[0,0,0,5]]}
["得点表"]
["男子",null,null,null,null,null,null,"得点",6,5,4,3,2,1]
[null,"東中","北中","西中","小野","鬼石",null,null,"１位","２位","３位","４位","５位","６位"]
["１年100m",{"$f":"COUNTIF(I4,B$3)*6+COUNTIF(J4,B$3)*5+COUNTIF(K4,B$3)*4+COUNTIF(L4,B$3)*3+COUNTIF(M4,B$3)*2+COUNTIF(N4,B$3)*1","v":10},{"$f":"COUNTIF(I4,C$3)*6+COUNTIF(J4,C$3)*5+COUNTIF(K4,C$3)*4+COUNTIF(L4,C$3)*3+COUNTIF(M4,C$3)*2+COUNTIF(N4,C$3)*1","v":4},{"$f":"COUNTIF(I4,D$3)*6+COUNTIF(J4,D$3)*5+COUNTIF(K4,D$3)*4+COUNTIF(L4,D$3)*3+COUNTIF(M4,D$3)*2+COUNTIF(N4,D$3)*1","v":0},{"$f":"COUNTIF(I4,E$3)*6+COUNTIF(J4,E$3)*5+COUNTIF(K4,E$3)*4+COUNTIF(L4,E$3)*3+COUNTIF(M4,E$3)*2+COUNTIF(N4,E$3)*1","v":5},{"$f":"COUNTIF(I4,F$3)*6+COUNTIF(J4,F$3)*5+COUNTIF(K4,F$3)*4+COUNTIF(L4,F$3)*3+COUNTIF(M4,F$3)*2+COUNTIF(N4,F$3)*1","v":2},{"$f":"SUM(B4:F4)","v":21},"１年100m",{"$f":"成績一覧!C5","v":"東中"},{"$f":"成績一覧!G5","v":"小野"},{"$f":"成績一覧!K5","v":"東中"},{"$f":"成績一覧!O5","v":"北中"},{"$f":"成績一覧!S5","v":"鬼石"},{"$f":"成績一覧!W5","v":"北中"}]
["1年1500m",null,null,null,null,null,0,"1年1500m"]
["２年100m",0,2,5,10,4,21,"２年100m",{"$f":"成績一覧!C6","v":"小野"},{"$f":"成績一覧!G6","v":"西中"},{"$f":"成績一覧!K6","v":"小野"},{"$f":"成績一覧!O6","v":"鬼石"},{"$f":"成績一覧!S6","v":"北中"},{"$f":"成績一覧!W6","v":"鬼石"}]
["３年100m",null,null,null,null,null,{"$f":"SUM(B7:F7)","v":0},"３年100m"]
["200m",0,7,0,9,5,21,"200m",{"$f":"成績一覧!C7","v":"小野"},{"$f":"成績一覧!G7","v":"北中"},{"$f":"成績一覧!K7","v":"鬼石"},{"$f":"成績一覧!O7","v":"小野"},{"$f":"成績一覧!S7","v":"北中"},{"$f":"成績一覧!W7","v":"鬼石"}]
["400m",6,6,6,0,3,21,"400m",{"$f":"成績一覧!C8","v":"西中"},{"$f":"成績一覧!G8","v":"北中"},{"$f":"成績一覧!K8","v":"東中"},{"$f":"成績一覧!O8","v":"鬼石"},{"$f":"成績一覧!S8","v":"東中"},{"$f":"成績一覧!W8","v":"北中"}]
["800m",5,11,2,0,3,21,"800m",{"$f":"成績一覧!C9","v":"北中"},{"$f":"成績一覧!G9","v":"北中"},{"$f":"成績一覧!K9","v":"東中"},{"$f":"成績一覧!O9","v":"鬼石"},{"$f":"成績一覧!S9","v":"西中"},{"$f":"成績一覧!W9","v":"東中"}]
["1500m",{"$f":"COUNTIF(I11,B$3)*6+COUNTIF(J11,B$3)*5+COUNTIF(K11,B$3)*4+COUNTIF(L11,B$3)*3+COUNTIF(M11,B$3)*2+COUNTIF(N11,B$3)*1","v":6},9,0,4,2,21,"1500m",{"$f":"成績一覧!C10","v":"東中"},{"$f":"成績一覧!G10","v":"北中"},{"$f":"成績一覧!K10","v":"北中"},{"$f":"成績一覧!O10","v":"小野"},{"$f":"成績一覧!S10","v":"鬼石"},{"$f":"成績一覧!W10","v":"小野"}]
["3000m",7,6,0,4,3,20,"3000m",{"$f":"成績一覧!C11","v":"北中"},{"$f":"成績一覧!G11","v":"東中"},{"$f":"成績一覧!K11","v":"小野"},{"$f":"成績一覧!O11","v":"鬼石"},{"$f":"成績一覧!S11","v":"東中"},{"$f":"成績一覧!W11","v":0}]
["110mH",3,6,4,8,0,21,"110mH",{"$f":"成績一覧!C12","v":"北中"},{"$f":"成績一覧!G12","v":"小野"},{"$f":"成績一覧!K12","v":"西中"},{"$f":"成績一覧!O12","v":"小野"},{"$f":"成績一覧!S12","v":"東中"},{"$f":"成績一覧!W12","v":"東中"}]
["4×100mR",{"$f":"COUNTIF(I14,B$3)*6+COUNTIF(J14,B$3)*5+COUNTIF(K14,B$3)*4+COUNTIF(L14,B$3)*3+COUNTIF(M14,B$3)*2+COUNTIF(N14,B$3)*1","v":2},{"$f":"COUNTIF(I14,C$3)*6+COUNTIF(J14,C$3)*5+COUNTIF(K14,C$3)*4+COUNTIF(L14,C$3)*3+COUNTIF(M14,C$3)*2+COUNTIF(N14,C$3)*1","v":5},{"$f":"COUNTIF(I14,D$3)*6+COUNTIF(J14,D$3)*5+COUNTIF(K14,D$3)*4+COUNTIF(L14,D$3)*3+COUNTIF(M14,D$3)*2+COUNTIF(N14,D$3)*1","v":4},6,{"$f":"COUNTIF(I14,F$3)*6+COUNTIF(J14,F$3)*5+COUNTIF(K14,F$3)*4+COUNTIF(L14,F$3)*3+COUNTIF(M14,F$3)*2+COUNTIF(N14,F$3)*1","v":3},{"$f":"SUM(B14:F14)","v":20},"4×100mR",{"$f":"成績一覧!B13","v":"小野"},{"$f":"成績一覧!F13","v":"北中"},{"$f":"成績一覧!J13","v":"西中"},{"$f":"成績一覧!N13","v":"鬼石"},{"$f":"成績一覧!R13","v":"東中"},{"$f":"成績一覧!V13","v":0}]
["走高跳",0,0,6,5,0,11,"走高跳",{"$f":"成績一覧!C15","v":"西中"},{"$f":"成績一覧!G15","v":"小野"},{"$f":"成績一覧!K15","v":0},{"$f":"成績一覧!O15","v":0},{"$f":"成績一覧!S15","v":0},{"$f":"成績一覧!W15","v":0}]
["走幅跳",2,10,3,6,0,21,"走幅跳",{"$f":"成績一覧!C16","v":"北中"},{"$f":"成績一覧!G16","v":"小野"},{"$f":"成績一覧!K16","v":"北中"},{"$f":"成績一覧!O16","v":"西中"},{"$f":"成績一覧!S16","v":"東中"},{"$f":"成績一覧!W16","v":"小野"}]
["砲丸投",3,4,0,11,3,21,"砲丸投",{"$f":"成績一覧!C17","v":"小野"},{"$f":"成績一覧!G17","v":"小野"},{"$f":"成績一覧!K17","v":"北中"},{"$f":"成績一覧!O17","v":"鬼石"},{"$f":"成績一覧!S17","v":"東中"},{"$f":"成績一覧!W17","v":"東中"}]
["得点合計",{"$f":"SUM(B4:B17)","v":44},{"$f":"SUM(C4:C17)","v":70},{"$f":"SUM(D4:D17)","v":30},{"$f":"SUM(E4:E17)","v":68},{"$f":"SUM(F4:F17)","v":28}]
["順位",{"$f":"RANK(B18,$B$18:$F$18)","v":3},{"$f":"RANK(C18,$B$18:$F$18)","v":1},{"$f":"RANK(D18,$B$18:$F$18)","v":4},{"$f":"RANK(E18,$B$18:$F$18)","v":2},{"$f":"RANK(F18,$B$18:$F$18)","v":5}]
[]
["女子",null,null,null,null,null,null,"得点",6,5,4,3,2,1]
[null,"東中","北中","西中","小野","鬼石",null,null,"１位","２位","３位","４位","５位","６位"]
["１年100m",{"$f":"COUNTIF(I23,B$3)*6+COUNTIF(J23,B$3)*5+COUNTIF(K23,B$3)*4+COUNTIF(L23,B$3)*3+COUNTIF(M23,B$3)*2+COUNTIF(N23,B$3)*1","v":6},{"$f":"COUNTIF(I23,C$3)*6+COUNTIF(J23,C$3)*5+COUNTIF(K23,C$3)*4+COUNTIF(L23,C$3)*3+COUNTIF(M23,C$3)*2+COUNTIF(N23,C$3)*1","v":6},{"$f":"COUNTIF(I23,D$3)*6+COUNTIF(J23,D$3)*5+COUNTIF(K23,D$3)*4+COUNTIF(L23,D$3)*3+COUNTIF(M23,D$3)*2+COUNTIF(N23,D$3)*1","v":3},{"$f":"COUNTIF(I23,E$3)*6+COUNTIF(J23,E$3)*5+COUNTIF(K23,E$3)*4+COUNTIF(L23,E$3)*3+COUNTIF(M23,E$3)*2+COUNTIF(N23,E$3)*1","v":0},{"$f":"COUNTIF(I23,F$3)*6+COUNTIF(J23,F$3)*5+COUNTIF(K23,F$3)*4+COUNTIF(L23,F$3)*3+COUNTIF(M23,F$3)*2+COUNTIF(N23,F$3)*1","v":6},{"$f":"SUM(B23:F23)","v":21},"１年100m",{"$f":"成績一覧!C22","v":"鬼石"},{"$f":"成績一覧!G22","v":"北中"},{"$f":"成績一覧!K22","v":"東中"},{"$f":"成績一覧!O22","v":"西中"},{"$f":"成績一覧!S22","v":"東中"},{"$f":"成績一覧!W22","v":"北中"}]
["１年走幅跳",null,null,null,null,null,0,"１年走幅跳"]
["２年100m",2,3,1,11,4,21,"２年100m",{"$f":"成績一覧!C23","v":"小野"},{"$f":"成績一覧!G23","v":"小野"},{"$f":"成績一覧!K23","v":"鬼石"},{"$f":"成績一覧!O23","v":"北中"},{"$f":"成績一覧!S23","v":"東中"},{"$f":"成績一覧!W23","v":"西中"}]
["３年100m",null,null,null,null,null,0,"３年100m"]
["200m",4,4,2,6,5,21,"200m",{"$f":"成績一覧!C24","v":"小野"},{"$f":"成績一覧!G24","v":"鬼石"},{"$f":"成績一覧!K24","v":"北中"},{"$f":"成績一覧!O24","v":"東中"},{"$f":"成績一覧!S24","v":"西中"},{"$f":"成績一覧!W24","v":"東中"}]
["800m",2,4,0,11,4,21,"800m",{"$f":"成績一覧!C25","v":"小野"},{"$f":"成績一覧!G25","v":"小野"},{"$f":"成績一覧!K25","v":"鬼石"},{"$f":"成績一覧!O25","v":"北中"},{"$f":"成績一覧!S25","v":"東中"},{"$f":"成績一覧!W25","v":"北中"}]
["1500m",3,9,0,9,0,21,"1500m",{"$f":"成績一覧!C26","v":"北中"},{"$f":"成績一覧!G26","v":"小野"},{"$f":"成績一覧!K26","v":"小野"},{"$f":"成績一覧!O26","v":"北中"},{"$f":"成績一覧!S26","v":"東中"},{"$f":"成績一覧!W26","v":"東中"}]
["100mH",6,7,6,0,2,21,"100mH",{"$f":"成績一覧!C27","v":"東中"},{"$f":"成績一覧!G27","v":"西中"},{"$f":"成績一覧!K27","v":"北中"},{"$f":"成績一覧!O27","v":"北中"},{"$f":"成績一覧!S27","v":"鬼石"},{"$f":"成績一覧!W27","v":"西中"}]
["4×100mR",{"$f":"COUNTIF(I31,B$3)*6+COUNTIF(J31,B$3)*5+COUNTIF(K31,B$3)*4+COUNTIF(L31,B$3)*3+COUNTIF(M31,B$3)*2+COUNTIF(N31,B$3)*1","v":3},{"$f":"COUNTIF(I31,C$3)*6+COUNTIF(J31,C$3)*5+COUNTIF(K31,C$3)*4+COUNTIF(L31,C$3)*3+COUNTIF(M31,C$3)*2+COUNTIF(N31,C$3)*1","v":5},{"$f":"COUNTIF(I31,D$3)*6+COUNTIF(J31,D$3)*5+COUNTIF(K31,D$3)*4+COUNTIF(L31,D$3)*3+COUNTIF(M31,D$3)*2+COUNTIF(N31,D$3)*1","v":2},{"$f":"COUNTIF(I31,E$3)*6+COUNTIF(J31,E$3)*5+COUNTIF(K31,E$3)*4+COUNTIF(L31,E$3)*3+COUNTIF(M31,E$3)*2+COUNTIF(N31,E$3)*1","v":6},{"$f":"COUNTIF(I31,F$3)*6+COUNTIF(J31,F$3)*5+COUNTIF(K31,F$3)*4+COUNTIF(L31,F$3)*3+COUNTIF(M31,F$3)*2+COUNTIF(N31,F$3)*1","v":4},{"$f":"SUM(B31:F31)","v":20},"4×100mR",{"$f":"成績一覧!B28","v":"小野"},{"$f":"成績一覧!F28","v":"北中"},{"$f":"成績一覧!J28","v":"鬼石"},{"$f":"成績一覧!N28","v":"東中"},{"$f":"成績一覧!R28","v":"西中"},{"$f":"成績一覧!W28","v":0}]
["走高跳",1,7,{"$f":"COUNTIF(I32,D$3)*6+COUNTIF(J32,D$3)*5+COUNTIF(K32,D$3)*4+COUNTIF(L32,D$3)*3+COUNTIF(M32,D$3)*2+COUNTIF(N32,D$3)*1","v":3},{"$f":"COUNTIF(I32,E$3)*6+COUNTIF(J32,E$3)*5+COUNTIF(K32,E$3)*4+COUNTIF(L32,E$3)*3+COUNTIF(M32,E$3)*2+COUNTIF(N32,E$3)*1","v":0},10,21,"走高跳",{"$f":"成績一覧!C30","v":"鬼石"},{"$f":"成績一覧!G30","v":"北中"},{"$f":"成績一覧!K30","v":"鬼石"},{"$f":"成績一覧!O30","v":"西中"},{"$f":"成績一覧!S30","v":"北中"},{"$f":"成績一覧!W30","v":"東中"}]
["走幅跳",6,0,7,2,6,21,"走幅跳",{"$f":"成績一覧!C31","v":"鬼石"},{"$f":"成績一覧!G31","v":"東中"},{"$f":"成績一覧!K31","v":"西中"},{"$f":"成績一覧!O31","v":"西中"},{"$f":"成績一覧!S31","v":"小野"},{"$f":"成績一覧!W31","v":"東中"}]
["砲丸投",1,7,3,10,0,21,"砲丸投",{"$f":"成績一覧!C32","v":"小野"},{"$f":"成績一覧!G32","v":"北中"},{"$f":"成績一覧!K32","v":"小野"},{"$f":"成績一覧!O32","v":"西中"},{"$f":"成績一覧!S32","v":"北中"},{"$f":"成績一覧!W32","v":"東中"}]
["得点合計",{"$f":"SUM(B23:B34)","v":34},{"$f":"SUM(C23:C34)","v":52},{"$f":"SUM(D23:D34)","v":27},{"$f":"SUM(E23:E34)","v":55},{"$f":"SUM(F23:F34)","v":41}]
["順位",{"$f":"RANK(B35,$B$35:$F$35)","v":4},{"$f":"RANK(C35,$B$35:$F$35)","v":2},{"$f":"RANK(D35,$B$35:$F$35)","v":5},{"$f":"RANK(E35,$B$35:$F$35)","v":1},{"$f":"RANK(F35,$B$35:$F$35)","v":3}]
[null,null,null,null,null,null,null,"順位"]
[null,null,null,null,null,null,null,1,2,3,4,5,6,7,8]
["得点","男子"]
[null,null,"学校名","得点","順位"]
[null,null,"北中",70,1]
[null,null,"小野",68,2]
[null,null,"東中",44,3]
[null,null,"西中",30,4]
[null,null,"鬼石",28,5]
[null,null,null,null,null,null,"藤・東中"]
[null,null,null,null,null,null,"藤・北中"]
[null,null,null,null,null,null,"藤・西中"]
[null,null,null,null,null,null,"藤・小野"]
[null,"女子",null,null,null,null,"藤・鬼石"]
[null,null,"学校名","得点","順位"]
[null,null,"小野",55,1]
[null,null,"北中",52,2]
[null,null,"鬼石",41,3]
[null,null,"東中",34,4]
[null,null,"西中",27,5]

{"sheet":"エントリー","index":2,"n_rows":190,"n_cols":9,"rows_kept":190,"cut":false,"hidden":false,"merged":[]}
["男女","ゼッケン","氏　　名","フリガナ","学年","学 校","記録","種目","コード"]
[1,1592,"神谷  脩斗","ｶﾐﾔ ｼｭｳﾄ",1,"東中","0001308","1年100m","100201"]
[1,1594,"小林    翔","ｺﾊﾞﾔｼ ｼｮｳ",1,"東中","0001343","1年100m","100201"]
[1,1119,"佐藤  弘崇","ｻﾄｳ ﾋﾛﾀｶ",1,"鬼石","0001380","1年100m","100201"]
[1,1597,"前村　帝明","ﾏｴﾑﾗ　ﾀﾀﾞｱｷ",1,"北中","0001388","1年100m","100201"]
[1,1598,"齋藤　佳太","ｻｲﾄｳ　ｹｲﾀ",1,"北中","0001392","1年100m","100201"]
[1,1655,"川端　悠斗","ｶﾜﾊﾞﾀ ﾕｳﾄ",1,"小野","0001398","1年100m","100201"]
[1,1117,"相原  光貴","ｱｲﾊﾗ ｺｳｷ",1,"鬼石","0001560","1年100m","100201"]
[1,1660,"中村　柚希","ﾅｶﾑﾗ ﾕｽﾞｷ",1,"小野","0001684","1年100m","100201"]
[1,3573,"関口  大登","ｾｷｸﾞﾁ ﾀｲﾄ",2,"小野","0001135","2年100m","100202"]
[1,3517,"高山  大樹","ﾀｶﾔﾏ ﾀﾞｲｷ",2,"西中","0001246","2年100m","100202"]
[1,3510,"永岡  玖規","ﾅｶﾞｵｶ ﾋｻﾉﾘ",2,"北中","0001294","2年100m","100202"]
[1,3116,"江本    蓮","ｴﾓﾄ ﾚﾝ",2,"鬼石","0001348","2年100m","100202"]
[1,3118,"早川慎太郎","ﾊﾔｶﾜ ｼﾝﾀﾛｳ",2,"鬼石","0001350","2年100m","100202"]
[1,7301,"折原  優貴","ｵﾘﾊﾗ ﾕｳｷ",2,"小野","0001383","2年100m","100202"]
[1,3509,"坂口    旭","ｻｶｸﾞﾁ ｱｻﾋ",2,"北中","0001530","2年100m","100202"]
[1,3121,"平良  友哉","ﾀｲﾗ ﾄﾓﾔ",2,"鬼石","0001450","ｵｰﾌﾟﾝ100m","100204"]
[1,1658,"宮﨑　颯希","ﾐﾔｻﾞｷ ﾘｭｳｷ",1,"小野","0001470","ｵｰﾌﾟﾝ100m","100204"]
[1,3119,"小松  将瑛","ｺﾏﾂ ｼｮｳｴｲ",2,"鬼石","0001678","ｵｰﾌﾟﾝ100m","100204"]
[1,1662,"村山　大樹","ﾑﾗﾔﾏ ﾋﾛｷ",1,"小野","0001759","ｵｰﾌﾟﾝ100m","100204"]
[1,3573,"関口  大登","ｾｷｸﾞﾁ ﾀｲﾄ",2,"小野","0002308","共通200m","100300"]
[1,3506,"阿佐美光紀","ｱｻﾐ ｺｳｷ",2,"北中","0002695","共通200m","100300"]
[1,3118,"早川慎太郎","ﾊﾔｶﾜ ｼﾝﾀﾛｳ",2,"鬼石","0002750","共通200m","100300"]
[1,1116,"蓮  真那斗","ﾊｽ ﾏﾅﾄ",1,"鬼石","0002850","共通200m","100300"]
[1,3574,"塚越    猛","ﾂｶｺﾞｼ ﾀｹﾙ",2,"小野","0002876","共通200m","100300"]
[1,1589,"福島慎太郎","ﾌｸｼﾏ ｼﾝﾀﾛｳ",1,"東中","0002949","共通200m","100300"]
[1,1598,"齋藤　佳太","ｻｲﾄｳ　ｹｲﾀ",1,"北中","0003026","共通200m","100300"]
[1,1595,"黒澤  民愛","ｸﾛｻﾜ ﾀｲﾄ",1,"東中","0003294","共通200m","100300"]
[1,3512,"前村  明俊","ﾏｴﾑﾗ ｱｷﾄｼ",2,"北中","0005971","共通400m","100500"]
[1,3516,"倉林  航大","ｸﾗﾊﾞﾔｼ ｺｳﾀﾞｲ",2,"西中","0010100","共通400m","100500"]
[1,1592,"神谷  脩斗","ｶﾐﾔ ｼｭｳﾄ",1,"東中","0010453","共通400m","100500"]
[1,1597,"前村　帝明","ﾏｴﾑﾗ　ﾀﾀﾞｱｷ",1,"北中","0010460","共通400m","100500"]
[1,3122,"木下    奏","ｷﾉｼﾀ ｶﾅﾃﾞ",2,"鬼石","0010500","共通400m","100500"]
[1,1657,"鶴見　  颯","ﾂﾙﾐ ｿｳ",1,"小野","0011000","共通400m","100500"]
[1,1590,"望月  叡人","ﾓﾁﾂﾞｷ ｴｲﾄ",1,"東中","0011000","共通400m","100500"]
[1,3116,"江本    蓮","ｴﾓﾄ ﾚﾝ",2,"鬼石","0011500","共通400m","100500"]
[1,1658,"宮﨑　颯希","ﾐﾔｻﾞｷ ﾘｭｳｷ",1,"小野","0012000","共通400m","100500"]
[1,3507,"清水    樹","ｼﾐｽﾞ ﾀﾂｷ",2,"北中","0021954","共通800m","100600"]
[1,3577,"三塚  理貴","ﾐﾂﾂﾞｶ ﾏｻｷ",2,"小野","0022322","共通800m","100600"]
[1,3512,"前村  明俊","ﾏｴﾑﾗ ｱｷﾄｼ",2,"北中","0022446","共通800m","100600"]
[1,3122,"木下    奏","ｷﾉｼﾀ ｶﾅﾃﾞ",2,"鬼石","0023050","共通800m","100600"]
[1,1588,"中里  光希","ﾅｶｻﾞﾄ ｺｳｷ",1,"東中","0023500","共通800m","100600"]
[1,3518,"前村  徳周","ﾏｴﾑﾗ ﾉﾘﾁｶ",2,"西中","0023600","共通800m","100600"]
[1,1593,"清水  太斗","ｼﾐｽﾞ ﾀｲﾄ",1,"東中","0023706","共通800m","100600"]
[1,3515,"岩上  大地","ｲﾜｶﾞﾐ ﾀﾞｲﾁ",2,"西中","0024395","共通800m","100600"]
[1,1118,"塚越    翼","ﾂｶｺﾞｼ ﾂﾊﾞｻ",1,"鬼石","0025000","共通800m","100600"]
[1,3505,"井上  将吾","ｲﾉｳｴ ｼｮｳｺﾞ",2,"東中","0043792","共通1500m","100800"]
[1,3511,"福田  颯吾","ﾌｸﾀﾞ ｿｳｺﾞ",2,"北中","0044440","共通1500m","100800"]
[1,3507,"清水    樹","ｼﾐｽﾞ ﾀﾂｷ",2,"北中","0045978","共通1500m","100800"]
[1,3576,"柳澤  佑太","ﾔﾅｷﾞｻﾜ ﾕｳﾀ",2,"小野","0050454","共通1500m","100800"]
[1,3117,"武藤  遥歩","ﾑﾄｳ ｱﾕﾑ",2,"鬼石","0051000","共通1500m","100800"]
[1,1593,"清水  太斗","ｼﾐｽﾞ ﾀｲﾄ",1,"東中","0051652","共通1500m","100800"]
[1,1654,"設楽　  嶺","ｼﾀﾗ ﾚｲ",1,"小野","0051992","共通1500m","100800"]
[1,3518,"前村  徳周","ﾏｴﾑﾗ ﾉﾘﾁｶ",2,"西中","0052900","共通1500m","100800"]
[1,1118,"塚越    翼","ﾂｶｺﾞｼ ﾂﾊﾞｻ",1,"鬼石","0054000","共通1500m","100800"]
[1,3505,"井上  将吾","ｲﾉｳｴ ｼｮｳｺﾞ",2,"東中","0100620","共通3000m","101000"]
[1,3509,"坂口    旭","ｻｶｸﾞﾁ ｱｻﾋ",2,"北中","0100737","共通3000m","101000"]
[1,3576,"柳澤  佑太","ﾔﾅｷﾞｻﾜ ﾕｳﾀ",2,"小野","0110850","共通3000m","101000"]
[1,3117,"武藤  遥歩","ﾑﾄｳ ｱﾕﾑ",2,"鬼石","0112500","共通3000m","101000"]
[1,1588,"中里  光希","ﾅｶｻﾞﾄ ｺｳｷ",1,"東中","0131500","共通3000m","101000"]
[1,208,"並木　達也","ﾅﾐｷ ﾀﾂﾔ",3,"小野",0,"ｵｰﾌﾟﾝ3000m","101004"]
[1,208,"高津　光輝","ﾀｶﾂ ﾋｶﾙ",3,"小野",0,"ｵｰﾌﾟﾝ3000m","101004"]
[1,208,"市毛　龍之介","ｲﾁｹﾞ ﾘｭｳﾉｽｹ",3,"小野",0,"ｵｰﾌﾟﾝ3000m","101004"]
[1,208,"岡本　陸","ｵｶﾓﾄ ﾘｸ",3,"小野",0,"ｵｰﾌﾟﾝ3000m","101004"]
[1,208,"矢島　優芽","ﾔｼﾞﾏ ﾕｳｶﾞ",3,"小野",0,"ｵｰﾌﾟﾝ3000m","101004"]
[1,208,"黒澤　秀那","ｸﾛｻﾜ ｼｭｳﾅ",3,"小野",0,"ｵｰﾌﾟﾝ3000m","101004"]
[1,208,"中野　勢大","ﾅｶﾉ ｾﾀﾞｲ",3,"小野",0,"ｵｰﾌﾟﾝ3000m","101004"]
[1,5561,"富沢  春斗","ﾄﾐｻﾞﾜ ﾊﾙﾄ",3,"小野",0,"ｵｰﾌﾟﾝ3000m","101004"]
[1,169,"馬淵　大輔","ﾏﾌﾞﾁ ﾀﾞｲｽｹ",3,"北中",0,"ｵｰﾌﾟﾝ3000m","101004"]
[1,169,"山口　生馬","ﾔﾏｸﾞﾁ ｲｸﾏ",3,"北中",0,"ｵｰﾌﾟﾝ3000m","101004"]
[1,169,"高橋　誠心","ﾀｶﾊｼ ｾｲｼﾝ",3,"北中",0,"ｵｰﾌﾟﾝ3000m","101004"]
[1,169,"高橋　大貴","ﾀｶﾊｼ ﾋﾛｷ",3,"北中",0,"ｵｰﾌﾟﾝ3000m","101004"]
[1,169,"澤入　  澪","ｻﾜｲﾘ ﾚｲ",3,"北中",0,"ｵｰﾌﾟﾝ3000m","101004"]
[1,5499,"渡辺  喬介","ﾜﾀﾅﾍﾞ ｷｮｳｽｹ",3,"北中","0091166","ｵｰﾌﾟﾝ3000m","101004"]
[1,5504,"塚本    錬","ﾂｶﾓﾄ ﾚﾝ",3,"北中","0095529","ｵｰﾌﾟﾝ3000m","101004"]
[1,5505,"外処  力生","ﾄﾄﾞｺﾛ ﾘｷ",3,"北中","0095783","ｵｰﾌﾟﾝ3000m","101004"]
[1,5501,"原    龍生","ﾊﾗ ﾘｭｳｾｲ",3,"北中","0100536","ｵｰﾌﾟﾝ3000m","101004"]
[1,3513,"中井  大地","ﾅｶｲ ﾀﾞｲﾁ",2,"北中","0001961","共通110mH","103200"]
[1,3574,"塚越    猛","ﾂｶｺﾞｼ ﾀｹﾙ",2,"小野","0002003","共通110mH","103200"]
[1,1655,"川端　悠斗","ｶﾜﾊﾞﾀ ﾕｳﾄ",1,"小野","0002100","共通110mH","103200"]
[1,3515,"岩上  大地","ｲﾜｶﾞﾐ ﾀﾞｲﾁ",2,"西中","0002122","共通110mH","103200"]
[1,1590,"望月  叡人","ﾓﾁﾂﾞｷ ｴｲﾄ",1,"東中","0002137","共通110mH","103200"]
[1,1591,"小坂  青羽","ｺｻｶ ｱｵﾊﾞ",1,"東中","0002400","共通110mH","103200"]
[1,1596,"小河原蓮太","ｵｶﾞﾜﾗ　ﾚﾝﾀ",1,"北中","00120","共通走高跳","107100"]
[1,1659,"阿部　一貫","ｱﾍﾞ ｲｯｶﾝ",1,"小野","00130","共通走高跳","107100"]
[1,3516,"倉林  航大","ｸﾗﾊﾞﾔｼ ｺｳﾀﾞｲ",2,"西中","00173","共通走高跳","107100"]
[1,1591,"小坂  青羽","ｺｻｶ ｱｵﾊﾞ",1,"東中","00294","共通走幅跳","107300"]
[1,1657,"鶴見　  颯","ﾂﾙﾐ ｿｳ",1,"小野","00332","共通走幅跳","107300"]
[1,1117,"相原  光貴","ｱｲﾊﾗ ｺｳｷ",1,"鬼石","00375","共通走幅跳","107300"]
[1,1119,"佐藤  弘崇","ｻﾄｳ ﾋﾛﾀｶ",1,"鬼石","00420","共通走幅跳","107300"]
[1,1594,"小林    翔","ｺﾊﾞﾔｼ ｼｮｳ",1,"東中","00440","共通走幅跳","107300"]
[1,3517,"高山  大樹","ﾀｶﾔﾏ ﾀﾞｲｷ",2,"西中","00451","共通走幅跳","107300"]
[1,3575,"島崎  勝志","ｼﾏｻﾞｷ ﾏｻｼ",2,"小野","00517","共通走幅跳","107300"]
[1,3513,"中井  大地","ﾅｶｲ ﾀﾞｲﾁ",2,"北中","00520","共通走幅跳","107300"]
[1,3510,"永岡  玖規","ﾅｶﾞｵｶ ﾋｻﾉﾘ",2,"北中","00522","共通走幅跳","107300"]
[1,1661,"山本　彪瑠","ﾔﾏﾓﾄ ﾀｹﾙ",1,"小野","00328","ｵｰﾌﾟﾝ走幅跳","107304"]
[1,1595,"黒澤  民愛","ｸﾛｻﾜ ﾀｲﾄ",1,"東中","00488","共通砲丸投","108000"]
[1,1589,"福島慎太郎","ﾌｸｼﾏ ｼﾝﾀﾛｳ",1,"東中","00611","共通砲丸投","108000"]
[1,3120,"宮前飛佳瑠","ﾐﾔﾏｴ ﾋｶﾙ",2,"鬼石","00696","共通砲丸投","108000"]
[1,3575,"島崎  勝志","ｼﾏｻﾞｷ ﾏｻｼ",2,"小野","00718","共通砲丸投","108000"]
[1,3514,"田向    凜","ﾀﾑｶｲ ﾘﾝ",2,"北中","00724","共通砲丸投","108000"]
[1,3506,"阿佐美光紀","ｱｻﾐ ｺｳｷ",2,"北中","00750","共通砲丸投","108000"]
[1,7301,"折原  優貴","ｵﾘﾊﾗ ﾕｳｷ",2,"小野","00900","共通砲丸投","108000"]
[2,2085,"大澤  真希","ｵｵｻﾜ ﾏｷ",1,"鬼石","0001467","1年100m","200201"]
[2,2447,"山下　奈緒","ﾔﾏｼﾀ　ﾅｵ",1,"北中","0001478","1年100m","200201"]
[2,2453,"黛    藍那","ﾏﾕｽﾞﾐ ﾗﾅ",1,"西中","0001502","1年100m","200201"]
[2,2443,"久保  詩織","ｸﾎﾞ ｼｵﾘ",1,"東中","0001513","1年100m","200201"]
[2,2444,"大岡  美鈴","ｵｵｵｶ ﾐｽｽﾞ",1,"東中","0001573","1年100m","200201"]
[2,2448,"田替藤萌衣","ﾀｶﾞｴﾄ　ﾒｲ",1,"北中","0001609","1年100m","200201"]
[2,2450,"森本  怜来","ﾓﾘﾓﾄ ﾚｲﾗ",1,"西中","0001651","1年100m","200201"]
[2,4519,"登坂  未央","ﾄｻｶ ﾐｵ",2,"小野","0001346","2年100m","200202"]
[2,4089,"三木紗季帆","ﾐｷ ｻｷﾎ",2,"鬼石","0001389","2年100m","200202"]
[2,4454,"柳田    葵","ﾔﾅｷﾞﾀﾞ ｱｵｲ",2,"北中","0001410","2年100m","200202"]
[2,4525,"金井  萌花","ｶﾅｲ ﾎﾉｶ",2,"小野","0001424","2年100m","200202"]
[2,4455,"根岸  美羽","ﾈｷﾞｼ ﾐｳ",2,"北中","0001452","2年100m","200202"]
[2,4445,"原田  萌百","ﾊﾗﾀﾞ ﾓﾓ",2,"東中","0001540","2年100m","200202"]
[2,4457,"佐藤    遥","ｻﾄｳ ﾊﾙｶ",2,"西中","0001541","2年100m","200202"]
[2,4459,"林    杏奈","ﾊﾔｼ ｱﾝﾅ",2,"西中","0001564","2年100m","200202"]
[2,4440,"大岡  咲稀","ｵｵｵｶ ｻｷ",2,"東中","0001627","2年100m","200202"]
[2,4449,"矢内  実里","ﾔﾅｲ ﾐｻﾄ",2,"北中","0001554","ｵｰﾌﾟﾝ100m","200204"]
[2,4450,"林    朱理","ﾊﾔｼ ｱｶﾘ",2,"北中","00001563","ｵｰﾌﾟﾝ100m","200204"]
[2,4452,"林    茜音","ﾊﾔｼ ｱｶﾈ",2,"北中","0001596","ｵｰﾌﾟﾝ100m","200204"]
[2,2449,"関口　  優","ｾｷｸﾞﾁ　ﾕｳ",1,"北中","0001936","ｵｰﾌﾟﾝ100m","200204"]
[2,4089,"三木紗季帆","ﾐｷ ｻｷﾎ",2,"鬼石","0002900","共通200m","200300"]
[2,4525,"金井  萌花","ｶﾅｲ ﾎﾉｶ",2,"小野","0002902","共通200m","200300"]
[2,4442,"澤里  莉芽","ｻﾜｻﾄ ﾘﾒ",2,"東中","0002998","共通200m","200300"]
[2,4441,"吉村  泉咲","ﾖｼﾑﾗ ﾐｻｷ",2,"東中","0003050","共通200m","200300"]
[2,4520,"藤田  夏美","ﾌｼﾞﾀ ﾅﾂﾐ",2,"小野","0003081","共通200m","200300"]
[2,4454,"柳田    葵","ﾔﾅｷﾞﾀﾞ ｱｵｲ",2,"北中","0003094","共通200m","200300"]
[2,4460,"大野  瀬奈","ｵｵﾉ ｾﾅ",2,"西中","0003134","共通200m","200300"]
[2,2447,"山下　奈緒","ﾔﾏｼﾀ　ﾅｵ",1,"北中","0003321","共通200m","200300"]
[2,2452,"和田  夏梨","ﾜﾀﾞ ｶﾘﾝ",1,"西中","0003595","共通200m","200300"]
[2,4460,"大野  瀬奈","ｵｵﾉ ｾﾅ",2,"西中","0023400","共通800m","200600"]
[2,4091,"滝川  真紀","ﾀｷｶﾞﾜ ﾏｷ",2,"鬼石","0023500","共通800m","200600"]
[2,4453,"渡邉安夕音","ﾜﾀﾅﾍﾞ ｱﾕﾈ",2,"北中","0023500","共通800m","200600"]
[2,4523,"須田  菜緒","ｽﾀﾞ ﾅｵ",2,"小野","0023538","共通800m","200600"]
[2,4447,"田口  光梨","ﾀｸﾞﾁ ﾋｶﾘ",2,"北中","0024097","共通800m","200600"]
[2,4520,"藤田  夏美","ﾌｼﾞﾀ ﾅﾂﾐ",2,"小野","0024102","共通800m","200600"]
[2,4443,"齋藤  真由","ｻｲﾄｳ ﾏﾕ",2,"東中","0024489","共通800m","200600"]
[2,4444,"大澤  里奈","ｵｵｻﾜ ﾘﾅ",2,"東中","0024904","共通800m","200600"]
[2,2445,"清水　華帆","ｼﾐｽﾞ　ｶﾎ",1,"北中","0022350","ｵｰﾌﾟﾝ800m","200604"]
[2,2445,"清水　華帆","ｼﾐｽﾞ　ｶﾎ",1,"北中","0045242","共通1500m","200800"]
[2,4523,"須田  菜緒","ｽﾀﾞ ﾅｵ",2,"小野","0050757","共通1500m","200800"]
[2,4453,"渡邉安夕音","ﾜﾀﾅﾍﾞ ｱﾕﾈ",2,"北中","0052500","共通1500m","200800"]
[2,4521,"臼田あかり","ｳｽﾀﾞ ｱｶﾘ",2,"小野","0052853","共通1500m","200800"]
[2,4443,"齋藤  真由","ｻｲﾄｳ ﾏﾕ",2,"東中","0053796","共通1500m","200800"]
[2,4444,"大澤  里奈","ｵｵｻﾜ ﾘﾅ",2,"東中","0055002","共通1500m","200800"]
[2,169,"中村　真菜","ﾅｶﾑﾗ ﾏﾅ",3,"北中",0,"ｵｰﾌﾟﾝ1500m","200804"]
[2,169,"青木　優依","ｱｵｷ ﾕｲ",3,"北中",0,"ｵｰﾌﾟﾝ1500m","200804"]
[2,169,"斎藤あさひ","ｻｲﾄｳ ｱｻﾋ",3,"北中",0,"ｵｰﾌﾟﾝ1500m","200804"]
[2,7675,"北條　舞奈","ﾎｳｼﾞｮｳ ﾏﾅ",3,"小野","0051400","ｵｰﾌﾟﾝ1500m","200804"]
[2,6079,"塚越  未結","ﾂｶｺﾞｼ ﾐﾕｳ",3,"鬼石","0051600","ｵｰﾌﾟﾝ1500m","200804"]
[2,6514,"櫻井さりな","ｻｸﾗｲ ｻﾘﾅ",3,"小野","0052000","ｵｰﾌﾟﾝ1500m","200804"]
[2,7676,"宮地　舞優","ﾐﾔﾁﾞ ﾏﾋﾛ",3,"小野","0052500","ｵｰﾌﾟﾝ1500m","200804"]
[2,2086,"布施  彩奈","ﾌｾ ｻﾅ",1,"鬼石","0001900","共通100mH","203200"]
[2,4459,"林    杏奈","ﾊﾔｼ ｱﾝﾅ",2,"西中","0002060","共通100mH","203200"]
[2,2451,"小暮    南","ｺｸﾞﾚ ﾐﾅﾐ",1,"西中","0001504","共通100mH","204200"]
[2,4446,"鈴木  紅奈","ｽｽﾞｷ ｸﾚﾅ",2,"東中","0001831","共通100mH","204200"]
[2,4450,"林    朱理","ﾊﾔｼ ｱｶﾘ",2,"北中","0001837","共通100mH","204200"]
[2,4456,"浅見  怜美","ｱｻﾐ ﾚﾐ",2,"北中","0001929","共通100mH","204200"]
[2,4518,"杉山  美空","ｽｷﾞﾔﾏ ｿﾗ",2,"小野","0002105","共通100mH","204200"]
[2,2443,"久保  詩織","ｸﾎﾞ ｼｵﾘ",1,"東中","0002400","共通100mH","204200"]
[2,4524,"小林  紫花","ｺﾊﾞﾔｼ ｽﾐﾚ",2,"小野","0002400","共通100mH","204200"]
[2,2085,"大澤  真希","ｵｵｻﾜ ﾏｷ",1,"鬼石","00120","共通走高跳","207100"]
[2,2444,"大岡  美鈴","ｵｵｵｶ ﾐｽｽﾞ",1,"東中","00125","共通走高跳","207100"]
[2,4451,"瀬下  結生","ｾｼﾞﾓ ﾕｲ",2,"北中","00125","共通走高跳","207100"]
[2,4091,"滝川  真紀","ﾀｷｶﾞﾜ ﾏｷ",2,"鬼石","00130","共通走高跳","207100"]
[2,4446,"鈴木  紅奈","ｽｽﾞｷ ｸﾚﾅ",2,"東中","00135","共通走高跳","207100"]
[2,4456,"浅見  怜美","ｱｻﾐ ﾚﾐ",2,"北中","00135","共通走高跳","207100"]
[2,4457,"佐藤    遥","ｻﾄｳ ﾊﾙｶ",2,"西中","00140","共通走高跳","207100"]
[2,2453,"黛    藍那","ﾏﾕｽﾞﾐ ﾗﾅ",1,"西中","00350","共通走幅跳","207300"]
[2,4452,"林    茜音","ﾊﾔｼ ｱｶﾈ",2,"北中","00358","共通走幅跳","207300"]
[2,4445,"原田  萌百","ﾊﾗﾀﾞ ﾓﾓ",2,"東中","00374","共通走幅跳","207300"]
[2,4522,"小柴  星楽","ｺｼﾊﾞ ｾｲﾗ",2,"小野","00378","共通走幅跳","207300"]
[2,2502,"小林　遥々","ｺﾊﾞﾔｼ ﾉﾉ",1,"小野","00391","共通走幅跳","207300"]
[2,2451,"小暮    南","ｺｸﾞﾚ ﾐﾅﾐ",1,"西中","00400","共通走幅跳","207300"]
[2,4441,"吉村  泉咲","ﾖｼﾑﾗ ﾐｻｷ",2,"東中","00429","共通走幅跳","207300"]
[2,4451,"瀬下  結生","ｾｼﾞﾓ ﾕｲ",2,"北中","00433","共通走幅跳","207300"]
[2,2086,"布施  彩奈","ﾌｾ ｻﾅ",1,"鬼石","00439","共通走幅跳","207300"]
[2,2448,"田替藤萌衣","ﾀｶﾞｴﾄ　ﾒｲ",1,"北中","00382","ｵｰﾌﾟﾝ走幅跳","207304"]
[2,4442,"澤里  莉芽","ｻﾜｻﾄ ﾘﾒ",2,"東中","00500","共通砲丸投","208000"]
[2,4518,"杉山  美空","ｽｷﾞﾔﾏ ｿﾗ",2,"小野","00600","共通砲丸投","208000"]
[2,2452,"和田  夏梨","ﾜﾀﾞ ｶﾘﾝ",1,"西中","00650","共通砲丸投","208000"]
[2,4440,"大岡  咲稀","ｵｵｵｶ ｻｷ",2,"東中","00682","共通砲丸投","208000"]
[2,2450,"森本  怜来","ﾓﾘﾓﾄ ﾚｲﾗ",1,"西中","00700","共通砲丸投","208000"]
[2,4448,"松井千花子","ﾏﾂｲ ﾁｶｺ",2,"北中","00767","共通砲丸投","208000"]
[2,4519,"登坂  未央","ﾄｻｶ ﾐｵ",2,"小野","00800","共通砲丸投","208000"]
[2,4449,"矢内  実里","ﾔﾅｲ ﾐｻﾄ",2,"北中",null,"共通砲丸投","208000"]
[2,2449,"関口　  優","ｾｷｸﾞﾁ　ﾕｳ",1,"北中","00607","ｵｰﾌﾟﾝ砲丸投","208004"]
[2,4524,"小林  紫花","ｺﾊﾞﾔｼ ｽﾐﾚ",2,"小野","00627","ｵｰﾌﾟﾝ砲丸投","208004"]

{"sheet":"女１年100m","index":3,"n_rows":10,"n_cols":10,"rows_kept":10,"cut":false,"hidden":false,"merged":[]}
["女子１年１００ｍ"]
[]
["組","ﾚｰﾝ","ﾅﾝﾊﾞｰ","氏　　名","ﾌﾘｶﾞﾅ","年","所属","記　録","組順","総合"]
[1,4,2085,"大澤  真希","ｵｵｻﾜ ﾏｷ",1,"鬼石",1460,1,1]
[1,5,2447,"山下　奈緒","ﾔﾏｼﾀ　ﾅｵ",1,"北中",1484,2,2]
[1,6,2443,"久保  詩織","ｸﾎﾞ ｼｵﾘ",1,"東中",1521,3,3]
[1,3,2453,"黛    藍那","ﾏﾕｽﾞﾐ ﾗﾅ",1,"西中",1556,4,4]
[2,4,2444,"大岡  美鈴","ｵｵｵｶ ﾐｽｽﾞ",1,"東中",1618,1,5]
[2,5,2448,"田替藤萌衣","ﾀｶﾞｴﾄ　ﾒｲ",1,"北中",1647,2,6]
[2,3,2450,"森本  怜来","ﾓﾘﾓﾄ ﾚｲﾗ",1,"西中",1685,3,7]

{"sheet":"女２年100m","index":4,"n_rows":12,"n_cols":10,"rows_kept":12,"cut":false,"hidden":false,"merged":[]}
["女子２年１００ｍ"]
[]
["組","ﾚｰﾝ","ﾅﾝﾊﾞｰ","氏　　名","ﾌﾘｶﾞﾅ","年","所属","記　録","組順","総合"]
[1,4,4519,"登坂  未央","ﾄｻｶ ﾐｵ",2,"小野",1392,1,1]
[1,6,4525,"金井  萌花","ｶﾅｲ ﾎﾉｶ",2,"小野",1406,2,2]
[1,5,4089,"三木紗季帆","ﾐｷ ｻｷﾎ",2,"鬼石",1449,3,3]
[1,3,4454,"柳田    葵","ﾔﾅｷﾞﾀﾞ ｱｵｲ",2,"北中",1484,4,4]
[2,4,4445,"原田  萌百","ﾊﾗﾀﾞ ﾓﾓ",2,"東中",1600,1,5]
[2,3,4459,"林    杏奈","ﾊﾔｼ ｱﾝﾅ",2,"西中",1603,2,6]
[2,6,4440,"大岡  咲稀","ｵｵｵｶ ｻｷ",2,"東中",1672,3,7]
[1,2,4455,"根岸  美羽","ﾈｷﾞｼ ﾐｳ",2,"北中","DNS"]
[2,5,4457,"佐藤    遥","ｻﾄｳ ﾊﾙｶ",2,"西中","DNS"]

{"sheet":"女200m","index":5,"n_rows":12,"n_cols":10,"rows_kept":12,"cut":false,"hidden":false,"merged":[]}
["女子共通２００ｍ"]
[]
["組","ﾚｰﾝ","ﾅﾝﾊﾞｰ","氏　　名","ﾌﾘｶﾞﾅ","年","所属","記　録","組順","総合"]
[1,5,4525,"金井  萌花","ｶﾅｲ ﾎﾉｶ",2,"小野",2882,1,1]
[1,4,4089,"三木紗季帆","ﾐｷ ｻｷﾎ",2,"鬼石",2977,2,2]
[2,3,2447,"山下　奈緒","ﾔﾏｼﾀ　ﾅｵ",1,"北中",3117,1,3]
[1,6,4441,"吉村  泉咲","ﾖｼﾑﾗ ﾐｻｷ",2,"東中",3144,3,4]
[2,5,4460,"大野  瀬奈","ｵｵﾉ ｾﾅ",2,"西中",3227,2,5]
[1,3,4442,"澤里  莉芽","ｻﾜｻﾄ ﾘﾒ",2,"東中",3239,4,6]
[1,2,4520,"藤田  夏美","ﾌｼﾞﾀ ﾅﾂﾐ",2,"小野","DNS"]
[2,4,4454,"柳田    葵","ﾔﾅｷﾞﾀﾞ ｱｵｲ",2,"北中","DNS"]
[2,6,2452,"和田  夏梨","ﾜﾀﾞ ｶﾘﾝ",1,"西中","DNS"]

{"sheet":"女800m","index":6,"n_rows":11,"n_cols":9,"rows_kept":11,"cut":false,"hidden":false,"merged":[]}
["女子共通８００ｍ"]
[]
["組","ﾚｰﾝ","ﾅﾝﾊﾞｰ","氏　　名","ﾌﾘｶﾞﾅ","年","所属","記　録","順位"]
[1,6,4523,"須田  菜緒","ｽﾀﾞ ﾅｵ",2,"小野",23486,1]
[1,2,4520,"藤田  夏美","ﾌｼﾞﾀ ﾅﾂﾐ",2,"小野",24155,2]
[1,4,4091,"滝川  真紀","ﾀｷｶﾞﾜ ﾏｷ",2,"鬼石",25159,3]
[1,5,4453,"渡邉安夕音","ﾜﾀﾅﾍﾞ ｱﾕﾈ",2,"北中",25920,4]
[1,5,4444,"大澤  里奈","ｵｵｻﾜ ﾘﾅ",2,"東中",25949,5]
[1,7,4447,"田口  光梨","ﾀｸﾞﾁ ﾋｶﾘ",2,"北中",30723,6]
[1,3,4460,"大野  瀬奈","ｵｵﾉ ｾﾅ",2,"西中","DNS"]
[1,6,4443,"齋藤  真由","ｻｲﾄｳ ﾏﾕ",2,"東中","DNS"]

{"sheet":"女３年1500m","index":7,"n_rows":10,"n_cols":9,"rows_kept":10,"cut":false,"hidden":false,"merged":[]}
["女子３年１５００ｍ"]
[]
["組","ﾚｰﾝ","ﾅﾝﾊﾞｰ","氏　　名","ﾌﾘｶﾞﾅ","年","所属","記　録","順位"]
[1,2,7675,"北條　舞奈","ﾎｳｼﾞｮｳ ﾏﾅ",3,"小野",52813,1]
[1,3,6079,"塚越  未結","ﾂｶｺﾞｼ ﾐﾕｳ",3,"鬼石",52865,2]
[1,4,6514,"櫻井さりな","ｻｸﾗｲ ｻﾘﾅ",3,"小野",55012,3]
[1,5,169,"中村　真菜","ﾅｶﾑﾗ ﾏﾅ",3,"北中","DNS"]
[1,6,7676,"宮地　舞優","ﾐﾔﾁﾞ ﾏﾋﾛ",3,"小野",55105,4]
[1,7,169,"青木　優依","ｱｵｷ ﾕｲ",3,"北中","DNS"]
[1,1,169,"斎藤あさひ","ｻｲﾄｳ ｱｻﾋ",3,"北中","DNS"]

{"sheet":"女1500m","index":8,"n_rows":9,"n_cols":9,"rows_kept":9,"cut":false,"hidden":false,"merged":[]}
["女子共通１５００ｍ"]
[]
["組","ﾚｰﾝ","ﾅﾝﾊﾞｰ","氏　　名","ﾌﾘｶﾞﾅ","年","所属","記　録","順位"]
[1,2,2445,"清水　華帆","ｼﾐｽﾞ　ｶﾎ",1,"北中",51823,1]
[1,3,4523,"須田  菜緒","ｽﾀﾞ ﾅｵ",2,"小野",52088,2]
[1,5,4521,"臼田あかり","ｳｽﾀﾞ ｱｶﾘ",2,"小野",54659,3]
[1,4,4453,"渡邉安夕音","ﾜﾀﾅﾍﾞ ｱﾕﾈ",2,"北中",54945,4]
[1,7,4444,"大澤  里奈","ｵｵｻﾜ ﾘﾅ",2,"東中",60454,5]
[1,6,4443,"齋藤  真由","ｻｲﾄｳ ﾏﾕ",2,"東中",61936,6]

{"sheet":"女100mH","index":9,"n_rows":12,"n_cols":10,"rows_kept":12,"cut":false,"hidden":false,"merged":[]}
["女子共通１００ｍＨ"]
[]
["組","ﾚｰﾝ","ﾅﾝﾊﾞｰ","氏　　名","ﾌﾘｶﾞﾅ","年","所属","記　録","組順","総合"]
[1,5,4446,"鈴木  紅奈","ｽｽﾞｷ ｸﾚﾅ",2,"東中",1812,1,1]
[1,4,2451,"小暮    南","ｺｸﾞﾚ ﾐﾅﾐ",1,"西中",1833,2,2]
[1,6,4456,"浅見  怜美","ｱｻﾐ ﾚﾐ",2,"北中",1852,3,3]
[1,3,4450,"林    朱理","ﾊﾔｼ ｱｶﾘ",2,"北中",1887,4,4]
[1,2,2086,"布施  彩奈","ﾌｾ ｻﾅ",1,"鬼石",1898,5,5]
[2,4,4459,"林    杏奈","ﾊﾔｼ ｱﾝﾅ",2,"西中",2029,1,6]
[2,5,4518,"杉山  美空","ｽｷﾞﾔﾏ ｿﾗ",2,"小野",2124,2,7]
[2,6,2443,"久保  詩織","ｸﾎﾞ ｼｵﾘ",1,"東中",2176,3,8]
[2,3,4524,"小林  紫花","ｺﾊﾞﾔｼ ｽﾐﾚ",2,"小野",2199,4,9]

{"sheet":"女走高跳","index":10,"n_rows":10,"n_cols":38,"rows_kept":10,"cut":false,"hidden":false,"merged":[[2,24,2,26],[2,27,2,29],[2,33,2,35],[2,6,2,8],[2,9,2,11],[2,12,2,14],[2,15,2,17],[2,18,2,20],[2,21,2,23],[2,30,2,32]]}
["女子共通走高跳"]
[]
["試技順","ﾅﾝﾊﾞｰ","氏　　名","ﾌﾘｶﾞﾅ","年","所属",110,null,null,115,null,null,120,null,null,125,null,null,130,null,null,135,null,null,140,null,null,145,null,null,150,null,null,null,null,null,"記　録","順位"]
[4,4091,"滝川  真紀","ﾀｷｶﾞﾜ ﾏｷ",2,"鬼石","○",null,null,"○",null,null,"○",null,null,"○",null,null,"×","○",null,"×","○",null,"×","×","×",null,null,null,null,null,null,null,null,null,135,1]
[6,4456,"浅見  怜美","ｱｻﾐ ﾚﾐ",2,"北中",null,null,null,"○",null,null,"○",null,null,"○",null,null,"×","×","○","×","×","×",null,null,null,null,null,null,null,null,null,null,null,null,130,2]
[1,2085,"大澤  真希","ｵｵｻﾜ ﾏｷ",1,"鬼石","○",null,null,"○",null,null,"○",null,null,"○",null,null,"×","×","×",null,null,null,null,null,null,null,null,null,null,null,null,null,null,null,125,3]
[7,4457,"佐藤    遥","ｻﾄｳ ﾊﾙｶ",2,"西中","○",null,null,"○",null,null,"○",null,null,"×","×","×",null,null,null,null,null,null,null,null,null,null,null,null,null,null,null,null,null,null,120,4]
[3,4451,"瀬下  結生","ｾｼﾞﾓ ﾕｲ",2,"北中","○",null,null,"○",null,null,"×","×","×",null,null,null,null,null,null,null,null,null,null,null,null,null,null,null,null,null,null,null,null,null,115,5]
[5,4446,"鈴木  紅奈","ｽｽﾞｷ ｸﾚﾅ",2,"東中",null,null,null,"×","○",null,"×","×","×",null,null,null,null,null,null,null,null,null,null,null,null,null,null,null,null,null,null,null,null,null,115,6]
[2,2444,"大岡  美鈴","ｵｵｵｶ ﾐｽｽﾞ",1,"東中","×","○",null,"×","×","×",null,null,null,null,null,null,null,null,null,null,null,null,null,null,null,null,null,null,null,null,null,null,null,null,110,7]

{"sheet":"女走幅跳","index":11,"n_rows":12,"n_cols":15,"rows_kept":12,"cut":false,"hidden":false,"merged":[]}
["女子共通走幅跳"]
[]
["試技順","ﾅﾝﾊﾞｰ","氏　　名","ﾌﾘｶﾞﾅ","年","所属",1,2,3,"３回目まで\nのベスト",4,5,6,"記　録","順位"]
[9,2086,"布施  彩奈","ﾌｾ ｻﾅ",1,"鬼石","F",391,408,{"$f":"MAX(G4:I4)","v":408},null,null,null,{"$f":"MAX(G4:I4)","v":408},1]
[7,4441,"吉村  泉咲","ﾖｼﾑﾗ ﾐｻｷ",2,"東中",403,393,392,403,null,null,null,403,2]
[6,2451,"小暮    南","ｺｸﾞﾚ ﾐﾅﾐ",1,"西中",392,"F",381,392,null,null,null,392,3]
[1,2453,"黛    藍那","ﾏﾕｽﾞﾐ ﾗﾅ",1,"西中",370,302,356,370,null,null,null,370,4]
[5,2502,"小林　遥々","ｺﾊﾞﾔｼ ﾉﾉ",1,"小野",357,352,355,357,null,null,null,357,5]
[3,4445,"原田  萌百","ﾊﾗﾀﾞ ﾓﾓ",2,"東中",353,327,336,353,null,null,null,353,6]
[2,4452,"林    茜音","ﾊﾔｼ ｱｶﾈ",2,"北中",328,303,302,328,null,null,null,328,7]
[4,4522,"小柴  星楽","ｺｼﾊﾞ ｾｲﾗ",2,"小野","DNS",null,null,0,null,null,null,0]
[8,4451,"瀬下  結生","ｾｼﾞﾓ ﾕｲ",2,"北中","F","F","F",0,null,null,null,0]

{"sheet":"女砲丸投","index":12,"n_rows":11,"n_cols":15,"rows_kept":11,"cut":false,"hidden":false,"merged":[]}
["女子共通砲丸投"]
[]
["試技順","ﾅﾝﾊﾞｰ","氏　　名","ﾌﾘｶﾞﾅ","年","所属",1,2,3,"３回目まで\nのベスト",4,5,6,"記　録","順位"]
[8,4519,"登坂  未央","ﾄｻｶ ﾐｵ",2,"小野",757,767,778,{"$f":"MAX(G4:I4)","v":778},null,null,null,{"$f":"MAX(G4:I4)","v":778},1]
[7,4448,"松井千花子","ﾏﾂｲ ﾁｶｺ",2,"北中",743,739,730,743,null,null,null,743,2]
[3,4518,"杉山  美空","ｽｷﾞﾔﾏ ｿﾗ",2,"小野",679,683,689,689,null,null,null,689,3]
[6,2450,"森本  怜来","ﾓﾘﾓﾄ ﾚｲﾗ",1,"西中",668,632,683,683,null,null,null,683,4]
[1,4449,"矢内  実里","ﾔﾅｲ ﾐｻﾄ",2,"北中",660,647,673,673,null,null,null,673,5]
[5,4440,"大岡  咲稀","ｵｵｵｶ ｻｷ",2,"東中",615,632,627,632,null,null,null,632,6]
[4,2452,"和田  夏梨","ﾜﾀﾞ ｶﾘﾝ",1,"西中",545,577,601,601,null,null,null,601,7]
[2,4442,"澤里  莉芽","ｻﾜｻﾄ ﾘﾒ",2,"東中",447,450,465,465,null,null,null,465,8]

{"sheet":"女OP100m","index":13,"n_rows":7,"n_cols":9,"rows_kept":7,"cut":false,"hidden":false,"merged":[]}
["女子オープン１００ｍ"]
[]
["組","ﾚｰﾝ","ﾅﾝﾊﾞｰ","氏　　名","ﾌﾘｶﾞﾅ","年","所属","記　録","組順"]
[1,5,4450,"林    朱理","ﾊﾔｼ ｱｶﾘ",2,"北中",1576,1]
[1,4,4449,"矢内  実里","ﾔﾅｲ ﾐｻﾄ",2,"北中",1617,2]
[1,3,4452,"林    茜音","ﾊﾔｼ ｱｶﾈ",2,"北中",1634,3]
[1,6,2449,"関口　  優","ｾｷｸﾞﾁ　ﾕｳ",1,"北中",1815,4]

{"sheet":"女OP800m","index":14,"n_rows":4,"n_cols":9,"rows_kept":4,"cut":false,"hidden":false,"merged":[]}
["女子オープン８００ｍ"]
[]
["組","ﾚｰﾝ","ﾅﾝﾊﾞｰ","氏　　名","ﾌﾘｶﾞﾅ","年","所属","記　録","順位"]
[1,7,2445,"清水　華帆","ｼﾐｽﾞ　ｶﾎ",1,"北中","DNS"]

{"sheet":"女OP走幅跳","index":15,"n_rows":4,"n_cols":11,"rows_kept":4,"cut":false,"hidden":false,"merged":[]}
["女子オープン走幅跳"]
[]
["試技順","ﾅﾝﾊﾞｰ","氏　　名","ﾌﾘｶﾞﾅ","年","所属",1,2,3,"記　録","順位"]
[1,2448,"田替藤萌衣","ﾀｶﾞｴﾄ　ﾒｲ",1,"北中",322,315,350,{"$f":"MAX(G4:I4)","v":350}]

{"sheet":"女OP砲丸投","index":16,"n_rows":5,"n_cols":11,"rows_kept":5,"cut":false,"hidden":false,"merged":[]}
["女子オープン砲丸投"]
[]
["試技順","ﾅﾝﾊﾞｰ","氏　　名","ﾌﾘｶﾞﾅ","年","所属",1,2,3,"記　録","順位"]
[1,2449,"関口　  優","ｾｷｸﾞﾁ　ﾕｳ",1,"北中",615,607,579,{"$f":"MAX(G4:I4)","v":615},1]
[2,4524,"小林  紫花","ｺﾊﾞﾔｼ ｽﾐﾚ",2,"小野",551,582,588,{"$f":"MAX(G5:I5)","v":588},2]

{"sheet":"男１年100m","index":17,"n_rows":11,"n_cols":10,"rows_kept":11,"cut":false,"hidden":false,"merged":[]}
["男子１年１００ｍ"]
[]
["組","ﾚｰﾝ","ﾅﾝﾊﾞｰ","氏　　名","ﾌﾘｶﾞﾅ","年","所属","記　録","組順","総合"]
[1,4,1592,"神谷  脩斗","ｶﾐﾔ ｼｭｳﾄ",1,"東中",1323,1,1]
[2,5,1655,"川端　悠斗","ｶﾜﾊﾞﾀ ﾕｳﾄ",1,"小野",1365,1,2]
[1,5,1594,"小林    翔","ｺﾊﾞﾔｼ ｼｮｳ",1,"東中",1378,2,3]
[2,4,1598,"齋藤　佳太","ｻｲﾄｳ　ｹｲﾀ",1,"北中",1397,2,4]
[1,3,1119,"佐藤  弘崇","ｻﾄｳ ﾋﾛﾀｶ",1,"鬼石",1427,3,5]
[1,6,1597,"前村　帝明","ﾏｴﾑﾗ　ﾀﾀﾞｱｷ",1,"北中",1428,4,6]
[2,6,1660,"中村　柚希","ﾅｶﾑﾗ ﾕｽﾞｷ",1,"小野",1690,3,7]
[2,3,1117,"相原  光貴","ｱｲﾊﾗ ｺｳｷ",1,"鬼石",1705,4,8]

{"sheet":"男3年3000m","index":18,"n_rows":20,"n_cols":9,"rows_kept":20,"cut":false,"hidden":false,"merged":[]}
["男子３年３０００ｍ"]
[]
["組","レーン","ﾅﾝﾊﾞｰ","氏　　名","ﾌﾘｶﾞﾅ","年","所属","記　録","順位"]
[1,2,5499,"渡辺  喬介","ﾜﾀﾅﾍﾞ ｷｮｳｽｹ",3,"北中",93626,1]
[1,2,169,"高橋　誠心","ﾀｶﾊｼ ｾｲｼﾝ",3,"北中",101094,2]
[1,6,5505,"外処  力生","ﾄﾄﾞｺﾛ ﾘｷ",3,"北中",101485,3]
[1,4,5504,"塚本    錬","ﾂｶﾓﾄ ﾚﾝ",3,"北中",101861,4]
[1,6,169,"馬淵　大輔","ﾏﾌﾞﾁ ﾀﾞｲｽｹ",3,"北中",102781,5]
[1,5,208,"高津　光輝","ﾀｶﾂ ﾋｶﾙ",3,"小野",103109,6]
[1,1,5501,"原    龍生","ﾊﾗ ﾘｭｳｾｲ",3,"北中",103572,7]
[1,4,169,"山口　生馬","ﾔﾏｸﾞﾁ ｲｸﾏ",3,"北中",105939,8]
[1,3,208,"並木　達也","ﾅﾐｷ ﾀﾂﾔ",3,"小野",110058,9]
[1,6,169,"澤入　  澪","ｻﾜｲﾘ ﾚｲ",3,"北中",111184,10]
[1,4,169,"高橋　大貴","ﾀｶﾊｼ ﾋﾛｷ",3,"北中",111804,11]
[1,7,208,"黒澤　秀那","ｸﾛｻﾜ ｼｭｳﾅ",3,"小野",112881,12]
[1,3,208,"矢島　優芽","ﾔｼﾞﾏ ﾕｳｶﾞ",3,"小野",113505,13]
[1,5,208,"岡本　陸","ｵｶﾓﾄ ﾘｸ",3,"小野",113526,14]
[1,7,208,"市毛　龍之介","ｲﾁｹﾞ ﾘｭｳﾉｽｹ",3,"小野",114782,15]
[1,1,208,"中野　勢大","ﾅｶﾉ ｾﾀﾞｲ",3,"小野","DNS"]
[1,5,5561,"富沢  春斗","ﾄﾐｻﾞﾜ ﾊﾙﾄ",3,"小野","DNS"]

{"sheet":"男２年100m","index":19,"n_rows":10,"n_cols":10,"rows_kept":10,"cut":false,"hidden":false,"merged":[]}
["男子２年１００ｍ"]
[]
["組","ﾚｰﾝ","ﾅﾝﾊﾞｰ","氏　　名","ﾌﾘｶﾞﾅ","年","所属","記　録","組順","総合"]
[1,4,3573,"関口  大登","ｾｷｸﾞﾁ ﾀｲﾄ",2,"小野",1179,1,1]
[1,5,3517,"高山  大樹","ﾀｶﾔﾏ ﾀﾞｲｷ",2,"西中",1267,2,2]
[2,5,7301,"折原  優貴","ｵﾘﾊﾗ ﾕｳｷ",2,"小野",1309,1,3]
[2,4,3118,"早川慎太郎","ﾊﾔｶﾜ ｼﾝﾀﾛｳ",2,"鬼石",1311,2,4]
[1,3,3510,"永岡  玖規","ﾅｶﾞｵｶ ﾋｻﾉﾘ",2,"北中",1333,3,5]
[1,6,3116,"江本    蓮","ｴﾓﾄ ﾚﾝ",2,"鬼石",1391,4,6]
[2,3,3509,"坂口    旭","ｻｶｸﾞﾁ ｱｻﾋ",2,"北中","DNS"]

{"sheet":"男200m","index":20,"n_rows":11,"n_cols":10,"rows_kept":11,"cut":false,"hidden":false,"merged":[]}
["男子共通２００ｍ"]
[]
["組","ﾚｰﾝ","ﾅﾝﾊﾞｰ","氏　　名","ﾌﾘｶﾞﾅ","年","所属","記　録","組順","総合"]
[1,4,3573,"関口  大登","ｾｷｸﾞﾁ ﾀｲﾄ",2,"小野",2488,1,1]
[1,5,3506,"阿佐美光紀","ｱｻﾐ ｺｳｷ",2,"北中",2628,2,2]
[1,3,3118,"早川慎太郎","ﾊﾔｶﾜ ｼﾝﾀﾛｳ",2,"鬼石",2732,3,3]
[2,4,3574,"塚越    猛","ﾂｶｺﾞｼ ﾀｹﾙ",2,"小野",2780,1,4]
[2,3,1598,"齋藤　佳太","ｻｲﾄｳ　ｹｲﾀ",1,"北中",2875,2,5]
[1,6,1116,"蓮  真那斗","ﾊｽ ﾏﾅﾄ",1,"鬼石",2952,4,6]
[2,5,1589,"福島慎太郎","ﾌｸｼﾏ ｼﾝﾀﾛｳ",1,"東中",3036,3,7]
[2,6,1595,"黒澤  民愛","ｸﾛｻﾜ ﾀｲﾄ",1,"東中",3404,4,8]

{"sheet":"男400m","index":21,"n_rows":12,"n_cols":10,"rows_kept":12,"cut":false,"hidden":false,"merged":[]}
["男子共通４００ｍ"]
[]
["組","ﾚｰﾝ","ﾅﾝﾊﾞｰ","氏　　名","ﾌﾘｶﾞﾅ","年","所属","記　録","組順","総合"]
[1,5,3516,"倉林  航大","ｸﾗﾊﾞﾔｼ ｺｳﾀﾞｲ",2,"西中",10169,1,1]
[1,4,3512,"前村  明俊","ﾏｴﾑﾗ ｱｷﾄｼ",2,"北中",10278,2,2]
[1,3,1592,"神谷  脩斗","ｶﾐﾔ ｼｭｳﾄ",1,"東中",10299,3,3]
[2,3,3116,"江本    蓮","ｴﾓﾄ ﾚﾝ",2,"鬼石",10554,1,4]
[2,5,1590,"望月  叡人","ﾓﾁﾂﾞｷ ｴｲﾄ",1,"東中",10652,2,5]
[1,6,1597,"前村　帝明","ﾏｴﾑﾗ　ﾀﾀﾞｱｷ",1,"北中",10771,4,6]
[1,2,3122,"木下    奏","ｷﾉｼﾀ ｶﾅﾃﾞ",2,"鬼石",10919,5,7]
[2,4,1657,"鶴見　  颯","ﾂﾙﾐ ｿｳ",1,"小野",11340,3,8]
[2,6,1658,"宮﨑　颯希","ﾐﾔｻﾞｷ ﾘｭｳｷ",1,"小野","DNS"]

{"sheet":"男800m","index":22,"n_rows":12,"n_cols":9,"rows_kept":12,"cut":false,"hidden":false,"merged":[]}
["男子共通８００ｍ"]
[]
["組","ﾚｰﾝ","ﾅﾝﾊﾞｰ","氏　　名","ﾌﾘｶﾞﾅ","年","所属","記　録","順位"]
[1,3,3507,"清水    樹","ｼﾐｽﾞ ﾀﾂｷ",2,"北中",22477,1]
[1,5,3512,"前村  明俊","ﾏｴﾑﾗ ｱｷﾄｼ",2,"北中",23890,2]
[1,7,1588,"中里  光希","ﾅｶｻﾞﾄ ｺｳｷ",1,"東中",24100,3]
[1,6,3122,"木下    奏","ｷﾉｼﾀ ｶﾅﾃﾞ",2,"鬼石",24448,4]
[1,6,3515,"岩上  大地","ｲﾜｶﾞﾐ ﾀﾞｲﾁ",2,"西中",24517,5]
[1,7,1593,"清水  太斗","ｼﾐｽﾞ ﾀｲﾄ",1,"東中",25148,6]
[1,5,1118,"塚越    翼","ﾂｶｺﾞｼ ﾂﾊﾞｻ",1,"鬼石",25415,7]
[1,4,3577,"三塚  理貴","ﾐﾂﾂﾞｶ ﾏｻｷ",2,"小野","DNS"]
[1,2,3518,"前村  徳周","ﾏｴﾑﾗ ﾉﾘﾁｶ",2,"西中","DNS"]

{"sheet":"男1500m","index":23,"n_rows":12,"n_cols":9,"rows_kept":12,"cut":false,"hidden":false,"merged":[]}
["男子共通１５００ｍ"]
[]
["組","ﾚｰﾝ","ﾅﾝﾊﾞｰ","氏　　名","ﾌﾘｶﾞﾅ","年","所属","記　録","順位"]
[1,2,3505,"井上  将吾","ｲﾉｳｴ ｼｮｳｺﾞ",2,"東中",45027,1]
[1,4,3507,"清水    樹","ｼﾐｽﾞ ﾀﾂｷ",2,"北中",45846,2]
[1,3,3511,"福田  颯吾","ﾌｸﾀﾞ ｿｳｺﾞ",2,"北中",50595,3]
[1,5,3576,"柳澤  佑太","ﾔﾅｷﾞｻﾜ ﾕｳﾀ",2,"小野",51312,4]
[1,6,3117,"武藤  遥歩","ﾑﾄｳ ｱﾕﾑ",2,"鬼石",51328,5]
[1,7,1654,"設楽　  嶺","ｼﾀﾗ ﾚｲ",1,"小野",51824,6]
[1,7,1593,"清水  太斗","ｼﾐｽﾞ ﾀｲﾄ",1,"東中",52315,7]
[1,5,1118,"塚越    翼","ﾂｶｺﾞｼ ﾂﾊﾞｻ",1,"鬼石",53266,8]
[1,6,3518,"前村  徳周","ﾏｴﾑﾗ ﾉﾘﾁｶ",2,"西中",53400,9]

{"sheet":"男3000m","index":24,"n_rows":8,"n_cols":9,"rows_kept":8,"cut":false,"hidden":false,"merged":[]}
["男子共通３０００ｍ"]
[]
["組","ﾚｰﾝ","ﾅﾝﾊﾞｰ","氏　　名","ﾌﾘｶﾞﾅ","年","所属","記　録","順位"]
[1,3,3509,"坂口    旭","ｻｶｸﾞﾁ ｱｻﾋ",2,"北中",102424,1]
[1,2,3505,"井上  将吾","ｲﾉｳｴ ｼｮｳｺﾞ",2,"東中",103627,2]
[1,4,3576,"柳澤  佑太","ﾔﾅｷﾞｻﾜ ﾕｳﾀ",2,"小野",112561,3]
[1,5,3117,"武藤  遥歩","ﾑﾄｳ ｱﾕﾑ",2,"鬼石",113000,4]
[1,6,1588,"中里  光希","ﾅｶｻﾞﾄ ｺｳｷ",1,"東中",115210,5]

{"sheet":"男110mH","index":25,"n_rows":9,"n_cols":10,"rows_kept":9,"cut":false,"hidden":false,"merged":[]}
["男子共通１１０ｍＨ"]
[]
["組","ﾚｰﾝ","ﾅﾝﾊﾞｰ","氏　　名","ﾌﾘｶﾞﾅ","年","所属","記　録","組順","総合"]
[1,4,3513,"中井  大地","ﾅｶｲ ﾀﾞｲﾁ",2,"北中",1838,1,1]
[1,5,3574,"塚越    猛","ﾂｶｺﾞｼ ﾀｹﾙ",2,"小野",2011,2,2]
[2,6,3515,"岩上  大地","ｲﾜｶﾞﾐ ﾀﾞｲﾁ",2,"西中",2075,1,3]
[1,3,1655,"川端　悠斗","ｶﾜﾊﾞﾀ ﾕｳﾄ",1,"小野",2152,3,4]
[2,3,1590,"望月  叡人","ﾓﾁﾂﾞｷ ｴｲﾄ",1,"東中",2322,2,5]
[5,7,1591,"小坂  青羽","ｺｻｶ ｱｵﾊﾞ",1,"東中",2453,3,6]

{"sheet":"男走高跳","index":26,"n_rows":6,"n_cols":41,"rows_kept":6,"cut":false,"hidden":false,"merged":[[2,6,2,8],[2,9,2,11],[2,12,2,14],[2,15,2,17],[2,30,2,32],[2,36,2,38],[2,18,2,20],[2,21,2,23],[2,24,2,26],[2,33,2,35],[2,27,2,29]]}
["男子共通走高跳"]
[]
["試技順","ﾅﾝﾊﾞｰ","氏　　名","ﾌﾘｶﾞﾅ","年","所属",120,null,null,125,null,null,130,null,null,135,null,null,140,null,null,145,null,null,150,null,null,155,null,null,160,null,null,165,null,null,null,null,null,"記　録","順位"]
[3,3516,"倉林  航大","ｸﾗﾊﾞﾔｼ ｺｳﾀﾞｲ",2,"西中",null,null,null,null,null,null,null,null,null,null,null,null,null,null,null,null,null,null,"×","○",null,"○",null,null,"○",null,null,"×","×","×",null,null,null,160,1]
[2,1659,"阿部　一貫","ｱﾍﾞ ｲｯｶﾝ",1,"小野",null,null,null,"×","○",null,"×","○",null,"×","×","×",null,null,null,null,null,null,null,null,null,null,null,null,null,null,null,null,null,null,null,null,null,130,2]
[1,1596,"小河原蓮太","ｵｶﾞﾜﾗ　ﾚﾝﾀ",1,"北中",null,null,null,null,null,null,null,null,null,null,null,null,null,null,null,null,null,null,null,null,null,null,null,null,null,null,null,null,null,null,null,null,null,"DNS"]

{"sheet":"男走幅跳","index":27,"n_rows":12,"n_cols":15,"rows_kept":12,"cut":false,"hidden":false,"merged":[]}
["男子共通走幅跳"]
[]
["試技順","ﾅﾝﾊﾞｰ","氏　　名","ﾌﾘｶﾞﾅ","年","所属",1,2,3,"３回目まで\nのベスト",4,5,6,"記　録","順位"]
[8,3513,"中井  大地","ﾅｶｲ ﾀﾞｲﾁ",2,"北中","F",521,"F",{"$f":"MAX(G4:I4)","v":521},null,null,null,{"$f":"MAX(G4:I4)","v":521},1]
[7,3575,"島崎  勝志","ｼﾏｻﾞｷ ﾏｻｼ",2,"小野",487,504,501,504,null,null,null,504,2]
[9,3510,"永岡  玖規","ﾅｶﾞｵｶ ﾋｻﾉﾘ",2,"北中","F",475,503,503,null,null,null,503,3]
[6,3517,"高山  大樹","ﾀｶﾔﾏ ﾀﾞｲｷ",2,"西中",439,430,"F",439,null,null,null,439,4]
[5,1594,"小林    翔","ｺﾊﾞﾔｼ ｼｮｳ",1,"東中",363,371,419,419,null,null,null,419,5]
[2,1657,"鶴見　  颯","ﾂﾙﾐ ｿｳ",1,"小野",405,396,396,405,null,null,null,405,6]
[4,1119,"佐藤  弘崇","ｻﾄｳ ﾋﾛﾀｶ",1,"鬼石",333,324,394,394,null,null,null,394,7]
[1,1591,"小坂  青羽","ｺｻｶ ｱｵﾊﾞ",1,"東中",319,386,375,386,null,null,null,386,8]
[3,1117,"相原  光貴","ｱｲﾊﾗ ｺｳｷ",1,"鬼石","F","F",310,310,null,null,null,310,9]

{"sheet":"男砲丸投","index":28,"n_rows":10,"n_cols":15,"rows_kept":10,"cut":false,"hidden":false,"merged":[]}
["男子共通砲丸投"]
[]
["試技順","ﾅﾝﾊﾞｰ","氏　　名","ﾌﾘｶﾞﾅ","年","所属",1,2,3,"３回目まで\nのベスト",4,5,6,"記　録","順位"]
[7,7301,"折原  優貴","ｵﾘﾊﾗ ﾕｳｷ",2,"小野",867,872,837,{"$f":"MAX(G4:I4)","v":872},null,null,null,{"$f":"MAX(G4:I4)","v":872},1]
[4,3575,"島崎  勝志","ｼﾏｻﾞｷ ﾏｻｼ",2,"小野",726,787,766,787,null,null,null,787,2]
[6,3506,"阿佐美光紀","ｱｻﾐ ｺｳｷ",2,"北中",769,777,715,777,null,null,null,777,3]
[3,3120,"宮前飛佳瑠","ﾐﾔﾏｴ ﾋｶﾙ",2,"鬼石",699,723,630,723,null,null,null,723,4]
[2,1589,"福島慎太郎","ﾌｸｼﾏ ｼﾝﾀﾛｳ",1,"東中",575,603,605,605,null,null,null,605,5]
[1,1595,"黒澤  民愛","ｸﾛｻﾜ ﾀｲﾄ",1,"東中","F",480,443,480,null,null,null,480,6]
[5,3514,"田向    凜","ﾀﾑｶｲ ﾘﾝ",2,"北中",302,467,"F",467,null,null,null,467,7]

{"sheet":"男OP100m","index":29,"n_rows":7,"n_cols":9,"rows_kept":7,"cut":false,"hidden":false,"merged":[]}
["男子オープン１００ｍ"]
[]
["組","ﾚｰﾝ","ﾅﾝﾊﾞｰ","氏　　名","ﾌﾘｶﾞﾅ","年","所属","記　録","組順"]
[1,4,1658,"宮﨑　颯希","ﾐﾔｻﾞｷ ﾘｭｳｷ",1,"小野",1531,1]
[1,6,1662,"村山　大樹","ﾑﾗﾔﾏ ﾋﾛｷ",1,"小野",1767,2]
[1,3,3119,"小松  将瑛","ｺﾏﾂ ｼｮｳｴｲ",2,"鬼石","DNS"]
[1,5,3121,"平良  友哉","ﾀｲﾗ ﾄﾓﾔ",2,"鬼石","DNS"]

{"sheet":"男OP走幅跳","index":30,"n_rows":4,"n_cols":11,"rows_kept":4,"cut":false,"hidden":false,"merged":[]}
["男子オープン走幅跳"]
[]
["試技順","ﾅﾝﾊﾞｰ","氏　　名","ﾌﾘｶﾞﾅ","年","所属",1,2,3,"記　録","順位"]
[1,1661,"山本　彪瑠","ﾔﾏﾓﾄ ﾀｹﾙ",1,"小野","F",337,"F",{"$f":"MAX(G4:I4)","v":337}]

{"sheet":"リレー記録","index":31,"n_rows":18,"n_cols":6,"rows_kept":18,"cut":false,"hidden":false,"merged":[]}
["男子　４×１００ｍＲ"]
[]
["組","ﾚｰﾝ","所属","メンバー","記　録","順位"]
[1,5,"小野","折原,塚越,島崎,関口",4943,1]
[1,6,"北中","齋藤,阿佐美,前村,永岡",5167,2]
[1,4,"西中","倉林,高山,前村,岩上",5226,3]
[1,3,"鬼石","木下,早川,江本,佐藤",5386,4]
[1,2,"東中","小林,神谷,福島,望月",5409,5]
[]
[]
["女子　４×１００ｍＲ"]
[]
["組","ﾚｰﾝ","所属","メンバー","記　録","順位"]
[1,4,"小野","杉山,藤田,金井,登坂",5621,1]
[1,2,"北中","柳田,根岸,山下,浅見",5715,2]
[1,6,"鬼石","大澤,三木,滝川,布施",5898,3]
[1,5,"東中","原田,鈴木,吉村,澤里",5899,4]
[1,3,"西中","黛,大野,林,小暮",10132,5]

{"sheet":"男３年100m","index":32,"n_rows":8,"n_cols":10,"rows_kept":8,"cut":false,"hidden":false,"merged":[]}
["男子３年１００ｍ"]
[]
["組","ﾚｰﾝ","ﾅﾝﾊﾞｰ","氏　　名","ﾌﾘｶﾞﾅ","年","所属","記　録","組順","総合"]
[1,2,5497]
[1,3,5500]
[1,4,5502]
[1,5,5108]
[1,6,5498]

{"sheet":"男リレー","index":33,"n_rows":33,"n_cols":10,"rows_kept":33,"cut":false,"hidden":false,"merged":[[9,7,14,7],[9,0,14,0],[15,0,20,0],[3,8,8,8],[3,0,8,0],[3,7,8,7],[15,8,20,8],[3,1,8,1],[9,1,14,1],[9,8,14,8],[27,0,32,0],[21,0,26,0],[21,8,26,8],[15,7,20,7],[15,1,20,1],[27,1,32,1],[21,1,26,1],[21,7,26,7],[27,7,32,7],[27,8,32,8],[27,9,32,9],[3,9,8,9],[9,9,14,9],[15,9,20,9],[21,9,26,9]]}
["男子 ４×１００ｍＲ"]
[]
["組","ﾚｰﾝ","ﾅﾝﾊﾞｰ","順","氏　　名","ﾌﾘｶﾞﾅ","年","所属","記　録","総合"]
[1,2,1589,null,"福島慎太郎","ﾌｸｼﾏ ｼﾝﾀﾛｳ",1,"東中"]
[null,null,1590,null,"望月  叡人","ﾓﾁﾂﾞｷ ｴｲﾄ",1]
[null,null,1591,null,"小坂  青羽","ｺｻｶ ｱｵﾊﾞ",1]
[null,null,1592,null,"神谷  脩斗","ｶﾐﾔ ｼｭｳﾄ",1]
[null,null,1594,null,"小林    翔","ｺﾊﾞﾔｼ ｼｮｳ",1]
[null,null,1595,null,"黒澤  民愛","ｸﾛｻﾜ ﾀｲﾄ",1]
[1,3,1116,null,"蓮  真那斗","ﾊｽ ﾏﾅﾄ",1,"鬼石"]
[null,null,1119,null,"佐藤  弘崇","ｻﾄｳ ﾋﾛﾀｶ",1]
[null,null,3116,null,"江本    蓮","ｴﾓﾄ ﾚﾝ",2]
[null,null,3117,null,"武藤  遥歩","ﾑﾄｳ ｱﾕﾑ",2]
[null,null,3118,null,"早川慎太郎","ﾊﾔｶﾜ ｼﾝﾀﾛｳ",2]
[null,null,3122,null,"木下    奏","ｷﾉｼﾀ ｶﾅﾃﾞ",2]
[1,4,3515,null,"岩上  大地","ｲﾜｶﾞﾐ ﾀﾞｲﾁ",2,"西中"]
[null,null,3516,null,"倉林  航大","ｸﾗﾊﾞﾔｼ ｺｳﾀﾞｲ",2]
[null,null,3517,null,"高山  大樹","ﾀｶﾔﾏ ﾀﾞｲｷ",2]
[null,null,3518,null,"前村  徳周","ﾏｴﾑﾗ ﾉﾘﾁｶ",2]
[]
[]
[1,5,1655,null,"川端　悠斗","ｶﾜﾊﾞﾀ ﾕｳﾄ",1,"小野"]
[null,null,3573,null,"関口  大登","ｾｷｸﾞﾁ ﾀｲﾄ",2]
[null,null,7301,null,"折原  優貴","ｵﾘﾊﾗ ﾕｳｷ",2]
[null,null,3574,null,"塚越    猛","ﾂｶｺﾞｼ ﾀｹﾙ",2]
[null,null,3575,null,"島崎  勝志","ｼﾏｻﾞｷ ﾏｻｼ",2]
[]
[1,6,3506,null,"阿佐美光紀","ｱｻﾐ ｺｳｷ",2,"北中"]
[null,null,3507,null,"清水    樹","ｼﾐｽﾞ ﾀﾂｷ",2]
[null,null,3509,null,"坂口    旭","ｻｶｸﾞﾁ ｱｻﾋ",2]
[null,null,3510,null,"永岡  玖規","ﾅｶﾞｵｶ ﾋｻﾉﾘ",2]
[null,null,3512,null,"前村  明俊","ﾏｴﾑﾗ ｱｷﾄｼ",2]
[null,null,1598,null,"齋藤　佳太","ｻｲﾄｳ　ｹｲﾀ",1]

{"sheet":"女リレー","index":34,"n_rows":31,"n_cols":10,"rows_kept":31,"cut":false,"hidden":false,"merged":[[27,0,32,0],[27,8,32,8],[27,1,32,1],[21,8,26,8],[21,1,26,1],[27,7,32,7],[21,7,26,7],[21,0,26,0],[3,1,8,1],[9,8,14,8],[3,0,8,0],[9,0,14,0],[15,0,20,0],[9,1,14,1],[15,1,20,1],[3,7,8,7],[9,7,14,7],[15,7,20,7],[3,8,8,8],[15,8,20,8],[27,9,32,9],[3,9,8,9],[9,9,14,9],[15,9,20,9],[21,9,26,9]]}
["女子　４×１００ｍＲ"]
[]
["組","ﾚｰﾝ","ﾅﾝﾊﾞｰ","順","氏　　名","ﾌﾘｶﾞﾅ","年","所属","記　録","総合"]
[1,2,4449,null,"矢内  実里","ﾔﾅｲ ﾐｻﾄ",2,"北中"]
[null,null,4451,null,"瀬下  結生","ｾｼﾞﾓ ﾕｲ",2]
[null,null,4454,null,"柳田    葵","ﾔﾅｷﾞﾀﾞ ｱｵｲ",2]
[null,null,4455,null,"根岸  美羽","ﾈｷﾞｼ ﾐｳ",2]
[null,null,4456,null,"浅見  怜美","ｱｻﾐ ﾚﾐ",2]
[null,null,2447,null,"山下　奈緒","ﾔﾏｼﾀ　ﾅｵ",1]
[1,3,2451,null,"小暮    南","ｺｸﾞﾚ ﾐﾅﾐ",1,"西中"]
[null,null,2453,null,"黛    藍那","ﾏﾕｽﾞﾐ ﾗﾅ",1]
[null,null,2452,null,"和田  夏梨","ﾜﾀﾞ ｶﾘﾝ",1]
[null,null,4460,null,"大野  瀬奈","ｵｵﾉ ｾﾅ",2]
[null,null,4457,null,"佐藤    遥","ｻﾄｳ ﾊﾙｶ",2]
[null,null,4459,null,"林    杏奈","ﾊﾔｼ ｱﾝﾅ",2]
[1,4,4519,null,"登坂  未央","ﾄｻｶ ﾐｵ",2,"小野中"]
[null,null,4525,null,"金井  萌花","ｶﾅｲ ﾎﾉｶ",2]
[null,null,4520,null,"藤田  夏美","ﾌｼﾞﾀ ﾅﾂﾐ",2]
[null,null,4518,null,"杉山  美空","ｽｷﾞﾔﾏ ｿﾗ",2]
[null,null,4524,null,"小林  紫花","ｺﾊﾞﾔｼ ｽﾐﾚ",2]
[null,null,4521,null,"臼田あかり","ｳｽﾀﾞ ｱｶﾘ",2]
[1,5,2443,null,"久保  詩織","ｸﾎﾞ ｼｵﾘ",1,"東中"]
[null,null,2444,null,"大岡  美鈴","ｵｵｵｶ ﾐｽｽﾞ",1]
[null,null,4441,null,"吉村  泉咲","ﾖｼﾑﾗ ﾐｻｷ",2]
[null,null,4442,null,"澤里  莉芽","ｻﾜｻﾄ ﾘﾒ",2]
[null,null,4445,null,"原田  萌百","ﾊﾗﾀﾞ ﾓﾓ",2]
[null,null,4446,null,"鈴木  紅奈","ｽｽﾞｷ ｸﾚﾅ",2]
[1,6,2085,null,"大澤  真希","ｵｵｻﾜ ﾏｷ",1,"鬼石中"]
[null,null,2086,null,"布施  彩奈","ﾌｾ ｻﾅ",1]
[null,null,4089,null,"三木紗季帆","ﾐｷ ｻｷﾎ",2]
[null,null,4091,null,"滝川  真紀","ﾀｷｶﾞﾜ ﾏｷ",2]

{"sheet":"男OP1500m ","index":35,"n_rows":6,"n_cols":9,"rows_kept":6,"cut":false,"hidden":false,"merged":[]}
["男子オープン１５００ｍ"]
[]
["組","ﾚｰﾝ","ﾅﾝﾊﾞｰ","氏　　名","ﾌﾘｶﾞﾅ","年","所属","記　録","順位"]
[1,1]
[1,2]
[1,3]

{"sheet":"女OP走高跳","index":36,"n_rows":4,"n_cols":38,"rows_kept":4,"cut":false,"hidden":false,"merged":[[2,24,2,26],[2,27,2,29],[2,33,2,35],[2,6,2,8],[2,9,2,11],[2,12,2,14],[2,15,2,17],[2,18,2,20],[2,21,2,23],[2,30,2,32]]}
["女子オープン走高跳"]
[]
["試技順","ﾅﾝﾊﾞｰ","氏　　名","ﾌﾘｶﾞﾅ","年","所属",110,null,null,115,null,null,120,null,null,125,null,null,130,null,null,135,null,null,140,null,null,145,null,null,150,null,null,null,null,null,"記　録","順位"]
[1]

{"sheet":"男OP砲丸投","index":37,"n_rows":5,"n_cols":11,"rows_kept":5,"cut":false,"hidden":false,"merged":[]}
["男子オープン砲丸投"]
[]
["試技順","ﾅﾝﾊﾞｰ","氏　　名","ﾌﾘｶﾞﾅ","年","所属",1,2,3,"記　録","順位"]
[1,null,null,null,null,null,null,null,null,{"$f":"MAX(G4:I4)","v":0}]
[2,null,null,null,null,null,null,null,null,{"$f":"MAX(G5:I5)","v":0}]

{"sheet":"男OP走高跳","index":38,"n_rows":3,"n_cols":41,"rows_kept":3,"cut":false,"hidden":false,"merged":[[2,6,2,8],[2,9,2,11],[2,12,2,14],[2,15,2,17],[2,36,2,38],[2,18,2,20],[2,21,2,23],[2,24,2,26],[2,33,2,35],[2,27,2,29],[2,30,2,32]]}
["男子オープン走高跳"]
[]
["試技順","ﾅﾝﾊﾞｰ","氏　　名","ﾌﾘｶﾞﾅ","年","所属",110,null,null,115,null,null,120,null,null,125,null,null,130,null,null,135,null,null,140,null,null,145,null,null,150,null,null,155,null,null,null,null,null,"記　録","順位"]

{"sheet":"成績発表","index":39,"n_rows":81,"n_cols":10,"rows_kept":81,"cut":false,"hidden":false,"merged":[]}
["平成２８年度　藤岡多野中体連　秋季陸上競技大会　表彰者一覧表＜男子＞"]
[]
[null,null,null,null,{"$f":"男１年100m!E4","v":"ｶﾐﾔ ｼｭｳﾄ"}]
["男子","１年","１００ｍ","優勝",{"$f":"男１年100m!D4&\" (\"&J4&\")\"","v":"神谷  脩斗 (1)"},null,{"$f":"男１年100m!G4","v":"東中"},{"$f":"男１年100m!H4","v":1323},null,{"$f":"男１年100m!F4","v":1}]
[]
[null,null,null,null,{"$f":"男２年100m!E4","v":"ｾｷｸﾞﾁ ﾀｲﾄ"}]
["男子","２年","１００ｍ","優勝",{"$f":"男２年100m!D4&\" (\"&J7&\")\"","v":"関口  大登 (2)"},null,{"$f":"男２年100m!G4","v":"小野"},{"$f":"男２年100m!H4","v":1179},null,{"$f":"男２年100m!F4","v":2}]
[]
[null,null,null,null,{"$f":"男200m!E4","v":"ｾｷｸﾞﾁ ﾀｲﾄ"}]
["男子","共通","２００ｍ","優勝",{"$f":"男200m!D4&\" (\"&J10&\")\"","v":"関口  大登 (2)"},null,{"$f":"男200m!G4","v":"小野"},{"$f":"男200m!H4","v":2488},null,{"$f":"男200m!F4","v":2}]
[]
[null,null,null,null,{"$f":"男400m!E4","v":"ｸﾗﾊﾞﾔｼ ｺｳﾀﾞｲ"}]
["男子","共通","４００ｍ","優勝",{"$f":"男400m!D4&\" (\"&J13&\")\"","v":"倉林  航大 (2)"},null,{"$f":"男400m!G4","v":"西中"},{"$f":"男400m!H4","v":10169},null,{"$f":"男400m!F4","v":2}]
[]
[null,null,null,null,{"$f":"男800m!E4","v":"ｼﾐｽﾞ ﾀﾂｷ"}]
["男子","共通","８００ｍ","優勝",{"$f":"男800m!D4&\" (\"&J16&\")\"","v":"清水    樹 (2)"},null,{"$f":"男800m!G4","v":"北中"},{"$f":"男800m!H4","v":22477},null,{"$f":"男800m!F4","v":2}]
[]
[null,null,null,null,{"$f":"男1500m!E4","v":"ｲﾉｳｴ ｼｮｳｺﾞ"}]
["男子","２・３年","１５００ｍ","優勝",{"$f":"男1500m!D4&\" (\"&J19&\")\"","v":"井上  将吾 (2)"},null,{"$f":"男1500m!G4","v":"東中"},{"$f":"男1500m!H4","v":45027},null,{"$f":"男1500m!F4","v":2}]
[]
[null,null,null,null,{"$f":"男3000m!E4","v":"ｻｶｸﾞﾁ ｱｻﾋ"}]
["男子","共通","３０００ｍ","優勝",{"$f":"男3000m!D4&\" (\"&J22&\")\"","v":"坂口    旭 (2)"},null,{"$f":"男3000m!G4","v":"北中"},{"$f":"男3000m!H4","v":102424},null,{"$f":"男3000m!F4","v":2}]
[]
[null,null,null,null,{"$f":"男110mH!E4","v":"ﾅｶｲ ﾀﾞｲﾁ"}]
["男子","共通","１１０ｍＨ","優勝",{"$f":"男110mH!D4&\" (\"&J25&\")\"","v":"中井  大地 (2)"},null,{"$f":"男110mH!G4","v":"北中"},{"$f":"男110mH!H4","v":1838},null,{"$f":"男110mH!F4","v":2}]
[]
[]
["男子","共通","４×１００ｍＲ","優勝",{"$f":"リレー記録!C4","v":"小野"},null,null,{"$f":"リレー記録!E4","v":4943}]
[]
[null,null,null,null,{"$f":"男走高跳!D4","v":"ｸﾗﾊﾞﾔｼ ｺｳﾀﾞｲ"}]
["男子","共通","走高跳","優勝",{"$f":"男走高跳!C4&\" (\"&J31&\")\"","v":"倉林  航大 (2)"},null,{"$f":"男走高跳!F4","v":"西中"},{"$f":"男走高跳!AN4","v":160},null,{"$f":"男走高跳!E4","v":2}]
[]
[null,null,null,null,{"$f":"男走幅跳!D4","v":"ﾅｶｲ ﾀﾞｲﾁ"}]
["男子","共通","走幅跳","優勝",{"$f":"男走幅跳!C4&\" (\"&J34&\")\"","v":"中井  大地 (2)"},null,{"$f":"男走幅跳!F4","v":"北中"},{"$f":"男走幅跳!N4","v":521},null,{"$f":"男走幅跳!E4","v":2}]
[]
[null,null,null,null,{"$f":"男砲丸投!D4","v":"ｵﾘﾊﾗ ﾕｳｷ"}]
["男子","共通","砲丸投","優勝",{"$f":"男砲丸投!C4&\" (\"&J37&\")\"","v":"折原  優貴 (2)"},null,{"$f":"男砲丸投!F4","v":"小野"},{"$f":"男砲丸投!N4","v":872},null,{"$f":"男砲丸投!E4","v":2}]
[]
["男子","総合","優勝",null,{"$f":"得点集計!C41","v":"北中"},null,{"$f":"得点集計!D41","v":70},"点"]
[null,"総合","準優勝",null,{"$f":"得点集計!C42","v":"小野"},null,{"$f":"得点集計!D42","v":68},"点"]
[null,"総合","３位",null,{"$f":"得点集計!C43","v":"東中"},null,{"$f":"得点集計!D43","v":44},"点"]
[null,"総合","４位",null,{"$f":"得点集計!C44","v":"西中"},null,{"$f":"得点集計!D44","v":30},"点"]
[null,"総合","５位",null,{"$f":"得点集計!C45","v":"鬼石"},null,{"$f":"得点集計!D45","v":28},"点"]
[]
["平成２８年度　藤岡多野中体連　秋季陸上競技大会　表彰者一覧表＜女子＞"]
[]
[null,null,null,null,{"$f":"女１年100m!E4","v":"ｵｵｻﾜ ﾏｷ"}]
["女子","１年","１００ｍ","優勝",{"$f":"女１年100m!D4&\" (\"&J48&\")\"","v":"大澤  真希 (1)"},null,{"$f":"女１年100m!G4","v":"鬼石"},{"$f":"女１年100m!H4","v":1460},null,{"$f":"女１年100m!F4","v":1}]
[]
[null,null,null,null,{"$f":"女２年100m!E4","v":"ﾄｻｶ ﾐｵ"}]
["女子","２年","１００ｍ","優勝",{"$f":"女２年100m!D4&\" (\"&J51&\")\"","v":"登坂  未央 (2)"},null,{"$f":"女２年100m!G4","v":"小野"},{"$f":"女２年100m!H4","v":1392},null,{"$f":"女２年100m!F4","v":2}]
[]
[null,null,null,null,{"$f":"女200m!E4","v":"ｶﾅｲ ﾎﾉｶ"}]
["女子","共通","２００ｍ","優勝",{"$f":"女200m!D4&\" (\"&J54&\")\"","v":"金井  萌花 (2)"},null,{"$f":"女200m!G4","v":"小野"},{"$f":"女200m!H4","v":2882},null,{"$f":"女200m!F4","v":2}]
[]
[null,null,null,null,{"$f":"女800m!E4","v":"ｽﾀﾞ ﾅｵ"}]
["女子","共通","８００ｍ","優勝",{"$f":"女800m!D4&\" (\"&J57&\")\"","v":"須田  菜緒 (2)"},null,{"$f":"女800m!G4","v":"小野"},{"$f":"女800m!H4","v":23486},null,{"$f":"女800m!F4","v":2}]
[]
[null,null,null,null,{"$f":"女1500m!E4","v":"ｼﾐｽﾞ　ｶﾎ"}]
["女子","共通","１５００ｍ","優勝",{"$f":"女1500m!D4&\" (\"&J60&\")\"","v":"清水　華帆 (1)"},null,{"$f":"女1500m!G4","v":"北中"},{"$f":"女1500m!H4","v":51823},null,{"$f":"女1500m!F4","v":1}]
[]
[null,null,null,null,{"$f":"女100mH!E4","v":"ｽｽﾞｷ ｸﾚﾅ"}]
["女子","共通","１００ｍＨ","優勝",{"$f":"女100mH!D4&\" (\"&J63&\")\"","v":"鈴木  紅奈 (2)"},null,{"$f":"女100mH!G4","v":"東中"},{"$f":"女100mH!H4","v":1812},null,{"$f":"女100mH!F4","v":2}]
[]
[]
["女子","共通","４×１００ｍＲ","優勝",{"$f":"リレー記録!C14","v":"小野"},null,null,{"$f":"リレー記録!E14","v":5621}]
[]
[null,null,null,null,{"$f":"女走高跳!D4","v":"ﾀｷｶﾞﾜ ﾏｷ"}]
["女子","共通","走高跳","優勝",{"$f":"女走高跳!C4&\" (\"&J69&\")\"","v":"滝川  真紀 (2)"},null,{"$f":"女走高跳!F4","v":"鬼石"},{"$f":"女走高跳!AK4","v":135},null,{"$f":"女走高跳!E4","v":2}]
[]
[null,null,null,null,{"$f":"女走幅跳!D4","v":"ﾌｾ ｻﾅ"}]
["女子","２・３年","走幅跳","優勝",{"$f":"女走幅跳!C4&\" (\"&J72&\")\"","v":"布施  彩奈 (1)"},null,{"$f":"女走幅跳!F4","v":"鬼石"},{"$f":"女走幅跳!N4","v":408},null,{"$f":"女走幅跳!E4","v":1}]
[]
[null,null,null,null,{"$f":"女砲丸投!D4","v":"ﾄｻｶ ﾐｵ"}]
["女子","共通","砲丸投","優勝",{"$f":"女砲丸投!C4&\" (\"&J75&\")\"","v":"登坂  未央 (2)"},null,{"$f":"女砲丸投!F4","v":"小野"},{"$f":"女砲丸投!N4","v":778},null,{"$f":"女砲丸投!E4","v":2}]
[]
["女子","総合","優勝",null,{"$f":"得点集計!C52","v":"小野"},null,{"$f":"得点集計!D52","v":55},"点"]
[null,"総合","準優勝",null,{"$f":"得点集計!C53","v":"北中"},null,{"$f":"得点集計!D53","v":52},"点"]
[null,"総合","３位",null,{"$f":"得点集計!C54","v":"鬼石"},null,{"$f":"得点集計!D54","v":41},"点"]
[null,"総合","４位",null,{"$f":"得点集計!C55","v":"東中"},null,{"$f":"得点集計!D55","v":34},"点"]
[null,"総合","５位",null,{"$f":"得点集計!C56","v":"西中"},null,{"$f":"得点集計!D56","v":27},"点"]

{"sheet":"県大会出場","index":40,"n_rows":59,"n_cols":8,"rows_kept":59,"cut":false,"hidden":false,"merged":[]}
["性別","種目","ナンバー","氏名","フリガナ","学年","所属","記録"]
["男子","1年100ｍ",{"$f":"男１年100m!C4","v":1592},{"$f":"男１年100m!D4","v":"神谷  脩斗"},{"$f":"男１年100m!E4","v":"ｶﾐﾔ ｼｭｳﾄ"},{"$f":"男１年100m!F4","v":1},{"$f":"男１年100m!G4","v":"東中"},{"$f":"男１年100m!H4","v":1323}]
["男子","1年100ｍ",{"$f":"男１年100m!C5","v":1655},{"$f":"男１年100m!D5","v":"川端　悠斗"},{"$f":"男１年100m!E5","v":"ｶﾜﾊﾞﾀ ﾕｳﾄ"},{"$f":"男１年100m!F5","v":1},{"$f":"男１年100m!G5","v":"小野"},{"$f":"男１年100m!H5","v":1365}]
["男子","1年1500ｍ",{"$f":"男3年3000m!C4","v":5499},{"$f":"男3年3000m!D4","v":"渡辺  喬介"},{"$f":"男3年3000m!E4","v":"ﾜﾀﾅﾍﾞ ｷｮｳｽｹ"},{"$f":"男3年3000m!F4","v":3},{"$f":"男3年3000m!G4","v":"北中"},{"$f":"男3年3000m!H4","v":93626}]
["男子","1年1500ｍ",{"$f":"男3年3000m!C5","v":169},{"$f":"男3年3000m!D5","v":"高橋　誠心"},{"$f":"男3年3000m!E5","v":"ﾀｶﾊｼ ｾｲｼﾝ"},{"$f":"男3年3000m!F5","v":3},{"$f":"男3年3000m!G5","v":"北中"},{"$f":"男3年3000m!H5","v":101094}]
["男子","2年100ｍ",{"$f":"男２年100m!C4","v":3573},{"$f":"男２年100m!D4","v":"関口  大登"},{"$f":"男２年100m!E4","v":"ｾｷｸﾞﾁ ﾀｲﾄ"},{"$f":"男２年100m!F4","v":2},{"$f":"男２年100m!G4","v":"小野"},{"$f":"男２年100m!H4","v":1179}]
["男子","2年100ｍ",{"$f":"男２年100m!C5","v":3517},{"$f":"男２年100m!D5","v":"高山  大樹"},{"$f":"男２年100m!E5","v":"ﾀｶﾔﾏ ﾀﾞｲｷ"},{"$f":"男２年100m!F5","v":2},{"$f":"男２年100m!G5","v":"西中"},{"$f":"男２年100m!H5","v":1267}]
["男子","200m",{"$f":"男200m!C4","v":3573},{"$f":"男200m!D4","v":"関口  大登"},{"$f":"男200m!E4","v":"ｾｷｸﾞﾁ ﾀｲﾄ"},{"$f":"男200m!F4","v":2},{"$f":"男200m!G4","v":"小野"},{"$f":"男200m!H4","v":2488}]
["男子","200m",{"$f":"男200m!#REF!","v":{"$error":"#REF!"}},{"$f":"男200m!#REF!","v":{"$error":"#REF!"}},{"$f":"男200m!#REF!","v":{"$error":"#REF!"}},{"$f":"男200m!#REF!","v":{"$error":"#REF!"}},{"$f":"男200m!#REF!","v":{"$error":"#REF!"}},{"$f":"男200m!#REF!","v":{"$error":"#REF!"}}]
["男子","200m",{"$f":"男200m!C5","v":3506},{"$f":"男200m!D5","v":"阿佐美光紀"},{"$f":"男200m!E5","v":"ｱｻﾐ ｺｳｷ"},{"$f":"男200m!F5","v":2},{"$f":"男200m!G5","v":"北中"},{"$f":"男200m!H5","v":2628}]
["男子","400m",{"$f":"男400m!C4","v":3516},{"$f":"男400m!D4","v":"倉林  航大"},{"$f":"男400m!E4","v":"ｸﾗﾊﾞﾔｼ ｺｳﾀﾞｲ"},{"$f":"男400m!F4","v":2},{"$f":"男400m!G4","v":"西中"},{"$f":"男400m!H4","v":10169}]
["男子","400m",{"$f":"男400m!C5","v":3512},{"$f":"男400m!D5","v":"前村  明俊"},{"$f":"男400m!E5","v":"ﾏｴﾑﾗ ｱｷﾄｼ"},{"$f":"男400m!F5","v":2},{"$f":"男400m!G5","v":"北中"},{"$f":"男400m!H5","v":10278}]
["男子","800m",{"$f":"男800m!C4","v":3507},{"$f":"男800m!D4","v":"清水    樹"},{"$f":"男800m!E4","v":"ｼﾐｽﾞ ﾀﾂｷ"},{"$f":"男800m!F4","v":2},{"$f":"男800m!G4","v":"北中"},{"$f":"男800m!H4","v":22477}]
["男子","800m",{"$f":"男800m!C5","v":3512},{"$f":"男800m!D5","v":"前村  明俊"},{"$f":"男800m!E5","v":"ﾏｴﾑﾗ ｱｷﾄｼ"},{"$f":"男800m!F5","v":2},{"$f":"男800m!G5","v":"北中"},{"$f":"男800m!H5","v":23890}]
["男子","1500m",{"$f":"男1500m!C4","v":3505},{"$f":"男1500m!D4","v":"井上  将吾"},{"$f":"男1500m!E4","v":"ｲﾉｳｴ ｼｮｳｺﾞ"},{"$f":"男1500m!F4","v":2},{"$f":"男1500m!G4","v":"東中"},{"$f":"男1500m!H4","v":45027}]
["男子","1500m",{"$f":"男1500m!C5","v":3507},{"$f":"男1500m!D5","v":"清水    樹"},{"$f":"男1500m!E5","v":"ｼﾐｽﾞ ﾀﾂｷ"},{"$f":"男1500m!F5","v":2},{"$f":"男1500m!G5","v":"北中"},{"$f":"男1500m!H5","v":45846}]
["男子","1500m",{"$f":"男1500m!C6","v":3511},{"$f":"男1500m!D6","v":"福田  颯吾"},{"$f":"男1500m!E6","v":"ﾌｸﾀﾞ ｿｳｺﾞ"},{"$f":"男1500m!F6","v":2},{"$f":"男1500m!G6","v":"北中"},{"$f":"男1500m!H6","v":50595}]
["男子","3000m",{"$f":"男3000m!C4","v":3509},{"$f":"男3000m!D4","v":"坂口    旭"},{"$f":"男3000m!E4","v":"ｻｶｸﾞﾁ ｱｻﾋ"},{"$f":"男3000m!F4","v":2},{"$f":"男3000m!G4","v":"北中"},{"$f":"男3000m!H4","v":102424}]
["男子","3000m",{"$f":"男3000m!C5","v":3505},{"$f":"男3000m!D5","v":"井上  将吾"},{"$f":"男3000m!E5","v":"ｲﾉｳｴ ｼｮｳｺﾞ"},{"$f":"男3000m!F5","v":2},{"$f":"男3000m!G5","v":"東中"},{"$f":"男3000m!H5","v":103627}]
["男子","110mH",{"$f":"男110mH!C4","v":3513},{"$f":"男110mH!D4","v":"中井  大地"},{"$f":"男110mH!E4","v":"ﾅｶｲ ﾀﾞｲﾁ"},{"$f":"男110mH!F4","v":2},{"$f":"男110mH!G4","v":"北中"},{"$f":"男110mH!H4","v":1838}]
["男子","110mH",{"$f":"男110mH!C5","v":3574},{"$f":"男110mH!D5","v":"塚越    猛"},{"$f":"男110mH!E5","v":"ﾂｶｺﾞｼ ﾀｹﾙ"},{"$f":"男110mH!F5","v":2},{"$f":"男110mH!G5","v":"小野"},{"$f":"男110mH!H5","v":2011}]
["男子","4×100mR"]
["男子","4×100mR"]
["男子","4×100mR"]
["男子","4×100mR"]
["男子","4×100mR"]
["男子","4×100mR"]
["男子","走高跳",{"$f":"男走高跳!B4","v":3516},{"$f":"男走高跳!C4","v":"倉林  航大"},{"$f":"男走高跳!D4","v":"ｸﾗﾊﾞﾔｼ ｺｳﾀﾞｲ"},{"$f":"男走高跳!E4","v":2},{"$f":"男走高跳!F4","v":"西中"},{"$f":"男走高跳!AN4","v":160}]
["男子","走高跳",{"$f":"男走高跳!B5","v":1659},{"$f":"男走高跳!C5","v":"阿部　一貫"},{"$f":"男走高跳!D5","v":"ｱﾍﾞ ｲｯｶﾝ"},{"$f":"男走高跳!E5","v":1},{"$f":"男走高跳!F5","v":"小野"},{"$f":"男走高跳!AN5","v":130}]
["男子","走幅跳",{"$f":"男走幅跳!B4","v":3513},{"$f":"男走幅跳!C4","v":"中井  大地"},{"$f":"男走幅跳!D4","v":"ﾅｶｲ ﾀﾞｲﾁ"},{"$f":"男走幅跳!E4","v":2},{"$f":"男走幅跳!F4","v":"北中"},{"$f":"男走幅跳!N4","v":521}]
["男子","走幅跳",{"$f":"男走幅跳!B5","v":3575},{"$f":"男走幅跳!C5","v":"島崎  勝志"},{"$f":"男走幅跳!D5","v":"ｼﾏｻﾞｷ ﾏｻｼ"},{"$f":"男走幅跳!E5","v":2},{"$f":"男走幅跳!F5","v":"小野"},{"$f":"男走幅跳!N5","v":504}]
["男子","砲丸投",{"$f":"男砲丸投!B4","v":7301},{"$f":"男砲丸投!C4","v":"折原  優貴"},{"$f":"男砲丸投!D4","v":"ｵﾘﾊﾗ ﾕｳｷ"},{"$f":"男砲丸投!E4","v":2},{"$f":"男砲丸投!F4","v":"小野"},{"$f":"男砲丸投!N4","v":872}]
["男子","砲丸投",{"$f":"男砲丸投!B5","v":3575},{"$f":"男砲丸投!C5","v":"島崎  勝志"},{"$f":"男砲丸投!D5","v":"ｼﾏｻﾞｷ ﾏｻｼ"},{"$f":"男砲丸投!E5","v":2},{"$f":"男砲丸投!F5","v":"小野"},{"$f":"男砲丸投!N5","v":787}]
["女子","1年100ｍ",{"$f":"女１年100m!C4","v":2085},{"$f":"女１年100m!D4","v":"大澤  真希"},{"$f":"女１年100m!E4","v":"ｵｵｻﾜ ﾏｷ"},{"$f":"女１年100m!F4","v":1},{"$f":"女１年100m!G4","v":"鬼石"},{"$f":"女１年100m!H4","v":1460}]
["女子","1年100ｍ",{"$f":"女１年100m!C5","v":2447},{"$f":"女１年100m!D5","v":"山下　奈緒"},{"$f":"女１年100m!E5","v":"ﾔﾏｼﾀ　ﾅｵ"},{"$f":"女１年100m!F5","v":1},{"$f":"女１年100m!G5","v":"北中"},{"$f":"女１年100m!H5","v":1484}]
["女子","2年100ｍ",{"$f":"女２年100m!C4","v":4519},{"$f":"女２年100m!D4","v":"登坂  未央"},{"$f":"女２年100m!E4","v":"ﾄｻｶ ﾐｵ"},{"$f":"女２年100m!F4","v":2},{"$f":"女２年100m!G4","v":"小野"},{"$f":"女２年100m!H4","v":1392}]
["女子","2年100ｍ",{"$f":"女２年100m!C5","v":4525},{"$f":"女２年100m!D5","v":"金井  萌花"},{"$f":"女２年100m!E5","v":"ｶﾅｲ ﾎﾉｶ"},{"$f":"女２年100m!F5","v":2},{"$f":"女２年100m!G5","v":"小野"},{"$f":"女２年100m!H5","v":1406}]
["女子","200m",{"$f":"女200m!C4","v":4525},{"$f":"女200m!D4","v":"金井  萌花"},{"$f":"女200m!E4","v":"ｶﾅｲ ﾎﾉｶ"},{"$f":"女200m!F4","v":2},{"$f":"女200m!G4","v":"小野"},{"$f":"女200m!H4","v":2882}]
["女子","200m",{"$f":"女200m!C5","v":4089},{"$f":"女200m!D5","v":"三木紗季帆"},{"$f":"女200m!E5","v":"ﾐｷ ｻｷﾎ"},{"$f":"女200m!F5","v":2},{"$f":"女200m!G5","v":"鬼石"},{"$f":"女200m!H5","v":2977}]
["女子","800m",{"$f":"女800m!C4","v":4523},{"$f":"女800m!D4","v":"須田  菜緒"},{"$f":"女800m!E4","v":"ｽﾀﾞ ﾅｵ"},{"$f":"女800m!F4","v":2},{"$f":"女800m!G4","v":"小野"},{"$f":"女800m!H4","v":23486}]
["女子","800m",{"$f":"女800m!C5","v":4520},{"$f":"女800m!D5","v":"藤田  夏美"},{"$f":"女800m!E5","v":"ﾌｼﾞﾀ ﾅﾂﾐ"},{"$f":"女800m!F5","v":2},{"$f":"女800m!G5","v":"小野"},{"$f":"女800m!H5","v":24155}]
["女子","800m",{"$f":"女800m!C6","v":4091},{"$f":"女800m!D6","v":"滝川  真紀"},{"$f":"女800m!E6","v":"ﾀｷｶﾞﾜ ﾏｷ"},{"$f":"女800m!F6","v":2},{"$f":"女800m!G6","v":"鬼石"},{"$f":"女800m!H6","v":25159}]
["女子","1500m",{"$f":"女1500m!C4","v":2445},{"$f":"女1500m!D4","v":"清水　華帆"},{"$f":"女1500m!E4","v":"ｼﾐｽﾞ　ｶﾎ"},{"$f":"女1500m!F4","v":1},{"$f":"女1500m!G4","v":"北中"},{"$f":"女1500m!H4","v":51823}]
["女子","1500m",{"$f":"女1500m!C5","v":4523},{"$f":"女1500m!D5","v":"須田  菜緒"},{"$f":"女1500m!E5","v":"ｽﾀﾞ ﾅｵ"},{"$f":"女1500m!F5","v":2},{"$f":"女1500m!G5","v":"小野"},{"$f":"女1500m!H5","v":52088}]
["女子","1500m",{"$f":"女1500m!C6","v":4521},{"$f":"女1500m!D6","v":"臼田あかり"},{"$f":"女1500m!E6","v":"ｳｽﾀﾞ ｱｶﾘ"},{"$f":"女1500m!F6","v":2},{"$f":"女1500m!G6","v":"小野"},{"$f":"女1500m!H6","v":54659}]
["女子","100mH",{"$f":"女100mH!C4","v":4446},{"$f":"女100mH!D4","v":"鈴木  紅奈"},{"$f":"女100mH!E4","v":"ｽｽﾞｷ ｸﾚﾅ"},{"$f":"女100mH!F4","v":2},{"$f":"女100mH!G4","v":"東中"},{"$f":"女100mH!H4","v":1812}]
["女子","100mH",{"$f":"女100mH!C5","v":2451},{"$f":"女100mH!D5","v":"小暮    南"},{"$f":"女100mH!E5","v":"ｺｸﾞﾚ ﾐﾅﾐ"},{"$f":"女100mH!F5","v":1},{"$f":"女100mH!G5","v":"西中"},{"$f":"女100mH!H5","v":1833}]
["女子","4×100mR"]
["女子","4×100mR"]
["女子","4×100mR"]
["女子","4×100mR"]
["女子","4×100mR"]
["女子","4×100mR"]
["女子","走高跳",{"$f":"女走高跳!B4","v":4091},{"$f":"女走高跳!C4","v":"滝川  真紀"},{"$f":"女走高跳!D4","v":"ﾀｷｶﾞﾜ ﾏｷ"},{"$f":"女走高跳!E4","v":2},{"$f":"女走高跳!F4","v":"鬼石"},{"$f":"女走高跳!AK4","v":135}]
["女子","走高跳",{"$f":"女走高跳!B5","v":4456},{"$f":"女走高跳!C5","v":"浅見  怜美"},{"$f":"女走高跳!D5","v":"ｱｻﾐ ﾚﾐ"},{"$f":"女走高跳!E5","v":2},{"$f":"女走高跳!F5","v":"北中"},{"$f":"女走高跳!AK5","v":130}]
["女子","走幅跳",{"$f":"女走幅跳!B4","v":2086},{"$f":"女走幅跳!C4","v":"布施  彩奈"},{"$f":"女走幅跳!D4","v":"ﾌｾ ｻﾅ"},{"$f":"女走幅跳!E4","v":1},{"$f":"女走幅跳!F4","v":"鬼石"},{"$f":"女走幅跳!N4","v":408}]
["女子","走幅跳",{"$f":"女走幅跳!B5","v":4441},{"$f":"女走幅跳!C5","v":"吉村  泉咲"},{"$f":"女走幅跳!D5","v":"ﾖｼﾑﾗ ﾐｻｷ"},{"$f":"女走幅跳!E5","v":2},{"$f":"女走幅跳!F5","v":"東中"},{"$f":"女走幅跳!N5","v":403}]
["女子","砲丸投",{"$f":"女砲丸投!B4","v":4519},{"$f":"女砲丸投!C4","v":"登坂  未央"},{"$f":"女砲丸投!D4","v":"ﾄｻｶ ﾐｵ"},{"$f":"女砲丸投!E4","v":2},{"$f":"女砲丸投!F4","v":"小野"},{"$f":"女砲丸投!N4","v":778}]
["女子","砲丸投",{"$f":"女砲丸投!B5","v":4448},{"$f":"女砲丸投!C5","v":"松井千花子"},{"$f":"女砲丸投!D5","v":"ﾏﾂｲ ﾁｶｺ"},{"$f":"女砲丸投!E5","v":2},{"$f":"女砲丸投!F5","v":"北中"},{"$f":"女砲丸投!N5","v":743}]