{"text_format":"1","workbook":"xlsx","n_sheets":15,"sheets":["基本情報","総括申込書","男子名簿","女子名簿","トレーナー誓約書(必要な大学のみ)","学校名","入力見本","学校コード","種目名","管理者入力","Sheet1","Sheet2","Sheet3","県名","学連登録"],"not_rendered":{"charts":0,"images":4,"macros":1,"external_links":1,"defined_names":13,"comments":5,"pivot_tables":0},"unopened":[],"bounds":{"document_bytes":16777216,"sheet_cells":100000,"rows_first":2000,"rows_last":500,"rows_between":2000,"halvings":0,"cell_chars":16384,"cell_head_chars":4096},"cells_cut":0,"cells_raw":0,"read":"whole","date_system":"1900"}

{"sheet":"基本情報","index":0,"n_rows":46,"n_cols":24,"rows_kept":46,"cut":false,"hidden":false,"merged":[[45,1,46,2],[45,4,46,5],[45,6,46,6],[45,3,46,3],[34,11,36,12],[40,11,40,12],[41,11,41,16],[42,11,43,15],[33,4,34,6],[34,13,36,18],[33,8,34,10],[32,8,32,10],[32,4,32,6],[32,0,32,2],[31,11,31,16],[33,7,34,7],[1,11,2,19],[26,11,30,12],[26,13,30,14],[26,15,30,16],[7,2,8,3],[0,0,1,9],[6,0,8,1],[6,2,6,3],[2,7,2,9],[3,7,4,9],[6,4,6,7],[23,3,24,3],[22,4,22,6],[23,0,24,2],[23,4,24,6],[7,4,8,7],[8,11,9,15],[5,11,6,14],[14,1,15,9],[26,17,30,19],[25,17,25,19],[22,0,22,2]]}
["第８４回　東海学生陸上競技対校選手権大会",null,null,null,null,null,null,null,null,null,null,null,null,null,null,null,null,null,null,null,null,null,1,"愛知医科大"]
[null,null,null,null,null,null,null,null,null,null,null,"学校コード不明の場合は下記より参照してください。",null,null,null,null,null,null,null,null,null,null,2,"愛知学院大"]
[null,null,null,null,null,null,null,"大会開催日",null,null,null,null,null,null,null,null,null,null,null,null,null,null,3,"愛知教育大"]
[null,null,null,null,null,null,null,"５月１１日～１３日",null,null,null,null,null,null,null,null,null,null,null,null,null,null,4,"愛知県立大"]
[null,null,null,null,null,null,null,null,null,null,null,null,null,null,null,null,null,null,null,null,null,null,5,"愛知工業大"]
[null,null,null,null,null,null,null,null,null,null,null,"学　校　コ　ー　ド",null,null,null,null,null,null,null,null,null,null,6,"愛知淑徳大"]
[null,null,"学校コード",null,"所属団体名",null,null,null,null,null,null,null,null,null,null,null,null,null,null,null,null,null,7,"愛知大"]
[null,null,null,null,{"$f":"IF(C8=\"\",\"\",VLOOKUP($C$8,W1:Y173,2))","v":""},null,null,null,null,null,null,null,null,null,null,null,null,null,null,null,null,null,8,"愛知東邦大"]
[null,null,null,null,null,null,null,null,null,null,null,"・申し込み入力手順",null,null,null,null,null,null,null,null,null,null,9,"岐阜経済大"]
[null,null,null,null,null,null,null,null,null,null,null,null,null,null,null,null,null,null,null,null,null,null,10,"岐阜工業高等専門学校"]
["可能ならば、outlook以外のメールアドレスから送ってください。",null,null,null,null,null,null,null,null,null,null,null,null,null,null,null,null,null,null,null,null,null,11,"岐阜聖徳学園大"]
["返信が拒否される事例が起きています。",null,null,null,null,null,null,null,null,null,null,"①学校コードの入力",null,null,null,null,null,null,null,null,null,null,12,"岐阜大"]
[null,null,null,null,null,null,null,null,null,null,null,"　『学校コード』欄に数字を直接入力するかリストから選択してください。",null,null,null,null,null,null,null,null,null,null,13,"岐阜薬科大"]
[null,null,null,null,null,null,null,null,null,null,null,null,null,null,null,null,null,null,null,null,null,null,14,"近畿大工業高等専門学校"]
[null,"※学校コードは直接入力するかリストから選び入力してください。",null,null,null,null,null,null,null,null,null,"②黄色枠に必要事項を直接入力してください。",null,null,null,null,null,null,null,null,null,null,15,"金城学院大"]
[null,null,null,null,null,null,null,null,null,null,null,null,null,null,null,null,null,null,null,null,null,null,16,"皇學館大"]
["　・大会基本情報入力ページです。",null,null,null,null,null,null,null,null,null,null,"③下記のボタンより男女申込一覧への入力をしてください。",null,null,null,null,null,null,null,null,null,null,17,"至学館大"]
["　・セルが黄色に塗りつぶしてある部分を入力してください。",null,null,null,null,null,null,null,null,null,null,null,null,null,null,null,null,null,null,null,null,null,18,"静岡県立大"]
["　　　※必ず黄色いセルに必要事項を入力してください。入力データが男女名簿に反映されます。",null,null,null,null,null,null,null,null,null,null,null,null,null,null,null,null,null,null,null,null,null,19,"静岡産業大"]
["　・必要事項を入力後男子・女子名簿・（トレーナー名簿）へ移動し申込データを作成してください。",null,null,null,null,null,null,null,null,null,null,null,null,null,null,null,null,null,null,null,null,null,20,"静岡大"]
["　・総括申込書シートの一番下の列に参加料が計算されています。",null,null,null,null,null,null,null,null,null,null,null,null,null,null,null,null,null,null,null,null,null,21,"椙山女学園大"]
[null,null,null,null,null,null,null,null,null,null,null,"　※データーを貼り付ける際には必ず【値の貼付】を使用してください。",null,null,null,null,null,null,null,null,null,null,22,"鈴鹿工業高等専門学校"]
["監督　氏名",null,null,null,"緊急連絡先",null,null,null,null,null,null,null,null,null,null,null,null,null,null,null,null,null,23,"大同大"]
[null,null,null,null,null,null,null,null,null,null,null,"④男女申込一覧の入力が終了しましたら、総括申込書にて",null,null,null,null,null,null,null,null,null,null,24,"中京学院大"]
[null,null,null,null,null,null,null,null,null,null,null,"　　申込数と参加料等の確認をし、振り込みをお願いします。",null,null,null,null,null,null,null,null,null,null,25,"中京大"]
[null,null,null,null,null,null,null,null,null,null,null,null,null,null,null,null,null,"トレーナー活動をする大学のみ",null,null,null,null,26,"中部学院大"]
[null,null,null,null,null,null,null,null,null,null,null,"・総括申込書",null,"・男子名簿",null,"・女子名簿",null,"・トレーナー誓約書",null,null,null,null,27,"中部大"]
[null,null,null,null,null,null,null,null,null,null,null,null,null,null,null,null,null,null,null,null,null,null,28,"東海学園大"]
[null,null,null,null,null,null,null,null,null,null,null,null,null,null,null,null,null,null,null,null,null,null,29,"東海大東海"]
[null,null,null,null,null,null,null,null,null,null,null,null,null,null,null,null,null,null,null,null,null,null,30,"常葉大"]
[null,null,null,null,null,null,null,null,null,null,null,null,null,null,null,null,null,null,null,null,null,null,31,"鳥羽商船高等専門学校"]
[null,null,null,null,null,null,null,null,null,null,null,"以上３(4)シートを印刷してください。",null,null,null,null,null,null,null,null,null,null,32,"豊田工業高等専門学校"]
["学校長名",null,null,null,"記載責任者",null,null,null,"電話番号",null,null,"⑤『名前を付けて保存』から、「大学コード・大学名・○○大会」に変更し、",null,null,null,null,null,null,null,null,null,null,33,"豊橋技術科学大"]
["記入なし",null,null,null,null,null,null,null,null,null,null,"期限までに必ず送ってください。",null,null,null,null,null,null,null,null,null,null,34,"名古屋学院大"]
[null,null,null,null,null,null,null,null,null,null,null,"申込先",null,"tgrrkiroku@yahoo.co.jp",null,null,null,null,null,null,null,null,35,"名古屋工業大"]
[null,null,null,null,null,null,null,null,null,null,null,null,null,null,null,null,null,null,null,null,null,null,36,"名古屋女子大"]
[null,null,null,null,null,null,null,null,null,null,null,null,null,null,null,null,null,null,null,null,null,null,37,"名古屋市立大"]
[null,null,null,null,null,null,null,null,null,null,null,"⑥メール送付確認後、24時間以内にメールを返信いたします。",null,null,null,null,null,null,null,null,null,null,38,"名古屋大"]
[null,null,null,null,null,null,null,null,null,null,null,"  24時間以内に自動返信メールが届かなかった場合、メールが受け取れていない場合があります。",null,null,null,null,null,null,null,null,null,null,39,"南山大"]
[null,null,null,null,null,null,null,null,null,null,null,"  東海学連HPトップのぺージに記載されている電話番号に連絡するようにしてください。",null,null,null,null,null,null,null,null,null,null,40,"日本福祉大"]
[null,null,null,null,null,null,null,null,null,null,null,"参加料振込先",null,null,null,null,null,null,null,null,null,null,41,"沼津工業高等専門学校"]
[null,null,null,null,null,null,null,null,null,null,null,"三菱東京ＵＦＪ銀行 八事支店 普通口座３５５１１９８",null,null,null,null,null,null,null,null,null,null,42,"浜松医科大"]
[null,null,null,null,null,null,null,null,null,null,null,"東海学生陸上競技連盟　黒須 雅弘",null,null,null,null,null,null,null,null,null,null,43,"藤田保健衛生大"]
[null,null,null,null,null,null,null,null,null,null,null,null,null,null,null,null,null,null,null,null,null,null,44,"三重大"]
[null,null,null,null,null,null,null,null,null,null,null,null,null,null,null,null,null,null,null,null,null,null,45,"名城大"]
[null,null,null,null,null,null,null,null,null,null,null,"※必ず振込名の前に B）を記入し、大学名で振り込むこと。",null,null,null,null,null,null,null,null,null,null,777,"その他"]

{"sheet":"総括申込書","index":1,"n_rows":99,"n_cols":15,"rows_kept":99,"cut":false,"hidden":false,"merged":[[89,10,90,10],[85,7,86,7],[85,10,86,10],[83,2,84,2],[89,8,90,9],[85,2,86,2],[85,8,86,9],[83,3,84,6],[87,3,88,6],[89,2,90,2],[85,3,86,6],[89,7,90,7],[83,7,84,7],[83,10,84,10],[83,8,84,9],[87,7,88,7],[87,8,88,9],[87,10,88,10],[89,3,90,6],[81,10,82,10],[79,10,80,10],[81,2,82,2],[81,3,82,6],[81,7,82,7],[81,8,82,9],[79,3,80,6],[79,7,80,9],[79,2,80,2],[51,0,51,2],[46,5,46,7],[60,0,61,0],[78,0,78,1],[78,4,78,5],[78,7,78,9],[48,5,48,7],[65,8,65,9],[56,5,56,7],[52,5,52,7],[53,0,53,2],[54,0,54,2],[54,5,54,7],[76,0,77,0],[76,1,77,1],[76,2,77,2],[76,3,77,3],[75,4,75,5],[76,4,77,5],[79,0,90,0],[79,1,80,1],[55,5,55,7],[60,2,61,2],[59,6,59,7],[57,0,58,1],[63,0,64,0],[63,2,64,2],[60,5,61,5],[56,0,56,2],[81,1,90,1],[66,3,67,3],[66,5,67,5],[66,4,67,4],[66,2,67,2],[63,6,64,7],[63,4,64,4],[63,3,64,3],[63,5,64,5],[60,3,61,3],[63,1,64,1],[60,4,61,4],[60,1,61,1],[74,0,74,1],[41,0,41,2],[5,14,5,21],[4,0,5,1],[27,0,27,2],[28,0,28,2],[23,0,23,2],[13,3,13,5],[13,6,13,8],[21,0,22,1],[8,3,8,5],[18,10,18,11],[34,0,34,2],[29,0,29,2],[18,4,18,6],[4,3,5,6],[18,7,18,9],[19,7,20,9],[3,9,4,11],[8,6,8,7],[19,4,20,6],[33,5,33,7],[31,0,31,2],[14,0,15,2],[33,0,33,2],[13,0,13,2],[30,0,30,2],[26,0,26,2],[9,0,10,2],[32,0,32,2],[35,0,35,2],[0,6,1,11],[14,6,15,8],[24,0,24,2],[9,6,10,7],[25,0,25,2],[19,10,20,11],[9,3,10,5],[24,5,24,7],[2,9,2,11],[3,3,3,6],[0,0,1,5],[19,0,20,2],[18,0,18,2],[3,0,3,1],[8,0,8,2],[39,5,39,7],[35,5,35,7],[51,5,51,7],[49,5,49,7],[47,5,47,7],[41,5,41,7],[47,0,47,2],[50,5,50,7],[44,5,44,7],[43,0,43,2],[37,0,37,2],[37,5,37,7],[40,5,40,7],[46,0,46,2],[42,0,42,2],[50,0,50,2],[45,5,45,7],[39,0,39,2],[40,0,40,2],[44,0,44,2],[48,0,48,2],[45,0,45,2],[38,0,38,2],[36,0,36,2],[0,14,1,17],[6,0,7,8],[14,3,15,5],[98,0,114,10],[69,0,70,1],[71,4,71,5],[72,0,73,0],[72,1,73,1],[87,2,88,2],[49,0,49,2],[66,8,67,9],[65,6,65,7],[66,6,67,7],[23,5,23,7],[72,4,73,5],[53,5,53,7],[42,5,42,7],[60,6,61,7],[62,6,62,7],[43,5,43,7],[72,2,73,2],[72,3,73,3],[52,0,52,2],[55,0,55,2],[32,14,36,17],[25,5,25,7],[28,5,28,7],[30,13,31,26],[36,5,36,7],[38,5,38,7],[26,5,26,7],[32,5,32,7],[27,5,27,7],[31,5,31,7],[34,5,34,7],[30,5,30,7],[29,5,29,7]]}
[{"$f":"基本情報!$A$1","v":"第８４回　東海学生陸上競技対校選手権大会"},null,null,null,null,null,"総括申込書・種目別申込数一覧表",null,null,null,null,null,null,null,"※男女各名簿に移動します。"]
[]
[null,null,null,null,null,null,null,null,null,"大会開催日"]
["学校コード",null,null,"所　属　団　体　名",null,null,null,null,null,{"$f":"基本情報!H4","v":"５月１１日～１３日"}]
[{"$f":"IF(基本情報!C8=\"\",\"\",基本情報!C8)","v":""},null,null,{"$f":"基本情報!E8","v":""}]
[]
["エントリー内容に申し違いがないことを確認してから提出すること。"]
[]
["監督　氏名",null,null,"緊急連絡先",null,null,"監督印"]
[{"$f":"IF(総括申込書!A32=\"\",\"\",基本情報!A24)","v":0},null,null,{"$f":"IF(基本情報!E24=\"\",\"\",基本情報!$E$24)","v":""}]
[]
[]
[null,null,null,null,null,null,null,null,null,null,null,null,null,null,"※下のボタンを押すと１ページ印刷されます。"]
["引率者氏名①（全員）",null,null,"引率者氏名②（全員）",null,null,"引率者氏名③（全員）"]
[{"$f":"IF($A$10=\"\",\"\",$A$10)","v":0},null,null,{"$f":"IF(基本情報!D29=\"\",\"\",基本情報!$D$29)","v":""},null,null,{"$f":"IF(基本情報!G29=\"\",\"\",基本情報!G29)","v":""}]
[]
[]
[]
["学校長名",null,null,null,"記載責任者",null,null,"電話番号",null,null,"責任者印"]
[{"$f":"IF(基本情報!A34=\"\",\"\",基本情報!A34)","v":"記入なし"},null,null,null,{"$f":"IF(基本情報!E34=\"\",\"\",基本情報!E34)","v":""},null,null,{"$f":"IF(基本情報!I34=\"\",\"\",基本情報!I34)","v":""}]
[]
["申込確認一覧"]
[]
["男　子　競　技　種　目",null,null,"種目数",null,"女　子　競　技　種　目",null,null,"種目数"]
[{"$f":"IF(管理者入力!B5=\"\",\"\",管理者入力!B5)","v":"男子100m"},null,null,{"$f":"男子名簿!U523","v":0},null,{"$f":"IF(管理者入力!G5=\"\",\"\",管理者入力!G5)","v":"女子100m"},null,null,{"$f":"女子名簿!U523","v":0}]
[{"$f":"IF(管理者入力!B6=\"\",\"\",管理者入力!B6)","v":"男子200m"},null,null,{"$f":"男子名簿!U524","v":0},null,{"$f":"IF(管理者入力!G6=\"\",\"\",管理者入力!G6)","v":"女子200m"},null,null,{"$f":"女子名簿!U524","v":0}]
[{"$f":"IF(管理者入力!B7=\"\",\"\",管理者入力!B7)","v":"男子400m"},null,null,{"$f":"男子名簿!U525","v":0},null,{"$f":"IF(管理者入力!G7=\"\",\"\",管理者入力!G7)","v":"女子400m"},null,null,{"$f":"女子名簿!U525","v":0}]
[{"$f":"IF(管理者入力!B8=\"\",\"\",管理者入力!B8)","v":"男子800m"},null,null,{"$f":"男子名簿!U526","v":0},null,{"$f":"IF(管理者入力!G8=\"\",\"\",管理者入力!G8)","v":"女子800m"},null,null,{"$f":"女子名簿!U526","v":0}]
[{"$f":"IF(管理者入力!B9=\"\",\"\",管理者入力!B9)","v":"男子1500m"},null,null,{"$f":"男子名簿!U527","v":0},null,{"$f":"IF(管理者入力!G9=\"\",\"\",管理者入力!G9)","v":"女子1500m"},null,null,{"$f":"女子名簿!U527","v":0}]
[{"$f":"IF(管理者入力!B10=\"\",\"\",管理者入力!B10)","v":"男子5000m"},null,null,{"$f":"男子名簿!U528","v":0},null,{"$f":"IF(管理者入力!G10=\"\",\"\",管理者入力!G10)","v":"女子5000m"},null,null,{"$f":"女子名簿!U528","v":0}]
[{"$f":"IF(管理者入力!B11=\"\",\"\",管理者入力!B11)","v":"男子10000m"},null,null,{"$f":"男子名簿!U529","v":0},null,{"$f":"IF(管理者入力!G11=\"\",\"\",管理者入力!G11)","v":"女子10000m"},null,null,{"$f":"女子名簿!U529","v":0},null,null,null,null,"各Sheetの印刷ボタン（「Ctrl」キー＋「P」を同時入力、あるいは「ファイル」→「印刷」)から、\nそれぞれ必要となる書類を印刷してください。"]
[{"$f":"IF(管理者入力!B12=\"\",\"\",管理者入力!B12)","v":"男子110mH(1.067m)"},null,null,{"$f":"男子名簿!U530","v":0},null,{"$f":"IF(管理者入力!G12=\"\",\"\",管理者入力!G12)","v":"女子100mH(0.838m)"},null,null,{"$f":"女子名簿!U530","v":0}]
[{"$f":"IF(管理者入力!B13=\"\",\"\",管理者入力!B13)","v":"男子400mH(0.914m)"},null,null,{"$f":"男子名簿!U531","v":0},null,{"$f":"IF(管理者入力!G13=\"\",\"\",管理者入力!G13)","v":"女子400mH(0.762m)"},null,null,{"$f":"女子名簿!U531","v":0}]
[{"$f":"IF(管理者入力!B14=\"\",\"\",管理者入力!B14)","v":"男子3000mSC"},null,null,{"$f":"男子名簿!U532","v":0},null,{"$f":"IF(管理者入力!G14=\"\",\"\",管理者入力!G14)","v":"女子3000mSC"},null,null,{"$f":"女子名簿!U532","v":0}]
[{"$f":"IF(管理者入力!B15=\"\",\"\",管理者入力!B15)","v":"男子10000mW"},null,null,{"$f":"男子名簿!U533","v":0},null,{"$f":"IF(管理者入力!G15=\"\",\"\",管理者入力!G15)","v":"女子10000mW"},null,null,{"$f":"女子名簿!U533","v":0}]
[{"$f":"IF(管理者入力!B16=\"\",\"\",管理者入力!B16)","v":"男子走高跳"},null,null,{"$f":"男子名簿!U534","v":0},null,{"$f":"IF(管理者入力!G16=\"\",\"\",管理者入力!G16)","v":"女子走高跳"},null,null,{"$f":"女子名簿!U534","v":0}]
[{"$f":"IF(管理者入力!B17=\"\",\"\",管理者入力!B17)","v":"男子棒高跳"},null,null,{"$f":"男子名簿!U535","v":0},null,{"$f":"IF(管理者入力!G17=\"\",\"\",管理者入力!G17)","v":"女子棒高跳"},null,null,{"$f":"女子名簿!U535","v":0}]
[{"$f":"IF(管理者入力!B18=\"\",\"\",管理者入力!B18)","v":"男子走幅跳"},null,null,{"$f":"男子名簿!U536","v":0},null,{"$f":"IF(管理者入力!G18=\"\",\"\",管理者入力!G18)","v":"女子走幅跳"},null,null,{"$f":"女子名簿!U536","v":0}]
[{"$f":"IF(管理者入力!B19=\"\",\"\",管理者入力!B19)","v":"男子三段跳"},null,null,{"$f":"男子名簿!U537","v":0},null,{"$f":"IF(管理者入力!G19=\"\",\"\",管理者入力!G19)","v":"女子三段跳"},null,null,{"$f":"女子名簿!U537","v":0}]
[{"$f":"IF(管理者入力!B20=\"\",\"\",管理者入力!B20)","v":"男子砲丸投(7.260kg)"},null,null,{"$f":"男子名簿!U538","v":0},null,{"$f":"IF(管理者入力!G20=\"\",\"\",管理者入力!G20)","v":"女子砲丸投(4.000kg)"},null,null,{"$f":"女子名簿!U538","v":0}]
[{"$f":"IF(管理者入力!B21=\"\",\"\",管理者入力!B21)","v":"男子円盤投(2.000kg)"},null,null,{"$f":"男子名簿!U539","v":0},null,{"$f":"IF(管理者入力!G21=\"\",\"\",管理者入力!G21)","v":"女子円盤投(1.000kg)"},null,null,{"$f":"女子名簿!U539","v":0}]
[{"$f":"IF(管理者入力!B22=\"\",\"\",管理者入力!B22)","v":"男子ハンマー投(7.260kg)"},null,null,{"$f":"男子名簿!U540","v":0},null,{"$f":"IF(管理者入力!G22=\"\",\"\",管理者入力!G22)","v":"女子ハンマー投(4.000kg)"},null,null,{"$f":"女子名簿!U540","v":0}]
[{"$f":"IF(管理者入力!B23=\"\",\"\",管理者入力!B23)","v":"男子やり投(800g)"},null,null,{"$f":"男子名簿!U541","v":0},null,{"$f":"IF(管理者入力!G23=\"\",\"\",管理者入力!G23)","v":"女子やり投(600g)"},null,null,{"$f":"女子名簿!U541","v":0}]
[{"$f":"IF(管理者入力!B24=\"\",\"\",管理者入力!B24)","v":"男子十種競技"},null,null,{"$f":"男子名簿!U542","v":0},null,{"$f":"IF(管理者入力!G24=\"\",\"\",管理者入力!G24)","v":"女子七種競技"},null,null,{"$f":"女子名簿!U542","v":0}]
[{"$f":"IF(管理者入力!B25=\"\",\"\",管理者入力!B25)","v":"男子5000mOP"},null,null,{"$f":"男子名簿!U543","v":0},null,{"$f":"IF(管理者入力!G25=\"\",\"\",管理者入力!G25)","v":"女子5000mOP"},null,null,{"$f":"女子名簿!U543","v":0}]
[{"$f":"IF(管理者入力!B26=\"\",\"\",管理者入力!B26)","v":" "},null,null,{"$f":"男子名簿!U544","v":0},null,{"$f":"IF(管理者入力!G26=\"\",\"\",管理者入力!G26)","v":" "},null,null,{"$f":"女子名簿!U544","v":0}]
[{"$f":"IF(管理者入力!B27=\"\",\"\",管理者入力!B27)","v":" "},null,null,{"$f":"男子名簿!U545","v":0},null,{"$f":"IF(管理者入力!G27=\"\",\"\",管理者入力!G27)","v":" "},null,null,{"$f":"女子名簿!U545","v":0}]
[{"$f":"IF(管理者入力!B28=\"\",\"\",管理者入力!B28)","v":" "},null,null,{"$f":"男子名簿!U546","v":0},null,{"$f":"IF(管理者入力!G28=\"\",\"\",管理者入力!G28)","v":" "},null,null,{"$f":"女子名簿!U546","v":0}]
[{"$f":"IF(管理者入力!B29=\"\",\"\",管理者入力!B29)","v":" "},null,null,{"$f":"男子名簿!U547","v":0},null,{"$f":"IF(管理者入力!G29=\"\",\"\",管理者入力!G29)","v":" "},null,null,{"$f":"女子名簿!U547","v":0}]
[{"$f":"IF(管理者入力!B30=\"\",\"\",管理者入力!B30)","v":" "},null,null,{"$f":"男子名簿!U548","v":0},null,{"$f":"IF(管理者入力!G30=\"\",\"\",管理者入力!G30)","v":" "},null,null,{"$f":"女子名簿!U548","v":0}]
[{"$f":"IF(管理者入力!B31=\"\",\"\",管理者入力!B31)","v":" "},null,null,{"$f":"男子名簿!U549","v":0},null,{"$f":"IF(管理者入力!G31=\"\",\"\",管理者入力!G31)","v":" "},null,null,{"$f":"女子名簿!U549","v":0}]
[{"$f":"IF(管理者入力!B32=\"\",\"\",管理者入力!B32)","v":" "},null,null,{"$f":"男子名簿!U550","v":0},null,{"$f":"IF(管理者入力!G32=\"\",\"\",管理者入力!G32)","v":" "},null,null,{"$f":"女子名簿!U550","v":0}]
["種　目　合　計",null,null,{"$f":"SUM(D25:D50)","v":0},null,"種　目　合　計",null,null,{"$f":"SUM(I25:I50)","v":0}]
[{"$f":"IF(管理者入力!B34=\"\",\"\",管理者入力!B34)","v":"男子4X100mR"},null,null,{"$f":"男子名簿!P522","v":0},null,{"$f":"IF(管理者入力!G34=\"\",\"\",管理者入力!G34)","v":"女子4X100mR"},null,null,{"$f":"女子名簿!P522","v":0}]
[{"$f":"IF(管理者入力!B35=\"\",\"\",管理者入力!B35)","v":"男子4X400mR"},null,null,{"$f":"男子名簿!S522","v":0},null,{"$f":"IF(管理者入力!G35=\"\",\"\",管理者入力!G35)","v":"女子4X400mR"},null,null,{"$f":"女子名簿!S522","v":0}]
[{"$f":"IF(管理者入力!B36=\"\",\"\",管理者入力!B36)","v":"　"},null,null,null,null,{"$f":"IF(管理者入力!G36=\"\",\"\",管理者入力!G36)","v":"　"}]
["リレー合計",null,null,{"$f":"SUM(D54:D56)","v":0},null,"リレー合計",null,null,{"$f":"SUM(I54:I56)","v":0}]
["参加料"]
[]
["男子",null,"女子",null,"参加料",null,"参加料合計"]
[{"$f":"D53","v":0},"+",{"$f":"I53","v":0},"×",1500,"＝",{"$f":"($A$61+$C$61)*$E$61","v":0}]
[]
["リレー男子",null,"リレー女子",null,"参加料",null,"リレー参加料合計"]
[{"$f":"D57","v":0},"+",{"$f":"I57","v":0},"×",2000,"＝",{"$f":"($A$64+$C$64)*$E$64","v":0}]
[]
[null,null,"部　数",null,"金　額",null,"プログラム料",null,"支払い合計金額"]
[null,null,null,"×",1000,"＝",{"$f":"C67*E67","v":0},null,{"$f":"SUM(G61,G64,G67,)","v":0}]
[]
[]
["実参加人数"]
[]
["男子",null,"女子",null,"実人数合計"]
[{"$f":"COUNTA(男子名簿!$B$12:$B$520)-1","v":0},"+",{"$f":"COUNTA(女子名簿!$B$12:$B$520)-1","v":0},"＝",{"$f":"A73+C73","v":0}]
[]
["プログラム"]
["購入数",null,"円/冊",null,"プログラム代"]
[null,"×",1000,"＝",{"$f":"A77*C77","v":0}]
[]
["広告料",null,null,"参加人数",{"$f":"E73","v":0},null,"名",{"$f":"H80+I82+I84+I86+I88+I90","v":0},null,null,"円"]
["内訳","大学\n負担分","②",{"$f":"基本情報!E8","v":""},null,null,null,null,null,null,"円"]
[]
[null,"会社\n負担分","社名",null,null,null,null,"会社振込",null,null,"円"]
[]
[null,null,"社名",null,null,null,null,"会社振込",null,null,"円"]
[]
[null,null,"社名",null,null,null,null,"会社振込",null,null,"円"]
[]
[null,null,"社名",null,null,null,null,"会社振込",null,null,"円"]
[]
[null,null,"社名",null,null,null,null,"会社振込",null,null,"円"]
[]
[]
["※広告料＝大学負担分＋会社負担分となるように記入すること。"]
["※会社負担分は全て直接会社振込みにすること。"]
["※広告料は参加人数（実質人数）に応じて変わるので、各大学大会要項"]
["　を確認して記入すること。"]
["※広告料は、東海インカレと東海学生秋季大会のみ記入すること。"]
[]
["振　込　明　細　書　コ　ピ　ー　貼　り　付　け"]

{"sheet":"男子名簿","index":2,"n_rows":596,"n_cols":35,"rows_kept":596,"cut":false,"hidden":false,"merged":[[519,7,519,8],[518,7,518,8],[517,7,517,8],[513,7,513,8],[511,7,511,8],[516,7,516,8],[9,0,9,2],[83,0,83,20],[84,7,84,8],[84,10,84,11],[84,13,84,14],[84,16,84,17],[84,19,84,20],[79,16,79,17],[79,13,79,14],[81,13,81,14],[502,7,502,8],[503,7,503,8],[501,7,501,8],[515,7,515,8],[500,7,500,8],[495,7,495,8],[499,7,499,8],[498,7,498,8],[505,7,505,8],[512,7,512,8],[508,7,508,8],[509,7,509,8],[507,7,507,8],[504,7,504,8],[491,7,491,8],[487,7,487,8],[488,7,488,8],[494,7,494,8],[497,7,497,8],[492,7,492,8],[490,7,490,8],[493,7,493,8],[489,7,489,8],[496,7,496,8],[481,7,481,8],[482,7,482,8],[474,7,474,8],[486,7,486,8],[484,7,484,8],[483,7,483,8],[485,7,485,8],[479,7,479,8],[475,7,475,8],[476,7,476,8],[463,7,463,8],[464,7,464,8],[468,7,468,8],[466,7,466,8],[465,7,465,8],[457,7,457,8],[458,7,458,8],[480,7,480,8],[478,7,478,8],[477,7,477,8],[469,7,469,8],[470,7,470,8],[462,7,462,8],[472,7,472,8],[471,7,471,8],[473,7,473,8],[467,7,467,8],[450,7,450,8],[460,7,460,8],[459,7,459,8],[461,7,461,8],[455,7,455,8],[451,7,451,8],[452,7,452,8],[456,7,456,8],[454,7,454,8],[453,7,453,8],[445,7,445,8],[446,7,446,8],[438,7,438,8],[448,7,448,8],[447,7,447,8],[449,7,449,8],[443,7,443,8],[439,7,439,8],[440,7,440,8],[444,7,444,8],[428,7,428,8],[432,7,432,8],[430,7,430,8],[429,7,429,8],[421,7,421,8],[422,7,422,8],[442,7,442,8],[441,7,441,8],[433,7,433,8],[434,7,434,8],[426,7,426,8],[436,7,436,8],[435,7,435,8],[437,7,437,8],[431,7,431,8],[427,7,427,8],[414,7,414,8],[424,7,424,8],[423,7,423,8],[425,7,425,8],[419,7,419,8],[415,7,415,8],[416,7,416,8],[420,7,420,8],[418,7,418,8],[417,7,417,8],[409,7,409,8],[410,7,410,8],[402,7,402,8],[412,7,412,8],[411,7,411,8],[413,7,413,8],[407,7,407,8],[403,7,403,8],[404,7,404,8],[408,7,408,8],[392,7,392,8],[396,7,396,8],[394,7,394,8],[393,7,393,8],[385,7,385,8],[386,7,386,8],[406,7,406,8],[405,7,405,8],[397,7,397,8],[398,7,398,8],[390,7,390,8],[400,7,400,8],[399,7,399,8],[401,7,401,8],[395,7,395,8],[391,7,391,8],[378,7,378,8],[388,7,388,8],[387,7,387,8],[389,7,389,8],[383,7,383,8],[379,7,379,8],[380,7,380,8],[384,7,384,8],[382,7,382,8],[381,7,381,8],[373,7,373,8],[374,7,374,8],[366,7,366,8],[376,7,376,8],[375,7,375,8],[377,7,377,8],[371,7,371,8],[367,7,367,8],[368,7,368,8],[372,7,372,8],[356,7,356,8],[360,7,360,8],[358,7,358,8],[357,7,357,8],[349,7,349,8],[350,7,350,8],[370,7,370,8],[369,7,369,8],[361,7,361,8],[362,7,362,8],[354,7,354,8],[364,7,364,8],[363,7,363,8],[365,7,365,8],[359,7,359,8],[355,7,355,8],[342,7,342,8],[352,7,352,8],[351,7,351,8],[353,7,353,8],[347,7,347,8],[343,7,343,8],[344,7,344,8],[348,7,348,8],[346,7,346,8],[345,7,345,8],[337,7,337,8],[338,7,338,8],[330,7,330,8],[340,7,340,8],[339,7,339,8],[341,7,341,8],[335,7,335,8],[331,7,331,8],[332,7,332,8],[336,7,336,8],[320,7,320,8],[324,7,324,8],[322,7,322,8],[321,7,321,8],[313,7,313,8],[314,7,314,8],[334,7,334,8],[333,7,333,8],[325,7,325,8],[326,7,326,8],[318,7,318,8],[328,7,328,8],[327,7,327,8],[329,7,329,8],[323,7,323,8],[319,7,319,8],[306,7,306,8],[316,7,316,8],[315,7,315,8],[317,7,317,8],[311,7,311,8],[307,7,307,8],[308,7,308,8],[312,7,312,8],[310,7,310,8],[309,7,309,8],[301,7,301,8],[302,7,302,8],[294,7,294,8],[304,7,304,8],[303,7,303,8],[305,7,305,8],[299,7,299,8],[295,7,295,8],[296,7,296,8],[300,7,300,8],[284,7,284,8],[288,7,288,8],[286,7,286,8],[285,7,285,8],[277,7,277,8],[278,7,278,8],[298,7,298,8],[297,7,297,8],[289,7,289,8],[290,7,290,8],[282,7,282,8],[292,7,292,8],[291,7,291,8],[293,7,293,8],[287,7,287,8],[283,7,283,8],[270,7,270,8],[280,7,280,8],[279,7,279,8],[281,7,281,8],[275,7,275,8],[271,7,271,8],[272,7,272,8],[276,7,276,8],[274,7,274,8],[273,7,273,8],[265,7,265,8],[266,7,266,8],[258,7,258,8],[268,7,268,8],[267,7,267,8],[269,7,269,8],[263,7,263,8],[259,7,259,8],[260,7,260,8],[264,7,264,8],[248,7,248,8],[252,7,252,8],[250,7,250,8],[249,7,249,8],[241,7,241,8],[242,7,242,8],[262,7,262,8],[261,7,261,8],[253,7,253,8],[254,7,254,8],[246,7,246,8],[256,7,256,8],[255,7,255,8],[257,7,257,8],[251,7,251,8],[247,7,247,8],[234,7,234,8],[244,7,244,8],[243,7,243,8],[245,7,245,8],[239,7,239,8],[235,7,235,8],[236,7,236,8],[240,7,240,8],[238,7,238,8],[237,7,237,8],[229,7,229,8],[230,7,230,8],[222,7,222,8],[232,7,232,8],[231,7,231,8],[233,7,233,8],[227,7,227,8],[223,7,223,8],[224,7,224,8],[228,7,228,8],[212,7,212,8],[216,7,216,8],[214,7,214,8],[213,7,213,8],[205,7,205,8],[206,7,206,8],[226,7,226,8],[225,7,225,8],[217,7,217,8],[218,7,218,8],[210,7,210,8],[220,7,220,8],[219,7,219,8],[221,7,221,8],[215,7,215,8],[211,7,211,8],[198,7,198,8],[208,7,208,8],[207,7,207,8],[209,7,209,8],[203,7,203,8],[199,7,199,8],[200,7,200,8],[204,7,204,8],[202,7,202,8],[201,7,201,8],[193,7,193,8],[194,7,194,8],[186,7,186,8],[196,7,196,8],[195,7,195,8],[197,7,197,8],[191,7,191,8],[187,7,187,8],[188,7,188,8],[192,7,192,8],[176,7,176,8],[180,7,180,8],[178,7,178,8],[177,7,177,8],[169,7,169,8],[170,7,170,8],[190,7,190,8],[189,7,189,8],[181,7,181,8],[182,7,182,8],[174,7,174,8],[184,7,184,8],[183,7,183,8],[185,7,185,8],[179,7,179,8],[175,7,175,8],[162,7,162,8],[172,7,172,8],[171,7,171,8],[173,7,173,8],[167,7,167,8],[163,7,163,8],[164,7,164,8],[168,7,168,8],[166,7,166,8],[165,7,165,8],[157,7,157,8],[158,7,158,8],[150,7,150,8],[160,7,160,8],[159,7,159,8],[161,7,161,8],[155,7,155,8],[151,7,151,8],[152,7,152,8],[156,7,156,8],[140,7,140,8],[144,7,144,8],[142,7,142,8],[141,7,141,8],[133,7,133,8],[134,7,134,8],[154,7,154,8],[153,7,153,8],[145,7,145,8],[146,7,146,8],[138,7,138,8],[148,7,148,8],[147,7,147,8],[149,7,149,8],[143,7,143,8],[139,7,139,8],[126,7,126,8],[136,7,136,8],[135,7,135,8],[137,7,137,8],[131,7,131,8],[127,7,127,8],[128,7,128,8],[132,7,132,8],[130,7,130,8],[129,7,129,8],[121,7,121,8],[122,7,122,8],[114,7,114,8],[124,7,124,8],[123,7,123,8],[125,7,125,8],[115,7,115,8],[116,7,116,8],[119,7,119,8],[120,7,120,8],[110,7,110,8],[102,7,102,8],[107,7,107,8],[106,7,106,8],[99,7,99,8],[109,7,109,8],[100,7,100,8],[118,7,118,8],[117,7,117,8],[105,7,105,8],[101,7,101,8],[104,7,104,8],[112,7,112,8],[111,7,111,8],[113,7,113,8],[108,7,108,8],[103,7,103,8],[93,7,93,8],[87,7,87,8],[89,7,89,8],[96,7,96,8],[95,7,95,8],[98,7,98,8],[94,7,94,8],[74,16,74,17],[76,16,76,17],[88,7,88,8],[77,7,77,8],[80,10,80,11],[82,7,82,8],[82,10,82,11],[82,13,82,14],[85,9,519,20],[514,7,514,8],[510,7,510,8],[506,7,506,8],[76,7,76,8],[76,10,76,11],[78,10,78,11],[80,13,80,14],[80,16,80,17],[78,16,78,17],[82,16,82,17],[85,7,85,8],[91,7,91,8],[81,7,81,8],[81,10,81,11],[47,19,47,20],[69,16,69,17],[68,16,68,17],[61,16,61,17],[53,19,53,20],[54,19,54,20],[73,16,73,17],[72,10,72,11],[48,19,48,20],[50,16,50,17],[56,16,56,17],[58,16,58,17],[51,16,51,17],[70,16,70,17],[73,13,73,14],[67,13,67,14],[68,10,68,11],[71,10,71,11],[69,13,69,14],[68,13,68,14],[55,19,55,20],[72,16,72,17],[71,16,71,17],[81,19,81,20],[63,19,63,20],[62,19,62,20],[64,19,64,20],[70,19,70,20],[79,19,79,20],[73,19,73,20],[72,19,72,20],[75,19,75,20],[68,19,68,20],[71,19,71,20],[77,19,77,20],[76,19,76,20],[69,19,69,20],[57,19,57,20],[67,19,67,20],[65,19,65,20],[81,16,81,17],[66,16,66,17],[65,16,65,17],[63,16,63,17],[62,16,62,17],[66,19,66,20],[60,16,60,17],[57,16,57,17],[67,16,67,17],[60,19,60,20],[58,19,58,20],[59,19,59,20],[64,16,64,17],[75,16,75,17],[77,16,77,17],[56,19,56,20],[82,19,82,20],[37,19,37,20],[42,19,42,20],[32,19,32,20],[31,19,31,20],[80,19,80,20],[40,19,40,20],[38,19,38,20],[35,19,35,20],[45,19,45,20],[46,19,46,20],[49,19,49,20],[50,19,50,20],[44,19,44,20],[36,19,36,20],[33,19,33,20],[51,19,51,20],[52,19,52,20],[74,19,74,20],[78,19,78,20],[61,19,61,20],[34,19,34,20],[39,19,39,20],[12,19,12,20],[13,19,13,20],[14,19,14,20],[23,19,23,20],[24,19,24,20],[19,19,19,20],[15,19,15,20],[16,19,16,20],[20,19,20,20],[28,19,28,20],[25,19,25,20],[30,19,30,20],[27,19,27,20],[25,16,25,17],[44,16,44,17],[42,16,42,17],[17,13,17,14],[41,16,41,17],[41,19,41,20],[43,19,43,20],[42,13,42,14],[33,16,33,17],[34,16,34,17],[23,16,23,17],[37,16,37,17],[26,13,26,14],[21,19,21,20],[26,19,26,20],[22,19,22,20],[29,19,29,20],[28,16,28,17],[17,19,17,20],[18,19,18,20],[36,16,36,17],[31,16,31,17],[39,16,39,17],[43,16,43,17],[16,16,16,17],[17,16,17,17],[40,16,40,17],[26,16,26,17],[27,16,27,17],[15,13,15,14],[24,16,24,17],[38,16,38,17],[15,16,15,17],[34,13,34,14],[18,16,18,17],[31,13,31,14],[33,13,33,14],[29,13,29,14],[24,13,24,14],[29,16,29,17],[30,16,30,17],[32,16,32,17],[35,16,35,17],[23,13,23,14],[39,13,39,14],[22,13,22,14],[27,13,27,14],[18,13,18,14],[52,16,52,17],[53,16,53,17],[59,16,59,17],[48,16,48,17],[49,16,49,17],[54,16,54,17],[45,16,45,17],[55,16,55,17],[46,16,46,17],[47,16,47,17],[52,13,52,14],[47,13,47,14],[48,13,48,14],[45,13,45,14],[46,13,46,14],[41,13,41,14],[49,13,49,14],[50,13,50,14],[51,13,51,14],[69,10,69,11],[79,10,79,11],[77,13,77,14],[66,13,66,14],[71,13,71,14],[72,13,72,14],[56,10,56,11],[62,13,62,14],[60,13,60,14],[59,13,59,14],[70,13,70,14],[61,13,61,14],[65,13,65,14],[63,13,63,14],[64,13,64,14],[74,10,74,11],[74,13,74,14],[76,13,76,14],[78,13,78,14],[75,13,75,14],[73,10,73,11],[77,10,77,11],[75,10,75,11],[70,10,70,11],[66,7,66,8],[61,7,61,8],[56,7,56,8],[58,13,58,14],[57,13,57,14],[55,13,55,14],[56,13,56,14],[65,10,65,11],[67,10,67,11],[31,10,31,11],[33,7,33,8],[34,10,34,11],[62,10,62,11],[64,10,64,11],[66,10,66,11],[61,10,61,11],[46,7,46,8],[47,7,47,8],[63,10,63,11],[52,7,52,8],[52,10,52,11],[51,10,51,11],[60,10,60,11],[47,10,47,11],[51,7,51,8],[50,7,50,8],[49,7,49,8],[49,10,49,11],[48,7,48,8],[58,10,58,11],[53,7,53,8],[59,10,59,11],[57,10,57,11],[34,7,34,8],[35,7,35,8],[38,10,38,11],[35,10,35,11],[36,10,36,11],[37,7,37,8],[36,7,36,8],[33,10,33,11],[32,7,32,8],[45,10,45,11],[39,10,39,11],[45,7,45,8],[40,10,40,11],[39,7,39,8],[43,10,43,11],[40,7,40,8],[42,7,42,8],[43,7,43,8],[41,7,41,8],[71,7,71,8],[80,7,80,8],[79,7,79,8],[78,7,78,8],[57,7,57,8],[58,7,58,8],[97,7,97,8],[68,7,68,8],[59,7,59,8],[86,7,86,8],[90,7,90,8],[92,7,92,8],[69,7,69,8],[75,7,75,8],[70,7,70,8],[72,7,72,8],[74,7,74,8],[73,7,73,8],[67,7,67,8],[63,7,63,8],[65,7,65,8],[60,7,60,8],[62,7,62,8],[64,7,64,8],[50,10,50,11],[48,10,48,11],[53,10,53,11],[54,7,54,8],[55,7,55,8],[28,13,28,14],[32,10,32,11],[46,10,46,11],[54,10,54,11],[55,10,55,11],[29,10,29,11],[35,13,35,14],[40,13,40,14],[43,13,43,14],[44,13,44,14],[54,13,54,14],[53,13,53,14],[32,13,32,14],[30,13,30,14],[44,10,44,11],[41,10,41,11],[42,10,42,11],[44,7,44,8],[38,7,38,8],[25,13,25,14],[36,13,36,14],[37,13,37,14],[38,13,38,14],[19,13,19,14],[21,13,21,14],[20,13,20,14],[30,7,30,8],[29,7,29,8],[19,7,19,8],[26,7,26,8],[30,10,30,11],[23,10,23,11],[25,10,25,11],[24,10,24,11],[27,10,27,11],[23,7,23,8],[28,7,28,8],[24,7,24,8],[25,7,25,8],[28,10,28,11],[27,7,27,8],[37,10,37,11],[31,7,31,8],[26,10,26,11],[19,10,19,11],[15,7,15,8],[12,7,12,8],[21,10,21,11],[18,10,18,11],[17,7,17,8],[18,7,18,8],[14,7,14,8],[20,7,20,8],[16,10,16,11],[16,7,16,8],[2,15,2,17],[1,15,1,17],[22,7,22,8],[15,10,15,11],[20,10,20,11],[22,10,22,11],[21,7,21,8],[10,7,10,8],[13,7,13,8],[9,7,9,8],[14,13,14,14],[16,13,16,14],[19,16,19,17],[20,16,20,17],[21,16,21,17],[22,16,22,17],[3,15,3,17],[4,15,4,17],[11,16,11,17],[12,16,12,17],[13,16,13,17],[11,13,11,14],[13,13,13,14],[17,10,17,11],[11,7,11,8],[12,13,12,14],[7,1,8,2],[0,0,0,9],[1,0,1,11],[2,0,2,11],[7,0,8,0],[11,10,11,11],[8,7,8,8],[9,9,9,11],[12,10,12,11],[6,19,6,20],[14,16,14,17],[6,16,6,18],[10,16,10,17],[8,9,8,11],[10,10,10,11],[14,10,14,11],[13,10,13,11],[10,19,10,20],[11,19,11,20],[10,13,10,14],[8,12,9,21]]}
[{"$f":"基本情報!A1","v":"第８４回　東海学生陸上競技対校選手権大会"},null,null,null,null,null,null,null,null,null,null,null,"記録の入力方法\nすべて半角で入力してください。\n１２秒０１　→　12.01\n１分１５秒５０　→　1.15.50",null,null,{"$f":"IF($T$3=\"\",\"\",VLOOKUP(T3,学校名!B8:D1417,2))","v":""}]
[null,null,null,null,null,null,null,null,null,null,null,null,null,null,null,"所属名",null,null,"学校コード"]
[null,null,null,null,null,null,null,null,null,null,null,null,null,null,null,{"$f":"IF(T3=\"\",\"\",VLOOKUP(S3,学校名!B8:F1417,3))","v":""},null,null,{"$f":"IF(T3=\"\",\"\",ABS(T3))","v":""},{"$f":"IF(総括申込書!$A$5=\"\",\"\",総括申込書!$A$5)","v":""}]
["選手参加申込",null,null,null,null,null,null,null,null,null,null,null,null,null,null,{"$f":"S4&Q7","v":""},null,null,{"$f":"IF(T3=\"\",\"\",VLOOKUP(S3,学校名!B8:F1417,2))","v":""}]
[null,null,null,null,null,null,null,null,null,null,null,null,null,null,null,{"$f":"IF(総括申込書!$A$10=\"\",\"\",総括申込書!$A$10)","v":0},null,null,"印"]
[]
["＜男子＞",null,null,null,null,null,null,null,null,null,null,null,null,null,null,"記載責任者",{"$f":"IF(総括申込書!E20=\"\",\"\",総括申込書!$E$20)","v":""},null,null,"印"]
["監督名",{"$f":"IF(総括申込書!$A$10=\"\",\"\",総括申込書!$A$10)","v":0}]
[null,null,null,null,null,null,null,"監督　電話",null,{"$f":"IF(総括申込書!$D$10=\"\",\"\",総括申込書!$D$10)","v":""},null,null,"男子5000mOPはB86まで↓↓"]
["男子対抗の部",null,null,null,null,null,null,"記載責任者　電話",null,{"$f":"IF(総括申込書!$H$20=\"\",\"\",総括申込書!$H$20)","v":""}]
["番 号","ナンバー","選　手　名","ﾌﾘｶﾞﾅ","学年","学校名","１　種　目","記　録",null,"２　種　目","記　録",null,"３　種　目","記　録",null,"男子4X100mR","記　録",null,"男子4X400mR","記　録",null,"登録陸協",null,null,"種目１","種目２","種目３","4×100mR","4×400mR"]
[{"$f":"IF(C12=\"\",\"\",1)","v":""},null,{"$f":"IF(B12=\"\",\"\",VLOOKUP(B12,学連登録!$C$2:$G$3000,2,FALSE))","v":""},{"$f":"IF(B12=\"\",\"\",VLOOKUP(B12,学連登録!$C$2:$G$3000,3,FALSE))","v":""},{"$f":"IF(B12=\"\",\"\",VLOOKUP(B12,学連登録!$C$2:$G$3000,4,FALSE))","v":""},{"$f":"IF(C12=\"\",\"\",$P$1)","v":""},null,null,null,null,null,null,null,null,null,null,null,null,null,null,null,{"$f":"IF(B12=\"\",\"\",VLOOKUP(B12,学連登録!$C$2:$H$3000,6,FALSE))","v":""},null,{"$f":"IF(C12=\"\",\"\",$S$3)","v":""},{"$f":"IF(G12=\"\",\"\",VLOOKUP(G12,種目名!$O$5:$T$104,3,0))","v":""},{"$f":"IF(J12=\"\",\"\",VLOOKUP(J12,種目名!$O$5:$T$104,3,0))","v":""},{"$f":"IF(M12=\"\",\"\",VLOOKUP(M12,種目名!$O$5:$T$104,3,0))","v":""},{"$f":"IF(P12=\"\",\"\",VLOOKUP(AE12,種目名!$O$5:$T$104,3,0))","v":""},{"$f":"IF(S12=\"\",\"\",VLOOKUP(AH12,種目名!$O$5:$T$104,3,0))","v":""},{"$f":"LENB(P12)","v":0},{"$f":"IF(AD12,LEFTB(P12,AD12-1),\"\")","v":""},{"$f":"IF(AD12,MIDB(P12,AD12,1),\"\")","v":""},{"$f":"LENB(S12)","v":0},{"$f":"IF(AG12,LEFTB(S12,AG12-1),\"\")","v":""},{"$f":"IF(AG12,MIDB(S12,AG12,1),\"\")","v":""}]
[{"$f":"IF(C13=\"\",\"\",A12+1)","v":""},null,{"$f":"IF(B13=\"\",\"\",VLOOKUP(B13,学連登録!$C$2:$G$3000,2,FALSE))","v":""},{"$f":"IF(B13=\"\",\"\",VLOOKUP(B13,学連登録!$C$2:$G$3000,3,FALSE))","v":""},{"$f":"IF(B13=\"\",\"\",VLOOKUP(B13,学連登録!$C$2:$G$3000,4,FALSE))","v":""},"",null,null,null,null,null,null,null,null,null,null,null,null,null,null,null,{"$f":"IF(B13=\"\",\"\",VLOOKUP(B13,学連登録!$C$2:$H$3000,6,FALSE))","v":""},null,"",{"$f":"IF(G13=\"\",\"\",VLOOKUP(G13,種目名!$O$5:$T$104,3,0))","v":""},{"$f":"IF(J13=\"\",\"\",VLOOKUP(J13,種目名!$O$5:$T$104,3,0))","v":""},{"$f":"IF(M13=\"\",\"\",VLOOKUP(M13,種目名!$O$5:$T$104,3,0))","v":""},{"$f":"IF(P13=\"\",\"\",VLOOKUP(AE13,種目名!$O$5:$T$104,3,0))","v":""},{"$f":"IF(S13=\"\",\"\",VLOOKUP(AH13,種目名!$O$5:$T$104,3,0))","v":""},0,"","",0,"",""]
["",null,{"$f":"IF(B14=\"\",\"\",VLOOKUP(B14,学連登録!$C$2:$G$3000,2,FALSE))","v":""},{"$f":"IF(B14=\"\",\"\",VLOOKUP(B14,学連登録!$C$2:$G$3000,3,FALSE))","v":""},{"$f":"IF(B14=\"\",\"\",VLOOKUP(B14,学連登録!$C$2:$G$3000,4,FALSE))","v":""},"",null,null,null,null,null,null,null,null,null,null,null,null,null,null,null,{"$f":"IF(B14=\"\",\"\",VLOOKUP(B14,学連登録!$C$2:$H$3000,6,FALSE))","v":""},null,"",{"$f":"IF(G14=\"\",\"\",VLOOKUP(G14,種目名!$O$5:$T$104,3,0))","v":""},{"$f":"IF(J14=\"\",\"\",VLOOKUP(J14,種目名!$O$5:$T$104,3,0))","v":""},{"$f":"IF(M14=\"\",\"\",VLOOKUP(M14,種目名!$O$5:$T$104,3,0))","v":""},{"$f":"IF(P14=\"\",\"\",VLOOKUP(AE14,種目名!$O$5:$T$104,3,0))","v":""},{"$f":"IF(S14=\"\",\"\",VLOOKUP(AH14,種目名!$O$5:$T$104,3,0))","v":""},0,"","",0,"",""]
["",null,{"$f":"IF(B15=\"\",\"\",VLOOKUP(B15,学連登録!$C$2:$G$3000,2,FALSE))","v":""},{"$f":"IF(B15=\"\",\"\",VLOOKUP(B15,学連登録!$C$2:$G$3000,3,FALSE))","v":""},{"$f":"IF(B15=\"\",\"\",VLOOKUP(B15,学連登録!$C$2:$G$3000,4,FALSE))","v":""},"",null,null,null,null,null,null,null,null,null,null,null,null,null,null,null,{"$f":"IF(B15=\"\",\"\",VLOOKUP(B15,学連登録!$C$2:$H$3000,6,FALSE))","v":""},null,"",{"$f":"IF(G15=\"\",\"\",VLOOKUP(G15,種目名!$O$5:$T$104,3,0))","v":""},{"$f":"IF(J15=\"\",\"\",VLOOKUP(J15,種目名!$O$5:$T$104,3,0))","v":""},{"$f":"IF(M15=\"\",\"\",VLOOKUP(M15,種目名!$O$5:$T$104,3,0))","v":""},{"$f":"IF(P15=\"\",\"\",VLOOKUP(AE15,種目名!$O$5:$T$104,3,0))","v":""},{"$f":"IF(S15=\"\",\"\",VLOOKUP(AH15,種目名!$O$5:$T$104,3,0))","v":""},0,"","",0,"",""]
["",null,{"$f":"IF(B16=\"\",\"\",VLOOKUP(B16,学連登録!$C$2:$G$3000,2,FALSE))","v":""},{"$f":"IF(B16=\"\",\"\",VLOOKUP(B16,学連登録!$C$2:$G$3000,3,FALSE))","v":""},{"$f":"IF(B16=\"\",\"\",VLOOKUP(B16,学連登録!$C$2:$G$3000,4,FALSE))","v":""},"",null,null,null,null,null,null,null,null,null,null,null,null,null,null,null,{"$f":"IF(B16=\"\",\"\",VLOOKUP(B16,学連登録!$C$2:$H$3000,6,FALSE))","v":""},null,"",{"$f":"IF(G16=\"\",\"\",VLOOKUP(G16,種目名!$O$5:$T$104,3,0))","v":""},{"$f":"IF(J16=\"\",\"\",VLOOKUP(J16,種目名!$O$5:$T$104,3,0))","v":""},{"$f":"IF(M16=\"\",\"\",VLOOKUP(M16,種目名!$O$5:$T$104,3,0))","v":""},{"$f":"IF(P16=\"\",\"\",VLOOKUP(AE16,種目名!$O$5:$T$104,3,0))","v":""},{"$f":"IF(S16=\"\",\"\",VLOOKUP(AH16,種目名!$O$5:$T$104,3,0))","v":""},0,"","",0,"",""]
["",null,{"$f":"IF(B17=\"\",\"\",VLOOKUP(B17,学連登録!$C$2:$G$3000,2,FALSE))","v":""},{"$f":"IF(B17=\"\",\"\",VLOOKUP(B17,学連登録!$C$2:$G$3000,3,FALSE))","v":""},{"$f":"IF(B17=\"\",\"\",VLOOKUP(B17,学連登録!$C$2:$G$3000,4,FALSE))","v":""},"",null,null,null,null,null,null,null,null,null,null,null,null,null,null,null,{"$f":"IF(B17=\"\",\"\",VLOOKUP(B17,学連登録!$C$2:$H$3000,6,FALSE))","v":""},null,"",{"$f":"IF(G17=\"\",\"\",VLOOKUP(G17,種目名!$O$5:$T$104,3,0))","v":""},{"$f":"IF(J17=\"\",\"\",VLOOKUP(J17,種目名!$O$5:$T$104,3,0))","v":""},{"$f":"IF(M17=\"\",\"\",VLOOKUP(M17,種目名!$O$5:$T$104,3,0))","v":""},{"$f":"IF(P17=\"\",\"\",VLOOKUP(AE17,種目名!$O$5:$T$104,3,0))","v":""},{"$f":"IF(S17=\"\",\"\",VLOOKUP(AH17,種目名!$O$5:$T$104,3,0))","v":""},0,"","",0,"",""]
["",null,{"$f":"IF(B18=\"\",\"\",VLOOKUP(B18,学連登録!$C$2:$G$3000,2,FALSE))","v":""},{"$f":"IF(B18=\"\",\"\",VLOOKUP(B18,学連登録!$C$2:$G$3000,3,FALSE))","v":""},{"$f":"IF(B18=\"\",\"\",VLOOKUP(B18,学連登録!$C$2:$G$3000,4,FALSE))","v":""},"",null,null,null,null,null,null,null,null,null,null,null,null,null,null,null,{"$f":"IF(B18=\"\",\"\",VLOOKUP(B18,学連登録!$C$2:$H$3000,6,FALSE))","v":""},null,"",{"$f":"IF(G18=\"\",\"\",VLOOKUP(G18,種目名!$O$5:$T$104,3,0))","v":""},{"$f":"IF(J18=\"\",\"\",VLOOKUP(J18,種目名!$O$5:$T$104,3,0))","v":""},{"$f":"IF(M18=\"\",\"\",VLOOKUP(M18,種目名!$O$5:$T$104,3,0))","v":""},{"$f":"IF(P18=\"\",\"\",VLOOKUP(AE18,種目名!$O$5:$T$104,3,0))","v":""},{"$f":"IF(S18=\"\",\"\",VLOOKUP(AH18,種目名!$O$5:$T$104,3,0))","v":""},0,"","",0,"",""]
["",null,{"$f":"IF(B19=\"\",\"\",VLOOKUP(B19,学連登録!$C$2:$G$3000,2,FALSE))","v":""},{"$f":"IF(B19=\"\",\"\",VLOOKUP(B19,学連登録!$C$2:$G$3000,3,FALSE))","v":""},{"$f":"IF(B19=\"\",\"\",VLOOKUP(B19,学連登録!$C$2:$G$3000,4,FALSE))","v":""},"",null,null,null,null,null,null,null,null,null,null,null,null,null,null,null,{"$f":"IF(B19=\"\",\"\",VLOOKUP(B19,学連登録!$C$2:$H$3000,6,FALSE))","v":""},null,"",{"$f":"IF(G19=\"\",\"\",VLOOKUP(G19,種目名!$O$5:$T$104,3,0))","v":""},{"$f":"IF(J19=\"\",\"\",VLOOKUP(J19,種目名!$O$5:$T$104,3,0))","v":""},{"$f":"IF(M19=\"\",\"\",VLOOKUP(M19,種目名!$O$5:$T$104,3,0))","v":""},{"$f":"IF(P19=\"\",\"\",VLOOKUP(AE19,種目名!$O$5:$T$104,3,0))","v":""},{"$f":"IF(S19=\"\",\"\",VLOOKUP(AH19,種目名!$O$5:$T$104,3,0))","v":""},0,"","",0,"",""]
["",null,{"$f":"IF(B20=\"\",\"\",VLOOKUP(B20,学連登録!$C$2:$G$3000,2,FALSE))","v":""},{"$f":"IF(B20=\"\",\"\",VLOOKUP(B20,学連登録!$C$2:$G$3000,3,FALSE))","v":""},{"$f":"IF(B20=\"\",\"\",VLOOKUP(B20,学連登録!$C$2:$G$3000,4,FALSE))","v":""},"",null,null,null,null,null,null,null,null,null,null,null,null,null,null,null,{"$f":"IF(B20=\"\",\"\",VLOOKUP(B20,学連登録!$C$2:$H$3000,6,FALSE))","v":""},null,"",{"$f":"IF(G20=\"\",\"\",VLOOKUP(G20,種目名!$O$5:$T$104,3,0))","v":""},{"$f":"IF(J20=\"\",\"\",VLOOKUP(J20,種目名!$O$5:$T$104,3,0))","v":""},{"$f":"IF(M20=\"\",\"\",VLOOKUP(M20,種目名!$O$5:$T$104,3,0))","v":""},{"$f":"IF(P20=\"\",\"\",VLOOKUP(AE20,種目名!$O$5:$T$104,3,0))","v":""},{"$f":"IF(S20=\"\",\"\",VLOOKUP(AH20,種目名!$O$5:$T$104,3,0))","v":""},0,"","",0,"",""]
["",null,{"$f":"IF(B21=\"\",\"\",VLOOKUP(B21,学連登録!$C$2:$G$3000,2,FALSE))","v":""},{"$f":"IF(B21=\"\",\"\",VLOOKUP(B21,学連登録!$C$2:$G$3000,3,FALSE))","v":""},{"$f":"IF(B21=\"\",\"\",VLOOKUP(B21,学連登録!$C$2:$G$3000,4,FALSE))","v":""},"",null,null,null,null,null,null,null,null,null,null,null,null,null,null,null,{"$f":"IF(B21=\"\",\"\",VLOOKUP(B21,学連登録!$C$2:$H$3000,6,FALSE))","v":""},null,"",{"$f":"IF(G21=\"\",\"\",VLOOKUP(G21,種目名!$O$5:$T$104,3,0))","v":""},{"$f":"IF(J21=\"\",\"\",VLOOKUP(J21,種目名!$O$5:$T$104,3,0))","v":""},{"$f":"IF(M21=\"\",\"\",VLOOKUP(M21,種目名!$O$5:$T$104,3,0))","v":""},{"$f":"IF(P21=\"\",\"\",VLOOKUP(AE21,種目名!$O$5:$T$104,3,0))","v":""},{"$f":"IF(S21=\"\",\"\",VLOOKUP(AH21,種目名!$O$5:$T$104,3,0))","v":""},0,"","",0,"",""]
["",null,{"$f":"IF(B22=\"\",\"\",VLOOKUP(B22,学連登録!$C$2:$G$3000,2,FALSE))","v":""},{"$f":"IF(B22=\"\",\"\",VLOOKUP(B22,学連登録!$C$2:$G$3000,3,FALSE))","v":""},{"$f":"IF(B22=\"\",\"\",VLOOKUP(B22,学連登録!$C$2:$G$3000,4,FALSE))","v":""},"",null,null,null,null,null,null,null,null,null,null,null,null,null,null,null,{"$f":"IF(B22=\"\",\"\",VLOOKUP(B22,学連登録!$C$2:$H$3000,6,FALSE))","v":""},null,"",{"$f":"IF(G22=\"\",\"\",VLOOKUP(G22,種目名!$O$5:$T$104,3,0))","v":""},{"$f":"IF(J22=\"\",\"\",VLOOKUP(J22,種目名!$O$5:$T$104,3,0))","v":""},{"$f":"IF(M22=\"\",\"\",VLOOKUP(M22,種目名!$O$5:$T$104,3,0))","v":""},{"$f":"IF(P22=\"\",\"\",VLOOKUP(AE22,種目名!$O$5:$T$104,3,0))","v":""},{"$f":"IF(S22=\"\",\"\",VLOOKUP(AH22,種目名!$O$5:$T$104,3,0))","v":""},0,"","",0,"",""]
["",null,{"$f":"IF(B23=\"\",\"\",VLOOKUP(B23,学連登録!$C$2:$G$3000,2,FALSE))","v":""},{"$f":"IF(B23=\"\",\"\",VLOOKUP(B23,学連登録!$C$2:$G$3000,3,FALSE))","v":""},{"$f":"IF(B23=\"\",\"\",VLOOKUP(B23,学連登録!$C$2:$G$3000,4,FALSE))","v":""},"",null,null,null,null,null,null,null,null,null,null,null,null,null,null,null,{"$f":"IF(B23=\"\",\"\",VLOOKUP(B23,学連登録!$C$2:$H$3000,6,FALSE))","v":""},null,"",{"$f":"IF(G23=\"\",\"\",VLOOKUP(G23,種目名!$O$5:$T$104,3,0))","v":""},{"$f":"IF(J23=\"\",\"\",VLOOKUP(J23,種目名!$O$5:$T$104,3,0))","v":""},{"$f":"IF(M23=\"\",\"\",VLOOKUP(M23,種目名!$O$5:$T$104,3,0))","v":""},{"$f":"IF(P23=\"\",\"\",VLOOKUP(AE23,種目名!$O$5:$T$104,3,0))","v":""},{"$f":"IF(S23=\"\",\"\",VLOOKUP(AH23,種目名!$O$5:$T$104,3,0))","v":""},0,"","",0,"",""]
["",null,{"$f":"IF(B24=\"\",\"\",VLOOKUP(B24,学連登録!$C$2:$G$3000,2,FALSE))","v":""},{"$f":"IF(B24=\"\",\"\",VLOOKUP(B24,学連登録!$C$2:$G$3000,3,FALSE))","v":""},{"$f":"IF(B24=\"\",\"\",VLOOKUP(B24,学連登録!$C$2:$G$3000,4,FALSE))","v":""},"",null,null,null,null,null,null,null,null,null,null,null,null,null,null,null,{"$f":"IF(B24=\"\",\"\",VLOOKUP(B24,学連登録!$C$2:$H$3000,6,FALSE))","v":""},null,"",{"$f":"IF(G24=\"\",\"\",VLOOKUP(G24,種目名!$O$5:$T$104,3,0))","v":""},{"$f":"IF(J24=\"\",\"\",VLOOKUP(J24,種目名!$O$5:$T$104,3,0))","v":""},{"$f":"IF(M24=\"\",\"\",VLOOKUP(M24,種目名!$O$5:$T$104,3,0))","v":""},{"$f":"IF(P24=\"\",\"\",VLOOKUP(AE24,種目名!$O$5:$T$104,3,0))","v":""},{"$f":"IF(S24=\"\",\"\",VLOOKUP(AH24,種目名!$O$5:$T$104,3,0))","v":""},0,"","",0,"",""]
["",null,{"$f":"IF(B25=\"\",\"\",VLOOKUP(B25,学連登録!$C$2:$G$3000,2,FALSE))","v":""},{"$f":"IF(B25=\"\",\"\",VLOOKUP(B25,学連登録!$C$2:$G$3000,3,FALSE))","v":""},{"$f":"IF(B25=\"\",\"\",VLOOKUP(B25,学連登録!$C$2:$G$3000,4,FALSE))","v":""},"",null,null,null,null,null,null,null,null,null,null,null,null,null,null,null,{"$f":"IF(B25=\"\",\"\",VLOOKUP(B25,学連登録!$C$2:$H$3000,6,FALSE))","v":""},null,"",{"$f":"IF(G25=\"\",\"\",VLOOKUP(G25,種目名!$O$5:$T$104,3,0))","v":""},{"$f":"IF(J25=\"\",\"\",VLOOKUP(J25,種目名!$O$5:$T$104,3,0))","v":""},{"$f":"IF(M25=\"\",\"\",VLOOKUP(M25,種目名!$O$5:$T$104,3,0))","v":""},{"$f":"IF(P25=\"\",\"\",VLOOKUP(AE25,種目名!$O$5:$T$104,3,0))","v":""},{"$f":"IF(S25=\"\",\"\",VLOOKUP(AH25,種目名!$O$5:$T$104,3,0))","v":""},0,"","",0,"",""]
["",null,{"$f":"IF(B26=\"\",\"\",VLOOKUP(B26,学連登録!$C$2:$G$3000,2,FALSE))","v":""},{"$f":"IF(B26=\"\",\"\",VLOOKUP(B26,学連登録!$C$2:$G$3000,3,FALSE))","v":""},{"$f":"IF(B26=\"\",\"\",VLOOKUP(B26,学連登録!$C$2:$G$3000,4,FALSE))","v":""},"",null,null,null,null,null,null,null,null,null,null,null,null,null,null,null,{"$f":"IF(B26=\"\",\"\",VLOOKUP(B26,学連登録!$C$2:$H$3000,6,FALSE))","v":""},null,"",{"$f":"IF(G26=\"\",\"\",VLOOKUP(G26,種目名!$O$5:$T$104,3,0))","v":""},{"$f":"IF(J26=\"\",\"\",VLOOKUP(J26,種目名!$O$5:$T$104,3,0))","v":""},{"$f":"IF(M26=\"\",\"\",VLOOKUP(M26,種目名!$O$5:$T$104,3,0))","v":""},{"$f":"IF(P26=\"\",\"\",VLOOKUP(AE26,種目名!$O$5:$T$104,3,0))","v":""},{"$f":"IF(S26=\"\",\"\",VLOOKUP(AH26,種目名!$O$5:$T$104,3,0))","v":""},0,"","",0,"",""]
["",null,{"$f":"IF(B27=\"\",\"\",VLOOKUP(B27,学連登録!$C$2:$G$3000,2,FALSE))","v":""},{"$f":"IF(B27=\"\",\"\",VLOOKUP(B27,学連登録!$C$2:$G$3000,3,FALSE))","v":""},{"$f":"IF(B27=\"\",\"\",VLOOKUP(B27,学連登録!$C$2:$G$3000,4,FALSE))","v":""},"",null,null,null,null,null,null,null,null,null,null,null,null,null,null,null,{"$f":"IF(B27=\"\",\"\",VLOOKUP(B27,学連登録!$C$2:$H$3000,6,FALSE))","v":""},null,"",{"$f":"IF(G27=\"\",\"\",VLOOKUP(G27,種目名!$O$5:$T$104,3,0))","v":""},{"$f":"IF(J27=\"\",\"\",VLOOKUP(J27,種目名!$O$5:$T$104,3,0))","v":""},{"$f":"IF(M27=\"\",\"\",VLOOKUP(M27,種目名!$O$5:$T$104,3,0))","v":""},{"$f":"IF(P27=\"\",\"\",VLOOKUP(AE27,種目名!$O$5:$T$104,3,0))","v":""},{"$f":"IF(S27=\"\",\"\",VLOOKUP(AH27,種目名!$O$5:$T$104,3,0))","v":""},0,"","",0,"",""]
["",null,{"$f":"IF(B28=\"\",\"\",VLOOKUP(B28,学連登録!$C$2:$G$3000,2,FALSE))","v":""},{"$f":"IF(B28=\"\",\"\",VLOOKUP(B28,学連登録!$C$2:$G$3000,3,FALSE))","v":""},{"$f":"IF(B28=\"\",\"\",VLOOKUP(B28,学連登録!$C$2:$G$3000,4,FALSE))","v":""},"",null,null,null,null,null,null,null,null,null,null,null,null,null,null,null,{"$f":"IF(B28=\"\",\"\",VLOOKUP(B28,学連登録!$C$2:$H$3000,6,FALSE))","v":""},null,"",{"$f":"IF(G28=\"\",\"\",VLOOKUP(G28,種目名!$O$5:$T$104,3,0))","v":""},{"$f":"IF(J28=\"\",\"\",VLOOKUP(J28,種目名!$O$5:$T$104,3,0))","v":""},{"$f":"IF(M28=\"\",\"\",VLOOKUP(M28,種目名!$O$5:$T$104,3,0))","v":""},{"$f":"IF(P28=\"\",\"\",VLOOKUP(AE28,種目名!$O$5:$T$104,3,0))","v":""},{"$f":"IF(S28=\"\",\"\",VLOOKUP(AH28,種目名!$O$5:$T$104,3,0))","v":""},0,"","",0,"",""]
["",null,{"$f":"IF(B29=\"\",\"\",VLOOKUP(B29,学連登録!$C$2:$G$3000,2,FALSE))","v":""},{"$f":"IF(B29=\"\",\"\",VLOOKUP(B29,学連登録!$C$2:$G$3000,3,FALSE))","v":""},{"$f":"IF(B29=\"\",\"\",VLOOKUP(B29,学連登録!$C$2:$G$3000,4,FALSE))","v":""},"",null,null,null,null,null,null,null,null,null,null,null,null,null,null,null,{"$f":"IF(B29=\"\",\"\",VLOOKUP(B29,学連登録!$C$2:$H$3000,6,FALSE))","v":""},null,"",{"$f":"IF(G29=\"\",\"\",VLOOKUP(G29,種目名!$O$5:$T$104,3,0))","v":""},{"$f":"IF(J29=\"\",\"\",VLOOKUP(J29,種目名!$O$5:$T$104,3,0))","v":""},{"$f":"IF(M29=\"\",\"\",VLOOKUP(M29,種目名!$O$5:$T$104,3,0))","v":""},{"$f":"IF(P29=\"\",\"\",VLOOKUP(AE29,種目名!$O$5:$T$104,3,0))","v":""},{"$f":"IF(S29=\"\",\"\",VLOOKUP(AH29,種目名!$O$5:$T$104,3,0))","v":""},0,"","",0,"",""]
["",null,{"$f":"IF(B30=\"\",\"\",VLOOKUP(B30,学連登録!$C$2:$G$3000,2,FALSE))","v":""},{"$f":"IF(B30=\"\",\"\",VLOOKUP(B30,学連登録!$C$2:$G$3000,3,FALSE))","v":""},{"$f":"IF(B30=\"\",\"\",VLOOKUP(B30,学連登録!$C$2:$G$3000,4,FALSE))","v":""},"",null,null,null,null,null,null,null,null,null,null,null,null,null,null,null,{"$f":"IF(B30=\"\",\"\",VLOOKUP(B30,学連登録!$C$2:$H$3000,6,FALSE))","v":""},null,"",{"$f":"IF(G30=\"\",\"\",VLOOKUP(G30,種目名!$O$5:$T$104,3,0))","v":""},{"$f":"IF(J30=\"\",\"\",VLOOKUP(J30,種目名!$O$5:$T$104,3,0))","v":""},{"$f":"IF(M30=\"\",\"\",VLOOKUP(M30,種目名!$O$5:$T$104,3,0))","v":""},{"$f":"IF(P30=\"\",\"\",VLOOKUP(AE30,種目名!$O$5:$T$104,3,0))","v":""},{"$f":"IF(S30=\"\",\"\",VLOOKUP(AH30,種目名!$O$5:$T$104,3,0))","v":""},0,"","",0,"",""]
["",null,{"$f":"IF(B31=\"\",\"\",VLOOKUP(B31,学連登録!$C$2:$G$3000,2,FALSE))","v":""},{"$f":"IF(B31=\"\",\"\",VLOOKUP(B31,学連登録!$C$2:$G$3000,3,FALSE))","v":""},{"$f":"IF(B31=\"\",\"\",VLOOKUP(B31,学連登録!$C$2:$G$3000,4,FALSE))","v":""},"",null,null,null,null,null,null,null,null,null,null,null,null,null,null,null,{"$f":"IF(B31=\"\",\"\",VLOOKUP(B31,学連登録!$C$2:$H$3000,6,FALSE))","v":""},null,"",{"$f":"IF(G31=\"\",\"\",VLOOKUP(G31,種目名!$O$5:$T$104,3,0))","v":""},{"$f":"IF(J31=\"\",\"\",VLOOKUP(J31,種目名!$O$5:$T$104,3,0))","v":""},{"$f":"IF(M31=\"\",\"\",VLOOKUP(M31,種目名!$O$5:$T$104,3,0))","v":""},{"$f":"IF(P31=\"\",\"\",VLOOKUP(AE31,種目名!$O$5:$T$104,3,0))","v":""},{"$f":"IF(S31=\"\",\"\",VLOOKUP(AH31,種目名!$O$5:$T$104,3,0))","v":""},0,"","",0,"",""]
["",null,{"$f":"IF(B32=\"\",\"\",VLOOKUP(B32,学連登録!$C$2:$G$3000,2,FALSE))","v":""},{"$f":"IF(B32=\"\",\"\",VLOOKUP(B32,学連登録!$C$2:$G$3000,3,FALSE))","v":""},{"$f":"IF(B32=\"\",\"\",VLOOKUP(B32,学連登録!$C$2:$G$3000,4,FALSE))","v":""},"",null,null,null,null,null,null,null,null,null,null,null,null,null,null,null,{"$f":"IF(B32=\"\",\"\",VLOOKUP(B32,学連登録!$C$2:$H$3000,6,FALSE))","v":""},null,"",{"$f":"IF(G32=\"\",\"\",VLOOKUP(G32,種目名!$O$5:$T$104,3,0))","v":""},{"$f":"IF(J32=\"\",\"\",VLOOKUP(J32,種目名!$O$5:$T$104,3,0))","v":""},{"$f":"IF(M32=\"\",\"\",VLOOKUP(M32,種目名!$O$5:$T$104,3,0))","v":""},{"$f":"IF(P32=\"\",\"\",VLOOKUP(AE32,種目名!$O$5:$T$104,3,0))","v":""},{"$f":"IF(S32=\"\",\"\",VLOOKUP(AH32,種目名!$O$5:$T$104,3,0))","v":""},0,"","",0,"",""]
["",null,{"$f":"IF(B33=\"\",\"\",VLOOKUP(B33,学連登録!$C$2:$G$3000,2,FALSE))","v":""},{"$f":"IF(B33=\"\",\"\",VLOOKUP(B33,学連登録!$C$2:$G$3000,3,FALSE))","v":""},{"$f":"IF(B33=\"\",\"\",VLOOKUP(B33,学連登録!$C$2:$G$3000,4,FALSE))","v":""},"",null,null,null,null,null,null,null,null,null,null,null,null,null,null,null,{"$f":"IF(B33=\"\",\"\",VLOOKUP(B33,学連登録!$C$2:$H$3000,6,FALSE))","v":""},null,"",{"$f":"IF(G33=\"\",\"\",VLOOKUP(G33,種目名!$O$5:$T$104,3,0))","v":""},{"$f":"IF(J33=\"\",\"\",VLOOKUP(J33,種目名!$O$5:$T$104,3,0))","v":""},{"$f":"IF(M33=\"\",\"\",VLOOKUP(M33,種目名!$O$5:$T$104,3,0))","v":""},{"$f":"IF(P33=\"\",\"\",VLOOKUP(AE33,種目名!$O$5:$T$104,3,0))","v":""},{"$f":"IF(S33=\"\",\"\",VLOOKUP(AH33,種目名!$O$5:$T$104,3,0))","v":""},0,"","",0,"",""]
["",null,{"$f":"IF(B34=\"\",\"\",VLOOKUP(B34,学連登録!$C$2:$G$3000,2,FALSE))","v":""},{"$f":"IF(B34=\"\",\"\",VLOOKUP(B34,学連登録!$C$2:$G$3000,3,FALSE))","v":""},{"$f":"IF(B34=\"\",\"\",VLOOKUP(B34,学連登録!$C$2:$G$3000,4,FALSE))","v":""},"",null,null,null,null,null,null,null,null,null,null,null,null,null,null,null,{"$f":"IF(B34=\"\",\"\",VLOOKUP(B34,学連登録!$C$2:$H$3000,6,FALSE))","v":""},null,"",{"$f":"IF(G34=\"\",\"\",VLOOKUP(G34,種目名!$O$5:$T$104,3,0))","v":""},{"$f":"IF(J34=\"\",\"\",VLOOKUP(J34,種目名!$O$5:$T$104,3,0))","v":""},{"$f":"IF(M34=\"\",\"\",VLOOKUP(M34,種目名!$O$5:$T$104,3,0))","v":""},{"$f":"IF(P34=\"\",\"\",VLOOKUP(AE34,種目名!$O$5:$T$104,3,0))","v":""},{"$f":"IF(S34=\"\",\"\",VLOOKUP(AH34,種目名!$O$5:$T$104,3,0))","v":""},0,"","",0,"",""]
["",null,{"$f":"IF(B35=\"\",\"\",VLOOKUP(B35,学連登録!$C$2:$G$3000,2,FALSE))","v":""},{"$f":"IF(B35=\"\",\"\",VLOOKUP(B35,学連登録!$C$2:$G$3000,3,FALSE))","v":""},{"$f":"IF(B35=\"\",\"\",VLOOKUP(B35,学連登録!$C$2:$G$3000,4,FALSE))","v":""},"",null,null,null,null,null,null,null,null,null,null,null,null,null,null,null,{"$f":"IF(B35=\"\",\"\",VLOOKUP(B35,学連登録!$C$2:$H$3000,6,FALSE))","v":""},null,"",{"$f":"IF(G35=\"\",\"\",VLOOKUP(G35,種目名!$O$5:$T$104,3,0))","v":""},{"$f":"IF(J35=\"\",\"\",VLOOKUP(J35,種目名!$O$5:$T$104,3,0))","v":""},{"$f":"IF(M35=\"\",\"\",VLOOKUP(M35,種目名!$O$5:$T$104,3,0))","v":""},{"$f":"IF(P35=\"\",\"\",VLOOKUP(AE35,種目名!$O$5:$T$104,3,0))","v":""},{"$f":"IF(S35=\"\",\"\",VLOOKUP(AH35,種目名!$O$5:$T$104,3,0))","v":""},0,"","",0,"",""]
["",null,{"$f":"IF(B36=\"\",\"\",VLOOKUP(B36,学連登録!$C$2:$G$3000,2,FALSE))","v":""},{"$f":"IF(B36=\"\",\"\",VLOOKUP(B36,学連登録!$C$2:$G$3000,3,FALSE))","v":""},{"$f":"IF(B36=\"\",\"\",VLOOKUP(B36,学連登録!$C$2:$G$3000,4,FALSE))","v":""},"",null,null,null,null,null,null,null,null,null,null,null,null,null,null,null,{"$f":"IF(B36=\"\",\"\",VLOOKUP(B36,学連登録!$C$2:$H$3000,6,FALSE))","v":""},null,"",{"$f":"IF(G36=\"\",\"\",VLOOKUP(G36,種目名!$O$5:$T$104,3,0))","v":""},{"$f":"IF(J36=\"\",\"\",VLOOKUP(J36,種目名!$O$5:$T$104,3,0))","v":""},{"$f":"IF(M36=\"\",\"\",VLOOKUP(M36,種目名!$O$5:$T$104,3,0))","v":""},{"$f":"IF(P36=\"\",\"\",VLOOKUP(AE36,種目名!$O$5:$T$104,3,0))","v":""},{"$f":"IF(S36=\"\",\"\",VLOOKUP(AH36,種目名!$O$5:$T$104,3,0))","v":""},0,"","",0,"",""]
["",null,{"$f":"IF(B37=\"\",\"\",VLOOKUP(B37,学連登録!$C$2:$G$3000,2,FALSE))","v":""},{"$f":"IF(B37=\"\",\"\",VLOOKUP(B37,学連登録!$C$2:$G$3000,3,FALSE))","v":""},{"$f":"IF(B37=\"\",\"\",VLOOKUP(B37,学連登録!$C$2:$G$3000,4,FALSE))","v":""},"",null,null,null,null,null,null,null,null,null,null,null,null,null,null,null,{"$f":"IF(B37=\"\",\"\",VLOOKUP(B37,学連登録!$C$2:$H$3000,6,FALSE))","v":""},null,"",{"$f":"IF(G37=\"\",\"\",VLOOKUP(G37,種目名!$O$5:$T$104,3,0))","v":""},{"$f":"IF(J37=\"\",\"\",VLOOKUP(J37,種目名!$O$5:$T$104,3,0))","v":""},{"$f":"IF(M37=\"\",\"\",VLOOKUP(M37,種目名!$O$5:$T$104,3,0))","v":""},{"$f":"IF(P37=\"\",\"\",VLOOKUP(AE37,種目名!$O$5:$T$104,3,0))","v":""},{"$f":"IF(S37=\"\",\"\",VLOOKUP(AH37,種目名!$O$5:$T$104,3,0))","v":""},0,"","",0,"",""]
["",null,{"$f":"IF(B38=\"\",\"\",VLOOKUP(B38,学連登録!$C$2:$G$3000,2,FALSE))","v":""},{"$f":"IF(B38=\"\",\"\",VLOOKUP(B38,学連登録!$C$2:$G$3000,3,FALSE))","v":""},{"$f":"IF(B38=\"\",\"\",VLOOKUP(B38,学連登録!$C$2:$G$3000,4,FALSE))","v":""},"",null,null,null,null,null,null,null,null,null,null,null,null,null,null,null,{"$f":"IF(B38=\"\",\"\",VLOOKUP(B38,学連登録!$C$2:$H$3000,6,FALSE))","v":""},null,"",{"$f":"IF(G38=\"\",\"\",VLOOKUP(G38,種目名!$O$5:$T$104,3,0))","v":""},{"$f":"IF(J38=\"\",\"\",VLOOKUP(J38,種目名!$O$5:$T$104,3,0))","v":""},{"$f":"IF(M38=\"\",\"\",VLOOKUP(M38,種目名!$O$5:$T$104,3,0))","v":""},{"$f":"IF(P38=\"\",\"\",VLOOKUP(AE38,種目名!$O$5:$T$104,3,0))","v":""},{"$f":"IF(S38=\"\",\"\",VLOOKUP(AH38,種目名!$O$5:$T$104,3,0))","v":""},0,"","",0,"",""]
["",null,{"$f":"IF(B39=\"\",\"\",VLOOKUP(B39,学連登録!$C$2:$G$3000,2,FALSE))","v":""},{"$f":"IF(B39=\"\",\"\",VLOOKUP(B39,学連登録!$C$2:$G$3000,3,FALSE))","v":""},{"$f":"IF(B39=\"\",\"\",VLOOKUP(B39,学連登録!$C$2:$G$3000,4,FALSE))","v":""},"",null,null,null,null,null,null,null,null,null,null,null,null,null,null,null,{"$f":"IF(B39=\"\",\"\",VLOOKUP(B39,学連登録!$C$2:$H$3000,6,FALSE))","v":""},null,"",{"$f":"IF(G39=\"\",\"\",VLOOKUP(G39,種目名!$O$5:$T$104,3,0))","v":""},{"$f":"IF(J39=\"\",\"\",VLOOKUP(J39,種目名!$O$5:$T$104,3,0))","v":""},{"$f":"IF(M39=\"\",\"\",VLOOKUP(M39,種目名!$O$5:$T$104,3,0))","v":""},{"$f":"IF(P39=\"\",\"\",VLOOKUP(AE39,種目名!$O$5:$T$104,3,0))","v":""},{"$f":"IF(S39=\"\",\"\",VLOOKUP(AH39,種目名!$O$5:$T$104,3,0))","v":""},0,"","",0,"",""]
["",null,{"$f":"IF(B40=\"\",\"\",VLOOKUP(B40,学連登録!$C$2:$G$3000,2,FALSE))","v":""},{"$f":"IF(B40=\"\",\"\",VLOOKUP(B40,学連登録!$C$2:$G$3000,3,FALSE))","v":""},{"$f":"IF(B40=\"\",\"\",VLOOKUP(B40,学連登録!$C$2:$G$3000,4,FALSE))","v":""},"",null,null,null,null,null,null,null,null,null,null,null,null,null,null,null,{"$f":"IF(B40=\"\",\"\",VLOOKUP(B40,学連登録!$C$2:$H$3000,6,FALSE))","v":""},null,"",{"$f":"IF(G40=\"\",\"\",VLOOKUP(G40,種目名!$O$5:$T$104,3,0))","v":""},{"$f":"IF(J40=\"\",\"\",VLOOKUP(J40,種目名!$O$5:$T$104,3,0))","v":""},{"$f":"IF(M40=\"\",\"\",VLOOKUP(M40,種目名!$O$5:$T$104,3,0))","v":""},{"$f":"IF(P40=\"\",\"\",VLOOKUP(AE40,種目名!$O$5:$T$104,3,0))","v":""},{"$f":"IF(S40=\"\",\"\",VLOOKUP(AH40,種目名!$O$5:$T$104,3,0))","v":""},0,"","",0,"",""]
["",null,{"$f":"IF(B41=\"\",\"\",VLOOKUP(B41,学連登録!$C$2:$G$3000,2,FALSE))","v":""},{"$f":"IF(B41=\"\",\"\",VLOOKUP(B41,学連登録!$C$2:$G$3000,3,FALSE))","v":""},{"$f":"IF(B41=\"\",\"\",VLOOKUP(B41,学連登録!$C$2:$G$3000,4,FALSE))","v":""},"",null,null,null,null,null,null,null,null,null,null,null,null,null,null,null,{"$f":"IF(B41=\"\",\"\",VLOOKUP(B41,学連登録!$C$2:$H$3000,6,FALSE))","v":""},null,"",{"$f":"IF(G41=\"\",\"\",VLOOKUP(G41,種目名!$O$5:$T$104,3,0))","v":""},{"$f":"IF(J41=\"\",\"\",VLOOKUP(J41,種目名!$O$5:$T$104,3,0))","v":""},{"$f":"IF(M41=\"\",\"\",VLOOKUP(M41,種目名!$O$5:$T$104,3,0))","v":""},{"$f":"IF(P41=\"\",\"\",VLOOKUP(AE41,種目名!$O$5:$T$104,3,0))","v":""},{"$f":"IF(S41=\"\",\"\",VLOOKUP(AH41,種目名!$O$5:$T$104,3,0))","v":""},0,"","",0,"",""]
["",null,{"$f":"IF(B42=\"\",\"\",VLOOKUP(B42,学連登録!$C$2:$G$3000,2,FALSE))","v":""},{"$f":"IF(B42=\"\",\"\",VLOOKUP(B42,学連登録!$C$2:$G$3000,3,FALSE))","v":""},{"$f":"IF(B42=\"\",\"\",VLOOKUP(B42,学連登録!$C$2:$G$3000,4,FALSE))","v":""},"",null,null,null,null,null,null,null,null,null,null,null,null,null,null,null,{"$f":"IF(B42=\"\",\"\",VLOOKUP(B42,学連登録!$C$2:$H$3000,6,FALSE))","v":""},null,"",{"$f":"IF(G42=\"\",\"\",VLOOKUP(G42,種目名!$O$5:$T$104,3,0))","v":""},{"$f":"IF(J42=\"\",\"\",VLOOKUP(J42,種目名!$O$5:$T$104,3,0))","v":""},{"$f":"IF(M42=\"\",\"\",VLOOKUP(M42,種目名!$O$5:$T$104,3,0))","v":""},{"$f":"IF(P42=\"\",\"\",VLOOKUP(AE42,種目名!$O$5:$T$104,3,0))","v":""},{"$f":"IF(S42=\"\",\"\",VLOOKUP(AH42,種目名!$O$5:$T$104,3,0))","v":""},0,"","",0,"",""]
["",null,{"$f":"IF(B43=\"\",\"\",VLOOKUP(B43,学連登録!$C$2:$G$3000,2,FALSE))","v":""},{"$f":"IF(B43=\"\",\"\",VLOOKUP(B43,学連登録!$C$2:$G$3000,3,FALSE))","v":""},{"$f":"IF(B43=\"\",\"\",VLOOKUP(B43,学連登録!$C$2:$G$3000,4,FALSE))","v":""},"",null,null,null,null,null,null,null,null,null,null,null,null,null,null,null,{"$f":"IF(B43=\"\",\"\",VLOOKUP(B43,学連登録!$C$2:$H$3000,6,FALSE))","v":""},null,"",{"$f":"IF(G43=\"\",\"\",VLOOKUP(G43,種目名!$O$5:$T$104,3,0))","v":""},{"$f":"IF(J43=\"\",\"\",VLOOKUP(J43,種目名!$O$5:$T$104,3,0))","v":""},{"$f":"IF(M43=\"\",\"\",VLOOKUP(M43,種目名!$O$5:$T$104,3,0))","v":""},{"$f":"IF(P43=\"\",\"\",VLOOKUP(AE43,種目名!$O$5:$T$104,3,0))","v":""},{"$f":"IF(S43=\"\",\"\",VLOOKUP(AH43,種目名!$O$5:$T$104,3,0))","v":""},0,"","",0,"",""]
["",null,{"$f":"IF(B44=\"\",\"\",VLOOKUP(B44,学連登録!$C$2:$G$3000,2,FALSE))","v":""},{"$f":"IF(B44=\"\",\"\",VLOOKUP(B44,学連登録!$C$2:$G$3000,3,FALSE))","v":""},{"$f":"IF(B44=\"\",\"\",VLOOKUP(B44,学連登録!$C$2:$G$3000,4,FALSE))","v":""},{"$f":"IF(C44=\"\",\"\",$P$1)","v":""},null,null,null,null,null,null,null,null,null,null,null,null,null,null,null,{"$f":"IF(B44=\"\",\"\",VLOOKUP(B44,学連登録!$C$2:$H$3000,6,FALSE))","v":""},null,{"$f":"IF(C44=\"\",\"\",$S$3)","v":""},{"$f":"IF(G44=\"\",\"\",VLOOKUP(G44,種目名!$O$5:$T$104,3,0))","v":""},{"$f":"IF(J44=\"\",\"\",VLOOKUP(J44,種目名!$O$5:$T$104,3,0))","v":""},{"$f":"IF(M44=\"\",\"\",VLOOKUP(M44,種目名!$O$5:$T$104,3,0))","v":""},{"$f":"IF(P44=\"\",\"\",VLOOKUP(AE44,種目名!$O$5:$T$104,3,0))","v":""},{"$f":"IF(S44=\"\",\"\",VLOOKUP(AH44,種目名!$O$5:$T$104,3,0))","v":""},{"$f":"LENB(P44)","v":0},{"$f":"IF(AD44,LEFTB(P44,AD44-1),\"\")","v":""},{"$f":"IF(AD44,MIDB(P44,AD44,1),\"\")","v":""},{"$f":"LENB(S44)","v":0},{"$f":"IF(AG44,LEFTB(S44,AG44-1),\"\")","v":""},{"$f":"IF(AG44,MIDB(S44,AG44,1),\"\")","v":""}]
[{"$f":"IF(C45=\"\",\"\",A44+1)","v":""},null,{"$f":"IF(B45=\"\",\"\",VLOOKUP(B45,学連登録!$C$2:$G$3000,2,FALSE))","v":""},{"$f":"IF(B45=\"\",\"\",VLOOKUP(B45,学連登録!$C$2:$G$3000,3,FALSE))","v":""},{"$f":"IF(B45=\"\",\"\",VLOOKUP(B45,学連登録!$C$2:$G$3000,4,FALSE))","v":""},"",null,null,null,null,null,null,null,null,null,null,null,null,null,null,null,{"$f":"IF(B45=\"\",\"\",VLOOKUP(B45,学連登録!$C$2:$H$3000,6,FALSE))","v":""},null,"",{"$f":"IF(G45=\"\",\"\",VLOOKUP(G45,種目名!$O$5:$T$104,3,0))","v":""},{"$f":"IF(J45=\"\",\"\",VLOOKUP(J45,種目名!$O$5:$T$104,3,0))","v":""},{"$f":"IF(M45=\"\",\"\",VLOOKUP(M45,種目名!$O$5:$T$104,3,0))","v":""},{"$f":"IF(P45=\"\",\"\",VLOOKUP(AE45,種目名!$O$5:$T$104,3,0))","v":""},{"$f":"IF(S45=\"\",\"\",VLOOKUP(AH45,種目名!$O$5:$T$104,3,0))","v":""},0,"","",0,"",""]
["",null,{"$f":"IF(B46=\"\",\"\",VLOOKUP(B46,学連登録!$C$2:$G$3000,2,FALSE))","v":""},{"$f":"IF(B46=\"\",\"\",VLOOKUP(B46,学連登録!$C$2:$G$3000,3,FALSE))","v":""},{"$f":"IF(B46=\"\",\"\",VLOOKUP(B46,学連登録!$C$2:$G$3000,4,FALSE))","v":""},"",null,null,null,null,null,null,null,null,null,null,null,null,null,null,null,{"$f":"IF(B46=\"\",\"\",VLOOKUP(B46,学連登録!$C$2:$H$3000,6,FALSE))","v":""},null,"",{"$f":"IF(G46=\"\",\"\",VLOOKUP(G46,種目名!$O$5:$T$104,3,0))","v":""},{"$f":"IF(J46=\"\",\"\",VLOOKUP(J46,種目名!$O$5:$T$104,3,0))","v":""},{"$f":"IF(M46=\"\",\"\",VLOOKUP(M46,種目名!$O$5:$T$104,3,0))","v":""},{"$f":"IF(P46=\"\",\"\",VLOOKUP(AE46,種目名!$O$5:$T$104,3,0))","v":""},{"$f":"IF(S46=\"\",\"\",VLOOKUP(AH46,種目名!$O$5:$T$104,3,0))","v":""},0,"","",0,"",""]
["",null,{"$f":"IF(B47=\"\",\"\",VLOOKUP(B47,学連登録!$C$2:$G$3000,2,FALSE))","v":""},{"$f":"IF(B47=\"\",\"\",VLOOKUP(B47,学連登録!$C$2:$G$3000,3,FALSE))","v":""},{"$f":"IF(B47=\"\",\"\",VLOOKUP(B47,学連登録!$C$2:$G$3000,4,FALSE))","v":""},"",null,null,null,null,null,null,null,null,null,null,null,null,null,null,null,{"$f":"IF(B47=\"\",\"\",VLOOKUP(B47,学連登録!$C$2:$H$3000,6,FALSE))","v":""},null,"",{"$f":"IF(G47=\"\",\"\",VLOOKUP(G47,種目名!$O$5:$T$104,3,0))","v":""},{"$f":"IF(J47=\"\",\"\",VLOOKUP(J47,種目名!$O$5:$T$104,3,0))","v":""},{"$f":"IF(M47=\"\",\"\",VLOOKUP(M47,種目名!$O$5:$T$104,3,0))","v":""},{"$f":"IF(P47=\"\",\"\",VLOOKUP(AE47,種目名!$O$5:$T$104,3,0))","v":""},{"$f":"IF(S47=\"\",\"\",VLOOKUP(AH47,種目名!$O$5:$T$104,3,0))","v":""},0,"","",0,"",""]
["",null,{"$f":"IF(B48=\"\",\"\",VLOOKUP(B48,学連登録!$C$2:$G$3000,2,FALSE))","v":""},{"$f":"IF(B48=\"\",\"\",VLOOKUP(B48,学連登録!$C$2:$G$3000,3,FALSE))","v":""},{"$f":"IF(B48=\"\",\"\",VLOOKUP(B48,学連登録!$C$2:$G$3000,4,FALSE))","v":""},"",null,null,null,null,null,null,null,null,null,null,null,null,null,null,null,{"$f":"IF(B48=\"\",\"\",VLOOKUP(B48,学連登録!$C$2:$H$3000,6,FALSE))","v":""},null,"",{"$f":"IF(G48=\"\",\"\",VLOOKUP(G48,種目名!$O$5:$T$104,3,0))","v":""},{"$f":"IF(J48=\"\",\"\",VLOOKUP(J48,種目名!$O$5:$T$104,3,0))","v":""},{"$f":"IF(M48=\"\",\"\",VLOOKUP(M48,種目名!$O$5:$T$104,3,0))","v":""},{"$f":"IF(P48=\"\",\"\",VLOOKUP(AE48,種目名!$O$5:$T$104,3,0))","v":""},{"$f":"IF(S48=\"\",\"\",VLOOKUP(AH48,種目名!$O$5:$T$104,3,0))","v":""},0,"","",0,"",""]
["",null,{"$f":"IF(B49=\"\",\"\",VLOOKUP(B49,学連登録!$C$2:$G$3000,2,FALSE))","v":""},{"$f":"IF(B49=\"\",\"\",VLOOKUP(B49,学連登録!$C$2:$G$3000,3,FALSE))","v":""},{"$f":"IF(B49=\"\",\"\",VLOOKUP(B49,学連登録!$C$2:$G$3000,4,FALSE))","v":""},"",null,null,null,null,null,null,null,null,null,null,null,null,null,null,null,{"$f":"IF(B49=\"\",\"\",VLOOKUP(B49,学連登録!$C$2:$H$3000,6,FALSE))","v":""},null,"",{"$f":"IF(G49=\"\",\"\",VLOOKUP(G49,種目名!$O$5:$T$104,3,0))","v":""},{"$f":"IF(J49=\"\",\"\",VLOOKUP(J49,種目名!$O$5:$T$104,3,0))","v":""},{"$f":"IF(M49=\"\",\"\",VLOOKUP(M49,種目名!$O$5:$T$104,3,0))","v":""},{"$f":"IF(P49=\"\",\"\",VLOOKUP(AE49,種目名!$O$5:$T$104,3,0))","v":""},{"$f":"IF(S49=\"\",\"\",VLOOKUP(AH49,種目名!$O$5:$T$104,3,0))","v":""},0,"","",0,"",""]
["",null,{"$f":"IF(B50=\"\",\"\",VLOOKUP(B50,学連登録!$C$2:$G$3000,2,FALSE))","v":""},{"$f":"IF(B50=\"\",\"\",VLOOKUP(B50,学連登録!$C$2:$G$3000,3,FALSE))","v":""},{"$f":"IF(B50=\"\",\"\",VLOOKUP(B50,学連登録!$C$2:$G$3000,4,FALSE))","v":""},"",null,null,null,null,null,null,null,null,null,null,null,null,null,null,null,{"$f":"IF(B50=\"\",\"\",VLOOKUP(B50,学連登録!$C$2:$H$3000,6,FALSE))","v":""},null,"",{"$f":"IF(G50=\"\",\"\",VLOOKUP(G50,種目名!$O$5:$T$104,3,0))","v":""},{"$f":"IF(J50=\"\",\"\",VLOOKUP(J50,種目名!$O$5:$T$104,3,0))","v":""},{"$f":"IF(M50=\"\",\"\",VLOOKUP(M50,種目名!$O$5:$T$104,3,0))","v":""},{"$f":"IF(P50=\"\",\"\",VLOOKUP(AE50,種目名!$O$5:$T$104,3,0))","v":""},{"$f":"IF(S50=\"\",\"\",VLOOKUP(AH50,種目名!$O$5:$T$104,3,0))","v":""},0,"","",0,"",""]
["",null,{"$f":"IF(B51=\"\",\"\",VLOOKUP(B51,学連登録!$C$2:$G$3000,2,FALSE))","v":""},{"$f":"IF(B51=\"\",\"\",VLOOKUP(B51,学連登録!$C$2:$G$3000,3,FALSE))","v":""},{"$f":"IF(B51=\"\",\"\",VLOOKUP(B51,学連登録!$C$2:$G$3000,4,FALSE))","v":""},"",null,null,null,null,null,null,null,null,null,null,null,null,null,null,null,{"$f":"IF(B51=\"\",\"\",VLOOKUP(B51,学連登録!$C$2:$H$3000,6,FALSE))","v":""},null,"",{"$f":"IF(G51=\"\",\"\",VLOOKUP(G51,種目名!$O$5:$T$104,3,0))","v":""},{"$f":"IF(J51=\"\",\"\",VLOOKUP(J51,種目名!$O$5:$T$104,3,0))","v":""},{"$f":"IF(M51=\"\",\"\",VLOOKUP(M51,種目名!$O$5:$T$104,3,0))","v":""},{"$f":"IF(P51=\"\",\"\",VLOOKUP(AE51,種目名!$O$5:$T$104,3,0))","v":""},{"$f":"IF(S51=\"\",\"\",VLOOKUP(AH51,種目名!$O$5:$T$104,3,0))","v":""},0,"","",0,"",""]
["",null,{"$f":"IF(B52=\"\",\"\",VLOOKUP(B52,学連登録!$C$2:$G$3000,2,FALSE))","v":""},{"$f":"IF(B52=\"\",\"\",VLOOKUP(B52,学連登録!$C$2:$G$3000,3,FALSE))","v":""},{"$f":"IF(B52=\"\",\"\",VLOOKUP(B52,学連登録!$C$2:$G$3000,4,FALSE))","v":""},"",null,null,null,null,null,null,null,null,null,null,null,null,null,null,null,{"$f":"IF(B52=\"\",\"\",VLOOKUP(B52,学連登録!$C$2:$H$3000,6,FALSE))","v":""},null,"",{"$f":"IF(G52=\"\",\"\",VLOOKUP(G52,種目名!$O$5:$T$104,3,0))","v":""},{"$f":"IF(J52=\"\",\"\",VLOOKUP(J52,種目名!$O$5:$T$104,3,0))","v":""},{"$f":"IF(M52=\"\",\"\",VLOOKUP(M52,種目名!$O$5:$T$104,3,0))","v":""},{"$f":"IF(P52=\"\",\"\",VLOOKUP(AE52,種目名!$O$5:$T$104,3,0))","v":""},{"$f":"IF(S52=\"\",\"\",VLOOKUP(AH52,種目名!$O$5:$T$104,3,0))","v":""},0,"","",0,"",""]
["",null,{"$f":"IF(B53=\"\",\"\",VLOOKUP(B53,学連登録!$C$2:$G$3000,2,FALSE))","v":""},{"$f":"IF(B53=\"\",\"\",VLOOKUP(B53,学連登録!$C$2:$G$3000,3,FALSE))","v":""},{"$f":"IF(B53=\"\",\"\",VLOOKUP(B53,学連登録!$C$2:$G$3000,4,FALSE))","v":""},"",null,null,null,null,null,null,null,null,null,null,null,null,null,null,null,{"$f":"IF(B53=\"\",\"\",VLOOKUP(B53,学連登録!$C$2:$H$3000,6,FALSE))","v":""},null,"",{"$f":"IF(G53=\"\",\"\",VLOOKUP(G53,種目名!$O$5:$T$104,3,0))","v":""},{"$f":"IF(J53=\"\",\"\",VLOOKUP(J53,種目名!$O$5:$T$104,3,0))","v":""},{"$f":"IF(M53=\"\",\"\",VLOOKUP(M53,種目名!$O$5:$T$104,3,0))","v":""},{"$f":"IF(P53=\"\",\"\",VLOOKUP(AE53,種目名!$O$5:$T$104,3,0))","v":""},{"$f":"IF(S53=\"\",\"\",VLOOKUP(AH53,種目名!$O$5:$T$104,3,0))","v":""},0,"","",0,"",""]
["",null,{"$f":"IF(B54=\"\",\"\",VLOOKUP(B54,学連登録!$C$2:$G$3000,2,FALSE))","v":""},{"$f":"IF(B54=\"\",\"\",VLOOKUP(B54,学連登録!$C$2:$G$3000,3,FALSE))","v":""},{"$f":"IF(B54=\"\",\"\",VLOOKUP(B54,学連登録!$C$2:$G$3000,4,FALSE))","v":""},"",null,null,null,null,null,null,null,null,null,null,null,null,null,null,null,{"$f":"IF(B54=\"\",\"\",VLOOKUP(B54,学連登録!$C$2:$H$3000,6,FALSE))","v":""},null,"",{"$f":"IF(G54=\"\",\"\",VLOOKUP(G54,種目名!$O$5:$T$104,3,0))","v":""},{"$f":"IF(J54=\"\",\"\",VLOOKUP(J54,種目名!$O$5:$T$104,3,0))","v":""},{"$f":"IF(M54=\"\",\"\",VLOOKUP(M54,種目名!$O$5:$T$104,3,0))","v":""},{"$f":"IF(P54=\"\",\"\",VLOOKUP(AE54,種目名!$O$5:$T$104,3,0))","v":""},{"$f":"IF(S54=\"\",\"\",VLOOKUP(AH54,種目名!$O$5:$T$104,3,0))","v":""},0,"","",0,"",""]
["",null,{"$f":"IF(B55=\"\",\"\",VLOOKUP(B55,学連登録!$C$2:$G$3000,2,FALSE))","v":""},{"$f":"IF(B55=\"\",\"\",VLOOKUP(B55,学連登録!$C$2:$G$3000,3,FALSE))","v":""},{"$f":"IF(B55=\"\",\"\",VLOOKUP(B55,学連登録!$C$2:$G$3000,4,FALSE))","v":""},"",null,null,null,null,null,null,null,null,null,null,null,null,null,null,null,{"$f":"IF(B55=\"\",\"\",VLOOKUP(B55,学連登録!$C$2:$H$3000,6,FALSE))","v":""},null,"",{"$f":"IF(G55=\"\",\"\",VLOOKUP(G55,種目名!$O$5:$T$104,3,0))","v":""},{"$f":"IF(J55=\"\",\"\",VLOOKUP(J55,種目名!$O$5:$T$104,3,0))","v":""},{"$f":"IF(M55=\"\",\"\",VLOOKUP(M55,種目名!$O$5:$T$104,3,0))","v":""},{"$f":"IF(P55=\"\",\"\",VLOOKUP(AE55,種目名!$O$5:$T$104,3,0))","v":""},{"$f":"IF(S55=\"\",\"\",VLOOKUP(AH55,種目名!$O$5:$T$104,3,0))","v":""},0,"","",0,"",""]
["",null,{"$f":"IF(B56=\"\",\"\",VLOOKUP(B56,学連登録!$C$2:$G$3000,2,FALSE))","v":""},{"$f":"IF(B56=\"\",\"\",VLOOKUP(B56,学連登録!$C$2:$G$3000,3,FALSE))","v":""},{"$f":"IF(B56=\"\",\"\",VLOOKUP(B56,学連登録!$C$2:$G$3000,4,FALSE))","v":""},"",null,null,null,null,null,null,null,null,null,null,null,null,null,null,null,{"$f":"IF(B56=\"\",\"\",VLOOKUP(B56,学連登録!$C$2:$H$3000,6,FALSE))","v":""},null,"",{"$f":"IF(G56=\"\",\"\",VLOOKUP(G56,種目名!$O$5:$T$104,3,0))","v":""},{"$f":"IF(J56=\"\",\"\",VLOOKUP(J56,種目名!$O$5:$T$104,3,0))","v":""},{"$f":"IF(M56=\"\",\"\",VLOOKUP(M56,種目名!$O$5:$T$104,3,0))","v":""},{"$f":"IF(P56=\"\",\"\",VLOOKUP(AE56,種目名!$O$5:$T$104,3,0))","v":""},{"$f":"IF(S56=\"\",\"\",VLOOKUP(AH56,種目名!$O$5:$T$104,3,0))","v":""},0,"","",0,"",""]
["",null,{"$f":"IF(B57=\"\",\"\",VLOOKUP(B57,学連登録!$C$2:$G$3000,2,FALSE))","v":""},{"$f":"IF(B57=\"\",\"\",VLOOKUP(B57,学連登録!$C$2:$G$3000,3,FALSE))","v":""},{"$f":"IF(B57=\"\",\"\",VLOOKUP(B57,学連登録!$C$2:$G$3000,4,FALSE))","v":""},"",null,null,null,null,null,null,null,null,null,null,null,null,null,null,null,{"$f":"IF(B57=\"\",\"\",VLOOKUP(B57,学連登録!$C$2:$H$3000,6,FALSE))","v":""},null,"",{"$f":"IF(G57=\"\",\"\",VLOOKUP(G57,種目名!$O$5:$T$104,3,0))","v":""},{"$f":"IF(J57=\"\",\"\",VLOOKUP(J57,種目名!$O$5:$T$104,3,0))","v":""},{"$f":"IF(M57=\"\",\"\",VLOOKUP(M57,種目名!$O$5:$T$104,3,0))","v":""},{"$f":"IF(P57=\"\",\"\",VLOOKUP(AE57,種目名!$O$5:$T$104,3,0))","v":""},{"$f":"IF(S57=\"\",\"\",VLOOKUP(AH57,種目名!$O$5:$T$104,3,0))","v":""},0,"","",0,"",""]
["",null,{"$f":"IF(B58=\"\",\"\",VLOOKUP(B58,学連登録!$C$2:$G$3000,2,FALSE))","v":""},{"$f":"IF(B58=\"\",\"\",VLOOKUP(B58,学連登録!$C$2:$G$3000,3,FALSE))","v":""},{"$f":"IF(B58=\"\",\"\",VLOOKUP(B58,学連登録!$C$2:$G$3000,4,FALSE))","v":""},"",null,null,null,null,null,null,null,null,null,null,null,null,null,null,null,{"$f":"IF(B58=\"\",\"\",VLOOKUP(B58,学連登録!$C$2:$H$3000,6,FALSE))","v":""},null,"",{"$f":"IF(G58=\"\",\"\",VLOOKUP(G58,種目名!$O$5:$T$104,3,0))","v":""},{"$f":"IF(J58=\"\",\"\",VLOOKUP(J58,種目名!$O$5:$T$104,3,0))","v":""},{"$f":"IF(M58=\"\",\"\",VLOOKUP(M58,種目名!$O$5:$T$104,3,0))","v":""},{"$f":"IF(P58=\"\",\"\",VLOOKUP(AE58,種目名!$O$5:$T$104,3,0))","v":""},{"$f":"IF(S58=\"\",\"\",VLOOKUP(AH58,種目名!$O$5:$T$104,3,0))","v":""},0,"","",0,"",""]
["",null,{"$f":"IF(B59=\"\",\"\",VLOOKUP(B59,学連登録!$C$2:$G$3000,2,FALSE))","v":""},{"$f":"IF(B59=\"\",\"\",VLOOKUP(B59,学連登録!$C$2:$G$3000,3,FALSE))","v":""},{"$f":"IF(B59=\"\",\"\",VLOOKUP(B59,学連登録!$C$2:$G$3000,4,FALSE))","v":""},"",null,null,null,null,null,null,null,null,null,null,null,null,null,null,null,{"$f":"IF(B59=\"\",\"\",VLOOKUP(B59,学連登録!$C$2:$H$3000,6,FALSE))","v":""},null,"",{"$f":"IF(G59=\"\",\"\",VLOOKUP(G59,種目名!$O$5:$T$104,3,0))","v":""},{"$f":"IF(J59=\"\",\"\",VLOOKUP(J59,種目名!$O$5:$T$104,3,0))","v":""},{"$f":"IF(M59=\"\",\"\",VLOOKUP(M59,種目名!$O$5:$T$104,3,0))","v":""},{"$f":"IF(P59=\"\",\"\",VLOOKUP(AE59,種目名!$O$5:$T$104,3,0))","v":""},{"$f":"IF(S59=\"\",\"\",VLOOKUP(AH59,種目名!$O$5:$T$104,3,0))","v":""},0,"","",0,"",""]
["",null,{"$f":"IF(B60=\"\",\"\",VLOOKUP(B60,学連登録!$C$2:$G$3000,2,FALSE))","v":""},{"$f":"IF(B60=\"\",\"\",VLOOKUP(B60,学連登録!$C$2:$G$3000,3,FALSE))","v":""},{"$f":"IF(B60=\"\",\"\",VLOOKUP(B60,学連登録!$C$2:$G$3000,4,FALSE))","v":""},"",null,null,null,null,null,null,null,null,null,null,null,null,null,null,null,{"$f":"IF(B60=\"\",\"\",VLOOKUP(B60,学連登録!$C$2:$H$3000,6,FALSE))","v":""},null,"",{"$f":"IF(G60=\"\",\"\",VLOOKUP(G60,種目名!$O$5:$T$104,3,0))","v":""},{"$f":"IF(J60=\"\",\"\",VLOOKUP(J60,種目名!$O$5:$T$104,3,0))","v":""},{"$f":"IF(M60=\"\",\"\",VLOOKUP(M60,種目名!$O$5:$T$104,3,0))","v":""},{"$f":"IF(P60=\"\",\"\",VLOOKUP(AE60,種目名!$O$5:$T$104,3,0))","v":""},{"$f":"IF(S60=\"\",\"\",VLOOKUP(AH60,種目名!$O$5:$T$104,3,0))","v":""},0,"","",0,"",""]
["",null,{"$f":"IF(B61=\"\",\"\",VLOOKUP(B61,学連登録!$C$2:$G$3000,2,FALSE))","v":""},{"$f":"IF(B61=\"\",\"\",VLOOKUP(B61,学連登録!$C$2:$G$3000,3,FALSE))","v":""},{"$f":"IF(B61=\"\",\"\",VLOOKUP(B61,学連登録!$C$2:$G$3000,4,FALSE))","v":""},"",null,null,null,null,null,null,null,null,null,null,null,null,null,null,null,{"$f":"IF(B61=\"\",\"\",VLOOKUP(B61,学連登録!$C$2:$H$3000,6,FALSE))","v":""},null,"",{"$f":"IF(G61=\"\",\"\",VLOOKUP(G61,種目名!$O$5:$T$104,3,0))","v":""},{"$f":"IF(J61=\"\",\"\",VLOOKUP(J61,種目名!$O$5:$T$104,3,0))","v":""},{"$f":"IF(M61=\"\",\"\",VLOOKUP(M61,種目名!$O$5:$T$104,3,0))","v":""},{"$f":"IF(P61=\"\",\"\",VLOOKUP(AE61,種目名!$O$5:$T$104,3,0))","v":""},{"$f":"IF(S61=\"\",\"\",VLOOKUP(AH61,種目名!$O$5:$T$104,3,0))","v":""},0,"","",0,"",""]
["",null,{"$f":"IF(B62=\"\",\"\",VLOOKUP(B62,学連登録!$C$2:$G$3000,2,FALSE))","v":""},{"$f":"IF(B62=\"\",\"\",VLOOKUP(B62,学連登録!$C$2:$G$3000,3,FALSE))","v":""},{"$f":"IF(B62=\"\",\"\",VLOOKUP(B62,学連登録!$C$2:$G$3000,4,FALSE))","v":""},"",null,null,null,null,null,null,null,null,null,null,null,null,null,null,null,{"$f":"IF(B62=\"\",\"\",VLOOKUP(B62,学連登録!$C$2:$H$3000,6,FALSE))","v":""},null,"",{"$f":"IF(G62=\"\",\"\",VLOOKUP(G62,種目名!$O$5:$T$104,3,0))","v":""},{"$f":"IF(J62=\"\",\"\",VLOOKUP(J62,種目名!$O$5:$T$104,3,0))","v":""},{"$f":"IF(M62=\"\",\"\",VLOOKUP(M62,種目名!$O$5:$T$104,3,0))","v":""},{"$f":"IF(P62=\"\",\"\",VLOOKUP(AE62,種目名!$O$5:$T$104,3,0))","v":""},{"$f":"IF(S62=\"\",\"\",VLOOKUP(AH62,種目名!$O$5:$T$104,3,0))","v":""},0,"","",0,"",""]
["",null,{"$f":"IF(B63=\"\",\"\",VLOOKUP(B63,学連登録!$C$2:$G$3000,2,FALSE))","v":""},{"$f":"IF(B63=\"\",\"\",VLOOKUP(B63,学連登録!$C$2:$G$3000,3,FALSE))","v":""},{"$f":"IF(B63=\"\",\"\",VLOOKUP(B63,学連登録!$C$2:$G$3000,4,FALSE))","v":""},"",null,null,null,null,null,null,null,null,null,null,null,null,null,null,null,{"$f":"IF(B63=\"\",\"\",VLOOKUP(B63,学連登録!$C$2:$H$3000,6,FALSE))","v":""},null,"",{"$f":"IF(G63=\"\",\"\",VLOOKUP(G63,種目名!$O$5:$T$104,3,0))","v":""},{"$f":"IF(J63=\"\",\"\",VLOOKUP(J63,種目名!$O$5:$T$104,3,0))","v":""},{"$f":"IF(M63=\"\",\"\",VLOOKUP(M63,種目名!$O$5:$T$104,3,0))","v":""},{"$f":"IF(P63=\"\",\"\",VLOOKUP(AE63,種目名!$O$5:$T$104,3,0))","v":""},{"$f":"IF(S63=\"\",\"\",VLOOKUP(AH63,種目名!$O$5:$T$104,3,0))","v":""},0,"","",0,"",""]
["",null,{"$f":"IF(B64=\"\",\"\",VLOOKUP(B64,学連登録!$C$2:$G$3000,2,FALSE))","v":""},{"$f":"IF(B64=\"\",\"\",VLOOKUP(B64,学連登録!$C$2:$G$3000,3,FALSE))","v":""},{"$f":"IF(B64=\"\",\"\",VLOOKUP(B64,学連登録!$C$2:$G$3000,4,FALSE))","v":""},"",null,null,null,null,null,null,null,null,null,null,null,null,null,null,null,{"$f":"IF(B64=\"\",\"\",VLOOKUP(B64,学連登録!$C$2:$H$3000,6,FALSE))","v":""},null,"",{"$f":"IF(G64=\"\",\"\",VLOOKUP(G64,種目名!$O$5:$T$104,3,0))","v":""},{"$f":"IF(J64=\"\",\"\",VLOOKUP(J64,種目名!$O$5:$T$104,3,0))","v":""},{"$f":"IF(M64=\"\",\"\",VLOOKUP(M64,種目名!$O$5:$T$104,3,0))","v":""},{"$f":"IF(P64=\"\",\"\",VLOOKUP(AE64,種目名!$O$5:$T$104,3,0))","v":""},{"$f":"IF(S64=\"\",\"\",VLOOKUP(AH64,種目名!$O$5:$T$104,3,0))","v":""},0,"","",0,"",""]
["",null,{"$f":"IF(B65=\"\",\"\",VLOOKUP(B65,学連登録!$C$2:$G$3000,2,FALSE))","v":""},{"$f":"IF(B65=\"\",\"\",VLOOKUP(B65,学連登録!$C$2:$G$3000,3,FALSE))","v":""},{"$f":"IF(B65=\"\",\"\",VLOOKUP(B65,学連登録!$C$2:$G$3000,4,FALSE))","v":""},"",null,null,null,null,null,null,null,null,null,null,null,null,null,null,null,{"$f":"IF(B65=\"\",\"\",VLOOKUP(B65,学連登録!$C$2:$H$3000,6,FALSE))","v":""},null,"",{"$f":"IF(G65=\"\",\"\",VLOOKUP(G65,種目名!$O$5:$T$104,3,0))","v":""},{"$f":"IF(J65=\"\",\"\",VLOOKUP(J65,種目名!$O$5:$T$104,3,0))","v":""},{"$f":"IF(M65=\"\",\"\",VLOOKUP(M65,種目名!$O$5:$T$104,3,0))","v":""},{"$f":"IF(P65=\"\",\"\",VLOOKUP(AE65,種目名!$O$5:$T$104,3,0))","v":""},{"$f":"IF(S65=\"\",\"\",VLOOKUP(AH65,種目名!$O$5:$T$104,3,0))","v":""},0,"","",0,"",""]
["",null,{"$f":"IF(B66=\"\",\"\",VLOOKUP(B66,学連登録!$C$2:$G$3000,2,FALSE))","v":""},{"$f":"IF(B66=\"\",\"\",VLOOKUP(B66,学連登録!$C$2:$G$3000,3,FALSE))","v":""},{"$f":"IF(B66=\"\",\"\",VLOOKUP(B66,学連登録!$C$2:$G$3000,4,FALSE))","v":""},"",null,null,null,null,null,null,null,null,null,null,null,null,null,null,null,{"$f":"IF(B66=\"\",\"\",VLOOKUP(B66,学連登録!$C$2:$H$3000,6,FALSE))","v":""},null,"",{"$f":"IF(G66=\"\",\"\",VLOOKUP(G66,種目名!$O$5:$T$104,3,0))","v":""},{"$f":"IF(J66=\"\",\"\",VLOOKUP(J66,種目名!$O$5:$T$104,3,0))","v":""},{"$f":"IF(M66=\"\",\"\",VLOOKUP(M66,種目名!$O$5:$T$104,3,0))","v":""},{"$f":"IF(P66=\"\",\"\",VLOOKUP(AE66,種目名!$O$5:$T$104,3,0))","v":""},{"$f":"IF(S66=\"\",\"\",VLOOKUP(AH66,種目名!$O$5:$T$104,3,0))","v":""},0,"","",0,"",""]
["",null,{"$f":"IF(B67=\"\",\"\",VLOOKUP(B67,学連登録!$C$2:$G$3000,2,FALSE))","v":""},{"$f":"IF(B67=\"\",\"\",VLOOKUP(B67,学連登録!$C$2:$G$3000,3,FALSE))","v":""},{"$f":"IF(B67=\"\",\"\",VLOOKUP(B67,学連登録!$C$2:$G$3000,4,FALSE))","v":""},"",null,null,null,null,null,null,null,null,null,null,null,null,null,null,null,{"$f":"IF(B67=\"\",\"\",VLOOKUP(B67,学連登録!$C$2:$H$3000,6,FALSE))","v":""},null,"",{"$f":"IF(G67=\"\",\"\",VLOOKUP(G67,種目名!$O$5:$T$104,3,0))","v":""},{"$f":"IF(J67=\"\",\"\",VLOOKUP(J67,種目名!$O$5:$T$104,3,0))","v":""},{"$f":"IF(M67=\"\",\"\",VLOOKUP(M67,種目名!$O$5:$T$104,3,0))","v":""},{"$f":"IF(P67=\"\",\"\",VLOOKUP(AE67,種目名!$O$5:$T$104,3,0))","v":""},{"$f":"IF(S67=\"\",\"\",VLOOKUP(AH67,種目名!$O$5:$T$104,3,0))","v":""},0,"","",0,"",""]
["",null,{"$f":"IF(B68=\"\",\"\",VLOOKUP(B68,学連登録!$C$2:$G$3000,2,FALSE))","v":""},{"$f":"IF(B68=\"\",\"\",VLOOKUP(B68,学連登録!$C$2:$G$3000,3,FALSE))","v":""},{"$f":"IF(B68=\"\",\"\",VLOOKUP(B68,学連登録!$C$2:$G$3000,4,FALSE))","v":""},"",null,null,null,null,null,null,null,null,null,null,null,null,null,null,null,{"$f":"IF(B68=\"\",\"\",VLOOKUP(B68,学連登録!$C$2:$H$3000,6,FALSE))","v":""},null,"",{"$f":"IF(G68=\"\",\"\",VLOOKUP(G68,種目名!$O$5:$T$104,3,0))","v":""},{"$f":"IF(J68=\"\",\"\",VLOOKUP(J68,種目名!$O$5:$T$104,3,0))","v":""},{"$f":"IF(M68=\"\",\"\",VLOOKUP(M68,種目名!$O$5:$T$104,3,0))","v":""},{"$f":"IF(P68=\"\",\"\",VLOOKUP(AE68,種目名!$O$5:$T$104,3,0))","v":""},{"$f":"IF(S68=\"\",\"\",VLOOKUP(AH68,種目名!$O$5:$T$104,3,0))","v":""},0,"","",0,"",""]
["",null,{"$f":"IF(B69=\"\",\"\",VLOOKUP(B69,学連登録!$C$2:$G$3000,2,FALSE))","v":""},{"$f":"IF(B69=\"\",\"\",VLOOKUP(B69,学連登録!$C$2:$G$3000,3,FALSE))","v":""},{"$f":"IF(B69=\"\",\"\",VLOOKUP(B69,学連登録!$C$2:$G$3000,4,FALSE))","v":""},"",null,null,null,null,null,null,null,null,null,null,null,null,null,null,null,{"$f":"IF(B69=\"\",\"\",VLOOKUP(B69,学連登録!$C$2:$H$3000,6,FALSE))","v":""},null,"",{"$f":"IF(G69=\"\",\"\",VLOOKUP(G69,種目名!$O$5:$T$104,3,0))","v":""},{"$f":"IF(J69=\"\",\"\",VLOOKUP(J69,種目名!$O$5:$T$104,3,0))","v":""},{"$f":"IF(M69=\"\",\"\",VLOOKUP(M69,種目名!$O$5:$T$104,3,0))","v":""},{"$f":"IF(P69=\"\",\"\",VLOOKUP(AE69,種目名!$O$5:$T$104,3,0))","v":""},{"$f":"IF(S69=\"\",\"\",VLOOKUP(AH69,種目名!$O$5:$T$104,3,0))","v":""},0,"","",0,"",""]
["",null,{"$f":"IF(B70=\"\",\"\",VLOOKUP(B70,学連登録!$C$2:$G$3000,2,FALSE))","v":""},{"$f":"IF(B70=\"\",\"\",VLOOKUP(B70,学連登録!$C$2:$G$3000,3,FALSE))","v":""},{"$f":"IF(B70=\"\",\"\",VLOOKUP(B70,学連登録!$C$2:$G$3000,4,FALSE))","v":""},"",null,null,null,null,null,null,null,null,null,null,null,null,null,null,null,{"$f":"IF(B70=\"\",\"\",VLOOKUP(B70,学連登録!$C$2:$H$3000,6,FALSE))","v":""},null,"",{"$f":"IF(G70=\"\",\"\",VLOOKUP(G70,種目名!$O$5:$T$104,3,0))","v":""},{"$f":"IF(J70=\"\",\"\",VLOOKUP(J70,種目名!$O$5:$T$104,3,0))","v":""},{"$f":"IF(M70=\"\",\"\",VLOOKUP(M70,種目名!$O$5:$T$104,3,0))","v":""},{"$f":"IF(P70=\"\",\"\",VLOOKUP(AE70,種目名!$O$5:$T$104,3,0))","v":""},{"$f":"IF(S70=\"\",\"\",VLOOKUP(AH70,種目名!$O$5:$T$104,3,0))","v":""},0,"","",0,"",""]
["",null,{"$f":"IF(B71=\"\",\"\",VLOOKUP(B71,学連登録!$C$2:$G$3000,2,FALSE))","v":""},{"$f":"IF(B71=\"\",\"\",VLOOKUP(B71,学連登録!$C$2:$G$3000,3,FALSE))","v":""},{"$f":"IF(B71=\"\",\"\",VLOOKUP(B71,学連登録!$C$2:$G$3000,4,FALSE))","v":""},"",null,null,null,null,null,null,null,null,null,null,null,null,null,null,null,{"$f":"IF(B71=\"\",\"\",VLOOKUP(B71,学連登録!$C$2:$H$3000,6,FALSE))","v":""},null,"",{"$f":"IF(G71=\"\",\"\",VLOOKUP(G71,種目名!$O$5:$T$104,3,0))","v":""},{"$f":"IF(J71=\"\",\"\",VLOOKUP(J71,種目名!$O$5:$T$104,3,0))","v":""},{"$f":"IF(M71=\"\",\"\",VLOOKUP(M71,種目名!$O$5:$T$104,3,0))","v":""},{"$f":"IF(P71=\"\",\"\",VLOOKUP(AE71,種目名!$O$5:$T$104,3,0))","v":""},{"$f":"IF(S71=\"\",\"\",VLOOKUP(AH71,種目名!$O$5:$T$104,3,0))","v":""},0,"","",0,"",""]
["",null,{"$f":"IF(B72=\"\",\"\",VLOOKUP(B72,学連登録!$C$2:$G$3000,2,FALSE))","v":""},{"$f":"IF(B72=\"\",\"\",VLOOKUP(B72,学連登録!$C$2:$G$3000,3,FALSE))","v":""},{"$f":"IF(B72=\"\",\"\",VLOOKUP(B72,学連登録!$C$2:$G$3000,4,FALSE))","v":""},"",null,null,null,null,null,null,null,null,null,null,null,null,null,null,null,{"$f":"IF(B72=\"\",\"\",VLOOKUP(B72,学連登録!$C$2:$H$3000,6,FALSE))","v":""},null,"",{"$f":"IF(G72=\"\",\"\",VLOOKUP(G72,種目名!$O$5:$T$104,3,0))","v":""},{"$f":"IF(J72=\"\",\"\",VLOOKUP(J72,種目名!$O$5:$T$104,3,0))","v":""},{"$f":"IF(M72=\"\",\"\",VLOOKUP(M72,種目名!$O$5:$T$104,3,0))","v":""},{"$f":"IF(P72=\"\",\"\",VLOOKUP(AE72,種目名!$O$5:$T$104,3,0))","v":""},{"$f":"IF(S72=\"\",\"\",VLOOKUP(AH72,種目名!$O$5:$T$104,3,0))","v":""},0,"","",0,"",""]
["",null,{"$f":"IF(B73=\"\",\"\",VLOOKUP(B73,学連登録!$C$2:$G$3000,2,FALSE))","v":""},{"$f":"IF(B73=\"\",\"\",VLOOKUP(B73,学連登録!$C$2:$G$3000,3,FALSE))","v":""},{"$f":"IF(B73=\"\",\"\",VLOOKUP(B73,学連登録!$C$2:$G$3000,4,FALSE))","v":""},"",null,null,null,null,null,null,null,null,null,null,null,null,null,null,null,{"$f":"IF(B73=\"\",\"\",VLOOKUP(B73,学連登録!$C$2:$H$3000,6,FALSE))","v":""},null,"",{"$f":"IF(G73=\"\",\"\",VLOOKUP(G73,種目名!$O$5:$T$104,3,0))","v":""},{"$f":"IF(J73=\"\",\"\",VLOOKUP(J73,種目名!$O$5:$T$104,3,0))","v":""},{"$f":"IF(M73=\"\",\"\",VLOOKUP(M73,種目名!$O$5:$T$104,3,0))","v":""},{"$f":"IF(P73=\"\",\"\",VLOOKUP(AE73,種目名!$O$5:$T$104,3,0))","v":""},{"$f":"IF(S73=\"\",\"\",VLOOKUP(AH73,種目名!$O$5:$T$104,3,0))","v":""},0,"","",0,"",""]
["",null,{"$f":"IF(B74=\"\",\"\",VLOOKUP(B74,学連登録!$C$2:$G$3000,2,FALSE))","v":""},{"$f":"IF(B74=\"\",\"\",VLOOKUP(B74,学連登録!$C$2:$G$3000,3,FALSE))","v":""},{"$f":"IF(B74=\"\",\"\",VLOOKUP(B74,学連登録!$C$2:$G$3000,4,FALSE))","v":""},"",null,null,null,null,null,null,null,null,null,null,null,null,null,null,null,{"$f":"IF(B74=\"\",\"\",VLOOKUP(B74,学連登録!$C$2:$H$3000,6,FALSE))","v":""},null,"",{"$f":"IF(G74=\"\",\"\",VLOOKUP(G74,種目名!$O$5:$T$104,3,0))","v":""},{"$f":"IF(J74=\"\",\"\",VLOOKUP(J74,種目名!$O$5:$T$104,3,0))","v":""},{"$f":"IF(M74=\"\",\"\",VLOOKUP(M74,種目名!$O$5:$T$104,3,0))","v":""},{"$f":"IF(P74=\"\",\"\",VLOOKUP(AE74,種目名!$O$5:$T$104,3,0))","v":""},{"$f":"IF(S74=\"\",\"\",VLOOKUP(AH74,種目名!$O$5:$T$104,3,0))","v":""},0,"","",0,"",""]
["",null,{"$f":"IF(B75=\"\",\"\",VLOOKUP(B75,学連登録!$C$2:$G$3000,2,FALSE))","v":""},{"$f":"IF(B75=\"\",\"\",VLOOKUP(B75,学連登録!$C$2:$G$3000,3,FALSE))","v":""},{"$f":"IF(B75=\"\",\"\",VLOOKUP(B75,学連登録!$C$2:$G$3000,4,FALSE))","v":""},"",null,null,null,null,null,null,null,null,null,null,null,null,null,null,null,{"$f":"IF(B75=\"\",\"\",VLOOKUP(B75,学連登録!$C$2:$H$3000,6,FALSE))","v":""},null,"",{"$f":"IF(G75=\"\",\"\",VLOOKUP(G75,種目名!$O$5:$T$104,3,0))","v":""},{"$f":"IF(J75=\"\",\"\",VLOOKUP(J75,種目名!$O$5:$T$104,3,0))","v":""},{"$f":"IF(M75=\"\",\"\",VLOOKUP(M75,種目名!$O$5:$T$104,3,0))","v":""},{"$f":"IF(P75=\"\",\"\",VLOOKUP(AE75,種目名!$O$5:$T$104,3,0))","v":""},{"$f":"IF(S75=\"\",\"\",VLOOKUP(AH75,種目名!$O$5:$T$104,3,0))","v":""},0,"","",0,"",""]
["",null,{"$f":"IF(B76=\"\",\"\",VLOOKUP(B76,学連登録!$C$2:$G$3000,2,FALSE))","v":""},{"$f":"IF(B76=\"\",\"\",VLOOKUP(B76,学連登録!$C$2:$G$3000,3,FALSE))","v":""},{"$f":"IF(B76=\"\",\"\",VLOOKUP(B76,学連登録!$C$2:$G$3000,4,FALSE))","v":""},{"$f":"IF(C76=\"\",\"\",$P$1)","v":""},null,null,null,null,null,null,null,null,null,null,null,null,null,null,null,{"$f":"IF(B76=\"\",\"\",VLOOKUP(B76,学連登録!$C$2:$H$3000,6,FALSE))","v":""},null,{"$f":"IF(C76=\"\",\"\",$S$3)","v":""},{"$f":"IF(G76=\"\",\"\",VLOOKUP(G76,種目名!$O$5:$T$104,3,0))","v":""},{"$f":"IF(J76=\"\",\"\",VLOOKUP(J76,種目名!$O$5:$T$104,3,0))","v":""},{"$f":"IF(M76=\"\",\"\",VLOOKUP(M76,種目名!$O$5:$T$104,3,0))","v":""},{"$f":"IF(P76=\"\",\"\",VLOOKUP(AE76,種目名!$O$5:$T$104,3,0))","v":""},{"$f":"IF(S76=\"\",\"\",VLOOKUP(AH76,種目名!$O$5:$T$104,3,0))","v":""},{"$f":"LENB(P76)","v":0},{"$f":"IF(AD76,LEFTB(P76,AD76-1),\"\")","v":""},{"$f":"IF(AD76,MIDB(P76,AD76,1),\"\")","v":""},{"$f":"LENB(S76)","v":0},{"$f":"IF(AG76,LEFTB(S76,AG76-1),\"\")","v":""},{"$f":"IF(AG76,MIDB(S76,AG76,1),\"\")","v":""}]
[{"$f":"IF(C77=\"\",\"\",A76+1)","v":""},null,{"$f":"IF(B77=\"\",\"\",VLOOKUP(B77,学連登録!$C$2:$G$3000,2,FALSE))","v":""},{"$f":"IF(B77=\"\",\"\",VLOOKUP(B77,学連登録!$C$2:$G$3000,3,FALSE))","v":""},{"$f":"IF(B77=\"\",\"\",VLOOKUP(B77,学連登録!$C$2:$G$3000,4,FALSE))","v":""},"",null,null,null,null,null,null,null,null,null,null,null,null,null,null,null,{"$f":"IF(B77=\"\",\"\",VLOOKUP(B77,学連登録!$C$2:$H$3000,6,FALSE))","v":""},null,"",{"$f":"IF(G77=\"\",\"\",VLOOKUP(G77,種目名!$O$5:$T$104,3,0))","v":""},{"$f":"IF(J77=\"\",\"\",VLOOKUP(J77,種目名!$O$5:$T$104,3,0))","v":""},{"$f":"IF(M77=\"\",\"\",VLOOKUP(M77,種目名!$O$5:$T$104,3,0))","v":""},{"$f":"IF(P77=\"\",\"\",VLOOKUP(AE77,種目名!$O$5:$T$104,3,0))","v":""},{"$f":"IF(S77=\"\",\"\",VLOOKUP(AH77,種目名!$O$5:$T$104,3,0))","v":""},0,"","",0,"",""]
["",null,{"$f":"IF(B78=\"\",\"\",VLOOKUP(B78,学連登録!$C$2:$G$3000,2,FALSE))","v":""},{"$f":"IF(B78=\"\",\"\",VLOOKUP(B78,学連登録!$C$2:$G$3000,3,FALSE))","v":""},{"$f":"IF(B78=\"\",\"\",VLOOKUP(B78,学連登録!$C$2:$G$3000,4,FALSE))","v":""},"",null,null,null,null,null,null,null,null,null,null,null,null,null,null,null,{"$f":"IF(B78=\"\",\"\",VLOOKUP(B78,学連登録!$C$2:$H$3000,6,FALSE))","v":""},null,"",{"$f":"IF(G78=\"\",\"\",VLOOKUP(G78,種目名!$O$5:$T$104,3,0))","v":""},{"$f":"IF(J78=\"\",\"\",VLOOKUP(J78,種目名!$O$5:$T$104,3,0))","v":""},{"$f":"IF(M78=\"\",\"\",VLOOKUP(M78,種目名!$O$5:$T$104,3,0))","v":""},{"$f":"IF(P78=\"\",\"\",VLOOKUP(AE78,種目名!$O$5:$T$104,3,0))","v":""},{"$f":"IF(S78=\"\",\"\",VLOOKUP(AH78,種目名!$O$5:$T$104,3,0))","v":""},0,"","",0,"",""]
["",null,{"$f":"IF(B79=\"\",\"\",VLOOKUP(B79,学連登録!$C$2:$G$3000,2,FALSE))","v":""},{"$f":"IF(B79=\"\",\"\",VLOOKUP(B79,学連登録!$C$2:$G$3000,3,FALSE))","v":""},{"$f":"IF(B79=\"\",\"\",VLOOKUP(B79,学連登録!$C$2:$G$3000,4,FALSE))","v":""},"",null,null,null,null,null,null,null,null,null,null,null,null,null,null,null,{"$f":"IF(B79=\"\",\"\",VLOOKUP(B79,学連登録!$C$2:$H$3000,6,FALSE))","v":""},null,"",{"$f":"IF(G79=\"\",\"\",VLOOKUP(G79,種目名!$O$5:$T$104,3,0))","v":""},{"$f":"IF(J79=\"\",\"\",VLOOKUP(J79,種目名!$O$5:$T$104,3,0))","v":""},{"$f":"IF(M79=\"\",\"\",VLOOKUP(M79,種目名!$O$5:$T$104,3,0))","v":""},{"$f":"IF(P79=\"\",\"\",VLOOKUP(AE79,種目名!$O$5:$T$104,3,0))","v":""},{"$f":"IF(S79=\"\",\"\",VLOOKUP(AH79,種目名!$O$5:$T$104,3,0))","v":""},0,"","",0,"",""]
["",null,{"$f":"IF(B80=\"\",\"\",VLOOKUP(B80,学連登録!$C$2:$G$3000,2,FALSE))","v":""},{"$f":"IF(B80=\"\",\"\",VLOOKUP(B80,学連登録!$C$2:$G$3000,3,FALSE))","v":""},{"$f":"IF(B80=\"\",\"\",VLOOKUP(B80,学連登録!$C$2:$G$3000,4,FALSE))","v":""},"",null,null,null,null,null,null,null,null,null,null,null,null,null,null,null,{"$f":"IF(B80=\"\",\"\",VLOOKUP(B80,学連登録!$C$2:$H$3000,6,FALSE))","v":""},null,"",{"$f":"IF(G80=\"\",\"\",VLOOKUP(G80,種目名!$O$5:$T$104,3,0))","v":""},{"$f":"IF(J80=\"\",\"\",VLOOKUP(J80,種目名!$O$5:$T$104,3,0))","v":""},{"$f":"IF(M80=\"\",\"\",VLOOKUP(M80,種目名!$O$5:$T$104,3,0))","v":""},{"$f":"IF(P80=\"\",\"\",VLOOKUP(AE80,種目名!$O$5:$T$104,3,0))","v":""},{"$f":"IF(S80=\"\",\"\",VLOOKUP(AH80,種目名!$O$5:$T$104,3,0))","v":""},0,"","",0,"",""]
["",null,{"$f":"IF(B81=\"\",\"\",VLOOKUP(B81,学連登録!$C$2:$G$3000,2,FALSE))","v":""},{"$f":"IF(B81=\"\",\"\",VLOOKUP(B81,学連登録!$C$2:$G$3000,3,FALSE))","v":""},{"$f":"IF(B81=\"\",\"\",VLOOKUP(B81,学連登録!$C$2:$G$3000,4,FALSE))","v":""},"",null,null,null,null,null,null,null,null,null,null,null,null,null,null,null,{"$f":"IF(B81=\"\",\"\",VLOOKUP(B81,学連登録!$C$2:$H$3000,6,FALSE))","v":""},null,"",{"$f":"IF(G81=\"\",\"\",VLOOKUP(G81,種目名!$O$5:$T$104,3,0))","v":""},{"$f":"IF(J81=\"\",\"\",VLOOKUP(J81,種目名!$O$5:$T$104,3,0))","v":""},{"$f":"IF(M81=\"\",\"\",VLOOKUP(M81,種目名!$O$5:$T$104,3,0))","v":""},{"$f":"IF(P81=\"\",\"\",VLOOKUP(AE81,種目名!$O$5:$T$104,3,0))","v":""},{"$f":"IF(S81=\"\",\"\",VLOOKUP(AH81,種目名!$O$5:$T$104,3,0))","v":""},0,"","",0,"",""]
["",null,{"$f":"IF(B82=\"\",\"\",VLOOKUP(B82,学連登録!$C$2:$G$3000,2,FALSE))","v":""},{"$f":"IF(B82=\"\",\"\",VLOOKUP(B82,学連登録!$C$2:$G$3000,3,FALSE))","v":""},{"$f":"IF(B82=\"\",\"\",VLOOKUP(B82,学連登録!$C$2:$G$3000,4,FALSE))","v":""},"",null,null,null,null,null,null,null,null,null,null,null,null,null,null,null,{"$f":"IF(B82=\"\",\"\",VLOOKUP(B82,学連登録!$C$2:$H$3000,6,FALSE))","v":""},null,"",{"$f":"IF(G82=\"\",\"\",VLOOKUP(G82,種目名!$O$5:$T$104,3,0))","v":""},{"$f":"IF(J82=\"\",\"\",VLOOKUP(J82,種目名!$O$5:$T$104,3,0))","v":""},{"$f":"IF(M82=\"\",\"\",VLOOKUP(M82,種目名!$O$5:$T$104,3,0))","v":""},{"$f":"IF(P82=\"\",\"\",VLOOKUP(AE82,種目名!$O$5:$T$104,3,0))","v":""},{"$f":"IF(S82=\"\",\"\",VLOOKUP(AH82,種目名!$O$5:$T$104,3,0))","v":""},0,"","",0,"",""]
["",null,{"$f":"IF(B83=\"\",\"\",VLOOKUP(B83,学連登録!$C$2:$G$3000,2,FALSE))","v":""},{"$f":"IF(B83=\"\",\"\",VLOOKUP(B83,学連登録!$C$2:$G$3000,3,FALSE))","v":""},{"$f":"IF(B83=\"\",\"\",VLOOKUP(B83,学連登録!$C$2:$G$3000,4,FALSE))","v":""},"",null,null,null,null,null,null,null,null,null,null,null,null,null,null,null,{"$f":"IF(B83=\"\",\"\",VLOOKUP(B83,学連登録!$C$2:$H$3000,6,FALSE))","v":""},null,"",{"$f":"IF(G83=\"\",\"\",VLOOKUP(G83,種目名!$O$5:$T$104,3,0))","v":""},{"$f":"IF(J83=\"\",\"\",VLOOKUP(J83,種目名!$O$5:$T$104,3,0))","v":""},{"$f":"IF(M83=\"\",\"\",VLOOKUP(M83,種目名!$O$5:$T$104,3,0))","v":""},{"$f":"IF(P83=\"\",\"\",VLOOKUP(AE83,種目名!$O$5:$T$104,3,0))","v":""},{"$f":"IF(S83=\"\",\"\",VLOOKUP(AH83,種目名!$O$5:$T$104,3,0))","v":""},0,"","",0,"",""]
["以下は男子5000mOPにエントリーする選手の入力欄となります。"]
["番 号","ナンバー","選　手　名","ﾌﾘｶﾞﾅ","学年","学校名","１　種　目","記　録",null,null,null,null,null,null,null,null,null,null,null,null,null,"登録陸協"]
[{"$f":"IF(C86=\"\",\"\",1)","v":""},null,{"$f":"IF(B86=\"\",\"\",VLOOKUP(B86,学連登録!$C$2:$G$3000,2,FALSE))","v":""},{"$f":"IF(B86=\"\",\"\",VLOOKUP(B86,学連登録!$C$2:$G$3000,3,FALSE))","v":""},{"$f":"IF(B86=\"\",\"\",VLOOKUP(B86,学連登録!$C$2:$G$3000,4,FALSE))","v":""},{"$f":"IF(C86=\"\",\"\",$P$1)","v":""},null,null,null,null,null,null,null,null,null,null,null,null,null,null,null,{"$f":"IF(B86=\"\",\"\",VLOOKUP(B86,学連登録!$C$2:$H$3000,6,FALSE))","v":""},null,{"$f":"IF(C86=\"\",\"\",$S$3)","v":""},{"$f":"IF(G86=\"\",\"\",VLOOKUP(G86,種目名!$O$5:$T$104,3,0))","v":""},{"$f":"IF(J86=\"\",\"\",VLOOKUP(J86,種目名!$O$5:$T$104,3,0))","v":""},{"$f":"IF(M86=\"\",\"\",VLOOKUP(M86,種目名!$O$5:$T$104,3,0))","v":""},{"$f":"IF(P86=\"\",\"\",VLOOKUP(AE86,種目名!$O$5:$T$104,3,0))","v":""},{"$f":"IF(S86=\"\",\"\",VLOOKUP(AH86,種目名!$O$5:$T$104,3,0))","v":""},{"$f":"LENB(P86)","v":0},{"$f":"IF(AD86,LEFTB(P86,AD86-1),\"\")","v":""},{"$f":"IF(AD86,MIDB(P86,AD86,1),\"\")","v":""},{"$f":"LENB(S86)","v":0},{"$f":"IF(AG86,LEFTB(S86,AG86-1),\"\")","v":""},{"$f":"IF(AG86,MIDB(S86,AG86,1),\"\")","v":""}]
[{"$f":"IF(C87=\"\",\"\",A86+1)","v":""},null,{"$f":"IF(B87=\"\",\"\",VLOOKUP(B87,学連登録!$C$2:$G$3000,2,FALSE))","v":""},{"$f":"IF(B87=\"\",\"\",VLOOKUP(B87,学連登録!$C$2:$G$3000,3,FALSE))","v":""},{"$f":"IF(B87=\"\",\"\",VLOOKUP(B87,学連登録!$C$2:$G$3000,4,FALSE))","v":""},"",null,null,null,null,null,null,null,null,null,null,null,null,null,null,null,{"$f":"IF(B87=\"\",\"\",VLOOKUP(B87,学連登録!$C$2:$H$3000,6,FALSE))","v":""},null,"",{"$f":"IF(G87=\"\",\"\",VLOOKUP(G87,種目名!$O$5:$T$104,3,0))","v":""},{"$f":"IF(J87=\"\",\"\",VLOOKUP(J87,種目名!$O$5:$T$104,3,0))","v":""},{"$f":"IF(M87=\"\",\"\",VLOOKUP(M87,種目名!$O$5:$T$104,3,0))","v":""},{"$f":"IF(P87=\"\",\"\",VLOOKUP(AE87,種目名!$O$5:$T$104,3,0))","v":""},{"$f":"IF(S87=\"\",\"\",VLOOKUP(AH87,種目名!$O$5:$T$104,3,0))","v":""},0,"","",0,"",""]
["",null,{"$f":"IF(B88=\"\",\"\",VLOOKUP(B88,学連登録!$C$2:$G$3000,2,FALSE))","v":""},{"$f":"IF(B88=\"\",\"\",VLOOKUP(B88,学連登録!$C$2:$G$3000,3,FALSE))","v":""},{"$f":"IF(B88=\"\",\"\",VLOOKUP(B88,学連登録!$C$2:$G$3000,4,FALSE))","v":""},"",null,null,null,null,null,null,null,null,null,null,null,null,null,null,null,{"$f":"IF(B88=\"\",\"\",VLOOKUP(B88,学連登録!$C$2:$H$3000,6,FALSE))","v":""},null,"",{"$f":"IF(G88=\"\",\"\",VLOOKUP(G88,種目名!$O$5:$T$104,3,0))","v":""},{"$f":"IF(J88=\"\",\"\",VLOOKUP(J88,種目名!$O$5:$T$104,3,0))","v":""},{"$f":"IF(M88=\"\",\"\",VLOOKUP(M88,種目名!$O$5:$T$104,3,0))","v":""},{"$f":"IF(P88=\"\",\"\",VLOOKUP(AE88,種目名!$O$5:$T$104,3,0))","v":""},{"$f":"IF(S88=\"\",\"\",VLOOKUP(AH88,種目名!$O$5:$T$104,3,0))","v":""},0,"","",0,"",""]
["",null,{"$f":"IF(B89=\"\",\"\",VLOOKUP(B89,学連登録!$C$2:$G$3000,2,FALSE))","v":""},{"$f":"IF(B89=\"\",\"\",VLOOKUP(B89,学連登録!$C$2:$G$3000,3,FALSE))","v":""},{"$f":"IF(B89=\"\",\"\",VLOOKUP(B89,学連登録!$C$2:$G$3000,4,FALSE))","v":""},"",null,null,null,null,null,null,null,null,null,null,null,null,null,null,null,{"$f":"IF(B89=\"\",\"\",VLOOKUP(B89,学連登録!$C$2:$H$3000,6,FALSE))","v":""},null,"",{"$f":"IF(G89=\"\",\"\",VLOOKUP(G89,種目名!$O$5:$T$104,3,0))","v":""},{"$f":"IF(J89=\"\",\"\",VLOOKUP(J89,種目名!$O$5:$T$104,3,0))","v":""},{"$f":"IF(M89=\"\",\"\",VLOOKUP(M89,種目名!$O$5:$T$104,3,0))","v":""},{"$f":"IF(P89=\"\",\"\",VLOOKUP(AE89,種目名!$O$5:$T$104,3,0))","v":""},{"$f":"IF(S89=\"\",\"\",VLOOKUP(AH89,種目名!$O$5:$T$104,3,0))","v":""},0,"","",0,"",""]
["",null,{"$f":"IF(B90=\"\",\"\",VLOOKUP(B90,学連登録!$C$2:$G$3000,2,FALSE))","v":""},{"$f":"IF(B90=\"\",\"\",VLOOKUP(B90,学連登録!$C$2:$G$3000,3,FALSE))","v":""},{"$f":"IF(B90=\"\",\"\",VLOOKUP(B90,学連登録!$C$2:$G$3000,4,FALSE))","v":""},"",null,null,null,null,null,null,null,null,null,null,null,null,null,null,null,{"$f":"IF(B90=\"\",\"\",VLOOKUP(B90,学連登録!$C$2:$H$3000,6,FALSE))","v":""},null,"",{"$f":"IF(G90=\"\",\"\",VLOOKUP(G90,種目名!$O$5:$T$104,3,0))","v":""},{"$f":"IF(J90=\"\",\"\",VLOOKUP(J90,種目名!$O$5:$T$104,3,0))","v":""},{"$f":"IF(M90=\"\",\"\",VLOOKUP(M90,種目名!$O$5:$T$104,3,0))","v":""},{"$f":"IF(P90=\"\",\"\",VLOOKUP(AE90,種目名!$O$5:$T$104,3,0))","v":""},{"$f":"IF(S90=\"\",\"\",VLOOKUP(AH90,種目名!$O$5:$T$104,3,0))","v":""},0,"","",0,"",""]
["",null,{"$f":"IF(B91=\"\",\"\",VLOOKUP(B91,学連登録!$C$2:$G$3000,2,FALSE))","v":""},{"$f":"IF(B91=\"\",\"\",VLOOKUP(B91,学連登録!$C$2:$G$3000,3,FALSE))","v":""},{"$f":"IF(B91=\"\",\"\",VLOOKUP(B91,学連登録!$C$2:$G$3000,4,FALSE))","v":""},"",null,null,null,null,null,null,null,null,null,null,null,null,null,null,null,{"$f":"IF(B91=\"\",\"\",VLOOKUP(B91,学連登録!$C$2:$H$3000,6,FALSE))","v":""},null,"",{"$f":"IF(G91=\"\",\"\",VLOOKUP(G91,種目名!$O$5:$T$104,3,0))","v":""},{"$f":"IF(J91=\"\",\"\",VLOOKUP(J91,種目名!$O$5:$T$104,3,0))","v":""},{"$f":"IF(M91=\"\",\"\",VLOOKUP(M91,種目名!$O$5:$T$104,3,0))","v":""},{"$f":"IF(P91=\"\",\"\",VLOOKUP(AE91,種目名!$O$5:$T$104,3,0))","v":""},{"$f":"IF(S91=\"\",\"\",VLOOKUP(AH91,種目名!$O$5:$T$104,3,0))","v":""},0,"","",0,"",""]
["",null,{"$f":"IF(B92=\"\",\"\",VLOOKUP(B92,学連登録!$C$2:$G$3000,2,FALSE))","v":""},{"$f":"IF(B92=\"\",\"\",VLOOKUP(B92,学連登録!$C$2:$G$3000,3,FALSE))","v":""},{"$f":"IF(B92=\"\",\"\",VLOOKUP(B92,学連登録!$C$2:$G$3000,4,FALSE))","v":""},"",null,null,null,null,null,null,null,null,null,null,null,null,null,null,null,{"$f":"IF(B92=\"\",\"\",VLOOKUP(B92,学連登録!$C$2:$H$3000,6,FALSE))","v":""},null,"",{"$f":"IF(G92=\"\",\"\",VLOOKUP(G92,種目名!$O$5:$T$104,3,0))","v":""},{"$f":"IF(J92=\"\",\"\",VLOOKUP(J92,種目名!$O$5:$T$104,3,0))","v":""},{"$f":"IF(M92=\"\",\"\",VLOOKUP(M92,種目名!$O$5:$T$104,3,0))","v":""},{"$f":"IF(P92=\"\",\"\",VLOOKUP(AE92,種目名!$O$5:$T$104,3,0))","v":""},{"$f":"IF(S92=\"\",\"\",VLOOKUP(AH92,種目名!$O$5:$T$104,3,0))","v":""},0,"","",0,"",""]
["",null,{"$f":"IF(B93=\"\",\"\",VLOOKUP(B93,学連登録!$C$2:$G$3000,2,FALSE))","v":""},{"$f":"IF(B93=\"\",\"\",VLOOKUP(B93,学連登録!$C$2:$G$3000,3,FALSE))","v":""},{"$f":"IF(B93=\"\",\"\",VLOOKUP(B93,学連登録!$C$2:$G$3000,4,FALSE))","v":""},"",null,null,null,null,null,null,null,null,null,null,null,null,null,null,null,{"$f":"IF(B93=\"\",\"\",VLOOKUP(B93,学連登録!$C$2:$H$3000,6,FALSE))","v":""},null,"",{"$f":"IF(G93=\"\",\"\",VLOOKUP(G93,種目名!$O$5:$T$104,3,0))","v":""},{"$f":"IF(J93=\"\",\"\",VLOOKUP(J93,種目名!$O$5:$T$104,3,0))","v":""},{"$f":"IF(M93=\"\",\"\",VLOOKUP(M93,種目名!$O$5:$T$104,3,0))","v":""},{"$f":"IF(P93=\"\",\"\",VLOOKUP(AE93,種目名!$O$5:$T$104,3,0))","v":""},{"$f":"IF(S93=\"\",\"\",VLOOKUP(AH93,種目名!$O$5:$T$104,3,0))","v":""},0,"","",0,"",""]
["",null,{"$f":"IF(B94=\"\",\"\",VLOOKUP(B94,学連登録!$C$2:$G$3000,2,FALSE))","v":""},{"$f":"IF(B94=\"\",\"\",VLOOKUP(B94,学連登録!$C$2:$G$3000,3,FALSE))","v":""},{"$f":"IF(B94=\"\",\"\",VLOOKUP(B94,学連登録!$C$2:$G$3000,4,FALSE))","v":""},"",null,null,null,null,null,null,null,null,null,null,null,null,null,null,null,{"$f":"IF(B94=\"\",\"\",VLOOKUP(B94,学連登録!$C$2:$H$3000,6,FALSE))","v":""},null,"",{"$f":"IF(G94=\"\",\"\",VLOOKUP(G94,種目名!$O$5:$T$104,3,0))","v":""},{"$f":"IF(J94=\"\",\"\",VLOOKUP(J94,種目名!$O$5:$T$104,3,0))","v":""},{"$f":"IF(M94=\"\",\"\",VLOOKUP(M94,種目名!$O$5:$T$104,3,0))","v":""},{"$f":"IF(P94=\"\",\"\",VLOOKUP(AE94,種目名!$O$5:$T$104,3,0))","v":""},{"$f":"IF(S94=\"\",\"\",VLOOKUP(AH94,種目名!$O$5:$T$104,3,0))","v":""},0,"","",0,"",""]
["",null,{"$f":"IF(B95=\"\",\"\",VLOOKUP(B95,学連登録!$C$2:$G$3000,2,FALSE))","v":""},{"$f":"IF(B95=\"\",\"\",VLOOKUP(B95,学連登録!$C$2:$G$3000,3,FALSE))","v":""},{"$f":"IF(B95=\"\",\"\",VLOOKUP(B95,学連登録!$C$2:$G$3000,4,FALSE))","v":""},"",null,null,null,null,null,null,null,null,null,null,null,null,null,null,null,{"$f":"IF(B95=\"\",\"\",VLOOKUP(B95,学連登録!$C$2:$H$3000,6,FALSE))","v":""},null,"",{"$f":"IF(G95=\"\",\"\",VLOOKUP(G95,種目名!$O$5:$T$104,3,0))","v":""},{"$f":"IF(J95=\"\",\"\",VLOOKUP(J95,種目名!$O$5:$T$104,3,0))","v":""},{"$f":"IF(M95=\"\",\"\",VLOOKUP(M95,種目名!$O$5:$T$104,3,0))","v":""},{"$f":"IF(P95=\"\",\"\",VLOOKUP(AE95,種目名!$O$5:$T$104,3,0))","v":""},{"$f":"IF(S95=\"\",\"\",VLOOKUP(AH95,種目名!$O$5:$T$104,3,0))","v":""},0,"","",0,"",""]
["",null,{"$f":"IF(B96=\"\",\"\",VLOOKUP(B96,学連登録!$C$2:$G$3000,2,FALSE))","v":""},{"$f":"IF(B96=\"\",\"\",VLOOKUP(B96,学連登録!$C$2:$G$3000,3,FALSE))","v":""},{"$f":"IF(B96=\"\",\"\",VLOOKUP(B96,学連登録!$C$2:$G$3000,4,FALSE))","v":""},"",null,null,null,null,null,null,null,null,null,null,null,null,null,null,null,{"$f":"IF(B96=\"\",\"\",VLOOKUP(B96,学連登録!$C$2:$H$3000,6,FALSE))","v":""},null,"",{"$f":"IF(G96=\"\",\"\",VLOOKUP(G96,種目名!$O$5:$T$104,3,0))","v":""},{"$f":"IF(J96=\"\",\"\",VLOOKUP(J96,種目名!$O$5:$T$104,3,0))","v":""},{"$f":"IF(M96=\"\",\"\",VLOOKUP(M96,種目名!$O$5:$T$104,3,0))","v":""},{"$f":"IF(P96=\"\",\"\",VLOOKUP(AE96,種目名!$O$5:$T$104,3,0))","v":""},{"$f":"IF(S96=\"\",\"\",VLOOKUP(AH96,種目名!$O$5:$T$104,3,0))","v":""},0,"","",0,"",""]
["",null,{"$f":"IF(B97=\"\",\"\",VLOOKUP(B97,学連登録!$C$2:$G$3000,2,FALSE))","v":""},{"$f":"IF(B97=\"\",\"\",VLOOKUP(B97,学連登録!$C$2:$G$3000,3,FALSE))","v":""},{"$f":"IF(B97=\"\",\"\",VLOOKUP(B97,学連登録!$C$2:$G$3000,4,FALSE))","v":""},"",null,null,null,null,null,null,null,null,null,null,null,null,null,null,null,{"$f":"IF(B97=\"\",\"\",VLOOKUP(B97,学連登録!$C$2:$H$3000,6,FALSE))","v":""},null,"",{"$f":"IF(G97=\"\",\"\",VLOOKUP(G97,種目名!$O$5:$T$104,3,0))","v":""},{"$f":"IF(J97=\"\",\"\",VLOOKUP(J97,種目名!$O$5:$T$104,3,0))","v":""},{"$f":"IF(M97=\"\",\"\",VLOOKUP(M97,種目名!$O$5:$T$104,3,0))","v":""},{"$f":"IF(P97=\"\",\"\",VLOOKUP(AE97,種目名!$O$5:$T$104,3,0))","v":""},{"$f":"IF(S97=\"\",\"\",VLOOKUP(AH97,種目名!$O$5:$T$104,3,0))","v":""},0,"","",0,"",""]
["",null,{"$f":"IF(B98=\"\",\"\",VLOOKUP(B98,学連登録!$C$2:$G$3000,2,FALSE))","v":""},{"$f":"IF(B98=\"\",\"\",VLOOKUP(B98,学連登録!$C$2:$G$3000,3,FALSE))","v":""},{"$f":"IF(B98=\"\",\"\",VLOOKUP(B98,学連登録!$C$2:$G$3000,4,FALSE))","v":""},"",null,null,null,null,null,null,null,null,null,null,null,null,null,null,null,{"$f":"IF(B98=\"\",\"\",VLOOKUP(B98,学連登録!$C$2:$H$3000,6,FALSE))","v":""},null,"",{"$f":"IF(G98=\"\",\"\",VLOOKUP(G98,種目名!$O$5:$T$104,3,0))","v":""},{"$f":"IF(J98=\"\",\"\",VLOOKUP(J98,種目名!$O$5:$T$104,3,0))","v":""},{"$f":"IF(M98=\"\",\"\",VLOOKUP(M98,種目名!$O$5:$T$104,3,0))","v":""},{"$f":"IF(P98=\"\",\"\",VLOOKUP(AE98,種目名!$O$5:$T$104,3,0))","v":""},{"$f":"IF(S98=\"\",\"\",VLOOKUP(AH98,種目名!$O$5:$T$104,3,0))","v":""},0,"","",0,"",""]
["",null,{"$f":"IF(B99=\"\",\"\",VLOOKUP(B99,学連登録!$C$2:$G$3000,2,FALSE))","v":""},{"$f":"IF(B99=\"\",\"\",VLOOKUP(B99,学連登録!$C$2:$G$3000,3,FALSE))","v":""},{"$f":"IF(B99=\"\",\"\",VLOOKUP(B99,学連登録!$C$2:$G$3000,4,FALSE))","v":""},"",null,null,null,null,null,null,null,null,null,null,null,null,null,null,null,{"$f":"IF(B99=\"\",\"\",VLOOKUP(B99,学連登録!$C$2:$H$3000,6,FALSE))","v":""},null,"",{"$f":"IF(G99=\"\",\"\",VLOOKUP(G99,種目名!$O$5:$T$104,3,0))","v":""},{"$f":"IF(J99=\"\",\"\",VLOOKUP(J99,種目名!$O$5:$T$104,3,0))","v":""},{"$f":"IF(M99=\"\",\"\",VLOOKUP(M99,種目名!$O$5:$T$104,3,0))","v":""},{"$f":"IF(P99=\"\",\"\",VLOOKUP(AE99,種目名!$O$5:$T$104,3,0))","v":""},{"$f":"IF(S99=\"\",\"\",VLOOKUP(AH99,種目名!$O$5:$T$104,3,0))","v":""},0,"","",0,"",""]
["",null,{"$f":"IF(B100=\"\",\"\",VLOOKUP(B100,学連登録!$C$2:$G$3000,2,FALSE))","v":""},{"$f":"IF(B100=\"\",\"\",VLOOKUP(B100,学連登録!$C$2:$G$3000,3,FALSE))","v":""},{"$f":"IF(B100=\"\",\"\",VLOOKUP(B100,学連登録!$C$2:$G$3000,4,FALSE))","v":""},"",null,null,null,null,null,null,null,null,null,null,null,null,null,null,null,{"$f":"IF(B100=\"\",\"\",VLOOKUP(B100,学連登録!$C$2:$H$3000,6,FALSE))","v":""},null,"",{"$f":"IF(G100=\"\",\"\",VLOOKUP(G100,種目名!$O$5:$T$104,3,0))","v":""},{"$f":"IF(J100=\"\",\"\",VLOOKUP(J100,種目名!$O$5:$T$104,3,0))","v":""},{"$f":"IF(M100=\"\",\"\",VLOOKUP(M100,種目名!$O$5:$T$104,3,0))","v":""},{"$f":"IF(P100=\"\",\"\",VLOOKUP(AE100,種目名!$O$5:$T$104,3,0))","v":""},{"$f":"IF(S100=\"\",\"\",VLOOKUP(AH100,種目名!$O$5:$T$104,3,0))","v":""},0,"","",0,"",""]
["",null,{"$f":"IF(B101=\"\",\"\",VLOOKUP(B101,学連登録!$C$2:$G$3000,2,FALSE))","v":""},{"$f":"IF(B101=\"\",\"\",VLOOKUP(B101,学連登録!$C$2:$G$3000,3,FALSE))","v":""},{"$f":"IF(B101=\"\",\"\",VLOOKUP(B101,学連登録!$C$2:$G$3000,4,FALSE))","v":""},"",null,null,null,null,null,null,null,null,null,null,null,null,null,null,null,{"$f":"IF(B101=\"\",\"\",VLOOKUP(B101,学連登録!$C$2:$H$3000,6,FALSE))","v":""},null,"",{"$f":"IF(G101=\"\",\"\",VLOOKUP(G101,種目名!$O$5:$T$104,3,0))","v":""},{"$f":"IF(J101=\"\",\"\",VLOOKUP(J101,種目名!$O$5:$T$104,3,0))","v":""},{"$f":"IF(M101=\"\",\"\",VLOOKUP(M101,種目名!$O$5:$T$104,3,0))","v":""},{"$f":"IF(P101=\"\",\"\",VLOOKUP(AE101,種目名!$O$5:$T$104,3,0))","v":""},{"$f":"IF(S101=\"\",\"\",VLOOKUP(AH101,種目名!$O$5:$T$104,3,0))","v":""},0,"","",0,"",""]
["",null,{"$f":"IF(B102=\"\",\"\",VLOOKUP(B102,学連登録!$C$2:$G$3000,2,FALSE))","v":""},{"$f":"IF(B102=\"\",\"\",VLOOKUP(B102,学連登録!$C$2:$G$3000,3,FALSE))","v":""},{"$f":"IF(B102=\"\",\"\",VLOOKUP(B102,学連登録!$C$2:$G$3000,4,FALSE))","v":""},"",null,null,null,null,null,null,null,null,null,null,null,null,null,null,null,{"$f":"IF(B102=\"\",\"\",VLOOKUP(B102,学連登録!$C$2:$H$3000,6,FALSE))","v":""},null,"",{"$f":"IF(G102=\"\",\"\",VLOOKUP(G102,種目名!$O$5:$T$104,3,0))","v":""},{"$f":"IF(J102=\"\",\"\",VLOOKUP(J102,種目名!$O$5:$T$104,3,0))","v":""},{"$f":"IF(M102=\"\",\"\",VLOOKUP(M102,種目名!$O$5:$T$104,3,0))","v":""},{"$f":"IF(P102=\"\",\"\",VLOOKUP(AE102,種目名!$O$5:$T$104,3,0))","v":""},{"$f":"IF(S102=\"\",\"\",VLOOKUP(AH102,種目名!$O$5:$T$104,3,0))","v":""},0,"","",0,"",""]
["",null,{"$f":"IF(B103=\"\",\"\",VLOOKUP(B103,学連登録!$C$2:$G$3000,2,FALSE))","v":""},{"$f":"IF(B103=\"\",\"\",VLOOKUP(B103,学連登録!$C$2:$G$3000,3,FALSE))","v":""},{"$f":"IF(B103=\"\",\"\",VLOOKUP(B103,学連登録!$C$2:$G$3000,4,FALSE))","v":""},"",null,null,null,null,null,null,null,null,null,null,null,null,null,null,null,{"$f":"IF(B103=\"\",\"\",VLOOKUP(B103,学連登録!$C$2:$H$3000,6,FALSE))","v":""},null,"",{"$f":"IF(G103=\"\",\"\",VLOOKUP(G103,種目名!$O$5:$T$104,3,0))","v":""},{"$f":"IF(J103=\"\",\"\",VLOOKUP(J103,種目名!$O$5:$T$104,3,0))","v":""},{"$f":"IF(M103=\"\",\"\",VLOOKUP(M103,種目名!$O$5:$T$104,3,0))","v":""},{"$f":"IF(P103=\"\",\"\",VLOOKUP(AE103,種目名!$O$5:$T$104,3,0))","v":""},{"$f":"IF(S103=\"\",\"\",VLOOKUP(AH103,種目名!$O$5:$T$104,3,0))","v":""},0,"","",0,"",""]
["",null,{"$f":"IF(B104=\"\",\"\",VLOOKUP(B104,学連登録!$C$2:$G$3000,2,FALSE))","v":""},{"$f":"IF(B104=\"\",\"\",VLOOKUP(B104,学連登録!$C$2:$G$3000,3,FALSE))","v":""},{"$f":"IF(B104=\"\",\"\",VLOOKUP(B104,学連登録!$C$2:$G$3000,4,FALSE))","v":""},"",null,null,null,null,null,null,null,null,null,null,null,null,null,null,null,{"$f":"IF(B104=\"\",\"\",VLOOKUP(B104,学連登録!$C$2:$H$3000,6,FALSE))","v":""},null,"",{"$f":"IF(G104=\"\",\"\",VLOOKUP(G104,種目名!$O$5:$T$104,3,0))","v":""},{"$f":"IF(J104=\"\",\"\",VLOOKUP(J104,種目名!$O$5:$T$104,3,0))","v":""},{"$f":"IF(M104=\"\",\"\",VLOOKUP(M104,種目名!$O$5:$T$104,3,0))","v":""},{"$f":"IF(P104=\"\",\"\",VLOOKUP(AE104,種目名!$O$5:$T$104,3,0))","v":""},{"$f":"IF(S104=\"\",\"\",VLOOKUP(AH104,種目名!$O$5:$T$104,3,0))","v":""},0,"","",0,"",""]
["",null,{"$f":"IF(B105=\"\",\"\",VLOOKUP(B105,学連登録!$C$2:$G$3000,2,FALSE))","v":""},{"$f":"IF(B105=\"\",\"\",VLOOKUP(B105,学連登録!$C$2:$G$3000,3,FALSE))","v":""},{"$f":"IF(B105=\"\",\"\",VLOOKUP(B105,学連登録!$C$2:$G$3000,4,FALSE))","v":""},"",null,null,null,null,null,null,null,null,null,null,null,null,null,null,null,{"$f":"IF(B105=\"\",\"\",VLOOKUP(B105,学連登録!$C$2:$H$3000,6,FALSE))","v":""},null,"",{"$f":"IF(G105=\"\",\"\",VLOOKUP(G105,種目名!$O$5:$T$104,3,0))","v":""},{"$f":"IF(J105=\"\",\"\",VLOOKUP(J105,種目名!$O$5:$T$104,3,0))","v":""},{"$f":"IF(M105=\"\",\"\",VLOOKUP(M105,種目名!$O$5:$T$104,3,0))","v":""},{"$f":"IF(P105=\"\",\"\",VLOOKUP(AE105,種目名!$O$5:$T$104,3,0))","v":""},{"$f":"IF(S105=\"\",\"\",VLOOKUP(AH105,種目名!$O$5:$T$104,3,0))","v":""},0,"","",0,"",""]
["",null,{"$f":"IF(B106=\"\",\"\",VLOOKUP(B106,学連登録!$C$2:$G$3000,2,FALSE))","v":""},{"$f":"IF(B106=\"\",\"\",VLOOKUP(B106,学連登録!$C$2:$G$3000,3,FALSE))","v":""},{"$f":"IF(B106=\"\",\"\",VLOOKUP(B106,学連登録!$C$2:$G$3000,4,FALSE))","v":""},"",null,null,null,null,null,null,null,null,null,null,null,null,null,null,null,{"$f":"IF(B106=\"\",\"\",VLOOKUP(B106,学連登録!$C$2:$H$3000,6,FALSE))","v":""},null,"",{"$f":"IF(G106=\"\",\"\",VLOOKUP(G106,種目名!$O$5:$T$104,3,0))","v":""},{"$f":"IF(J106=\"\",\"\",VLOOKUP(J106,種目名!$O$5:$T$104,3,0))","v":""},{"$f":"IF(M106=\"\",\"\",VLOOKUP(M106,種目名!$O$5:$T$104,3,0))","v":""},{"$f":"IF(P106=\"\",\"\",VLOOKUP(AE106,種目名!$O$5:$T$104,3,0))","v":""},{"$f":"IF(S106=\"\",\"\",VLOOKUP(AH106,種目名!$O$5:$T$104,3,0))","v":""},0,"","",0,"",""]
["",null,{"$f":"IF(B107=\"\",\"\",VLOOKUP(B107,学連登録!$C$2:$G$3000,2,FALSE))","v":""},{"$f":"IF(B107=\"\",\"\",VLOOKUP(B107,学連登録!$C$2:$G$3000,3,FALSE))","v":""},{"$f":"IF(B107=\"\",\"\",VLOOKUP(B107,学連登録!$C$2:$G$3000,4,FALSE))","v":""},"",null,null,null,null,null,null,null,null,null,null,null,null,null,null,null,{"$f":"IF(B107=\"\",\"\",VLOOKUP(B107,学連登録!$C$2:$H$3000,6,FALSE))","v":""},null,"",{"$f":"IF(G107=\"\",\"\",VLOOKUP(G107,種目名!$O$5:$T$104,3,0))","v":""},{"$f":"IF(J107=\"\",\"\",VLOOKUP(J107,種目名!$O$5:$T$104,3,0))","v":""},{"$f":"IF(M107=\"\",\"\",VLOOKUP(M107,種目名!$O$5:$T$104,3,0))","v":""},{"$f":"IF(P107=\"\",\"\",VLOOKUP(AE107,種目名!$O$5:$T$104,3,0))","v":""},{"$f":"IF(S107=\"\",\"\",VLOOKUP(AH107,種目名!$O$5:$T$104,3,0))","v":""},0,"","",0,"",""]
["",null,{"$f":"IF(B108=\"\",\"\",VLOOKUP(B108,学連登録!$C$2:$G$3000,2,FALSE))","v":""},{"$f":"IF(B108=\"\",\"\",VLOOKUP(B108,学連登録!$C$2:$G$3000,3,FALSE))","v":""},{"$f":"IF(B108=\"\",\"\",VLOOKUP(B108,学連登録!$C$2:$G$3000,4,FALSE))","v":""},"",null,null,null,null,null,null,null,null,null,null,null,null,null,null,null,{"$f":"IF(B108=\"\",\"\",VLOOKUP(B108,学連登録!$C$2:$H$3000,6,FALSE))","v":""},null,"",{"$f":"IF(G108=\"\",\"\",VLOOKUP(G108,種目名!$O$5:$T$104,3,0))","v":""},{"$f":"IF(J108=\"\",\"\",VLOOKUP(J108,種目名!$O$5:$T$104,3,0))","v":""},{"$f":"IF(M108=\"\",\"\",VLOOKUP(M108,種目名!$O$5:$T$104,3,0))","v":""},{"$f":"IF(P108=\"\",\"\",VLOOKUP(AE108,種目名!$O$5:$T$104,3,0))","v":""},{"$f":"IF(S108=\"\",\"\",VLOOKUP(AH108,種目名!$O$5:$T$104,3,0))","v":""},0,"","",0,"",""]
["",null,{"$f":"IF(B109=\"\",\"\",VLOOKUP(B109,学連登録!$C$2:$G$3000,2,FALSE))","v":""},{"$f":"IF(B109=\"\",\"\",VLOOKUP(B109,学連登録!$C$2:$G$3000,3,FALSE))","v":""},{"$f":"IF(B109=\"\",\"\",VLOOKUP(B109,学連登録!$C$2:$G$3000,4,FALSE))","v":""},"",null,null,null,null,null,null,null,null,null,null,null,null,null,null,null,{"$f":"IF(B109=\"\",\"\",VLOOKUP(B109,学連登録!$C$2:$H$3000,6,FALSE))","v":""},null,"",{"$f":"IF(G109=\"\",\"\",VLOOKUP(G109,種目名!$O$5:$T$104,3,0))","v":""},{"$f":"IF(J109=\"\",\"\",VLOOKUP(J109,種目名!$O$5:$T$104,3,0))","v":""},{"$f":"IF(M109=\"\",\"\",VLOOKUP(M109,種目名!$O$5:$T$104,3,0))","v":""},{"$f":"IF(P109=\"\",\"\",VLOOKUP(AE109,種目名!$O$5:$T$104,3,0))","v":""},{"$f":"IF(S109=\"\",\"\",VLOOKUP(AH109,種目名!$O$5:$T$104,3,0))","v":""},0,"","",0,"",""]
["",null,{"$f":"IF(B110=\"\",\"\",VLOOKUP(B110,学連登録!$C$2:$G$3000,2,FALSE))","v":""},{"$f":"IF(B110=\"\",\"\",VLOOKUP(B110,学連登録!$C$2:$G$3000,3,FALSE))","v":""},{"$f":"IF(B110=\"\",\"\",VLOOKUP(B110,学連登録!$C$2:$G$3000,4,FALSE))","v":""},"",null,null,null,null,null,null,null,null,null,null,null,null,null,null,null,{"$f":"IF(B110=\"\",\"\",VLOOKUP(B110,学連登録!$C$2:$H$3000,6,FALSE))","v":""},null,"",{"$f":"IF(G110=\"\",\"\",VLOOKUP(G110,種目名!$O$5:$T$104,3,0))","v":""},{"$f":"IF(J110=\"\",\"\",VLOOKUP(J110,種目名!$O$5:$T$104,3,0))","v":""},{"$f":"IF(M110=\"\",\"\",VLOOKUP(M110,種目名!$O$5:$T$104,3,0))","v":""},{"$f":"IF(P110=\"\",\"\",VLOOKUP(AE110,種目名!$O$5:$T$104,3,0))","v":""},{"$f":"IF(S110=\"\",\"\",VLOOKUP(AH110,種目名!$O$5:$T$104,3,0))","v":""},0,"","",0,"",""]
["",null,{"$f":"IF(B111=\"\",\"\",VLOOKUP(B111,学連登録!$C$2:$G$3000,2,FALSE))","v":""},{"$f":"IF(B111=\"\",\"\",VLOOKUP(B111,学連登録!$C$2:$G$3000,3,FALSE))","v":""},{"$f":"IF(B111=\"\",\"\",VLOOKUP(B111,学連登録!$C$2:$G$3000,4,FALSE))","v":""},"",null,null,null,null,null,null,null,null,null,null,null,null,null,null,null,{"$f":"IF(B111=\"\",\"\",VLOOKUP(B111,学連登録!$C$2:$H$3000,6,FALSE))","v":""},null,"",{"$f":"IF(G111=\"\",\"\",VLOOKUP(G111,種目名!$O$5:$T$104,3,0))","v":""},{"$f":"IF(J111=\"\",\"\",VLOOKUP(J111,種目名!$O$5:$T$104,3,0))","v":""},{"$f":"IF(M111=\"\",\"\",VLOOKUP(M111,種目名!$O$5:$T$104,3,0))","v":""},{"$f":"IF(P111=\"\",\"\",VLOOKUP(AE111,種目名!$O$5:$T$104,3,0))","v":""},{"$f":"IF(S111=\"\",\"\",VLOOKUP(AH111,種目名!$O$5:$T$104,3,0))","v":""},0,"","",0,"",""]
["",null,{"$f":"IF(B112=\"\",\"\",VLOOKUP(B112,学連登録!$C$2:$G$3000,2,FALSE))","v":""},{"$f":"IF(B112=\"\",\"\",VLOOKUP(B112,学連登録!$C$2:$G$3000,3,FALSE))","v":""},{"$f":"IF(B112=\"\",\"\",VLOOKUP(B112,学連登録!$C$2:$G$3000,4,FALSE))","v":""},"",null,null,null,null,null,null,null,null,null,null,null,null,null,null,null,{"$f":"IF(B112=\"\",\"\",VLOOKUP(B112,学連登録!$C$2:$H$3000,6,FALSE))","v":""},null,"",{"$f":"IF(G112=\"\",\"\",VLOOKUP(G112,種目名!$O$5:$T$104,3,0))","v":""},{"$f":"IF(J112=\"\",\"\",VLOOKUP(J112,種目名!$O$5:$T$104,3,0))","v":""},{"$f":"IF(M112=\"\",\"\",VLOOKUP(M112,種目名!$O$5:$T$104,3,0))","v":""},{"$f":"IF(P112=\"\",\"\",VLOOKUP(AE112,種目名!$O$5:$T$104,3,0))","v":""},{"$f":"IF(S112=\"\",\"\",VLOOKUP(AH112,種目名!$O$5:$T$104,3,0))","v":""},0,"","",0,"",""]
["",null,{"$f":"IF(B113=\"\",\"\",VLOOKUP(B113,学連登録!$C$2:$G$3000,2,FALSE))","v":""},{"$f":"IF(B113=\"\",\"\",VLOOKUP(B113,学連登録!$C$2:$G$3000,3,FALSE))","v":""},{"$f":"IF(B113=\"\",\"\",VLOOKUP(B113,学連登録!$C$2:$G$3000,4,FALSE))","v":""},"",null,null,null,null,null,null,null,null,null,null,null,null,null,null,null,{"$f":"IF(B113=\"\",\"\",VLOOKUP(B113,学連登録!$C$2:$H$3000,6,FALSE))","v":""},null,"",{"$f":"IF(G113=\"\",\"\",VLOOKUP(G113,種目名!$O$5:$T$104,3,0))","v":""},{"$f":"IF(J113=\"\",\"\",VLOOKUP(J113,種目名!$O$5:$T$104,3,0))","v":""},{"$f":"IF(M113=\"\",\"\",VLOOKUP(M113,種目名!$O$5:$T$104,3,0))","v":""},{"$f":"IF(P113=\"\",\"\",VLOOKUP(AE113,種目名!$O$5:$T$104,3,0))","v":""},{"$f":"IF(S113=\"\",\"\",VLOOKUP(AH113,種目名!$O$5:$T$104,3,0))","v":""},0,"","",0,"",""]
["",null,{"$f":"IF(B114=\"\",\"\",VLOOKUP(B114,学連登録!$C$2:$G$3000,2,FALSE))","v":""},{"$f":"IF(B114=\"\",\"\",VLOOKUP(B114,学連登録!$C$2:$G$3000,3,FALSE))","v":""},{"$f":"IF(B114=\"\",\"\",VLOOKUP(B114,学連登録!$C$2:$G$3000,4,FALSE))","v":""},"",null,null,null,null,null,null,null,null,null,null,null,null,null,null,null,{"$f":"IF(B114=\"\",\"\",VLOOKUP(B114,学連登録!$C$2:$H$3000,6,FALSE))","v":""},null,"",{"$f":"IF(G114=\"\",\"\",VLOOKUP(G114,種目名!$O$5:$T$104,3,0))","v":""},{"$f":"IF(J114=\"\",\"\",VLOOKUP(J114,種目名!$O$5:$T$104,3,0))","v":""},{"$f":"IF(M114=\"\",\"\",VLOOKUP(M114,種目名!$O$5:$T$104,3,0))","v":""},{"$f":"IF(P114=\"\",\"\",VLOOKUP(AE114,種目名!$O$5:$T$104,3,0))","v":""},{"$f":"IF(S114=\"\",\"\",VLOOKUP(AH114,種目名!$O$5:$T$104,3,0))","v":""},0,"","",0,"",""]
["",null,{"$f":"IF(B115=\"\",\"\",VLOOKUP(B115,学連登録!$C$2:$G$3000,2,FALSE))","v":""},{"$f":"IF(B115=\"\",\"\",VLOOKUP(B115,学連登録!$C$2:$G$3000,3,FALSE))","v":""},{"$f":"IF(B115=\"\",\"\",VLOOKUP(B115,学連登録!$C$2:$G$3000,4,FALSE))","v":""},"",null,null,null,null,null,null,null,null,null,null,null,null,null,null,null,{"$f":"IF(B115=\"\",\"\",VLOOKUP(B115,学連登録!$C$2:$H$3000,6,FALSE))","v":""},null,"",{"$f":"IF(G115=\"\",\"\",VLOOKUP(G115,種目名!$O$5:$T$104,3,0))","v":""},{"$f":"IF(J115=\"\",\"\",VLOOKUP(J115,種目名!$O$5:$T$104,3,0))","v":""},{"$f":"IF(M115=\"\",\"\",VLOOKUP(M115,種目名!$O$5:$T$104,3,0))","v":""},{"$f":"IF(P115=\"\",\"\",VLOOKUP(AE115,種目名!$O$5:$T$104,3,0))","v":""},{"$f":"IF(S115=\"\",\"\",VLOOKUP(AH115,種目名!$O$5:$T$104,3,0))","v":""},0,"","",0,"",""]
["",null,{"$f":"IF(B116=\"\",\"\",VLOOKUP(B116,学連登録!$C$2:$G$3000,2,FALSE))","v":""},{"$f":"IF(B116=\"\",\"\",VLOOKUP(B116,学連登録!$C$2:$G$3000,3,FALSE))","v":""},{"$f":"IF(B116=\"\",\"\",VLOOKUP(B116,学連登録!$C$2:$G$3000,4,FALSE))","v":""},"",null,null,null,null,null,null,null,null,null,null,null,null,null,null,null,{"$f":"IF(B116=\"\",\"\",VLOOKUP(B116,学連登録!$C$2:$H$3000,6,FALSE))","v":""},null,"",{"$f":"IF(G116=\"\",\"\",VLOOKUP(G116,種目名!$O$5:$T$104,3,0))","v":""},{"$f":"IF(J116=\"\",\"\",VLOOKUP(J116,種目名!$O$5:$T$104,3,0))","v":""},{"$f":"IF(M116=\"\",\"\",VLOOKUP(M116,種目名!$O$5:$T$104,3,0))","v":""},{"$f":"IF(P116=\"\",\"\",VLOOKUP(AE116,種目名!$O$5:$T$104,3,0))","v":""},{"$f":"IF(S116=\"\",\"\",VLOOKUP(AH116,種目名!$O$5:$T$104,3,0))","v":""},0,"","",0,"",""]
["",null,{"$f":"IF(B117=\"\",\"\",VLOOKUP(B117,学連登録!$C$2:$G$3000,2,FALSE))","v":""},{"$f":"IF(B117=\"\",\"\",VLOOKUP(B117,学連登録!$C$2:$G$3000,3,FALSE))","v":""},{"$f":"IF(B117=\"\",\"\",VLOOKUP(B117,学連登録!$C$2:$G$3000,4,FALSE))","v":""},"",null,null,null,null,null,null,null,null,null,null,null,null,null,null,null,{"$f":"IF(B117=\"\",\"\",VLOOKUP(B117,学連登録!$C$2:$H$3000,6,FALSE))","v":""},null,"",{"$f":"IF(G117=\"\",\"\",VLOOKUP(G117,種目名!$O$5:$T$104,3,0))","v":""},{"$f":"IF(J117=\"\",\"\",VLOOKUP(J117,種目名!$O$5:$T$104,3,0))","v":""},{"$f":"IF(M117=\"\",\"\",VLOOKUP(M117,種目名!$O$5:$T$104,3,0))","v":""},{"$f":"IF(P117=\"\",\"\",VLOOKUP(AE117,種目名!$O$5:$T$104,3,0))","v":""},{"$f":"IF(S117=\"\",\"\",VLOOKUP(AH117,種目名!$O$5:$T$104,3,0))","v":""},0,"","",0,"",""]
["",null,{"$f":"IF(B118=\"\",\"\",VLOOKUP(B118,学連登録!$C$2:$G$3000,2,FALSE))","v":""},{"$f":"IF(B118=\"\",\"\",VLOOKUP(B118,学連登録!$C$2:$G$3000,3,FALSE))","v":""},{"$f":"IF(B118=\"\",\"\",VLOOKUP(B118,学連登録!$C$2:$G$3000,4,FALSE))","v":""},"",null,null,null,null,null,null,null,null,null,null,null,null,null,null,null,{"$f":"IF(B118=\"\",\"\",VLOOKUP(B118,学連登録!$C$2:$H$3000,6,FALSE))","v":""},null,"",{"$f":"IF(G118=\"\",\"\",VLOOKUP(G118,種目名!$O$5:$T$104,3,0))","v":""},{"$f":"IF(J118=\"\",\"\",VLOOKUP(J118,種目名!$O$5:$T$104,3,0))","v":""},{"$f":"IF(M118=\"\",\"\",VLOOKUP(M118,種目名!$O$5:$T$104,3,0))","v":""},{"$f":"IF(P118=\"\",\"\",VLOOKUP(AE118,種目名!$O$5:$T$104,3,0))","v":""},{"$f":"IF(S118=\"\",\"\",VLOOKUP(AH118,種目名!$O$5:$T$104,3,0))","v":""},0,"","",0,"",""]
["",null,{"$f":"IF(B119=\"\",\"\",VLOOKUP(B119,学連登録!$C$2:$G$3000,2,FALSE))","v":""},{"$f":"IF(B119=\"\",\"\",VLOOKUP(B119,学連登録!$C$2:$G$3000,3,FALSE))","v":""},{"$f":"IF(B119=\"\",\"\",VLOOKUP(B119,学連登録!$C$2:$G$3000,4,FALSE))","v":""},"",null,null,null,null,null,null,null,null,null,null,null,null,null,null,null,{"$f":"IF(B119=\"\",\"\",VLOOKUP(B119,学連登録!$C$2:$H$3000,6,FALSE))","v":""},null,"",{"$f":"IF(G119=\"\",\"\",VLOOKUP(G119,種目名!$O$5:$T$104,3,0))","v":""},{"$f":"IF(J119=\"\",\"\",VLOOKUP(J119,種目名!$O$5:$T$104,3,0))","v":""},{"$f":"IF(M119=\"\",\"\",VLOOKUP(M119,種目名!$O$5:$T$104,3,0))","v":""},{"$f":"IF(P119=\"\",\"\",VLOOKUP(AE119,種目名!$O$5:$T$104,3,0))","v":""},{"$f":"IF(S119=\"\",\"\",VLOOKUP(AH119,種目名!$O$5:$T$104,3,0))","v":""},0,"","",0,"",""]
["",null,{"$f":"IF(B120=\"\",\"\",VLOOKUP(B120,学連登録!$C$2:$G$3000,2,FALSE))","v":""},{"$f":"IF(B120=\"\",\"\",VLOOKUP(B120,学連登録!$C$2:$G$3000,3,FALSE))","v":""},{"$f":"IF(B120=\"\",\"\",VLOOKUP(B120,学連登録!$C$2:$G$3000,4,FALSE))","v":""},"",null,null,null,null,null,null,null,null,null,null,null,null,null,null,null,{"$f":"IF(B120=\"\",\"\",VLOOKUP(B120,学連登録!$C$2:$H$3000,6,FALSE))","v":""},null,"",{"$f":"IF(G120=\"\",\"\",VLOOKUP(G120,種目名!$O$5:$T$104,3,0))","v":""},{"$f":"IF(J120=\"\",\"\",VLOOKUP(J120,種目名!$O$5:$T$104,3,0))","v":""},{"$f":"IF(M120=\"\",\"\",VLOOKUP(M120,種目名!$O$5:$T$104,3,0))","v":""},{"$f":"IF(P120=\"\",\"\",VLOOKUP(AE120,種目名!$O$5:$T$104,3,0))","v":""},{"$f":"IF(S120=\"\",\"\",VLOOKUP(AH120,種目名!$O$5:$T$104,3,0))","v":""},0,"","",0,"",""]
["",null,{"$f":"IF(B121=\"\",\"\",VLOOKUP(B121,学連登録!$C$2:$G$3000,2,FALSE))","v":""},{"$f":"IF(B121=\"\",\"\",VLOOKUP(B121,学連登録!$C$2:$G$3000,3,FALSE))","v":""},{"$f":"IF(B121=\"\",\"\",VLOOKUP(B121,学連登録!$C$2:$G$3000,4,FALSE))","v":""},"",null,null,null,null,null,null,null,null,null,null,null,null,null,null,null,{"$f":"IF(B121=\"\",\"\",VLOOKUP(B121,学連登録!$C$2:$H$3000,6,FALSE))","v":""},null,"",{"$f":"IF(G121=\"\",\"\",VLOOKUP(G121,種目名!$O$5:$T$104,3,0))","v":""},{"$f":"IF(J121=\"\",\"\",VLOOKUP(J121,種目名!$O$5:$T$104,3,0))","v":""},{"$f":"IF(M121=\"\",\"\",VLOOKUP(M121,種目名!$O$5:$T$104,3,0))","v":""},{"$f":"IF(P121=\"\",\"\",VLOOKUP(AE121,種目名!$O$5:$T$104,3,0))","v":""},{"$f":"IF(S121=\"\",\"\",VLOOKUP(AH121,種目名!$O$5:$T$104,3,0))","v":""},0,"","",0,"",""]
["",null,{"$f":"IF(B122=\"\",\"\",VLOOKUP(B122,学連登録!$C$2:$G$3000,2,FALSE))","v":""},{"$f":"IF(B122=\"\",\"\",VLOOKUP(B122,学連登録!$C$2:$G$3000,3,FALSE))","v":""},{"$f":"IF(B122=\"\",\"\",VLOOKUP(B122,学連登録!$C$2:$G$3000,4,FALSE))","v":""},"",null,null,null,null,null,null,null,null,null,null,null,null,null,null,null,{"$f":"IF(B122=\"\",\"\",VLOOKUP(B122,学連登録!$C$2:$H$3000,6,FALSE))","v":""},null,"",{"$f":"IF(G122=\"\",\"\",VLOOKUP(G122,種目名!$O$5:$T$104,3,0))","v":""},{"$f":"IF(J122=\"\",\"\",VLOOKUP(J122,種目名!$O$5:$T$104,3,0))","v":""},{"$f":"IF(M122=\"\",\"\",VLOOKUP(M122,種目名!$O$5:$T$104,3,0))","v":""},{"$f":"IF(P122=\"\",\"\",VLOOKUP(AE122,種目名!$O$5:$T$104,3,0))","v":""},{"$f":"IF(S122=\"\",\"\",VLOOKUP(AH122,種目名!$O$5:$T$104,3,0))","v":""},0,"","",0,"",""]
["",null,{"$f":"IF(B123=\"\",\"\",VLOOKUP(B123,学連登録!$C$2:$G$3000,2,FALSE))","v":""},{"$f":"IF(B123=\"\",\"\",VLOOKUP(B123,学連登録!$C$2:$G$3000,3,FALSE))","v":""},{"$f":"IF(B123=\"\",\"\",VLOOKUP(B123,学連登録!$C$2:$G$3000,4,FALSE))","v":""},"",null,null,null,null,null,null,null,null,null,null,null,null,null,null,null,{"$f":"IF(B123=\"\",\"\",VLOOKUP(B123,学連登録!$C$2:$H$3000,6,FALSE))","v":""},null,"",{"$f":"IF(G123=\"\",\"\",VLOOKUP(G123,種目名!$O$5:$T$104,3,0))","v":""},{"$f":"IF(J123=\"\",\"\",VLOOKUP(J123,種目名!$O$5:$T$104,3,0))","v":""},{"$f":"IF(M123=\"\",\"\",VLOOKUP(M123,種目名!$O$5:$T$104,3,0))","v":""},{"$f":"IF(P123=\"\",\"\",VLOOKUP(AE123,種目名!$O$5:$T$104,3,0))","v":""},{"$f":"IF(S123=\"\",\"\",VLOOKUP(AH123,種目名!$O$5:$T$104,3,0))","v":""},0,"","",0,"",""]
["",null,{"$f":"IF(B124=\"\",\"\",VLOOKUP(B124,学連登録!$C$2:$G$3000,2,FALSE))","v":""},{"$f":"IF(B124=\"\",\"\",VLOOKUP(B124,学連登録!$C$2:$G$3000,3,FALSE))","v":""},{"$f":"IF(B124=\"\",\"\",VLOOKUP(B124,学連登録!$C$2:$G$3000,4,FALSE))","v":""},"",null,null,null,null,null,null,null,null,null,null,null,null,null,null,null,{"$f":"IF(B124=\"\",\"\",VLOOKUP(B124,学連登録!$C$2:$H$3000,6,FALSE))","v":""},null,"",{"$f":"IF(G124=\"\",\"\",VLOOKUP(G124,種目名!$O$5:$T$104,3,0))","v":""},{"$f":"IF(J124=\"\",\"\",VLOOKUP(J124,種目名!$O$5:$T$104,3,0))","v":""},{"$f":"IF(M124=\"\",\"\",VLOOKUP(M124,種目名!$O$5:$T$104,3,0))","v":""},{"$f":"IF(P124=\"\",\"\",VLOOKUP(AE124,種目名!$O$5:$T$104,3,0))","v":""},{"$f":"IF(S124=\"\",\"\",VLOOKUP(AH124,種目名!$O$5:$T$104,3,0))","v":""},0,"","",0,"",""]
["",null,{"$f":"IF(B125=\"\",\"\",VLOOKUP(B125,学連登録!$C$2:$G$3000,2,FALSE))","v":""},{"$f":"IF(B125=\"\",\"\",VLOOKUP(B125,学連登録!$C$2:$G$3000,3,FALSE))","v":""},{"$f":"IF(B125=\"\",\"\",VLOOKUP(B125,学連登録!$C$2:$G$3000,4,FALSE))","v":""},"",null,null,null,null,null,null,null,null,null,null,null,null,null,null,null,{"$f":"IF(B125=\"\",\"\",VLOOKUP(B125,学連登録!$C$2:$H$3000,6,FALSE))","v":""},null,"",{"$f":"IF(G125=\"\",\"\",VLOOKUP(G125,種目名!$O$5:$T$104,3,0))","v":""},{"$f":"IF(J125=\"\",\"\",VLOOKUP(J125,種目名!$O$5:$T$104,3,0))","v":""},{"$f":"IF(M125=\"\",\"\",VLOOKUP(M125,種目名!$O$5:$T$104,3,0))","v":""},{"$f":"IF(P125=\"\",\"\",VLOOKUP(AE125,種目名!$O$5:$T$104,3,0))","v":""},{"$f":"IF(S125=\"\",\"\",VLOOKUP(AH125,種目名!$O$5:$T$104,3,0))","v":""},0,"","",0,"",""]
["",null,{"$f":"IF(B126=\"\",\"\",VLOOKUP(B126,学連登録!$C$2:$G$3000,2,FALSE))","v":""},{"$f":"IF(B126=\"\",\"\",VLOOKUP(B126,学連登録!$C$2:$G$3000,3,FALSE))","v":""},{"$f":"IF(B126=\"\",\"\",VLOOKUP(B126,学連登録!$C$2:$G$3000,4,FALSE))","v":""},"",null,null,null,null,null,null,null,null,null,null,null,null,null,null,null,{"$f":"IF(B126=\"\",\"\",VLOOKUP(B126,学連登録!$C$2:$H$3000,6,FALSE))","v":""},null,"",{"$f":"IF(G126=\"\",\"\",VLOOKUP(G126,種目名!$O$5:$T$104,3,0))","v":""},{"$f":"IF(J126=\"\",\"\",VLOOKUP(J126,種目名!$O$5:$T$104,3,0))","v":""},{"$f":"IF(M126=\"\",\"\",VLOOKUP(M126,種目名!$O$5:$T$104,3,0))","v":""},{"$f":"IF(P126=\"\",\"\",VLOOKUP(AE126,種目名!$O$5:$T$104,3,0))","v":""},{"$f":"IF(S126=\"\",\"\",VLOOKUP(AH126,種目名!$O$5:$T$104,3,0))","v":""},0,"","",0,"",""]
["",null,{"$f":"IF(B127=\"\",\"\",VLOOKUP(B127,学連登録!$C$2:$G$3000,2,FALSE))","v":""},{"$f":"IF(B127=\"\",\"\",VLOOKUP(B127,学連登録!$C$2:$G$3000,3,FALSE))","v":""},{"$f":"IF(B127=\"\",\"\",VLOOKUP(B127,学連登録!$C$2:$G$3000,4,FALSE))","v":""},"",null,null,null,null,null,null,null,null,null,null,null,null,null,null,null,{"$f":"IF(B127=\"\",\"\",VLOOKUP(B127,学連登録!$C$2:$H$3000,6,FALSE))","v":""},null,"",{"$f":"IF(G127=\"\",\"\",VLOOKUP(G127,種目名!$O$5:$T$104,3,0))","v":""},{"$f":"IF(J127=\"\",\"\",VLOOKUP(J127,種目名!$O$5:$T$104,3,0))","v":""},{"$f":"IF(M127=\"\",\"\",VLOOKUP(M127,種目名!$O$5:$T$104,3,0))","v":""},{"$f":"IF(P127=\"\",\"\",VLOOKUP(AE127,種目名!$O$5:$T$104,3,0))","v":""},{"$f":"IF(S127=\"\",\"\",VLOOKUP(AH127,種目名!$O$5:$T$104,3,0))","v":""},0,"","",0,"",""]
["",null,{"$f":"IF(B128=\"\",\"\",VLOOKUP(B128,学連登録!$C$2:$G$3000,2,FALSE))","v":""},{"$f":"IF(B128=\"\",\"\",VLOOKUP(B128,学連登録!$C$2:$G$3000,3,FALSE))","v":""},{"$f":"IF(B128=\"\",\"\",VLOOKUP(B128,学連登録!$C$2:$G$3000,4,FALSE))","v":""},"",null,null,null,null,null,null,null,null,null,null,null,null,null,null,null,{"$f":"IF(B128=\"\",\"\",VLOOKUP(B128,学連登録!$C$2:$H$3000,6,FALSE))","v":""},null,"",{"$f":"IF(G128=\"\",\"\",VLOOKUP(G128,種目名!$O$5:$T$104,3,0))","v":""},{"$f":"IF(J128=\"\",\"\",VLOOKUP(J128,種目名!$O$5:$T$104,3,0))","v":""},{"$f":"IF(M128=\"\",\"\",VLOOKUP(M128,種目名!$O$5:$T$104,3,0))","v":""},{"$f":"IF(P128=\"\",\"\",VLOOKUP(AE128,種目名!$O$5:$T$104,3,0))","v":""},{"$f":"IF(S128=\"\",\"\",VLOOKUP(AH128,種目名!$O$5:$T$104,3,0))","v":""},0,"","",0,"",""]
["",null,{"$f":"IF(B129=\"\",\"\",VLOOKUP(B129,学連登録!$C$2:$G$3000,2,FALSE))","v":""},{"$f":"IF(B129=\"\",\"\",VLOOKUP(B129,学連登録!$C$2:$G$3000,3,FALSE))","v":""},{"$f":"IF(B129=\"\",\"\",VLOOKUP(B129,学連登録!$C$2:$G$3000,4,FALSE))","v":""},"",null,null,null,null,null,null,null,null,null,null,null,null,null,null,null,{"$f":"IF(B129=\"\",\"\",VLOOKUP(B129,学連登録!$C$2:$H$3000,6,FALSE))","v":""},null,"",{"$f":"IF(G129=\"\",\"\",VLOOKUP(G129,種目名!$O$5:$T$104,3,0))","v":""},{"$f":"IF(J129=\"\",\"\",VLOOKUP(J129,種目名!$O$5:$T$104,3,0))","v":""},{"$f":"IF(M129=\"\",\"\",VLOOKUP(M129,種目名!$O$5:$T$104,3,0))","v":""},{"$f":"IF(P129=\"\",\"\",VLOOKUP(AE129,種目名!$O$5:$T$104,3,0))","v":""},{"$f":"IF(S129=\"\",\"\",VLOOKUP(AH129,種目名!$O$5:$T$104,3,0))","v":""},0,"","",0,"",""]
["",null,{"$f":"IF(B130=\"\",\"\",VLOOKUP(B130,学連登録!$C$2:$G$3000,2,FALSE))","v":""},{"$f":"IF(B130=\"\",\"\",VLOOKUP(B130,学連登録!$C$2:$G$3000,3,FALSE))","v":""},{"$f":"IF(B130=\"\",\"\",VLOOKUP(B130,学連登録!$C$2:$G$3000,4,FALSE))","v":""},"",null,null,null,null,null,null,null,null,null,null,null,null,null,null,null,{"$f":"IF(B130=\"\",\"\",VLOOKUP(B130,学連登録!$C$2:$H$3000,6,FALSE))","v":""},null,"",{"$f":"IF(G130=\"\",\"\",VLOOKUP(G130,種目名!$O$5:$T$104,3,0))","v":""},{"$f":"IF(J130=\"\",\"\",VLOOKUP(J130,種目名!$O$5:$T$104,3,0))","v":""},{"$f":"IF(M130=\"\",\"\",VLOOKUP(M130,種目名!$O$5:$T$104,3,0))","v":""},{"$f":"IF(P130=\"\",\"\",VLOOKUP(AE130,種目名!$O$5:$T$104,3,0))","v":""},{"$f":"IF(S130=\"\",\"\",VLOOKUP(AH130,種目名!$O$5:$T$104,3,0))","v":""},0,"","",0,"",""]
["",null,{"$f":"IF(B131=\"\",\"\",VLOOKUP(B131,学連登録!$C$2:$G$3000,2,FALSE))","v":""},{"$f":"IF(B131=\"\",\"\",VLOOKUP(B131,学連登録!$C$2:$G$3000,3,FALSE))","v":""},{"$f":"IF(B131=\"\",\"\",VLOOKUP(B131,学連登録!$C$2:$G$3000,4,FALSE))","v":""},"",null,null,null,null,null,null,null,null,null,null,null,null,null,null,null,{"$f":"IF(B131=\"\",\"\",VLOOKUP(B131,学連登録!$C$2:$H$3000,6,FALSE))","v":""},null,"",{"$f":"IF(G131=\"\",\"\",VLOOKUP(G131,種目名!$O$5:$T$104,3,0))","v":""},{"$f":"IF(J131=\"\",\"\",VLOOKUP(J131,種目名!$O$5:$T$104,3,0))","v":""},{"$f":"IF(M131=\"\",\"\",VLOOKUP(M131,種目名!$O$5:$T$104,3,0))","v":""},{"$f":"IF(P131=\"\",\"\",VLOOKUP(AE131,種目名!$O$5:$T$104,3,0))","v":""},{"$f":"IF(S131=\"\",\"\",VLOOKUP(AH131,種目名!$O$5:$T$104,3,0))","v":""},0,"","",0,"",""]
["",null,{"$f":"IF(B132=\"\",\"\",VLOOKUP(B132,学連登録!$C$2:$G$3000,2,FALSE))","v":""},{"$f":"IF(B132=\"\",\"\",VLOOKUP(B132,学連登録!$C$2:$G$3000,3,FALSE))","v":""},{"$f":"IF(B132=\"\",\"\",VLOOKUP(B132,学連登録!$C$2:$G$3000,4,FALSE))","v":""},"",null,null,null,null,null,null,null,null,null,null,null,null,null,null,null,{"$f":"IF(B132=\"\",\"\",VLOOKUP(B132,学連登録!$C$2:$H$3000,6,FALSE))","v":""},null,"",{"$f":"IF(G132=\"\",\"\",VLOOKUP(G132,種目名!$O$5:$T$104,3,0))","v":""},{"$f":"IF(J132=\"\",\"\",VLOOKUP(J132,種目名!$O$5:$T$104,3,0))","v":""},{"$f":"IF(M132=\"\",\"\",VLOOKUP(M132,種目名!$O$5:$T$104,3,0))","v":""},{"$f":"IF(P132=\"\",\"\",VLOOKUP(AE132,種目名!$O$5:$T$104,3,0))","v":""},{"$f":"IF(S132=\"\",\"\",VLOOKUP(AH132,種目名!$O$5:$T$104,3,0))","v":""},0,"","",0,"",""]
["",null,{"$f":"IF(B133=\"\",\"\",VLOOKUP(B133,学連登録!$C$2:$G$3000,2,FALSE))","v":""},{"$f":"IF(B133=\"\",\"\",VLOOKUP(B133,学連登録!$C$2:$G$3000,3,FALSE))","v":""},{"$f":"IF(B133=\"\",\"\",VLOOKUP(B133,学連登録!$C$2:$G$3000,4,FALSE))","v":""},"",null,null,null,null,null,null,null,null,null,null,null,null,null,null,null,{"$f":"IF(B133=\"\",\"\",VLOOKUP(B133,学連登録!$C$2:$H$3000,6,FALSE))","v":""},null,"",{"$f":"IF(G133=\"\",\"\",VLOOKUP(G133,種目名!$O$5:$T$104,3,0))","v":""},{"$f":"IF(J133=\"\",\"\",VLOOKUP(J133,種目名!$O$5:$T$104,3,0))","v":""},{"$f":"IF(M133=\"\",\"\",VLOOKUP(M133,種目名!$O$5:$T$104,3,0))","v":""},{"$f":"IF(P133=\"\",\"\",VLOOKUP(AE133,種目名!$O$5:$T$104,3,0))","v":""},{"$f":"IF(S133=\"\",\"\",VLOOKUP(AH133,種目名!$O$5:$T$104,3,0))","v":""},0,"","",0,"",""]
["",null,{"$f":"IF(B134=\"\",\"\",VLOOKUP(B134,学連登録!$C$2:$G$3000,2,FALSE))","v":""},{"$f":"IF(B134=\"\",\"\",VLOOKUP(B134,学連登録!$C$2:$G$3000,3,FALSE))","v":""},{"$f":"IF(B134=\"\",\"\",VLOOKUP(B134,学連登録!$C$2:$G$3000,4,FALSE))","v":""},"",null,null,null,null,null,null,null,null,null,null,null,null,null,null,null,{"$f":"IF(B134=\"\",\"\",VLOOKUP(B134,学連登録!$C$2:$H$3000,6,FALSE))","v":""},null,"",{"$f":"IF(G134=\"\",\"\",VLOOKUP(G134,種目名!$O$5:$T$104,3,0))","v":""},{"$f":"IF(J134=\"\",\"\",VLOOKUP(J134,種目名!$O$5:$T$104,3,0))","v":""},{"$f":"IF(M134=\"\",\"\",VLOOKUP(M134,種目名!$O$5:$T$104,3,0))","v":""},{"$f":"IF(P134=\"\",\"\",VLOOKUP(AE134,種目名!$O$5:$T$104,3,0))","v":""},{"$f":"IF(S134=\"\",\"\",VLOOKUP(AH134,種目名!$O$5:$T$104,3,0))","v":""},0,"","",0,"",""]
["",null,{"$f":"IF(B135=\"\",\"\",VLOOKUP(B135,学連登録!$C$2:$G$3000,2,FALSE))","v":""},{"$f":"IF(B135=\"\",\"\",VLOOKUP(B135,学連登録!$C$2:$G$3000,3,FALSE))","v":""},{"$f":"IF(B135=\"\",\"\",VLOOKUP(B135,学連登録!$C$2:$G$3000,4,FALSE))","v":""},"",null,null,null,null,null,null,null,null,null,null,null,null,null,null,null,{"$f":"IF(B135=\"\",\"\",VLOOKUP(B135,学連登録!$C$2:$H$3000,6,FALSE))","v":""},null,"",{"$f":"IF(G135=\"\",\"\",VLOOKUP(G135,種目名!$O$5:$T$104,3,0))","v":""},{"$f":"IF(J135=\"\",\"\",VLOOKUP(J135,種目名!$O$5:$T$104,3,0))","v":""},{"$f":"IF(M135=\"\",\"\",VLOOKUP(M135,種目名!$O$5:$T$104,3,0))","v":""},{"$f":"IF(P135=\"\",\"\",VLOOKUP(AE135,種目名!$O$5:$T$104,3,0))","v":""},{"$f":"IF(S135=\"\",\"\",VLOOKUP(AH135,種目名!$O$5:$T$104,3,0))","v":""},0,"","",0,"",""]
["",null,{"$f":"IF(B136=\"\",\"\",VLOOKUP(B136,学連登録!$C$2:$G$3000,2,FALSE))","v":""},{"$f":"IF(B136=\"\",\"\",VLOOKUP(B136,学連登録!$C$2:$G$3000,3,FALSE))","v":""},{"$f":"IF(B136=\"\",\"\",VLOOKUP(B136,学連登録!$C$2:$G$3000,4,FALSE))","v":""},"",null,null,null,null,null,null,null,null,null,null,null,null,null,null,null,{"$f":"IF(B136=\"\",\"\",VLOOKUP(B136,学連登録!$C$2:$H$3000,6,FALSE))","v":""},null,"",{"$f":"IF(G136=\"\",\"\",VLOOKUP(G136,種目名!$O$5:$T$104,3,0))","v":""},{"$f":"IF(J136=\"\",\"\",VLOOKUP(J136,種目名!$O$5:$T$104,3,0))","v":""},{"$f":"IF(M136=\"\",\"\",VLOOKUP(M136,種目名!$O$5:$T$104,3,0))","v":""},{"$f":"IF(P136=\"\",\"\",VLOOKUP(AE136,種目名!$O$5:$T$104,3,0))","v":""},{"$f":"IF(S136=\"\",\"\",VLOOKUP(AH136,種目名!$O$5:$T$104,3,0))","v":""},0,"","",0,"",""]
["",null,{"$f":"IF(B137=\"\",\"\",VLOOKUP(B137,学連登録!$C$2:$G$3000,2,FALSE))","v":""},{"$f":"IF(B137=\"\",\"\",VLOOKUP(B137,学連登録!$C$2:$G$3000,3,FALSE))","v":""},{"$f":"IF(B137=\"\",\"\",VLOOKUP(B137,学連登録!$C$2:$G$3000,4,FALSE))","v":""},"",null,null,null,null,null,null,null,null,null,null,null,null,null,null,null,{"$f":"IF(B137=\"\",\"\",VLOOKUP(B137,学連登録!$C$2:$H$3000,6,FALSE))","v":""},null,"",{"$f":"IF(G137=\"\",\"\",VLOOKUP(G137,種目名!$O$5:$T$104,3,0))","v":""},{"$f":"IF(J137=\"\",\"\",VLOOKUP(J137,種目名!$O$5:$T$104,3,0))","v":""},{"$f":"IF(M137=\"\",\"\",VLOOKUP(M137,種目名!$O$5:$T$104,3,0))","v":""},{"$f":"IF(P137=\"\",\"\",VLOOKUP(AE137,種目名!$O$5:$T$104,3,0))","v":""},{"$f":"IF(S137=\"\",\"\",VLOOKUP(AH137,種目名!$O$5:$T$104,3,0))","v":""},0,"","",0,"",""]
["",null,{"$f":"IF(B138=\"\",\"\",VLOOKUP(B138,学連登録!$C$2:$G$3000,2,FALSE))","v":""},{"$f":"IF(B138=\"\",\"\",VLOOKUP(B138,学連登録!$C$2:$G$3000,3,FALSE))","v":""},{"$f":"IF(B138=\"\",\"\",VLOOKUP(B138,学連登録!$C$2:$G$3000,4,FALSE))","v":""},"",null,null,null,null,null,null,null,null,null,null,null,null,null,null,null,{"$f":"IF(B138=\"\",\"\",VLOOKUP(B138,学連登録!$C$2:$H$3000,6,FALSE))","v":""},null,"",{"$f":"IF(G138=\"\",\"\",VLOOKUP(G138,種目名!$O$5:$T$104,3,0))","v":""},{"$f":"IF(J138=\"\",\"\",VLOOKUP(J138,種目名!$O$5:$T$104,3,0))","v":""},{"$f":"IF(M138=\"\",\"\",VLOOKUP(M138,種目名!$O$5:$T$104,3,0))","v":""},{"$f":"IF(P138=\"\",\"\",VLOOKUP(AE138,種目名!$O$5:$T$104,3,0))","v":""},{"$f":"IF(S138=\"\",\"\",VLOOKUP(AH138,種目名!$O$5:$T$104,3,0))","v":""},0,"","",0,"",""]
["",null,{"$f":"IF(B139=\"\",\"\",VLOOKUP(B139,学連登録!$C$2:$G$3000,2,FALSE))","v":""},{"$f":"IF(B139=\"\",\"\",VLOOKUP(B139,学連登録!$C$2:$G$3000,3,FALSE))","v":""},{"$f":"IF(B139=\"\",\"\",VLOOKUP(B139,学連登録!$C$2:$G$3000,4,FALSE))","v":""},"",null,null,null,null,null,null,null,null,null,null,null,null,null,null,null,{"$f":"IF(B139=\"\",\"\",VLOOKUP(B139,学連登録!$C$2:$H$3000,6,FALSE))","v":""},null,"",{"$f":"IF(G139=\"\",\"\",VLOOKUP(G139,種目名!$O$5:$T$104,3,0))","v":""},{"$f":"IF(J139=\"\",\"\",VLOOKUP(J139,種目名!$O$5:$T$104,3,0))","v":""},{"$f":"IF(M139=\"\",\"\",VLOOKUP(M139,種目名!$O$5:$T$104,3,0))","v":""},{"$f":"IF(P139=\"\",\"\",VLOOKUP(AE139,種目名!$O$5:$T$104,3,0))","v":""},{"$f":"IF(S139=\"\",\"\",VLOOKUP(AH139,種目名!$O$5:$T$104,3,0))","v":""},0,"","",0,"",""]
["",null,{"$f":"IF(B140=\"\",\"\",VLOOKUP(B140,学連登録!$C$2:$G$3000,2,FALSE))","v":""},{"$f":"IF(B140=\"\",\"\",VLOOKUP(B140,学連登録!$C$2:$G$3000,3,FALSE))","v":""},{"$f":"IF(B140=\"\",\"\",VLOOKUP(B140,学連登録!$C$2:$G$3000,4,FALSE))","v":""},"",null,null,null,null,null,null,null,null,null,null,null,null,null,null,null,{"$f":"IF(B140=\"\",\"\",VLOOKUP(B140,学連登録!$C$2:$H$3000,6,FALSE))","v":""},null,"",{"$f":"IF(G140=\"\",\"\",VLOOKUP(G140,種目名!$O$5:$T$104,3,0))","v":""},{"$f":"IF(J140=\"\",\"\",VLOOKUP(J140,種目名!$O$5:$T$104,3,0))","v":""},{"$f":"IF(M140=\"\",\"\",VLOOKUP(M140,種目名!$O$5:$T$104,3,0))","v":""},{"$f":"IF(P140=\"\",\"\",VLOOKUP(AE140,種目名!$O$5:$T$104,3,0))","v":""},{"$f":"IF(S140=\"\",\"\",VLOOKUP(AH140,種目名!$O$5:$T$104,3,0))","v":""},0,"","",0,"",""]
["",null,{"$f":"IF(B141=\"\",\"\",VLOOKUP(B141,学連登録!$C$2:$G$3000,2,FALSE))","v":""},{"$f":"IF(B141=\"\",\"\",VLOOKUP(B141,学連登録!$C$2:$G$3000,3,FALSE))","v":""},{"$f":"IF(B141=\"\",\"\",VLOOKUP(B141,学連登録!$C$2:$G$3000,4,FALSE))","v":""},"",null,null,null,null,null,null,null,null,null,null,null,null,null,null,null,{"$f":"IF(B141=\"\",\"\",VLOOKUP(B141,学連登録!$C$2:$H$3000,6,FALSE))","v":""},null,"",{"$f":"IF(G141=\"\",\"\",VLOOKUP(G141,種目名!$O$5:$T$104,3,0))","v":""},{"$f":"IF(J141=\"\",\"\",VLOOKUP(J141,種目名!$O$5:$T$104,3,0))","v":""},{"$f":"IF(M141=\"\",\"\",VLOOKUP(M141,種目名!$O$5:$T$104,3,0))","v":""},{"$f":"IF(P141=\"\",\"\",VLOOKUP(AE141,種目名!$O$5:$T$104,3,0))","v":""},{"$f":"IF(S141=\"\",\"\",VLOOKUP(AH141,種目名!$O$5:$T$104,3,0))","v":""},0,"","",0,"",""]
["",null,{"$f":"IF(B142=\"\",\"\",VLOOKUP(B142,学連登録!$C$2:$G$3000,2,FALSE))","v":""},{"$f":"IF(B142=\"\",\"\",VLOOKUP(B142,学連登録!$C$2:$G$3000,3,FALSE))","v":""},{"$f":"IF(B142=\"\",\"\",VLOOKUP(B142,学連登録!$C$2:$G$3000,4,FALSE))","v":""},"",null,null,null,null,null,null,null,null,null,null,null,null,null,null,null,{"$f":"IF(B142=\"\",\"\",VLOOKUP(B142,学連登録!$C$2:$H$3000,6,FALSE))","v":""},null,"",{"$f":"IF(G142=\"\",\"\",VLOOKUP(G142,種目名!$O$5:$T$104,3,0))","v":""},{"$f":"IF(J142=\"\",\"\",VLOOKUP(J142,種目名!$O$5:$T$104,3,0))","v":""},{"$f":"IF(M142=\"\",\"\",VLOOKUP(M142,種目名!$O$5:$T$104,3,0))","v":""},{"$f":"IF(P142=\"\",\"\",VLOOKUP(AE142,種目名!$O$5:$T$104,3,0))","v":""},{"$f":"IF(S142=\"\",\"\",VLOOKUP(AH142,種目名!$O$5:$T$104,3,0))","v":""},0,"","",0,"",""]
["",null,{"$f":"IF(B143=\"\",\"\",VLOOKUP(B143,学連登録!$C$2:$G$3000,2,FALSE))","v":""},{"$f":"IF(B143=\"\",\"\",VLOOKUP(B143,学連登録!$C$2:$G$3000,3,FALSE))","v":""},{"$f":"IF(B143=\"\",\"\",VLOOKUP(B143,学連登録!$C$2:$G$3000,4,FALSE))","v":""},"",null,null,null,null,null,null,null,null,null,null,null,null,null,null,null,{"$f":"IF(B143=\"\",\"\",VLOOKUP(B143,学連登録!$C$2:$H$3000,6,FALSE))","v":""},null,"",{"$f":"IF(G143=\"\",\"\",VLOOKUP(G143,種目名!$O$5:$T$104,3,0))","v":""},{"$f":"IF(J143=\"\",\"\",VLOOKUP(J143,種目名!$O$5:$T$104,3,0))","v":""},{"$f":"IF(M143=\"\",\"\",VLOOKUP(M143,種目名!$O$5:$T$104,3,0))","v":""},{"$f":"IF(P143=\"\",\"\",VLOOKUP(AE143,種目名!$O$5:$T$104,3,0))","v":""},{"$f":"IF(S143=\"\",\"\",VLOOKUP(AH143,種目名!$O$5:$T$104,3,0))","v":""},0,"","",0,"",""]
["",null,{"$f":"IF(B144=\"\",\"\",VLOOKUP(B144,学連登録!$C$2:$G$3000,2,FALSE))","v":""},{"$f":"IF(B144=\"\",\"\",VLOOKUP(B144,学連登録!$C$2:$G$3000,3,FALSE))","v":""},{"$f":"IF(B144=\"\",\"\",VLOOKUP(B144,学連登録!$C$2:$G$3000,4,FALSE))","v":""},"",null,null,null,null,null,null,null,null,null,null,null,null,null,null,null,{"$f":"IF(B144=\"\",\"\",VLOOKUP(B144,学連登録!$C$2:$H$3000,6,FALSE))","v":""},null,"",{"$f":"IF(G144=\"\",\"\",VLOOKUP(G144,種目名!$O$5:$T$104,3,0))","v":""},{"$f":"IF(J144=\"\",\"\",VLOOKUP(J144,種目名!$O$5:$T$104,3,0))","v":""},{"$f":"IF(M144=\"\",\"\",VLOOKUP(M144,種目名!$O$5:$T$104,3,0))","v":""},{"$f":"IF(P144=\"\",\"\",VLOOKUP(AE144,種目名!$O$5:$T$104,3,0))","v":""},{"$f":"IF(S144=\"\",\"\",VLOOKUP(AH144,種目名!$O$5:$T$104,3,0))","v":""},0,"","",0,"",""]
["",null,{"$f":"IF(B145=\"\",\"\",VLOOKUP(B145,学連登録!$C$2:$G$3000,2,FALSE))","v":""},{"$f":"IF(B145=\"\",\"\",VLOOKUP(B145,学連登録!$C$2:$G$3000,3,FALSE))","v":""},{"$f":"IF(B145=\"\",\"\",VLOOKUP(B145,学連登録!$C$2:$G$3000,4,FALSE))","v":""},"",null,null,null,null,null,null,null,null,null,null,null,null,null,null,null,{"$f":"IF(B145=\"\",\"\",VLOOKUP(B145,学連登録!$C$2:$H$3000,6,FALSE))","v":""},null,"",{"$f":"IF(G145=\"\",\"\",VLOOKUP(G145,種目名!$O$5:$T$104,3,0))","v":""},{"$f":"IF(J145=\"\",\"\",VLOOKUP(J145,種目名!$O$5:$T$104,3,0))","v":""},{"$f":"IF(M145=\"\",\"\",VLOOKUP(M145,種目名!$O$5:$T$104,3,0))","v":""},{"$f":"IF(P145=\"\",\"\",VLOOKUP(AE145,種目名!$O$5:$T$104,3,0))","v":""},{"$f":"IF(S145=\"\",\"\",VLOOKUP(AH145,種目名!$O$5:$T$104,3,0))","v":""},0,"","",0,"",""]
["",null,{"$f":"IF(B146=\"\",\"\",VLOOKUP(B146,学連登録!$C$2:$G$3000,2,FALSE))","v":""},{"$f":"IF(B146=\"\",\"\",VLOOKUP(B146,学連登録!$C$2:$G$3000,3,FALSE))","v":""},{"$f":"IF(B146=\"\",\"\",VLOOKUP(B146,学連登録!$C$2:$G$3000,4,FALSE))","v":""},"",null,null,null,null,null,null,null,null,null,null,null,null,null,null,null,{"$f":"IF(B146=\"\",\"\",VLOOKUP(B146,学連登録!$C$2:$H$3000,6,FALSE))","v":""},null,"",{"$f":"IF(G146=\"\",\"\",VLOOKUP(G146,種目名!$O$5:$T$104,3,0))","v":""},{"$f":"IF(J146=\"\",\"\",VLOOKUP(J146,種目名!$O$5:$T$104,3,0))","v":""},{"$f":"IF(M146=\"\",\"\",VLOOKUP(M146,種目名!$O$5:$T$104,3,0))","v":""},{"$f":"IF(P146=\"\",\"\",VLOOKUP(AE146,種目名!$O$5:$T$104,3,0))","v":""},{"$f":"IF(S146=\"\",\"\",VLOOKUP(AH146,種目名!$O$5:$T$104,3,0))","v":""},0,"","",0,"",""]
["",null,{"$f":"IF(B147=\"\",\"\",VLOOKUP(B147,学連登録!$C$2:$G$3000,2,FALSE))","v":""},{"$f":"IF(B147=\"\",\"\",VLOOKUP(B147,学連登録!$C$2:$G$3000,3,FALSE))","v":""},{"$f":"IF(B147=\"\",\"\",VLOOKUP(B147,学連登録!$C$2:$G$3000,4,FALSE))","v":""},"",null,null,null,null,null,null,null,null,null,null,null,null,null,null,null,{"$f":"IF(B147=\"\",\"\",VLOOKUP(B147,学連登録!$C$2:$H$3000,6,FALSE))","v":""},null,"",{"$f":"IF(G147=\"\",\"\",VLOOKUP(G147,種目名!$O$5:$T$104,3,0))","v":""},{"$f":"IF(J147=\"\",\"\",VLOOKUP(J147,種目名!$O$5:$T$104,3,0))","v":""},{"$f":"IF(M147=\"\",\"\",VLOOKUP(M147,種目名!$O$5:$T$104,3,0))","v":""},{"$f":"IF(P147=\"\",\"\",VLOOKUP(AE147,種目名!$O$5:$T$104,3,0))","v":""},{"$f":"IF(S147=\"\",\"\",VLOOKUP(AH147,種目名!$O$5:$T$104,3,0))","v":""},0,"","",0,"",""]
["",null,{"$f":"IF(B148=\"\",\"\",VLOOKUP(B148,学連登録!$C$2:$G$3000,2,FALSE))","v":""},{"$f":"IF(B148=\"\",\"\",VLOOKUP(B148,学連登録!$C$2:$G$3000,3,FALSE))","v":""},{"$f":"IF(B148=\"\",\"\",VLOOKUP(B148,学連登録!$C$2:$G$3000,4,FALSE))","v":""},"",null,null,null,null,null,null,null,null,null,null,null,null,null,null,null,{"$f":"IF(B148=\"\",\"\",VLOOKUP(B148,学連登録!$C$2:$H$3000,6,FALSE))","v":""},null,"",{"$f":"IF(G148=\"\",\"\",VLOOKUP(G148,種目名!$O$5:$T$104,3,0))","v":""},{"$f":"IF(J148=\"\",\"\",VLOOKUP(J148,種目名!$O$5:$T$104,3,0))","v":""},{"$f":"IF(M148=\"\",\"\",VLOOKUP(M148,種目名!$O$5:$T$104,3,0))","v":""},{"$f":"IF(P148=\"\",\"\",VLOOKUP(AE148,種目名!$O$5:$T$104,3,0))","v":""},{"$f":"IF(S148=\"\",\"\",VLOOKUP(AH148,種目名!$O$5:$T$104,3,0))","v":""},0,"","",0,"",""]
["",null,{"$f":"IF(B149=\"\",\"\",VLOOKUP(B149,学連登録!$C$2:$G$3000,2,FALSE))","v":""},{"$f":"IF(B149=\"\",\"\",VLOOKUP(B149,学連登録!$C$2:$G$3000,3,FALSE))","v":""},{"$f":"IF(B149=\"\",\"\",VLOOKUP(B149,学連登録!$C$2:$G$3000,4,FALSE))","v":""},"",null,null,null,null,null,null,null,null,null,null,null,null,null,null,null,{"$f":"IF(B149=\"\",\"\",VLOOKUP(B149,学連登録!$C$2:$H$3000,6,FALSE))","v":""},null,"",{"$f":"IF(G149=\"\",\"\",VLOOKUP(G149,種目名!$O$5:$T$104,3,0))","v":""},{"$f":"IF(J149=\"\",\"\",VLOOKUP(J149,種目名!$O$5:$T$104,3,0))","v":""},{"$f":"IF(M149=\"\",\"\",VLOOKUP(M149,種目名!$O$5:$T$104,3,0))","v":""},{"$f":"IF(P149=\"\",\"\",VLOOKUP(AE149,種目名!$O$5:$T$104,3,0))","v":""},{"$f":"IF(S149=\"\",\"\",VLOOKUP(AH149,種目名!$O$5:$T$104,3,0))","v":""},0,"","",0,"",""]
["",null,{"$f":"IF(B150=\"\",\"\",VLOOKUP(B150,学連登録!$C$2:$G$3000,2,FALSE))","v":""},{"$f":"IF(B150=\"\",\"\",VLOOKUP(B150,学連登録!$C$2:$G$3000,3,FALSE))","v":""},{"$f":"IF(B150=\"\",\"\",VLOOKUP(B150,学連登録!$C$2:$G$3000,4,FALSE))","v":""},{"$f":"IF(C150=\"\",\"\",$P$1)","v":""},null,null,null,null,null,null,null,null,null,null,null,null,null,null,null,{"$f":"IF(B150=\"\",\"\",VLOOKUP(B150,学連登録!$C$2:$H$3000,6,FALSE))","v":""},null,{"$f":"IF(C150=\"\",\"\",$S$3)","v":""},{"$f":"IF(G150=\"\",\"\",VLOOKUP(G150,種目名!$O$5:$T$104,3,0))","v":""},{"$f":"IF(J150=\"\",\"\",VLOOKUP(J150,種目名!$O$5:$T$104,3,0))","v":""},{"$f":"IF(M150=\"\",\"\",VLOOKUP(M150,種目名!$O$5:$T$104,3,0))","v":""},{"$f":"IF(P150=\"\",\"\",VLOOKUP(AE150,種目名!$O$5:$T$104,3,0))","v":""},{"$f":"IF(S150=\"\",\"\",VLOOKUP(AH150,種目名!$O$5:$T$104,3,0))","v":""},{"$f":"LENB(P150)","v":0},{"$f":"IF(AD150,LEFTB(P150,AD150-1),\"\")","v":""},{"$f":"IF(AD150,MIDB(P150,AD150,1),\"\")","v":""},{"$f":"LENB(S150)","v":0},{"$f":"IF(AG150,LEFTB(S150,AG150-1),\"\")","v":""},{"$f":"IF(AG150,MIDB(S150,AG150,1),\"\")","v":""}]
[{"$f":"IF(C151=\"\",\"\",A150+1)","v":""},null,{"$f":"IF(B151=\"\",\"\",VLOOKUP(B151,学連登録!$C$2:$G$3000,2,FALSE))","v":""},{"$f":"IF(B151=\"\",\"\",VLOOKUP(B151,学連登録!$C$2:$G$3000,3,FALSE))","v":""},{"$f":"IF(B151=\"\",\"\",VLOOKUP(B151,学連登録!$C$2:$G$3000,4,FALSE))","v":""},"",null,null,null,null,null,null,null,null,null,null,null,null,null,null,null,{"$f":"IF(B151=\"\",\"\",VLOOKUP(B151,学連登録!$C$2:$H$3000,6,FALSE))","v":""},null,"",{"$f":"IF(G151=\"\",\"\",VLOOKUP(G151,種目名!$O$5:$T$104,3,0))","v":""},{"$f":"IF(J151=\"\",\"\",VLOOKUP(J151,種目名!$O$5:$T$104,3,0))","v":""},{"$f":"IF(M151=\"\",\"\",VLOOKUP(M151,種目名!$O$5:$T$104,3,0))","v":""},{"$f":"IF(P151=\"\",\"\",VLOOKUP(AE151,種目名!$O$5:$T$104,3,0))","v":""},{"$f":"IF(S151=\"\",\"\",VLOOKUP(AH151,種目名!$O$5:$T$104,3,0))","v":""},0,"","",0,"",""]
["",null,{"$f":"IF(B152=\"\",\"\",VLOOKUP(B152,学連登録!$C$2:$G$3000,2,FALSE))","v":""},{"$f":"IF(B152=\"\",\"\",VLOOKUP(B152,学連登録!$C$2:$G$3000,3,FALSE))","v":""},{"$f":"IF(B152=\"\",\"\",VLOOKUP(B152,学連登録!$C$2:$G$3000,4,FALSE))","v":""},"",null,null,null,null,null,null,null,null,null,null,null,null,null,null,null,{"$f":"IF(B152=\"\",\"\",VLOOKUP(B152,学連登録!$C$2:$H$3000,6,FALSE))","v":""},null,"",{"$f":"IF(G152=\"\",\"\",VLOOKUP(G152,種目名!$O$5:$T$104,3,0))","v":""},{"$f":"IF(J152=\"\",\"\",VLOOKUP(J152,種目名!$O$5:$T$104,3,0))","v":""},{"$f":"IF(M152=\"\",\"\",VLOOKUP(M152,種目名!$O$5:$T$104,3,0))","v":""},{"$f":"IF(P152=\"\",\"\",VLOOKUP(AE152,種目名!$O$5:$T$104,3,0))","v":""},{"$f":"IF(S152=\"\",\"\",VLOOKUP(AH152,種目名!$O$5:$T$104,3,0))","v":""},0,"","",0,"",""]
["",null,{"$f":"IF(B153=\"\",\"\",VLOOKUP(B153,学連登録!$C$2:$G$3000,2,FALSE))","v":""},{"$f":"IF(B153=\"\",\"\",VLOOKUP(B153,学連登録!$C$2:$G$3000,3,FALSE))","v":""},{"$f":"IF(B153=\"\",\"\",VLOOKUP(B153,学連登録!$C$2:$G$3000,4,FALSE))","v":""},"",null,null,null,null,null,null,null,null,null,null,null,null,null,null,null,{"$f":"IF(B153=\"\",\"\",VLOOKUP(B153,学連登録!$C$2:$H$3000,6,FALSE))","v":""},null,"",{"$f":"IF(G153=\"\",\"\",VLOOKUP(G153,種目名!$O$5:$T$104,3,0))","v":""},{"$f":"IF(J153=\"\",\"\",VLOOKUP(J153,種目名!$O$5:$T$104,3,0))","v":""},{"$f":"IF(M153=\"\",\"\",VLOOKUP(M153,種目名!$O$5:$T$104,3,0))","v":""},{"$f":"IF(P153=\"\",\"\",VLOOKUP(AE153,種目名!$O$5:$T$104,3,0))","v":""},{"$f":"IF(S153=\"\",\"\",VLOOKUP(AH153,種目名!$O$5:$T$104,3,0))","v":""},0,"","",0,"",""]
["",null,{"$f":"IF(B154=\"\",\"\",VLOOKUP(B154,学連登録!$C$2:$G$3000,2,FALSE))","v":""},{"$f":"IF(B154=\"\",\"\",VLOOKUP(B154,学連登録!$C$2:$G$3000,3,FALSE))","v":""},{"$f":"IF(B154=\"\",\"\",VLOOKUP(B154,学連登録!$C$2:$G$3000,4,FALSE))","v":""},"",null,null,null,null,null,null,null,null,null,null,null,null,null,null,null,{"$f":"IF(B154=\"\",\"\",VLOOKUP(B154,学連登録!$C$2:$H$3000,6,FALSE))","v":""},null,"",{"$f":"IF(G154=\"\",\"\",VLOOKUP(G154,種目名!$O$5:$T$104,3,0))","v":""},{"$f":"IF(J154=\"\",\"\",VLOOKUP(J154,種目名!$O$5:$T$104,3,0))","v":""},{"$f":"IF(M154=\"\",\"\",VLOOKUP(M154,種目名!$O$5:$T$104,3,0))","v":""},{"$f":"IF(P154=\"\",\"\",VLOOKUP(AE154,種目名!$O$5:$T$104,3,0))","v":""},{"$f":"IF(S154=\"\",\"\",VLOOKUP(AH154,種目名!$O$5:$T$104,3,0))","v":""},0,"","",0,"",""]
["",null,{"$f":"IF(B155=\"\",\"\",VLOOKUP(B155,学連登録!$C$2:$G$3000,2,FALSE))","v":""},{"$f":"IF(B155=\"\",\"\",VLOOKUP(B155,学連登録!$C$2:$G$3000,3,FALSE))","v":""},{"$f":"IF(B155=\"\",\"\",VLOOKUP(B155,学連登録!$C$2:$G$3000,4,FALSE))","v":""},"",null,null,null,null,null,null,null,null,null,null,null,null,null,null,null,{"$f":"IF(B155=\"\",\"\",VLOOKUP(B155,学連登録!$C$2:$H$3000,6,FALSE))","v":""},null,"",{"$f":"IF(G155=\"\",\"\",VLOOKUP(G155,種目名!$O$5:$T$104,3,0))","v":""},{"$f":"IF(J155=\"\",\"\",VLOOKUP(J155,種目名!$O$5:$T$104,3,0))","v":""},{"$f":"IF(M155=\"\",\"\",VLOOKUP(M155,種目名!$O$5:$T$104,3,0))","v":""},{"$f":"IF(P155=\"\",\"\",VLOOKUP(AE155,種目名!$O$5:$T$104,3,0))","v":""},{"$f":"IF(S155=\"\",\"\",VLOOKUP(AH155,種目名!$O$5:$T$104,3,0))","v":""},0,"","",0,"",""]
["",null,{"$f":"IF(B156=\"\",\"\",VLOOKUP(B156,学連登録!$C$2:$G$3000,2,FALSE))","v":""},{"$f":"IF(B156=\"\",\"\",VLOOKUP(B156,学連登録!$C$2:$G$3000,3,FALSE))","v":""},{"$f":"IF(B156=\"\",\"\",VLOOKUP(B156,学連登録!$C$2:$G$3000,4,FALSE))","v":""},"",null,null,null,null,null,null,null,null,null,null,null,null,null,null,null,{"$f":"IF(B156=\"\",\"\",VLOOKUP(B156,学連登録!$C$2:$H$3000,6,FALSE))","v":""},null,"",{"$f":"IF(G156=\"\",\"\",VLOOKUP(G156,種目名!$O$5:$T$104,3,0))","v":""},{"$f":"IF(J156=\"\",\"\",VLOOKUP(J156,種目名!$O$5:$T$104,3,0))","v":""},{"$f":"IF(M156=\"\",\"\",VLOOKUP(M156,種目名!$O$5:$T$104,3,0))","v":""},{"$f":"IF(P156=\"\",\"\",VLOOKUP(AE156,種目名!$O$5:$T$104,3,0))","v":""},{"$f":"IF(S156=\"\",\"\",VLOOKUP(AH156,種目名!$O$5:$T$104,3,0))","v":""},0,"","",0,"",""]
["",null,{"$f":"IF(B157=\"\",\"\",VLOOKUP(B157,学連登録!$C$2:$G$3000,2,FALSE))","v":""},{"$f":"IF(B157=\"\",\"\",VLOOKUP(B157,学連登録!$C$2:$G$3000,3,FALSE))","v":""},{"$f":"IF(B157=\"\",\"\",VLOOKUP(B157,学連登録!$C$2:$G$3000,4,FALSE))","v":""},"",null,null,null,null,null,null,null,null,null,null,null,null,null,null,null,{"$f":"IF(B157=\"\",\"\",VLOOKUP(B157,学連登録!$C$2:$H$3000,6,FALSE))","v":""},null,"",{"$f":"IF(G157=\"\",\"\",VLOOKUP(G157,種目名!$O$5:$T$104,3,0))","v":""},{"$f":"IF(J157=\"\",\"\",VLOOKUP(J157,種目名!$O$5:$T$104,3,0))","v":""},{"$f":"IF(M157=\"\",\"\",VLOOKUP(M157,種目名!$O$5:$T$104,3,0))","v":""},{"$f":"IF(P157=\"\",\"\",VLOOKUP(AE157,種目名!$O$5:$T$104,3,0))","v":""},{"$f":"IF(S157=\"\",\"\",VLOOKUP(AH157,種目名!$O$5:$T$104,3,0))","v":""},0,"","",0,"",""]
["",null,{"$f":"IF(B158=\"\",\"\",VLOOKUP(B158,学連登録!$C$2:$G$3000,2,FALSE))","v":""},{"$f":"IF(B158=\"\",\"\",VLOOKUP(B158,学連登録!$C$2:$G$3000,3,FALSE))","v":""},{"$f":"IF(B158=\"\",\"\",VLOOKUP(B158,学連登録!$C$2:$G$3000,4,FALSE))","v":""},"",null,null,null,null,null,null,null,null,null,null,null,null,null,null,null,{"$f":"IF(B158=\"\",\"\",VLOOKUP(B158,学連登録!$C$2:$H$3000,6,FALSE))","v":""},null,"",{"$f":"IF(G158=\"\",\"\",VLOOKUP(G158,種目名!$O$5:$T$104,3,0))","v":""},{"$f":"IF(J158=\"\",\"\",VLOOKUP(J158,種目名!$O$5:$T$104,3,0))","v":""},{"$f":"IF(M158=\"\",\"\",VLOOKUP(M158,種目名!$O$5:$T$104,3,0))","v":""},{"$f":"IF(P158=\"\",\"\",VLOOKUP(AE158,種目名!$O$5:$T$104,3,0))","v":""},{"$f":"IF(S158=\"\",\"\",VLOOKUP(AH158,種目名!$O$5:$T$104,3,0))","v":""},0,"","",0,"",""]
["",null,{"$f":"IF(B159=\"\",\"\",VLOOKUP(B159,学連登録!$C$2:$G$3000,2,FALSE))","v":""},{"$f":"IF(B159=\"\",\"\",VLOOKUP(B159,学連登録!$C$2:$G$3000,3,FALSE))","v":""},{"$f":"IF(B159=\"\",\"\",VLOOKUP(B159,学連登録!$C$2:$G$3000,4,FALSE))","v":""},"",null,null,null,null,null,null,null,null,null,null,null,null,null,null,null,{"$f":"IF(B159=\"\",\"\",VLOOKUP(B159,学連登録!$C$2:$H$3000,6,FALSE))","v":""},null,"",{"$f":"IF(G159=\"\",\"\",VLOOKUP(G159,種目名!$O$5:$T$104,3,0))","v":""},{"$f":"IF(J159=\"\",\"\",VLOOKUP(J159,種目名!$O$5:$T$104,3,0))","v":""},{"$f":"IF(M159=\"\",\"\",VLOOKUP(M159,種目名!$O$5:$T$104,3,0))","v":""},{"$f":"IF(P159=\"\",\"\",VLOOKUP(AE159,種目名!$O$5:$T$104,3,0))","v":""},{"$f":"IF(S159=\"\",\"\",VLOOKUP(AH159,種目名!$O$5:$T$104,3,0))","v":""},0,"","",0,"",""]
["",null,{"$f":"IF(B160=\"\",\"\",VLOOKUP(B160,学連登録!$C$2:$G$3000,2,FALSE))","v":""},{"$f":"IF(B160=\"\",\"\",VLOOKUP(B160,学連登録!$C$2:$G$3000,3,FALSE))","v":""},{"$f":"IF(B160=\"\",\"\",VLOOKUP(B160,学連登録!$C$2:$G$3000,4,FALSE))","v":""},"",null,null,null,null,null,null,null,null,null,null,null,null,null,null,null,{"$f":"IF(B160=\"\",\"\",VLOOKUP(B160,学連登録!$C$2:$H$3000,6,FALSE))","v":""},null,"",{"$f":"IF(G160=\"\",\"\",VLOOKUP(G160,種目名!$O$5:$T$104,3,0))","v":""},{"$f":"IF(J160=\"\",\"\",VLOOKUP(J160,種目名!$O$5:$T$104,3,0))","v":""},{"$f":"IF(M160=\"\",\"\",VLOOKUP(M160,種目名!$O$5:$T$104,3,0))","v":""},{"$f":"IF(P160=\"\",\"\",VLOOKUP(AE160,種目名!$O$5:$T$104,3,0))","v":""},{"$f":"IF(S160=\"\",\"\",VLOOKUP(AH160,種目名!$O$5:$T$104,3,0))","v":""},0,"","",0,"",""]
["",null,{"$f":"IF(B161=\"\",\"\",VLOOKUP(B161,学連登録!$C$2:$G$3000,2,FALSE))","v":""},{"$f":"IF(B161=\"\",\"\",VLOOKUP(B161,学連登録!$C$2:$G$3000,3,FALSE))","v":""},{"$f":"IF(B161=\"\",\"\",VLOOKUP(B161,学連登録!$C$2:$G$3000,4,FALSE))","v":""},"",null,null,null,null,null,null,null,null,null,null,null,null,null,null,null,{"$f":"IF(B161=\"\",\"\",VLOOKUP(B161,学連登録!$C$2:$H$3000,6,FALSE))","v":""},null,"",{"$f":"IF(G161=\"\",\"\",VLOOKUP(G161,種目名!$O$5:$T$104,3,0))","v":""},{"$f":"IF(J161=\"\",\"\",VLOOKUP(J161,種目名!$O$5:$T$104,3,0))","v":""},{"$f":"IF(M161=\"\",\"\",VLOOKUP(M161,種目名!$O$5:$T$104,3,0))","v":""},{"$f":"IF(P161=\"\",\"\",VLOOKUP(AE161,種目名!$O$5:$T$104,3,0))","v":""},{"$f":"IF(S161=\"\",\"\",VLOOKUP(AH161,種目名!$O$5:$T$104,3,0))","v":""},0,"","",0,"",""]
["",null,{"$f":"IF(B162=\"\",\"\",VLOOKUP(B162,学連登録!$C$2:$G$3000,2,FALSE))","v":""},{"$f":"IF(B162=\"\",\"\",VLOOKUP(B162,学連登録!$C$2:$G$3000,3,FALSE))","v":""},{"$f":"IF(B162=\"\",\"\",VLOOKUP(B162,学連登録!$C$2:$G$3000,4,FALSE))","v":""},"",null,null,null,null,null,null,null,null,null,null,null,null,null,null,null,{"$f":"IF(B162=\"\",\"\",VLOOKUP(B162,学連登録!$C$2:$H$3000,6,FALSE))","v":""},null,"",{"$f":"IF(G162=\"\",\"\",VLOOKUP(G162,種目名!$O$5:$T$104,3,0))","v":""},{"$f":"IF(J162=\"\",\"\",VLOOKUP(J162,種目名!$O$5:$T$104,3,0))","v":""},{"$f":"IF(M162=\"\",\"\",VLOOKUP(M162,種目名!$O$5:$T$104,3,0))","v":""},{"$f":"IF(P162=\"\",\"\",VLOOKUP(AE162,種目名!$O$5:$T$104,3,0))","v":""},{"$f":"IF(S162=\"\",\"\",VLOOKUP(AH162,種目名!$O$5:$T$104,3,0))","v":""},0,"","",0,"",""]
["",null,{"$f":"IF(B163=\"\",\"\",VLOOKUP(B163,学連登録!$C$2:$G$3000,2,FALSE))","v":""},{"$f":"IF(B163=\"\",\"\",VLOOKUP(B163,学連登録!$C$2:$G$3000,3,FALSE))","v":""},{"$f":"IF(B163=\"\",\"\",VLOOKUP(B163,学連登録!$C$2:$G$3000,4,FALSE))","v":""},"",null,null,null,null,null,null,null,null,null,null,null,null,null,null,null,{"$f":"IF(B163=\"\",\"\",VLOOKUP(B163,学連登録!$C$2:$H$3000,6,FALSE))","v":""},null,"",{"$f":"IF(G163=\"\",\"\",VLOOKUP(G163,種目名!$O$5:$T$104,3,0))","v":""},{"$f":"IF(J163=\"\",\"\",VLOOKUP(J163,種目名!$O$5:$T$104,3,0))","v":""},{"$f":"IF(M163=\"\",\"\",VLOOKUP(M163,種目名!$O$5:$T$104,3,0))","v":""},{"$f":"IF(P163=\"\",\"\",VLOOKUP(AE163,種目名!$O$5:$T$104,3,0))","v":""},{"$f":"IF(S163=\"\",\"\",VLOOKUP(AH163,種目名!$O$5:$T$104,3,0))","v":""},0,"","",0,"",""]
["",null,{"$f":"IF(B164=\"\",\"\",VLOOKUP(B164,学連登録!$C$2:$G$3000,2,FALSE))","v":""},{"$f":"IF(B164=\"\",\"\",VLOOKUP(B164,学連登録!$C$2:$G$3000,3,FALSE))","v":""},{"$f":"IF(B164=\"\",\"\",VLOOKUP(B164,学連登録!$C$2:$G$3000,4,FALSE))","v":""},"",null,null,null,null,null,null,null,null,null,null,null,null,null,null,null,{"$f":"IF(B164=\"\",\"\",VLOOKUP(B164,学連登録!$C$2:$H$3000,6,FALSE))","v":""},null,"",{"$f":"IF(G164=\"\",\"\",VLOOKUP(G164,種目名!$O$5:$T$104,3,0))","v":""},{"$f":"IF(J164=\"\",\"\",VLOOKUP(J164,種目名!$O$5:$T$104,3,0))","v":""},{"$f":"IF(M164=\"\",\"\",VLOOKUP(M164,種目名!$O$5:$T$104,3,0))","v":""},{"$f":"IF(P164=\"\",\"\",VLOOKUP(AE164,種目名!$O$5:$T$104,3,0))","v":""},{"$f":"IF(S164=\"\",\"\",VLOOKUP(AH164,種目名!$O$5:$T$104,3,0))","v":""},0,"","",0,"",""]
["",null,{"$f":"IF(B165=\"\",\"\",VLOOKUP(B165,学連登録!$C$2:$G$3000,2,FALSE))","v":""},{"$f":"IF(B165=\"\",\"\",VLOOKUP(B165,学連登録!$C$2:$G$3000,3,FALSE))","v":""},{"$f":"IF(B165=\"\",\"\",VLOOKUP(B165,学連登録!$C$2:$G$3000,4,FALSE))","v":""},"",null,null,null,null,null,null,null,null,null,null,null,null,null,null,null,{"$f":"IF(B165=\"\",\"\",VLOOKUP(B165,学連登録!$C$2:$H$3000,6,FALSE))","v":""},null,"",{"$f":"IF(G165=\"\",\"\",VLOOKUP(G165,種目名!$O$5:$T$104,3,0))","v":""},{"$f":"IF(J165=\"\",\"\",VLOOKUP(J165,種目名!$O$5:$T$104,3,0))","v":""},{"$f":"IF(M165=\"\",\"\",VLOOKUP(M165,種目名!$O$5:$T$104,3,0))","v":""},{"$f":"IF(P165=\"\",\"\",VLOOKUP(AE165,種目名!$O$5:$T$104,3,0))","v":""},{"$f":"IF(S165=\"\",\"\",VLOOKUP(AH165,種目名!$O$5:$T$104,3,0))","v":""},0,"","",0,"",""]
["",null,{"$f":"IF(B166=\"\",\"\",VLOOKUP(B166,学連登録!$C$2:$G$3000,2,FALSE))","v":""},{"$f":"IF(B166=\"\",\"\",VLOOKUP(B166,学連登録!$C$2:$G$3000,3,FALSE))","v":""},{"$f":"IF(B166=\"\",\"\",VLOOKUP(B166,学連登録!$C$2:$G$3000,4,FALSE))","v":""},"",null,null,null,null,null,null,null,null,null,null,null,null,null,null,null,{"$f":"IF(B166=\"\",\"\",VLOOKUP(B166,学連登録!$C$2:$H$3000,6,FALSE))","v":""},null,"",{"$f":"IF(G166=\"\",\"\",VLOOKUP(G166,種目名!$O$5:$T$104,3,0))","v":""},{"$f":"IF(J166=\"\",\"\",VLOOKUP(J166,種目名!$O$5:$T$104,3,0))","v":""},{"$f":"IF(M166=\"\",\"\",VLOOKUP(M166,種目名!$O$5:$T$104,3,0))","v":""},{"$f":"IF(P166=\"\",\"\",VLOOKUP(AE166,種目名!$O$5:$T$104,3,0))","v":""},{"$f":"IF(S166=\"\",\"\",VLOOKUP(AH166,種目名!$O$5:$T$104,3,0))","v":""},0,"","",0,"",""]
["",null,{"$f":"IF(B167=\"\",\"\",VLOOKUP(B167,学連登録!$C$2:$G$3000,2,FALSE))","v":""},{"$f":"IF(B167=\"\",\"\",VLOOKUP(B167,学連登録!$C$2:$G$3000,3,FALSE))","v":""},{"$f":"IF(B167=\"\",\"\",VLOOKUP(B167,学連登録!$C$2:$G$3000,4,FALSE))","v":""},"",null,null,null,null,null,null,null,null,null,null,null,null,null,null,null,{"$f":"IF(B167=\"\",\"\",VLOOKUP(B167,学連登録!$C$2:$H$3000,6,FALSE))","v":""},null,"",{"$f":"IF(G167=\"\",\"\",VLOOKUP(G167,種目名!$O$5:$T$104,3,0))","v":""},{"$f":"IF(J167=\"\",\"\",VLOOKUP(J167,種目名!$O$5:$T$104,3,0))","v":""},{"$f":"IF(M167=\"\",\"\",VLOOKUP(M167,種目名!$O$5:$T$104,3,0))","v":""},{"$f":"IF(P167=\"\",\"\",VLOOKUP(AE167,種目名!$O$5:$T$104,3,0))","v":""},{"$f":"IF(S167=\"\",\"\",VLOOKUP(AH167,種目名!$O$5:$T$104,3,0))","v":""},0,"","",0,"",""]
["",null,{"$f":"IF(B168=\"\",\"\",VLOOKUP(B168,学連登録!$C$2:$G$3000,2,FALSE))","v":""},{"$f":"IF(B168=\"\",\"\",VLOOKUP(B168,学連登録!$C$2:$G$3000,3,FALSE))","v":""},{"$f":"IF(B168=\"\",\"\",VLOOKUP(B168,学連登録!$C$2:$G$3000,4,FALSE))","v":""},"",null,null,null,null,null,null,null,null,null,null,null,null,null,null,null,{"$f":"IF(B168=\"\",\"\",VLOOKUP(B168,学連登録!$C$2:$H$3000,6,FALSE))","v":""},null,"",{"$f":"IF(G168=\"\",\"\",VLOOKUP(G168,種目名!$O$5:$T$104,3,0))","v":""},{"$f":"IF(J168=\"\",\"\",VLOOKUP(J168,種目名!$O$5:$T$104,3,0))","v":""},{"$f":"IF(M168=\"\",\"\",VLOOKUP(M168,種目名!$O$5:$T$104,3,0))","v":""},{"$f":"IF(P168=\"\",\"\",VLOOKUP(AE168,種目名!$O$5:$T$104,3,0))","v":""},{"$f":"IF(S168=\"\",\"\",VLOOKUP(AH168,種目名!$O$5:$T$104,3,0))","v":""},0,"","",0,"",""]
["",null,{"$f":"IF(B169=\"\",\"\",VLOOKUP(B169,学連登録!$C$2:$G$3000,2,FALSE))","v":""},{"$f":"IF(B169=\"\",\"\",VLOOKUP(B169,学連登録!$C$2:$G$3000,3,FALSE))","v":""},{"$f":"IF(B169=\"\",\"\",VLOOKUP(B169,学連登録!$C$2:$G$3000,4,FALSE))","v":""},"",null,null,null,null,null,null,null,null,null,null,null,null,null,null,null,{"$f":"IF(B169=\"\",\"\",VLOOKUP(B169,学連登録!$C$2:$H$3000,6,FALSE))","v":""},null,"",{"$f":"IF(G169=\"\",\"\",VLOOKUP(G169,種目名!$O$5:$T$104,3,0))","v":""},{"$f":"IF(J169=\"\",\"\",VLOOKUP(J169,種目名!$O$5:$T$104,3,0))","v":""},{"$f":"IF(M169=\"\",\"\",VLOOKUP(M169,種目名!$O$5:$T$104,3,0))","v":""},{"$f":"IF(P169=\"\",\"\",VLOOKUP(AE169,種目名!$O$5:$T$104,3,0))","v":""},{"$f":"IF(S169=\"\",\"\",VLOOKUP(AH169,種目名!$O$5:$T$104,3,0))","v":""},0,"","",0,"",""]
["",null,{"$f":"IF(B170=\"\",\"\",VLOOKUP(B170,学連登録!$C$2:$G$3000,2,FALSE))","v":""},{"$f":"IF(B170=\"\",\"\",VLOOKUP(B170,学連登録!$C$2:$G$3000,3,FALSE))","v":""},{"$f":"IF(B170=\"\",\"\",VLOOKUP(B170,学連登録!$C$2:$G$3000,4,FALSE))","v":""},"",null,null,null,null,null,null,null,null,null,null,null,null,null,null,null,{"$f":"IF(B170=\"\",\"\",VLOOKUP(B170,学連登録!$C$2:$H$3000,6,FALSE))","v":""},null,"",{"$f":"IF(G170=\"\",\"\",VLOOKUP(G170,種目名!$O$5:$T$104,3,0))","v":""},{"$f":"IF(J170=\"\",\"\",VLOOKUP(J170,種目名!$O$5:$T$104,3,0))","v":""},{"$f":"IF(M170=\"\",\"\",VLOOKUP(M170,種目名!$O$5:$T$104,3,0))","v":""},{"$f":"IF(P170=\"\",\"\",VLOOKUP(AE170,種目名!$O$5:$T$104,3,0))","v":""},{"$f":"IF(S170=\"\",\"\",VLOOKUP(AH170,種目名!$O$5:$T$104,3,0))","v":""},0,"","",0,"",""]
["",null,{"$f":"IF(B171=\"\",\"\",VLOOKUP(B171,学連登録!$C$2:$G$3000,2,FALSE))","v":""},{"$f":"IF(B171=\"\",\"\",VLOOKUP(B171,学連登録!$C$2:$G$3000,3,FALSE))","v":""},{"$f":"IF(B171=\"\",\"\",VLOOKUP(B171,学連登録!$C$2:$G$3000,4,FALSE))","v":""},"",null,null,null,null,null,null,null,null,null,null,null,null,null,null,null,{"$f":"IF(B171=\"\",\"\",VLOOKUP(B171,学連登録!$C$2:$H$3000,6,FALSE))","v":""},null,"",{"$f":"IF(G171=\"\",\"\",VLOOKUP(G171,種目名!$O$5:$T$104,3,0))","v":""},{"$f":"IF(J171=\"\",\"\",VLOOKUP(J171,種目名!$O$5:$T$104,3,0))","v":""},{"$f":"IF(M171=\"\",\"\",VLOOKUP(M171,種目名!$O$5:$T$104,3,0))","v":""},{"$f":"IF(P171=\"\",\"\",VLOOKUP(AE171,種目名!$O$5:$T$104,3,0))","v":""},{"$f":"IF(S171=\"\",\"\",VLOOKUP(AH171,種目名!$O$5:$T$104,3,0))","v":""},0,"","",0,"",""]
["",null,{"$f":"IF(B172=\"\",\"\",VLOOKUP(B172,学連登録!$C$2:$G$3000,2,FALSE))","v":""},{"$f":"IF(B172=\"\",\"\",VLOOKUP(B172,学連登録!$C$2:$G$3000,3,FALSE))","v":""},{"$f":"IF(B172=\"\",\"\",VLOOKUP(B172,学連登録!$C$2:$G$3000,4,FALSE))","v":""},"",null,null,null,null,null,null,null,null,null,null,null,null,null,null,null,{"$f":"IF(B172=\"\",\"\",VLOOKUP(B172,学連登録!$C$2:$H$3000,6,FALSE))","v":""},null,"",{"$f":"IF(G172=\"\",\"\",VLOOKUP(G172,種目名!$O$5:$T$104,3,0))","v":""},{"$f":"IF(J172=\"\",\"\",VLOOKUP(J172,種目名!$O$5:$T$104,3,0))","v":""},{"$f":"IF(M172=\"\",\"\",VLOOKUP(M172,種目名!$O$5:$T$104,3,0))","v":""},{"$f":"IF(P172=\"\",\"\",VLOOKUP(AE172,種目名!$O$5:$T$104,3,0))","v":""},{"$f":"IF(S172=\"\",\"\",VLOOKUP(AH172,種目名!$O$5:$T$104,3,0))","v":""},0,"","",0,"",""]
["",null,{"$f":"IF(B173=\"\",\"\",VLOOKUP(B173,学連登録!$C$2:$G$3000,2,FALSE))","v":""},{"$f":"IF(B173=\"\",\"\",VLOOKUP(B173,学連登録!$C$2:$G$3000,3,FALSE))","v":""},{"$f":"IF(B173=\"\",\"\",VLOOKUP(B173,学連登録!$C$2:$G$3000,4,FALSE))","v":""},"",null,null,null,null,null,null,null,null,null,null,null,null,null,null,null,{"$f":"IF(B173=\"\",\"\",VLOOKUP(B173,学連登録!$C$2:$H$3000,6,FALSE))","v":""},null,"",{"$f":"IF(G173=\"\",\"\",VLOOKUP(G173,種目名!$O$5:$T$104,3,0))","v":""},{"$f":"IF(J173=\"\",\"\",VLOOKUP(J173,種目名!$O$5:$T$104,3,0))","v":""},{"$f":"IF(M173=\"\",\"\",VLOOKUP(M173,種目名!$O$5:$T$104,3,0))","v":""},{"$f":"IF(P173=\"\",\"\",VLOOKUP(AE173,種目名!$O$5:$T$104,3,0))","v":""},{"$f":"IF(S173=\"\",\"\",VLOOKUP(AH173,種目名!$O$5:$T$104,3,0))","v":""},0,"","",0,"",""]
["",null,{"$f":"IF(B174=\"\",\"\",VLOOKUP(B174,学連登録!$C$2:$G$3000,2,FALSE))","v":""},{"$f":"IF(B174=\"\",\"\",VLOOKUP(B174,学連登録!$C$2:$G$3000,3,FALSE))","v":""},{"$f":"IF(B174=\"\",\"\",VLOOKUP(B174,学連登録!$C$2:$G$3000,4,FALSE))","v":""},"",null,null,null,null,null,null,null,null,null,null,null,null,null,null,null,{"$f":"IF(B174=\"\",\"\",VLOOKUP(B174,学連登録!$C$2:$H$3000,6,FALSE))","v":""},null,"",{"$f":"IF(G174=\"\",\"\",VLOOKUP(G174,種目名!$O$5:$T$104,3,0))","v":""},{"$f":"IF(J174=\"\",\"\",VLOOKUP(J174,種目名!$O$5:$T$104,3,0))","v":""},{"$f":"IF(M174=\"\",\"\",VLOOKUP(M174,種目名!$O$5:$T$104,3,0))","v":""},{"$f":"IF(P174=\"\",\"\",VLOOKUP(AE174,種目名!$O$5:$T$104,3,0))","v":""},{"$f":"IF(S174=\"\",\"\",VLOOKUP(AH174,種目名!$O$5:$T$104,3,0))","v":""},0,"","",0,"",""]
["",null,{"$f":"IF(B175=\"\",\"\",VLOOKUP(B175,学連登録!$C$2:$G$3000,2,FALSE))","v":""},{"$f":"IF(B175=\"\",\"\",VLOOKUP(B175,学連登録!$C$2:$G$3000,3,FALSE))","v":""},{"$f":"IF(B175=\"\",\"\",VLOOKUP(B175,学連登録!$C$2:$G$3000,4,FALSE))","v":""},"",null,null,null,null,null,null,null,null,null,null,null,null,null,null,null,{"$f":"IF(B175=\"\",\"\",VLOOKUP(B175,学連登録!$C$2:$H$3000,6,FALSE))","v":""},null,"",{"$f":"IF(G175=\"\",\"\",VLOOKUP(G175,種目名!$O$5:$T$104,3,0))","v":""},{"$f":"IF(J175=\"\",\"\",VLOOKUP(J175,種目名!$O$5:$T$104,3,0))","v":""},{"$f":"IF(M175=\"\",\"\",VLOOKUP(M175,種目名!$O$5:$T$104,3,0))","v":""},{"$f":"IF(P175=\"\",\"\",VLOOKUP(AE175,種目名!$O$5:$T$104,3,0))","v":""},{"$f":"IF(S175=\"\",\"\",VLOOKUP(AH175,種目名!$O$5:$T$104,3,0))","v":""},0,"","",0,"",""]
["",null,{"$f":"IF(B176=\"\",\"\",VLOOKUP(B176,学連登録!$C$2:$G$3000,2,FALSE))","v":""},{"$f":"IF(B176=\"\",\"\",VLOOKUP(B176,学連登録!$C$2:$G$3000,3,FALSE))","v":""},{"$f":"IF(B176=\"\",\"\",VLOOKUP(B176,学連登録!$C$2:$G$3000,4,FALSE))","v":""},"",null,null,null,null,null,null,null,null,null,null,null,null,null,null,null,{"$f":"IF(B176=\"\",\"\",VLOOKUP(B176,学連登録!$C$2:$H$3000,6,FALSE))","v":""},null,"",{"$f":"IF(G176=\"\",\"\",VLOOKUP(G176,種目名!$O$5:$T$104,3,0))","v":""},{"$f":"IF(J176=\"\",\"\",VLOOKUP(J176,種目名!$O$5:$T$104,3,0))","v":""},{"$f":"IF(M176=\"\",\"\",VLOOKUP(M176,種目名!$O$5:$T$104,3,0))","v":""},{"$f":"IF(P176=\"\",\"\",VLOOKUP(AE176,種目名!$O$5:$T$104,3,0))","v":""},{"$f":"IF(S176=\"\",\"\",VLOOKUP(AH176,種目名!$O$5:$T$104,3,0))","v":""},0,"","",0,"",""]
["",null,{"$f":"IF(B177=\"\",\"\",VLOOKUP(B177,学連登録!$C$2:$G$3000,2,FALSE))","v":""},{"$f":"IF(B177=\"\",\"\",VLOOKUP(B177,学連登録!$C$2:$G$3000,3,FALSE))","v":""},{"$f":"IF(B177=\"\",\"\",VLOOKUP(B177,学連登録!$C$2:$G$3000,4,FALSE))","v":""},"",null,null,null,null,null,null,null,null,null,null,null,null,null,null,null,{"$f":"IF(B177=\"\",\"\",VLOOKUP(B177,学連登録!$C$2:$H$3000,6,FALSE))","v":""},null,"",{"$f":"IF(G177=\"\",\"\",VLOOKUP(G177,種目名!$O$5:$T$104,3,0))","v":""},{"$f":"IF(J177=\"\",\"\",VLOOKUP(J177,種目名!$O$5:$T$104,3,0))","v":""},{"$f":"IF(M177=\"\",\"\",VLOOKUP(M177,種目名!$O$5:$T$104,3,0))","v":""},{"$f":"IF(P177=\"\",\"\",VLOOKUP(AE177,種目名!$O$5:$T$104,3,0))","v":""},{"$f":"IF(S177=\"\",\"\",VLOOKUP(AH177,種目名!$O$5:$T$104,3,0))","v":""},0,"","",0,"",""]
["",null,{"$f":"IF(B178=\"\",\"\",VLOOKUP(B178,学連登録!$C$2:$G$3000,2,FALSE))","v":""},{"$f":"IF(B178=\"\",\"\",VLOOKUP(B178,学連登録!$C$2:$G$3000,3,FALSE))","v":""},{"$f":"IF(B178=\"\",\"\",VLOOKUP(B178,学連登録!$C$2:$G$3000,4,FALSE))","v":""},"",null,null,null,null,null,null,null,null,null,null,null,null,null,null,null,{"$f":"IF(B178=\"\",\"\",VLOOKUP(B178,学連登録!$C$2:$H$3000,6,FALSE))","v":""},null,"",{"$f":"IF(G178=\"\",\"\",VLOOKUP(G178,種目名!$O$5:$T$104,3,0))","v":""},{"$f":"IF(J178=\"\",\"\",VLOOKUP(J178,種目名!$O$5:$T$104,3,0))","v":""},{"$f":"IF(M178=\"\",\"\",VLOOKUP(M178,種目名!$O$5:$T$104,3,0))","v":""},{"$f":"IF(P178=\"\",\"\",VLOOKUP(AE178,種目名!$O$5:$T$104,3,0))","v":""},{"$f":"IF(S178=\"\",\"\",VLOOKUP(AH178,種目名!$O$5:$T$104,3,0))","v":""},0,"","",0,"",""]
["",null,{"$f":"IF(B179=\"\",\"\",VLOOKUP(B179,学連登録!$C$2:$G$3000,2,FALSE))","v":""},{"$f":"IF(B179=\"\",\"\",VLOOKUP(B179,学連登録!$C$2:$G$3000,3,FALSE))","v":""},{"$f":"IF(B179=\"\",\"\",VLOOKUP(B179,学連登録!$C$2:$G$3000,4,FALSE))","v":""},"",null,null,null,null,null,null,null,null,null,null,null,null,null,null,null,{"$f":"IF(B179=\"\",\"\",VLOOKUP(B179,学連登録!$C$2:$H$3000,6,FALSE))","v":""},null,"",{"$f":"IF(G179=\"\",\"\",VLOOKUP(G179,種目名!$O$5:$T$104,3,0))","v":""},{"$f":"IF(J179=\"\",\"\",VLOOKUP(J179,種目名!$O$5:$T$104,3,0))","v":""},{"$f":"IF(M179=\"\",\"\",VLOOKUP(M179,種目名!$O$5:$T$104,3,0))","v":""},{"$f":"IF(P179=\"\",\"\",VLOOKUP(AE179,種目名!$O$5:$T$104,3,0))","v":""},{"$f":"IF(S179=\"\",\"\",VLOOKUP(AH179,種目名!$O$5:$T$104,3,0))","v":""},0,"","",0,"",""]
["",null,{"$f":"IF(B180=\"\",\"\",VLOOKUP(B180,学連登録!$C$2:$G$3000,2,FALSE))","v":""},{"$f":"IF(B180=\"\",\"\",VLOOKUP(B180,学連登録!$C$2:$G$3000,3,FALSE))","v":""},{"$f":"IF(B180=\"\",\"\",VLOOKUP(B180,学連登録!$C$2:$G$3000,4,FALSE))","v":""},"",null,null,null,null,null,null,null,null,null,null,null,null,null,null,null,{"$f":"IF(B180=\"\",\"\",VLOOKUP(B180,学連登録!$C$2:$H$3000,6,FALSE))","v":""},null,"",{"$f":"IF(G180=\"\",\"\",VLOOKUP(G180,種目名!$O$5:$T$104,3,0))","v":""},{"$f":"IF(J180=\"\",\"\",VLOOKUP(J180,種目名!$O$5:$T$104,3,0))","v":""},{"$f":"IF(M180=\"\",\"\",VLOOKUP(M180,種目名!$O$5:$T$104,3,0))","v":""},{"$f":"IF(P180=\"\",\"\",VLOOKUP(AE180,種目名!$O$5:$T$104,3,0))","v":""},{"$f":"IF(S180=\"\",\"\",VLOOKUP(AH180,種目名!$O$5:$T$104,3,0))","v":""},0,"","",0,"",""]
["",null,{"$f":"IF(B181=\"\",\"\",VLOOKUP(B181,学連登録!$C$2:$G$3000,2,FALSE))","v":""},{"$f":"IF(B181=\"\",\"\",VLOOKUP(B181,学連登録!$C$2:$G$3000,3,FALSE))","v":""},{"$f":"IF(B181=\"\",\"\",VLOOKUP(B181,学連登録!$C$2:$G$3000,4,FALSE))","v":""},"",null,null,null,null,null,null,null,null,null,null,null,null,null,null,null,{"$f":"IF(B181=\"\",\"\",VLOOKUP(B181,学連登録!$C$2:$H$3000,6,FALSE))","v":""},null,"",{"$f":"IF(G181=\"\",\"\",VLOOKUP(G181,種目名!$O$5:$T$104,3,0))","v":""},{"$f":"IF(J181=\"\",\"\",VLOOKUP(J181,種目名!$O$5:$T$104,3,0))","v":""},{"$f":"IF(M181=\"\",\"\",VLOOKUP(M181,種目名!$O$5:$T$104,3,0))","v":""},{"$f":"IF(P181=\"\",\"\",VLOOKUP(AE181,種目名!$O$5:$T$104,3,0))","v":""},{"$f":"IF(S181=\"\",\"\",VLOOKUP(AH181,種目名!$O$5:$T$104,3,0))","v":""},0,"","",0,"",""]
["",null,{"$f":"IF(B182=\"\",\"\",VLOOKUP(B182,学連登録!$C$2:$G$3000,2,FALSE))","v":""},{"$f":"IF(B182=\"\",\"\",VLOOKUP(B182,学連登録!$C$2:$G$3000,3,FALSE))","v":""},{"$f":"IF(B182=\"\",\"\",VLOOKUP(B182,学連登録!$C$2:$G$3000,4,FALSE))","v":""},"",null,null,null,null,null,null,null,null,null,null,null,null,null,null,null,{"$f":"IF(B182=\"\",\"\",VLOOKUP(B182,学連登録!$C$2:$H$3000,6,FALSE))","v":""},null,"",{"$f":"IF(G182=\"\",\"\",VLOOKUP(G182,種目名!$O$5:$T$104,3,0))","v":""},{"$f":"IF(J182=\"\",\"\",VLOOKUP(J182,種目名!$O$5:$T$104,3,0))","v":""},{"$f":"IF(M182=\"\",\"\",VLOOKUP(M182,種目名!$O$5:$T$104,3,0))","v":""},{"$f":"IF(P182=\"\",\"\",VLOOKUP(AE182,種目名!$O$5:$T$104,3,0))","v":""},{"$f":"IF(S182=\"\",\"\",VLOOKUP(AH182,種目名!$O$5:$T$104,3,0))","v":""},0,"","",0,"",""]
["",null,{"$f":"IF(B183=\"\",\"\",VLOOKUP(B183,学連登録!$C$2:$G$3000,2,FALSE))","v":""},{"$f":"IF(B183=\"\",\"\",VLOOKUP(B183,学連登録!$C$2:$G$3000,3,FALSE))","v":""},{"$f":"IF(B183=\"\",\"\",VLOOKUP(B183,学連登録!$C$2:$G$3000,4,FALSE))","v":""},"",null,null,null,null,null,null,null,null,null,null,null,null,null,null,null,{"$f":"IF(B183=\"\",\"\",VLOOKUP(B183,学連登録!$C$2:$H$3000,6,FALSE))","v":""},null,"",{"$f":"IF(G183=\"\",\"\",VLOOKUP(G183,種目名!$O$5:$T$104,3,0))","v":""},{"$f":"IF(J183=\"\",\"\",VLOOKUP(J183,種目名!$O$5:$T$104,3,0))","v":""},{"$f":"IF(M183=\"\",\"\",VLOOKUP(M183,種目名!$O$5:$T$104,3,0))","v":""},{"$f":"IF(P183=\"\",\"\",VLOOKUP(AE183,種目名!$O$5:$T$104,3,0))","v":""},{"$f":"IF(S183=\"\",\"\",VLOOKUP(AH183,種目名!$O$5:$T$104,3,0))","v":""},0,"","",0,"",""]
["",null,{"$f":"IF(B184=\"\",\"\",VLOOKUP(B184,学連登録!$C$2:$G$3000,2,FALSE))","v":""},{"$f":"IF(B184=\"\",\"\",VLOOKUP(B184,学連登録!$C$2:$G$3000,3,FALSE))","v":""},{"$f":"IF(B184=\"\",\"\",VLOOKUP(B184,学連登録!$C$2:$G$3000,4,FALSE))","v":""},"",null,null,null,null,null,null,null,null,null,null,null,null,null,null,null,{"$f":"IF(B184=\"\",\"\",VLOOKUP(B184,学連登録!$C$2:$H$3000,6,FALSE))","v":""},null,"",{"$f":"IF(G184=\"\",\"\",VLOOKUP(G184,種目名!$O$5:$T$104,3,0))","v":""},{"$f":"IF(J184=\"\",\"\",VLOOKUP(J184,種目名!$O$5:$T$104,3,0))","v":""},{"$f":"IF(M184=\"\",\"\",VLOOKUP(M184,種目名!$O$5:$T$104,3,0))","v":""},{"$f":"IF(P184=\"\",\"\",VLOOKUP(AE184,種目名!$O$5:$T$104,3,0))","v":""},{"$f":"IF(S184=\"\",\"\",VLOOKUP(AH184,種目名!$O$5:$T$104,3,0))","v":""},0,"","",0,"",""]
["",null,{"$f":"IF(B185=\"\",\"\",VLOOKUP(B185,学連登録!$C$2:$G$3000,2,FALSE))","v":""},{"$f":"IF(B185=\"\",\"\",VLOOKUP(B185,学連登録!$C$2:$G$3000,3,FALSE))","v":""},{"$f":"IF(B185=\"\",\"\",VLOOKUP(B185,学連登録!$C$2:$G$3000,4,FALSE))","v":""},"",null,null,null,null,null,null,null,null,null,null,null,null,null,null,null,{"$f":"IF(B185=\"\",\"\",VLOOKUP(B185,学連登録!$C$2:$H$3000,6,FALSE))","v":""},null,"",{"$f":"IF(G185=\"\",\"\",VLOOKUP(G185,種目名!$O$5:$T$104,3,0))","v":""},{"$f":"IF(J185=\"\",\"\",VLOOKUP(J185,種目名!$O$5:$T$104,3,0))","v":""},{"$f":"IF(M185=\"\",\"\",VLOOKUP(M185,種目名!$O$5:$T$104,3,0))","v":""},{"$f":"IF(P185=\"\",\"\",VLOOKUP(AE185,種目名!$O$5:$T$104,3,0))","v":""},{"$f":"IF(S185=\"\",\"\",VLOOKUP(AH185,種目名!$O$5:$T$104,3,0))","v":""},0,"","",0,"",""]
["",null,{"$f":"IF(B186=\"\",\"\",VLOOKUP(B186,学連登録!$C$2:$G$3000,2,FALSE))","v":""},{"$f":"IF(B186=\"\",\"\",VLOOKUP(B186,学連登録!$C$2:$G$3000,3,FALSE))","v":""},{"$f":"IF(B186=\"\",\"\",VLOOKUP(B186,学連登録!$C$2:$G$3000,4,FALSE))","v":""},"",null,null,null,null,null,null,null,null,null,null,null,null,null,null,null,{"$f":"IF(B186=\"\",\"\",VLOOKUP(B186,学連登録!$C$2:$H$3000,6,FALSE))","v":""},null,"",{"$f":"IF(G186=\"\",\"\",VLOOKUP(G186,種目名!$O$5:$T$104,3,0))","v":""},{"$f":"IF(J186=\"\",\"\",VLOOKUP(J186,種目名!$O$5:$T$104,3,0))","v":""},{"$f":"IF(M186=\"\",\"\",VLOOKUP(M186,種目名!$O$5:$T$104,3,0))","v":""},{"$f":"IF(P186=\"\",\"\",VLOOKUP(AE186,種目名!$O$5:$T$104,3,0))","v":""},{"$f":"IF(S186=\"\",\"\",VLOOKUP(AH186,種目名!$O$5:$T$104,3,0))","v":""},0,"","",0,"",""]
["",null,{"$f":"IF(B187=\"\",\"\",VLOOKUP(B187,学連登録!$C$2:$G$3000,2,FALSE))","v":""},{"$f":"IF(B187=\"\",\"\",VLOOKUP(B187,学連登録!$C$2:$G$3000,3,FALSE))","v":""},{"$f":"IF(B187=\"\",\"\",VLOOKUP(B187,学連登録!$C$2:$G$3000,4,FALSE))","v":""},"",null,null,null,null,null,null,null,null,null,null,null,null,null,null,null,{"$f":"IF(B187=\"\",\"\",VLOOKUP(B187,学連登録!$C$2:$H$3000,6,FALSE))","v":""},null,"",{"$f":"IF(G187=\"\",\"\",VLOOKUP(G187,種目名!$O$5:$T$104,3,0))","v":""},{"$f":"IF(J187=\"\",\"\",VLOOKUP(J187,種目名!$O$5:$T$104,3,0))","v":""},{"$f":"IF(M187=\"\",\"\",VLOOKUP(M187,種目名!$O$5:$T$104,3,0))","v":""},{"$f":"IF(P187=\"\",\"\",VLOOKUP(AE187,種目名!$O$5:$T$104,3,0))","v":""},{"$f":"IF(S187=\"\",\"\",VLOOKUP(AH187,種目名!$O$5:$T$104,3,0))","v":""},0,"","",0,"",""]
["",null,{"$f":"IF(B188=\"\",\"\",VLOOKUP(B188,学連登録!$C$2:$G$3000,2,FALSE))","v":""},{"$f":"IF(B188=\"\",\"\",VLOOKUP(B188,学連登録!$C$2:$G$3000,3,FALSE))","v":""},{"$f":"IF(B188=\"\",\"\",VLOOKUP(B188,学連登録!$C$2:$G$3000,4,FALSE))","v":""},"",null,null,null,null,null,null,null,null,null,null,null,null,null,null,null,{"$f":"IF(B188=\"\",\"\",VLOOKUP(B188,学連登録!$C$2:$H$3000,6,FALSE))","v":""},null,"",{"$f":"IF(G188=\"\",\"\",VLOOKUP(G188,種目名!$O$5:$T$104,3,0))","v":""},{"$f":"IF(J188=\"\",\"\",VLOOKUP(J188,種目名!$O$5:$T$104,3,0))","v":""},{"$f":"IF(M188=\"\",\"\",VLOOKUP(M188,種目名!$O$5:$T$104,3,0))","v":""},{"$f":"IF(P188=\"\",\"\",VLOOKUP(AE188,種目名!$O$5:$T$104,3,0))","v":""},{"$f":"IF(S188=\"\",\"\",VLOOKUP(AH188,種目名!$O$5:$T$104,3,0))","v":""},0,"","",0,"",""]
["",null,{"$f":"IF(B189=\"\",\"\",VLOOKUP(B189,学連登録!$C$2:$G$3000,2,FALSE))","v":""},{"$f":"IF(B189=\"\",\"\",VLOOKUP(B189,学連登録!$C$2:$G$3000,3,FALSE))","v":""},{"$f":"IF(B189=\"\",\"\",VLOOKUP(B189,学連登録!$C$2:$G$3000,4,FALSE))","v":""},"",null,null,null,null,null,null,null,null,null,null,null,null,null,null,null,{"$f":"IF(B189=\"\",\"\",VLOOKUP(B189,学連登録!$C$2:$H$3000,6,FALSE))","v":""},null,"",{"$f":"IF(G189=\"\",\"\",VLOOKUP(G189,種目名!$O$5:$T$104,3,0))","v":""},{"$f":"IF(J189=\"\",\"\",VLOOKUP(J189,種目名!$O$5:$T$104,3,0))","v":""},{"$f":"IF(M189=\"\",\"\",VLOOKUP(M189,種目名!$O$5:$T$104,3,0))","v":""},{"$f":"IF(P189=\"\",\"\",VLOOKUP(AE189,種目名!$O$5:$T$104,3,0))","v":""},{"$f":"IF(S189=\"\",\"\",VLOOKUP(AH189,種目名!$O$5:$T$104,3,0))","v":""},0,"","",0,"",""]
["",null,{"$f":"IF(B190=\"\",\"\",VLOOKUP(B190,学連登録!$C$2:$G$3000,2,FALSE))","v":""},{"$f":"IF(B190=\"\",\"\",VLOOKUP(B190,学連登録!$C$2:$G$3000,3,FALSE))","v":""},{"$f":"IF(B190=\"\",\"\",VLOOKUP(B190,学連登録!$C$2:$G$3000,4,FALSE))","v":""},"",null,null,null,null,null,null,null,null,null,null,null,null,null,null,null,{"$f":"IF(B190=\"\",\"\",VLOOKUP(B190,学連登録!$C$2:$H$3000,6,FALSE))","v":""},null,"",{"$f":"IF(G190=\"\",\"\",VLOOKUP(G190,種目名!$O$5:$T$104,3,0))","v":""},{"$f":"IF(J190=\"\",\"\",VLOOKUP(J190,種目名!$O$5:$T$104,3,0))","v":""},{"$f":"IF(M190=\"\",\"\",VLOOKUP(M190,種目名!$O$5:$T$104,3,0))","v":""},{"$f":"IF(P190=\"\",\"\",VLOOKUP(AE190,種目名!$O$5:$T$104,3,0))","v":""},{"$f":"IF(S190=\"\",\"\",VLOOKUP(AH190,種目名!$O$5:$T$104,3,0))","v":""},0,"","",0,"",""]
["",null,{"$f":"IF(B191=\"\",\"\",VLOOKUP(B191,学連登録!$C$2:$G$3000,2,FALSE))","v":""},{"$f":"IF(B191=\"\",\"\",VLOOKUP(B191,学連登録!$C$2:$G$3000,3,FALSE))","v":""},{"$f":"IF(B191=\"\",\"\",VLOOKUP(B191,学連登録!$C$2:$G$3000,4,FALSE))","v":""},"",null,null,null,null,null,null,null,null,null,null,null,null,null,null,null,{"$f":"IF(B191=\"\",\"\",VLOOKUP(B191,学連登録!$C$2:$H$3000,6,FALSE))","v":""},null,"",{"$f":"IF(G191=\"\",\"\",VLOOKUP(G191,種目名!$O$5:$T$104,3,0))","v":""},{"$f":"IF(J191=\"\",\"\",VLOOKUP(J191,種目名!$O$5:$T$104,3,0))","v":""},{"$f":"IF(M191=\"\",\"\",VLOOKUP(M191,種目名!$O$5:$T$104,3,0))","v":""},{"$f":"IF(P191=\"\",\"\",VLOOKUP(AE191,種目名!$O$5:$T$104,3,0))","v":""},{"$f":"IF(S191=\"\",\"\",VLOOKUP(AH191,種目名!$O$5:$T$104,3,0))","v":""},0,"","",0,"",""]
["",null,{"$f":"IF(B192=\"\",\"\",VLOOKUP(B192,学連登録!$C$2:$G$3000,2,FALSE))","v":""},{"$f":"IF(B192=\"\",\"\",VLOOKUP(B192,学連登録!$C$2:$G$3000,3,FALSE))","v":""},{"$f":"IF(B192=\"\",\"\",VLOOKUP(B192,学連登録!$C$2:$G$3000,4,FALSE))","v":""},"",null,null,null,null,null,null,null,null,null,null,null,null,null,null,null,{"$f":"IF(B192=\"\",\"\",VLOOKUP(B192,学連登録!$C$2:$H$3000,6,FALSE))","v":""},null,"",{"$f":"IF(G192=\"\",\"\",VLOOKUP(G192,種目名!$O$5:$T$104,3,0))","v":""},{"$f":"IF(J192=\"\",\"\",VLOOKUP(J192,種目名!$O$5:$T$104,3,0))","v":""},{"$f":"IF(M192=\"\",\"\",VLOOKUP(M192,種目名!$O$5:$T$104,3,0))","v":""},{"$f":"IF(P192=\"\",\"\",VLOOKUP(AE192,種目名!$O$5:$T$104,3,0))","v":""},{"$f":"IF(S192=\"\",\"\",VLOOKUP(AH192,種目名!$O$5:$T$104,3,0))","v":""},0,"","",0,"",""]
["",null,{"$f":"IF(B193=\"\",\"\",VLOOKUP(B193,学連登録!$C$2:$G$3000,2,FALSE))","v":""},{"$f":"IF(B193=\"\",\"\",VLOOKUP(B193,学連登録!$C$2:$G$3000,3,FALSE))","v":""},{"$f":"IF(B193=\"\",\"\",VLOOKUP(B193,学連登録!$C$2:$G$3000,4,FALSE))","v":""},"",null,null,null,null,null,null,null,null,null,null,null,null,null,null,null,{"$f":"IF(B193=\"\",\"\",VLOOKUP(B193,学連登録!$C$2:$H$3000,6,FALSE))","v":""},null,"",{"$f":"IF(G193=\"\",\"\",VLOOKUP(G193,種目名!$O$5:$T$104,3,0))","v":""},{"$f":"IF(J193=\"\",\"\",VLOOKUP(J193,種目名!$O$5:$T$104,3,0))","v":""},{"$f":"IF(M193=\"\",\"\",VLOOKUP(M193,種目名!$O$5:$T$104,3,0))","v":""},{"$f":"IF(P193=\"\",\"\",VLOOKUP(AE193,種目名!$O$5:$T$104,3,0))","v":""},{"$f":"IF(S193=\"\",\"\",VLOOKUP(AH193,種目名!$O$5:$T$104,3,0))","v":""},0,"","",0,"",""]
["",null,{"$f":"IF(B194=\"\",\"\",VLOOKUP(B194,学連登録!$C$2:$G$3000,2,FALSE))","v":""},{"$f":"IF(B194=\"\",\"\",VLOOKUP(B194,学連登録!$C$2:$G$3000,3,FALSE))","v":""},{"$f":"IF(B194=\"\",\"\",VLOOKUP(B194,学連登録!$C$2:$G$3000,4,FALSE))","v":""},"",null,null,null,null,null,null,null,null,null,null,null,null,null,null,null,{"$f":"IF(B194=\"\",\"\",VLOOKUP(B194,学連登録!$C$2:$H$3000,6,FALSE))","v":""},null,"",{"$f":"IF(G194=\"\",\"\",VLOOKUP(G194,種目名!$O$5:$T$104,3,0))","v":""},{"$f":"IF(J194=\"\",\"\",VLOOKUP(J194,種目名!$O$5:$T$104,3,0))","v":""},{"$f":"IF(M194=\"\",\"\",VLOOKUP(M194,種目名!$O$5:$T$104,3,0))","v":""},{"$f":"IF(P194=\"\",\"\",VLOOKUP(AE194,種目名!$O$5:$T$104,3,0))","v":""},{"$f":"IF(S194=\"\",\"\",VLOOKUP(AH194,種目名!$O$5:$T$104,3,0))","v":""},0,"","",0,"",""]
["",null,{"$f":"IF(B195=\"\",\"\",VLOOKUP(B195,学連登録!$C$2:$G$3000,2,FALSE))","v":""},{"$f":"IF(B195=\"\",\"\",VLOOKUP(B195,学連登録!$C$2:$G$3000,3,FALSE))","v":""},{"$f":"IF(B195=\"\",\"\",VLOOKUP(B195,学連登録!$C$2:$G$3000,4,FALSE))","v":""},"",null,null,null,null,null,null,null,null,null,null,null,null,null,null,null,{"$f":"IF(B195=\"\",\"\",VLOOKUP(B195,学連登録!$C$2:$H$3000,6,FALSE))","v":""},null,"",{"$f":"IF(G195=\"\",\"\",VLOOKUP(G195,種目名!$O$5:$T$104,3,0))","v":""},{"$f":"IF(J195=\"\",\"\",VLOOKUP(J195,種目名!$O$5:$T$104,3,0))","v":""},{"$f":"IF(M195=\"\",\"\",VLOOKUP(M195,種目名!$O$5:$T$104,3,0))","v":""},{"$f":"IF(P195=\"\",\"\",VLOOKUP(AE195,種目名!$O$5:$T$104,3,0))","v":""},{"$f":"IF(S195=\"\",\"\",VLOOKUP(AH195,種目名!$O$5:$T$104,3,0))","v":""},0,"","",0,"",""]
["",null,{"$f":"IF(B196=\"\",\"\",VLOOKUP(B196,学連登録!$C$2:$G$3000,2,FALSE))","v":""},{"$f":"IF(B196=\"\",\"\",VLOOKUP(B196,学連登録!$C$2:$G$3000,3,FALSE))","v":""},{"$f":"IF(B196=\"\",\"\",VLOOKUP(B196,学連登録!$C$2:$G$3000,4,FALSE))","v":""},"",null,null,null,null,null,null,null,null,null,null,null,null,null,null,null,{"$f":"IF(B196=\"\",\"\",VLOOKUP(B196,学連登録!$C$2:$H$3000,6,FALSE))","v":""},null,"",{"$f":"IF(G196=\"\",\"\",VLOOKUP(G196,種目名!$O$5:$T$104,3,0))","v":""},{"$f":"IF(J196=\"\",\"\",VLOOKUP(J196,種目名!$O$5:$T$104,3,0))","v":""},{"$f":"IF(M196=\"\",\"\",VLOOKUP(M196,種目名!$O$5:$T$104,3,0))","v":""},{"$f":"IF(P196=\"\",\"\",VLOOKUP(AE196,種目名!$O$5:$T$104,3,0))","v":""},{"$f":"IF(S196=\"\",\"\",VLOOKUP(AH196,種目名!$O$5:$T$104,3,0))","v":""},0,"","",0,"",""]
["",null,{"$f":"IF(B197=\"\",\"\",VLOOKUP(B197,学連登録!$C$2:$G$3000,2,FALSE))","v":""},{"$f":"IF(B197=\"\",\"\",VLOOKUP(B197,学連登録!$C$2:$G$3000,3,FALSE))","v":""},{"$f":"IF(B197=\"\",\"\",VLOOKUP(B197,学連登録!$C$2:$G$3000,4,FALSE))","v":""},"",null,null,null,null,null,null,null,null,null,null,null,null,null,null,null,{"$f":"IF(B197=\"\",\"\",VLOOKUP(B197,学連登録!$C$2:$H$3000,6,FALSE))","v":""},null,"",{"$f":"IF(G197=\"\",\"\",VLOOKUP(G197,種目名!$O$5:$T$104,3,0))","v":""},{"$f":"IF(J197=\"\",\"\",VLOOKUP(J197,種目名!$O$5:$T$104,3,0))","v":""},{"$f":"IF(M197=\"\",\"\",VLOOKUP(M197,種目名!$O$5:$T$104,3,0))","v":""},{"$f":"IF(P197=\"\",\"\",VLOOKUP(AE197,種目名!$O$5:$T$104,3,0))","v":""},{"$f":"IF(S197=\"\",\"\",VLOOKUP(AH197,種目名!$O$5:$T$104,3,0))","v":""},0,"","",0,"",""]
["",null,{"$f":"IF(B198=\"\",\"\",VLOOKUP(B198,学連登録!$C$2:$G$3000,2,FALSE))","v":""},{"$f":"IF(B198=\"\",\"\",VLOOKUP(B198,学連登録!$C$2:$G$3000,3,FALSE))","v":""},{"$f":"IF(B198=\"\",\"\",VLOOKUP(B198,学連登録!$C$2:$G$3000,4,FALSE))","v":""},"",null,null,null,null,null,null,null,null,null,null,null,null,null,null,null,{"$f":"IF(B198=\"\",\"\",VLOOKUP(B198,学連登録!$C$2:$H$3000,6,FALSE))","v":""},null,"",{"$f":"IF(G198=\"\",\"\",VLOOKUP(G198,種目名!$O$5:$T$104,3,0))","v":""},{"$f":"IF(J198=\"\",\"\",VLOOKUP(J198,種目名!$O$5:$T$104,3,0))","v":""},{"$f":"IF(M198=\"\",\"\",VLOOKUP(M198,種目名!$O$5:$T$104,3,0))","v":""},{"$f":"IF(P198=\"\",\"\",VLOOKUP(AE198,種目名!$O$5:$T$104,3,0))","v":""},{"$f":"IF(S198=\"\",\"\",VLOOKUP(AH198,種目名!$O$5:$T$104,3,0))","v":""},0,"","",0,"",""]
["",null,{"$f":"IF(B199=\"\",\"\",VLOOKUP(B199,学連登録!$C$2:$G$3000,2,FALSE))","v":""},{"$f":"IF(B199=\"\",\"\",VLOOKUP(B199,学連登録!$C$2:$G$3000,3,FALSE))","v":""},{"$f":"IF(B199=\"\",\"\",VLOOKUP(B199,学連登録!$C$2:$G$3000,4,FALSE))","v":""},"",null,null,null,null,null,null,null,null,null,null,null,null,null,null,null,{"$f":"IF(B199=\"\",\"\",VLOOKUP(B199,学連登録!$C$2:$H$3000,6,FALSE))","v":""},null,"",{"$f":"IF(G199=\"\",\"\",VLOOKUP(G199,種目名!$O$5:$T$104,3,0))","v":""},{"$f":"IF(J199=\"\",\"\",VLOOKUP(J199,種目名!$O$5:$T$104,3,0))","v":""},{"$f":"IF(M199=\"\",\"\",VLOOKUP(M199,種目名!$O$5:$T$104,3,0))","v":""},{"$f":"IF(P199=\"\",\"\",VLOOKUP(AE199,種目名!$O$5:$T$104,3,0))","v":""},{"$f":"IF(S199=\"\",\"\",VLOOKUP(AH199,種目名!$O$5:$T$104,3,0))","v":""},0,"","",0,"",""]
["",null,{"$f":"IF(B200=\"\",\"\",VLOOKUP(B200,学連登録!$C$2:$G$3000,2,FALSE))","v":""},{"$f":"IF(B200=\"\",\"\",VLOOKUP(B200,学連登録!$C$2:$G$3000,3,FALSE))","v":""},{"$f":"IF(B200=\"\",\"\",VLOOKUP(B200,学連登録!$C$2:$G$3000,4,FALSE))","v":""},"",null,null,null,null,null,null,null,null,null,null,null,null,null,null,null,{"$f":"IF(B200=\"\",\"\",VLOOKUP(B200,学連登録!$C$2:$H$3000,6,FALSE))","v":""},null,"",{"$f":"IF(G200=\"\",\"\",VLOOKUP(G200,種目名!$O$5:$T$104,3,0))","v":""},{"$f":"IF(J200=\"\",\"\",VLOOKUP(J200,種目名!$O$5:$T$104,3,0))","v":""},{"$f":"IF(M200=\"\",\"\",VLOOKUP(M200,種目名!$O$5:$T$104,3,0))","v":""},{"$f":"IF(P200=\"\",\"\",VLOOKUP(AE200,種目名!$O$5:$T$104,3,0))","v":""},{"$f":"IF(S200=\"\",\"\",VLOOKUP(AH200,種目名!$O$5:$T$104,3,0))","v":""},0,"","",0,"",""]
["",null,{"$f":"IF(B201=\"\",\"\",VLOOKUP(B201,学連登録!$C$2:$G$3000,2,FALSE))","v":""},{"$f":"IF(B201=\"\",\"\",VLOOKUP(B201,学連登録!$C$2:$G$3000,3,FALSE))","v":""},{"$f":"IF(B201=\"\",\"\",VLOOKUP(B201,学連登録!$C$2:$G$3000,4,FALSE))","v":""},"",null,null,null,null,null,null,null,null,null,null,null,null,null,null,null,{"$f":"IF(B201=\"\",\"\",VLOOKUP(B201,学連登録!$C$2:$H$3000,6,FALSE))","v":""},null,"",{"$f":"IF(G201=\"\",\"\",VLOOKUP(G201,種目名!$O$5:$T$104,3,0))","v":""},{"$f":"IF(J201=\"\",\"\",VLOOKUP(J201,種目名!$O$5:$T$104,3,0))","v":""},{"$f":"IF(M201=\"\",\"\",VLOOKUP(M201,種目名!$O$5:$T$104,3,0))","v":""},{"$f":"IF(P201=\"\",\"\",VLOOKUP(AE201,種目名!$O$5:$T$104,3,0))","v":""},{"$f":"IF(S201=\"\",\"\",VLOOKUP(AH201,種目名!$O$5:$T$104,3,0))","v":""},0,"","",0,"",""]
["",null,{"$f":"IF(B202=\"\",\"\",VLOOKUP(B202,学連登録!$C$2:$G$3000,2,FALSE))","v":""},{"$f":"IF(B202=\"\",\"\",VLOOKUP(B202,学連登録!$C$2:$G$3000,3,FALSE))","v":""},{"$f":"IF(B202=\"\",\"\",VLOOKUP(B202,学連登録!$C$2:$G$3000,4,FALSE))","v":""},"",null,null,null,null,null,null,null,null,null,null,null,null,null,null,null,{"$f":"IF(B202=\"\",\"\",VLOOKUP(B202,学連登録!$C$2:$H$3000,6,FALSE))","v":""},null,"",{"$f":"IF(G202=\"\",\"\",VLOOKUP(G202,種目名!$O$5:$T$104,3,0))","v":""},{"$f":"IF(J202=\"\",\"\",VLOOKUP(J202,種目名!$O$5:$T$104,3,0))","v":""},{"$f":"IF(M202=\"\",\"\",VLOOKUP(M202,種目名!$O$5:$T$104,3,0))","v":""},{"$f":"IF(P202=\"\",\"\",VLOOKUP(AE202,種目名!$O$5:$T$104,3,0))","v":""},{"$f":"IF(S202=\"\",\"\",VLOOKUP(AH202,種目名!$O$5:$T$104,3,0))","v":""},0,"","",0,"",""]
["",null,{"$f":"IF(B203=\"\",\"\",VLOOKUP(B203,学連登録!$C$2:$G$3000,2,FALSE))","v":""},{"$f":"IF(B203=\"\",\"\",VLOOKUP(B203,学連登録!$C$2:$G$3000,3,FALSE))","v":""},{"$f":"IF(B203=\"\",\"\",VLOOKUP(B203,学連登録!$C$2:$G$3000,4,FALSE))","v":""},"",null,null,null,null,null,null,null,null,null,null,null,null,null,null,null,{"$f":"IF(B203=\"\",\"\",VLOOKUP(B203,学連登録!$C$2:$H$3000,6,FALSE))","v":""},null,"",{"$f":"IF(G203=\"\",\"\",VLOOKUP(G203,種目名!$O$5:$T$104,3,0))","v":""},{"$f":"IF(J203=\"\",\"\",VLOOKUP(J203,種目名!$O$5:$T$104,3,0))","v":""},{"$f":"IF(M203=\"\",\"\",VLOOKUP(M203,種目名!$O$5:$T$104,3,0))","v":""},{"$f":"IF(P203=\"\",\"\",VLOOKUP(AE203,種目名!$O$5:$T$104,3,0))","v":""},{"$f":"IF(S203=\"\",\"\",VLOOKUP(AH203,種目名!$O$5:$T$104,3,0))","v":""},0,"","",0,"",""]
["",null,{"$f":"IF(B204=\"\",\"\",VLOOKUP(B204,学連登録!$C$2:$G$3000,2,FALSE))","v":""},{"$f":"IF(B204=\"\",\"\",VLOOKUP(B204,学連登録!$C$2:$G$3000,3,FALSE))","v":""},{"$f":"IF(B204=\"\",\"\",VLOOKUP(B204,学連登録!$C$2:$G$3000,4,FALSE))","v":""},"",null,null,null,null,null,null,null,null,null,null,null,null,null,null,null,{"$f":"IF(B204=\"\",\"\",VLOOKUP(B204,学連登録!$C$2:$H$3000,6,FALSE))","v":""},null,"",{"$f":"IF(G204=\"\",\"\",VLOOKUP(G204,種目名!$O$5:$T$104,3,0))","v":""},{"$f":"IF(J204=\"\",\"\",VLOOKUP(J204,種目名!$O$5:$T$104,3,0))","v":""},{"$f":"IF(M204=\"\",\"\",VLOOKUP(M204,種目名!$O$5:$T$104,3,0))","v":""},{"$f":"IF(P204=\"\",\"\",VLOOKUP(AE204,種目名!$O$5:$T$104,3,0))","v":""},{"$f":"IF(S204=\"\",\"\",VLOOKUP(AH204,種目名!$O$5:$T$104,3,0))","v":""},0,"","",0,"",""]
["",null,{"$f":"IF(B205=\"\",\"\",VLOOKUP(B205,学連登録!$C$2:$G$3000,2,FALSE))","v":""},{"$f":"IF(B205=\"\",\"\",VLOOKUP(B205,学連登録!$C$2:$G$3000,3,FALSE))","v":""},{"$f":"IF(B205=\"\",\"\",VLOOKUP(B205,学連登録!$C$2:$G$3000,4,FALSE))","v":""},"",null,null,null,null,null,null,null,null,null,null,null,null,null,null,null,{"$f":"IF(B205=\"\",\"\",VLOOKUP(B205,学連登録!$C$2:$H$3000,6,FALSE))","v":""},null,"",{"$f":"IF(G205=\"\",\"\",VLOOKUP(G205,種目名!$O$5:$T$104,3,0))","v":""},{"$f":"IF(J205=\"\",\"\",VLOOKUP(J205,種目名!$O$5:$T$104,3,0))","v":""},{"$f":"IF(M205=\"\",\"\",VLOOKUP(M205,種目名!$O$5:$T$104,3,0))","v":""},{"$f":"IF(P205=\"\",\"\",VLOOKUP(AE205,種目名!$O$5:$T$104,3,0))","v":""},{"$f":"IF(S205=\"\",\"\",VLOOKUP(AH205,種目名!$O$5:$T$104,3,0))","v":""},0,"","",0,"",""]
["",null,{"$f":"IF(B206=\"\",\"\",VLOOKUP(B206,学連登録!$C$2:$G$3000,2,FALSE))","v":""},{"$f":"IF(B206=\"\",\"\",VLOOKUP(B206,学連登録!$C$2:$G$3000,3,FALSE))","v":""},{"$f":"IF(B206=\"\",\"\",VLOOKUP(B206,学連登録!$C$2:$G$3000,4,FALSE))","v":""},"",null,null,null,null,null,null,null,null,null,null,null,null,null,null,null,{"$f":"IF(B206=\"\",\"\",VLOOKUP(B206,学連登録!$C$2:$H$3000,6,FALSE))","v":""},null,"",{"$f":"IF(G206=\"\",\"\",VLOOKUP(G206,種目名!$O$5:$T$104,3,0))","v":""},{"$f":"IF(J206=\"\",\"\",VLOOKUP(J206,種目名!$O$5:$T$104,3,0))","v":""},{"$f":"IF(M206=\"\",\"\",VLOOKUP(M206,種目名!$O$5:$T$104,3,0))","v":""},{"$f":"IF(P206=\"\",\"\",VLOOKUP(AE206,種目名!$O$5:$T$104,3,0))","v":""},{"$f":"IF(S206=\"\",\"\",VLOOKUP(AH206,種目名!$O$5:$T$104,3,0))","v":""},0,"","",0,"",""]
["",null,{"$f":"IF(B207=\"\",\"\",VLOOKUP(B207,学連登録!$C$2:$G$3000,2,FALSE))","v":""},{"$f":"IF(B207=\"\",\"\",VLOOKUP(B207,学連登録!$C$2:$G$3000,3,FALSE))","v":""},{"$f":"IF(B207=\"\",\"\",VLOOKUP(B207,学連登録!$C$2:$G$3000,4,FALSE))","v":""},"",null,null,null,null,null,null,null,null,null,null,null,null,null,null,null,{"$f":"IF(B207=\"\",\"\",VLOOKUP(B207,学連登録!$C$2:$H$3000,6,FALSE))","v":""},null,"",{"$f":"IF(G207=\"\",\"\",VLOOKUP(G207,種目名!$O$5:$T$104,3,0))","v":""},{"$f":"IF(J207=\"\",\"\",VLOOKUP(J207,種目名!$O$5:$T$104,3,0))","v":""},{"$f":"IF(M207=\"\",\"\",VLOOKUP(M207,種目名!$O$5:$T$104,3,0))","v":""},{"$f":"IF(P207=\"\",\"\",VLOOKUP(AE207,種目名!$O$5:$T$104,3,0))","v":""},{"$f":"IF(S207=\"\",\"\",VLOOKUP(AH207,種目名!$O$5:$T$104,3,0))","v":""},0,"","",0,"",""]
["",null,{"$f":"IF(B208=\"\",\"\",VLOOKUP(B208,学連登録!$C$2:$G$3000,2,FALSE))","v":""},{"$f":"IF(B208=\"\",\"\",VLOOKUP(B208,学連登録!$C$2:$G$3000,3,FALSE))","v":""},{"$f":"IF(B208=\"\",\"\",VLOOKUP(B208,学連登録!$C$2:$G$3000,4,FALSE))","v":""},"",null,null,null,null,null,null,null,null,null,null,null,null,null,null,null,{"$f":"IF(B208=\"\",\"\",VLOOKUP(B208,学連登録!$C$2:$H$3000,6,FALSE))","v":""},null,"",{"$f":"IF(G208=\"\",\"\",VLOOKUP(G208,種目名!$O$5:$T$104,3,0))","v":""},{"$f":"IF(J208=\"\",\"\",VLOOKUP(J208,種目名!$O$5:$T$104,3,0))","v":""},{"$f":"IF(M208=\"\",\"\",VLOOKUP(M208,種目名!$O$5:$T$104,3,0))","v":""},{"$f":"IF(P208=\"\",\"\",VLOOKUP(AE208,種目名!$O$5:$T$104,3,0))","v":""},{"$f":"IF(S208=\"\",\"\",VLOOKUP(AH208,種目名!$O$5:$T$104,3,0))","v":""},0,"","",0,"",""]
["",null,{"$f":"IF(B209=\"\",\"\",VLOOKUP(B209,学連登録!$C$2:$G$3000,2,FALSE))","v":""},{"$f":"IF(B209=\"\",\"\",VLOOKUP(B209,学連登録!$C$2:$G$3000,3,FALSE))","v":""},{"$f":"IF(B209=\"\",\"\",VLOOKUP(B209,学連登録!$C$2:$G$3000,4,FALSE))","v":""},"",null,null,null,null,null,null,null,null,null,null,null,null,null,null,null,{"$f":"IF(B209=\"\",\"\",VLOOKUP(B209,学連登録!$C$2:$H$3000,6,FALSE))","v":""},null,"",{"$f":"IF(G209=\"\",\"\",VLOOKUP(G209,種目名!$O$5:$T$104,3,0))","v":""},{"$f":"IF(J209=\"\",\"\",VLOOKUP(J209,種目名!$O$5:$T$104,3,0))","v":""},{"$f":"IF(M209=\"\",\"\",VLOOKUP(M209,種目名!$O$5:$T$104,3,0))","v":""},{"$f":"IF(P209=\"\",\"\",VLOOKUP(AE209,種目名!$O$5:$T$104,3,0))","v":""},{"$f":"IF(S209=\"\",\"\",VLOOKUP(AH209,種目名!$O$5:$T$104,3,0))","v":""},0,"","",0,"",""]
["",null,{"$f":"IF(B210=\"\",\"\",VLOOKUP(B210,学連登録!$C$2:$G$3000,2,FALSE))","v":""},{"$f":"IF(B210=\"\",\"\",VLOOKUP(B210,学連登録!$C$2:$G$3000,3,FALSE))","v":""},{"$f":"IF(B210=\"\",\"\",VLOOKUP(B210,学連登録!$C$2:$G$3000,4,FALSE))","v":""},"",null,null,null,null,null,null,null,null,null,null,null,null,null,null,null,{"$f":"IF(B210=\"\",\"\",VLOOKUP(B210,学連登録!$C$2:$H$3000,6,FALSE))","v":""},null,"",{"$f":"IF(G210=\"\",\"\",VLOOKUP(G210,種目名!$O$5:$T$104,3,0))","v":""},{"$f":"IF(J210=\"\",\"\",VLOOKUP(J210,種目名!$O$5:$T$104,3,0))","v":""},{"$f":"IF(M210=\"\",\"\",VLOOKUP(M210,種目名!$O$5:$T$104,3,0))","v":""},{"$f":"IF(P210=\"\",\"\",VLOOKUP(AE210,種目名!$O$5:$T$104,3,0))","v":""},{"$f":"IF(S210=\"\",\"\",VLOOKUP(AH210,種目名!$O$5:$T$104,3,0))","v":""},0,"","",0,"",""]
["",null,{"$f":"IF(B211=\"\",\"\",VLOOKUP(B211,学連登録!$C$2:$G$3000,2,FALSE))","v":""},{"$f":"IF(B211=\"\",\"\",VLOOKUP(B211,学連登録!$C$2:$G$3000,3,FALSE))","v":""},{"$f":"IF(B211=\"\",\"\",VLOOKUP(B211,学連登録!$C$2:$G$3000,4,FALSE))","v":""},"",null,null,null,null,null,null,null,null,null,null,null,null,null,null,null,{"$f":"IF(B211=\"\",\"\",VLOOKUP(B211,学連登録!$C$2:$H$3000,6,FALSE))","v":""},null,"",{"$f":"IF(G211=\"\",\"\",VLOOKUP(G211,種目名!$O$5:$T$104,3,0))","v":""},{"$f":"IF(J211=\"\",\"\",VLOOKUP(J211,種目名!$O$5:$T$104,3,0))","v":""},{"$f":"IF(M211=\"\",\"\",VLOOKUP(M211,種目名!$O$5:$T$104,3,0))","v":""},{"$f":"IF(P211=\"\",\"\",VLOOKUP(AE211,種目名!$O$5:$T$104,3,0))","v":""},{"$f":"IF(S211=\"\",\"\",VLOOKUP(AH211,種目名!$O$5:$T$104,3,0))","v":""},0,"","",0,"",""]
["",null,{"$f":"IF(B212=\"\",\"\",VLOOKUP(B212,学連登録!$C$2:$G$3000,2,FALSE))","v":""},{"$f":"IF(B212=\"\",\"\",VLOOKUP(B212,学連登録!$C$2:$G$3000,3,FALSE))","v":""},{"$f":"IF(B212=\"\",\"\",VLOOKUP(B212,学連登録!$C$2:$G$3000,4,FALSE))","v":""},"",null,null,null,null,null,null,null,null,null,null,null,null,null,null,null,{"$f":"IF(B212=\"\",\"\",VLOOKUP(B212,学連登録!$C$2:$H$3000,6,FALSE))","v":""},null,"",{"$f":"IF(G212=\"\",\"\",VLOOKUP(G212,種目名!$O$5:$T$104,3,0))","v":""},{"$f":"IF(J212=\"\",\"\",VLOOKUP(J212,種目名!$O$5:$T$104,3,0))","v":""},{"$f":"IF(M212=\"\",\"\",VLOOKUP(M212,種目名!$O$5:$T$104,3,0))","v":""},{"$f":"IF(P212=\"\",\"\",VLOOKUP(AE212,種目名!$O$5:$T$104,3,0))","v":""},{"$f":"IF(S212=\"\",\"\",VLOOKUP(AH212,種目名!$O$5:$T$104,3,0))","v":""},0,"","",0,"",""]
["",null,{"$f":"IF(B213=\"\",\"\",VLOOKUP(B213,学連登録!$C$2:$G$3000,2,FALSE))","v":""},{"$f":"IF(B213=\"\",\"\",VLOOKUP(B213,学連登録!$C$2:$G$3000,3,FALSE))","v":""},{"$f":"IF(B213=\"\",\"\",VLOOKUP(B213,学連登録!$C$2:$G$3000,4,FALSE))","v":""},"",null,null,null,null,null,null,null,null,null,null,null,null,null,null,null,{"$f":"IF(B213=\"\",\"\",VLOOKUP(B213,学連登録!$C$2:$H$3000,6,FALSE))","v":""},null,"",{"$f":"IF(G213=\"\",\"\",VLOOKUP(G213,種目名!$O$5:$T$104,3,0))","v":""},{"$f":"IF(J213=\"\",\"\",VLOOKUP(J213,種目名!$O$5:$T$104,3,0))","v":""},{"$f":"IF(M213=\"\",\"\",VLOOKUP(M213,種目名!$O$5:$T$104,3,0))","v":""},{"$f":"IF(P213=\"\",\"\",VLOOKUP(AE213,種目名!$O$5:$T$104,3,0))","v":""},{"$f":"IF(S213=\"\",\"\",VLOOKUP(AH213,種目名!$O$5:$T$104,3,0))","v":""},0,"","",0,"",""]
["",null,{"$f":"IF(B214=\"\",\"\",VLOOKUP(B214,学連登録!$C$2:$G$3000,2,FALSE))","v":""},{"$f":"IF(B214=\"\",\"\",VLOOKUP(B214,学連登録!$C$2:$G$3000,3,FALSE))","v":""},{"$f":"IF(B214=\"\",\"\",VLOOKUP(B214,学連登録!$C$2:$G$3000,4,FALSE))","v":""},{"$f":"IF(C214=\"\",\"\",$P$1)","v":""},null,null,null,null,null,null,null,null,null,null,null,null,null,null,null,{"$f":"IF(B214=\"\",\"\",VLOOKUP(B214,学連登録!$C$2:$H$3000,6,FALSE))","v":""},null,{"$f":"IF(C214=\"\",\"\",$S$3)","v":""},{"$f":"IF(G214=\"\",\"\",VLOOKUP(G214,種目名!$O$5:$T$104,3,0))","v":""},{"$f":"IF(J214=\"\",\"\",VLOOKUP(J214,種目名!$O$5:$T$104,3,0))","v":""},{"$f":"IF(M214=\"\",\"\",VLOOKUP(M214,種目名!$O$5:$T$104,3,0))","v":""},{"$f":"IF(P214=\"\",\"\",VLOOKUP(AE214,種目名!$O$5:$T$104,3,0))","v":""},{"$f":"IF(S214=\"\",\"\",VLOOKUP(AH214,種目名!$O$5:$T$104,3,0))","v":""},{"$f":"LENB(P214)","v":0},{"$f":"IF(AD214,LEFTB(P214,AD214-1),\"\")","v":""},{"$f":"IF(AD214,MIDB(P214,AD214,1),\"\")","v":""},{"$f":"LENB(S214)","v":0},{"$f":"IF(AG214,LEFTB(S214,AG214-1),\"\")","v":""},{"$f":"IF(AG214,MIDB(S214,AG214,1),\"\")","v":""}]
[{"$f":"IF(C215=\"\",\"\",A214+1)","v":""},null,{"$f":"IF(B215=\"\",\"\",VLOOKUP(B215,学連登録!$C$2:$G$3000,2,FALSE))","v":""},{"$f":"IF(B215=\"\",\"\",VLOOKUP(B215,学連登録!$C$2:$G$3000,3,FALSE))","v":""},{"$f":"IF(B215=\"\",\"\",VLOOKUP(B215,学連登録!$C$2:$G$3000,4,FALSE))","v":""},"",null,null,null,null,null,null,null,null,null,null,null,null,null,null,null,{"$f":"IF(B215=\"\",\"\",VLOOKUP(B215,学連登録!$C$2:$H$3000,6,FALSE))","v":""},null,"",{"$f":"IF(G215=\"\",\"\",VLOOKUP(G215,種目名!$O$5:$T$104,3,0))","v":""},{"$f":"IF(J215=\"\",\"\",VLOOKUP(J215,種目名!$O$5:$T$104,3,0))","v":""},{"$f":"IF(M215=\"\",\"\",VLOOKUP(M215,種目名!$O$5:$T$104,3,0))","v":""},{"$f":"IF(P215=\"\",\"\",VLOOKUP(AE215,種目名!$O$5:$T$104,3,0))","v":""},{"$f":"IF(S215=\"\",\"\",VLOOKUP(AH215,種目名!$O$5:$T$104,3,0))","v":""},0,"","",0,"",""]
["",null,{"$f":"IF(B216=\"\",\"\",VLOOKUP(B216,学連登録!$C$2:$G$3000,2,FALSE))","v":""},{"$f":"IF(B216=\"\",\"\",VLOOKUP(B216,学連登録!$C$2:$G$3000,3,FALSE))","v":""},{"$f":"IF(B216=\"\",\"\",VLOOKUP(B216,学連登録!$C$2:$G$3000,4,FALSE))","v":""},"",null,null,null,null,null,null,null,null,null,null,null,null,null,null,null,{"$f":"IF(B216=\"\",\"\",VLOOKUP(B216,学連登録!$C$2:$H$3000,6,FALSE))","v":""},null,"",{"$f":"IF(G216=\"\",\"\",VLOOKUP(G216,種目名!$O$5:$T$104,3,0))","v":""},{"$f":"IF(J216=\"\",\"\",VLOOKUP(J216,種目名!$O$5:$T$104,3,0))","v":""},{"$f":"IF(M216=\"\",\"\",VLOOKUP(M216,種目名!$O$5:$T$104,3,0))","v":""},{"$f":"IF(P216=\"\",\"\",VLOOKUP(AE216,種目名!$O$5:$T$104,3,0))","v":""},{"$f":"IF(S216=\"\",\"\",VLOOKUP(AH216,種目名!$O$5:$T$104,3,0))","v":""},0,"","",0,"",""]
["",null,{"$f":"IF(B217=\"\",\"\",VLOOKUP(B217,学連登録!$C$2:$G$3000,2,FALSE))","v":""},{"$f":"IF(B217=\"\",\"\",VLOOKUP(B217,学連登録!$C$2:$G$3000,3,FALSE))","v":""},{"$f":"IF(B217=\"\",\"\",VLOOKUP(B217,学連登録!$C$2:$G$3000,4,FALSE))","v":""},"",null,null,null,null,null,null,null,null,null,null,null,null,null,null,null,{"$f":"IF(B217=\"\",\"\",VLOOKUP(B217,学連登録!$C$2:$H$3000,6,FALSE))","v":""},null,"",{"$f":"IF(G217=\"\",\"\",VLOOKUP(G217,種目名!$O$5:$T$104,3,0))","v":""},{"$f":"IF(J217=\"\",\"\",VLOOKUP(J217,種目名!$O$5:$T$104,3,0))","v":""},{"$f":"IF(M217=\"\",\"\",VLOOKUP(M217,種目名!$O$5:$T$104,3,0))","v":""},{"$f":"IF(P217=\"\",\"\",VLOOKUP(AE217,種目名!$O$5:$T$104,3,0))","v":""},{"$f":"IF(S217=\"\",\"\",VLOOKUP(AH217,種目名!$O$5:$T$104,3,0))","v":""},0,"","",0,"",""]
["",null,{"$f":"IF(B218=\"\",\"\",VLOOKUP(B218,学連登録!$C$2:$G$3000,2,FALSE))","v":""},{"$f":"IF(B218=\"\",\"\",VLOOKUP(B218,学連登録!$C$2:$G$3000,3,FALSE))","v":""},{"$f":"IF(B218=\"\",\"\",VLOOKUP(B218,学連登録!$C$2:$G$3000,4,FALSE))","v":""},"",null,null,null,null,null,null,null,null,null,null,null,null,null,null,null,{"$f":"IF(B218=\"\",\"\",VLOOKUP(B218,学連登録!$C$2:$H$3000,6,FALSE))","v":""},null,"",{"$f":"IF(G218=\"\",\"\",VLOOKUP(G218,種目名!$O$5:$T$104,3,0))","v":""},{"$f":"IF(J218=\"\",\"\",VLOOKUP(J218,種目名!$O$5:$T$104,3,0))","v":""},{"$f":"IF(M218=\"\",\"\",VLOOKUP(M218,種目名!$O$5:$T$104,3,0))","v":""},{"$f":"IF(P218=\"\",\"\",VLOOKUP(AE218,種目名!$O$5:$T$104,3,0))","v":""},{"$f":"IF(S218=\"\",\"\",VLOOKUP(AH218,種目名!$O$5:$T$104,3,0))","v":""},0,"","",0,"",""]
["",null,{"$f":"IF(B219=\"\",\"\",VLOOKUP(B219,学連登録!$C$2:$G$3000,2,FALSE))","v":""},{"$f":"IF(B219=\"\",\"\",VLOOKUP(B219,学連登録!$C$2:$G$3000,3,FALSE))","v":""},{"$f":"IF(B219=\"\",\"\",VLOOKUP(B219,学連登録!$C$2:$G$3000,4,FALSE))","v":""},"",null,null,null,null,null,null,null,null,null,null,null,null,null,null,null,{"$f":"IF(B219=\"\",\"\",VLOOKUP(B219,学連登録!$C$2:$H$3000,6,FALSE))","v":""},null,"",{"$f":"IF(G219=\"\",\"\",VLOOKUP(G219,種目名!$O$5:$T$104,3,0))","v":""},{"$f":"IF(J219=\"\",\"\",VLOOKUP(J219,種目名!$O$5:$T$104,3,0))","v":""},{"$f":"IF(M219=\"\",\"\",VLOOKUP(M219,種目名!$O$5:$T$104,3,0))","v":""},{"$f":"IF(P219=\"\",\"\",VLOOKUP(AE219,種目名!$O$5:$T$104,3,0))","v":""},{"$f":"IF(S219=\"\",\"\",VLOOKUP(AH219,種目名!$O$5:$T$104,3,0))","v":""},0,"","",0,"",""]
["",null,{"$f":"IF(B220=\"\",\"\",VLOOKUP(B220,学連登録!$C$2:$G$3000,2,FALSE))","v":""},{"$f":"IF(B220=\"\",\"\",VLOOKUP(B220,学連登録!$C$2:$G$3000,3,FALSE))","v":""},{"$f":"IF(B220=\"\",\"\",VLOOKUP(B220,学連登録!$C$2:$G$3000,4,FALSE))","v":""},"",null,null,null,null,null,null,null,null,null,null,null,null,null,null,null,{"$f":"IF(B220=\"\",\"\",VLOOKUP(B220,学連登録!$C$2:$H$3000,6,FALSE))","v":""},null,"",{"$f":"IF(G220=\"\",\"\",VLOOKUP(G220,種目名!$O$5:$T$104,3,0))","v":""},{"$f":"IF(J220=\"\",\"\",VLOOKUP(J220,種目名!$O$5:$T$104,3,0))","v":""},{"$f":"IF(M220=\"\",\"\",VLOOKUP(M220,種目名!$O$5:$T$104,3,0))","v":""},{"$f":"IF(P220=\"\",\"\",VLOOKUP(AE220,種目名!$O$5:$T$104,3,0))","v":""},{"$f":"IF(S220=\"\",\"\",VLOOKUP(AH220,種目名!$O$5:$T$104,3,0))","v":""},0,"","",0,"",""]
["",null,{"$f":"IF(B221=\"\",\"\",VLOOKUP(B221,学連登録!$C$2:$G$3000,2,FALSE))","v":""},{"$f":"IF(B221=\"\",\"\",VLOOKUP(B221,学連登録!$C$2:$G$3000,3,FALSE))","v":""},{"$f":"IF(B221=\"\",\"\",VLOOKUP(B221,学連登録!$C$2:$G$3000,4,FALSE))","v":""},"",null,null,null,null,null,null,null,null,null,null,null,null,null,null,null,{"$f":"IF(B221=\"\",\"\",VLOOKUP(B221,学連登録!$C$2:$H$3000,6,FALSE))","v":""},null,"",{"$f":"IF(G221=\"\",\"\",VLOOKUP(G221,種目名!$O$5:$T$104,3,0))","v":""},{"$f":"IF(J221=\"\",\"\",VLOOKUP(J221,種目名!$O$5:$T$104,3,0))","v":""},{"$f":"IF(M221=\"\",\"\",VLOOKUP(M221,種目名!$O$5:$T$104,3,0))","v":""},{"$f":"IF(P221=\"\",\"\",VLOOKUP(AE221,種目名!$O$5:$T$104,3,0))","v":""},{"$f":"IF(S221=\"\",\"\",VLOOKUP(AH221,種目名!$O$5:$T$104,3,0))","v":""},0,"","",0,"",""]
["",null,{"$f":"IF(B222=\"\",\"\",VLOOKUP(B222,学連登録!$C$2:$G$3000,2,FALSE))","v":""},{"$f":"IF(B222=\"\",\"\",VLOOKUP(B222,学連登録!$C$2:$G$3000,3,FALSE))","v":""},{"$f":"IF(B222=\"\",\"\",VLOOKUP(B222,学連登録!$C$2:$G$3000,4,FALSE))","v":""},"",null,null,null,null,null,null,null,null,null,null,null,null,null,null,null,{"$f":"IF(B222=\"\",\"\",VLOOKUP(B222,学連登録!$C$2:$H$3000,6,FALSE))","v":""},null,"",{"$f":"IF(G222=\"\",\"\",VLOOKUP(G222,種目名!$O$5:$T$104,3,0))","v":""},{"$f":"IF(J222=\"\",\"\",VLOOKUP(J222,種目名!$O$5:$T$104,3,0))","v":""},{"$f":"IF(M222=\"\",\"\",VLOOKUP(M222,種目名!$O$5:$T$104,3,0))","v":""},{"$f":"IF(P222=\"\",\"\",VLOOKUP(AE222,種目名!$O$5:$T$104,3,0))","v":""},{"$f":"IF(S222=\"\",\"\",VLOOKUP(AH222,種目名!$O$5:$T$104,3,0))","v":""},0,"","",0,"",""]
["",null,{"$f":"IF(B223=\"\",\"\",VLOOKUP(B223,学連登録!$C$2:$G$3000,2,FALSE))","v":""},{"$f":"IF(B223=\"\",\"\",VLOOKUP(B223,学連登録!$C$2:$G$3000,3,FALSE))","v":""},{"$f":"IF(B223=\"\",\"\",VLOOKUP(B223,学連登録!$C$2:$G$3000,4,FALSE))","v":""},"",null,null,null,null,null,null,null,null,null,null,null,null,null,null,null,{"$f":"IF(B223=\"\",\"\",VLOOKUP(B223,学連登録!$C$2:$H$3000,6,FALSE))","v":""},null,"",{"$f":"IF(G223=\"\",\"\",VLOOKUP(G223,種目名!$O$5:$T$104,3,0))","v":""},{"$f":"IF(J223=\"\",\"\",VLOOKUP(J223,種目名!$O$5:$T$104,3,0))","v":""},{"$f":"IF(M223=\"\",\"\",VLOOKUP(M223,種目名!$O$5:$T$104,3,0))","v":""},{"$f":"IF(P223=\"\",\"\",VLOOKUP(AE223,種目名!$O$5:$T$104,3,0))","v":""},{"$f":"IF(S223=\"\",\"\",VLOOKUP(AH223,種目名!$O$5:$T$104,3,0))","v":""},0,"","",0,"",""]
["",null,{"$f":"IF(B224=\"\",\"\",VLOOKUP(B224,学連登録!$C$2:$G$3000,2,FALSE))","v":""},{"$f":"IF(B224=\"\",\"\",VLOOKUP(B224,学連登録!$C$2:$G$3000,3,FALSE))","v":""},{"$f":"IF(B224=\"\",\"\",VLOOKUP(B224,学連登録!$C$2:$G$3000,4,FALSE))","v":""},"",null,null,null,null,null,null,null,null,null,null,null,null,null,null,null,{"$f":"IF(B224=\"\",\"\",VLOOKUP(B224,学連登録!$C$2:$H$3000,6,FALSE))","v":""},null,"",{"$f":"IF(G224=\"\",\"\",VLOOKUP(G224,種目名!$O$5:$T$104,3,0))","v":""},{"$f":"IF(J224=\"\",\"\",VLOOKUP(J224,種目名!$O$5:$T$104,3,0))","v":""},{"$f":"IF(M224=\"\",\"\",VLOOKUP(M224,種目名!$O$5:$T$104,3,0))","v":""},{"$f":"IF(P224=\"\",\"\",VLOOKUP(AE224,種目名!$O$5:$T$104,3,0))","v":""},{"$f":"IF(S224=\"\",\"\",VLOOKUP(AH224,種目名!$O$5:$T$104,3,0))","v":""},0,"","",0,"",""]
["",null,{"$f":"IF(B225=\"\",\"\",VLOOKUP(B225,学連登録!$C$2:$G$3000,2,FALSE))","v":""},{"$f":"IF(B225=\"\",\"\",VLOOKUP(B225,学連登録!$C$2:$G$3000,3,FALSE))","v":""},{"$f":"IF(B225=\"\",\"\",VLOOKUP(B225,学連登録!$C$2:$G$3000,4,FALSE))","v":""},"",null,null,null,null,null,null,null,null,null,null,null,null,null,null,null,{"$f":"IF(B225=\"\",\"\",VLOOKUP(B225,学連登録!$C$2:$H$3000,6,FALSE))","v":""},null,"",{"$f":"IF(G225=\"\",\"\",VLOOKUP(G225,種目名!$O$5:$T$104,3,0))","v":""},{"$f":"IF(J225=\"\",\"\",VLOOKUP(J225,種目名!$O$5:$T$104,3,0))","v":""},{"$f":"IF(M225=\"\",\"\",VLOOKUP(M225,種目名!$O$5:$T$104,3,0))","v":""},{"$f":"IF(P225=\"\",\"\",VLOOKUP(AE225,種目名!$O$5:$T$104,3,0))","v":""},{"$f":"IF(S225=\"\",\"\",VLOOKUP(AH225,種目名!$O$5:$T$104,3,0))","v":""},0,"","",0,"",""]
["",null,{"$f":"IF(B226=\"\",\"\",VLOOKUP(B226,学連登録!$C$2:$G$3000,2,FALSE))","v":""},{"$f":"IF(B226=\"\",\"\",VLOOKUP(B226,学連登録!$C$2:$G$3000,3,FALSE))","v":""},{"$f":"IF(B226=\"\",\"\",VLOOKUP(B226,学連登録!$C$2:$G$3000,4,FALSE))","v":""},"",null,null,null,null,null,null,null,null,null,null,null,null,null,null,null,{"$f":"IF(B226=\"\",\"\",VLOOKUP(B226,学連登録!$C$2:$H$3000,6,FALSE))","v":""},null,"",{"$f":"IF(G226=\"\",\"\",VLOOKUP(G226,種目名!$O$5:$T$104,3,0))","v":""},{"$f":"IF(J226=\"\",\"\",VLOOKUP(J226,種目名!$O$5:$T$104,3,0))","v":""},{"$f":"IF(M226=\"\",\"\",VLOOKUP(M226,種目名!$O$5:$T$104,3,0))","v":""},{"$f":"IF(P226=\"\",\"\",VLOOKUP(AE226,種目名!$O$5:$T$104,3,0))","v":""},{"$f":"IF(S226=\"\",\"\",VLOOKUP(AH226,種目名!$O$5:$T$104,3,0))","v":""},0,"","",0,"",""]
["",null,{"$f":"IF(B227=\"\",\"\",VLOOKUP(B227,学連登録!$C$2:$G$3000,2,FALSE))","v":""},{"$f":"IF(B227=\"\",\"\",VLOOKUP(B227,学連登録!$C$2:$G$3000,3,FALSE))","v":""},{"$f":"IF(B227=\"\",\"\",VLOOKUP(B227,学連登録!$C$2:$G$3000,4,FALSE))","v":""},"",null,null,null,null,null,null,null,null,null,null,null,null,null,null,null,{"$f":"IF(B227=\"\",\"\",VLOOKUP(B227,学連登録!$C$2:$H$3000,6,FALSE))","v":""},null,"",{"$f":"IF(G227=\"\",\"\",VLOOKUP(G227,種目名!$O$5:$T$104,3,0))","v":""},{"$f":"IF(J227=\"\",\"\",VLOOKUP(J227,種目名!$O$5:$T$104,3,0))","v":""},{"$f":"IF(M227=\"\",\"\",VLOOKUP(M227,種目名!$O$5:$T$104,3,0))","v":""},{"$f":"IF(P227=\"\",\"\",VLOOKUP(AE227,種目名!$O$5:$T$104,3,0))","v":""},{"$f":"IF(S227=\"\",\"\",VLOOKUP(AH227,種目名!$O$5:$T$104,3,0))","v":""},0,"","",0,"",""]
["",null,{"$f":"IF(B228=\"\",\"\",VLOOKUP(B228,学連登録!$C$2:$G$3000,2,FALSE))","v":""},{"$f":"IF(B228=\"\",\"\",VLOOKUP(B228,学連登録!$C$2:$G$3000,3,FALSE))","v":""},{"$f":"IF(B228=\"\",\"\",VLOOKUP(B228,学連登録!$C$2:$G$3000,4,FALSE))","v":""},"",null,null,null,null,null,null,null,null,null,null,null,null,null,null,null,{"$f":"IF(B228=\"\",\"\",VLOOKUP(B228,学連登録!$C$2:$H$3000,6,FALSE))","v":""},null,"",{"$f":"IF(G228=\"\",\"\",VLOOKUP(G228,種目名!$O$5:$T$104,3,0))","v":""},{"$f":"IF(J228=\"\",\"\",VLOOKUP(J228,種目名!$O$5:$T$104,3,0))","v":""},{"$f":"IF(M228=\"\",\"\",VLOOKUP(M228,種目名!$O$5:$T$104,3,0))","v":""},{"$f":"IF(P228=\"\",\"\",VLOOKUP(AE228,種目名!$O$5:$T$104,3,0))","v":""},{"$f":"IF(S228=\"\",\"\",VLOOKUP(AH228,種目名!$O$5:$T$104,3,0))","v":""},0,"","",0,"",""]
["",null,{"$f":"IF(B229=\"\",\"\",VLOOKUP(B229,学連登録!$C$2:$G$3000,2,FALSE))","v":""},{"$f":"IF(B229=\"\",\"\",VLOOKUP(B229,学連登録!$C$2:$G$3000,3,FALSE))","v":""},{"$f":"IF(B229=\"\",\"\",VLOOKUP(B229,学連登録!$C$2:$G$3000,4,FALSE))","v":""},"",null,null,null,null,null,null,null,null,null,null,null,null,null,null,null,{"$f":"IF(B229=\"\",\"\",VLOOKUP(B229,学連登録!$C$2:$H$3000,6,FALSE))","v":""},null,"",{"$f":"IF(G229=\"\",\"\",VLOOKUP(G229,種目名!$O$5:$T$104,3,0))","v":""},{"$f":"IF(J229=\"\",\"\",VLOOKUP(J229,種目名!$O$5:$T$104,3,0))","v":""},{"$f":"IF(M229=\"\",\"\",VLOOKUP(M229,種目名!$O$5:$T$104,3,0))","v":""},{"$f":"IF(P229=\"\",\"\",VLOOKUP(AE229,種目名!$O$5:$T$104,3,0))","v":""},{"$f":"IF(S229=\"\",\"\",VLOOKUP(AH229,種目名!$O$5:$T$104,3,0))","v":""},0,"","",0,"",""]
["",null,{"$f":"IF(B230=\"\",\"\",VLOOKUP(B230,学連登録!$C$2:$G$3000,2,FALSE))","v":""},{"$f":"IF(B230=\"\",\"\",VLOOKUP(B230,学連登録!$C$2:$G$3000,3,FALSE))","v":""},{"$f":"IF(B230=\"\",\"\",VLOOKUP(B230,学連登録!$C$2:$G$3000,4,FALSE))","v":""},"",null,null,null,null,null,null,null,null,null,null,null,null,null,null,null,{"$f":"IF(B230=\"\",\"\",VLOOKUP(B230,学連登録!$C$2:$H$3000,6,FALSE))","v":""},null,"",{"$f":"IF(G230=\"\",\"\",VLOOKUP(G230,種目名!$O$5:$T$104,3,0))","v":""},{"$f":"IF(J230=\"\",\"\",VLOOKUP(J230,種目名!$O$5:$T$104,3,0))","v":""},{"$f":"IF(M230=\"\",\"\",VLOOKUP(M230,種目名!$O$5:$T$104,3,0))","v":""},{"$f":"IF(P230=\"\",\"\",VLOOKUP(AE230,種目名!$O$5:$T$104,3,0))","v":""},{"$f":"IF(S230=\"\",\"\",VLOOKUP(AH230,種目名!$O$5:$T$104,3,0))","v":""},0,"","",0,"",""]
["",null,{"$f":"IF(B231=\"\",\"\",VLOOKUP(B231,学連登録!$C$2:$G$3000,2,FALSE))","v":""},{"$f":"IF(B231=\"\",\"\",VLOOKUP(B231,学連登録!$C$2:$G$3000,3,FALSE))","v":""},{"$f":"IF(B231=\"\",\"\",VLOOKUP(B231,学連登録!$C$2:$G$3000,4,FALSE))","v":""},"",null,null,null,null,null,null,null,null,null,null,null,null,null,null,null,{"$f":"IF(B231=\"\",\"\",VLOOKUP(B231,学連登録!$C$2:$H$3000,6,FALSE))","v":""},null,"",{"$f":"IF(G231=\"\",\"\",VLOOKUP(G231,種目名!$O$5:$T$104,3,0))","v":""},{"$f":"IF(J231=\"\",\"\",VLOOKUP(J231,種目名!$O$5:$T$104,3,0))","v":""},{"$f":"IF(M231=\"\",\"\",VLOOKUP(M231,種目名!$O$5:$T$104,3,0))","v":""},{"$f":"IF(P231=\"\",\"\",VLOOKUP(AE231,種目名!$O$5:$T$104,3,0))","v":""},{"$f":"IF(S231=\"\",\"\",VLOOKUP(AH231,種目名!$O$5:$T$104,3,0))","v":""},0,"","",0,"",""]
["",null,{"$f":"IF(B232=\"\",\"\",VLOOKUP(B232,学連登録!$C$2:$G$3000,2,FALSE))","v":""},{"$f":"IF(B232=\"\",\"\",VLOOKUP(B232,学連登録!$C$2:$G$3000,3,FALSE))","v":""},{"$f":"IF(B232=\"\",\"\",VLOOKUP(B232,学連登録!$C$2:$G$3000,4,FALSE))","v":""},"",null,null,null,null,null,null,null,null,null,null,null,null,null,null,null,{"$f":"IF(B232=\"\",\"\",VLOOKUP(B232,学連登録!$C$2:$H$3000,6,FALSE))","v":""},null,"",{"$f":"IF(G232=\"\",\"\",VLOOKUP(G232,種目名!$O$5:$T$104,3,0))","v":""},{"$f":"IF(J232=\"\",\"\",VLOOKUP(J232,種目名!$O$5:$T$104,3,0))","v":""},{"$f":"IF(M232=\"\",\"\",VLOOKUP(M232,種目名!$O$5:$T$104,3,0))","v":""},{"$f":"IF(P232=\"\",\"\",VLOOKUP(AE232,種目名!$O$5:$T$104,3,0))","v":""},{"$f":"IF(S232=\"\",\"\",VLOOKUP(AH232,種目名!$O$5:$T$104,3,0))","v":""},0,"","",0,"",""]
["",null,{"$f":"IF(B233=\"\",\"\",VLOOKUP(B233,学連登録!$C$2:$G$3000,2,FALSE))","v":""},{"$f":"IF(B233=\"\",\"\",VLOOKUP(B233,学連登録!$C$2:$G$3000,3,FALSE))","v":""},{"$f":"IF(B233=\"\",\"\",VLOOKUP(B233,学連登録!$C$2:$G$3000,4,FALSE))","v":""},"",null,null,null,null,null,null,null,null,null,null,null,null,null,null,null,{"$f":"IF(B233=\"\",\"\",VLOOKUP(B233,学連登録!$C$2:$H$3000,6,FALSE))","v":""},null,"",{"$f":"IF(G233=\"\",\"\",VLOOKUP(G233,種目名!$O$5:$T$104,3,0))","v":""},{"$f":"IF(J233=\"\",\"\",VLOOKUP(J233,種目名!$O$5:$T$104,3,0))","v":""},{"$f":"IF(M233=\"\",\"\",VLOOKUP(M233,種目名!$O$5:$T$104,3,0))","v":""},{"$f":"IF(P233=\"\",\"\",VLOOKUP(AE233,種目名!$O$5:$T$104,3,0))","v":""},{"$f":"IF(S233=\"\",\"\",VLOOKUP(AH233,種目名!$O$5:$T$104,3,0))","v":""},0,"","",0,"",""]
["",null,{"$f":"IF(B234=\"\",\"\",VLOOKUP(B234,学連登録!$C$2:$G$3000,2,FALSE))","v":""},{"$f":"IF(B234=\"\",\"\",VLOOKUP(B234,学連登録!$C$2:$G$3000,3,FALSE))","v":""},{"$f":"IF(B234=\"\",\"\",VLOOKUP(B234,学連登録!$C$2:$G$3000,4,FALSE))","v":""},"",null,null,null,null,null,null,null,null,null,null,null,null,null,null,null,{"$f":"IF(B234=\"\",\"\",VLOOKUP(B234,学連登録!$C$2:$H$3000,6,FALSE))","v":""},null,"",{"$f":"IF(G234=\"\",\"\",VLOOKUP(G234,種目名!$O$5:$T$104,3,0))","v":""},{"$f":"IF(J234=\"\",\"\",VLOOKUP(J234,種目名!$O$5:$T$104,3,0))","v":""},{"$f":"IF(M234=\"\",\"\",VLOOKUP(M234,種目名!$O$5:$T$104,3,0))","v":""},{"$f":"IF(P234=\"\",\"\",VLOOKUP(AE234,種目名!$O$5:$T$104,3,0))","v":""},{"$f":"IF(S234=\"\",\"\",VLOOKUP(AH234,種目名!$O$5:$T$104,3,0))","v":""},0,"","",0,"",""]
["",null,{"$f":"IF(B235=\"\",\"\",VLOOKUP(B235,学連登録!$C$2:$G$3000,2,FALSE))","v":""},{"$f":"IF(B235=\"\",\"\",VLOOKUP(B235,学連登録!$C$2:$G$3000,3,FALSE))","v":""},{"$f":"IF(B235=\"\",\"\",VLOOKUP(B235,学連登録!$C$2:$G$3000,4,FALSE))","v":""},"",null,null,null,null,null,null,null,null,null,null,null,null,null,null,null,{"$f":"IF(B235=\"\",\"\",VLOOKUP(B235,学連登録!$C$2:$H$3000,6,FALSE))","v":""},null,"",{"$f":"IF(G235=\"\",\"\",VLOOKUP(G235,種目名!$O$5:$T$104,3,0))","v":""},{"$f":"IF(J235=\"\",\"\",VLOOKUP(J235,種目名!$O$5:$T$104,3,0))","v":""},{"$f":"IF(M235=\"\",\"\",VLOOKUP(M235,種目名!$O$5:$T$104,3,0))","v":""},{"$f":"IF(P235=\"\",\"\",VLOOKUP(AE235,種目名!$O$5:$T$104,3,0))","v":""},{"$f":"IF(S235=\"\",\"\",VLOOKUP(AH235,種目名!$O$5:$T$104,3,0))","v":""},0,"","",0,"",""]
["",null,{"$f":"IF(B236=\"\",\"\",VLOOKUP(B236,学連登録!$C$2:$G$3000,2,FALSE))","v":""},{"$f":"IF(B236=\"\",\"\",VLOOKUP(B236,学連登録!$C$2:$G$3000,3,FALSE))","v":""},{"$f":"IF(B236=\"\",\"\",VLOOKUP(B236,学連登録!$C$2:$G$3000,4,FALSE))","v":""},"",null,null,null,null,null,null,null,null,null,null,null,null,null,null,null,{"$f":"IF(B236=\"\",\"\",VLOOKUP(B236,学連登録!$C$2:$H$3000,6,FALSE))","v":""},null,"",{"$f":"IF(G236=\"\",\"\",VLOOKUP(G236,種目名!$O$5:$T$104,3,0))","v":""},{"$f":"IF(J236=\"\",\"\",VLOOKUP(J236,種目名!$O$5:$T$104,3,0))","v":""},{"$f":"IF(M236=\"\",\"\",VLOOKUP(M236,種目名!$O$5:$T$104,3,0))","v":""},{"$f":"IF(P236=\"\",\"\",VLOOKUP(AE236,種目名!$O$5:$T$104,3,0))","v":""},{"$f":"IF(S236=\"\",\"\",VLOOKUP(AH236,種目名!$O$5:$T$104,3,0))","v":""},0,"","",0,"",""]
["",null,{"$f":"IF(B237=\"\",\"\",VLOOKUP(B237,学連登録!$C$2:$G$3000,2,FALSE))","v":""},{"$f":"IF(B237=\"\",\"\",VLOOKUP(B237,学連登録!$C$2:$G$3000,3,FALSE))","v":""},{"$f":"IF(B237=\"\",\"\",VLOOKUP(B237,学連登録!$C$2:$G$3000,4,FALSE))","v":""},"",null,null,null,null,null,null,null,null,null,null,null,null,null,null,null,{"$f":"IF(B237=\"\",\"\",VLOOKUP(B237,学連登録!$C$2:$H$3000,6,FALSE))","v":""},null,"",{"$f":"IF(G237=\"\",\"\",VLOOKUP(G237,種目名!$O$5:$T$104,3,0))","v":""},{"$f":"IF(J237=\"\",\"\",VLOOKUP(J237,種目名!$O$5:$T$104,3,0))","v":""},{"$f":"IF(M237=\"\",\"\",VLOOKUP(M237,種目名!$O$5:$T$104,3,0))","v":""},{"$f":"IF(P237=\"\",\"\",VLOOKUP(AE237,種目名!$O$5:$T$104,3,0))","v":""},{"$f":"IF(S237=\"\",\"\",VLOOKUP(AH237,種目名!$O$5:$T$104,3,0))","v":""},0,"","",0,"",""]
["",null,{"$f":"IF(B238=\"\",\"\",VLOOKUP(B238,学連登録!$C$2:$G$3000,2,FALSE))","v":""},{"$f":"IF(B238=\"\",\"\",VLOOKUP(B238,学連登録!$C$2:$G$3000,3,FALSE))","v":""},{"$f":"IF(B238=\"\",\"\",VLOOKUP(B238,学連登録!$C$2:$G$3000,4,FALSE))","v":""},"",null,null,null,null,null,null,null,null,null,null,null,null,null,null,null,{"$f":"IF(B238=\"\",\"\",VLOOKUP(B238,学連登録!$C$2:$H$3000,6,FALSE))","v":""},null,"",{"$f":"IF(G238=\"\",\"\",VLOOKUP(G238,種目名!$O$5:$T$104,3,0))","v":""},{"$f":"IF(J238=\"\",\"\",VLOOKUP(J238,種目名!$O$5:$T$104,3,0))","v":""},{"$f":"IF(M238=\"\",\"\",VLOOKUP(M238,種目名!$O$5:$T$104,3,0))","v":""},{"$f":"IF(P238=\"\",\"\",VLOOKUP(AE238,種目名!$O$5:$T$104,3,0))","v":""},{"$f":"IF(S238=\"\",\"\",VLOOKUP(AH238,種目名!$O$5:$T$104,3,0))","v":""},0,"","",0,"",""]
["",null,{"$f":"IF(B239=\"\",\"\",VLOOKUP(B239,学連登録!$C$2:$G$3000,2,FALSE))","v":""},{"$f":"IF(B239=\"\",\"\",VLOOKUP(B239,学連登録!$C$2:$G$3000,3,FALSE))","v":""},{"$f":"IF(B239=\"\",\"\",VLOOKUP(B239,学連登録!$C$2:$G$3000,4,FALSE))","v":""},"",null,null,null,null,null,null,null,null,null,null,null,null,null,null,null,{"$f":"IF(B239=\"\",\"\",VLOOKUP(B239,学連登録!$C$2:$H$3000,6,FALSE))","v":""},null,"",{"$f":"IF(G239=\"\",\"\",VLOOKUP(G239,種目名!$O$5:$T$104,3,0))","v":""},{"$f":"IF(J239=\"\",\"\",VLOOKUP(J239,種目名!$O$5:$T$104,3,0))","v":""},{"$f":"IF(M239=\"\",\"\",VLOOKUP(M239,種目名!$O$5:$T$104,3,0))","v":""},{"$f":"IF(P239=\"\",\"\",VLOOKUP(AE239,種目名!$O$5:$T$104,3,0))","v":""},{"$f":"IF(S239=\"\",\"\",VLOOKUP(AH239,種目名!$O$5:$T$104,3,0))","v":""},0,"","",0,"",""]
["",null,{"$f":"IF(B240=\"\",\"\",VLOOKUP(B240,学連登録!$C$2:$G$3000,2,FALSE))","v":""},{"$f":"IF(B240=\"\",\"\",VLOOKUP(B240,学連登録!$C$2:$G$3000,3,FALSE))","v":""},{"$f":"IF(B240=\"\",\"\",VLOOKUP(B240,学連登録!$C$2:$G$3000,4,FALSE))","v":""},"",null,null,null,null,null,null,null,null,null,null,null,null,null,null,null,{"$f":"IF(B240=\"\",\"\",VLOOKUP(B240,学連登録!$C$2:$H$3000,6,FALSE))","v":""},null,"",{"$f":"IF(G240=\"\",\"\",VLOOKUP(G240,種目名!$O$5:$T$104,3,0))","v":""},{"$f":"IF(J240=\"\",\"\",VLOOKUP(J240,種目名!$O$5:$T$104,3,0))","v":""},{"$f":"IF(M240=\"\",\"\",VLOOKUP(M240,種目名!$O$5:$T$104,3,0))","v":""},{"$f":"IF(P240=\"\",\"\",VLOOKUP(AE240,種目名!$O$5:$T$104,3,0))","v":""},{"$f":"IF(S240=\"\",\"\",VLOOKUP(AH240,種目名!$O$5:$T$104,3,0))","v":""},0,"","",0,"",""]
["",null,{"$f":"IF(B241=\"\",\"\",VLOOKUP(B241,学連登録!$C$2:$G$3000,2,FALSE))","v":""},{"$f":"IF(B241=\"\",\"\",VLOOKUP(B241,学連登録!$C$2:$G$3000,3,FALSE))","v":""},{"$f":"IF(B241=\"\",\"\",VLOOKUP(B241,学連登録!$C$2:$G$3000,4,FALSE))","v":""},"",null,null,null,null,null,null,null,null,null,null,null,null,null,null,null,{"$f":"IF(B241=\"\",\"\",VLOOKUP(B241,学連登録!$C$2:$H$3000,6,FALSE))","v":""},null,"",{"$f":"IF(G241=\"\",\"\",VLOOKUP(G241,種目名!$O$5:$T$104,3,0))","v":""},{"$f":"IF(J241=\"\",\"\",VLOOKUP(J241,種目名!$O$5:$T$104,3,0))","v":""},{"$f":"IF(M241=\"\",\"\",VLOOKUP(M241,種目名!$O$5:$T$104,3,0))","v":""},{"$f":"IF(P241=\"\",\"\",VLOOKUP(AE241,種目名!$O$5:$T$104,3,0))","v":""},{"$f":"IF(S241=\"\",\"\",VLOOKUP(AH241,種目名!$O$5:$T$104,3,0))","v":""},0,"","",0,"",""]
["",null,{"$f":"IF(B242=\"\",\"\",VLOOKUP(B242,学連登録!$C$2:$G$3000,2,FALSE))","v":""},{"$f":"IF(B242=\"\",\"\",VLOOKUP(B242,学連登録!$C$2:$G$3000,3,FALSE))","v":""},{"$f":"IF(B242=\"\",\"\",VLOOKUP(B242,学連登録!$C$2:$G$3000,4,FALSE))","v":""},"",null,null,null,null,null,null,null,null,null,null,null,null,null,null,null,{"$f":"IF(B242=\"\",\"\",VLOOKUP(B242,学連登録!$C$2:$H$3000,6,FALSE))","v":""},null,"",{"$f":"IF(G242=\"\",\"\",VLOOKUP(G242,種目名!$O$5:$T$104,3,0))","v":""},{"$f":"IF(J242=\"\",\"\",VLOOKUP(J242,種目名!$O$5:$T$104,3,0))","v":""},{"$f":"IF(M242=\"\",\"\",VLOOKUP(M242,種目名!$O$5:$T$104,3,0))","v":""},{"$f":"IF(P242=\"\",\"\",VLOOKUP(AE242,種目名!$O$5:$T$104,3,0))","v":""},{"$f":"IF(S242=\"\",\"\",VLOOKUP(AH242,種目名!$O$5:$T$104,3,0))","v":""},0,"","",0,"",""]
["",null,{"$f":"IF(B243=\"\",\"\",VLOOKUP(B243,学連登録!$C$2:$G$3000,2,FALSE))","v":""},{"$f":"IF(B243=\"\",\"\",VLOOKUP(B243,学連登録!$C$2:$G$3000,3,FALSE))","v":""},{"$f":"IF(B243=\"\",\"\",VLOOKUP(B243,学連登録!$C$2:$G$3000,4,FALSE))","v":""},"",null,null,null,null,null,null,null,null,null,null,null,null,null,null,null,{"$f":"IF(B243=\"\",\"\",VLOOKUP(B243,学連登録!$C$2:$H$3000,6,FALSE))","v":""},null,"",{"$f":"IF(G243=\"\",\"\",VLOOKUP(G243,種目名!$O$5:$T$104,3,0))","v":""},{"$f":"IF(J243=\"\",\"\",VLOOKUP(J243,種目名!$O$5:$T$104,3,0))","v":""},{"$f":"IF(M243=\"\",\"\",VLOOKUP(M243,種目名!$O$5:$T$104,3,0))","v":""},{"$f":"IF(P243=\"\",\"\",VLOOKUP(AE243,種目名!$O$5:$T$104,3,0))","v":""},{"$f":"IF(S243=\"\",\"\",VLOOKUP(AH243,種目名!$O$5:$T$104,3,0))","v":""},0,"","",0,"",""]
["",null,{"$f":"IF(B244=\"\",\"\",VLOOKUP(B244,学連登録!$C$2:$G$3000,2,FALSE))","v":""},{"$f":"IF(B244=\"\",\"\",VLOOKUP(B244,学連登録!$C$2:$G$3000,3,FALSE))","v":""},{"$f":"IF(B244=\"\",\"\",VLOOKUP(B244,学連登録!$C$2:$G$3000,4,FALSE))","v":""},"",null,null,null,null,null,null,null,null,null,null,null,null,null,null,null,{"$f":"IF(B244=\"\",\"\",VLOOKUP(B244,学連登録!$C$2:$H$3000,6,FALSE))","v":""},null,"",{"$f":"IF(G244=\"\",\"\",VLOOKUP(G244,種目名!$O$5:$T$104,3,0))","v":""},{"$f":"IF(J244=\"\",\"\",VLOOKUP(J244,種目名!$O$5:$T$104,3,0))","v":""},{"$f":"IF(M244=\"\",\"\",VLOOKUP(M244,種目名!$O$5:$T$104,3,0))","v":""},{"$f":"IF(P244=\"\",\"\",VLOOKUP(AE244,種目名!$O$5:$T$104,3,0))","v":""},{"$f":"IF(S244=\"\",\"\",VLOOKUP(AH244,種目名!$O$5:$T$104,3,0))","v":""},0,"","",0,"",""]
["",null,{"$f":"IF(B245=\"\",\"\",VLOOKUP(B245,学連登録!$C$2:$G$3000,2,FALSE))","v":""},{"$f":"IF(B245=\"\",\"\",VLOOKUP(B245,学連登録!$C$2:$G$3000,3,FALSE))","v":""},{"$f":"IF(B245=\"\",\"\",VLOOKUP(B245,学連登録!$C$2:$G$3000,4,FALSE))","v":""},"",null,null,null,null,null,null,null,null,null,null,null,null,null,null,null,{"$f":"IF(B245=\"\",\"\",VLOOKUP(B245,学連登録!$C$2:$H$3000,6,FALSE))","v":""},null,"",{"$f":"IF(G245=\"\",\"\",VLOOKUP(G245,種目名!$O$5:$T$104,3,0))","v":""},{"$f":"IF(J245=\"\",\"\",VLOOKUP(J245,種目名!$O$5:$T$104,3,0))","v":""},{"$f":"IF(M245=\"\",\"\",VLOOKUP(M245,種目名!$O$5:$T$104,3,0))","v":""},{"$f":"IF(P245=\"\",\"\",VLOOKUP(AE245,種目名!$O$5:$T$104,3,0))","v":""},{"$f":"IF(S245=\"\",\"\",VLOOKUP(AH245,種目名!$O$5:$T$104,3,0))","v":""},0,"","",0,"",""]
["",null,{"$f":"IF(B246=\"\",\"\",VLOOKUP(B246,学連登録!$C$2:$G$3000,2,FALSE))","v":""},{"$f":"IF(B246=\"\",\"\",VLOOKUP(B246,学連登録!$C$2:$G$3000,3,FALSE))","v":""},{"$f":"IF(B246=\"\",\"\",VLOOKUP(B246,学連登録!$C$2:$G$3000,4,FALSE))","v":""},"",null,null,null,null,null,null,null,null,null,null,null,null,null,null,null,{"$f":"IF(B246=\"\",\"\",VLOOKUP(B246,学連登録!$C$2:$H$3000,6,FALSE))","v":""},null,"",{"$f":"IF(G246=\"\",\"\",VLOOKUP(G246,種目名!$O$5:$T$104,3,0))","v":""},{"$f":"IF(J246=\"\",\"\",VLOOKUP(J246,種目名!$O$5:$T$104,3,0))","v":""},{"$f":"IF(M246=\"\",\"\",VLOOKUP(M246,種目名!$O$5:$T$104,3,0))","v":""},{"$f":"IF(P246=\"\",\"\",VLOOKUP(AE246,種目名!$O$5:$T$104,3,0))","v":""},{"$f":"IF(S246=\"\",\"\",VLOOKUP(AH246,種目名!$O$5:$T$104,3,0))","v":""},0,"","",0,"",""]
["",null,{"$f":"IF(B247=\"\",\"\",VLOOKUP(B247,学連登録!$C$2:$G$3000,2,FALSE))","v":""},{"$f":"IF(B247=\"\",\"\",VLOOKUP(B247,学連登録!$C$2:$G$3000,3,FALSE))","v":""},{"$f":"IF(B247=\"\",\"\",VLOOKUP(B247,学連登録!$C$2:$G$3000,4,FALSE))","v":""},"",null,null,null,null,null,null,null,null,null,null,null,null,null,null,null,{"$f":"IF(B247=\"\",\"\",VLOOKUP(B247,学連登録!$C$2:$H$3000,6,FALSE))","v":""},null,"",{"$f":"IF(G247=\"\",\"\",VLOOKUP(G247,種目名!$O$5:$T$104,3,0))","v":""},{"$f":"IF(J247=\"\",\"\",VLOOKUP(J247,種目名!$O$5:$T$104,3,0))","v":""},{"$f":"IF(M247=\"\",\"\",VLOOKUP(M247,種目名!$O$5:$T$104,3,0))","v":""},{"$f":"IF(P247=\"\",\"\",VLOOKUP(AE247,種目名!$O$5:$T$104,3,0))","v":""},{"$f":"IF(S247=\"\",\"\",VLOOKUP(AH247,種目名!$O$5:$T$104,3,0))","v":""},0,"","",0,"",""]
["",null,{"$f":"IF(B248=\"\",\"\",VLOOKUP(B248,学連登録!$C$2:$G$3000,2,FALSE))","v":""},{"$f":"IF(B248=\"\",\"\",VLOOKUP(B248,学連登録!$C$2:$G$3000,3,FALSE))","v":""},{"$f":"IF(B248=\"\",\"\",VLOOKUP(B248,学連登録!$C$2:$G$3000,4,FALSE))","v":""},"",null,null,null,null,null,null,null,null,null,null,null,null,null,null,null,{"$f":"IF(B248=\"\",\"\",VLOOKUP(B248,学連登録!$C$2:$H$3000,6,FALSE))","v":""},null,"",{"$f":"IF(G248=\"\",\"\",VLOOKUP(G248,種目名!$O$5:$T$104,3,0))","v":""},{"$f":"IF(J248=\"\",\"\",VLOOKUP(J248,種目名!$O$5:$T$104,3,0))","v":""},{"$f":"IF(M248=\"\",\"\",VLOOKUP(M248,種目名!$O$5:$T$104,3,0))","v":""},{"$f":"IF(P248=\"\",\"\",VLOOKUP(AE248,種目名!$O$5:$T$104,3,0))","v":""},{"$f":"IF(S248=\"\",\"\",VLOOKUP(AH248,種目名!$O$5:$T$104,3,0))","v":""},0,"","",0,"",""]
["",null,{"$f":"IF(B249=\"\",\"\",VLOOKUP(B249,学連登録!$C$2:$G$3000,2,FALSE))","v":""},{"$f":"IF(B249=\"\",\"\",VLOOKUP(B249,学連登録!$C$2:$G$3000,3,FALSE))","v":""},{"$f":"IF(B249=\"\",\"\",VLOOKUP(B249,学連登録!$C$2:$G$3000,4,FALSE))","v":""},"",null,null,null,null,null,null,null,null,null,null,null,null,null,null,null,{"$f":"IF(B249=\"\",\"\",VLOOKUP(B249,学連登録!$C$2:$H$3000,6,FALSE))","v":""},null,"",{"$f":"IF(G249=\"\",\"\",VLOOKUP(G249,種目名!$O$5:$T$104,3,0))","v":""},{"$f":"IF(J249=\"\",\"\",VLOOKUP(J249,種目名!$O$5:$T$104,3,0))","v":""},{"$f":"IF(M249=\"\",\"\",VLOOKUP(M249,種目名!$O$5:$T$104,3,0))","v":""},{"$f":"IF(P249=\"\",\"\",VLOOKUP(AE249,種目名!$O$5:$T$104,3,0))","v":""},{"$f":"IF(S249=\"\",\"\",VLOOKUP(AH249,種目名!$O$5:$T$104,3,0))","v":""},0,"","",0,"",""]
["",null,{"$f":"IF(B250=\"\",\"\",VLOOKUP(B250,学連登録!$C$2:$G$3000,2,FALSE))","v":""},{"$f":"IF(B250=\"\",\"\",VLOOKUP(B250,学連登録!$C$2:$G$3000,3,FALSE))","v":""},{"$f":"IF(B250=\"\",\"\",VLOOKUP(B250,学連登録!$C$2:$G$3000,4,FALSE))","v":""},"",null,null,null,null,null,null,null,null,null,null,null,null,null,null,null,{"$f":"IF(B250=\"\",\"\",VLOOKUP(B250,学連登録!$C$2:$H$3000,6,FALSE))","v":""},null,"",{"$f":"IF(G250=\"\",\"\",VLOOKUP(G250,種目名!$O$5:$T$104,3,0))","v":""},{"$f":"IF(J250=\"\",\"\",VLOOKUP(J250,種目名!$O$5:$T$104,3,0))","v":""},{"$f":"IF(M250=\"\",\"\",VLOOKUP(M250,種目名!$O$5:$T$104,3,0))","v":""},{"$f":"IF(P250=\"\",\"\",VLOOKUP(AE250,種目名!$O$5:$T$104,3,0))","v":""},{"$f":"IF(S250=\"\",\"\",VLOOKUP(AH250,種目名!$O$5:$T$104,3,0))","v":""},0,"","",0,"",""]
["",null,{"$f":"IF(B251=\"\",\"\",VLOOKUP(B251,学連登録!$C$2:$G$3000,2,FALSE))","v":""},{"$f":"IF(B251=\"\",\"\",VLOOKUP(B251,学連登録!$C$2:$G$3000,3,FALSE))","v":""},{"$f":"IF(B251=\"\",\"\",VLOOKUP(B251,学連登録!$C$2:$G$3000,4,FALSE))","v":""},"",null,null,null,null,null,null,null,null,null,null,null,null,null,null,null,{"$f":"IF(B251=\"\",\"\",VLOOKUP(B251,学連登録!$C$2:$H$3000,6,FALSE))","v":""},null,"",{"$f":"IF(G251=\"\",\"\",VLOOKUP(G251,種目名!$O$5:$T$104,3,0))","v":""},{"$f":"IF(J251=\"\",\"\",VLOOKUP(J251,種目名!$O$5:$T$104,3,0))","v":""},{"$f":"IF(M251=\"\",\"\",VLOOKUP(M251,種目名!$O$5:$T$104,3,0))","v":""},{"$f":"IF(P251=\"\",\"\",VLOOKUP(AE251,種目名!$O$5:$T$104,3,0))","v":""},{"$f":"IF(S251=\"\",\"\",VLOOKUP(AH251,種目名!$O$5:$T$104,3,0))","v":""},0,"","",0,"",""]
["",null,{"$f":"IF(B252=\"\",\"\",VLOOKUP(B252,学連登録!$C$2:$G$3000,2,FALSE))","v":""},{"$f":"IF(B252=\"\",\"\",VLOOKUP(B252,学連登録!$C$2:$G$3000,3,FALSE))","v":""},{"$f":"IF(B252=\"\",\"\",VLOOKUP(B252,学連登録!$C$2:$G$3000,4,FALSE))","v":""},"",null,null,null,null,null,null,null,null,null,null,null,null,null,null,null,{"$f":"IF(B252=\"\",\"\",VLOOKUP(B252,学連登録!$C$2:$H$3000,6,FALSE))","v":""},null,"",{"$f":"IF(G252=\"\",\"\",VLOOKUP(G252,種目名!$O$5:$T$104,3,0))","v":""},{"$f":"IF(J252=\"\",\"\",VLOOKUP(J252,種目名!$O$5:$T$104,3,0))","v":""},{"$f":"IF(M252=\"\",\"\",VLOOKUP(M252,種目名!$O$5:$T$104,3,0))","v":""},{"$f":"IF(P252=\"\",\"\",VLOOKUP(AE252,種目名!$O$5:$T$104,3,0))","v":""},{"$f":"IF(S252=\"\",\"\",VLOOKUP(AH252,種目名!$O$5:$T$104,3,0))","v":""},0,"","",0,"",""]
["",null,{"$f":"IF(B253=\"\",\"\",VLOOKUP(B253,学連登録!$C$2:$G$3000,2,FALSE))","v":""},{"$f":"IF(B253=\"\",\"\",VLOOKUP(B253,学連登録!$C$2:$G$3000,3,FALSE))","v":""},{"$f":"IF(B253=\"\",\"\",VLOOKUP(B253,学連登録!$C$2:$G$3000,4,FALSE))","v":""},"",null,null,null,null,null,null,null,null,null,null,null,null,null,null,null,{"$f":"IF(B253=\"\",\"\",VLOOKUP(B253,学連登録!$C$2:$H$3000,6,FALSE))","v":""},null,"",{"$f":"IF(G253=\"\",\"\",VLOOKUP(G253,種目名!$O$5:$T$104,3,0))","v":""},{"$f":"IF(J253=\"\",\"\",VLOOKUP(J253,種目名!$O$5:$T$104,3,0))","v":""},{"$f":"IF(M253=\"\",\"\",VLOOKUP(M253,種目名!$O$5:$T$104,3,0))","v":""},{"$f":"IF(P253=\"\",\"\",VLOOKUP(AE253,種目名!$O$5:$T$104,3,0))","v":""},{"$f":"IF(S253=\"\",\"\",VLOOKUP(AH253,種目名!$O$5:$T$104,3,0))","v":""},0,"","",0,"",""]
["",null,{"$f":"IF(B254=\"\",\"\",VLOOKUP(B254,学連登録!$C$2:$G$3000,2,FALSE))","v":""},{"$f":"IF(B254=\"\",\"\",VLOOKUP(B254,学連登録!$C$2:$G$3000,3,FALSE))","v":""},{"$f":"IF(B254=\"\",\"\",VLOOKUP(B254,学連登録!$C$2:$G$3000,4,FALSE))","v":""},"",null,null,null,null,null,null,null,null,null,null,null,null,null,null,null,{"$f":"IF(B254=\"\",\"\",VLOOKUP(B254,学連登録!$C$2:$H$3000,6,FALSE))","v":""},null,"",{"$f":"IF(G254=\"\",\"\",VLOOKUP(G254,種目名!$O$5:$T$104,3,0))","v":""},{"$f":"IF(J254=\"\",\"\",VLOOKUP(J254,種目名!$O$5:$T$104,3,0))","v":""},{"$f":"IF(M254=\"\",\"\",VLOOKUP(M254,種目名!$O$5:$T$104,3,0))","v":""},{"$f":"IF(P254=\"\",\"\",VLOOKUP(AE254,種目名!$O$5:$T$104,3,0))","v":""},{"$f":"IF(S254=\"\",\"\",VLOOKUP(AH254,種目名!$O$5:$T$104,3,0))","v":""},0,"","",0,"",""]
["",null,{"$f":"IF(B255=\"\",\"\",VLOOKUP(B255,学連登録!$C$2:$G$3000,2,FALSE))","v":""},{"$f":"IF(B255=\"\",\"\",VLOOKUP(B255,学連登録!$C$2:$G$3000,3,FALSE))","v":""},{"$f":"IF(B255=\"\",\"\",VLOOKUP(B255,学連登録!$C$2:$G$3000,4,FALSE))","v":""},"",null,null,null,null,null,null,null,null,null,null,null,null,null,null,null,{"$f":"IF(B255=\"\",\"\",VLOOKUP(B255,学連登録!$C$2:$H$3000,6,FALSE))","v":""},null,"",{"$f":"IF(G255=\"\",\"\",VLOOKUP(G255,種目名!$O$5:$T$104,3,0))","v":""},{"$f":"IF(J255=\"\",\"\",VLOOKUP(J255,種目名!$O$5:$T$104,3,0))","v":""},{"$f":"IF(M255=\"\",\"\",VLOOKUP(M255,種目名!$O$5:$T$104,3,0))","v":""},{"$f":"IF(P255=\"\",\"\",VLOOKUP(AE255,種目名!$O$5:$T$104,3,0))","v":""},{"$f":"IF(S255=\"\",\"\",VLOOKUP(AH255,種目名!$O$5:$T$104,3,0))","v":""},0,"","",0,"",""]
["",null,{"$f":"IF(B256=\"\",\"\",VLOOKUP(B256,学連登録!$C$2:$G$3000,2,FALSE))","v":""},{"$f":"IF(B256=\"\",\"\",VLOOKUP(B256,学連登録!$C$2:$G$3000,3,FALSE))","v":""},{"$f":"IF(B256=\"\",\"\",VLOOKUP(B256,学連登録!$C$2:$G$3000,4,FALSE))","v":""},"",null,null,null,null,null,null,null,null,null,null,null,null,null,null,null,{"$f":"IF(B256=\"\",\"\",VLOOKUP(B256,学連登録!$C$2:$H$3000,6,FALSE))","v":""},null,"",{"$f":"IF(G256=\"\",\"\",VLOOKUP(G256,種目名!$O$5:$T$104,3,0))","v":""},{"$f":"IF(J256=\"\",\"\",VLOOKUP(J256,種目名!$O$5:$T$104,3,0))","v":""},{"$f":"IF(M256=\"\",\"\",VLOOKUP(M256,種目名!$O$5:$T$104,3,0))","v":""},{"$f":"IF(P256=\"\",\"\",VLOOKUP(AE256,種目名!$O$5:$T$104,3,0))","v":""},{"$f":"IF(S256=\"\",\"\",VLOOKUP(AH256,種目名!$O$5:$T$104,3,0))","v":""},0,"","",0,"",""]
["",null,{"$f":"IF(B257=\"\",\"\",VLOOKUP(B257,学連登録!$C$2:$G$3000,2,FALSE))","v":""},{"$f":"IF(B257=\"\",\"\",VLOOKUP(B257,学連登録!$C$2:$G$3000,3,FALSE))","v":""},{"$f":"IF(B257=\"\",\"\",VLOOKUP(B257,学連登録!$C$2:$G$3000,4,FALSE))","v":""},"",null,null,null,null,null,null,null,null,null,null,null,null,null,null,null,{"$f":"IF(B257=\"\",\"\",VLOOKUP(B257,学連登録!$C$2:$H$3000,6,FALSE))","v":""},null,"",{"$f":"IF(G257=\"\",\"\",VLOOKUP(G257,種目名!$O$5:$T$104,3,0))","v":""},{"$f":"IF(J257=\"\",\"\",VLOOKUP(J257,種目名!$O$5:$T$104,3,0))","v":""},{"$f":"IF(M257=\"\",\"\",VLOOKUP(M257,種目名!$O$5:$T$104,3,0))","v":""},{"$f":"IF(P257=\"\",\"\",VLOOKUP(AE257,種目名!$O$5:$T$104,3,0))","v":""},{"$f":"IF(S257=\"\",\"\",VLOOKUP(AH257,種目名!$O$5:$T$104,3,0))","v":""},0,"","",0,"",""]
["",null,{"$f":"IF(B258=\"\",\"\",VLOOKUP(B258,学連登録!$C$2:$G$3000,2,FALSE))","v":""},{"$f":"IF(B258=\"\",\"\",VLOOKUP(B258,学連登録!$C$2:$G$3000,3,FALSE))","v":""},{"$f":"IF(B258=\"\",\"\",VLOOKUP(B258,学連登録!$C$2:$G$3000,4,FALSE))","v":""},"",null,null,null,null,null,null,null,null,null,null,null,null,null,null,null,{"$f":"IF(B258=\"\",\"\",VLOOKUP(B258,学連登録!$C$2:$H$3000,6,FALSE))","v":""},null,"",{"$f":"IF(G258=\"\",\"\",VLOOKUP(G258,種目名!$O$5:$T$104,3,0))","v":""},{"$f":"IF(J258=\"\",\"\",VLOOKUP(J258,種目名!$O$5:$T$104,3,0))","v":""},{"$f":"IF(M258=\"\",\"\",VLOOKUP(M258,種目名!$O$5:$T$104,3,0))","v":""},{"$f":"IF(P258=\"\",\"\",VLOOKUP(AE258,種目名!$O$5:$T$104,3,0))","v":""},{"$f":"IF(S258=\"\",\"\",VLOOKUP(AH258,種目名!$O$5:$T$104,3,0))","v":""},0,"","",0,"",""]
["",null,{"$f":"IF(B259=\"\",\"\",VLOOKUP(B259,学連登録!$C$2:$G$3000,2,FALSE))","v":""},{"$f":"IF(B259=\"\",\"\",VLOOKUP(B259,学連登録!$C$2:$G$3000,3,FALSE))","v":""},{"$f":"IF(B259=\"\",\"\",VLOOKUP(B259,学連登録!$C$2:$G$3000,4,FALSE))","v":""},"",null,null,null,null,null,null,null,null,null,null,null,null,null,null,null,{"$f":"IF(B259=\"\",\"\",VLOOKUP(B259,学連登録!$C$2:$H$3000,6,FALSE))","v":""},null,"",{"$f":"IF(G259=\"\",\"\",VLOOKUP(G259,種目名!$O$5:$T$104,3,0))","v":""},{"$f":"IF(J259=\"\",\"\",VLOOKUP(J259,種目名!$O$5:$T$104,3,0))","v":""},{"$f":"IF(M259=\"\",\"\",VLOOKUP(M259,種目名!$O$5:$T$104,3,0))","v":""},{"$f":"IF(P259=\"\",\"\",VLOOKUP(AE259,種目名!$O$5:$T$104,3,0))","v":""},{"$f":"IF(S259=\"\",\"\",VLOOKUP(AH259,種目名!$O$5:$T$104,3,0))","v":""},0,"","",0,"",""]
["",null,{"$f":"IF(B260=\"\",\"\",VLOOKUP(B260,学連登録!$C$2:$G$3000,2,FALSE))","v":""},{"$f":"IF(B260=\"\",\"\",VLOOKUP(B260,学連登録!$C$2:$G$3000,3,FALSE))","v":""},{"$f":"IF(B260=\"\",\"\",VLOOKUP(B260,学連登録!$C$2:$G$3000,4,FALSE))","v":""},"",null,null,null,null,null,null,null,null,null,null,null,null,null,null,null,{"$f":"IF(B260=\"\",\"\",VLOOKUP(B260,学連登録!$C$2:$H$3000,6,FALSE))","v":""},null,"",{"$f":"IF(G260=\"\",\"\",VLOOKUP(G260,種目名!$O$5:$T$104,3,0))","v":""},{"$f":"IF(J260=\"\",\"\",VLOOKUP(J260,種目名!$O$5:$T$104,3,0))","v":""},{"$f":"IF(M260=\"\",\"\",VLOOKUP(M260,種目名!$O$5:$T$104,3,0))","v":""},{"$f":"IF(P260=\"\",\"\",VLOOKUP(AE260,種目名!$O$5:$T$104,3,0))","v":""},{"$f":"IF(S260=\"\",\"\",VLOOKUP(AH260,種目名!$O$5:$T$104,3,0))","v":""},0,"","",0,"",""]
["",null,{"$f":"IF(B261=\"\",\"\",VLOOKUP(B261,学連登録!$C$2:$G$3000,2,FALSE))","v":""},{"$f":"IF(B261=\"\",\"\",VLOOKUP(B261,学連登録!$C$2:$G$3000,3,FALSE))","v":""},{"$f":"IF(B261=\"\",\"\",VLOOKUP(B261,学連登録!$C$2:$G$3000,4,FALSE))","v":""},"",null,null,null,null,null,null,null,null,null,null,null,null,null,null,null,{"$f":"IF(B261=\"\",\"\",VLOOKUP(B261,学連登録!$C$2:$H$3000,6,FALSE))","v":""},null,"",{"$f":"IF(G261=\"\",\"\",VLOOKUP(G261,種目名!$O$5:$T$104,3,0))","v":""},{"$f":"IF(J261=\"\",\"\",VLOOKUP(J261,種目名!$O$5:$T$104,3,0))","v":""},{"$f":"IF(M261=\"\",\"\",VLOOKUP(M261,種目名!$O$5:$T$104,3,0))","v":""},{"$f":"IF(P261=\"\",\"\",VLOOKUP(AE261,種目名!$O$5:$T$104,3,0))","v":""},{"$f":"IF(S261=\"\",\"\",VLOOKUP(AH261,種目名!$O$5:$T$104,3,0))","v":""},0,"","",0,"",""]
["",null,{"$f":"IF(B262=\"\",\"\",VLOOKUP(B262,学連登録!$C$2:$G$3000,2,FALSE))","v":""},{"$f":"IF(B262=\"\",\"\",VLOOKUP(B262,学連登録!$C$2:$G$3000,3,FALSE))","v":""},{"$f":"IF(B262=\"\",\"\",VLOOKUP(B262,学連登録!$C$2:$G$3000,4,FALSE))","v":""},"",null,null,null,null,null,null,null,null,null,null,null,null,null,null,null,{"$f":"IF(B262=\"\",\"\",VLOOKUP(B262,学連登録!$C$2:$H$3000,6,FALSE))","v":""},null,"",{"$f":"IF(G262=\"\",\"\",VLOOKUP(G262,種目名!$O$5:$T$104,3,0))","v":""},{"$f":"IF(J262=\"\",\"\",VLOOKUP(J262,種目名!$O$5:$T$104,3,0))","v":""},{"$f":"IF(M262=\"\",\"\",VLOOKUP(M262,種目名!$O$5:$T$104,3,0))","v":""},{"$f":"IF(P262=\"\",\"\",VLOOKUP(AE262,種目名!$O$5:$T$104,3,0))","v":""},{"$f":"IF(S262=\"\",\"\",VLOOKUP(AH262,種目名!$O$5:$T$104,3,0))","v":""},0,"","",0,"",""]
["",null,{"$f":"IF(B263=\"\",\"\",VLOOKUP(B263,学連登録!$C$2:$G$3000,2,FALSE))","v":""},{"$f":"IF(B263=\"\",\"\",VLOOKUP(B263,学連登録!$C$2:$G$3000,3,FALSE))","v":""},{"$f":"IF(B263=\"\",\"\",VLOOKUP(B263,学連登録!$C$2:$G$3000,4,FALSE))","v":""},"",null,null,null,null,null,null,null,null,null,null,null,null,null,null,null,{"$f":"IF(B263=\"\",\"\",VLOOKUP(B263,学連登録!$C$2:$H$3000,6,FALSE))","v":""},null,"",{"$f":"IF(G263=\"\",\"\",VLOOKUP(G263,種目名!$O$5:$T$104,3,0))","v":""},{"$f":"IF(J263=\"\",\"\",VLOOKUP(J263,種目名!$O$5:$T$104,3,0))","v":""},{"$f":"IF(M263=\"\",\"\",VLOOKUP(M263,種目名!$O$5:$T$104,3,0))","v":""},{"$f":"IF(P263=\"\",\"\",VLOOKUP(AE263,種目名!$O$5:$T$104,3,0))","v":""},{"$f":"IF(S263=\"\",\"\",VLOOKUP(AH263,種目名!$O$5:$T$104,3,0))","v":""},0,"","",0,"",""]
["",null,{"$f":"IF(B264=\"\",\"\",VLOOKUP(B264,学連登録!$C$2:$G$3000,2,FALSE))","v":""},{"$f":"IF(B264=\"\",\"\",VLOOKUP(B264,学連登録!$C$2:$G$3000,3,FALSE))","v":""},{"$f":"IF(B264=\"\",\"\",VLOOKUP(B264,学連登録!$C$2:$G$3000,4,FALSE))","v":""},"",null,null,null,null,null,null,null,null,null,null,null,null,null,null,null,{"$f":"IF(B264=\"\",\"\",VLOOKUP(B264,学連登録!$C$2:$H$3000,6,FALSE))","v":""},null,"",{"$f":"IF(G264=\"\",\"\",VLOOKUP(G264,種目名!$O$5:$T$104,3,0))","v":""},{"$f":"IF(J264=\"\",\"\",VLOOKUP(J264,種目名!$O$5:$T$104,3,0))","v":""},{"$f":"IF(M264=\"\",\"\",VLOOKUP(M264,種目名!$O$5:$T$104,3,0))","v":""},{"$f":"IF(P264=\"\",\"\",VLOOKUP(AE264,種目名!$O$5:$T$104,3,0))","v":""},{"$f":"IF(S264=\"\",\"\",VLOOKUP(AH264,種目名!$O$5:$T$104,3,0))","v":""},0,"","",0,"",""]
["",null,{"$f":"IF(B265=\"\",\"\",VLOOKUP(B265,学連登録!$C$2:$G$3000,2,FALSE))","v":""},{"$f":"IF(B265=\"\",\"\",VLOOKUP(B265,学連登録!$C$2:$G$3000,3,FALSE))","v":""},{"$f":"IF(B265=\"\",\"\",VLOOKUP(B265,学連登録!$C$2:$G$3000,4,FALSE))","v":""},"",null,null,null,null,null,null,null,null,null,null,null,null,null,null,null,{"$f":"IF(B265=\"\",\"\",VLOOKUP(B265,学連登録!$C$2:$H$3000,6,FALSE))","v":""},null,"",{"$f":"IF(G265=\"\",\"\",VLOOKUP(G265,種目名!$O$5:$T$104,3,0))","v":""},{"$f":"IF(J265=\"\",\"\",VLOOKUP(J265,種目名!$O$5:$T$104,3,0))","v":""},{"$f":"IF(M265=\"\",\"\",VLOOKUP(M265,種目名!$O$5:$T$104,3,0))","v":""},{"$f":"IF(P265=\"\",\"\",VLOOKUP(AE265,種目名!$O$5:$T$104,3,0))","v":""},{"$f":"IF(S265=\"\",\"\",VLOOKUP(AH265,種目名!$O$5:$T$104,3,0))","v":""},0,"","",0,"",""]
["",null,{"$f":"IF(B266=\"\",\"\",VLOOKUP(B266,学連登録!$C$2:$G$3000,2,FALSE))","v":""},{"$f":"IF(B266=\"\",\"\",VLOOKUP(B266,学連登録!$C$2:$G$3000,3,FALSE))","v":""},{"$f":"IF(B266=\"\",\"\",VLOOKUP(B266,学連登録!$C$2:$G$3000,4,FALSE))","v":""},"",null,null,null,null,null,null,null,null,null,null,null,null,null,null,null,{"$f":"IF(B266=\"\",\"\",VLOOKUP(B266,学連登録!$C$2:$H$3000,6,FALSE))","v":""},null,"",{"$f":"IF(G266=\"\",\"\",VLOOKUP(G266,種目名!$O$5:$T$104,3,0))","v":""},{"$f":"IF(J266=\"\",\"\",VLOOKUP(J266,種目名!$O$5:$T$104,3,0))","v":""},{"$f":"IF(M266=\"\",\"\",VLOOKUP(M266,種目名!$O$5:$T$104,3,0))","v":""},{"$f":"IF(P266=\"\",\"\",VLOOKUP(AE266,種目名!$O$5:$T$104,3,0))","v":""},{"$f":"IF(S266=\"\",\"\",VLOOKUP(AH266,種目名!$O$5:$T$104,3,0))","v":""},0,"","",0,"",""]
["",null,{"$f":"IF(B267=\"\",\"\",VLOOKUP(B267,学連登録!$C$2:$G$3000,2,FALSE))","v":""},{"$f":"IF(B267=\"\",\"\",VLOOKUP(B267,学連登録!$C$2:$G$3000,3,FALSE))","v":""},{"$f":"IF(B267=\"\",\"\",VLOOKUP(B267,学連登録!$C$2:$G$3000,4,FALSE))","v":""},"",null,null,null,null,null,null,null,null,null,null,null,null,null,null,null,{"$f":"IF(B267=\"\",\"\",VLOOKUP(B267,学連登録!$C$2:$H$3000,6,FALSE))","v":""},null,"",{"$f":"IF(G267=\"\",\"\",VLOOKUP(G267,種目名!$O$5:$T$104,3,0))","v":""},{"$f":"IF(J267=\"\",\"\",VLOOKUP(J267,種目名!$O$5:$T$104,3,0))","v":""},{"$f":"IF(M267=\"\",\"\",VLOOKUP(M267,種目名!$O$5:$T$104,3,0))","v":""},{"$f":"IF(P267=\"\",\"\",VLOOKUP(AE267,種目名!$O$5:$T$104,3,0))","v":""},{"$f":"IF(S267=\"\",\"\",VLOOKUP(AH267,種目名!$O$5:$T$104,3,0))","v":""},0,"","",0,"",""]
["",null,{"$f":"IF(B268=\"\",\"\",VLOOKUP(B268,学連登録!$C$2:$G$3000,2,FALSE))","v":""},{"$f":"IF(B268=\"\",\"\",VLOOKUP(B268,学連登録!$C$2:$G$3000,3,FALSE))","v":""},{"$f":"IF(B268=\"\",\"\",VLOOKUP(B268,学連登録!$C$2:$G$3000,4,FALSE))","v":""},"",null,null,null,null,null,null,null,null,null,null,null,null,null,null,null,{"$f":"IF(B268=\"\",\"\",VLOOKUP(B268,学連登録!$C$2:$H$3000,6,FALSE))","v":""},null,"",{"$f":"IF(G268=\"\",\"\",VLOOKUP(G268,種目名!$O$5:$T$104,3,0))","v":""},{"$f":"IF(J268=\"\",\"\",VLOOKUP(J268,種目名!$O$5:$T$104,3,0))","v":""},{"$f":"IF(M268=\"\",\"\",VLOOKUP(M268,種目名!$O$5:$T$104,3,0))","v":""},{"$f":"IF(P268=\"\",\"\",VLOOKUP(AE268,種目名!$O$5:$T$104,3,0))","v":""},{"$f":"IF(S268=\"\",\"\",VLOOKUP(AH268,種目名!$O$5:$T$104,3,0))","v":""},0,"","",0,"",""]
["",null,{"$f":"IF(B269=\"\",\"\",VLOOKUP(B269,学連登録!$C$2:$G$3000,2,FALSE))","v":""},{"$f":"IF(B269=\"\",\"\",VLOOKUP(B269,学連登録!$C$2:$G$3000,3,FALSE))","v":""},{"$f":"IF(B269=\"\",\"\",VLOOKUP(B269,学連登録!$C$2:$G$3000,4,FALSE))","v":""},"",null,null,null,null,null,null,null,null,null,null,null,null,null,null,null,{"$f":"IF(B269=\"\",\"\",VLOOKUP(B269,学連登録!$C$2:$H$3000,6,FALSE))","v":""},null,"",{"$f":"IF(G269=\"\",\"\",VLOOKUP(G269,種目名!$O$5:$T$104,3,0))","v":""},{"$f":"IF(J269=\"\",\"\",VLOOKUP(J269,種目名!$O$5:$T$104,3,0))","v":""},{"$f":"IF(M269=\"\",\"\",VLOOKUP(M269,種目名!$O$5:$T$104,3,0))","v":""},{"$f":"IF(P269=\"\",\"\",VLOOKUP(AE269,種目名!$O$5:$T$104,3,0))","v":""},{"$f":"IF(S269=\"\",\"\",VLOOKUP(AH269,種目名!$O$5:$T$104,3,0))","v":""},0,"","",0,"",""]
["",null,{"$f":"IF(B270=\"\",\"\",VLOOKUP(B270,学連登録!$C$2:$G$3000,2,FALSE))","v":""},{"$f":"IF(B270=\"\",\"\",VLOOKUP(B270,学連登録!$C$2:$G$3000,3,FALSE))","v":""},{"$f":"IF(B270=\"\",\"\",VLOOKUP(B270,学連登録!$C$2:$G$3000,4,FALSE))","v":""},"",null,null,null,null,null,null,null,null,null,null,null,null,null,null,null,{"$f":"IF(B270=\"\",\"\",VLOOKUP(B270,学連登録!$C$2:$H$3000,6,FALSE))","v":""},null,"",{"$f":"IF(G270=\"\",\"\",VLOOKUP(G270,種目名!$O$5:$T$104,3,0))","v":""},{"$f":"IF(J270=\"\",\"\",VLOOKUP(J270,種目名!$O$5:$T$104,3,0))","v":""},{"$f":"IF(M270=\"\",\"\",VLOOKUP(M270,種目名!$O$5:$T$104,3,0))","v":""},{"$f":"IF(P270=\"\",\"\",VLOOKUP(AE270,種目名!$O$5:$T$104,3,0))","v":""},{"$f":"IF(S270=\"\",\"\",VLOOKUP(AH270,種目名!$O$5:$T$104,3,0))","v":""},0,"","",0,"",""]
["",null,{"$f":"IF(B271=\"\",\"\",VLOOKUP(B271,学連登録!$C$2:$G$3000,2,FALSE))","v":""},{"$f":"IF(B271=\"\",\"\",VLOOKUP(B271,学連登録!$C$2:$G$3000,3,FALSE))","v":""},{"$f":"IF(B271=\"\",\"\",VLOOKUP(B271,学連登録!$C$2:$G$3000,4,FALSE))","v":""},"",null,null,null,null,null,null,null,null,null,null,null,null,null,null,null,{"$f":"IF(B271=\"\",\"\",VLOOKUP(B271,学連登録!$C$2:$H$3000,6,FALSE))","v":""},null,"",{"$f":"IF(G271=\"\",\"\",VLOOKUP(G271,種目名!$O$5:$T$104,3,0))","v":""},{"$f":"IF(J271=\"\",\"\",VLOOKUP(J271,種目名!$O$5:$T$104,3,0))","v":""},{"$f":"IF(M271=\"\",\"\",VLOOKUP(M271,種目名!$O$5:$T$104,3,0))","v":""},{"$f":"IF(P271=\"\",\"\",VLOOKUP(AE271,種目名!$O$5:$T$104,3,0))","v":""},{"$f":"IF(S271=\"\",\"\",VLOOKUP(AH271,種目名!$O$5:$T$104,3,0))","v":""},0,"","",0,"",""]
["",null,{"$f":"IF(B272=\"\",\"\",VLOOKUP(B272,学連登録!$C$2:$G$3000,2,FALSE))","v":""},{"$f":"IF(B272=\"\",\"\",VLOOKUP(B272,学連登録!$C$2:$G$3000,3,FALSE))","v":""},{"$f":"IF(B272=\"\",\"\",VLOOKUP(B272,学連登録!$C$2:$G$3000,4,FALSE))","v":""},"",null,null,null,null,null,null,null,null,null,null,null,null,null,null,null,{"$f":"IF(B272=\"\",\"\",VLOOKUP(B272,学連登録!$C$2:$H$3000,6,FALSE))","v":""},null,"",{"$f":"IF(G272=\"\",\"\",VLOOKUP(G272,種目名!$O$5:$T$104,3,0))","v":""},{"$f":"IF(J272=\"\",\"\",VLOOKUP(J272,種目名!$O$5:$T$104,3,0))","v":""},{"$f":"IF(M272=\"\",\"\",VLOOKUP(M272,種目名!$O$5:$T$104,3,0))","v":""},{"$f":"IF(P272=\"\",\"\",VLOOKUP(AE272,種目名!$O$5:$T$104,3,0))","v":""},{"$f":"IF(S272=\"\",\"\",VLOOKUP(AH272,種目名!$O$5:$T$104,3,0))","v":""},0,"","",0,"",""]
["",null,{"$f":"IF(B273=\"\",\"\",VLOOKUP(B273,学連登録!$C$2:$G$3000,2,FALSE))","v":""},{"$f":"IF(B273=\"\",\"\",VLOOKUP(B273,学連登録!$C$2:$G$3000,3,FALSE))","v":""},{"$f":"IF(B273=\"\",\"\",VLOOKUP(B273,学連登録!$C$2:$G$3000,4,FALSE))","v":""},"",null,null,null,null,null,null,null,null,null,null,null,null,null,null,null,{"$f":"IF(B273=\"\",\"\",VLOOKUP(B273,学連登録!$C$2:$H$3000,6,FALSE))","v":""},null,"",{"$f":"IF(G273=\"\",\"\",VLOOKUP(G273,種目名!$O$5:$T$104,3,0))","v":""},{"$f":"IF(J273=\"\",\"\",VLOOKUP(J273,種目名!$O$5:$T$104,3,0))","v":""},{"$f":"IF(M273=\"\",\"\",VLOOKUP(M273,種目名!$O$5:$T$104,3,0))","v":""},{"$f":"IF(P273=\"\",\"\",VLOOKUP(AE273,種目名!$O$5:$T$104,3,0))","v":""},{"$f":"IF(S273=\"\",\"\",VLOOKUP(AH273,種目名!$O$5:$T$104,3,0))","v":""},0,"","",0,"",""]
["",null,{"$f":"IF(B274=\"\",\"\",VLOOKUP(B274,学連登録!$C$2:$G$3000,2,FALSE))","v":""},{"$f":"IF(B274=\"\",\"\",VLOOKUP(B274,学連登録!$C$2:$G$3000,3,FALSE))","v":""},{"$f":"IF(B274=\"\",\"\",VLOOKUP(B274,学連登録!$C$2:$G$3000,4,FALSE))","v":""},"",null,null,null,null,null,null,null,null,null,null,null,null,null,null,null,{"$f":"IF(B274=\"\",\"\",VLOOKUP(B274,学連登録!$C$2:$H$3000,6,FALSE))","v":""},null,"",{"$f":"IF(G274=\"\",\"\",VLOOKUP(G274,種目名!$O$5:$T$104,3,0))","v":""},{"$f":"IF(J274=\"\",\"\",VLOOKUP(J274,種目名!$O$5:$T$104,3,0))","v":""},{"$f":"IF(M274=\"\",\"\",VLOOKUP(M274,種目名!$O$5:$T$104,3,0))","v":""},{"$f":"IF(P274=\"\",\"\",VLOOKUP(AE274,種目名!$O$5:$T$104,3,0))","v":""},{"$f":"IF(S274=\"\",\"\",VLOOKUP(AH274,種目名!$O$5:$T$104,3,0))","v":""},0,"","",0,"",""]
["",null,{"$f":"IF(B275=\"\",\"\",VLOOKUP(B275,学連登録!$C$2:$G$3000,2,FALSE))","v":""},{"$f":"IF(B275=\"\",\"\",VLOOKUP(B275,学連登録!$C$2:$G$3000,3,FALSE))","v":""},{"$f":"IF(B275=\"\",\"\",VLOOKUP(B275,学連登録!$C$2:$G$3000,4,FALSE))","v":""},"",null,null,null,null,null,null,null,null,null,null,null,null,null,null,null,{"$f":"IF(B275=\"\",\"\",VLOOKUP(B275,学連登録!$C$2:$H$3000,6,FALSE))","v":""},null,"",{"$f":"IF(G275=\"\",\"\",VLOOKUP(G275,種目名!$O$5:$T$104,3,0))","v":""},{"$f":"IF(J275=\"\",\"\",VLOOKUP(J275,種目名!$O$5:$T$104,3,0))","v":""},{"$f":"IF(M275=\"\",\"\",VLOOKUP(M275,種目名!$O$5:$T$104,3,0))","v":""},{"$f":"IF(P275=\"\",\"\",VLOOKUP(AE275,種目名!$O$5:$T$104,3,0))","v":""},{"$f":"IF(S275=\"\",\"\",VLOOKUP(AH275,種目名!$O$5:$T$104,3,0))","v":""},0,"","",0,"",""]
["",null,{"$f":"IF(B276=\"\",\"\",VLOOKUP(B276,学連登録!$C$2:$G$3000,2,FALSE))","v":""},{"$f":"IF(B276=\"\",\"\",VLOOKUP(B276,学連登録!$C$2:$G$3000,3,FALSE))","v":""},{"$f":"IF(B276=\"\",\"\",VLOOKUP(B276,学連登録!$C$2:$G$3000,4,FALSE))","v":""},"",null,null,null,null,null,null,null,null,null,null,null,null,null,null,null,{"$f":"IF(B276=\"\",\"\",VLOOKUP(B276,学連登録!$C$2:$H$3000,6,FALSE))","v":""},null,"",{"$f":"IF(G276=\"\",\"\",VLOOKUP(G276,種目名!$O$5:$T$104,3,0))","v":""},{"$f":"IF(J276=\"\",\"\",VLOOKUP(J276,種目名!$O$5:$T$104,3,0))","v":""},{"$f":"IF(M276=\"\",\"\",VLOOKUP(M276,種目名!$O$5:$T$104,3,0))","v":""},{"$f":"IF(P276=\"\",\"\",VLOOKUP(AE276,種目名!$O$5:$T$104,3,0))","v":""},{"$f":"IF(S276=\"\",\"\",VLOOKUP(AH276,種目名!$O$5:$T$104,3,0))","v":""},0,"","",0,"",""]
["",null,{"$f":"IF(B277=\"\",\"\",VLOOKUP(B277,学連登録!$C$2:$G$3000,2,FALSE))","v":""},{"$f":"IF(B277=\"\",\"\",VLOOKUP(B277,学連登録!$C$2:$G$3000,3,FALSE))","v":""},{"$f":"IF(B277=\"\",\"\",VLOOKUP(B277,学連登録!$C$2:$G$3000,4,FALSE))","v":""},"",null,null,null,null,null,null,null,null,null,null,null,null,null,null,null,{"$f":"IF(B277=\"\",\"\",VLOOKUP(B277,学連登録!$C$2:$H$3000,6,FALSE))","v":""},null,"",{"$f":"IF(G277=\"\",\"\",VLOOKUP(G277,種目名!$O$5:$T$104,3,0))","v":""},{"$f":"IF(J277=\"\",\"\",VLOOKUP(J277,種目名!$O$5:$T$104,3,0))","v":""},{"$f":"IF(M277=\"\",\"\",VLOOKUP(M277,種目名!$O$5:$T$104,3,0))","v":""},{"$f":"IF(P277=\"\",\"\",VLOOKUP(AE277,種目名!$O$5:$T$104,3,0))","v":""},{"$f":"IF(S277=\"\",\"\",VLOOKUP(AH277,種目名!$O$5:$T$104,3,0))","v":""},0,"","",0,"",""]
["",null,{"$f":"IF(B278=\"\",\"\",VLOOKUP(B278,学連登録!$C$2:$G$3000,2,FALSE))","v":""},{"$f":"IF(B278=\"\",\"\",VLOOKUP(B278,学連登録!$C$2:$G$3000,3,FALSE))","v":""},{"$f":"IF(B278=\"\",\"\",VLOOKUP(B278,学連登録!$C$2:$G$3000,4,FALSE))","v":""},{"$f":"IF(C278=\"\",\"\",$P$1)","v":""},null,null,null,null,null,null,null,null,null,null,null,null,null,null,null,{"$f":"IF(B278=\"\",\"\",VLOOKUP(B278,学連登録!$C$2:$H$3000,6,FALSE))","v":""},null,{"$f":"IF(C278=\"\",\"\",$S$3)","v":""},{"$f":"IF(G278=\"\",\"\",VLOOKUP(G278,種目名!$O$5:$T$104,3,0))","v":""},{"$f":"IF(J278=\"\",\"\",VLOOKUP(J278,種目名!$O$5:$T$104,3,0))","v":""},{"$f":"IF(M278=\"\",\"\",VLOOKUP(M278,種目名!$O$5:$T$104,3,0))","v":""},{"$f":"IF(P278=\"\",\"\",VLOOKUP(AE278,種目名!$O$5:$T$104,3,0))","v":""},{"$f":"IF(S278=\"\",\"\",VLOOKUP(AH278,種目名!$O$5:$T$104,3,0))","v":""},{"$f":"LENB(P278)","v":0},{"$f":"IF(AD278,LEFTB(P278,AD278-1),\"\")","v":""},{"$f":"IF(AD278,MIDB(P278,AD278,1),\"\")","v":""},{"$f":"LENB(S278)","v":0},{"$f":"IF(AG278,LEFTB(S278,AG278-1),\"\")","v":""},{"$f":"IF(AG278,MIDB(S278,AG278,1),\"\")","v":""}]
[{"$f":"IF(C279=\"\",\"\",A278+1)","v":""},null,{"$f":"IF(B279=\"\",\"\",VLOOKUP(B279,学連登録!$C$2:$G$3000,2,FALSE))","v":""},{"$f":"IF(B279=\"\",\"\",VLOOKUP(B279,学連登録!$C$2:$G$3000,3,FALSE))","v":""},{"$f":"IF(B279=\"\",\"\",VLOOKUP(B279,学連登録!$C$2:$G$3000,4,FALSE))","v":""},"",null,null,null,null,null,null,null,null,null,null,null,null,null,null,null,{"$f":"IF(B279=\"\",\"\",VLOOKUP(B279,学連登録!$C$2:$H$3000,6,FALSE))","v":""},null,"",{"$f":"IF(G279=\"\",\"\",VLOOKUP(G279,種目名!$O$5:$T$104,3,0))","v":""},{"$f":"IF(J279=\"\",\"\",VLOOKUP(J279,種目名!$O$5:$T$104,3,0))","v":""},{"$f":"IF(M279=\"\",\"\",VLOOKUP(M279,種目名!$O$5:$T$104,3,0))","v":""},{"$f":"IF(P279=\"\",\"\",VLOOKUP(AE279,種目名!$O$5:$T$104,3,0))","v":""},{"$f":"IF(S279=\"\",\"\",VLOOKUP(AH279,種目名!$O$5:$T$104,3,0))","v":""},0,"","",0,"",""]
["",null,{"$f":"IF(B280=\"\",\"\",VLOOKUP(B280,学連登録!$C$2:$G$3000,2,FALSE))","v":""},{"$f":"IF(B280=\"\",\"\",VLOOKUP(B280,学連登録!$C$2:$G$3000,3,FALSE))","v":""},{"$f":"IF(B280=\"\",\"\",VLOOKUP(B280,学連登録!$C$2:$G$3000,4,FALSE))","v":""},"",null,null,null,null,null,null,null,null,null,null,null,null,null,null,null,{"$f":"IF(B280=\"\",\"\",VLOOKUP(B280,学連登録!$C$2:$H$3000,6,FALSE))","v":""},null,"",{"$f":"IF(G280=\"\",\"\",VLOOKUP(G280,種目名!$O$5:$T$104,3,0))","v":""},{"$f":"IF(J280=\"\",\"\",VLOOKUP(J280,種目名!$O$5:$T$104,3,0))","v":""},{"$f":"IF(M280=\"\",\"\",VLOOKUP(M280,種目名!$O$5:$T$104,3,0))","v":""},{"$f":"IF(P280=\"\",\"\",VLOOKUP(AE280,種目名!$O$5:$T$104,3,0))","v":""},{"$f":"IF(S280=\"\",\"\",VLOOKUP(AH280,種目名!$O$5:$T$104,3,0))","v":""},0,"","",0,"",""]
["",null,{"$f":"IF(B281=\"\",\"\",VLOOKUP(B281,学連登録!$C$2:$G$3000,2,FALSE))","v":""},{"$f":"IF(B281=\"\",\"\",VLOOKUP(B281,学連登録!$C$2:$G$3000,3,FALSE))","v":""},{"$f":"IF(B281=\"\",\"\",VLOOKUP(B281,学連登録!$C$2:$G$3000,4,FALSE))","v":""},"",null,null,null,null,null,null,null,null,null,null,null,null,null,null,null,{"$f":"IF(B281=\"\",\"\",VLOOKUP(B281,学連登録!$C$2:$H$3000,6,FALSE))","v":""},null,"",{"$f":"IF(G281=\"\",\"\",VLOOKUP(G281,種目名!$O$5:$T$104,3,0))","v":""},{"$f":"IF(J281=\"\",\"\",VLOOKUP(J281,種目名!$O$5:$T$104,3,0))","v":""},{"$f":"IF(M281=\"\",\"\",VLOOKUP(M281,種目名!$O$5:$T$104,3,0))","v":""},{"$f":"IF(P281=\"\",\"\",VLOOKUP(AE281,種目名!$O$5:$T$104,3,0))","v":""},{"$f":"IF(S281=\"\",\"\",VLOOKUP(AH281,種目名!$O$5:$T$104,3,0))","v":""},0,"","",0,"",""]
["",null,{"$f":"IF(B282=\"\",\"\",VLOOKUP(B282,学連登録!$C$2:$G$3000,2,FALSE))","v":""},{"$f":"IF(B282=\"\",\"\",VLOOKUP(B282,学連登録!$C$2:$G$3000,3,FALSE))","v":""},{"$f":"IF(B282=\"\",\"\",VLOOKUP(B282,学連登録!$C$2:$G$3000,4,FALSE))","v":""},"",null,null,null,null,null,null,null,null,null,null,null,null,null,null,null,{"$f":"IF(B282=\"\",\"\",VLOOKUP(B282,学連登録!$C$2:$H$3000,6,FALSE))","v":""},null,"",{"$f":"IF(G282=\"\",\"\",VLOOKUP(G282,種目名!$O$5:$T$104,3,0))","v":""},{"$f":"IF(J282=\"\",\"\",VLOOKUP(J282,種目名!$O$5:$T$104,3,0))","v":""},{"$f":"IF(M282=\"\",\"\",VLOOKUP(M282,種目名!$O$5:$T$104,3,0))","v":""},{"$f":"IF(P282=\"\",\"\",VLOOKUP(AE282,種目名!$O$5:$T$104,3,0))","v":""},{"$f":"IF(S282=\"\",\"\",VLOOKUP(AH282,種目名!$O$5:$T$104,3,0))","v":""},0,"","",0,"",""]
["",null,{"$f":"IF(B283=\"\",\"\",VLOOKUP(B283,学連登録!$C$2:$G$3000,2,FALSE))","v":""},{"$f":"IF(B283=\"\",\"\",VLOOKUP(B283,学連登録!$C$2:$G$3000,3,FALSE))","v":""},{"$f":"IF(B283=\"\",\"\",VLOOKUP(B283,学連登録!$C$2:$G$3000,4,FALSE))","v":""},"",null,null,null,null,null,null,null,null,null,null,null,null,null,null,null,{"$f":"IF(B283=\"\",\"\",VLOOKUP(B283,学連登録!$C$2:$H$3000,6,FALSE))","v":""},null,"",{"$f":"IF(G283=\"\",\"\",VLOOKUP(G283,種目名!$O$5:$T$104,3,0))","v":""},{"$f":"IF(J283=\"\",\"\",VLOOKUP(J283,種目名!$O$5:$T$104,3,0))","v":""},{"$f":"IF(M283=\"\",\"\",VLOOKUP(M283,種目名!$O$5:$T$104,3,0))","v":""},{"$f":"IF(P283=\"\",\"\",VLOOKUP(AE283,種目名!$O$5:$T$104,3,0))","v":""},{"$f":"IF(S283=\"\",\"\",VLOOKUP(AH283,種目名!$O$5:$T$104,3,0))","v":""},0,"","",0,"",""]
["",null,{"$f":"IF(B284=\"\",\"\",VLOOKUP(B284,学連登録!$C$2:$G$3000,2,FALSE))","v":""},{"$f":"IF(B284=\"\",\"\",VLOOKUP(B284,学連登録!$C$2:$G$3000,3,FALSE))","v":""},{"$f":"IF(B284=\"\",\"\",VLOOKUP(B284,学連登録!$C$2:$G$3000,4,FALSE))","v":""},"",null,null,null,null,null,null,null,null,null,null,null,null,null,null,null,{"$f":"IF(B284=\"\",\"\",VLOOKUP(B284,学連登録!$C$2:$H$3000,6,FALSE))","v":""},null,"",{"$f":"IF(G284=\"\",\"\",VLOOKUP(G284,種目名!$O$5:$T$104,3,0))","v":""},{"$f":"IF(J284=\"\",\"\",VLOOKUP(J284,種目名!$O$5:$T$104,3,0))","v":""},{"$f":"IF(M284=\"\",\"\",VLOOKUP(M284,種目名!$O$5:$T$104,3,0))","v":""},{"$f":"IF(P284=\"\",\"\",VLOOKUP(AE284,種目名!$O$5:$T$104,3,0))","v":""},{"$f":"IF(S284=\"\",\"\",VLOOKUP(AH284,種目名!$O$5:$T$104,3,0))","v":""},0,"","",0,"",""]
["",null,{"$f":"IF(B285=\"\",\"\",VLOOKUP(B285,学連登録!$C$2:$G$3000,2,FALSE))","v":""},{"$f":"IF(B285=\"\",\"\",VLOOKUP(B285,学連登録!$C$2:$G$3000,3,FALSE))","v":""},{"$f":"IF(B285=\"\",\"\",VLOOKUP(B285,学連登録!$C$2:$G$3000,4,FALSE))","v":""},"",null,null,null,null,null,null,null,null,null,null,null,null,null,null,null,{"$f":"IF(B285=\"\",\"\",VLOOKUP(B285,学連登録!$C$2:$H$3000,6,FALSE))","v":""},null,"",{"$f":"IF(G285=\"\",\"\",VLOOKUP(G285,種目名!$O$5:$T$104,3,0))","v":""},{"$f":"IF(J285=\"\",\"\",VLOOKUP(J285,種目名!$O$5:$T$104,3,0))","v":""},{"$f":"IF(M285=\"\",\"\",VLOOKUP(M285,種目名!$O$5:$T$104,3,0))","v":""},{"$f":"IF(P285=\"\",\"\",VLOOKUP(AE285,種目名!$O$5:$T$104,3,0))","v":""},{"$f":"IF(S285=\"\",\"\",VLOOKUP(AH285,種目名!$O$5:$T$104,3,0))","v":""},0,"","",0,"",""]
["",null,{"$f":"IF(B286=\"\",\"\",VLOOKUP(B286,学連登録!$C$2:$G$3000,2,FALSE))","v":""},{"$f":"IF(B286=\"\",\"\",VLOOKUP(B286,学連登録!$C$2:$G$3000,3,FALSE))","v":""},{"$f":"IF(B286=\"\",\"\",VLOOKUP(B286,学連登録!$C$2:$G$3000,4,FALSE))","v":""},"",null,null,null,null,null,null,null,null,null,null,null,null,null,null,null,{"$f":"IF(B286=\"\",\"\",VLOOKUP(B286,学連登録!$C$2:$H$3000,6,FALSE))","v":""},null,"",{"$f":"IF(G286=\"\",\"\",VLOOKUP(G286,種目名!$O$5:$T$104,3,0))","v":""},{"$f":"IF(J286=\"\",\"\",VLOOKUP(J286,種目名!$O$5:$T$104,3,0))","v":""},{"$f":"IF(M286=\"\",\"\",VLOOKUP(M286,種目名!$O$5:$T$104,3,0))","v":""},{"$f":"IF(P286=\"\",\"\",VLOOKUP(AE286,種目名!$O$5:$T$104,3,0))","v":""},{"$f":"IF(S286=\"\",\"\",VLOOKUP(AH286,種目名!$O$5:$T$104,3,0))","v":""},0,"","",0,"",""]
["",null,{"$f":"IF(B287=\"\",\"\",VLOOKUP(B287,学連登録!$C$2:$G$3000,2,FALSE))","v":""},{"$f":"IF(B287=\"\",\"\",VLOOKUP(B287,学連登録!$C$2:$G$3000,3,FALSE))","v":""},{"$f":"IF(B287=\"\",\"\",VLOOKUP(B287,学連登録!$C$2:$G$3000,4,FALSE))","v":""},"",null,null,null,null,null,null,null,null,null,null,null,null,null,null,null,{"$f":"IF(B287=\"\",\"\",VLOOKUP(B287,学連登録!$C$2:$H$3000,6,FALSE))","v":""},null,"",{"$f":"IF(G287=\"\",\"\",VLOOKUP(G287,種目名!$O$5:$T$104,3,0))","v":""},{"$f":"IF(J287=\"\",\"\",VLOOKUP(J287,種目名!$O$5:$T$104,3,0))","v":""},{"$f":"IF(M287=\"\",\"\",VLOOKUP(M287,種目名!$O$5:$T$104,3,0))","v":""},{"$f":"IF(P287=\"\",\"\",VLOOKUP(AE287,種目名!$O$5:$T$104,3,0))","v":""},{"$f":"IF(S287=\"\",\"\",VLOOKUP(AH287,種目名!$O$5:$T$104,3,0))","v":""},0,"","",0,"",""]
["",null,{"$f":"IF(B288=\"\",\"\",VLOOKUP(B288,学連登録!$C$2:$G$3000,2,FALSE))","v":""},{"$f":"IF(B288=\"\",\"\",VLOOKUP(B288,学連登録!$C$2:$G$3000,3,FALSE))","v":""},{"$f":"IF(B288=\"\",\"\",VLOOKUP(B288,学連登録!$C$2:$G$3000,4,FALSE))","v":""},"",null,null,null,null,null,null,null,null,null,null,null,null,null,null,null,{"$f":"IF(B288=\"\",\"\",VLOOKUP(B288,学連登録!$C$2:$H$3000,6,FALSE))","v":""},null,"",{"$f":"IF(G288=\"\",\"\",VLOOKUP(G288,種目名!$O$5:$T$104,3,0))","v":""},{"$f":"IF(J288=\"\",\"\",VLOOKUP(J288,種目名!$O$5:$T$104,3,0))","v":""},{"$f":"IF(M288=\"\",\"\",VLOOKUP(M288,種目名!$O$5:$T$104,3,0))","v":""},{"$f":"IF(P288=\"\",\"\",VLOOKUP(AE288,種目名!$O$5:$T$104,3,0))","v":""},{"$f":"IF(S288=\"\",\"\",VLOOKUP(AH288,種目名!$O$5:$T$104,3,0))","v":""},0,"","",0,"",""]
["",null,{"$f":"IF(B289=\"\",\"\",VLOOKUP(B289,学連登録!$C$2:$G$3000,2,FALSE))","v":""},{"$f":"IF(B289=\"\",\"\",VLOOKUP(B289,学連登録!$C$2:$G$3000,3,FALSE))","v":""},{"$f":"IF(B289=\"\",\"\",VLOOKUP(B289,学連登録!$C$2:$G$3000,4,FALSE))","v":""},"",null,null,null,null,null,null,null,null,null,null,null,null,null,null,null,{"$f":"IF(B289=\"\",\"\",VLOOKUP(B289,学連登録!$C$2:$H$3000,6,FALSE))","v":""},null,"",{"$f":"IF(G289=\"\",\"\",VLOOKUP(G289,種目名!$O$5:$T$104,3,0))","v":""},{"$f":"IF(J289=\"\",\"\",VLOOKUP(J289,種目名!$O$5:$T$104,3,0))","v":""},{"$f":"IF(M289=\"\",\"\",VLOOKUP(M289,種目名!$O$5:$T$104,3,0))","v":""},{"$f":"IF(P289=\"\",\"\",VLOOKUP(AE289,種目名!$O$5:$T$104,3,0))","v":""},{"$f":"IF(S289=\"\",\"\",VLOOKUP(AH289,種目名!$O$5:$T$104,3,0))","v":""},0,"","",0,"",""]
["",null,{"$f":"IF(B290=\"\",\"\",VLOOKUP(B290,学連登録!$C$2:$G$3000,2,FALSE))","v":""},{"$f":"IF(B290=\"\",\"\",VLOOKUP(B290,学連登録!$C$2:$G$3000,3,FALSE))","v":""},{"$f":"IF(B290=\"\",\"\",VLOOKUP(B290,学連登録!$C$2:$G$3000,4,FALSE))","v":""},"",null,null,null,null,null,null,null,null,null,null,null,null,null,null,null,{"$f":"IF(B290=\"\",\"\",VLOOKUP(B290,学連登録!$C$2:$H$3000,6,FALSE))","v":""},null,"",{"$f":"IF(G290=\"\",\"\",VLOOKUP(G290,種目名!$O$5:$T$104,3,0))","v":""},{"$f":"IF(J290=\"\",\"\",VLOOKUP(J290,種目名!$O$5:$T$104,3,0))","v":""},{"$f":"IF(M290=\"\",\"\",VLOOKUP(M290,種目名!$O$5:$T$104,3,0))","v":""},{"$f":"IF(P290=\"\",\"\",VLOOKUP(AE290,種目名!$O$5:$T$104,3,0))","v":""},{"$f":"IF(S290=\"\",\"\",VLOOKUP(AH290,種目名!$O$5:$T$104,3,0))","v":""},0,"","",0,"",""]
["",null,{"$f":"IF(B291=\"\",\"\",VLOOKUP(B291,学連登録!$C$2:$G$3000,2,FALSE))","v":""},{"$f":"IF(B291=\"\",\"\",VLOOKUP(B291,学連登録!$C$2:$G$3000,3,FALSE))","v":""},{"$f":"IF(B291=\"\",\"\",VLOOKUP(B291,学連登録!$C$2:$G$3000,4,FALSE))","v":""},"",null,null,null,null,null,null,null,null,null,null,null,null,null,null,null,{"$f":"IF(B291=\"\",\"\",VLOOKUP(B291,学連登録!$C$2:$H$3000,6,FALSE))","v":""},null,"",{"$f":"IF(G291=\"\",\"\",VLOOKUP(G291,種目名!$O$5:$T$104,3,0))","v":""},{"$f":"IF(J291=\"\",\"\",VLOOKUP(J291,種目名!$O$5:$T$104,3,0))","v":""},{"$f":"IF(M291=\"\",\"\",VLOOKUP(M291,種目名!$O$5:$T$104,3,0))","v":""},{"$f":"IF(P291=\"\",\"\",VLOOKUP(AE291,種目名!$O$5:$T$104,3,0))","v":""},{"$f":"IF(S291=\"\",\"\",VLOOKUP(AH291,種目名!$O$5:$T$104,3,0))","v":""},0,"","",0,"",""]
["",null,{"$f":"IF(B292=\"\",\"\",VLOOKUP(B292,学連登録!$C$2:$G$3000,2,FALSE))","v":""},{"$f":"IF(B292=\"\",\"\",VLOOKUP(B292,学連登録!$C$2:$G$3000,3,FALSE))","v":""},{"$f":"IF(B292=\"\",\"\",VLOOKUP(B292,学連登録!$C$2:$G$3000,4,FALSE))","v":""},"",null,null,null,null,null,null,null,null,null,null,null,null,null,null,null,{"$f":"IF(B292=\"\",\"\",VLOOKUP(B292,学連登録!$C$2:$H$3000,6,FALSE))","v":""},null,"",{"$f":"IF(G292=\"\",\"\",VLOOKUP(G292,種目名!$O$5:$T$104,3,0))","v":""},{"$f":"IF(J292=\"\",\"\",VLOOKUP(J292,種目名!$O$5:$T$104,3,0))","v":""},{"$f":"IF(M292=\"\",\"\",VLOOKUP(M292,種目名!$O$5:$T$104,3,0))","v":""},{"$f":"IF(P292=\"\",\"\",VLOOKUP(AE292,種目名!$O$5:$T$104,3,0))","v":""},{"$f":"IF(S292=\"\",\"\",VLOOKUP(AH292,種目名!$O$5:$T$104,3,0))","v":""},0,"","",0,"",""]
["",null,{"$f":"IF(B293=\"\",\"\",VLOOKUP(B293,学連登録!$C$2:$G$3000,2,FALSE))","v":""},{"$f":"IF(B293=\"\",\"\",VLOOKUP(B293,学連登録!$C$2:$G$3000,3,FALSE))","v":""},{"$f":"IF(B293=\"\",\"\",VLOOKUP(B293,学連登録!$C$2:$G$3000,4,FALSE))","v":""},"",null,null,null,null,null,null,null,null,null,null,null,null,null,null,null,{"$f":"IF(B293=\"\",\"\",VLOOKUP(B293,学連登録!$C$2:$H$3000,6,FALSE))","v":""},null,"",{"$f":"IF(G293=\"\",\"\",VLOOKUP(G293,種目名!$O$5:$T$104,3,0))","v":""},{"$f":"IF(J293=\"\",\"\",VLOOKUP(J293,種目名!$O$5:$T$104,3,0))","v":""},{"$f":"IF(M293=\"\",\"\",VLOOKUP(M293,種目名!$O$5:$T$104,3,0))","v":""},{"$f":"IF(P293=\"\",\"\",VLOOKUP(AE293,種目名!$O$5:$T$104,3,0))","v":""},{"$f":"IF(S293=\"\",\"\",VLOOKUP(AH293,種目名!$O$5:$T$104,3,0))","v":""},0,"","",0,"",""]
["",null,{"$f":"IF(B294=\"\",\"\",VLOOKUP(B294,学連登録!$C$2:$G$3000,2,FALSE))","v":""},{"$f":"IF(B294=\"\",\"\",VLOOKUP(B294,学連登録!$C$2:$G$3000,3,FALSE))","v":""},{"$f":"IF(B294=\"\",\"\",VLOOKUP(B294,学連登録!$C$2:$G$3000,4,FALSE))","v":""},"",null,null,null,null,null,null,null,null,null,null,null,null,null,null,null,{"$f":"IF(B294=\"\",\"\",VLOOKUP(B294,学連登録!$C$2:$H$3000,6,FALSE))","v":""},null,"",{"$f":"IF(G294=\"\",\"\",VLOOKUP(G294,種目名!$O$5:$T$104,3,0))","v":""},{"$f":"IF(J294=\"\",\"\",VLOOKUP(J294,種目名!$O$5:$T$104,3,0))","v":""},{"$f":"IF(M294=\"\",\"\",VLOOKUP(M294,種目名!$O$5:$T$104,3,0))","v":""},{"$f":"IF(P294=\"\",\"\",VLOOKUP(AE294,種目名!$O$5:$T$104,3,0))","v":""},{"$f":"IF(S294=\"\",\"\",VLOOKUP(AH294,種目名!$O$5:$T$104,3,0))","v":""},0,"","",0,"",""]
["",null,{"$f":"IF(B295=\"\",\"\",VLOOKUP(B295,学連登録!$C$2:$G$3000,2,FALSE))","v":""},{"$f":"IF(B295=\"\",\"\",VLOOKUP(B295,学連登録!$C$2:$G$3000,3,FALSE))","v":""},{"$f":"IF(B295=\"\",\"\",VLOOKUP(B295,学連登録!$C$2:$G$3000,4,FALSE))","v":""},"",null,null,null,null,null,null,null,null,null,null,null,null,null,null,null,{"$f":"IF(B295=\"\",\"\",VLOOKUP(B295,学連登録!$C$2:$H$3000,6,FALSE))","v":""},null,"",{"$f":"IF(G295=\"\",\"\",VLOOKUP(G295,種目名!$O$5:$T$104,3,0))","v":""},{"$f":"IF(J295=\"\",\"\",VLOOKUP(J295,種目名!$O$5:$T$104,3,0))","v":""},{"$f":"IF(M295=\"\",\"\",VLOOKUP(M295,種目名!$O$5:$T$104,3,0))","v":""},{"$f":"IF(P295=\"\",\"\",VLOOKUP(AE295,種目名!$O$5:$T$104,3,0))","v":""},{"$f":"IF(S295=\"\",\"\",VLOOKUP(AH295,種目名!$O$5:$T$104,3,0))","v":""},0,"","",0,"",""]
["",null,{"$f":"IF(B296=\"\",\"\",VLOOKUP(B296,学連登録!$C$2:$G$3000,2,FALSE))","v":""},{"$f":"IF(B296=\"\",\"\",VLOOKUP(B296,学連登録!$C$2:$G$3000,3,FALSE))","v":""},{"$f":"IF(B296=\"\",\"\",VLOOKUP(B296,学連登録!$C$2:$G$3000,4,FALSE))","v":""},"",null,null,null,null,null,null,null,null,null,null,null,null,null,null,null,{"$f":"IF(B296=\"\",\"\",VLOOKUP(B296,学連登録!$C$2:$H$3000,6,FALSE))","v":""},null,"",{"$f":"IF(G296=\"\",\"\",VLOOKUP(G296,種目名!$O$5:$T$104,3,0))","v":""},{"$f":"IF(J296=\"\",\"\",VLOOKUP(J296,種目名!$O$5:$T$104,3,0))","v":""},{"$f":"IF(M296=\"\",\"\",VLOOKUP(M296,種目名!$O$5:$T$104,3,0))","v":""},{"$f":"IF(P296=\"\",\"\",VLOOKUP(AE296,種目名!$O$5:$T$104,3,0))","v":""},{"$f":"IF(S296=\"\",\"\",VLOOKUP(AH296,種目名!$O$5:$T$104,3,0))","v":""},0,"","",0,"",""]
["",null,{"$f":"IF(B297=\"\",\"\",VLOOKUP(B297,学連登録!$C$2:$G$3000,2,FALSE))","v":""},{"$f":"IF(B297=\"\",\"\",VLOOKUP(B297,学連登録!$C$2:$G$3000,3,FALSE))","v":""},{"$f":"IF(B297=\"\",\"\",VLOOKUP(B297,学連登録!$C$2:$G$3000,4,FALSE))","v":""},"",null,null,null,null,null,null,null,null,null,null,null,null,null,null,null,{"$f":"IF(B297=\"\",\"\",VLOOKUP(B297,学連登録!$C$2:$H$3000,6,FALSE))","v":""},null,"",{"$f":"IF(G297=\"\",\"\",VLOOKUP(G297,種目名!$O$5:$T$104,3,0))","v":""},{"$f":"IF(J297=\"\",\"\",VLOOKUP(J297,種目名!$O$5:$T$104,3,0))","v":""},{"$f":"IF(M297=\"\",\"\",VLOOKUP(M297,種目名!$O$5:$T$104,3,0))","v":""},{"$f":"IF(P297=\"\",\"\",VLOOKUP(AE297,種目名!$O$5:$T$104,3,0))","v":""},{"$f":"IF(S297=\"\",\"\",VLOOKUP(AH297,種目名!$O$5:$T$104,3,0))","v":""},0,"","",0,"",""]
["",null,{"$f":"IF(B298=\"\",\"\",VLOOKUP(B298,学連登録!$C$2:$G$3000,2,FALSE))","v":""},{"$f":"IF(B298=\"\",\"\",VLOOKUP(B298,学連登録!$C$2:$G$3000,3,FALSE))","v":""},{"$f":"IF(B298=\"\",\"\",VLOOKUP(B298,学連登録!$C$2:$G$3000,4,FALSE))","v":""},"",null,null,null,null,null,null,null,null,null,null,null,null,null,null,null,{"$f":"IF(B298=\"\",\"\",VLOOKUP(B298,学連登録!$C$2:$H$3000,6,FALSE))","v":""},null,"",{"$f":"IF(G298=\"\",\"\",VLOOKUP(G298,種目名!$O$5:$T$104,3,0))","v":""},{"$f":"IF(J298=\"\",\"\",VLOOKUP(J298,種目名!$O$5:$T$104,3,0))","v":""},{"$f":"IF(M298=\"\",\"\",VLOOKUP(M298,種目名!$O$5:$T$104,3,0))","v":""},{"$f":"IF(P298=\"\",\"\",VLOOKUP(AE298,種目名!$O$5:$T$104,3,0))","v":""},{"$f":"IF(S298=\"\",\"\",VLOOKUP(AH298,種目名!$O$5:$T$104,3,0))","v":""},0,"","",0,"",""]
["",null,{"$f":"IF(B299=\"\",\"\",VLOOKUP(B299,学連登録!$C$2:$G$3000,2,FALSE))","v":""},{"$f":"IF(B299=\"\",\"\",VLOOKUP(B299,学連登録!$C$2:$G$3000,3,FALSE))","v":""},{"$f":"IF(B299=\"\",\"\",VLOOKUP(B299,学連登録!$C$2:$G$3000,4,FALSE))","v":""},"",null,null,null,null,null,null,null,null,null,null,null,null,null,null,null,{"$f":"IF(B299=\"\",\"\",VLOOKUP(B299,学連登録!$C$2:$H$3000,6,FALSE))","v":""},null,"",{"$f":"IF(G299=\"\",\"\",VLOOKUP(G299,種目名!$O$5:$T$104,3,0))","v":""},{"$f":"IF(J299=\"\",\"\",VLOOKUP(J299,種目名!$O$5:$T$104,3,0))","v":""},{"$f":"IF(M299=\"\",\"\",VLOOKUP(M299,種目名!$O$5:$T$104,3,0))","v":""},{"$f":"IF(P299=\"\",\"\",VLOOKUP(AE299,種目名!$O$5:$T$104,3,0))","v":""},{"$f":"IF(S299=\"\",\"\",VLOOKUP(AH299,種目名!$O$5:$T$104,3,0))","v":""},0,"","",0,"",""]
["",null,{"$f":"IF(B300=\"\",\"\",VLOOKUP(B300,学連登録!$C$2:$G$3000,2,FALSE))","v":""},{"$f":"IF(B300=\"\",\"\",VLOOKUP(B300,学連登録!$C$2:$G$3000,3,FALSE))","v":""},{"$f":"IF(B300=\"\",\"\",VLOOKUP(B300,学連登録!$C$2:$G$3000,4,FALSE))","v":""},"",null,null,null,null,null,null,null,null,null,null,null,null,null,null,null,{"$f":"IF(B300=\"\",\"\",VLOOKUP(B300,学連登録!$C$2:$H$3000,6,FALSE))","v":""},null,"",{"$f":"IF(G300=\"\",\"\",VLOOKUP(G300,種目名!$O$5:$T$104,3,0))","v":""},{"$f":"IF(J300=\"\",\"\",VLOOKUP(J300,種目名!$O$5:$T$104,3,0))","v":""},{"$f":"IF(M300=\"\",\"\",VLOOKUP(M300,種目名!$O$5:$T$104,3,0))","v":""},{"$f":"IF(P300=\"\",\"\",VLOOKUP(AE300,種目名!$O$5:$T$104,3,0))","v":""},{"$f":"IF(S300=\"\",\"\",VLOOKUP(AH300,種目名!$O$5:$T$104,3,0))","v":""},0,"","",0,"",""]
["",null,{"$f":"IF(B301=\"\",\"\",VLOOKUP(B301,学連登録!$C$2:$G$3000,2,FALSE))","v":""},{"$f":"IF(B301=\"\",\"\",VLOOKUP(B301,学連登録!$C$2:$G$3000,3,FALSE))","v":""},{"$f":"IF(B301=\"\",\"\",VLOOKUP(B301,学連登録!$C$2:$G$3000,4,FALSE))","v":""},"",null,null,null,null,null,null,null,null,null,null,null,null,null,null,null,{"$f":"IF(B301=\"\",\"\",VLOOKUP(B301,学連登録!$C$2:$H$3000,6,FALSE))","v":""},null,"",{"$f":"IF(G301=\"\",\"\",VLOOKUP(G301,種目名!$O$5:$T$104,3,0))","v":""},{"$f":"IF(J301=\"\",\"\",VLOOKUP(J301,種目名!$O$5:$T$104,3,0))","v":""},{"$f":"IF(M301=\"\",\"\",VLOOKUP(M301,種目名!$O$5:$T$104,3,0))","v":""},{"$f":"IF(P301=\"\",\"\",VLOOKUP(AE301,種目名!$O$5:$T$104,3,0))","v":""},{"$f":"IF(S301=\"\",\"\",VLOOKUP(AH301,種目名!$O$5:$T$104,3,0))","v":""},0,"","",0,"",""]
["",null,{"$f":"IF(B302=\"\",\"\",VLOOKUP(B302,学連登録!$C$2:$G$3000,2,FALSE))","v":""},{"$f":"IF(B302=\"\",\"\",VLOOKUP(B302,学連登録!$C$2:$G$3000,3,FALSE))","v":""},{"$f":"IF(B302=\"\",\"\",VLOOKUP(B302,学連登録!$C$2:$G$3000,4,FALSE))","v":""},"",null,null,null,null,null,null,null,null,null,null,null,null,null,null,null,{"$f":"IF(B302=\"\",\"\",VLOOKUP(B302,学連登録!$C$2:$H$3000,6,FALSE))","v":""},null,"",{"$f":"IF(G302=\"\",\"\",VLOOKUP(G302,種目名!$O$5:$T$104,3,0))","v":""},{"$f":"IF(J302=\"\",\"\",VLOOKUP(J302,種目名!$O$5:$T$104,3,0))","v":""},{"$f":"IF(M302=\"\",\"\",VLOOKUP(M302,種目名!$O$5:$T$104,3,0))","v":""},{"$f":"IF(P302=\"\",\"\",VLOOKUP(AE302,種目名!$O$5:$T$104,3,0))","v":""},{"$f":"IF(S302=\"\",\"\",VLOOKUP(AH302,種目名!$O$5:$T$104,3,0))","v":""},0,"","",0,"",""]
["",null,{"$f":"IF(B303=\"\",\"\",VLOOKUP(B303,学連登録!$C$2:$G$3000,2,FALSE))","v":""},{"$f":"IF(B303=\"\",\"\",VLOOKUP(B303,学連登録!$C$2:$G$3000,3,FALSE))","v":""},{"$f":"IF(B303=\"\",\"\",VLOOKUP(B303,学連登録!$C$2:$G$3000,4,FALSE))","v":""},"",null,null,null,null,null,null,null,null,null,null,null,null,null,null,null,{"$f":"IF(B303=\"\",\"\",VLOOKUP(B303,学連登録!$C$2:$H$3000,6,FALSE))","v":""},null,"",{"$f":"IF(G303=\"\",\"\",VLOOKUP(G303,種目名!$O$5:$T$104,3,0))","v":""},{"$f":"IF(J303=\"\",\"\",VLOOKUP(J303,種目名!$O$5:$T$104,3,0))","v":""},{"$f":"IF(M303=\"\",\"\",VLOOKUP(M303,種目名!$O$5:$T$104,3,0))","v":""},{"$f":"IF(P303=\"\",\"\",VLOOKUP(AE303,種目名!$O$5:$T$104,3,0))","v":""},{"$f":"IF(S303=\"\",\"\",VLOOKUP(AH303,種目名!$O$5:$T$104,3,0))","v":""},0,"","",0,"",""]
["",null,{"$f":"IF(B304=\"\",\"\",VLOOKUP(B304,学連登録!$C$2:$G$3000,2,FALSE))","v":""},{"$f":"IF(B304=\"\",\"\",VLOOKUP(B304,学連登録!$C$2:$G$3000,3,FALSE))","v":""},{"$f":"IF(B304=\"\",\"\",VLOOKUP(B304,学連登録!$C$2:$G$3000,4,FALSE))","v":""},"",null,null,null,null,null,null,null,null,null,null,null,null,null,null,null,{"$f":"IF(B304=\"\",\"\",VLOOKUP(B304,学連登録!$C$2:$H$3000,6,FALSE))","v":""},null,"",{"$f":"IF(G304=\"\",\"\",VLOOKUP(G304,種目名!$O$5:$T$104,3,0))","v":""},{"$f":"IF(J304=\"\",\"\",VLOOKUP(J304,種目名!$O$5:$T$104,3,0))","v":""},{"$f":"IF(M304=\"\",\"\",VLOOKUP(M304,種目名!$O$5:$T$104,3,0))","v":""},{"$f":"IF(P304=\"\",\"\",VLOOKUP(AE304,種目名!$O$5:$T$104,3,0))","v":""},{"$f":"IF(S304=\"\",\"\",VLOOKUP(AH304,種目名!$O$5:$T$104,3,0))","v":""},0,"","",0,"",""]
["",null,{"$f":"IF(B305=\"\",\"\",VLOOKUP(B305,学連登録!$C$2:$G$3000,2,FALSE))","v":""},{"$f":"IF(B305=\"\",\"\",VLOOKUP(B305,学連登録!$C$2:$G$3000,3,FALSE))","v":""},{"$f":"IF(B305=\"\",\"\",VLOOKUP(B305,学連登録!$C$2:$G$3000,4,FALSE))","v":""},"",null,null,null,null,null,null,null,null,null,null,null,null,null,null,null,{"$f":"IF(B305=\"\",\"\",VLOOKUP(B305,学連登録!$C$2:$H$3000,6,FALSE))","v":""},null,"",{"$f":"IF(G305=\"\",\"\",VLOOKUP(G305,種目名!$O$5:$T$104,3,0))","v":""},{"$f":"IF(J305=\"\",\"\",VLOOKUP(J305,種目名!$O$5:$T$104,3,0))","v":""},{"$f":"IF(M305=\"\",\"\",VLOOKUP(M305,種目名!$O$5:$T$104,3,0))","v":""},{"$f":"IF(P305=\"\",\"\",VLOOKUP(AE305,種目名!$O$5:$T$104,3,0))","v":""},{"$f":"IF(S305=\"\",\"\",VLOOKUP(AH305,種目名!$O$5:$T$104,3,0))","v":""},0,"","",0,"",""]
["",null,{"$f":"IF(B306=\"\",\"\",VLOOKUP(B306,学連登録!$C$2:$G$3000,2,FALSE))","v":""},{"$f":"IF(B306=\"\",\"\",VLOOKUP(B306,学連登録!$C$2:$G$3000,3,FALSE))","v":""},{"$f":"IF(B306=\"\",\"\",VLOOKUP(B306,学連登録!$C$2:$G$3000,4,FALSE))","v":""},"",null,null,null,null,null,null,null,null,null,null,null,null,null,null,null,{"$f":"IF(B306=\"\",\"\",VLOOKUP(B306,学連登録!$C$2:$H$3000,6,FALSE))","v":""},null,"",{"$f":"IF(G306=\"\",\"\",VLOOKUP(G306,種目名!$O$5:$T$104,3,0))","v":""},{"$f":"IF(J306=\"\",\"\",VLOOKUP(J306,種目名!$O$5:$T$104,3,0))","v":""},{"$f":"IF(M306=\"\",\"\",VLOOKUP(M306,種目名!$O$5:$T$104,3,0))","v":""},{"$f":"IF(P306=\"\",\"\",VLOOKUP(AE306,種目名!$O$5:$T$104,3,0))","v":""},{"$f":"IF(S306=\"\",\"\",VLOOKUP(AH306,種目名!$O$5:$T$104,3,0))","v":""},0,"","",0,"",""]
["",null,{"$f":"IF(B307=\"\",\"\",VLOOKUP(B307,学連登録!$C$2:$G$3000,2,FALSE))","v":""},{"$f":"IF(B307=\"\",\"\",VLOOKUP(B307,学連登録!$C$2:$G$3000,3,FALSE))","v":""},{"$f":"IF(B307=\"\",\"\",VLOOKUP(B307,学連登録!$C$2:$G$3000,4,FALSE))","v":""},"",null,null,null,null,null,null,null,null,null,null,null,null,null,null,null,{"$f":"IF(B307=\"\",\"\",VLOOKUP(B307,学連登録!$C$2:$H$3000,6,FALSE))","v":""},null,"",{"$f":"IF(G307=\"\",\"\",VLOOKUP(G307,種目名!$O$5:$T$104,3,0))","v":""},{"$f":"IF(J307=\"\",\"\",VLOOKUP(J307,種目名!$O$5:$T$104,3,0))","v":""},{"$f":"IF(M307=\"\",\"\",VLOOKUP(M307,種目名!$O$5:$T$104,3,0))","v":""},{"$f":"IF(P307=\"\",\"\",VLOOKUP(AE307,種目名!$O$5:$T$104,3,0))","v":""},{"$f":"IF(S307=\"\",\"\",VLOOKUP(AH307,種目名!$O$5:$T$104,3,0))","v":""},0,"","",0,"",""]
["",null,{"$f":"IF(B308=\"\",\"\",VLOOKUP(B308,学連登録!$C$2:$G$3000,2,FALSE))","v":""},{"$f":"IF(B308=\"\",\"\",VLOOKUP(B308,学連登録!$C$2:$G$3000,3,FALSE))","v":""},{"$f":"IF(B308=\"\",\"\",VLOOKUP(B308,学連登録!$C$2:$G$3000,4,FALSE))","v":""},"",null,null,null,null,null,null,null,null,null,null,null,null,null,null,null,{"$f":"IF(B308=\"\",\"\",VLOOKUP(B308,学連登録!$C$2:$H$3000,6,FALSE))","v":""},null,"",{"$f":"IF(G308=\"\",\"\",VLOOKUP(G308,種目名!$O$5:$T$104,3,0))","v":""},{"$f":"IF(J308=\"\",\"\",VLOOKUP(J308,種目名!$O$5:$T$104,3,0))","v":""},{"$f":"IF(M308=\"\",\"\",VLOOKUP(M308,種目名!$O$5:$T$104,3,0))","v":""},{"$f":"IF(P308=\"\",\"\",VLOOKUP(AE308,種目名!$O$5:$T$104,3,0))","v":""},{"$f":"IF(S308=\"\",\"\",VLOOKUP(AH308,種目名!$O$5:$T$104,3,0))","v":""},0,"","",0,"",""]
["",null,{"$f":"IF(B309=\"\",\"\",VLOOKUP(B309,学連登録!$C$2:$G$3000,2,FALSE))","v":""},{"$f":"IF(B309=\"\",\"\",VLOOKUP(B309,学連登録!$C$2:$G$3000,3,FALSE))","v":""},{"$f":"IF(B309=\"\",\"\",VLOOKUP(B309,学連登録!$C$2:$G$3000,4,FALSE))","v":""},"",null,null,null,null,null,null,null,null,null,null,null,null,null,null,null,{"$f":"IF(B309=\"\",\"\",VLOOKUP(B309,学連登録!$C$2:$H$3000,6,FALSE))","v":""},null,"",{"$f":"IF(G309=\"\",\"\",VLOOKUP(G309,種目名!$O$5:$T$104,3,0))","v":""},{"$f":"IF(J309=\"\",\"\",VLOOKUP(J309,種目名!$O$5:$T$104,3,0))","v":""},{"$f":"IF(M309=\"\",\"\",VLOOKUP(M309,種目名!$O$5:$T$104,3,0))","v":""},{"$f":"IF(P309=\"\",\"\",VLOOKUP(AE309,種目名!$O$5:$T$104,3,0))","v":""},{"$f":"IF(S309=\"\",\"\",VLOOKUP(AH309,種目名!$O$5:$T$104,3,0))","v":""},0,"","",0,"",""]
["",null,{"$f":"IF(B310=\"\",\"\",VLOOKUP(B310,学連登録!$C$2:$G$3000,2,FALSE))","v":""},{"$f":"IF(B310=\"\",\"\",VLOOKUP(B310,学連登録!$C$2:$G$3000,3,FALSE))","v":""},{"$f":"IF(B310=\"\",\"\",VLOOKUP(B310,学連登録!$C$2:$G$3000,4,FALSE))","v":""},"",null,null,null,null,null,null,null,null,null,null,null,null,null,null,null,{"$f":"IF(B310=\"\",\"\",VLOOKUP(B310,学連登録!$C$2:$H$3000,6,FALSE))","v":""},null,"",{"$f":"IF(G310=\"\",\"\",VLOOKUP(G310,種目名!$O$5:$T$104,3,0))","v":""},{"$f":"IF(J310=\"\",\"\",VLOOKUP(J310,種目名!$O$5:$T$104,3,0))","v":""},{"$f":"IF(M310=\"\",\"\",VLOOKUP(M310,種目名!$O$5:$T$104,3,0))","v":""},{"$f":"IF(P310=\"\",\"\",VLOOKUP(AE310,種目名!$O$5:$T$104,3,0))","v":""},{"$f":"IF(S310=\"\",\"\",VLOOKUP(AH310,種目名!$O$5:$T$104,3,0))","v":""},0,"","",0,"",""]
["",null,{"$f":"IF(B311=\"\",\"\",VLOOKUP(B311,学連登録!$C$2:$G$3000,2,FALSE))","v":""},{"$f":"IF(B311=\"\",\"\",VLOOKUP(B311,学連登録!$C$2:$G$3000,3,FALSE))","v":""},{"$f":"IF(B311=\"\",\"\",VLOOKUP(B311,学連登録!$C$2:$G$3000,4,FALSE))","v":""},"",null,null,null,null,null,null,null,null,null,null,null,null,null,null,null,{"$f":"IF(B311=\"\",\"\",VLOOKUP(B311,学連登録!$C$2:$H$3000,6,FALSE))","v":""},null,"",{"$f":"IF(G311=\"\",\"\",VLOOKUP(G311,種目名!$O$5:$T$104,3,0))","v":""},{"$f":"IF(J311=\"\",\"\",VLOOKUP(J311,種目名!$O$5:$T$104,3,0))","v":""},{"$f":"IF(M311=\"\",\"\",VLOOKUP(M311,種目名!$O$5:$T$104,3,0))","v":""},{"$f":"IF(P311=\"\",\"\",VLOOKUP(AE311,種目名!$O$5:$T$104,3,0))","v":""},{"$f":"IF(S311=\"\",\"\",VLOOKUP(AH311,種目名!$O$5:$T$104,3,0))","v":""},0,"","",0,"",""]
["",null,{"$f":"IF(B312=\"\",\"\",VLOOKUP(B312,学連登録!$C$2:$G$3000,2,FALSE))","v":""},{"$f":"IF(B312=\"\",\"\",VLOOKUP(B312,学連登録!$C$2:$G$3000,3,FALSE))","v":""},{"$f":"IF(B312=\"\",\"\",VLOOKUP(B312,学連登録!$C$2:$G$3000,4,FALSE))","v":""},"",null,null,null,null,null,null,null,null,null,null,null,null,null,null,null,{"$f":"IF(B312=\"\",\"\",VLOOKUP(B312,学連登録!$C$2:$H$3000,6,FALSE))","v":""},null,"",{"$f":"IF(G312=\"\",\"\",VLOOKUP(G312,種目名!$O$5:$T$104,3,0))","v":""},{"$f":"IF(J312=\"\",\"\",VLOOKUP(J312,種目名!$O$5:$T$104,3,0))","v":""},{"$f":"IF(M312=\"\",\"\",VLOOKUP(M312,種目名!$O$5:$T$104,3,0))","v":""},{"$f":"IF(P312=\"\",\"\",VLOOKUP(AE312,種目名!$O$5:$T$104,3,0))","v":""},{"$f":"IF(S312=\"\",\"\",VLOOKUP(AH312,種目名!$O$5:$T$104,3,0))","v":""},0,"","",0,"",""]
["",null,{"$f":"IF(B313=\"\",\"\",VLOOKUP(B313,学連登録!$C$2:$G$3000,2,FALSE))","v":""},{"$f":"IF(B313=\"\",\"\",VLOOKUP(B313,学連登録!$C$2:$G$3000,3,FALSE))","v":""},{"$f":"IF(B313=\"\",\"\",VLOOKUP(B313,学連登録!$C$2:$G$3000,4,FALSE))","v":""},"",null,null,null,null,null,null,null,null,null,null,null,null,null,null,null,{"$f":"IF(B313=\"\",\"\",VLOOKUP(B313,学連登録!$C$2:$H$3000,6,FALSE))","v":""},null,"",{"$f":"IF(G313=\"\",\"\",VLOOKUP(G313,種目名!$O$5:$T$104,3,0))","v":""},{"$f":"IF(J313=\"\",\"\",VLOOKUP(J313,種目名!$O$5:$T$104,3,0))","v":""},{"$f":"IF(M313=\"\",\"\",VLOOKUP(M313,種目名!$O$5:$T$104,3,0))","v":""},{"$f":"IF(P313=\"\",\"\",VLOOKUP(AE313,種目名!$O$5:$T$104,3,0))","v":""},{"$f":"IF(S313=\"\",\"\",VLOOKUP(AH313,種目名!$O$5:$T$104,3,0))","v":""},0,"","",0,"",""]
["",null,{"$f":"IF(B314=\"\",\"\",VLOOKUP(B314,学連登録!$C$2:$G$3000,2,FALSE))","v":""},{"$f":"IF(B314=\"\",\"\",VLOOKUP(B314,学連登録!$C$2:$G$3000,3,FALSE))","v":""},{"$f":"IF(B314=\"\",\"\",VLOOKUP(B314,学連登録!$C$2:$G$3000,4,FALSE))","v":""},"",null,null,null,null,null,null,null,null,null,null,null,null,null,null,null,{"$f":"IF(B314=\"\",\"\",VLOOKUP(B314,学連登録!$C$2:$H$3000,6,FALSE))","v":""},null,"",{"$f":"IF(G314=\"\",\"\",VLOOKUP(G314,種目名!$O$5:$T$104,3,0))","v":""},{"$f":"IF(J314=\"\",\"\",VLOOKUP(J314,種目名!$O$5:$T$104,3,0))","v":""},{"$f":"IF(M314=\"\",\"\",VLOOKUP(M314,種目名!$O$5:$T$104,3,0))","v":""},{"$f":"IF(P314=\"\",\"\",VLOOKUP(AE314,種目名!$O$5:$T$104,3,0))","v":""},{"$f":"IF(S314=\"\",\"\",VLOOKUP(AH314,種目名!$O$5:$T$104,3,0))","v":""},0,"","",0,"",""]
["",null,{"$f":"IF(B315=\"\",\"\",VLOOKUP(B315,学連登録!$C$2:$G$3000,2,FALSE))","v":""},{"$f":"IF(B315=\"\",\"\",VLOOKUP(B315,学連登録!$C$2:$G$3000,3,FALSE))","v":""},{"$f":"IF(B315=\"\",\"\",VLOOKUP(B315,学連登録!$C$2:$G$3000,4,FALSE))","v":""},"",null,null,null,null,null,null,null,null,null,null,null,null,null,null,null,{"$f":"IF(B315=\"\",\"\",VLOOKUP(B315,学連登録!$C$2:$H$3000,6,FALSE))","v":""},null,"",{"$f":"IF(G315=\"\",\"\",VLOOKUP(G315,種目名!$O$5:$T$104,3,0))","v":""},{"$f":"IF(J315=\"\",\"\",VLOOKUP(J315,種目名!$O$5:$T$104,3,0))","v":""},{"$f":"IF(M315=\"\",\"\",VLOOKUP(M315,種目名!$O$5:$T$104,3,0))","v":""},{"$f":"IF(P315=\"\",\"\",VLOOKUP(AE315,種目名!$O$5:$T$104,3,0))","v":""},{"$f":"IF(S315=\"\",\"\",VLOOKUP(AH315,種目名!$O$5:$T$104,3,0))","v":""},0,"","",0,"",""]
["",null,{"$f":"IF(B316=\"\",\"\",VLOOKUP(B316,学連登録!$C$2:$G$3000,2,FALSE))","v":""},{"$f":"IF(B316=\"\",\"\",VLOOKUP(B316,学連登録!$C$2:$G$3000,3,FALSE))","v":""},{"$f":"IF(B316=\"\",\"\",VLOOKUP(B316,学連登録!$C$2:$G$3000,4,FALSE))","v":""},"",null,null,null,null,null,null,null,null,null,null,null,null,null,null,null,{"$f":"IF(B316=\"\",\"\",VLOOKUP(B316,学連登録!$C$2:$H$3000,6,FALSE))","v":""},null,"",{"$f":"IF(G316=\"\",\"\",VLOOKUP(G316,種目名!$O$5:$T$104,3,0))","v":""},{"$f":"IF(J316=\"\",\"\",VLOOKUP(J316,種目名!$O$5:$T$104,3,0))","v":""},{"$f":"IF(M316=\"\",\"\",VLOOKUP(M316,種目名!$O$5:$T$104,3,0))","v":""},{"$f":"IF(P316=\"\",\"\",VLOOKUP(AE316,種目名!$O$5:$T$104,3,0))","v":""},{"$f":"IF(S316=\"\",\"\",VLOOKUP(AH316,種目名!$O$5:$T$104,3,0))","v":""},0,"","",0,"",""]
["",null,{"$f":"IF(B317=\"\",\"\",VLOOKUP(B317,学連登録!$C$2:$G$3000,2,FALSE))","v":""},{"$f":"IF(B317=\"\",\"\",VLOOKUP(B317,学連登録!$C$2:$G$3000,3,FALSE))","v":""},{"$f":"IF(B317=\"\",\"\",VLOOKUP(B317,学連登録!$C$2:$G$3000,4,FALSE))","v":""},"",null,null,null,null,null,null,null,null,null,null,null,null,null,null,null,{"$f":"IF(B317=\"\",\"\",VLOOKUP(B317,学連登録!$C$2:$H$3000,6,FALSE))","v":""},null,"",{"$f":"IF(G317=\"\",\"\",VLOOKUP(G317,種目名!$O$5:$T$104,3,0))","v":""},{"$f":"IF(J317=\"\",\"\",VLOOKUP(J317,種目名!$O$5:$T$104,3,0))","v":""},{"$f":"IF(M317=\"\",\"\",VLOOKUP(M317,種目名!$O$5:$T$104,3,0))","v":""},{"$f":"IF(P317=\"\",\"\",VLOOKUP(AE317,種目名!$O$5:$T$104,3,0))","v":""},{"$f":"IF(S317=\"\",\"\",VLOOKUP(AH317,種目名!$O$5:$T$104,3,0))","v":""},0,"","",0,"",""]
["",null,{"$f":"IF(B318=\"\",\"\",VLOOKUP(B318,学連登録!$C$2:$G$3000,2,FALSE))","v":""},{"$f":"IF(B318=\"\",\"\",VLOOKUP(B318,学連登録!$C$2:$G$3000,3,FALSE))","v":""},{"$f":"IF(B318=\"\",\"\",VLOOKUP(B318,学連登録!$C$2:$G$3000,4,FALSE))","v":""},"",null,null,null,null,null,null,null,null,null,null,null,null,null,null,null,{"$f":"IF(B318=\"\",\"\",VLOOKUP(B318,学連登録!$C$2:$H$3000,6,FALSE))","v":""},null,"",{"$f":"IF(G318=\"\",\"\",VLOOKUP(G318,種目名!$O$5:$T$104,3,0))","v":""},{"$f":"IF(J318=\"\",\"\",VLOOKUP(J318,種目名!$O$5:$T$104,3,0))","v":""},{"$f":"IF(M318=\"\",\"\",VLOOKUP(M318,種目名!$O$5:$T$104,3,0))","v":""},{"$f":"IF(P318=\"\",\"\",VLOOKUP(AE318,種目名!$O$5:$T$104,3,0))","v":""},{"$f":"IF(S318=\"\",\"\",VLOOKUP(AH318,種目名!$O$5:$T$104,3,0))","v":""},0,"","",0,"",""]
["",null,{"$f":"IF(B319=\"\",\"\",VLOOKUP(B319,学連登録!$C$2:$G$3000,2,FALSE))","v":""},{"$f":"IF(B319=\"\",\"\",VLOOKUP(B319,学連登録!$C$2:$G$3000,3,FALSE))","v":""},{"$f":"IF(B319=\"\",\"\",VLOOKUP(B319,学連登録!$C$2:$G$3000,4,FALSE))","v":""},"",null,null,null,null,null,null,null,null,null,null,null,null,null,null,null,{"$f":"IF(B319=\"\",\"\",VLOOKUP(B319,学連登録!$C$2:$H$3000,6,FALSE))","v":""},null,"",{"$f":"IF(G319=\"\",\"\",VLOOKUP(G319,種目名!$O$5:$T$104,3,0))","v":""},{"$f":"IF(J319=\"\",\"\",VLOOKUP(J319,種目名!$O$5:$T$104,3,0))","v":""},{"$f":"IF(M319=\"\",\"\",VLOOKUP(M319,種目名!$O$5:$T$104,3,0))","v":""},{"$f":"IF(P319=\"\",\"\",VLOOKUP(AE319,種目名!$O$5:$T$104,3,0))","v":""},{"$f":"IF(S319=\"\",\"\",VLOOKUP(AH319,種目名!$O$5:$T$104,3,0))","v":""},0,"","",0,"",""]
["",null,{"$f":"IF(B320=\"\",\"\",VLOOKUP(B320,学連登録!$C$2:$G$3000,2,FALSE))","v":""},{"$f":"IF(B320=\"\",\"\",VLOOKUP(B320,学連登録!$C$2:$G$3000,3,FALSE))","v":""},{"$f":"IF(B320=\"\",\"\",VLOOKUP(B320,学連登録!$C$2:$G$3000,4,FALSE))","v":""},"",null,null,null,null,null,null,null,null,null,null,null,null,null,null,null,{"$f":"IF(B320=\"\",\"\",VLOOKUP(B320,学連登録!$C$2:$H$3000,6,FALSE))","v":""},null,"",{"$f":"IF(G320=\"\",\"\",VLOOKUP(G320,種目名!$O$5:$T$104,3,0))","v":""},{"$f":"IF(J320=\"\",\"\",VLOOKUP(J320,種目名!$O$5:$T$104,3,0))","v":""},{"$f":"IF(M320=\"\",\"\",VLOOKUP(M320,種目名!$O$5:$T$104,3,0))","v":""},{"$f":"IF(P320=\"\",\"\",VLOOKUP(AE320,種目名!$O$5:$T$104,3,0))","v":""},{"$f":"IF(S320=\"\",\"\",VLOOKUP(AH320,種目名!$O$5:$T$104,3,0))","v":""},0,"","",0,"",""]
["",null,{"$f":"IF(B321=\"\",\"\",VLOOKUP(B321,学連登録!$C$2:$G$3000,2,FALSE))","v":""},{"$f":"IF(B321=\"\",\"\",VLOOKUP(B321,学連登録!$C$2:$G$3000,3,FALSE))","v":""},{"$f":"IF(B321=\"\",\"\",VLOOKUP(B321,学連登録!$C$2:$G$3000,4,FALSE))","v":""},"",null,null,null,null,null,null,null,null,null,null,null,null,null,null,null,{"$f":"IF(B321=\"\",\"\",VLOOKUP(B321,学連登録!$C$2:$H$3000,6,FALSE))","v":""},null,"",{"$f":"IF(G321=\"\",\"\",VLOOKUP(G321,種目名!$O$5:$T$104,3,0))","v":""},{"$f":"IF(J321=\"\",\"\",VLOOKUP(J321,種目名!$O$5:$T$104,3,0))","v":""},{"$f":"IF(M321=\"\",\"\",VLOOKUP(M321,種目名!$O$5:$T$104,3,0))","v":""},{"$f":"IF(P321=\"\",\"\",VLOOKUP(AE321,種目名!$O$5:$T$104,3,0))","v":""},{"$f":"IF(S321=\"\",\"\",VLOOKUP(AH321,種目名!$O$5:$T$104,3,0))","v":""},0,"","",0,"",""]
["",null,{"$f":"IF(B322=\"\",\"\",VLOOKUP(B322,学連登録!$C$2:$G$3000,2,FALSE))","v":""},{"$f":"IF(B322=\"\",\"\",VLOOKUP(B322,学連登録!$C$2:$G$3000,3,FALSE))","v":""},{"$f":"IF(B322=\"\",\"\",VLOOKUP(B322,学連登録!$C$2:$G$3000,4,FALSE))","v":""},"",null,null,null,null,null,null,null,null,null,null,null,null,null,null,null,{"$f":"IF(B322=\"\",\"\",VLOOKUP(B322,学連登録!$C$2:$H$3000,6,FALSE))","v":""},null,"",{"$f":"IF(G322=\"\",\"\",VLOOKUP(G322,種目名!$O$5:$T$104,3,0))","v":""},{"$f":"IF(J322=\"\",\"\",VLOOKUP(J322,種目名!$O$5:$T$104,3,0))","v":""},{"$f":"IF(M322=\"\",\"\",VLOOKUP(M322,種目名!$O$5:$T$104,3,0))","v":""},{"$f":"IF(P322=\"\",\"\",VLOOKUP(AE322,種目名!$O$5:$T$104,3,0))","v":""},{"$f":"IF(S322=\"\",\"\",VLOOKUP(AH322,種目名!$O$5:$T$104,3,0))","v":""},0,"","",0,"",""]
["",null,{"$f":"IF(B323=\"\",\"\",VLOOKUP(B323,学連登録!$C$2:$G$3000,2,FALSE))","v":""},{"$f":"IF(B323=\"\",\"\",VLOOKUP(B323,学連登録!$C$2:$G$3000,3,FALSE))","v":""},{"$f":"IF(B323=\"\",\"\",VLOOKUP(B323,学連登録!$C$2:$G$3000,4,FALSE))","v":""},"",null,null,null,null,null,null,null,null,null,null,null,null,null,null,null,{"$f":"IF(B323=\"\",\"\",VLOOKUP(B323,学連登録!$C$2:$H$3000,6,FALSE))","v":""},null,"",{"$f":"IF(G323=\"\",\"\",VLOOKUP(G323,種目名!$O$5:$T$104,3,0))","v":""},{"$f":"IF(J323=\"\",\"\",VLOOKUP(J323,種目名!$O$5:$T$104,3,0))","v":""},{"$f":"IF(M323=\"\",\"\",VLOOKUP(M323,種目名!$O$5:$T$104,3,0))","v":""},{"$f":"IF(P323=\"\",\"\",VLOOKUP(AE323,種目名!$O$5:$T$104,3,0))","v":""},{"$f":"IF(S323=\"\",\"\",VLOOKUP(AH323,種目名!$O$5:$T$104,3,0))","v":""},0,"","",0,"",""]
["",null,{"$f":"IF(B324=\"\",\"\",VLOOKUP(B324,学連登録!$C$2:$G$3000,2,FALSE))","v":""},{"$f":"IF(B324=\"\",\"\",VLOOKUP(B324,学連登録!$C$2:$G$3000,3,FALSE))","v":""},{"$f":"IF(B324=\"\",\"\",VLOOKUP(B324,学連登録!$C$2:$G$3000,4,FALSE))","v":""},"",null,null,null,null,null,null,null,null,null,null,null,null,null,null,null,{"$f":"IF(B324=\"\",\"\",VLOOKUP(B324,学連登録!$C$2:$H$3000,6,FALSE))","v":""},null,"",{"$f":"IF(G324=\"\",\"\",VLOOKUP(G324,種目名!$O$5:$T$104,3,0))","v":""},{"$f":"IF(J324=\"\",\"\",VLOOKUP(J324,種目名!$O$5:$T$104,3,0))","v":""},{"$f":"IF(M324=\"\",\"\",VLOOKUP(M324,種目名!$O$5:$T$104,3,0))","v":""},{"$f":"IF(P324=\"\",\"\",VLOOKUP(AE324,種目名!$O$5:$T$104,3,0))","v":""},{"$f":"IF(S324=\"\",\"\",VLOOKUP(AH324,種目名!$O$5:$T$104,3,0))","v":""},0,"","",0,"",""]
["",null,{"$f":"IF(B325=\"\",\"\",VLOOKUP(B325,学連登録!$C$2:$G$3000,2,FALSE))","v":""},{"$f":"IF(B325=\"\",\"\",VLOOKUP(B325,学連登録!$C$2:$G$3000,3,FALSE))","v":""},{"$f":"IF(B325=\"\",\"\",VLOOKUP(B325,学連登録!$C$2:$G$3000,4,FALSE))","v":""},"",null,null,null,null,null,null,null,null,null,null,null,null,null,null,null,{"$f":"IF(B325=\"\",\"\",VLOOKUP(B325,学連登録!$C$2:$H$3000,6,FALSE))","v":""},null,"",{"$f":"IF(G325=\"\",\"\",VLOOKUP(G325,種目名!$O$5:$T$104,3,0))","v":""},{"$f":"IF(J325=\"\",\"\",VLOOKUP(J325,種目名!$O$5:$T$104,3,0))","v":""},{"$f":"IF(M325=\"\",\"\",VLOOKUP(M325,種目名!$O$5:$T$104,3,0))","v":""},{"$f":"IF(P325=\"\",\"\",VLOOKUP(AE325,種目名!$O$5:$T$104,3,0))","v":""},{"$f":"IF(S325=\"\",\"\",VLOOKUP(AH325,種目名!$O$5:$T$104,3,0))","v":""},0,"","",0,"",""]
["",null,{"$f":"IF(B326=\"\",\"\",VLOOKUP(B326,学連登録!$C$2:$G$3000,2,FALSE))","v":""},{"$f":"IF(B326=\"\",\"\",VLOOKUP(B326,学連登録!$C$2:$G$3000,3,FALSE))","v":""},{"$f":"IF(B326=\"\",\"\",VLOOKUP(B326,学連登録!$C$2:$G$3000,4,FALSE))","v":""},"",null,null,null,null,null,null,null,null,null,null,null,null,null,null,null,{"$f":"IF(B326=\"\",\"\",VLOOKUP(B326,学連登録!$C$2:$H$3000,6,FALSE))","v":""},null,"",{"$f":"IF(G326=\"\",\"\",VLOOKUP(G326,種目名!$O$5:$T$104,3,0))","v":""},{"$f":"IF(J326=\"\",\"\",VLOOKUP(J326,種目名!$O$5:$T$104,3,0))","v":""},{"$f":"IF(M326=\"\",\"\",VLOOKUP(M326,種目名!$O$5:$T$104,3,0))","v":""},{"$f":"IF(P326=\"\",\"\",VLOOKUP(AE326,種目名!$O$5:$T$104,3,0))","v":""},{"$f":"IF(S326=\"\",\"\",VLOOKUP(AH326,種目名!$O$5:$T$104,3,0))","v":""},0,"","",0,"",""]
["",null,{"$f":"IF(B327=\"\",\"\",VLOOKUP(B327,学連登録!$C$2:$G$3000,2,FALSE))","v":""},{"$f":"IF(B327=\"\",\"\",VLOOKUP(B327,学連登録!$C$2:$G$3000,3,FALSE))","v":""},{"$f":"IF(B327=\"\",\"\",VLOOKUP(B327,学連登録!$C$2:$G$3000,4,FALSE))","v":""},"",null,null,null,null,null,null,null,null,null,null,null,null,null,null,null,{"$f":"IF(B327=\"\",\"\",VLOOKUP(B327,学連登録!$C$2:$H$3000,6,FALSE))","v":""},null,"",{"$f":"IF(G327=\"\",\"\",VLOOKUP(G327,種目名!$O$5:$T$104,3,0))","v":""},{"$f":"IF(J327=\"\",\"\",VLOOKUP(J327,種目名!$O$5:$T$104,3,0))","v":""},{"$f":"IF(M327=\"\",\"\",VLOOKUP(M327,種目名!$O$5:$T$104,3,0))","v":""},{"$f":"IF(P327=\"\",\"\",VLOOKUP(AE327,種目名!$O$5:$T$104,3,0))","v":""},{"$f":"IF(S327=\"\",\"\",VLOOKUP(AH327,種目名!$O$5:$T$104,3,0))","v":""},0,"","",0,"",""]
["",null,{"$f":"IF(B328=\"\",\"\",VLOOKUP(B328,学連登録!$C$2:$G$3000,2,FALSE))","v":""},{"$f":"IF(B328=\"\",\"\",VLOOKUP(B328,学連登録!$C$2:$G$3000,3,FALSE))","v":""},{"$f":"IF(B328=\"\",\"\",VLOOKUP(B328,学連登録!$C$2:$G$3000,4,FALSE))","v":""},"",null,null,null,null,null,null,null,null,null,null,null,null,null,null,null,{"$f":"IF(B328=\"\",\"\",VLOOKUP(B328,学連登録!$C$2:$H$3000,6,FALSE))","v":""},null,"",{"$f":"IF(G328=\"\",\"\",VLOOKUP(G328,種目名!$O$5:$T$104,3,0))","v":""},{"$f":"IF(J328=\"\",\"\",VLOOKUP(J328,種目名!$O$5:$T$104,3,0))","v":""},{"$f":"IF(M328=\"\",\"\",VLOOKUP(M328,種目名!$O$5:$T$104,3,0))","v":""},{"$f":"IF(P328=\"\",\"\",VLOOKUP(AE328,種目名!$O$5:$T$104,3,0))","v":""},{"$f":"IF(S328=\"\",\"\",VLOOKUP(AH328,種目名!$O$5:$T$104,3,0))","v":""},0,"","",0,"",""]
["",null,{"$f":"IF(B329=\"\",\"\",VLOOKUP(B329,学連登録!$C$2:$G$3000,2,FALSE))","v":""},{"$f":"IF(B329=\"\",\"\",VLOOKUP(B329,学連登録!$C$2:$G$3000,3,FALSE))","v":""},{"$f":"IF(B329=\"\",\"\",VLOOKUP(B329,学連登録!$C$2:$G$3000,4,FALSE))","v":""},"",null,null,null,null,null,null,null,null,null,null,null,null,null,null,null,{"$f":"IF(B329=\"\",\"\",VLOOKUP(B329,学連登録!$C$2:$H$3000,6,FALSE))","v":""},null,"",{"$f":"IF(G329=\"\",\"\",VLOOKUP(G329,種目名!$O$5:$T$104,3,0))","v":""},{"$f":"IF(J329=\"\",\"\",VLOOKUP(J329,種目名!$O$5:$T$104,3,0))","v":""},{"$f":"IF(M329=\"\",\"\",VLOOKUP(M329,種目名!$O$5:$T$104,3,0))","v":""},{"$f":"IF(P329=\"\",\"\",VLOOKUP(AE329,種目名!$O$5:$T$104,3,0))","v":""},{"$f":"IF(S329=\"\",\"\",VLOOKUP(AH329,種目名!$O$5:$T$104,3,0))","v":""},0,"","",0,"",""]
["",null,{"$f":"IF(B330=\"\",\"\",VLOOKUP(B330,学連登録!$C$2:$G$3000,2,FALSE))","v":""},{"$f":"IF(B330=\"\",\"\",VLOOKUP(B330,学連登録!$C$2:$G$3000,3,FALSE))","v":""},{"$f":"IF(B330=\"\",\"\",VLOOKUP(B330,学連登録!$C$2:$G$3000,4,FALSE))","v":""},"",null,null,null,null,null,null,null,null,null,null,null,null,null,null,null,{"$f":"IF(B330=\"\",\"\",VLOOKUP(B330,学連登録!$C$2:$H$3000,6,FALSE))","v":""},null,"",{"$f":"IF(G330=\"\",\"\",VLOOKUP(G330,種目名!$O$5:$T$104,3,0))","v":""},{"$f":"IF(J330=\"\",\"\",VLOOKUP(J330,種目名!$O$5:$T$104,3,0))","v":""},{"$f":"IF(M330=\"\",\"\",VLOOKUP(M330,種目名!$O$5:$T$104,3,0))","v":""},{"$f":"IF(P330=\"\",\"\",VLOOKUP(AE330,種目名!$O$5:$T$104,3,0))","v":""},{"$f":"IF(S330=\"\",\"\",VLOOKUP(AH330,種目名!$O$5:$T$104,3,0))","v":""},0,"","",0,"",""]
["",null,{"$f":"IF(B331=\"\",\"\",VLOOKUP(B331,学連登録!$C$2:$G$3000,2,FALSE))","v":""},{"$f":"IF(B331=\"\",\"\",VLOOKUP(B331,学連登録!$C$2:$G$3000,3,FALSE))","v":""},{"$f":"IF(B331=\"\",\"\",VLOOKUP(B331,学連登録!$C$2:$G$3000,4,FALSE))","v":""},"",null,null,null,null,null,null,null,null,null,null,null,null,null,null,null,{"$f":"IF(B331=\"\",\"\",VLOOKUP(B331,学連登録!$C$2:$H$3000,6,FALSE))","v":""},null,"",{"$f":"IF(G331=\"\",\"\",VLOOKUP(G331,種目名!$O$5:$T$104,3,0))","v":""},{"$f":"IF(J331=\"\",\"\",VLOOKUP(J331,種目名!$O$5:$T$104,3,0))","v":""},{"$f":"IF(M331=\"\",\"\",VLOOKUP(M331,種目名!$O$5:$T$104,3,0))","v":""},{"$f":"IF(P331=\"\",\"\",VLOOKUP(AE331,種目名!$O$5:$T$104,3,0))","v":""},{"$f":"IF(S331=\"\",\"\",VLOOKUP(AH331,種目名!$O$5:$T$104,3,0))","v":""},0,"","",0,"",""]
["",null,{"$f":"IF(B332=\"\",\"\",VLOOKUP(B332,学連登録!$C$2:$G$3000,2,FALSE))","v":""},{"$f":"IF(B332=\"\",\"\",VLOOKUP(B332,学連登録!$C$2:$G$3000,3,FALSE))","v":""},{"$f":"IF(B332=\"\",\"\",VLOOKUP(B332,学連登録!$C$2:$G$3000,4,FALSE))","v":""},"",null,null,null,null,null,null,null,null,null,null,null,null,null,null,null,{"$f":"IF(B332=\"\",\"\",VLOOKUP(B332,学連登録!$C$2:$H$3000,6,FALSE))","v":""},null,"",{"$f":"IF(G332=\"\",\"\",VLOOKUP(G332,種目名!$O$5:$T$104,3,0))","v":""},{"$f":"IF(J332=\"\",\"\",VLOOKUP(J332,種目名!$O$5:$T$104,3,0))","v":""},{"$f":"IF(M332=\"\",\"\",VLOOKUP(M332,種目名!$O$5:$T$104,3,0))","v":""},{"$f":"IF(P332=\"\",\"\",VLOOKUP(AE332,種目名!$O$5:$T$104,3,0))","v":""},{"$f":"IF(S332=\"\",\"\",VLOOKUP(AH332,種目名!$O$5:$T$104,3,0))","v":""},0,"","",0,"",""]
["",null,{"$f":"IF(B333=\"\",\"\",VLOOKUP(B333,学連登録!$C$2:$G$3000,2,FALSE))","v":""},{"$f":"IF(B333=\"\",\"\",VLOOKUP(B333,学連登録!$C$2:$G$3000,3,FALSE))","v":""},{"$f":"IF(B333=\"\",\"\",VLOOKUP(B333,学連登録!$C$2:$G$3000,4,FALSE))","v":""},"",null,null,null,null,null,null,null,null,null,null,null,null,null,null,null,{"$f":"IF(B333=\"\",\"\",VLOOKUP(B333,学連登録!$C$2:$H$3000,6,FALSE))","v":""},null,"",{"$f":"IF(G333=\"\",\"\",VLOOKUP(G333,種目名!$O$5:$T$104,3,0))","v":""},{"$f":"IF(J333=\"\",\"\",VLOOKUP(J333,種目名!$O$5:$T$104,3,0))","v":""},{"$f":"IF(M333=\"\",\"\",VLOOKUP(M333,種目名!$O$5:$T$104,3,0))","v":""},{"$f":"IF(P333=\"\",\"\",VLOOKUP(AE333,種目名!$O$5:$T$104,3,0))","v":""},{"$f":"IF(S333=\"\",\"\",VLOOKUP(AH333,種目名!$O$5:$T$104,3,0))","v":""},0,"","",0,"",""]
["",null,{"$f":"IF(B334=\"\",\"\",VLOOKUP(B334,学連登録!$C$2:$G$3000,2,FALSE))","v":""},{"$f":"IF(B334=\"\",\"\",VLOOKUP(B334,学連登録!$C$2:$G$3000,3,FALSE))","v":""},{"$f":"IF(B334=\"\",\"\",VLOOKUP(B334,学連登録!$C$2:$G$3000,4,FALSE))","v":""},"",null,null,null,null,null,null,null,null,null,null,null,null,null,null,null,{"$f":"IF(B334=\"\",\"\",VLOOKUP(B334,学連登録!$C$2:$H$3000,6,FALSE))","v":""},null,"",{"$f":"IF(G334=\"\",\"\",VLOOKUP(G334,種目名!$O$5:$T$104,3,0))","v":""},{"$f":"IF(J334=\"\",\"\",VLOOKUP(J334,種目名!$O$5:$T$104,3,0))","v":""},{"$f":"IF(M334=\"\",\"\",VLOOKUP(M334,種目名!$O$5:$T$104,3,0))","v":""},{"$f":"IF(P334=\"\",\"\",VLOOKUP(AE334,種目名!$O$5:$T$104,3,0))","v":""},{"$f":"IF(S334=\"\",\"\",VLOOKUP(AH334,種目名!$O$5:$T$104,3,0))","v":""},0,"","",0,"",""]
["",null,{"$f":"IF(B335=\"\",\"\",VLOOKUP(B335,学連登録!$C$2:$G$3000,2,FALSE))","v":""},{"$f":"IF(B335=\"\",\"\",VLOOKUP(B335,学連登録!$C$2:$G$3000,3,FALSE))","v":""},{"$f":"IF(B335=\"\",\"\",VLOOKUP(B335,学連登録!$C$2:$G$3000,4,FALSE))","v":""},"",null,null,null,null,null,null,null,null,null,null,null,null,null,null,null,{"$f":"IF(B335=\"\",\"\",VLOOKUP(B335,学連登録!$C$2:$H$3000,6,FALSE))","v":""},null,"",{"$f":"IF(G335=\"\",\"\",VLOOKUP(G335,種目名!$O$5:$T$104,3,0))","v":""},{"$f":"IF(J335=\"\",\"\",VLOOKUP(J335,種目名!$O$5:$T$104,3,0))","v":""},{"$f":"IF(M335=\"\",\"\",VLOOKUP(M335,種目名!$O$5:$T$104,3,0))","v":""},{"$f":"IF(P335=\"\",\"\",VLOOKUP(AE335,種目名!$O$5:$T$104,3,0))","v":""},{"$f":"IF(S335=\"\",\"\",VLOOKUP(AH335,種目名!$O$5:$T$104,3,0))","v":""},0,"","",0,"",""]
["",null,{"$f":"IF(B336=\"\",\"\",VLOOKUP(B336,学連登録!$C$2:$G$3000,2,FALSE))","v":""},{"$f":"IF(B336=\"\",\"\",VLOOKUP(B336,学連登録!$C$2:$G$3000,3,FALSE))","v":""},{"$f":"IF(B336=\"\",\"\",VLOOKUP(B336,学連登録!$C$2:$G$3000,4,FALSE))","v":""},"",null,null,null,null,null,null,null,null,null,null,null,null,null,null,null,{"$f":"IF(B336=\"\",\"\",VLOOKUP(B336,学連登録!$C$2:$H$3000,6,FALSE))","v":""},null,"",{"$f":"IF(G336=\"\",\"\",VLOOKUP(G336,種目名!$O$5:$T$104,3,0))","v":""},{"$f":"IF(J336=\"\",\"\",VLOOKUP(J336,種目名!$O$5:$T$104,3,0))","v":""},{"$f":"IF(M336=\"\",\"\",VLOOKUP(M336,種目名!$O$5:$T$104,3,0))","v":""},{"$f":"IF(P336=\"\",\"\",VLOOKUP(AE336,種目名!$O$5:$T$104,3,0))","v":""},{"$f":"IF(S336=\"\",\"\",VLOOKUP(AH336,種目名!$O$5:$T$104,3,0))","v":""},0,"","",0,"",""]
["",null,{"$f":"IF(B337=\"\",\"\",VLOOKUP(B337,学連登録!$C$2:$G$3000,2,FALSE))","v":""},{"$f":"IF(B337=\"\",\"\",VLOOKUP(B337,学連登録!$C$2:$G$3000,3,FALSE))","v":""},{"$f":"IF(B337=\"\",\"\",VLOOKUP(B337,学連登録!$C$2:$G$3000,4,FALSE))","v":""},"",null,null,null,null,null,null,null,null,null,null,null,null,null,null,null,{"$f":"IF(B337=\"\",\"\",VLOOKUP(B337,学連登録!$C$2:$H$3000,6,FALSE))","v":""},null,"",{"$f":"IF(G337=\"\",\"\",VLOOKUP(G337,種目名!$O$5:$T$104,3,0))","v":""},{"$f":"IF(J337=\"\",\"\",VLOOKUP(J337,種目名!$O$5:$T$104,3,0))","v":""},{"$f":"IF(M337=\"\",\"\",VLOOKUP(M337,種目名!$O$5:$T$104,3,0))","v":""},{"$f":"IF(P337=\"\",\"\",VLOOKUP(AE337,種目名!$O$5:$T$104,3,0))","v":""},{"$f":"IF(S337=\"\",\"\",VLOOKUP(AH337,種目名!$O$5:$T$104,3,0))","v":""},0,"","",0,"",""]
["",null,{"$f":"IF(B338=\"\",\"\",VLOOKUP(B338,学連登録!$C$2:$G$3000,2,FALSE))","v":""},{"$f":"IF(B338=\"\",\"\",VLOOKUP(B338,学連登録!$C$2:$G$3000,3,FALSE))","v":""},{"$f":"IF(B338=\"\",\"\",VLOOKUP(B338,学連登録!$C$2:$G$3000,4,FALSE))","v":""},"",null,null,null,null,null,null,null,null,null,null,null,null,null,null,null,{"$f":"IF(B338=\"\",\"\",VLOOKUP(B338,学連登録!$C$2:$H$3000,6,FALSE))","v":""},null,"",{"$f":"IF(G338=\"\",\"\",VLOOKUP(G338,種目名!$O$5:$T$104,3,0))","v":""},{"$f":"IF(J338=\"\",\"\",VLOOKUP(J338,種目名!$O$5:$T$104,3,0))","v":""},{"$f":"IF(M338=\"\",\"\",VLOOKUP(M338,種目名!$O$5:$T$104,3,0))","v":""},{"$f":"IF(P338=\"\",\"\",VLOOKUP(AE338,種目名!$O$5:$T$104,3,0))","v":""},{"$f":"IF(S338=\"\",\"\",VLOOKUP(AH338,種目名!$O$5:$T$104,3,0))","v":""},0,"","",0,"",""]
["",null,{"$f":"IF(B339=\"\",\"\",VLOOKUP(B339,学連登録!$C$2:$G$3000,2,FALSE))","v":""},{"$f":"IF(B339=\"\",\"\",VLOOKUP(B339,学連登録!$C$2:$G$3000,3,FALSE))","v":""},{"$f":"IF(B339=\"\",\"\",VLOOKUP(B339,学連登録!$C$2:$G$3000,4,FALSE))","v":""},"",null,null,null,null,null,null,null,null,null,null,null,null,null,null,null,{"$f":"IF(B339=\"\",\"\",VLOOKUP(B339,学連登録!$C$2:$H$3000,6,FALSE))","v":""},null,"",{"$f":"IF(G339=\"\",\"\",VLOOKUP(G339,種目名!$O$5:$T$104,3,0))","v":""},{"$f":"IF(J339=\"\",\"\",VLOOKUP(J339,種目名!$O$5:$T$104,3,0))","v":""},{"$f":"IF(M339=\"\",\"\",VLOOKUP(M339,種目名!$O$5:$T$104,3,0))","v":""},{"$f":"IF(P339=\"\",\"\",VLOOKUP(AE339,種目名!$O$5:$T$104,3,0))","v":""},{"$f":"IF(S339=\"\",\"\",VLOOKUP(AH339,種目名!$O$5:$T$104,3,0))","v":""},0,"","",0,"",""]
["",null,{"$f":"IF(B340=\"\",\"\",VLOOKUP(B340,学連登録!$C$2:$G$3000,2,FALSE))","v":""},{"$f":"IF(B340=\"\",\"\",VLOOKUP(B340,学連登録!$C$2:$G$3000,3,FALSE))","v":""},{"$f":"IF(B340=\"\",\"\",VLOOKUP(B340,学連登録!$C$2:$G$3000,4,FALSE))","v":""},"",null,null,null,null,null,null,null,null,null,null,null,null,null,null,null,{"$f":"IF(B340=\"\",\"\",VLOOKUP(B340,学連登録!$C$2:$H$3000,6,FALSE))","v":""},null,"",{"$f":"IF(G340=\"\",\"\",VLOOKUP(G340,種目名!$O$5:$T$104,3,0))","v":""},{"$f":"IF(J340=\"\",\"\",VLOOKUP(J340,種目名!$O$5:$T$104,3,0))","v":""},{"$f":"IF(M340=\"\",\"\",VLOOKUP(M340,種目名!$O$5:$T$104,3,0))","v":""},{"$f":"IF(P340=\"\",\"\",VLOOKUP(AE340,種目名!$O$5:$T$104,3,0))","v":""},{"$f":"IF(S340=\"\",\"\",VLOOKUP(AH340,種目名!$O$5:$T$104,3,0))","v":""},0,"","",0,"",""]
["",null,{"$f":"IF(B341=\"\",\"\",VLOOKUP(B341,学連登録!$C$2:$G$3000,2,FALSE))","v":""},{"$f":"IF(B341=\"\",\"\",VLOOKUP(B341,学連登録!$C$2:$G$3000,3,FALSE))","v":""},{"$f":"IF(B341=\"\",\"\",VLOOKUP(B341,学連登録!$C$2:$G$3000,4,FALSE))","v":""},"",null,null,null,null,null,null,null,null,null,null,null,null,null,null,null,{"$f":"IF(B341=\"\",\"\",VLOOKUP(B341,学連登録!$C$2:$H$3000,6,FALSE))","v":""},null,"",{"$f":"IF(G341=\"\",\"\",VLOOKUP(G341,種目名!$O$5:$T$104,3,0))","v":""},{"$f":"IF(J341=\"\",\"\",VLOOKUP(J341,種目名!$O$5:$T$104,3,0))","v":""},{"$f":"IF(M341=\"\",\"\",VLOOKUP(M341,種目名!$O$5:$T$104,3,0))","v":""},{"$f":"IF(P341=\"\",\"\",VLOOKUP(AE341,種目名!$O$5:$T$104,3,0))","v":""},{"$f":"IF(S341=\"\",\"\",VLOOKUP(AH341,種目名!$O$5:$T$104,3,0))","v":""},0,"","",0,"",""]
["",null,{"$f":"IF(B342=\"\",\"\",VLOOKUP(B342,学連登録!$C$2:$G$3000,2,FALSE))","v":""},{"$f":"IF(B342=\"\",\"\",VLOOKUP(B342,学連登録!$C$2:$G$3000,3,FALSE))","v":""},{"$f":"IF(B342=\"\",\"\",VLOOKUP(B342,学連登録!$C$2:$G$3000,4,FALSE))","v":""},{"$f":"IF(C342=\"\",\"\",$P$1)","v":""},null,null,null,null,null,null,null,null,null,null,null,null,null,null,null,{"$f":"IF(B342=\"\",\"\",VLOOKUP(B342,学連登録!$C$2:$H$3000,6,FALSE))","v":""},null,{"$f":"IF(C342=\"\",\"\",$S$3)","v":""},{"$f":"IF(G342=\"\",\"\",VLOOKUP(G342,種目名!$O$5:$T$104,3,0))","v":""},{"$f":"IF(J342=\"\",\"\",VLOOKUP(J342,種目名!$O$5:$T$104,3,0))","v":""},{"$f":"IF(M342=\"\",\"\",VLOOKUP(M342,種目名!$O$5:$T$104,3,0))","v":""},{"$f":"IF(P342=\"\",\"\",VLOOKUP(AE342,種目名!$O$5:$T$104,3,0))","v":""},{"$f":"IF(S342=\"\",\"\",VLOOKUP(AH342,種目名!$O$5:$T$104,3,0))","v":""},{"$f":"LENB(P342)","v":0},{"$f":"IF(AD342,LEFTB(P342,AD342-1),\"\")","v":""},{"$f":"IF(AD342,MIDB(P342,AD342,1),\"\")","v":""},{"$f":"LENB(S342)","v":0},{"$f":"IF(AG342,LEFTB(S342,AG342-1),\"\")","v":""},{"$f":"IF(AG342,MIDB(S342,AG342,1),\"\")","v":""}]
[{"$f":"IF(C343=\"\",\"\",A342+1)","v":""},null,{"$f":"IF(B343=\"\",\"\",VLOOKUP(B343,学連登録!$C$2:$G$3000,2,FALSE))","v":""},{"$f":"IF(B343=\"\",\"\",VLOOKUP(B343,学連登録!$C$2:$G$3000,3,FALSE))","v":""},{"$f":"IF(B343=\"\",\"\",VLOOKUP(B343,学連登録!$C$2:$G$3000,4,FALSE))","v":""},"",null,null,null,null,null,null,null,null,null,null,null,null,null,null,null,{"$f":"IF(B343=\"\",\"\",VLOOKUP(B343,学連登録!$C$2:$H$3000,6,FALSE))","v":""},null,"",{"$f":"IF(G343=\"\",\"\",VLOOKUP(G343,種目名!$O$5:$T$104,3,0))","v":""},{"$f":"IF(J343=\"\",\"\",VLOOKUP(J343,種目名!$O$5:$T$104,3,0))","v":""},{"$f":"IF(M343=\"\",\"\",VLOOKUP(M343,種目名!$O$5:$T$104,3,0))","v":""},{"$f":"IF(P343=\"\",\"\",VLOOKUP(AE343,種目名!$O$5:$T$104,3,0))","v":""},{"$f":"IF(S343=\"\",\"\",VLOOKUP(AH343,種目名!$O$5:$T$104,3,0))","v":""},0,"","",0,"",""]
["",null,{"$f":"IF(B344=\"\",\"\",VLOOKUP(B344,学連登録!$C$2:$G$3000,2,FALSE))","v":""},{"$f":"IF(B344=\"\",\"\",VLOOKUP(B344,学連登録!$C$2:$G$3000,3,FALSE))","v":""},{"$f":"IF(B344=\"\",\"\",VLOOKUP(B344,学連登録!$C$2:$G$3000,4,FALSE))","v":""},"",null,null,null,null,null,null,null,null,null,null,null,null,null,null,null,{"$f":"IF(B344=\"\",\"\",VLOOKUP(B344,学連登録!$C$2:$H$3000,6,FALSE))","v":""},null,"",{"$f":"IF(G344=\"\",\"\",VLOOKUP(G344,種目名!$O$5:$T$104,3,0))","v":""},{"$f":"IF(J344=\"\",\"\",VLOOKUP(J344,種目名!$O$5:$T$104,3,0))","v":""},{"$f":"IF(M344=\"\",\"\",VLOOKUP(M344,種目名!$O$5:$T$104,3,0))","v":""},{"$f":"IF(P344=\"\",\"\",VLOOKUP(AE344,種目名!$O$5:$T$104,3,0))","v":""},{"$f":"IF(S344=\"\",\"\",VLOOKUP(AH344,種目名!$O$5:$T$104,3,0))","v":""},0,"","",0,"",""]
["",null,{"$f":"IF(B345=\"\",\"\",VLOOKUP(B345,学連登録!$C$2:$G$3000,2,FALSE))","v":""},{"$f":"IF(B345=\"\",\"\",VLOOKUP(B345,学連登録!$C$2:$G$3000,3,FALSE))","v":""},{"$f":"IF(B345=\"\",\"\",VLOOKUP(B345,学連登録!$C$2:$G$3000,4,FALSE))","v":""},"",null,null,null,null,null,null,null,null,null,null,null,null,null,null,null,{"$f":"IF(B345=\"\",\"\",VLOOKUP(B345,学連登録!$C$2:$H$3000,6,FALSE))","v":""},null,"",{"$f":"IF(G345=\"\",\"\",VLOOKUP(G345,種目名!$O$5:$T$104,3,0))","v":""},{"$f":"IF(J345=\"\",\"\",VLOOKUP(J345,種目名!$O$5:$T$104,3,0))","v":""},{"$f":"IF(M345=\"\",\"\",VLOOKUP(M345,種目名!$O$5:$T$104,3,0))","v":""},{"$f":"IF(P345=\"\",\"\",VLOOKUP(AE345,種目名!$O$5:$T$104,3,0))","v":""},{"$f":"IF(S345=\"\",\"\",VLOOKUP(AH345,種目名!$O$5:$T$104,3,0))","v":""},0,"","",0,"",""]
["",null,{"$f":"IF(B346=\"\",\"\",VLOOKUP(B346,学連登録!$C$2:$G$3000,2,FALSE))","v":""},{"$f":"IF(B346=\"\",\"\",VLOOKUP(B346,学連登録!$C$2:$G$3000,3,FALSE))","v":""},{"$f":"IF(B346=\"\",\"\",VLOOKUP(B346,学連登録!$C$2:$G$3000,4,FALSE))","v":""},"",null,null,null,null,null,null,null,null,null,null,null,null,null,null,null,{"$f":"IF(B346=\"\",\"\",VLOOKUP(B346,学連登録!$C$2:$H$3000,6,FALSE))","v":""},null,"",{"$f":"IF(G346=\"\",\"\",VLOOKUP(G346,種目名!$O$5:$T$104,3,0))","v":""},{"$f":"IF(J346=\"\",\"\",VLOOKUP(J346,種目名!$O$5:$T$104,3,0))","v":""},{"$f":"IF(M346=\"\",\"\",VLOOKUP(M346,種目名!$O$5:$T$104,3,0))","v":""},{"$f":"IF(P346=\"\",\"\",VLOOKUP(AE346,種目名!$O$5:$T$104,3,0))","v":""},{"$f":"IF(S346=\"\",\"\",VLOOKUP(AH346,種目名!$O$5:$T$104,3,0))","v":""},0,"","",0,"",""]
["",null,{"$f":"IF(B347=\"\",\"\",VLOOKUP(B347,学連登録!$C$2:$G$3000,2,FALSE))","v":""},{"$f":"IF(B347=\"\",\"\",VLOOKUP(B347,学連登録!$C$2:$G$3000,3,FALSE))","v":""},{"$f":"IF(B347=\"\",\"\",VLOOKUP(B347,学連登録!$C$2:$G$3000,4,FALSE))","v":""},"",null,null,null,null,null,null,null,null,null,null,null,null,null,null,null,{"$f":"IF(B347=\"\",\"\",VLOOKUP(B347,学連登録!$C$2:$H$3000,6,FALSE))","v":""},null,"",{"$f":"IF(G347=\"\",\"\",VLOOKUP(G347,種目名!$O$5:$T$104,3,0))","v":""},{"$f":"IF(J347=\"\",\"\",VLOOKUP(J347,種目名!$O$5:$T$104,3,0))","v":""},{"$f":"IF(M347=\"\",\"\",VLOOKUP(M347,種目名!$O$5:$T$104,3,0))","v":""},{"$f":"IF(P347=\"\",\"\",VLOOKUP(AE347,種目名!$O$5:$T$104,3,0))","v":""},{"$f":"IF(S347=\"\",\"\",VLOOKUP(AH347,種目名!$O$5:$T$104,3,0))","v":""},0,"","",0,"",""]
["",null,{"$f":"IF(B348=\"\",\"\",VLOOKUP(B348,学連登録!$C$2:$G$3000,2,FALSE))","v":""},{"$f":"IF(B348=\"\",\"\",VLOOKUP(B348,学連登録!$C$2:$G$3000,3,FALSE))","v":""},{"$f":"IF(B348=\"\",\"\",VLOOKUP(B348,学連登録!$C$2:$G$3000,4,FALSE))","v":""},"",null,null,null,null,null,null,null,null,null,null,null,null,null,null,null,{"$f":"IF(B348=\"\",\"\",VLOOKUP(B348,学連登録!$C$2:$H$3000,6,FALSE))","v":""},null,"",{"$f":"IF(G348=\"\",\"\",VLOOKUP(G348,種目名!$O$5:$T$104,3,0))","v":""},{"$f":"IF(J348=\"\",\"\",VLOOKUP(J348,種目名!$O$5:$T$104,3,0))","v":""},{"$f":"IF(M348=\"\",\"\",VLOOKUP(M348,種目名!$O$5:$T$104,3,0))","v":""},{"$f":"IF(P348=\"\",\"\",VLOOKUP(AE348,種目名!$O$5:$T$104,3,0))","v":""},{"$f":"IF(S348=\"\",\"\",VLOOKUP(AH348,種目名!$O$5:$T$104,3,0))","v":""},0,"","",0,"",""]
["",null,{"$f":"IF(B349=\"\",\"\",VLOOKUP(B349,学連登録!$C$2:$G$3000,2,FALSE))","v":""},{"$f":"IF(B349=\"\",\"\",VLOOKUP(B349,学連登録!$C$2:$G$3000,3,FALSE))","v":""},{"$f":"IF(B349=\"\",\"\",VLOOKUP(B349,学連登録!$C$2:$G$3000,4,FALSE))","v":""},"",null,null,null,null,null,null,null,null,null,null,null,null,null,null,null,{"$f":"IF(B349=\"\",\"\",VLOOKUP(B349,学連登録!$C$2:$H$3000,6,FALSE))","v":""},null,"",{"$f":"IF(G349=\"\",\"\",VLOOKUP(G349,種目名!$O$5:$T$104,3,0))","v":""},{"$f":"IF(J349=\"\",\"\",VLOOKUP(J349,種目名!$O$5:$T$104,3,0))","v":""},{"$f":"IF(M349=\"\",\"\",VLOOKUP(M349,種目名!$O$5:$T$104,3,0))","v":""},{"$f":"IF(P349=\"\",\"\",VLOOKUP(AE349,種目名!$O$5:$T$104,3,0))","v":""},{"$f":"IF(S349=\"\",\"\",VLOOKUP(AH349,種目名!$O$5:$T$104,3,0))","v":""},0,"","",0,"",""]
["",null,{"$f":"IF(B350=\"\",\"\",VLOOKUP(B350,学連登録!$C$2:$G$3000,2,FALSE))","v":""},{"$f":"IF(B350=\"\",\"\",VLOOKUP(B350,学連登録!$C$2:$G$3000,3,FALSE))","v":""},{"$f":"IF(B350=\"\",\"\",VLOOKUP(B350,学連登録!$C$2:$G$3000,4,FALSE))","v":""},"",null,null,null,null,null,null,null,null,null,null,null,null,null,null,null,{"$f":"IF(B350=\"\",\"\",VLOOKUP(B350,学連登録!$C$2:$H$3000,6,FALSE))","v":""},null,"",{"$f":"IF(G350=\"\",\"\",VLOOKUP(G350,種目名!$O$5:$T$104,3,0))","v":""},{"$f":"IF(J350=\"\",\"\",VLOOKUP(J350,種目名!$O$5:$T$104,3,0))","v":""},{"$f":"IF(M350=\"\",\"\",VLOOKUP(M350,種目名!$O$5:$T$104,3,0))","v":""},{"$f":"IF(P350=\"\",\"\",VLOOKUP(AE350,種目名!$O$5:$T$104,3,0))","v":""},{"$f":"IF(S350=\"\",\"\",VLOOKUP(AH350,種目名!$O$5:$T$104,3,0))","v":""},0,"","",0,"",""]
["",null,{"$f":"IF(B351=\"\",\"\",VLOOKUP(B351,学連登録!$C$2:$G$3000,2,FALSE))","v":""},{"$f":"IF(B351=\"\",\"\",VLOOKUP(B351,学連登録!$C$2:$G$3000,3,FALSE))","v":""},{"$f":"IF(B351=\"\",\"\",VLOOKUP(B351,学連登録!$C$2:$G$3000,4,FALSE))","v":""},"",null,null,null,null,null,null,null,null,null,null,null,null,null,null,null,{"$f":"IF(B351=\"\",\"\",VLOOKUP(B351,学連登録!$C$2:$H$3000,6,FALSE))","v":""},null,"",{"$f":"IF(G351=\"\",\"\",VLOOKUP(G351,種目名!$O$5:$T$104,3,0))","v":""},{"$f":"IF(J351=\"\",\"\",VLOOKUP(J351,種目名!$O$5:$T$104,3,0))","v":""},{"$f":"IF(M351=\"\",\"\",VLOOKUP(M351,種目名!$O$5:$T$104,3,0))","v":""},{"$f":"IF(P351=\"\",\"\",VLOOKUP(AE351,種目名!$O$5:$T$104,3,0))","v":""},{"$f":"IF(S351=\"\",\"\",VLOOKUP(AH351,種目名!$O$5:$T$104,3,0))","v":""},0,"","",0,"",""]
["",null,{"$f":"IF(B352=\"\",\"\",VLOOKUP(B352,学連登録!$C$2:$G$3000,2,FALSE))","v":""},{"$f":"IF(B352=\"\",\"\",VLOOKUP(B352,学連登録!$C$2:$G$3000,3,FALSE))","v":""},{"$f":"IF(B352=\"\",\"\",VLOOKUP(B352,学連登録!$C$2:$G$3000,4,FALSE))","v":""},"",null,null,null,null,null,null,null,null,null,null,null,null,null,null,null,{"$f":"IF(B352=\"\",\"\",VLOOKUP(B352,学連登録!$C$2:$H$3000,6,FALSE))","v":""},null,"",{"$f":"IF(G352=\"\",\"\",VLOOKUP(G352,種目名!$O$5:$T$104,3,0))","v":""},{"$f":"IF(J352=\"\",\"\",VLOOKUP(J352,種目名!$O$5:$T$104,3,0))","v":""},{"$f":"IF(M352=\"\",\"\",VLOOKUP(M352,種目名!$O$5:$T$104,3,0))","v":""},{"$f":"IF(P352=\"\",\"\",VLOOKUP(AE352,種目名!$O$5:$T$104,3,0))","v":""},{"$f":"IF(S352=\"\",\"\",VLOOKUP(AH352,種目名!$O$5:$T$104,3,0))","v":""},0,"","",0,"",""]
["",null,{"$f":"IF(B353=\"\",\"\",VLOOKUP(B353,学連登録!$C$2:$G$3000,2,FALSE))","v":""},{"$f":"IF(B353=\"\",\"\",VLOOKUP(B353,学連登録!$C$2:$G$3000,3,FALSE))","v":""},{"$f":"IF(B353=\"\",\"\",VLOOKUP(B353,学連登録!$C$2:$G$3000,4,FALSE))","v":""},"",null,null,null,null,null,null,null,null,null,null,null,null,null,null,null,{"$f":"IF(B353=\"\",\"\",VLOOKUP(B353,学連登録!$C$2:$H$3000,6,FALSE))","v":""},null,"",{"$f":"IF(G353=\"\",\"\",VLOOKUP(G353,種目名!$O$5:$T$104,3,0))","v":""},{"$f":"IF(J353=\"\",\"\",VLOOKUP(J353,種目名!$O$5:$T$104,3,0))","v":""},{"$f":"IF(M353=\"\",\"\",VLOOKUP(M353,種目名!$O$5:$T$104,3,0))","v":""},{"$f":"IF(P353=\"\",\"\",VLOOKUP(AE353,種目名!$O$5:$T$104,3,0))","v":""},{"$f":"IF(S353=\"\",\"\",VLOOKUP(AH353,種目名!$O$5:$T$104,3,0))","v":""},0,"","",0,"",""]
["",null,{"$f":"IF(B354=\"\",\"\",VLOOKUP(B354,学連登録!$C$2:$G$3000,2,FALSE))","v":""},{"$f":"IF(B354=\"\",\"\",VLOOKUP(B354,学連登録!$C$2:$G$3000,3,FALSE))","v":""},{"$f":"IF(B354=\"\",\"\",VLOOKUP(B354,学連登録!$C$2:$G$3000,4,FALSE))","v":""},"",null,null,null,null,null,null,null,null,null,null,null,null,null,null,null,{"$f":"IF(B354=\"\",\"\",VLOOKUP(B354,学連登録!$C$2:$H$3000,6,FALSE))","v":""},null,"",{"$f":"IF(G354=\"\",\"\",VLOOKUP(G354,種目名!$O$5:$T$104,3,0))","v":""},{"$f":"IF(J354=\"\",\"\",VLOOKUP(J354,種目名!$O$5:$T$104,3,0))","v":""},{"$f":"IF(M354=\"\",\"\",VLOOKUP(M354,種目名!$O$5:$T$104,3,0))","v":""},{"$f":"IF(P354=\"\",\"\",VLOOKUP(AE354,種目名!$O$5:$T$104,3,0))","v":""},{"$f":"IF(S354=\"\",\"\",VLOOKUP(AH354,種目名!$O$5:$T$104,3,0))","v":""},0,"","",0,"",""]
["",null,{"$f":"IF(B355=\"\",\"\",VLOOKUP(B355,学連登録!$C$2:$G$3000,2,FALSE))","v":""},{"$f":"IF(B355=\"\",\"\",VLOOKUP(B355,学連登録!$C$2:$G$3000,3,FALSE))","v":""},{"$f":"IF(B355=\"\",\"\",VLOOKUP(B355,学連登録!$C$2:$G$3000,4,FALSE))","v":""},"",null,null,null,null,null,null,null,null,null,null,null,null,null,null,null,{"$f":"IF(B355=\"\",\"\",VLOOKUP(B355,学連登録!$C$2:$H$3000,6,FALSE))","v":""},null,"",{"$f":"IF(G355=\"\",\"\",VLOOKUP(G355,種目名!$O$5:$T$104,3,0))","v":""},{"$f":"IF(J355=\"\",\"\",VLOOKUP(J355,種目名!$O$5:$T$104,3,0))","v":""},{"$f":"IF(M355=\"\",\"\",VLOOKUP(M355,種目名!$O$5:$T$104,3,0))","v":""},{"$f":"IF(P355=\"\",\"\",VLOOKUP(AE355,種目名!$O$5:$T$104,3,0))","v":""},{"$f":"IF(S355=\"\",\"\",VLOOKUP(AH355,種目名!$O$5:$T$104,3,0))","v":""},0,"","",0,"",""]
["",null,{"$f":"IF(B356=\"\",\"\",VLOOKUP(B356,学連登録!$C$2:$G$3000,2,FALSE))","v":""},{"$f":"IF(B356=\"\",\"\",VLOOKUP(B356,学連登録!$C$2:$G$3000,3,FALSE))","v":""},{"$f":"IF(B356=\"\",\"\",VLOOKUP(B356,学連登録!$C$2:$G$3000,4,FALSE))","v":""},"",null,null,null,null,null,null,null,null,null,null,null,null,null,null,null,{"$f":"IF(B356=\"\",\"\",VLOOKUP(B356,学連登録!$C$2:$H$3000,6,FALSE))","v":""},null,"",{"$f":"IF(G356=\"\",\"\",VLOOKUP(G356,種目名!$O$5:$T$104,3,0))","v":""},{"$f":"IF(J356=\"\",\"\",VLOOKUP(J356,種目名!$O$5:$T$104,3,0))","v":""},{"$f":"IF(M356=\"\",\"\",VLOOKUP(M356,種目名!$O$5:$T$104,3,0))","v":""},{"$f":"IF(P356=\"\",\"\",VLOOKUP(AE356,種目名!$O$5:$T$104,3,0))","v":""},{"$f":"IF(S356=\"\",\"\",VLOOKUP(AH356,種目名!$O$5:$T$104,3,0))","v":""},0,"","",0,"",""]
["",null,{"$f":"IF(B357=\"\",\"\",VLOOKUP(B357,学連登録!$C$2:$G$3000,2,FALSE))","v":""},{"$f":"IF(B357=\"\",\"\",VLOOKUP(B357,学連登録!$C$2:$G$3000,3,FALSE))","v":""},{"$f":"IF(B357=\"\",\"\",VLOOKUP(B357,学連登録!$C$2:$G$3000,4,FALSE))","v":""},"",null,null,null,null,null,null,null,null,null,null,null,null,null,null,null,{"$f":"IF(B357=\"\",\"\",VLOOKUP(B357,学連登録!$C$2:$H$3000,6,FALSE))","v":""},null,"",{"$f":"IF(G357=\"\",\"\",VLOOKUP(G357,種目名!$O$5:$T$104,3,0))","v":""},{"$f":"IF(J357=\"\",\"\",VLOOKUP(J357,種目名!$O$5:$T$104,3,0))","v":""},{"$f":"IF(M357=\"\",\"\",VLOOKUP(M357,種目名!$O$5:$T$104,3,0))","v":""},{"$f":"IF(P357=\"\",\"\",VLOOKUP(AE357,種目名!$O$5:$T$104,3,0))","v":""},{"$f":"IF(S357=\"\",\"\",VLOOKUP(AH357,種目名!$O$5:$T$104,3,0))","v":""},0,"","",0,"",""]
["",null,{"$f":"IF(B358=\"\",\"\",VLOOKUP(B358,学連登録!$C$2:$G$3000,2,FALSE))","v":""},{"$f":"IF(B358=\"\",\"\",VLOOKUP(B358,学連登録!$C$2:$G$3000,3,FALSE))","v":""},{"$f":"IF(B358=\"\",\"\",VLOOKUP(B358,学連登録!$C$2:$G$3000,4,FALSE))","v":""},"",null,null,null,null,null,null,null,null,null,null,null,null,null,null,null,{"$f":"IF(B358=\"\",\"\",VLOOKUP(B358,学連登録!$C$2:$H$3000,6,FALSE))","v":""},null,"",{"$f":"IF(G358=\"\",\"\",VLOOKUP(G358,種目名!$O$5:$T$104,3,0))","v":""},{"$f":"IF(J358=\"\",\"\",VLOOKUP(J358,種目名!$O$5:$T$104,3,0))","v":""},{"$f":"IF(M358=\"\",\"\",VLOOKUP(M358,種目名!$O$5:$T$104,3,0))","v":""},{"$f":"IF(P358=\"\",\"\",VLOOKUP(AE358,種目名!$O$5:$T$104,3,0))","v":""},{"$f":"IF(S358=\"\",\"\",VLOOKUP(AH358,種目名!$O$5:$T$104,3,0))","v":""},0,"","",0,"",""]
["",null,{"$f":"IF(B359=\"\",\"\",VLOOKUP(B359,学連登録!$C$2:$G$3000,2,FALSE))","v":""},{"$f":"IF(B359=\"\",\"\",VLOOKUP(B359,学連登録!$C$2:$G$3000,3,FALSE))","v":""},{"$f":"IF(B359=\"\",\"\",VLOOKUP(B359,学連登録!$C$2:$G$3000,4,FALSE))","v":""},"",null,null,null,null,null,null,null,null,null,null,null,null,null,null,null,{"$f":"IF(B359=\"\",\"\",VLOOKUP(B359,学連登録!$C$2:$H$3000,6,FALSE))","v":""},null,"",{"$f":"IF(G359=\"\",\"\",VLOOKUP(G359,種目名!$O$5:$T$104,3,0))","v":""},{"$f":"IF(J359=\"\",\"\",VLOOKUP(J359,種目名!$O$5:$T$104,3,0))","v":""},{"$f":"IF(M359=\"\",\"\",VLOOKUP(M359,種目名!$O$5:$T$104,3,0))","v":""},{"$f":"IF(P359=\"\",\"\",VLOOKUP(AE359,種目名!$O$5:$T$104,3,0))","v":""},{"$f":"IF(S359=\"\",\"\",VLOOKUP(AH359,種目名!$O$5:$T$104,3,0))","v":""},0,"","",0,"",""]
["",null,{"$f":"IF(B360=\"\",\"\",VLOOKUP(B360,学連登録!$C$2:$G$3000,2,FALSE))","v":""},{"$f":"IF(B360=\"\",\"\",VLOOKUP(B360,学連登録!$C$2:$G$3000,3,FALSE))","v":""},{"$f":"IF(B360=\"\",\"\",VLOOKUP(B360,学連登録!$C$2:$G$3000,4,FALSE))","v":""},"",null,null,null,null,null,null,null,null,null,null,null,null,null,null,null,{"$f":"IF(B360=\"\",\"\",VLOOKUP(B360,学連登録!$C$2:$H$3000,6,FALSE))","v":""},null,"",{"$f":"IF(G360=\"\",\"\",VLOOKUP(G360,種目名!$O$5:$T$104,3,0))","v":""},{"$f":"IF(J360=\"\",\"\",VLOOKUP(J360,種目名!$O$5:$T$104,3,0))","v":""},{"$f":"IF(M360=\"\",\"\",VLOOKUP(M360,種目名!$O$5:$T$104,3,0))","v":""},{"$f":"IF(P360=\"\",\"\",VLOOKUP(AE360,種目名!$O$5:$T$104,3,0))","v":""},{"$f":"IF(S360=\"\",\"\",VLOOKUP(AH360,種目名!$O$5:$T$104,3,0))","v":""},0,"","",0,"",""]
["",null,{"$f":"IF(B361=\"\",\"\",VLOOKUP(B361,学連登録!$C$2:$G$3000,2,FALSE))","v":""},{"$f":"IF(B361=\"\",\"\",VLOOKUP(B361,学連登録!$C$2:$G$3000,3,FALSE))","v":""},{"$f":"IF(B361=\"\",\"\",VLOOKUP(B361,学連登録!$C$2:$G$3000,4,FALSE))","v":""},"",null,null,null,null,null,null,null,null,null,null,null,null,null,null,null,{"$f":"IF(B361=\"\",\"\",VLOOKUP(B361,学連登録!$C$2:$H$3000,6,FALSE))","v":""},null,"",{"$f":"IF(G361=\"\",\"\",VLOOKUP(G361,種目名!$O$5:$T$104,3,0))","v":""},{"$f":"IF(J361=\"\",\"\",VLOOKUP(J361,種目名!$O$5:$T$104,3,0))","v":""},{"$f":"IF(M361=\"\",\"\",VLOOKUP(M361,種目名!$O$5:$T$104,3,0))","v":""},{"$f":"IF(P361=\"\",\"\",VLOOKUP(AE361,種目名!$O$5:$T$104,3,0))","v":""},{"$f":"IF(S361=\"\",\"\",VLOOKUP(AH361,種目名!$O$5:$T$104,3,0))","v":""},0,"","",0,"",""]
["",null,{"$f":"IF(B362=\"\",\"\",VLOOKUP(B362,学連登録!$C$2:$G$3000,2,FALSE))","v":""},{"$f":"IF(B362=\"\",\"\",VLOOKUP(B362,学連登録!$C$2:$G$3000,3,FALSE))","v":""},{"$f":"IF(B362=\"\",\"\",VLOOKUP(B362,学連登録!$C$2:$G$3000,4,FALSE))","v":""},"",null,null,null,null,null,null,null,null,null,null,null,null,null,null,null,{"$f":"IF(B362=\"\",\"\",VLOOKUP(B362,学連登録!$C$2:$H$3000,6,FALSE))","v":""},null,"",{"$f":"IF(G362=\"\",\"\",VLOOKUP(G362,種目名!$O$5:$T$104,3,0))","v":""},{"$f":"IF(J362=\"\",\"\",VLOOKUP(J362,種目名!$O$5:$T$104,3,0))","v":""},{"$f":"IF(M362=\"\",\"\",VLOOKUP(M362,種目名!$O$5:$T$104,3,0))","v":""},{"$f":"IF(P362=\"\",\"\",VLOOKUP(AE362,種目名!$O$5:$T$104,3,0))","v":""},{"$f":"IF(S362=\"\",\"\",VLOOKUP(AH362,種目名!$O$5:$T$104,3,0))","v":""},0,"","",0,"",""]
["",null,{"$f":"IF(B363=\"\",\"\",VLOOKUP(B363,学連登録!$C$2:$G$3000,2,FALSE))","v":""},{"$f":"IF(B363=\"\",\"\",VLOOKUP(B363,学連登録!$C$2:$G$3000,3,FALSE))","v":""},{"$f":"IF(B363=\"\",\"\",VLOOKUP(B363,学連登録!$C$2:$G$3000,4,FALSE))","v":""},"",null,null,null,null,null,null,null,null,null,null,null,null,null,null,null,{"$f":"IF(B363=\"\",\"\",VLOOKUP(B363,学連登録!$C$2:$H$3000,6,FALSE))","v":""},null,"",{"$f":"IF(G363=\"\",\"\",VLOOKUP(G363,種目名!$O$5:$T$104,3,0))","v":""},{"$f":"IF(J363=\"\",\"\",VLOOKUP(J363,種目名!$O$5:$T$104,3,0))","v":""},{"$f":"IF(M363=\"\",\"\",VLOOKUP(M363,種目名!$O$5:$T$104,3,0))","v":""},{"$f":"IF(P363=\"\",\"\",VLOOKUP(AE363,種目名!$O$5:$T$104,3,0))","v":""},{"$f":"IF(S363=\"\",\"\",VLOOKUP(AH363,種目名!$O$5:$T$104,3,0))","v":""},0,"","",0,"",""]
["",null,{"$f":"IF(B364=\"\",\"\",VLOOKUP(B364,学連登録!$C$2:$G$3000,2,FALSE))","v":""},{"$f":"IF(B364=\"\",\"\",VLOOKUP(B364,学連登録!$C$2:$G$3000,3,FALSE))","v":""},{"$f":"IF(B364=\"\",\"\",VLOOKUP(B364,学連登録!$C$2:$G$3000,4,FALSE))","v":""},"",null,null,null,null,null,null,null,null,null,null,null,null,null,null,null,{"$f":"IF(B364=\"\",\"\",VLOOKUP(B364,学連登録!$C$2:$H$3000,6,FALSE))","v":""},null,"",{"$f":"IF(G364=\"\",\"\",VLOOKUP(G364,種目名!$O$5:$T$104,3,0))","v":""},{"$f":"IF(J364=\"\",\"\",VLOOKUP(J364,種目名!$O$5:$T$104,3,0))","v":""},{"$f":"IF(M364=\"\",\"\",VLOOKUP(M364,種目名!$O$5:$T$104,3,0))","v":""},{"$f":"IF(P364=\"\",\"\",VLOOKUP(AE364,種目名!$O$5:$T$104,3,0))","v":""},{"$f":"IF(S364=\"\",\"\",VLOOKUP(AH364,種目名!$O$5:$T$104,3,0))","v":""},0,"","",0,"",""]
["",null,{"$f":"IF(B365=\"\",\"\",VLOOKUP(B365,学連登録!$C$2:$G$3000,2,FALSE))","v":""},{"$f":"IF(B365=\"\",\"\",VLOOKUP(B365,学連登録!$C$2:$G$3000,3,FALSE))","v":""},{"$f":"IF(B365=\"\",\"\",VLOOKUP(B365,学連登録!$C$2:$G$3000,4,FALSE))","v":""},"",null,null,null,null,null,null,null,null,null,null,null,null,null,null,null,{"$f":"IF(B365=\"\",\"\",VLOOKUP(B365,学連登録!$C$2:$H$3000,6,FALSE))","v":""},null,"",{"$f":"IF(G365=\"\",\"\",VLOOKUP(G365,種目名!$O$5:$T$104,3,0))","v":""},{"$f":"IF(J365=\"\",\"\",VLOOKUP(J365,種目名!$O$5:$T$104,3,0))","v":""},{"$f":"IF(M365=\"\",\"\",VLOOKUP(M365,種目名!$O$5:$T$104,3,0))","v":""},{"$f":"IF(P365=\"\",\"\",VLOOKUP(AE365,種目名!$O$5:$T$104,3,0))","v":""},{"$f":"IF(S365=\"\",\"\",VLOOKUP(AH365,種目名!$O$5:$T$104,3,0))","v":""},0,"","",0,"",""]
["",null,{"$f":"IF(B366=\"\",\"\",VLOOKUP(B366,学連登録!$C$2:$G$3000,2,FALSE))","v":""},{"$f":"IF(B366=\"\",\"\",VLOOKUP(B366,学連登録!$C$2:$G$3000,3,FALSE))","v":""},{"$f":"IF(B366=\"\",\"\",VLOOKUP(B366,学連登録!$C$2:$G$3000,4,FALSE))","v":""},"",null,null,null,null,null,null,null,null,null,null,null,null,null,null,null,{"$f":"IF(B366=\"\",\"\",VLOOKUP(B366,学連登録!$C$2:$H$3000,6,FALSE))","v":""},null,"",{"$f":"IF(G366=\"\",\"\",VLOOKUP(G366,種目名!$O$5:$T$104,3,0))","v":""},{"$f":"IF(J366=\"\",\"\",VLOOKUP(J366,種目名!$O$5:$T$104,3,0))","v":""},{"$f":"IF(M366=\"\",\"\",VLOOKUP(M366,種目名!$O$5:$T$104,3,0))","v":""},{"$f":"IF(P366=\"\",\"\",VLOOKUP(AE366,種目名!$O$5:$T$104,3,0))","v":""},{"$f":"IF(S366=\"\",\"\",VLOOKUP(AH366,種目名!$O$5:$T$104,3,0))","v":""},0,"","",0,"",""]
["",null,{"$f":"IF(B367=\"\",\"\",VLOOKUP(B367,学連登録!$C$2:$G$3000,2,FALSE))","v":""},{"$f":"IF(B367=\"\",\"\",VLOOKUP(B367,学連登録!$C$2:$G$3000,3,FALSE))","v":""},{"$f":"IF(B367=\"\",\"\",VLOOKUP(B367,学連登録!$C$2:$G$3000,4,FALSE))","v":""},"",null,null,null,null,null,null,null,null,null,null,null,null,null,null,null,{"$f":"IF(B367=\"\",\"\",VLOOKUP(B367,学連登録!$C$2:$H$3000,6,FALSE))","v":""},null,"",{"$f":"IF(G367=\"\",\"\",VLOOKUP(G367,種目名!$O$5:$T$104,3,0))","v":""},{"$f":"IF(J367=\"\",\"\",VLOOKUP(J367,種目名!$O$5:$T$104,3,0))","v":""},{"$f":"IF(M367=\"\",\"\",VLOOKUP(M367,種目名!$O$5:$T$104,3,0))","v":""},{"$f":"IF(P367=\"\",\"\",VLOOKUP(AE367,種目名!$O$5:$T$104,3,0))","v":""},{"$f":"IF(S367=\"\",\"\",VLOOKUP(AH367,種目名!$O$5:$T$104,3,0))","v":""},0,"","",0,"",""]
["",null,{"$f":"IF(B368=\"\",\"\",VLOOKUP(B368,学連登録!$C$2:$G$3000,2,FALSE))","v":""},{"$f":"IF(B368=\"\",\"\",VLOOKUP(B368,学連登録!$C$2:$G$3000,3,FALSE))","v":""},{"$f":"IF(B368=\"\",\"\",VLOOKUP(B368,学連登録!$C$2:$G$3000,4,FALSE))","v":""},"",null,null,null,null,null,null,null,null,null,null,null,null,null,null,null,{"$f":"IF(B368=\"\",\"\",VLOOKUP(B368,学連登録!$C$2:$H$3000,6,FALSE))","v":""},null,"",{"$f":"IF(G368=\"\",\"\",VLOOKUP(G368,種目名!$O$5:$T$104,3,0))","v":""},{"$f":"IF(J368=\"\",\"\",VLOOKUP(J368,種目名!$O$5:$T$104,3,0))","v":""},{"$f":"IF(M368=\"\",\"\",VLOOKUP(M368,種目名!$O$5:$T$104,3,0))","v":""},{"$f":"IF(P368=\"\",\"\",VLOOKUP(AE368,種目名!$O$5:$T$104,3,0))","v":""},{"$f":"IF(S368=\"\",\"\",VLOOKUP(AH368,種目名!$O$5:$T$104,3,0))","v":""},0,"","",0,"",""]
["",null,{"$f":"IF(B369=\"\",\"\",VLOOKUP(B369,学連登録!$C$2:$G$3000,2,FALSE))","v":""},{"$f":"IF(B369=\"\",\"\",VLOOKUP(B369,学連登録!$C$2:$G$3000,3,FALSE))","v":""},{"$f":"IF(B369=\"\",\"\",VLOOKUP(B369,学連登録!$C$2:$G$3000,4,FALSE))","v":""},"",null,null,null,null,null,null,null,null,null,null,null,null,null,null,null,{"$f":"IF(B369=\"\",\"\",VLOOKUP(B369,学連登録!$C$2:$H$3000,6,FALSE))","v":""},null,"",{"$f":"IF(G369=\"\",\"\",VLOOKUP(G369,種目名!$O$5:$T$104,3,0))","v":""},{"$f":"IF(J369=\"\",\"\",VLOOKUP(J369,種目名!$O$5:$T$104,3,0))","v":""},{"$f":"IF(M369=\"\",\"\",VLOOKUP(M369,種目名!$O$5:$T$104,3,0))","v":""},{"$f":"IF(P369=\"\",\"\",VLOOKUP(AE369,種目名!$O$5:$T$104,3,0))","v":""},{"$f":"IF(S369=\"\",\"\",VLOOKUP(AH369,種目名!$O$5:$T$104,3,0))","v":""},0,"","",0,"",""]
["",null,{"$f":"IF(B370=\"\",\"\",VLOOKUP(B370,学連登録!$C$2:$G$3000,2,FALSE))","v":""},{"$f":"IF(B370=\"\",\"\",VLOOKUP(B370,学連登録!$C$2:$G$3000,3,FALSE))","v":""},{"$f":"IF(B370=\"\",\"\",VLOOKUP(B370,学連登録!$C$2:$G$3000,4,FALSE))","v":""},"",null,null,null,null,null,null,null,null,null,null,null,null,null,null,null,{"$f":"IF(B370=\"\",\"\",VLOOKUP(B370,学連登録!$C$2:$H$3000,6,FALSE))","v":""},null,"",{"$f":"IF(G370=\"\",\"\",VLOOKUP(G370,種目名!$O$5:$T$104,3,0))","v":""},{"$f":"IF(J370=\"\",\"\",VLOOKUP(J370,種目名!$O$5:$T$104,3,0))","v":""},{"$f":"IF(M370=\"\",\"\",VLOOKUP(M370,種目名!$O$5:$T$104,3,0))","v":""},{"$f":"IF(P370=\"\",\"\",VLOOKUP(AE370,種目名!$O$5:$T$104,3,0))","v":""},{"$f":"IF(S370=\"\",\"\",VLOOKUP(AH370,種目名!$O$5:$T$104,3,0))","v":""},0,"","",0,"",""]
["",null,{"$f":"IF(B371=\"\",\"\",VLOOKUP(B371,学連登録!$C$2:$G$3000,2,FALSE))","v":""},{"$f":"IF(B371=\"\",\"\",VLOOKUP(B371,学連登録!$C$2:$G$3000,3,FALSE))","v":""},{"$f":"IF(B371=\"\",\"\",VLOOKUP(B371,学連登録!$C$2:$G$3000,4,FALSE))","v":""},"",null,null,null,null,null,null,null,null,null,null,null,null,null,null,null,{"$f":"IF(B371=\"\",\"\",VLOOKUP(B371,学連登録!$C$2:$H$3000,6,FALSE))","v":""},null,"",{"$f":"IF(G371=\"\",\"\",VLOOKUP(G371,種目名!$O$5:$T$104,3,0))","v":""},{"$f":"IF(J371=\"\",\"\",VLOOKUP(J371,種目名!$O$5:$T$104,3,0))","v":""},{"$f":"IF(M371=\"\",\"\",VLOOKUP(M371,種目名!$O$5:$T$104,3,0))","v":""},{"$f":"IF(P371=\"\",\"\",VLOOKUP(AE371,種目名!$O$5:$T$104,3,0))","v":""},{"$f":"IF(S371=\"\",\"\",VLOOKUP(AH371,種目名!$O$5:$T$104,3,0))","v":""},0,"","",0,"",""]
["",null,{"$f":"IF(B372=\"\",\"\",VLOOKUP(B372,学連登録!$C$2:$G$3000,2,FALSE))","v":""},{"$f":"IF(B372=\"\",\"\",VLOOKUP(B372,学連登録!$C$2:$G$3000,3,FALSE))","v":""},{"$f":"IF(B372=\"\",\"\",VLOOKUP(B372,学連登録!$C$2:$G$3000,4,FALSE))","v":""},"",null,null,null,null,null,null,null,null,null,null,null,null,null,null,null,{"$f":"IF(B372=\"\",\"\",VLOOKUP(B372,学連登録!$C$2:$H$3000,6,FALSE))","v":""},null,"",{"$f":"IF(G372=\"\",\"\",VLOOKUP(G372,種目名!$O$5:$T$104,3,0))","v":""},{"$f":"IF(J372=\"\",\"\",VLOOKUP(J372,種目名!$O$5:$T$104,3,0))","v":""},{"$f":"IF(M372=\"\",\"\",VLOOKUP(M372,種目名!$O$5:$T$104,3,0))","v":""},{"$f":"IF(P372=\"\",\"\",VLOOKUP(AE372,種目名!$O$5:$T$104,3,0))","v":""},{"$f":"IF(S372=\"\",\"\",VLOOKUP(AH372,種目名!$O$5:$T$104,3,0))","v":""},0,"","",0,"",""]
["",null,{"$f":"IF(B373=\"\",\"\",VLOOKUP(B373,学連登録!$C$2:$G$3000,2,FALSE))","v":""},{"$f":"IF(B373=\"\",\"\",VLOOKUP(B373,学連登録!$C$2:$G$3000,3,FALSE))","v":""},{"$f":"IF(B373=\"\",\"\",VLOOKUP(B373,学連登録!$C$2:$G$3000,4,FALSE))","v":""},"",null,null,null,null,null,null,null,null,null,null,null,null,null,null,null,{"$f":"IF(B373=\"\",\"\",VLOOKUP(B373,学連登録!$C$2:$H$3000,6,FALSE))","v":""},null,"",{"$f":"IF(G373=\"\",\"\",VLOOKUP(G373,種目名!$O$5:$T$104,3,0))","v":""},{"$f":"IF(J373=\"\",\"\",VLOOKUP(J373,種目名!$O$5:$T$104,3,0))","v":""},{"$f":"IF(M373=\"\",\"\",VLOOKUP(M373,種目名!$O$5:$T$104,3,0))","v":""},{"$f":"IF(P373=\"\",\"\",VLOOKUP(AE373,種目名!$O$5:$T$104,3,0))","v":""},{"$f":"IF(S373=\"\",\"\",VLOOKUP(AH373,種目名!$O$5:$T$104,3,0))","v":""},0,"","",0,"",""]
["",null,{"$f":"IF(B374=\"\",\"\",VLOOKUP(B374,学連登録!$C$2:$G$3000,2,FALSE))","v":""},{"$f":"IF(B374=\"\",\"\",VLOOKUP(B374,学連登録!$C$2:$G$3000,3,FALSE))","v":""},{"$f":"IF(B374=\"\",\"\",VLOOKUP(B374,学連登録!$C$2:$G$3000,4,FALSE))","v":""},"",null,null,null,null,null,null,null,null,null,null,null,null,null,null,null,{"$f":"IF(B374=\"\",\"\",VLOOKUP(B374,学連登録!$C$2:$H$3000,6,FALSE))","v":""},null,"",{"$f":"IF(G374=\"\",\"\",VLOOKUP(G374,種目名!$O$5:$T$104,3,0))","v":""},{"$f":"IF(J374=\"\",\"\",VLOOKUP(J374,種目名!$O$5:$T$104,3,0))","v":""},{"$f":"IF(M374=\"\",\"\",VLOOKUP(M374,種目名!$O$5:$T$104,3,0))","v":""},{"$f":"IF(P374=\"\",\"\",VLOOKUP(AE374,種目名!$O$5:$T$104,3,0))","v":""},{"$f":"IF(S374=\"\",\"\",VLOOKUP(AH374,種目名!$O$5:$T$104,3,0))","v":""},0,"","",0,"",""]
["",null,{"$f":"IF(B375=\"\",\"\",VLOOKUP(B375,学連登録!$C$2:$G$3000,2,FALSE))","v":""},{"$f":"IF(B375=\"\",\"\",VLOOKUP(B375,学連登録!$C$2:$G$3000,3,FALSE))","v":""},{"$f":"IF(B375=\"\",\"\",VLOOKUP(B375,学連登録!$C$2:$G$3000,4,FALSE))","v":""},"",null,null,null,null,null,null,null,null,null,null,null,null,null,null,null,{"$f":"IF(B375=\"\",\"\",VLOOKUP(B375,学連登録!$C$2:$H$3000,6,FALSE))","v":""},null,"",{"$f":"IF(G375=\"\",\"\",VLOOKUP(G375,種目名!$O$5:$T$104,3,0))","v":""},{"$f":"IF(J375=\"\",\"\",VLOOKUP(J375,種目名!$O$5:$T$104,3,0))","v":""},{"$f":"IF(M375=\"\",\"\",VLOOKUP(M375,種目名!$O$5:$T$104,3,0))","v":""},{"$f":"IF(P375=\"\",\"\",VLOOKUP(AE375,種目名!$O$5:$T$104,3,0))","v":""},{"$f":"IF(S375=\"\",\"\",VLOOKUP(AH375,種目名!$O$5:$T$104,3,0))","v":""},0,"","",0,"",""]
["",null,{"$f":"IF(B376=\"\",\"\",VLOOKUP(B376,学連登録!$C$2:$G$3000,2,FALSE))","v":""},{"$f":"IF(B376=\"\",\"\",VLOOKUP(B376,学連登録!$C$2:$G$3000,3,FALSE))","v":""},{"$f":"IF(B376=\"\",\"\",VLOOKUP(B376,学連登録!$C$2:$G$3000,4,FALSE))","v":""},"",null,null,null,null,null,null,null,null,null,null,null,null,null,null,null,{"$f":"IF(B376=\"\",\"\",VLOOKUP(B376,学連登録!$C$2:$H$3000,6,FALSE))","v":""},null,"",{"$f":"IF(G376=\"\",\"\",VLOOKUP(G376,種目名!$O$5:$T$104,3,0))","v":""},{"$f":"IF(J376=\"\",\"\",VLOOKUP(J376,種目名!$O$5:$T$104,3,0))","v":""},{"$f":"IF(M376=\"\",\"\",VLOOKUP(M376,種目名!$O$5:$T$104,3,0))","v":""},{"$f":"IF(P376=\"\",\"\",VLOOKUP(AE376,種目名!$O$5:$T$104,3,0))","v":""},{"$f":"IF(S376=\"\",\"\",VLOOKUP(AH376,種目名!$O$5:$T$104,3,0))","v":""},0,"","",0,"",""]
["",null,{"$f":"IF(B377=\"\",\"\",VLOOKUP(B377,学連登録!$C$2:$G$3000,2,FALSE))","v":""},{"$f":"IF(B377=\"\",\"\",VLOOKUP(B377,学連登録!$C$2:$G$3000,3,FALSE))","v":""},{"$f":"IF(B377=\"\",\"\",VLOOKUP(B377,学連登録!$C$2:$G$3000,4,FALSE))","v":""},"",null,null,null,null,null,null,null,null,null,null,null,null,null,null,null,{"$f":"IF(B377=\"\",\"\",VLOOKUP(B377,学連登録!$C$2:$H$3000,6,FALSE))","v":""},null,"",{"$f":"IF(G377=\"\",\"\",VLOOKUP(G377,種目名!$O$5:$T$104,3,0))","v":""},{"$f":"IF(J377=\"\",\"\",VLOOKUP(J377,種目名!$O$5:$T$104,3,0))","v":""},{"$f":"IF(M377=\"\",\"\",VLOOKUP(M377,種目名!$O$5:$T$104,3,0))","v":""},{"$f":"IF(P377=\"\",\"\",VLOOKUP(AE377,種目名!$O$5:$T$104,3,0))","v":""},{"$f":"IF(S377=\"\",\"\",VLOOKUP(AH377,種目名!$O$5:$T$104,3,0))","v":""},0,"","",0,"",""]
["",null,{"$f":"IF(B378=\"\",\"\",VLOOKUP(B378,学連登録!$C$2:$G$3000,2,FALSE))","v":""},{"$f":"IF(B378=\"\",\"\",VLOOKUP(B378,学連登録!$C$2:$G$3000,3,FALSE))","v":""},{"$f":"IF(B378=\"\",\"\",VLOOKUP(B378,学連登録!$C$2:$G$3000,4,FALSE))","v":""},"",null,null,null,null,null,null,null,null,null,null,null,null,null,null,null,{"$f":"IF(B378=\"\",\"\",VLOOKUP(B378,学連登録!$C$2:$H$3000,6,FALSE))","v":""},null,"",{"$f":"IF(G378=\"\",\"\",VLOOKUP(G378,種目名!$O$5:$T$104,3,0))","v":""},{"$f":"IF(J378=\"\",\"\",VLOOKUP(J378,種目名!$O$5:$T$104,3,0))","v":""},{"$f":"IF(M378=\"\",\"\",VLOOKUP(M378,種目名!$O$5:$T$104,3,0))","v":""},{"$f":"IF(P378=\"\",\"\",VLOOKUP(AE378,種目名!$O$5:$T$104,3,0))","v":""},{"$f":"IF(S378=\"\",\"\",VLOOKUP(AH378,種目名!$O$5:$T$104,3,0))","v":""},0,"","",0,"",""]
["",null,{"$f":"IF(B379=\"\",\"\",VLOOKUP(B379,学連登録!$C$2:$G$3000,2,FALSE))","v":""},{"$f":"IF(B379=\"\",\"\",VLOOKUP(B379,学連登録!$C$2:$G$3000,3,FALSE))","v":""},{"$f":"IF(B379=\"\",\"\",VLOOKUP(B379,学連登録!$C$2:$G$3000,4,FALSE))","v":""},"",null,null,null,null,null,null,null,null,null,null,null,null,null,null,null,{"$f":"IF(B379=\"\",\"\",VLOOKUP(B379,学連登録!$C$2:$H$3000,6,FALSE))","v":""},null,"",{"$f":"IF(G379=\"\",\"\",VLOOKUP(G379,種目名!$O$5:$T$104,3,0))","v":""},{"$f":"IF(J379=\"\",\"\",VLOOKUP(J379,種目名!$O$5:$T$104,3,0))","v":""},{"$f":"IF(M379=\"\",\"\",VLOOKUP(M379,種目名!$O$5:$T$104,3,0))","v":""},{"$f":"IF(P379=\"\",\"\",VLOOKUP(AE379,種目名!$O$5:$T$104,3,0))","v":""},{"$f":"IF(S379=\"\",\"\",VLOOKUP(AH379,種目名!$O$5:$T$104,3,0))","v":""},0,"","",0,"",""]
["",null,{"$f":"IF(B380=\"\",\"\",VLOOKUP(B380,学連登録!$C$2:$G$3000,2,FALSE))","v":""},{"$f":"IF(B380=\"\",\"\",VLOOKUP(B380,学連登録!$C$2:$G$3000,3,FALSE))","v":""},{"$f":"IF(B380=\"\",\"\",VLOOKUP(B380,学連登録!$C$2:$G$3000,4,FALSE))","v":""},"",null,null,null,null,null,null,null,null,null,null,null,null,null,null,null,{"$f":"IF(B380=\"\",\"\",VLOOKUP(B380,学連登録!$C$2:$H$3000,6,FALSE))","v":""},null,"",{"$f":"IF(G380=\"\",\"\",VLOOKUP(G380,種目名!$O$5:$T$104,3,0))","v":""},{"$f":"IF(J380=\"\",\"\",VLOOKUP(J380,種目名!$O$5:$T$104,3,0))","v":""},{"$f":"IF(M380=\"\",\"\",VLOOKUP(M380,種目名!$O$5:$T$104,3,0))","v":""},{"$f":"IF(P380=\"\",\"\",VLOOKUP(AE380,種目名!$O$5:$T$104,3,0))","v":""},{"$f":"IF(S380=\"\",\"\",VLOOKUP(AH380,種目名!$O$5:$T$104,3,0))","v":""},0,"","",0,"",""]
["",null,{"$f":"IF(B381=\"\",\"\",VLOOKUP(B381,学連登録!$C$2:$G$3000,2,FALSE))","v":""},{"$f":"IF(B381=\"\",\"\",VLOOKUP(B381,学連登録!$C$2:$G$3000,3,FALSE))","v":""},{"$f":"IF(B381=\"\",\"\",VLOOKUP(B381,学連登録!$C$2:$G$3000,4,FALSE))","v":""},"",null,null,null,null,null,null,null,null,null,null,null,null,null,null,null,{"$f":"IF(B381=\"\",\"\",VLOOKUP(B381,学連登録!$C$2:$H$3000,6,FALSE))","v":""},null,"",{"$f":"IF(G381=\"\",\"\",VLOOKUP(G381,種目名!$O$5:$T$104,3,0))","v":""},{"$f":"IF(J381=\"\",\"\",VLOOKUP(J381,種目名!$O$5:$T$104,3,0))","v":""},{"$f":"IF(M381=\"\",\"\",VLOOKUP(M381,種目名!$O$5:$T$104,3,0))","v":""},{"$f":"IF(P381=\"\",\"\",VLOOKUP(AE381,種目名!$O$5:$T$104,3,0))","v":""},{"$f":"IF(S381=\"\",\"\",VLOOKUP(AH381,種目名!$O$5:$T$104,3,0))","v":""},0,"","",0,"",""]
["",null,{"$f":"IF(B382=\"\",\"\",VLOOKUP(B382,学連登録!$C$2:$G$3000,2,FALSE))","v":""},{"$f":"IF(B382=\"\",\"\",VLOOKUP(B382,学連登録!$C$2:$G$3000,3,FALSE))","v":""},{"$f":"IF(B382=\"\",\"\",VLOOKUP(B382,学連登録!$C$2:$G$3000,4,FALSE))","v":""},"",null,null,null,null,null,null,null,null,null,null,null,null,null,null,null,{"$f":"IF(B382=\"\",\"\",VLOOKUP(B382,学連登録!$C$2:$H$3000,6,FALSE))","v":""},null,"",{"$f":"IF(G382=\"\",\"\",VLOOKUP(G382,種目名!$O$5:$T$104,3,0))","v":""},{"$f":"IF(J382=\"\",\"\",VLOOKUP(J382,種目名!$O$5:$T$104,3,0))","v":""},{"$f":"IF(M382=\"\",\"\",VLOOKUP(M382,種目名!$O$5:$T$104,3,0))","v":""},{"$f":"IF(P382=\"\",\"\",VLOOKUP(AE382,種目名!$O$5:$T$104,3,0))","v":""},{"$f":"IF(S382=\"\",\"\",VLOOKUP(AH382,種目名!$O$5:$T$104,3,0))","v":""},0,"","",0,"",""]
["",null,{"$f":"IF(B383=\"\",\"\",VLOOKUP(B383,学連登録!$C$2:$G$3000,2,FALSE))","v":""},{"$f":"IF(B383=\"\",\"\",VLOOKUP(B383,学連登録!$C$2:$G$3000,3,FALSE))","v":""},{"$f":"IF(B383=\"\",\"\",VLOOKUP(B383,学連登録!$C$2:$G$3000,4,FALSE))","v":""},"",null,null,null,null,null,null,null,null,null,null,null,null,null,null,null,{"$f":"IF(B383=\"\",\"\",VLOOKUP(B383,学連登録!$C$2:$H$3000,6,FALSE))","v":""},null,"",{"$f":"IF(G383=\"\",\"\",VLOOKUP(G383,種目名!$O$5:$T$104,3,0))","v":""},{"$f":"IF(J383=\"\",\"\",VLOOKUP(J383,種目名!$O$5:$T$104,3,0))","v":""},{"$f":"IF(M383=\"\",\"\",VLOOKUP(M383,種目名!$O$5:$T$104,3,0))","v":""},{"$f":"IF(P383=\"\",\"\",VLOOKUP(AE383,種目名!$O$5:$T$104,3,0))","v":""},{"$f":"IF(S383=\"\",\"\",VLOOKUP(AH383,種目名!$O$5:$T$104,3,0))","v":""},0,"","",0,"",""]
["",null,{"$f":"IF(B384=\"\",\"\",VLOOKUP(B384,学連登録!$C$2:$G$3000,2,FALSE))","v":""},{"$f":"IF(B384=\"\",\"\",VLOOKUP(B384,学連登録!$C$2:$G$3000,3,FALSE))","v":""},{"$f":"IF(B384=\"\",\"\",VLOOKUP(B384,学連登録!$C$2:$G$3000,4,FALSE))","v":""},"",null,null,null,null,null,null,null,null,null,null,null,null,null,null,null,{"$f":"IF(B384=\"\",\"\",VLOOKUP(B384,学連登録!$C$2:$H$3000,6,FALSE))","v":""},null,"",{"$f":"IF(G384=\"\",\"\",VLOOKUP(G384,種目名!$O$5:$T$104,3,0))","v":""},{"$f":"IF(J384=\"\",\"\",VLOOKUP(J384,種目名!$O$5:$T$104,3,0))","v":""},{"$f":"IF(M384=\"\",\"\",VLOOKUP(M384,種目名!$O$5:$T$104,3,0))","v":""},{"$f":"IF(P384=\"\",\"\",VLOOKUP(AE384,種目名!$O$5:$T$104,3,0))","v":""},{"$f":"IF(S384=\"\",\"\",VLOOKUP(AH384,種目名!$O$5:$T$104,3,0))","v":""},0,"","",0,"",""]
["",null,{"$f":"IF(B385=\"\",\"\",VLOOKUP(B385,学連登録!$C$2:$G$3000,2,FALSE))","v":""},{"$f":"IF(B385=\"\",\"\",VLOOKUP(B385,学連登録!$C$2:$G$3000,3,FALSE))","v":""},{"$f":"IF(B385=\"\",\"\",VLOOKUP(B385,学連登録!$C$2:$G$3000,4,FALSE))","v":""},"",null,null,null,null,null,null,null,null,null,null,null,null,null,null,null,{"$f":"IF(B385=\"\",\"\",VLOOKUP(B385,学連登録!$C$2:$H$3000,6,FALSE))","v":""},null,"",{"$f":"IF(G385=\"\",\"\",VLOOKUP(G385,種目名!$O$5:$T$104,3,0))","v":""},{"$f":"IF(J385=\"\",\"\",VLOOKUP(J385,種目名!$O$5:$T$104,3,0))","v":""},{"$f":"IF(M385=\"\",\"\",VLOOKUP(M385,種目名!$O$5:$T$104,3,0))","v":""},{"$f":"IF(P385=\"\",\"\",VLOOKUP(AE385,種目名!$O$5:$T$104,3,0))","v":""},{"$f":"IF(S385=\"\",\"\",VLOOKUP(AH385,種目名!$O$5:$T$104,3,0))","v":""},0,"","",0,"",""]
["",null,{"$f":"IF(B386=\"\",\"\",VLOOKUP(B386,学連登録!$C$2:$G$3000,2,FALSE))","v":""},{"$f":"IF(B386=\"\",\"\",VLOOKUP(B386,学連登録!$C$2:$G$3000,3,FALSE))","v":""},{"$f":"IF(B386=\"\",\"\",VLOOKUP(B386,学連登録!$C$2:$G$3000,4,FALSE))","v":""},"",null,null,null,null,null,null,null,null,null,null,null,null,null,null,null,{"$f":"IF(B386=\"\",\"\",VLOOKUP(B386,学連登録!$C$2:$H$3000,6,FALSE))","v":""},null,"",{"$f":"IF(G386=\"\",\"\",VLOOKUP(G386,種目名!$O$5:$T$104,3,0))","v":""},{"$f":"IF(J386=\"\",\"\",VLOOKUP(J386,種目名!$O$5:$T$104,3,0))","v":""},{"$f":"IF(M386=\"\",\"\",VLOOKUP(M386,種目名!$O$5:$T$104,3,0))","v":""},{"$f":"IF(P386=\"\",\"\",VLOOKUP(AE386,種目名!$O$5:$T$104,3,0))","v":""},{"$f":"IF(S386=\"\",\"\",VLOOKUP(AH386,種目名!$O$5:$T$104,3,0))","v":""},0,"","",0,"",""]
["",null,{"$f":"IF(B387=\"\",\"\",VLOOKUP(B387,学連登録!$C$2:$G$3000,2,FALSE))","v":""},{"$f":"IF(B387=\"\",\"\",VLOOKUP(B387,学連登録!$C$2:$G$3000,3,FALSE))","v":""},{"$f":"IF(B387=\"\",\"\",VLOOKUP(B387,学連登録!$C$2:$G$3000,4,FALSE))","v":""},"",null,null,null,null,null,null,null,null,null,null,null,null,null,null,null,{"$f":"IF(B387=\"\",\"\",VLOOKUP(B387,学連登録!$C$2:$H$3000,6,FALSE))","v":""},null,"",{"$f":"IF(G387=\"\",\"\",VLOOKUP(G387,種目名!$O$5:$T$104,3,0))","v":""},{"$f":"IF(J387=\"\",\"\",VLOOKUP(J387,種目名!$O$5:$T$104,3,0))","v":""},{"$f":"IF(M387=\"\",\"\",VLOOKUP(M387,種目名!$O$5:$T$104,3,0))","v":""},{"$f":"IF(P387=\"\",\"\",VLOOKUP(AE387,種目名!$O$5:$T$104,3,0))","v":""},{"$f":"IF(S387=\"\",\"\",VLOOKUP(AH387,種目名!$O$5:$T$104,3,0))","v":""},0,"","",0,"",""]
["",null,{"$f":"IF(B388=\"\",\"\",VLOOKUP(B388,学連登録!$C$2:$G$3000,2,FALSE))","v":""},{"$f":"IF(B388=\"\",\"\",VLOOKUP(B388,学連登録!$C$2:$G$3000,3,FALSE))","v":""},{"$f":"IF(B388=\"\",\"\",VLOOKUP(B388,学連登録!$C$2:$G$3000,4,FALSE))","v":""},"",null,null,null,null,null,null,null,null,null,null,null,null,null,null,null,{"$f":"IF(B388=\"\",\"\",VLOOKUP(B388,学連登録!$C$2:$H$3000,6,FALSE))","v":""},null,"",{"$f":"IF(G388=\"\",\"\",VLOOKUP(G388,種目名!$O$5:$T$104,3,0))","v":""},{"$f":"IF(J388=\"\",\"\",VLOOKUP(J388,種目名!$O$5:$T$104,3,0))","v":""},{"$f":"IF(M388=\"\",\"\",VLOOKUP(M388,種目名!$O$5:$T$104,3,0))","v":""},{"$f":"IF(P388=\"\",\"\",VLOOKUP(AE388,種目名!$O$5:$T$104,3,0))","v":""},{"$f":"IF(S388=\"\",\"\",VLOOKUP(AH388,種目名!$O$5:$T$104,3,0))","v":""},0,"","",0,"",""]
["",null,{"$f":"IF(B389=\"\",\"\",VLOOKUP(B389,学連登録!$C$2:$G$3000,2,FALSE))","v":""},{"$f":"IF(B389=\"\",\"\",VLOOKUP(B389,学連登録!$C$2:$G$3000,3,FALSE))","v":""},{"$f":"IF(B389=\"\",\"\",VLOOKUP(B389,学連登録!$C$2:$G$3000,4,FALSE))","v":""},"",null,null,null,null,null,null,null,null,null,null,null,null,null,null,null,{"$f":"IF(B389=\"\",\"\",VLOOKUP(B389,学連登録!$C$2:$H$3000,6,FALSE))","v":""},null,"",{"$f":"IF(G389=\"\",\"\",VLOOKUP(G389,種目名!$O$5:$T$104,3,0))","v":""},{"$f":"IF(J389=\"\",\"\",VLOOKUP(J389,種目名!$O$5:$T$104,3,0))","v":""},{"$f":"IF(M389=\"\",\"\",VLOOKUP(M389,種目名!$O$5:$T$104,3,0))","v":""},{"$f":"IF(P389=\"\",\"\",VLOOKUP(AE389,種目名!$O$5:$T$104,3,0))","v":""},{"$f":"IF(S389=\"\",\"\",VLOOKUP(AH389,種目名!$O$5:$T$104,3,0))","v":""},0,"","",0,"",""]
["",null,{"$f":"IF(B390=\"\",\"\",VLOOKUP(B390,学連登録!$C$2:$G$3000,2,FALSE))","v":""},{"$f":"IF(B390=\"\",\"\",VLOOKUP(B390,学連登録!$C$2:$G$3000,3,FALSE))","v":""},{"$f":"IF(B390=\"\",\"\",VLOOKUP(B390,学連登録!$C$2:$G$3000,4,FALSE))","v":""},"",null,null,null,null,null,null,null,null,null,null,null,null,null,null,null,{"$f":"IF(B390=\"\",\"\",VLOOKUP(B390,学連登録!$C$2:$H$3000,6,FALSE))","v":""},null,"",{"$f":"IF(G390=\"\",\"\",VLOOKUP(G390,種目名!$O$5:$T$104,3,0))","v":""},{"$f":"IF(J390=\"\",\"\",VLOOKUP(J390,種目名!$O$5:$T$104,3,0))","v":""},{"$f":"IF(M390=\"\",\"\",VLOOKUP(M390,種目名!$O$5:$T$104,3,0))","v":""},{"$f":"IF(P390=\"\",\"\",VLOOKUP(AE390,種目名!$O$5:$T$104,3,0))","v":""},{"$f":"IF(S390=\"\",\"\",VLOOKUP(AH390,種目名!$O$5:$T$104,3,0))","v":""},0,"","",0,"",""]
["",null,{"$f":"IF(B391=\"\",\"\",VLOOKUP(B391,学連登録!$C$2:$G$3000,2,FALSE))","v":""},{"$f":"IF(B391=\"\",\"\",VLOOKUP(B391,学連登録!$C$2:$G$3000,3,FALSE))","v":""},{"$f":"IF(B391=\"\",\"\",VLOOKUP(B391,学連登録!$C$2:$G$3000,4,FALSE))","v":""},"",null,null,null,null,null,null,null,null,null,null,null,null,null,null,null,{"$f":"IF(B391=\"\",\"\",VLOOKUP(B391,学連登録!$C$2:$H$3000,6,FALSE))","v":""},null,"",{"$f":"IF(G391=\"\",\"\",VLOOKUP(G391,種目名!$O$5:$T$104,3,0))","v":""},{"$f":"IF(J391=\"\",\"\",VLOOKUP(J391,種目名!$O$5:$T$104,3,0))","v":""},{"$f":"IF(M391=\"\",\"\",VLOOKUP(M391,種目名!$O$5:$T$104,3,0))","v":""},{"$f":"IF(P391=\"\",\"\",VLOOKUP(AE391,種目名!$O$5:$T$104,3,0))","v":""},{"$f":"IF(S391=\"\",\"\",VLOOKUP(AH391,種目名!$O$5:$T$104,3,0))","v":""},0,"","",0,"",""]
["",null,{"$f":"IF(B392=\"\",\"\",VLOOKUP(B392,学連登録!$C$2:$G$3000,2,FALSE))","v":""},{"$f":"IF(B392=\"\",\"\",VLOOKUP(B392,学連登録!$C$2:$G$3000,3,FALSE))","v":""},{"$f":"IF(B392=\"\",\"\",VLOOKUP(B392,学連登録!$C$2:$G$3000,4,FALSE))","v":""},"",null,null,null,null,null,null,null,null,null,null,null,null,null,null,null,{"$f":"IF(B392=\"\",\"\",VLOOKUP(B392,学連登録!$C$2:$H$3000,6,FALSE))","v":""},null,"",{"$f":"IF(G392=\"\",\"\",VLOOKUP(G392,種目名!$O$5:$T$104,3,0))","v":""},{"$f":"IF(J392=\"\",\"\",VLOOKUP(J392,種目名!$O$5:$T$104,3,0))","v":""},{"$f":"IF(M392=\"\",\"\",VLOOKUP(M392,種目名!$O$5:$T$104,3,0))","v":""},{"$f":"IF(P392=\"\",\"\",VLOOKUP(AE392,種目名!$O$5:$T$104,3,0))","v":""},{"$f":"IF(S392=\"\",\"\",VLOOKUP(AH392,種目名!$O$5:$T$104,3,0))","v":""},0,"","",0,"",""]
["",null,{"$f":"IF(B393=\"\",\"\",VLOOKUP(B393,学連登録!$C$2:$G$3000,2,FALSE))","v":""},{"$f":"IF(B393=\"\",\"\",VLOOKUP(B393,学連登録!$C$2:$G$3000,3,FALSE))","v":""},{"$f":"IF(B393=\"\",\"\",VLOOKUP(B393,学連登録!$C$2:$G$3000,4,FALSE))","v":""},"",null,null,null,null,null,null,null,null,null,null,null,null,null,null,null,{"$f":"IF(B393=\"\",\"\",VLOOKUP(B393,学連登録!$C$2:$H$3000,6,FALSE))","v":""},null,"",{"$f":"IF(G393=\"\",\"\",VLOOKUP(G393,種目名!$O$5:$T$104,3,0))","v":""},{"$f":"IF(J393=\"\",\"\",VLOOKUP(J393,種目名!$O$5:$T$104,3,0))","v":""},{"$f":"IF(M393=\"\",\"\",VLOOKUP(M393,種目名!$O$5:$T$104,3,0))","v":""},{"$f":"IF(P393=\"\",\"\",VLOOKUP(AE393,種目名!$O$5:$T$104,3,0))","v":""},{"$f":"IF(S393=\"\",\"\",VLOOKUP(AH393,種目名!$O$5:$T$104,3,0))","v":""},0,"","",0,"",""]
["",null,{"$f":"IF(B394=\"\",\"\",VLOOKUP(B394,学連登録!$C$2:$G$3000,2,FALSE))","v":""},{"$f":"IF(B394=\"\",\"\",VLOOKUP(B394,学連登録!$C$2:$G$3000,3,FALSE))","v":""},{"$f":"IF(B394=\"\",\"\",VLOOKUP(B394,学連登録!$C$2:$G$3000,4,FALSE))","v":""},"",null,null,null,null,null,null,null,null,null,null,null,null,null,null,null,{"$f":"IF(B394=\"\",\"\",VLOOKUP(B394,学連登録!$C$2:$H$3000,6,FALSE))","v":""},null,"",{"$f":"IF(G394=\"\",\"\",VLOOKUP(G394,種目名!$O$5:$T$104,3,0))","v":""},{"$f":"IF(J394=\"\",\"\",VLOOKUP(J394,種目名!$O$5:$T$104,3,0))","v":""},{"$f":"IF(M394=\"\",\"\",VLOOKUP(M394,種目名!$O$5:$T$104,3,0))","v":""},{"$f":"IF(P394=\"\",\"\",VLOOKUP(AE394,種目名!$O$5:$T$104,3,0))","v":""},{"$f":"IF(S394=\"\",\"\",VLOOKUP(AH394,種目名!$O$5:$T$104,3,0))","v":""},0,"","",0,"",""]
["",null,{"$f":"IF(B395=\"\",\"\",VLOOKUP(B395,学連登録!$C$2:$G$3000,2,FALSE))","v":""},{"$f":"IF(B395=\"\",\"\",VLOOKUP(B395,学連登録!$C$2:$G$3000,3,FALSE))","v":""},{"$f":"IF(B395=\"\",\"\",VLOOKUP(B395,学連登録!$C$2:$G$3000,4,FALSE))","v":""},"",null,null,null,null,null,null,null,null,null,null,null,null,null,null,null,{"$f":"IF(B395=\"\",\"\",VLOOKUP(B395,学連登録!$C$2:$H$3000,6,FALSE))","v":""},null,"",{"$f":"IF(G395=\"\",\"\",VLOOKUP(G395,種目名!$O$5:$T$104,3,0))","v":""},{"$f":"IF(J395=\"\",\"\",VLOOKUP(J395,種目名!$O$5:$T$104,3,0))","v":""},{"$f":"IF(M395=\"\",\"\",VLOOKUP(M395,種目名!$O$5:$T$104,3,0))","v":""},{"$f":"IF(P395=\"\",\"\",VLOOKUP(AE395,種目名!$O$5:$T$104,3,0))","v":""},{"$f":"IF(S395=\"\",\"\",VLOOKUP(AH395,種目名!$O$5:$T$104,3,0))","v":""},0,"","",0,"",""]
["",null,{"$f":"IF(B396=\"\",\"\",VLOOKUP(B396,学連登録!$C$2:$G$3000,2,FALSE))","v":""},{"$f":"IF(B396=\"\",\"\",VLOOKUP(B396,学連登録!$C$2:$G$3000,3,FALSE))","v":""},{"$f":"IF(B396=\"\",\"\",VLOOKUP(B396,学連登録!$C$2:$G$3000,4,FALSE))","v":""},"",null,null,null,null,null,null,null,null,null,null,null,null,null,null,null,{"$f":"IF(B396=\"\",\"\",VLOOKUP(B396,学連登録!$C$2:$H$3000,6,FALSE))","v":""},null,"",{"$f":"IF(G396=\"\",\"\",VLOOKUP(G396,種目名!$O$5:$T$104,3,0))","v":""},{"$f":"IF(J396=\"\",\"\",VLOOKUP(J396,種目名!$O$5:$T$104,3,0))","v":""},{"$f":"IF(M396=\"\",\"\",VLOOKUP(M396,種目名!$O$5:$T$104,3,0))","v":""},{"$f":"IF(P396=\"\",\"\",VLOOKUP(AE396,種目名!$O$5:$T$104,3,0))","v":""},{"$f":"IF(S396=\"\",\"\",VLOOKUP(AH396,種目名!$O$5:$T$104,3,0))","v":""},0,"","",0,"",""]
["",null,{"$f":"IF(B397=\"\",\"\",VLOOKUP(B397,学連登録!$C$2:$G$3000,2,FALSE))","v":""},{"$f":"IF(B397=\"\",\"\",VLOOKUP(B397,学連登録!$C$2:$G$3000,3,FALSE))","v":""},{"$f":"IF(B397=\"\",\"\",VLOOKUP(B397,学連登録!$C$2:$G$3000,4,FALSE))","v":""},"",null,null,null,null,null,null,null,null,null,null,null,null,null,null,null,{"$f":"IF(B397=\"\",\"\",VLOOKUP(B397,学連登録!$C$2:$H$3000,6,FALSE))","v":""},null,"",{"$f":"IF(G397=\"\",\"\",VLOOKUP(G397,種目名!$O$5:$T$104,3,0))","v":""},{"$f":"IF(J397=\"\",\"\",VLOOKUP(J397,種目名!$O$5:$T$104,3,0))","v":""},{"$f":"IF(M397=\"\",\"\",VLOOKUP(M397,種目名!$O$5:$T$104,3,0))","v":""},{"$f":"IF(P397=\"\",\"\",VLOOKUP(AE397,種目名!$O$5:$T$104,3,0))","v":""},{"$f":"IF(S397=\"\",\"\",VLOOKUP(AH397,種目名!$O$5:$T$104,3,0))","v":""},0,"","",0,"",""]
["",null,{"$f":"IF(B398=\"\",\"\",VLOOKUP(B398,学連登録!$C$2:$G$3000,2,FALSE))","v":""},{"$f":"IF(B398=\"\",\"\",VLOOKUP(B398,学連登録!$C$2:$G$3000,3,FALSE))","v":""},{"$f":"IF(B398=\"\",\"\",VLOOKUP(B398,学連登録!$C$2:$G$3000,4,FALSE))","v":""},"",null,null,null,null,null,null,null,null,null,null,null,null,null,null,null,{"$f":"IF(B398=\"\",\"\",VLOOKUP(B398,学連登録!$C$2:$H$3000,6,FALSE))","v":""},null,"",{"$f":"IF(G398=\"\",\"\",VLOOKUP(G398,種目名!$O$5:$T$104,3,0))","v":""},{"$f":"IF(J398=\"\",\"\",VLOOKUP(J398,種目名!$O$5:$T$104,3,0))","v":""},{"$f":"IF(M398=\"\",\"\",VLOOKUP(M398,種目名!$O$5:$T$104,3,0))","v":""},{"$f":"IF(P398=\"\",\"\",VLOOKUP(AE398,種目名!$O$5:$T$104,3,0))","v":""},{"$f":"IF(S398=\"\",\"\",VLOOKUP(AH398,種目名!$O$5:$T$104,3,0))","v":""},0,"","",0,"",""]
["",null,{"$f":"IF(B399=\"\",\"\",VLOOKUP(B399,学連登録!$C$2:$G$3000,2,FALSE))","v":""},{"$f":"IF(B399=\"\",\"\",VLOOKUP(B399,学連登録!$C$2:$G$3000,3,FALSE))","v":""},{"$f":"IF(B399=\"\",\"\",VLOOKUP(B399,学連登録!$C$2:$G$3000,4,FALSE))","v":""},"",null,null,null,null,null,null,null,null,null,null,null,null,null,null,null,{"$f":"IF(B399=\"\",\"\",VLOOKUP(B399,学連登録!$C$2:$H$3000,6,FALSE))","v":""},null,"",{"$f":"IF(G399=\"\",\"\",VLOOKUP(G399,種目名!$O$5:$T$104,3,0))","v":""},{"$f":"IF(J399=\"\",\"\",VLOOKUP(J399,種目名!$O$5:$T$104,3,0))","v":""},{"$f":"IF(M399=\"\",\"\",VLOOKUP(M399,種目名!$O$5:$T$104,3,0))","v":""},{"$f":"IF(P399=\"\",\"\",VLOOKUP(AE399,種目名!$O$5:$T$104,3,0))","v":""},{"$f":"IF(S399=\"\",\"\",VLOOKUP(AH399,種目名!$O$5:$T$104,3,0))","v":""},0,"","",0,"",""]
["",null,{"$f":"IF(B400=\"\",\"\",VLOOKUP(B400,学連登録!$C$2:$G$3000,2,FALSE))","v":""},{"$f":"IF(B400=\"\",\"\",VLOOKUP(B400,学連登録!$C$2:$G$3000,3,FALSE))","v":""},{"$f":"IF(B400=\"\",\"\",VLOOKUP(B400,学連登録!$C$2:$G$3000,4,FALSE))","v":""},"",null,null,null,null,null,null,null,null,null,null,null,null,null,null,null,{"$f":"IF(B400=\"\",\"\",VLOOKUP(B400,学連登録!$C$2:$H$3000,6,FALSE))","v":""},null,"",{"$f":"IF(G400=\"\",\"\",VLOOKUP(G400,種目名!$O$5:$T$104,3,0))","v":""},{"$f":"IF(J400=\"\",\"\",VLOOKUP(J400,種目名!$O$5:$T$104,3,0))","v":""},{"$f":"IF(M400=\"\",\"\",VLOOKUP(M400,種目名!$O$5:$T$104,3,0))","v":""},{"$f":"IF(P400=\"\",\"\",VLOOKUP(AE400,種目名!$O$5:$T$104,3,0))","v":""},{"$f":"IF(S400=\"\",\"\",VLOOKUP(AH400,種目名!$O$5:$T$104,3,0))","v":""},0,"","",0,"",""]
["",null,{"$f":"IF(B401=\"\",\"\",VLOOKUP(B401,学連登録!$C$2:$G$3000,2,FALSE))","v":""},{"$f":"IF(B401=\"\",\"\",VLOOKUP(B401,学連登録!$C$2:$G$3000,3,FALSE))","v":""},{"$f":"IF(B401=\"\",\"\",VLOOKUP(B401,学連登録!$C$2:$G$3000,4,FALSE))","v":""},"",null,null,null,null,null,null,null,null,null,null,null,null,null,null,null,{"$f":"IF(B401=\"\",\"\",VLOOKUP(B401,学連登録!$C$2:$H$3000,6,FALSE))","v":""},null,"",{"$f":"IF(G401=\"\",\"\",VLOOKUP(G401,種目名!$O$5:$T$104,3,0))","v":""},{"$f":"IF(J401=\"\",\"\",VLOOKUP(J401,種目名!$O$5:$T$104,3,0))","v":""},{"$f":"IF(M401=\"\",\"\",VLOOKUP(M401,種目名!$O$5:$T$104,3,0))","v":""},{"$f":"IF(P401=\"\",\"\",VLOOKUP(AE401,種目名!$O$5:$T$104,3,0))","v":""},{"$f":"IF(S401=\"\",\"\",VLOOKUP(AH401,種目名!$O$5:$T$104,3,0))","v":""},0,"","",0,"",""]
["",null,{"$f":"IF(B402=\"\",\"\",VLOOKUP(B402,学連登録!$C$2:$G$3000,2,FALSE))","v":""},{"$f":"IF(B402=\"\",\"\",VLOOKUP(B402,学連登録!$C$2:$G$3000,3,FALSE))","v":""},{"$f":"IF(B402=\"\",\"\",VLOOKUP(B402,学連登録!$C$2:$G$3000,4,FALSE))","v":""},"",null,null,null,null,null,null,null,null,null,null,null,null,null,null,null,{"$f":"IF(B402=\"\",\"\",VLOOKUP(B402,学連登録!$C$2:$H$3000,6,FALSE))","v":""},null,"",{"$f":"IF(G402=\"\",\"\",VLOOKUP(G402,種目名!$O$5:$T$104,3,0))","v":""},{"$f":"IF(J402=\"\",\"\",VLOOKUP(J402,種目名!$O$5:$T$104,3,0))","v":""},{"$f":"IF(M402=\"\",\"\",VLOOKUP(M402,種目名!$O$5:$T$104,3,0))","v":""},{"$f":"IF(P402=\"\",\"\",VLOOKUP(AE402,種目名!$O$5:$T$104,3,0))","v":""},{"$f":"IF(S402=\"\",\"\",VLOOKUP(AH402,種目名!$O$5:$T$104,3,0))","v":""},0,"","",0,"",""]
["",null,{"$f":"IF(B403=\"\",\"\",VLOOKUP(B403,学連登録!$C$2:$G$3000,2,FALSE))","v":""},{"$f":"IF(B403=\"\",\"\",VLOOKUP(B403,学連登録!$C$2:$G$3000,3,FALSE))","v":""},{"$f":"IF(B403=\"\",\"\",VLOOKUP(B403,学連登録!$C$2:$G$3000,4,FALSE))","v":""},"",null,null,null,null,null,null,null,null,null,null,null,null,null,null,null,{"$f":"IF(B403=\"\",\"\",VLOOKUP(B403,学連登録!$C$2:$H$3000,6,FALSE))","v":""},null,"",{"$f":"IF(G403=\"\",\"\",VLOOKUP(G403,種目名!$O$5:$T$104,3,0))","v":""},{"$f":"IF(J403=\"\",\"\",VLOOKUP(J403,種目名!$O$5:$T$104,3,0))","v":""},{"$f":"IF(M403=\"\",\"\",VLOOKUP(M403,種目名!$O$5:$T$104,3,0))","v":""},{"$f":"IF(P403=\"\",\"\",VLOOKUP(AE403,種目名!$O$5:$T$104,3,0))","v":""},{"$f":"IF(S403=\"\",\"\",VLOOKUP(AH403,種目名!$O$5:$T$104,3,0))","v":""},0,"","",0,"",""]
["",null,{"$f":"IF(B404=\"\",\"\",VLOOKUP(B404,学連登録!$C$2:$G$3000,2,FALSE))","v":""},{"$f":"IF(B404=\"\",\"\",VLOOKUP(B404,学連登録!$C$2:$G$3000,3,FALSE))","v":""},{"$f":"IF(B404=\"\",\"\",VLOOKUP(B404,学連登録!$C$2:$G$3000,4,FALSE))","v":""},"",null,null,null,null,null,null,null,null,null,null,null,null,null,null,null,{"$f":"IF(B404=\"\",\"\",VLOOKUP(B404,学連登録!$C$2:$H$3000,6,FALSE))","v":""},null,"",{"$f":"IF(G404=\"\",\"\",VLOOKUP(G404,種目名!$O$5:$T$104,3,0))","v":""},{"$f":"IF(J404=\"\",\"\",VLOOKUP(J404,種目名!$O$5:$T$104,3,0))","v":""},{"$f":"IF(M404=\"\",\"\",VLOOKUP(M404,種目名!$O$5:$T$104,3,0))","v":""},{"$f":"IF(P404=\"\",\"\",VLOOKUP(AE404,種目名!$O$5:$T$104,3,0))","v":""},{"$f":"IF(S404=\"\",\"\",VLOOKUP(AH404,種目名!$O$5:$T$104,3,0))","v":""},0,"","",0,"",""]
["",null,{"$f":"IF(B405=\"\",\"\",VLOOKUP(B405,学連登録!$C$2:$G$3000,2,FALSE))","v":""},{"$f":"IF(B405=\"\",\"\",VLOOKUP(B405,学連登録!$C$2:$G$3000,3,FALSE))","v":""},{"$f":"IF(B405=\"\",\"\",VLOOKUP(B405,学連登録!$C$2:$G$3000,4,FALSE))","v":""},"",null,null,null,null,null,null,null,null,null,null,null,null,null,null,null,{"$f":"IF(B405=\"\",\"\",VLOOKUP(B405,学連登録!$C$2:$H$3000,6,FALSE))","v":""},null,"",{"$f":"IF(G405=\"\",\"\",VLOOKUP(G405,種目名!$O$5:$T$104,3,0))","v":""},{"$f":"IF(J405=\"\",\"\",VLOOKUP(J405,種目名!$O$5:$T$104,3,0))","v":""},{"$f":"IF(M405=\"\",\"\",VLOOKUP(M405,種目名!$O$5:$T$104,3,0))","v":""},{"$f":"IF(P405=\"\",\"\",VLOOKUP(AE405,種目名!$O$5:$T$104,3,0))","v":""},{"$f":"IF(S405=\"\",\"\",VLOOKUP(AH405,種目名!$O$5:$T$104,3,0))","v":""},0,"","",0,"",""]
["",null,{"$f":"IF(B406=\"\",\"\",VLOOKUP(B406,学連登録!$C$2:$G$3000,2,FALSE))","v":""},{"$f":"IF(B406=\"\",\"\",VLOOKUP(B406,学連登録!$C$2:$G$3000,3,FALSE))","v":""},{"$f":"IF(B406=\"\",\"\",VLOOKUP(B406,学連登録!$C$2:$G$3000,4,FALSE))","v":""},{"$f":"IF(C406=\"\",\"\",$P$1)","v":""},null,null,null,null,null,null,null,null,null,null,null,null,null,null,null,{"$f":"IF(B406=\"\",\"\",VLOOKUP(B406,学連登録!$C$2:$H$3000,6,FALSE))","v":""},null,{"$f":"IF(C406=\"\",\"\",$S$3)","v":""},{"$f":"IF(G406=\"\",\"\",VLOOKUP(G406,種目名!$O$5:$T$104,3,0))","v":""},{"$f":"IF(J406=\"\",\"\",VLOOKUP(J406,種目名!$O$5:$T$104,3,0))","v":""},{"$f":"IF(M406=\"\",\"\",VLOOKUP(M406,種目名!$O$5:$T$104,3,0))","v":""},{"$f":"IF(P406=\"\",\"\",VLOOKUP(AE406,種目名!$O$5:$T$104,3,0))","v":""},{"$f":"IF(S406=\"\",\"\",VLOOKUP(AH406,種目名!$O$5:$T$104,3,0))","v":""},{"$f":"LENB(P406)","v":0},{"$f":"IF(AD406,LEFTB(P406,AD406-1),\"\")","v":""},{"$f":"IF(AD406,MIDB(P406,AD406,1),\"\")","v":""},{"$f":"LENB(S406)","v":0},{"$f":"IF(AG406,LEFTB(S406,AG406-1),\"\")","v":""},{"$f":"IF(AG406,MIDB(S406,AG406,1),\"\")","v":""}]
[{"$f":"IF(C407=\"\",\"\",A406+1)","v":""},null,{"$f":"IF(B407=\"\",\"\",VLOOKUP(B407,学連登録!$C$2:$G$3000,2,FALSE))","v":""},{"$f":"IF(B407=\"\",\"\",VLOOKUP(B407,学連登録!$C$2:$G$3000,3,FALSE))","v":""},{"$f":"IF(B407=\"\",\"\",VLOOKUP(B407,学連登録!$C$2:$G$3000,4,FALSE))","v":""},"",null,null,null,null,null,null,null,null,null,null,null,null,null,null,null,{"$f":"IF(B407=\"\",\"\",VLOOKUP(B407,学連登録!$C$2:$H$3000,6,FALSE))","v":""},null,"",{"$f":"IF(G407=\"\",\"\",VLOOKUP(G407,種目名!$O$5:$T$104,3,0))","v":""},{"$f":"IF(J407=\"\",\"\",VLOOKUP(J407,種目名!$O$5:$T$104,3,0))","v":""},{"$f":"IF(M407=\"\",\"\",VLOOKUP(M407,種目名!$O$5:$T$104,3,0))","v":""},{"$f":"IF(P407=\"\",\"\",VLOOKUP(AE407,種目名!$O$5:$T$104,3,0))","v":""},{"$f":"IF(S407=\"\",\"\",VLOOKUP(AH407,種目名!$O$5:$T$104,3,0))","v":""},0,"","",0,"",""]
["",null,{"$f":"IF(B408=\"\",\"\",VLOOKUP(B408,学連登録!$C$2:$G$3000,2,FALSE))","v":""},{"$f":"IF(B408=\"\",\"\",VLOOKUP(B408,学連登録!$C$2:$G$3000,3,FALSE))","v":""},{"$f":"IF(B408=\"\",\"\",VLOOKUP(B408,学連登録!$C$2:$G$3000,4,FALSE))","v":""},"",null,null,null,null,null,null,null,null,null,null,null,null,null,null,null,{"$f":"IF(B408=\"\",\"\",VLOOKUP(B408,学連登録!$C$2:$H$3000,6,FALSE))","v":""},null,"",{"$f":"IF(G408=\"\",\"\",VLOOKUP(G408,種目名!$O$5:$T$104,3,0))","v":""},{"$f":"IF(J408=\"\",\"\",VLOOKUP(J408,種目名!$O$5:$T$104,3,0))","v":""},{"$f":"IF(M408=\"\",\"\",VLOOKUP(M408,種目名!$O$5:$T$104,3,0))","v":""},{"$f":"IF(P408=\"\",\"\",VLOOKUP(AE408,種目名!$O$5:$T$104,3,0))","v":""},{"$f":"IF(S408=\"\",\"\",VLOOKUP(AH408,種目名!$O$5:$T$104,3,0))","v":""},0,"","",0,"",""]
["",null,{"$f":"IF(B409=\"\",\"\",VLOOKUP(B409,学連登録!$C$2:$G$3000,2,FALSE))","v":""},{"$f":"IF(B409=\"\",\"\",VLOOKUP(B409,学連登録!$C$2:$G$3000,3,FALSE))","v":""},{"$f":"IF(B409=\"\",\"\",VLOOKUP(B409,学連登録!$C$2:$G$3000,4,FALSE))","v":""},"",null,null,null,null,null,null,null,null,null,null,null,null,null,null,null,{"$f":"IF(B409=\"\",\"\",VLOOKUP(B409,学連登録!$C$2:$H$3000,6,FALSE))","v":""},null,"",{"$f":"IF(G409=\"\",\"\",VLOOKUP(G409,種目名!$O$5:$T$104,3,0))","v":""},{"$f":"IF(J409=\"\",\"\",VLOOKUP(J409,種目名!$O$5:$T$104,3,0))","v":""},{"$f":"IF(M409=\"\",\"\",VLOOKUP(M409,種目名!$O$5:$T$104,3,0))","v":""},{"$f":"IF(P409=\"\",\"\",VLOOKUP(AE409,種目名!$O$5:$T$104,3,0))","v":""},{"$f":"IF(S409=\"\",\"\",VLOOKUP(AH409,種目名!$O$5:$T$104,3,0))","v":""},0,"","",0,"",""]
["",null,{"$f":"IF(B410=\"\",\"\",VLOOKUP(B410,学連登録!$C$2:$G$3000,2,FALSE))","v":""},{"$f":"IF(B410=\"\",\"\",VLOOKUP(B410,学連登録!$C$2:$G$3000,3,FALSE))","v":""},{"$f":"IF(B410=\"\",\"\",VLOOKUP(B410,学連登録!$C$2:$G$3000,4,FALSE))","v":""},"",null,null,null,null,null,null,null,null,null,null,null,null,null,null,null,{"$f":"IF(B410=\"\",\"\",VLOOKUP(B410,学連登録!$C$2:$H$3000,6,FALSE))","v":""},null,"",{"$f":"IF(G410=\"\",\"\",VLOOKUP(G410,種目名!$O$5:$T$104,3,0))","v":""},{"$f":"IF(J410=\"\",\"\",VLOOKUP(J410,種目名!$O$5:$T$104,3,0))","v":""},{"$f":"IF(M410=\"\",\"\",VLOOKUP(M410,種目名!$O$5:$T$104,3,0))","v":""},{"$f":"IF(P410=\"\",\"\",VLOOKUP(AE410,種目名!$O$5:$T$104,3,0))","v":""},{"$f":"IF(S410=\"\",\"\",VLOOKUP(AH410,種目名!$O$5:$T$104,3,0))","v":""},0,"","",0,"",""]
["",null,{"$f":"IF(B411=\"\",\"\",VLOOKUP(B411,学連登録!$C$2:$G$3000,2,FALSE))","v":""},{"$f":"IF(B411=\"\",\"\",VLOOKUP(B411,学連登録!$C$2:$G$3000,3,FALSE))","v":""},{"$f":"IF(B411=\"\",\"\",VLOOKUP(B411,学連登録!$C$2:$G$3000,4,FALSE))","v":""},"",null,null,null,null,null,null,null,null,null,null,null,null,null,null,null,{"$f":"IF(B411=\"\",\"\",VLOOKUP(B411,学連登録!$C$2:$H$3000,6,FALSE))","v":""},null,"",{"$f":"IF(G411=\"\",\"\",VLOOKUP(G411,種目名!$O$5:$T$104,3,0))","v":""},{"$f":"IF(J411=\"\",\"\",VLOOKUP(J411,種目名!$O$5:$T$104,3,0))","v":""},{"$f":"IF(M411=\"\",\"\",VLOOKUP(M411,種目名!$O$5:$T$104,3,0))","v":""},{"$f":"IF(P411=\"\",\"\",VLOOKUP(AE411,種目名!$O$5:$T$104,3,0))","v":""},{"$f":"IF(S411=\"\",\"\",VLOOKUP(AH411,種目名!$O$5:$T$104,3,0))","v":""},0,"","",0,"",""]
["",null,{"$f":"IF(B412=\"\",\"\",VLOOKUP(B412,学連登録!$C$2:$G$3000,2,FALSE))","v":""},{"$f":"IF(B412=\"\",\"\",VLOOKUP(B412,学連登録!$C$2:$G$3000,3,FALSE))","v":""},{"$f":"IF(B412=\"\",\"\",VLOOKUP(B412,学連登録!$C$2:$G$3000,4,FALSE))","v":""},"",null,null,null,null,null,null,null,null,null,null,null,null,null,null,null,{"$f":"IF(B412=\"\",\"\",VLOOKUP(B412,学連登録!$C$2:$H$3000,6,FALSE))","v":""},null,"",{"$f":"IF(G412=\"\",\"\",VLOOKUP(G412,種目名!$O$5:$T$104,3,0))","v":""},{"$f":"IF(J412=\"\",\"\",VLOOKUP(J412,種目名!$O$5:$T$104,3,0))","v":""},{"$f":"IF(M412=\"\",\"\",VLOOKUP(M412,種目名!$O$5:$T$104,3,0))","v":""},{"$f":"IF(P412=\"\",\"\",VLOOKUP(AE412,種目名!$O$5:$T$104,3,0))","v":""},{"$f":"IF(S412=\"\",\"\",VLOOKUP(AH412,種目名!$O$5:$T$104,3,0))","v":""},0,"","",0,"",""]
["",null,{"$f":"IF(B413=\"\",\"\",VLOOKUP(B413,学連登録!$C$2:$G$3000,2,FALSE))","v":""},{"$f":"IF(B413=\"\",\"\",VLOOKUP(B413,学連登録!$C$2:$G$3000,3,FALSE))","v":""},{"$f":"IF(B413=\"\",\"\",VLOOKUP(B413,学連登録!$C$2:$G$3000,4,FALSE))","v":""},"",null,null,null,null,null,null,null,null,null,null,null,null,null,null,null,{"$f":"IF(B413=\"\",\"\",VLOOKUP(B413,学連登録!$C$2:$H$3000,6,FALSE))","v":""},null,"",{"$f":"IF(G413=\"\",\"\",VLOOKUP(G413,種目名!$O$5:$T$104,3,0))","v":""},{"$f":"IF(J413=\"\",\"\",VLOOKUP(J413,種目名!$O$5:$T$104,3,0))","v":""},{"$f":"IF(M413=\"\",\"\",VLOOKUP(M413,種目名!$O$5:$T$104,3,0))","v":""},{"$f":"IF(P413=\"\",\"\",VLOOKUP(AE413,種目名!$O$5:$T$104,3,0))","v":""},{"$f":"IF(S413=\"\",\"\",VLOOKUP(AH413,種目名!$O$5:$T$104,3,0))","v":""},0,"","",0,"",""]
["",null,{"$f":"IF(B414=\"\",\"\",VLOOKUP(B414,学連登録!$C$2:$G$3000,2,FALSE))","v":""},{"$f":"IF(B414=\"\",\"\",VLOOKUP(B414,学連登録!$C$2:$G$3000,3,FALSE))","v":""},{"$f":"IF(B414=\"\",\"\",VLOOKUP(B414,学連登録!$C$2:$G$3000,4,FALSE))","v":""},"",null,null,null,null,null,null,null,null,null,null,null,null,null,null,null,{"$f":"IF(B414=\"\",\"\",VLOOKUP(B414,学連登録!$C$2:$H$3000,6,FALSE))","v":""},null,"",{"$f":"IF(G414=\"\",\"\",VLOOKUP(G414,種目名!$O$5:$T$104,3,0))","v":""},{"$f":"IF(J414=\"\",\"\",VLOOKUP(J414,種目名!$O$5:$T$104,3,0))","v":""},{"$f":"IF(M414=\"\",\"\",VLOOKUP(M414,種目名!$O$5:$T$104,3,0))","v":""},{"$f":"IF(P414=\"\",\"\",VLOOKUP(AE414,種目名!$O$5:$T$104,3,0))","v":""},{"$f":"IF(S414=\"\",\"\",VLOOKUP(AH414,種目名!$O$5:$T$104,3,0))","v":""},0,"","",0,"",""]
["",null,{"$f":"IF(B415=\"\",\"\",VLOOKUP(B415,学連登録!$C$2:$G$3000,2,FALSE))","v":""},{"$f":"IF(B415=\"\",\"\",VLOOKUP(B415,学連登録!$C$2:$G$3000,3,FALSE))","v":""},{"$f":"IF(B415=\"\",\"\",VLOOKUP(B415,学連登録!$C$2:$G$3000,4,FALSE))","v":""},"",null,null,null,null,null,null,null,null,null,null,null,null,null,null,null,{"$f":"IF(B415=\"\",\"\",VLOOKUP(B415,学連登録!$C$2:$H$3000,6,FALSE))","v":""},null,"",{"$f":"IF(G415=\"\",\"\",VLOOKUP(G415,種目名!$O$5:$T$104,3,0))","v":""},{"$f":"IF(J415=\"\",\"\",VLOOKUP(J415,種目名!$O$5:$T$104,3,0))","v":""},{"$f":"IF(M415=\"\",\"\",VLOOKUP(M415,種目名!$O$5:$T$104,3,0))","v":""},{"$f":"IF(P415=\"\",\"\",VLOOKUP(AE415,種目名!$O$5:$T$104,3,0))","v":""},{"$f":"IF(S415=\"\",\"\",VLOOKUP(AH415,種目名!$O$5:$T$104,3,0))","v":""},0,"","",0,"",""]
["",null,{"$f":"IF(B416=\"\",\"\",VLOOKUP(B416,学連登録!$C$2:$G$3000,2,FALSE))","v":""},{"$f":"IF(B416=\"\",\"\",VLOOKUP(B416,学連登録!$C$2:$G$3000,3,FALSE))","v":""},{"$f":"IF(B416=\"\",\"\",VLOOKUP(B416,学連登録!$C$2:$G$3000,4,FALSE))","v":""},"",null,null,null,null,null,null,null,null,null,null,null,null,null,null,null,{"$f":"IF(B416=\"\",\"\",VLOOKUP(B416,学連登録!$C$2:$H$3000,6,FALSE))","v":""},null,"",{"$f":"IF(G416=\"\",\"\",VLOOKUP(G416,種目名!$O$5:$T$104,3,0))","v":""},{"$f":"IF(J416=\"\",\"\",VLOOKUP(J416,種目名!$O$5:$T$104,3,0))","v":""},{"$f":"IF(M416=\"\",\"\",VLOOKUP(M416,種目名!$O$5:$T$104,3,0))","v":""},{"$f":"IF(P416=\"\",\"\",VLOOKUP(AE416,種目名!$O$5:$T$104,3,0))","v":""},{"$f":"IF(S416=\"\",\"\",VLOOKUP(AH416,種目名!$O$5:$T$104,3,0))","v":""},0,"","",0,"",""]
["",null,{"$f":"IF(B417=\"\",\"\",VLOOKUP(B417,学連登録!$C$2:$G$3000,2,FALSE))","v":""},{"$f":"IF(B417=\"\",\"\",VLOOKUP(B417,学連登録!$C$2:$G$3000,3,FALSE))","v":""},{"$f":"IF(B417=\"\",\"\",VLOOKUP(B417,学連登録!$C$2:$G$3000,4,FALSE))","v":""},"",null,null,null,null,null,null,null,null,null,null,null,null,null,null,null,{"$f":"IF(B417=\"\",\"\",VLOOKUP(B417,学連登録!$C$2:$H$3000,6,FALSE))","v":""},null,"",{"$f":"IF(G417=\"\",\"\",VLOOKUP(G417,種目名!$O$5:$T$104,3,0))","v":""},{"$f":"IF(J417=\"\",\"\",VLOOKUP(J417,種目名!$O$5:$T$104,3,0))","v":""},{"$f":"IF(M417=\"\",\"\",VLOOKUP(M417,種目名!$O$5:$T$104,3,0))","v":""},{"$f":"IF(P417=\"\",\"\",VLOOKUP(AE417,種目名!$O$5:$T$104,3,0))","v":""},{"$f":"IF(S417=\"\",\"\",VLOOKUP(AH417,種目名!$O$5:$T$104,3,0))","v":""},0,"","",0,"",""]
["",null,{"$f":"IF(B418=\"\",\"\",VLOOKUP(B418,学連登録!$C$2:$G$3000,2,FALSE))","v":""},{"$f":"IF(B418=\"\",\"\",VLOOKUP(B418,学連登録!$C$2:$G$3000,3,FALSE))","v":""},{"$f":"IF(B418=\"\",\"\",VLOOKUP(B418,学連登録!$C$2:$G$3000,4,FALSE))","v":""},"",null,null,null,null,null,null,null,null,null,null,null,null,null,null,null,{"$f":"IF(B418=\"\",\"\",VLOOKUP(B418,学連登録!$C$2:$H$3000,6,FALSE))","v":""},null,"",{"$f":"IF(G418=\"\",\"\",VLOOKUP(G418,種目名!$O$5:$T$104,3,0))","v":""},{"$f":"IF(J418=\"\",\"\",VLOOKUP(J418,種目名!$O$5:$T$104,3,0))","v":""},{"$f":"IF(M418=\"\",\"\",VLOOKUP(M418,種目名!$O$5:$T$104,3,0))","v":""},{"$f":"IF(P418=\"\",\"\",VLOOKUP(AE418,種目名!$O$5:$T$104,3,0))","v":""},{"$f":"IF(S418=\"\",\"\",VLOOKUP(AH418,種目名!$O$5:$T$104,3,0))","v":""},0,"","",0,"",""]
["",null,{"$f":"IF(B419=\"\",\"\",VLOOKUP(B419,学連登録!$C$2:$G$3000,2,FALSE))","v":""},{"$f":"IF(B419=\"\",\"\",VLOOKUP(B419,学連登録!$C$2:$G$3000,3,FALSE))","v":""},{"$f":"IF(B419=\"\",\"\",VLOOKUP(B419,学連登録!$C$2:$G$3000,4,FALSE))","v":""},"",null,null,null,null,null,null,null,null,null,null,null,null,null,null,null,{"$f":"IF(B419=\"\",\"\",VLOOKUP(B419,学連登録!$C$2:$H$3000,6,FALSE))","v":""},null,"",{"$f":"IF(G419=\"\",\"\",VLOOKUP(G419,種目名!$O$5:$T$104,3,0))","v":""},{"$f":"IF(J419=\"\",\"\",VLOOKUP(J419,種目名!$O$5:$T$104,3,0))","v":""},{"$f":"IF(M419=\"\",\"\",VLOOKUP(M419,種目名!$O$5:$T$104,3,0))","v":""},{"$f":"IF(P419=\"\",\"\",VLOOKUP(AE419,種目名!$O$5:$T$104,3,0))","v":""},{"$f":"IF(S419=\"\",\"\",VLOOKUP(AH419,種目名!$O$5:$T$104,3,0))","v":""},0,"","",0,"",""]
["",null,{"$f":"IF(B420=\"\",\"\",VLOOKUP(B420,学連登録!$C$2:$G$3000,2,FALSE))","v":""},{"$f":"IF(B420=\"\",\"\",VLOOKUP(B420,学連登録!$C$2:$G$3000,3,FALSE))","v":""},{"$f":"IF(B420=\"\",\"\",VLOOKUP(B420,学連登録!$C$2:$G$3000,4,FALSE))","v":""},"",null,null,null,null,null,null,null,null,null,null,null,null,null,null,null,{"$f":"IF(B420=\"\",\"\",VLOOKUP(B420,学連登録!$C$2:$H$3000,6,FALSE))","v":""},null,"",{"$f":"IF(G420=\"\",\"\",VLOOKUP(G420,種目名!$O$5:$T$104,3,0))","v":""},{"$f":"IF(J420=\"\",\"\",VLOOKUP(J420,種目名!$O$5:$T$104,3,0))","v":""},{"$f":"IF(M420=\"\",\"\",VLOOKUP(M420,種目名!$O$5:$T$104,3,0))","v":""},{"$f":"IF(P420=\"\",\"\",VLOOKUP(AE420,種目名!$O$5:$T$104,3,0))","v":""},{"$f":"IF(S420=\"\",\"\",VLOOKUP(AH420,種目名!$O$5:$T$104,3,0))","v":""},0,"","",0,"",""]
["",null,{"$f":"IF(B421=\"\",\"\",VLOOKUP(B421,学連登録!$C$2:$G$3000,2,FALSE))","v":""},{"$f":"IF(B421=\"\",\"\",VLOOKUP(B421,学連登録!$C$2:$G$3000,3,FALSE))","v":""},{"$f":"IF(B421=\"\",\"\",VLOOKUP(B421,学連登録!$C$2:$G$3000,4,FALSE))","v":""},"",null,null,null,null,null,null,null,null,null,null,null,null,null,null,null,{"$f":"IF(B421=\"\",\"\",VLOOKUP(B421,学連登録!$C$2:$H$3000,6,FALSE))","v":""},null,"",{"$f":"IF(G421=\"\",\"\",VLOOKUP(G421,種目名!$O$5:$T$104,3,0))","v":""},{"$f":"IF(J421=\"\",\"\",VLOOKUP(J421,種目名!$O$5:$T$104,3,0))","v":""},{"$f":"IF(M421=\"\",\"\",VLOOKUP(M421,種目名!$O$5:$T$104,3,0))","v":""},{"$f":"IF(P421=\"\",\"\",VLOOKUP(AE421,種目名!$O$5:$T$104,3,0))","v":""},{"$f":"IF(S421=\"\",\"\",VLOOKUP(AH421,種目名!$O$5:$T$104,3,0))","v":""},0,"","",0,"",""]
["",null,{"$f":"IF(B422=\"\",\"\",VLOOKUP(B422,学連登録!$C$2:$G$3000,2,FALSE))","v":""},{"$f":"IF(B422=\"\",\"\",VLOOKUP(B422,学連登録!$C$2:$G$3000,3,FALSE))","v":""},{"$f":"IF(B422=\"\",\"\",VLOOKUP(B422,学連登録!$C$2:$G$3000,4,FALSE))","v":""},"",null,null,null,null,null,null,null,null,null,null,null,null,null,null,null,{"$f":"IF(B422=\"\",\"\",VLOOKUP(B422,学連登録!$C$2:$H$3000,6,FALSE))","v":""},null,"",{"$f":"IF(G422=\"\",\"\",VLOOKUP(G422,種目名!$O$5:$T$104,3,0))","v":""},{"$f":"IF(J422=\"\",\"\",VLOOKUP(J422,種目名!$O$5:$T$104,3,0))","v":""},{"$f":"IF(M422=\"\",\"\",VLOOKUP(M422,種目名!$O$5:$T$104,3,0))","v":""},{"$f":"IF(P422=\"\",\"\",VLOOKUP(AE422,種目名!$O$5:$T$104,3,0))","v":""},{"$f":"IF(S422=\"\",\"\",VLOOKUP(AH422,種目名!$O$5:$T$104,3,0))","v":""},0,"","",0,"",""]
["",null,{"$f":"IF(B423=\"\",\"\",VLOOKUP(B423,学連登録!$C$2:$G$3000,2,FALSE))","v":""},{"$f":"IF(B423=\"\",\"\",VLOOKUP(B423,学連登録!$C$2:$G$3000,3,FALSE))","v":""},{"$f":"IF(B423=\"\",\"\",VLOOKUP(B423,学連登録!$C$2:$G$3000,4,FALSE))","v":""},"",null,null,null,null,null,null,null,null,null,null,null,null,null,null,null,{"$f":"IF(B423=\"\",\"\",VLOOKUP(B423,学連登録!$C$2:$H$3000,6,FALSE))","v":""},null,"",{"$f":"IF(G423=\"\",\"\",VLOOKUP(G423,種目名!$O$5:$T$104,3,0))","v":""},{"$f":"IF(J423=\"\",\"\",VLOOKUP(J423,種目名!$O$5:$T$104,3,0))","v":""},{"$f":"IF(M423=\"\",\"\",VLOOKUP(M423,種目名!$O$5:$T$104,3,0))","v":""},{"$f":"IF(P423=\"\",\"\",VLOOKUP(AE423,種目名!$O$5:$T$104,3,0))","v":""},{"$f":"IF(S423=\"\",\"\",VLOOKUP(AH423,種目名!$O$5:$T$104,3,0))","v":""},0,"","",0,"",""]
["",null,{"$f":"IF(B424=\"\",\"\",VLOOKUP(B424,学連登録!$C$2:$G$3000,2,FALSE))","v":""},{"$f":"IF(B424=\"\",\"\",VLOOKUP(B424,学連登録!$C$2:$G$3000,3,FALSE))","v":""},{"$f":"IF(B424=\"\",\"\",VLOOKUP(B424,学連登録!$C$2:$G$3000,4,FALSE))","v":""},"",null,null,null,null,null,null,null,null,null,null,null,null,null,null,null,{"$f":"IF(B424=\"\",\"\",VLOOKUP(B424,学連登録!$C$2:$H$3000,6,FALSE))","v":""},null,"",{"$f":"IF(G424=\"\",\"\",VLOOKUP(G424,種目名!$O$5:$T$104,3,0))","v":""},{"$f":"IF(J424=\"\",\"\",VLOOKUP(J424,種目名!$O$5:$T$104,3,0))","v":""},{"$f":"IF(M424=\"\",\"\",VLOOKUP(M424,種目名!$O$5:$T$104,3,0))","v":""},{"$f":"IF(P424=\"\",\"\",VLOOKUP(AE424,種目名!$O$5:$T$104,3,0))","v":""},{"$f":"IF(S424=\"\",\"\",VLOOKUP(AH424,種目名!$O$5:$T$104,3,0))","v":""},0,"","",0,"",""]
["",null,{"$f":"IF(B425=\"\",\"\",VLOOKUP(B425,学連登録!$C$2:$G$3000,2,FALSE))","v":""},{"$f":"IF(B425=\"\",\"\",VLOOKUP(B425,学連登録!$C$2:$G$3000,3,FALSE))","v":""},{"$f":"IF(B425=\"\",\"\",VLOOKUP(B425,学連登録!$C$2:$G$3000,4,FALSE))","v":""},"",null,null,null,null,null,null,null,null,null,null,null,null,null,null,null,{"$f":"IF(B425=\"\",\"\",VLOOKUP(B425,学連登録!$C$2:$H$3000,6,FALSE))","v":""},null,"",{"$f":"IF(G425=\"\",\"\",VLOOKUP(G425,種目名!$O$5:$T$104,3,0))","v":""},{"$f":"IF(J425=\"\",\"\",VLOOKUP(J425,種目名!$O$5:$T$104,3,0))","v":""},{"$f":"IF(M425=\"\",\"\",VLOOKUP(M425,種目名!$O$5:$T$104,3,0))","v":""},{"$f":"IF(P425=\"\",\"\",VLOOKUP(AE425,種目名!$O$5:$T$104,3,0))","v":""},{"$f":"IF(S425=\"\",\"\",VLOOKUP(AH425,種目名!$O$5:$T$104,3,0))","v":""},0,"","",0,"",""]
["",null,{"$f":"IF(B426=\"\",\"\",VLOOKUP(B426,学連登録!$C$2:$G$3000,2,FALSE))","v":""},{"$f":"IF(B426=\"\",\"\",VLOOKUP(B426,学連登録!$C$2:$G$3000,3,FALSE))","v":""},{"$f":"IF(B426=\"\",\"\",VLOOKUP(B426,学連登録!$C$2:$G$3000,4,FALSE))","v":""},"",null,null,null,null,null,null,null,null,null,null,null,null,null,null,null,{"$f":"IF(B426=\"\",\"\",VLOOKUP(B426,学連登録!$C$2:$H$3000,6,FALSE))","v":""},null,"",{"$f":"IF(G426=\"\",\"\",VLOOKUP(G426,種目名!$O$5:$T$104,3,0))","v":""},{"$f":"IF(J426=\"\",\"\",VLOOKUP(J426,種目名!$O$5:$T$104,3,0))","v":""},{"$f":"IF(M426=\"\",\"\",VLOOKUP(M426,種目名!$O$5:$T$104,3,0))","v":""},{"$f":"IF(P426=\"\",\"\",VLOOKUP(AE426,種目名!$O$5:$T$104,3,0))","v":""},{"$f":"IF(S426=\"\",\"\",VLOOKUP(AH426,種目名!$O$5:$T$104,3,0))","v":""},0,"","",0,"",""]
["",null,{"$f":"IF(B427=\"\",\"\",VLOOKUP(B427,学連登録!$C$2:$G$3000,2,FALSE))","v":""},{"$f":"IF(B427=\"\",\"\",VLOOKUP(B427,学連登録!$C$2:$G$3000,3,FALSE))","v":""},{"$f":"IF(B427=\"\",\"\",VLOOKUP(B427,学連登録!$C$2:$G$3000,4,FALSE))","v":""},"",null,null,null,null,null,null,null,null,null,null,null,null,null,null,null,{"$f":"IF(B427=\"\",\"\",VLOOKUP(B427,学連登録!$C$2:$H$3000,6,FALSE))","v":""},null,"",{"$f":"IF(G427=\"\",\"\",VLOOKUP(G427,種目名!$O$5:$T$104,3,0))","v":""},{"$f":"IF(J427=\"\",\"\",VLOOKUP(J427,種目名!$O$5:$T$104,3,0))","v":""},{"$f":"IF(M427=\"\",\"\",VLOOKUP(M427,種目名!$O$5:$T$104,3,0))","v":""},{"$f":"IF(P427=\"\",\"\",VLOOKUP(AE427,種目名!$O$5:$T$104,3,0))","v":""},{"$f":"IF(S427=\"\",\"\",VLOOKUP(AH427,種目名!$O$5:$T$104,3,0))","v":""},0,"","",0,"",""]
["",null,{"$f":"IF(B428=\"\",\"\",VLOOKUP(B428,学連登録!$C$2:$G$3000,2,FALSE))","v":""},{"$f":"IF(B428=\"\",\"\",VLOOKUP(B428,学連登録!$C$2:$G$3000,3,FALSE))","v":""},{"$f":"IF(B428=\"\",\"\",VLOOKUP(B428,学連登録!$C$2:$G$3000,4,FALSE))","v":""},"",null,null,null,null,null,null,null,null,null,null,null,null,null,null,null,{"$f":"IF(B428=\"\",\"\",VLOOKUP(B428,学連登録!$C$2:$H$3000,6,FALSE))","v":""},null,"",{"$f":"IF(G428=\"\",\"\",VLOOKUP(G428,種目名!$O$5:$T$104,3,0))","v":""},{"$f":"IF(J428=\"\",\"\",VLOOKUP(J428,種目名!$O$5:$T$104,3,0))","v":""},{"$f":"IF(M428=\"\",\"\",VLOOKUP(M428,種目名!$O$5:$T$104,3,0))","v":""},{"$f":"IF(P428=\"\",\"\",VLOOKUP(AE428,種目名!$O$5:$T$104,3,0))","v":""},{"$f":"IF(S428=\"\",\"\",VLOOKUP(AH428,種目名!$O$5:$T$104,3,0))","v":""},0,"","",0,"",""]
["",null,{"$f":"IF(B429=\"\",\"\",VLOOKUP(B429,学連登録!$C$2:$G$3000,2,FALSE))","v":""},{"$f":"IF(B429=\"\",\"\",VLOOKUP(B429,学連登録!$C$2:$G$3000,3,FALSE))","v":""},{"$f":"IF(B429=\"\",\"\",VLOOKUP(B429,学連登録!$C$2:$G$3000,4,FALSE))","v":""},"",null,null,null,null,null,null,null,null,null,null,null,null,null,null,null,{"$f":"IF(B429=\"\",\"\",VLOOKUP(B429,学連登録!$C$2:$H$3000,6,FALSE))","v":""},null,"",{"$f":"IF(G429=\"\",\"\",VLOOKUP(G429,種目名!$O$5:$T$104,3,0))","v":""},{"$f":"IF(J429=\"\",\"\",VLOOKUP(J429,種目名!$O$5:$T$104,3,0))","v":""},{"$f":"IF(M429=\"\",\"\",VLOOKUP(M429,種目名!$O$5:$T$104,3,0))","v":""},{"$f":"IF(P429=\"\",\"\",VLOOKUP(AE429,種目名!$O$5:$T$104,3,0))","v":""},{"$f":"IF(S429=\"\",\"\",VLOOKUP(AH429,種目名!$O$5:$T$104,3,0))","v":""},0,"","",0,"",""]
["",null,{"$f":"IF(B430=\"\",\"\",VLOOKUP(B430,学連登録!$C$2:$G$3000,2,FALSE))","v":""},{"$f":"IF(B430=\"\",\"\",VLOOKUP(B430,学連登録!$C$2:$G$3000,3,FALSE))","v":""},{"$f":"IF(B430=\"\",\"\",VLOOKUP(B430,学連登録!$C$2:$G$3000,4,FALSE))","v":""},"",null,null,null,null,null,null,null,null,null,null,null,null,null,null,null,{"$f":"IF(B430=\"\",\"\",VLOOKUP(B430,学連登録!$C$2:$H$3000,6,FALSE))","v":""},null,"",{"$f":"IF(G430=\"\",\"\",VLOOKUP(G430,種目名!$O$5:$T$104,3,0))","v":""},{"$f":"IF(J430=\"\",\"\",VLOOKUP(J430,種目名!$O$5:$T$104,3,0))","v":""},{"$f":"IF(M430=\"\",\"\",VLOOKUP(M430,種目名!$O$5:$T$104,3,0))","v":""},{"$f":"IF(P430=\"\",\"\",VLOOKUP(AE430,種目名!$O$5:$T$104,3,0))","v":""},{"$f":"IF(S430=\"\",\"\",VLOOKUP(AH430,種目名!$O$5:$T$104,3,0))","v":""},0,"","",0,"",""]
["",null,{"$f":"IF(B431=\"\",\"\",VLOOKUP(B431,学連登録!$C$2:$G$3000,2,FALSE))","v":""},{"$f":"IF(B431=\"\",\"\",VLOOKUP(B431,学連登録!$C$2:$G$3000,3,FALSE))","v":""},{"$f":"IF(B431=\"\",\"\",VLOOKUP(B431,学連登録!$C$2:$G$3000,4,FALSE))","v":""},"",null,null,null,null,null,null,null,null,null,null,null,null,null,null,null,{"$f":"IF(B431=\"\",\"\",VLOOKUP(B431,学連登録!$C$2:$H$3000,6,FALSE))","v":""},null,"",{"$f":"IF(G431=\"\",\"\",VLOOKUP(G431,種目名!$O$5:$T$104,3,0))","v":""},{"$f":"IF(J431=\"\",\"\",VLOOKUP(J431,種目名!$O$5:$T$104,3,0))","v":""},{"$f":"IF(M431=\"\",\"\",VLOOKUP(M431,種目名!$O$5:$T$104,3,0))","v":""},{"$f":"IF(P431=\"\",\"\",VLOOKUP(AE431,種目名!$O$5:$T$104,3,0))","v":""},{"$f":"IF(S431=\"\",\"\",VLOOKUP(AH431,種目名!$O$5:$T$104,3,0))","v":""},0,"","",0,"",""]
["",null,{"$f":"IF(B432=\"\",\"\",VLOOKUP(B432,学連登録!$C$2:$G$3000,2,FALSE))","v":""},{"$f":"IF(B432=\"\",\"\",VLOOKUP(B432,学連登録!$C$2:$G$3000,3,FALSE))","v":""},{"$f":"IF(B432=\"\",\"\",VLOOKUP(B432,学連登録!$C$2:$G$3000,4,FALSE))","v":""},"",null,null,null,null,null,null,null,null,null,null,null,null,null,null,null,{"$f":"IF(B432=\"\",\"\",VLOOKUP(B432,学連登録!$C$2:$H$3000,6,FALSE))","v":""},null,"",{"$f":"IF(G432=\"\",\"\",VLOOKUP(G432,種目名!$O$5:$T$104,3,0))","v":""},{"$f":"IF(J432=\"\",\"\",VLOOKUP(J432,種目名!$O$5:$T$104,3,0))","v":""},{"$f":"IF(M432=\"\",\"\",VLOOKUP(M432,種目名!$O$5:$T$104,3,0))","v":""},{"$f":"IF(P432=\"\",\"\",VLOOKUP(AE432,種目名!$O$5:$T$104,3,0))","v":""},{"$f":"IF(S432=\"\",\"\",VLOOKUP(AH432,種目名!$O$5:$T$104,3,0))","v":""},0,"","",0,"",""]
["",null,{"$f":"IF(B433=\"\",\"\",VLOOKUP(B433,学連登録!$C$2:$G$3000,2,FALSE))","v":""},{"$f":"IF(B433=\"\",\"\",VLOOKUP(B433,学連登録!$C$2:$G$3000,3,FALSE))","v":""},{"$f":"IF(B433=\"\",\"\",VLOOKUP(B433,学連登録!$C$2:$G$3000,4,FALSE))","v":""},"",null,null,null,null,null,null,null,null,null,null,null,null,null,null,null,{"$f":"IF(B433=\"\",\"\",VLOOKUP(B433,学連登録!$C$2:$H$3000,6,FALSE))","v":""},null,"",{"$f":"IF(G433=\"\",\"\",VLOOKUP(G433,種目名!$O$5:$T$104,3,0))","v":""},{"$f":"IF(J433=\"\",\"\",VLOOKUP(J433,種目名!$O$5:$T$104,3,0))","v":""},{"$f":"IF(M433=\"\",\"\",VLOOKUP(M433,種目名!$O$5:$T$104,3,0))","v":""},{"$f":"IF(P433=\"\",\"\",VLOOKUP(AE433,種目名!$O$5:$T$104,3,0))","v":""},{"$f":"IF(S433=\"\",\"\",VLOOKUP(AH433,種目名!$O$5:$T$104,3,0))","v":""},0,"","",0,"",""]
["",null,{"$f":"IF(B434=\"\",\"\",VLOOKUP(B434,学連登録!$C$2:$G$3000,2,FALSE))","v":""},{"$f":"IF(B434=\"\",\"\",VLOOKUP(B434,学連登録!$C$2:$G$3000,3,FALSE))","v":""},{"$f":"IF(B434=\"\",\"\",VLOOKUP(B434,学連登録!$C$2:$G$3000,4,FALSE))","v":""},"",null,null,null,null,null,null,null,null,null,null,null,null,null,null,null,{"$f":"IF(B434=\"\",\"\",VLOOKUP(B434,学連登録!$C$2:$H$3000,6,FALSE))","v":""},null,"",{"$f":"IF(G434=\"\",\"\",VLOOKUP(G434,種目名!$O$5:$T$104,3,0))","v":""},{"$f":"IF(J434=\"\",\"\",VLOOKUP(J434,種目名!$O$5:$T$104,3,0))","v":""},{"$f":"IF(M434=\"\",\"\",VLOOKUP(M434,種目名!$O$5:$T$104,3,0))","v":""},{"$f":"IF(P434=\"\",\"\",VLOOKUP(AE434,種目名!$O$5:$T$104,3,0))","v":""},{"$f":"IF(S434=\"\",\"\",VLOOKUP(AH434,種目名!$O$5:$T$104,3,0))","v":""},0,"","",0,"",""]
["",null,{"$f":"IF(B435=\"\",\"\",VLOOKUP(B435,学連登録!$C$2:$G$3000,2,FALSE))","v":""},{"$f":"IF(B435=\"\",\"\",VLOOKUP(B435,学連登録!$C$2:$G$3000,3,FALSE))","v":""},{"$f":"IF(B435=\"\",\"\",VLOOKUP(B435,学連登録!$C$2:$G$3000,4,FALSE))","v":""},"",null,null,null,null,null,null,null,null,null,null,null,null,null,null,null,{"$f":"IF(B435=\"\",\"\",VLOOKUP(B435,学連登録!$C$2:$H$3000,6,FALSE))","v":""},null,"",{"$f":"IF(G435=\"\",\"\",VLOOKUP(G435,種目名!$O$5:$T$104,3,0))","v":""},{"$f":"IF(J435=\"\",\"\",VLOOKUP(J435,種目名!$O$5:$T$104,3,0))","v":""},{"$f":"IF(M435=\"\",\"\",VLOOKUP(M435,種目名!$O$5:$T$104,3,0))","v":""},{"$f":"IF(P435=\"\",\"\",VLOOKUP(AE435,種目名!$O$5:$T$104,3,0))","v":""},{"$f":"IF(S435=\"\",\"\",VLOOKUP(AH435,種目名!$O$5:$T$104,3,0))","v":""},0,"","",0,"",""]
["",null,{"$f":"IF(B436=\"\",\"\",VLOOKUP(B436,学連登録!$C$2:$G$3000,2,FALSE))","v":""},{"$f":"IF(B436=\"\",\"\",VLOOKUP(B436,学連登録!$C$2:$G$3000,3,FALSE))","v":""},{"$f":"IF(B436=\"\",\"\",VLOOKUP(B436,学連登録!$C$2:$G$3000,4,FALSE))","v":""},"",null,null,null,null,null,null,null,null,null,null,null,null,null,null,null,{"$f":"IF(B436=\"\",\"\",VLOOKUP(B436,学連登録!$C$2:$H$3000,6,FALSE))","v":""},null,"",{"$f":"IF(G436=\"\",\"\",VLOOKUP(G436,種目名!$O$5:$T$104,3,0))","v":""},{"$f":"IF(J436=\"\",\"\",VLOOKUP(J436,種目名!$O$5:$T$104,3,0))","v":""},{"$f":"IF(M436=\"\",\"\",VLOOKUP(M436,種目名!$O$5:$T$104,3,0))","v":""},{"$f":"IF(P436=\"\",\"\",VLOOKUP(AE436,種目名!$O$5:$T$104,3,0))","v":""},{"$f":"IF(S436=\"\",\"\",VLOOKUP(AH436,種目名!$O$5:$T$104,3,0))","v":""},0,"","",0,"",""]
["",null,{"$f":"IF(B437=\"\",\"\",VLOOKUP(B437,学連登録!$C$2:$G$3000,2,FALSE))","v":""},{"$f":"IF(B437=\"\",\"\",VLOOKUP(B437,学連登録!$C$2:$G$3000,3,FALSE))","v":""},{"$f":"IF(B437=\"\",\"\",VLOOKUP(B437,学連登録!$C$2:$G$3000,4,FALSE))","v":""},"",null,null,null,null,null,null,null,null,null,null,null,null,null,null,null,{"$f":"IF(B437=\"\",\"\",VLOOKUP(B437,学連登録!$C$2:$H$3000,6,FALSE))","v":""},null,"",{"$f":"IF(G437=\"\",\"\",VLOOKUP(G437,種目名!$O$5:$T$104,3,0))","v":""},{"$f":"IF(J437=\"\",\"\",VLOOKUP(J437,種目名!$O$5:$T$104,3,0))","v":""},{"$f":"IF(M437=\"\",\"\",VLOOKUP(M437,種目名!$O$5:$T$104,3,0))","v":""},{"$f":"IF(P437=\"\",\"\",VLOOKUP(AE437,種目名!$O$5:$T$104,3,0))","v":""},{"$f":"IF(S437=\"\",\"\",VLOOKUP(AH437,種目名!$O$5:$T$104,3,0))","v":""},0,"","",0,"",""]
["",null,{"$f":"IF(B438=\"\",\"\",VLOOKUP(B438,学連登録!$C$2:$G$3000,2,FALSE))","v":""},{"$f":"IF(B438=\"\",\"\",VLOOKUP(B438,学連登録!$C$2:$G$3000,3,FALSE))","v":""},{"$f":"IF(B438=\"\",\"\",VLOOKUP(B438,学連登録!$C$2:$G$3000,4,FALSE))","v":""},"",null,null,null,null,null,null,null,null,null,null,null,null,null,null,null,{"$f":"IF(B438=\"\",\"\",VLOOKUP(B438,学連登録!$C$2:$H$3000,6,FALSE))","v":""},null,"",{"$f":"IF(G438=\"\",\"\",VLOOKUP(G438,種目名!$O$5:$T$104,3,0))","v":""},{"$f":"IF(J438=\"\",\"\",VLOOKUP(J438,種目名!$O$5:$T$104,3,0))","v":""},{"$f":"IF(M438=\"\",\"\",VLOOKUP(M438,種目名!$O$5:$T$104,3,0))","v":""},{"$f":"IF(P438=\"\",\"\",VLOOKUP(AE438,種目名!$O$5:$T$104,3,0))","v":""},{"$f":"IF(S438=\"\",\"\",VLOOKUP(AH438,種目名!$O$5:$T$104,3,0))","v":""},0,"","",0,"",""]
["",null,{"$f":"IF(B439=\"\",\"\",VLOOKUP(B439,学連登録!$C$2:$G$3000,2,FALSE))","v":""},{"$f":"IF(B439=\"\",\"\",VLOOKUP(B439,学連登録!$C$2:$G$3000,3,FALSE))","v":""},{"$f":"IF(B439=\"\",\"\",VLOOKUP(B439,学連登録!$C$2:$G$3000,4,FALSE))","v":""},"",null,null,null,null,null,null,null,null,null,null,null,null,null,null,null,{"$f":"IF(B439=\"\",\"\",VLOOKUP(B439,学連登録!$C$2:$H$3000,6,FALSE))","v":""},null,"",{"$f":"IF(G439=\"\",\"\",VLOOKUP(G439,種目名!$O$5:$T$104,3,0))","v":""},{"$f":"IF(J439=\"\",\"\",VLOOKUP(J439,種目名!$O$5:$T$104,3,0))","v":""},{"$f":"IF(M439=\"\",\"\",VLOOKUP(M439,種目名!$O$5:$T$104,3,0))","v":""},{"$f":"IF(P439=\"\",\"\",VLOOKUP(AE439,種目名!$O$5:$T$104,3,0))","v":""},{"$f":"IF(S439=\"\",\"\",VLOOKUP(AH439,種目名!$O$5:$T$104,3,0))","v":""},0,"","",0,"",""]
["",null,{"$f":"IF(B440=\"\",\"\",VLOOKUP(B440,学連登録!$C$2:$G$3000,2,FALSE))","v":""},{"$f":"IF(B440=\"\",\"\",VLOOKUP(B440,学連登録!$C$2:$G$3000,3,FALSE))","v":""},{"$f":"IF(B440=\"\",\"\",VLOOKUP(B440,学連登録!$C$2:$G$3000,4,FALSE))","v":""},"",null,null,null,null,null,null,null,null,null,null,null,null,null,null,null,{"$f":"IF(B440=\"\",\"\",VLOOKUP(B440,学連登録!$C$2:$H$3000,6,FALSE))","v":""},null,"",{"$f":"IF(G440=\"\",\"\",VLOOKUP(G440,種目名!$O$5:$T$104,3,0))","v":""},{"$f":"IF(J440=\"\",\"\",VLOOKUP(J440,種目名!$O$5:$T$104,3,0))","v":""},{"$f":"IF(M440=\"\",\"\",VLOOKUP(M440,種目名!$O$5:$T$104,3,0))","v":""},{"$f":"IF(P440=\"\",\"\",VLOOKUP(AE440,種目名!$O$5:$T$104,3,0))","v":""},{"$f":"IF(S440=\"\",\"\",VLOOKUP(AH440,種目名!$O$5:$T$104,3,0))","v":""},0,"","",0,"",""]
["",null,{"$f":"IF(B441=\"\",\"\",VLOOKUP(B441,学連登録!$C$2:$G$3000,2,FALSE))","v":""},{"$f":"IF(B441=\"\",\"\",VLOOKUP(B441,学連登録!$C$2:$G$3000,3,FALSE))","v":""},{"$f":"IF(B441=\"\",\"\",VLOOKUP(B441,学連登録!$C$2:$G$3000,4,FALSE))","v":""},"",null,null,null,null,null,null,null,null,null,null,null,null,null,null,null,{"$f":"IF(B441=\"\",\"\",VLOOKUP(B441,学連登録!$C$2:$H$3000,6,FALSE))","v":""},null,"",{"$f":"IF(G441=\"\",\"\",VLOOKUP(G441,種目名!$O$5:$T$104,3,0))","v":""},{"$f":"IF(J441=\"\",\"\",VLOOKUP(J441,種目名!$O$5:$T$104,3,0))","v":""},{"$f":"IF(M441=\"\",\"\",VLOOKUP(M441,種目名!$O$5:$T$104,3,0))","v":""},{"$f":"IF(P441=\"\",\"\",VLOOKUP(AE441,種目名!$O$5:$T$104,3,0))","v":""},{"$f":"IF(S441=\"\",\"\",VLOOKUP(AH441,種目名!$O$5:$T$104,3,0))","v":""},0,"","",0,"",""]
["",null,{"$f":"IF(B442=\"\",\"\",VLOOKUP(B442,学連登録!$C$2:$G$3000,2,FALSE))","v":""},{"$f":"IF(B442=\"\",\"\",VLOOKUP(B442,学連登録!$C$2:$G$3000,3,FALSE))","v":""},{"$f":"IF(B442=\"\",\"\",VLOOKUP(B442,学連登録!$C$2:$G$3000,4,FALSE))","v":""},"",null,null,null,null,null,null,null,null,null,null,null,null,null,null,null,{"$f":"IF(B442=\"\",\"\",VLOOKUP(B442,学連登録!$C$2:$H$3000,6,FALSE))","v":""},null,"",{"$f":"IF(G442=\"\",\"\",VLOOKUP(G442,種目名!$O$5:$T$104,3,0))","v":""},{"$f":"IF(J442=\"\",\"\",VLOOKUP(J442,種目名!$O$5:$T$104,3,0))","v":""},{"$f":"IF(M442=\"\",\"\",VLOOKUP(M442,種目名!$O$5:$T$104,3,0))","v":""},{"$f":"IF(P442=\"\",\"\",VLOOKUP(AE442,種目名!$O$5:$T$104,3,0))","v":""},{"$f":"IF(S442=\"\",\"\",VLOOKUP(AH442,種目名!$O$5:$T$104,3,0))","v":""},0,"","",0,"",""]
["",null,{"$f":"IF(B443=\"\",\"\",VLOOKUP(B443,学連登録!$C$2:$G$3000,2,FALSE))","v":""},{"$f":"IF(B443=\"\",\"\",VLOOKUP(B443,学連登録!$C$2:$G$3000,3,FALSE))","v":""},{"$f":"IF(B443=\"\",\"\",VLOOKUP(B443,学連登録!$C$2:$G$3000,4,FALSE))","v":""},"",null,null,null,null,null,null,null,null,null,null,null,null,null,null,null,{"$f":"IF(B443=\"\",\"\",VLOOKUP(B443,学連登録!$C$2:$H$3000,6,FALSE))","v":""},null,"",{"$f":"IF(G443=\"\",\"\",VLOOKUP(G443,種目名!$O$5:$T$104,3,0))","v":""},{"$f":"IF(J443=\"\",\"\",VLOOKUP(J443,種目名!$O$5:$T$104,3,0))","v":""},{"$f":"IF(M443=\"\",\"\",VLOOKUP(M443,種目名!$O$5:$T$104,3,0))","v":""},{"$f":"IF(P443=\"\",\"\",VLOOKUP(AE443,種目名!$O$5:$T$104,3,0))","v":""},{"$f":"IF(S443=\"\",\"\",VLOOKUP(AH443,種目名!$O$5:$T$104,3,0))","v":""},0,"","",0,"",""]
["",null,{"$f":"IF(B444=\"\",\"\",VLOOKUP(B444,学連登録!$C$2:$G$3000,2,FALSE))","v":""},{"$f":"IF(B444=\"\",\"\",VLOOKUP(B444,学連登録!$C$2:$G$3000,3,FALSE))","v":""},{"$f":"IF(B444=\"\",\"\",VLOOKUP(B444,学連登録!$C$2:$G$3000,4,FALSE))","v":""},"",null,null,null,null,null,null,null,null,null,null,null,null,null,null,null,{"$f":"IF(B444=\"\",\"\",VLOOKUP(B444,学連登録!$C$2:$H$3000,6,FALSE))","v":""},null,"",{"$f":"IF(G444=\"\",\"\",VLOOKUP(G444,種目名!$O$5:$T$104,3,0))","v":""},{"$f":"IF(J444=\"\",\"\",VLOOKUP(J444,種目名!$O$5:$T$104,3,0))","v":""},{"$f":"IF(M444=\"\",\"\",VLOOKUP(M444,種目名!$O$5:$T$104,3,0))","v":""},{"$f":"IF(P444=\"\",\"\",VLOOKUP(AE444,種目名!$O$5:$T$104,3,0))","v":""},{"$f":"IF(S444=\"\",\"\",VLOOKUP(AH444,種目名!$O$5:$T$104,3,0))","v":""},0,"","",0,"",""]
["",null,{"$f":"IF(B445=\"\",\"\",VLOOKUP(B445,学連登録!$C$2:$G$3000,2,FALSE))","v":""},{"$f":"IF(B445=\"\",\"\",VLOOKUP(B445,学連登録!$C$2:$G$3000,3,FALSE))","v":""},{"$f":"IF(B445=\"\",\"\",VLOOKUP(B445,学連登録!$C$2:$G$3000,4,FALSE))","v":""},"",null,null,null,null,null,null,null,null,null,null,null,null,null,null,null,{"$f":"IF(B445=\"\",\"\",VLOOKUP(B445,学連登録!$C$2:$H$3000,6,FALSE))","v":""},null,"",{"$f":"IF(G445=\"\",\"\",VLOOKUP(G445,種目名!$O$5:$T$104,3,0))","v":""},{"$f":"IF(J445=\"\",\"\",VLOOKUP(J445,種目名!$O$5:$T$104,3,0))","v":""},{"$f":"IF(M445=\"\",\"\",VLOOKUP(M445,種目名!$O$5:$T$104,3,0))","v":""},{"$f":"IF(P445=\"\",\"\",VLOOKUP(AE445,種目名!$O$5:$T$104,3,0))","v":""},{"$f":"IF(S445=\"\",\"\",VLOOKUP(AH445,種目名!$O$5:$T$104,3,0))","v":""},0,"","",0,"",""]
["",null,{"$f":"IF(B446=\"\",\"\",VLOOKUP(B446,学連登録!$C$2:$G$3000,2,FALSE))","v":""},{"$f":"IF(B446=\"\",\"\",VLOOKUP(B446,学連登録!$C$2:$G$3000,3,FALSE))","v":""},{"$f":"IF(B446=\"\",\"\",VLOOKUP(B446,学連登録!$C$2:$G$3000,4,FALSE))","v":""},"",null,null,null,null,null,null,null,null,null,null,null,null,null,null,null,{"$f":"IF(B446=\"\",\"\",VLOOKUP(B446,学連登録!$C$2:$H$3000,6,FALSE))","v":""},null,"",{"$f":"IF(G446=\"\",\"\",VLOOKUP(G446,種目名!$O$5:$T$104,3,0))","v":""},{"$f":"IF(J446=\"\",\"\",VLOOKUP(J446,種目名!$O$5:$T$104,3,0))","v":""},{"$f":"IF(M446=\"\",\"\",VLOOKUP(M446,種目名!$O$5:$T$104,3,0))","v":""},{"$f":"IF(P446=\"\",\"\",VLOOKUP(AE446,種目名!$O$5:$T$104,3,0))","v":""},{"$f":"IF(S446=\"\",\"\",VLOOKUP(AH446,種目名!$O$5:$T$104,3,0))","v":""},0,"","",0,"",""]
["",null,{"$f":"IF(B447=\"\",\"\",VLOOKUP(B447,学連登録!$C$2:$G$3000,2,FALSE))","v":""},{"$f":"IF(B447=\"\",\"\",VLOOKUP(B447,学連登録!$C$2:$G$3000,3,FALSE))","v":""},{"$f":"IF(B447=\"\",\"\",VLOOKUP(B447,学連登録!$C$2:$G$3000,4,FALSE))","v":""},"",null,null,null,null,null,null,null,null,null,null,null,null,null,null,null,{"$f":"IF(B447=\"\",\"\",VLOOKUP(B447,学連登録!$C$2:$H$3000,6,FALSE))","v":""},null,"",{"$f":"IF(G447=\"\",\"\",VLOOKUP(G447,種目名!$O$5:$T$104,3,0))","v":""},{"$f":"IF(J447=\"\",\"\",VLOOKUP(J447,種目名!$O$5:$T$104,3,0))","v":""},{"$f":"IF(M447=\"\",\"\",VLOOKUP(M447,種目名!$O$5:$T$104,3,0))","v":""},{"$f":"IF(P447=\"\",\"\",VLOOKUP(AE447,種目名!$O$5:$T$104,3,0))","v":""},{"$f":"IF(S447=\"\",\"\",VLOOKUP(AH447,種目名!$O$5:$T$104,3,0))","v":""},0,"","",0,"",""]
["",null,{"$f":"IF(B448=\"\",\"\",VLOOKUP(B448,学連登録!$C$2:$G$3000,2,FALSE))","v":""},{"$f":"IF(B448=\"\",\"\",VLOOKUP(B448,学連登録!$C$2:$G$3000,3,FALSE))","v":""},{"$f":"IF(B448=\"\",\"\",VLOOKUP(B448,学連登録!$C$2:$G$3000,4,FALSE))","v":""},"",null,null,null,null,null,null,null,null,null,null,null,null,null,null,null,{"$f":"IF(B448=\"\",\"\",VLOOKUP(B448,学連登録!$C$2:$H$3000,6,FALSE))","v":""},null,"",{"$f":"IF(G448=\"\",\"\",VLOOKUP(G448,種目名!$O$5:$T$104,3,0))","v":""},{"$f":"IF(J448=\"\",\"\",VLOOKUP(J448,種目名!$O$5:$T$104,3,0))","v":""},{"$f":"IF(M448=\"\",\"\",VLOOKUP(M448,種目名!$O$5:$T$104,3,0))","v":""},{"$f":"IF(P448=\"\",\"\",VLOOKUP(AE448,種目名!$O$5:$T$104,3,0))","v":""},{"$f":"IF(S448=\"\",\"\",VLOOKUP(AH448,種目名!$O$5:$T$104,3,0))","v":""},0,"","",0,"",""]
["",null,{"$f":"IF(B449=\"\",\"\",VLOOKUP(B449,学連登録!$C$2:$G$3000,2,FALSE))","v":""},{"$f":"IF(B449=\"\",\"\",VLOOKUP(B449,学連登録!$C$2:$G$3000,3,FALSE))","v":""},{"$f":"IF(B449=\"\",\"\",VLOOKUP(B449,学連登録!$C$2:$G$3000,4,FALSE))","v":""},"",null,null,null,null,null,null,null,null,null,null,null,null,null,null,null,{"$f":"IF(B449=\"\",\"\",VLOOKUP(B449,学連登録!$C$2:$H$3000,6,FALSE))","v":""},null,"",{"$f":"IF(G449=\"\",\"\",VLOOKUP(G449,種目名!$O$5:$T$104,3,0))","v":""},{"$f":"IF(J449=\"\",\"\",VLOOKUP(J449,種目名!$O$5:$T$104,3,0))","v":""},{"$f":"IF(M449=\"\",\"\",VLOOKUP(M449,種目名!$O$5:$T$104,3,0))","v":""},{"$f":"IF(P449=\"\",\"\",VLOOKUP(AE449,種目名!$O$5:$T$104,3,0))","v":""},{"$f":"IF(S449=\"\",\"\",VLOOKUP(AH449,種目名!$O$5:$T$104,3,0))","v":""},0,"","",0,"",""]
["",null,{"$f":"IF(B450=\"\",\"\",VLOOKUP(B450,学連登録!$C$2:$G$3000,2,FALSE))","v":""},{"$f":"IF(B450=\"\",\"\",VLOOKUP(B450,学連登録!$C$2:$G$3000,3,FALSE))","v":""},{"$f":"IF(B450=\"\",\"\",VLOOKUP(B450,学連登録!$C$2:$G$3000,4,FALSE))","v":""},"",null,null,null,null,null,null,null,null,null,null,null,null,null,null,null,{"$f":"IF(B450=\"\",\"\",VLOOKUP(B450,学連登録!$C$2:$H$3000,6,FALSE))","v":""},null,"",{"$f":"IF(G450=\"\",\"\",VLOOKUP(G450,種目名!$O$5:$T$104,3,0))","v":""},{"$f":"IF(J450=\"\",\"\",VLOOKUP(J450,種目名!$O$5:$T$104,3,0))","v":""},{"$f":"IF(M450=\"\",\"\",VLOOKUP(M450,種目名!$O$5:$T$104,3,0))","v":""},{"$f":"IF(P450=\"\",\"\",VLOOKUP(AE450,種目名!$O$5:$T$104,3,0))","v":""},{"$f":"IF(S450=\"\",\"\",VLOOKUP(AH450,種目名!$O$5:$T$104,3,0))","v":""},0,"","",0,"",""]
["",null,{"$f":"IF(B451=\"\",\"\",VLOOKUP(B451,学連登録!$C$2:$G$3000,2,FALSE))","v":""},{"$f":"IF(B451=\"\",\"\",VLOOKUP(B451,学連登録!$C$2:$G$3000,3,FALSE))","v":""},{"$f":"IF(B451=\"\",\"\",VLOOKUP(B451,学連登録!$C$2:$G$3000,4,FALSE))","v":""},"",null,null,null,null,null,null,null,null,null,null,null,null,null,null,null,{"$f":"IF(B451=\"\",\"\",VLOOKUP(B451,学連登録!$C$2:$H$3000,6,FALSE))","v":""},null,"",{"$f":"IF(G451=\"\",\"\",VLOOKUP(G451,種目名!$O$5:$T$104,3,0))","v":""},{"$f":"IF(J451=\"\",\"\",VLOOKUP(J451,種目名!$O$5:$T$104,3,0))","v":""},{"$f":"IF(M451=\"\",\"\",VLOOKUP(M451,種目名!$O$5:$T$104,3,0))","v":""},{"$f":"IF(P451=\"\",\"\",VLOOKUP(AE451,種目名!$O$5:$T$104,3,0))","v":""},{"$f":"IF(S451=\"\",\"\",VLOOKUP(AH451,種目名!$O$5:$T$104,3,0))","v":""},0,"","",0,"",""]
["",null,{"$f":"IF(B452=\"\",\"\",VLOOKUP(B452,学連登録!$C$2:$G$3000,2,FALSE))","v":""},{"$f":"IF(B452=\"\",\"\",VLOOKUP(B452,学連登録!$C$2:$G$3000,3,FALSE))","v":""},{"$f":"IF(B452=\"\",\"\",VLOOKUP(B452,学連登録!$C$2:$G$3000,4,FALSE))","v":""},"",null,null,null,null,null,null,null,null,null,null,null,null,null,null,null,{"$f":"IF(B452=\"\",\"\",VLOOKUP(B452,学連登録!$C$2:$H$3000,6,FALSE))","v":""},null,"",{"$f":"IF(G452=\"\",\"\",VLOOKUP(G452,種目名!$O$5:$T$104,3,0))","v":""},{"$f":"IF(J452=\"\",\"\",VLOOKUP(J452,種目名!$O$5:$T$104,3,0))","v":""},{"$f":"IF(M452=\"\",\"\",VLOOKUP(M452,種目名!$O$5:$T$104,3,0))","v":""},{"$f":"IF(P452=\"\",\"\",VLOOKUP(AE452,種目名!$O$5:$T$104,3,0))","v":""},{"$f":"IF(S452=\"\",\"\",VLOOKUP(AH452,種目名!$O$5:$T$104,3,0))","v":""},0,"","",0,"",""]
["",null,{"$f":"IF(B453=\"\",\"\",VLOOKUP(B453,学連登録!$C$2:$G$3000,2,FALSE))","v":""},{"$f":"IF(B453=\"\",\"\",VLOOKUP(B453,学連登録!$C$2:$G$3000,3,FALSE))","v":""},{"$f":"IF(B453=\"\",\"\",VLOOKUP(B453,学連登録!$C$2:$G$3000,4,FALSE))","v":""},"",null,null,null,null,null,null,null,null,null,null,null,null,null,null,null,{"$f":"IF(B453=\"\",\"\",VLOOKUP(B453,学連登録!$C$2:$H$3000,6,FALSE))","v":""},null,"",{"$f":"IF(G453=\"\",\"\",VLOOKUP(G453,種目名!$O$5:$T$104,3,0))","v":""},{"$f":"IF(J453=\"\",\"\",VLOOKUP(J453,種目名!$O$5:$T$104,3,0))","v":""},{"$f":"IF(M453=\"\",\"\",VLOOKUP(M453,種目名!$O$5:$T$104,3,0))","v":""},{"$f":"IF(P453=\"\",\"\",VLOOKUP(AE453,種目名!$O$5:$T$104,3,0))","v":""},{"$f":"IF(S453=\"\",\"\",VLOOKUP(AH453,種目名!$O$5:$T$104,3,0))","v":""},0,"","",0,"",""]
["",null,{"$f":"IF(B454=\"\",\"\",VLOOKUP(B454,学連登録!$C$2:$G$3000,2,FALSE))","v":""},{"$f":"IF(B454=\"\",\"\",VLOOKUP(B454,学連登録!$C$2:$G$3000,3,FALSE))","v":""},{"$f":"IF(B454=\"\",\"\",VLOOKUP(B454,学連登録!$C$2:$G$3000,4,FALSE))","v":""},"",null,null,null,null,null,null,null,null,null,null,null,null,null,null,null,{"$f":"IF(B454=\"\",\"\",VLOOKUP(B454,学連登録!$C$2:$H$3000,6,FALSE))","v":""},null,"",{"$f":"IF(G454=\"\",\"\",VLOOKUP(G454,種目名!$O$5:$T$104,3,0))","v":""},{"$f":"IF(J454=\"\",\"\",VLOOKUP(J454,種目名!$O$5:$T$104,3,0))","v":""},{"$f":"IF(M454=\"\",\"\",VLOOKUP(M454,種目名!$O$5:$T$104,3,0))","v":""},{"$f":"IF(P454=\"\",\"\",VLOOKUP(AE454,種目名!$O$5:$T$104,3,0))","v":""},{"$f":"IF(S454=\"\",\"\",VLOOKUP(AH454,種目名!$O$5:$T$104,3,0))","v":""},0,"","",0,"",""]
["",null,{"$f":"IF(B455=\"\",\"\",VLOOKUP(B455,学連登録!$C$2:$G$3000,2,FALSE))","v":""},{"$f":"IF(B455=\"\",\"\",VLOOKUP(B455,学連登録!$C$2:$G$3000,3,FALSE))","v":""},{"$f":"IF(B455=\"\",\"\",VLOOKUP(B455,学連登録!$C$2:$G$3000,4,FALSE))","v":""},"",null,null,null,null,null,null,null,null,null,null,null,null,null,null,null,{"$f":"IF(B455=\"\",\"\",VLOOKUP(B455,学連登録!$C$2:$H$3000,6,FALSE))","v":""},null,"",{"$f":"IF(G455=\"\",\"\",VLOOKUP(G455,種目名!$O$5:$T$104,3,0))","v":""},{"$f":"IF(J455=\"\",\"\",VLOOKUP(J455,種目名!$O$5:$T$104,3,0))","v":""},{"$f":"IF(M455=\"\",\"\",VLOOKUP(M455,種目名!$O$5:$T$104,3,0))","v":""},{"$f":"IF(P455=\"\",\"\",VLOOKUP(AE455,種目名!$O$5:$T$104,3,0))","v":""},{"$f":"IF(S455=\"\",\"\",VLOOKUP(AH455,種目名!$O$5:$T$104,3,0))","v":""},0,"","",0,"",""]
["",null,{"$f":"IF(B456=\"\",\"\",VLOOKUP(B456,学連登録!$C$2:$G$3000,2,FALSE))","v":""},{"$f":"IF(B456=\"\",\"\",VLOOKUP(B456,学連登録!$C$2:$G$3000,3,FALSE))","v":""},{"$f":"IF(B456=\"\",\"\",VLOOKUP(B456,学連登録!$C$2:$G$3000,4,FALSE))","v":""},"",null,null,null,null,null,null,null,null,null,null,null,null,null,null,null,{"$f":"IF(B456=\"\",\"\",VLOOKUP(B456,学連登録!$C$2:$H$3000,6,FALSE))","v":""},null,"",{"$f":"IF(G456=\"\",\"\",VLOOKUP(G456,種目名!$O$5:$T$104,3,0))","v":""},{"$f":"IF(J456=\"\",\"\",VLOOKUP(J456,種目名!$O$5:$T$104,3,0))","v":""},{"$f":"IF(M456=\"\",\"\",VLOOKUP(M456,種目名!$O$5:$T$104,3,0))","v":""},{"$f":"IF(P456=\"\",\"\",VLOOKUP(AE456,種目名!$O$5:$T$104,3,0))","v":""},{"$f":"IF(S456=\"\",\"\",VLOOKUP(AH456,種目名!$O$5:$T$104,3,0))","v":""},0,"","",0,"",""]
["",null,{"$f":"IF(B457=\"\",\"\",VLOOKUP(B457,学連登録!$C$2:$G$3000,2,FALSE))","v":""},{"$f":"IF(B457=\"\",\"\",VLOOKUP(B457,学連登録!$C$2:$G$3000,3,FALSE))","v":""},{"$f":"IF(B457=\"\",\"\",VLOOKUP(B457,学連登録!$C$2:$G$3000,4,FALSE))","v":""},"",null,null,null,null,null,null,null,null,null,null,null,null,null,null,null,{"$f":"IF(B457=\"\",\"\",VLOOKUP(B457,学連登録!$C$2:$H$3000,6,FALSE))","v":""},null,"",{"$f":"IF(G457=\"\",\"\",VLOOKUP(G457,種目名!$O$5:$T$104,3,0))","v":""},{"$f":"IF(J457=\"\",\"\",VLOOKUP(J457,種目名!$O$5:$T$104,3,0))","v":""},{"$f":"IF(M457=\"\",\"\",VLOOKUP(M457,種目名!$O$5:$T$104,3,0))","v":""},{"$f":"IF(P457=\"\",\"\",VLOOKUP(AE457,種目名!$O$5:$T$104,3,0))","v":""},{"$f":"IF(S457=\"\",\"\",VLOOKUP(AH457,種目名!$O$5:$T$104,3,0))","v":""},0,"","",0,"",""]
["",null,{"$f":"IF(B458=\"\",\"\",VLOOKUP(B458,学連登録!$C$2:$G$3000,2,FALSE))","v":""},{"$f":"IF(B458=\"\",\"\",VLOOKUP(B458,学連登録!$C$2:$G$3000,3,FALSE))","v":""},{"$f":"IF(B458=\"\",\"\",VLOOKUP(B458,学連登録!$C$2:$G$3000,4,FALSE))","v":""},"",null,null,null,null,null,null,null,null,null,null,null,null,null,null,null,{"$f":"IF(B458=\"\",\"\",VLOOKUP(B458,学連登録!$C$2:$H$3000,6,FALSE))","v":""},null,"",{"$f":"IF(G458=\"\",\"\",VLOOKUP(G458,種目名!$O$5:$T$104,3,0))","v":""},{"$f":"IF(J458=\"\",\"\",VLOOKUP(J458,種目名!$O$5:$T$104,3,0))","v":""},{"$f":"IF(M458=\"\",\"\",VLOOKUP(M458,種目名!$O$5:$T$104,3,0))","v":""},{"$f":"IF(P458=\"\",\"\",VLOOKUP(AE458,種目名!$O$5:$T$104,3,0))","v":""},{"$f":"IF(S458=\"\",\"\",VLOOKUP(AH458,種目名!$O$5:$T$104,3,0))","v":""},0,"","",0,"",""]
["",null,{"$f":"IF(B459=\"\",\"\",VLOOKUP(B459,学連登録!$C$2:$G$3000,2,FALSE))","v":""},{"$f":"IF(B459=\"\",\"\",VLOOKUP(B459,学連登録!$C$2:$G$3000,3,FALSE))","v":""},{"$f":"IF(B459=\"\",\"\",VLOOKUP(B459,学連登録!$C$2:$G$3000,4,FALSE))","v":""},"",null,null,null,null,null,null,null,null,null,null,null,null,null,null,null,{"$f":"IF(B459=\"\",\"\",VLOOKUP(B459,学連登録!$C$2:$H$3000,6,FALSE))","v":""},null,"",{"$f":"IF(G459=\"\",\"\",VLOOKUP(G459,種目名!$O$5:$T$104,3,0))","v":""},{"$f":"IF(J459=\"\",\"\",VLOOKUP(J459,種目名!$O$5:$T$104,3,0))","v":""},{"$f":"IF(M459=\"\",\"\",VLOOKUP(M459,種目名!$O$5:$T$104,3,0))","v":""},{"$f":"IF(P459=\"\",\"\",VLOOKUP(AE459,種目名!$O$5:$T$104,3,0))","v":""},{"$f":"IF(S459=\"\",\"\",VLOOKUP(AH459,種目名!$O$5:$T$104,3,0))","v":""},0,"","",0,"",""]
["",null,{"$f":"IF(B460=\"\",\"\",VLOOKUP(B460,学連登録!$C$2:$G$3000,2,FALSE))","v":""},{"$f":"IF(B460=\"\",\"\",VLOOKUP(B460,学連登録!$C$2:$G$3000,3,FALSE))","v":""},{"$f":"IF(B460=\"\",\"\",VLOOKUP(B460,学連登録!$C$2:$G$3000,4,FALSE))","v":""},"",null,null,null,null,null,null,null,null,null,null,null,null,null,null,null,{"$f":"IF(B460=\"\",\"\",VLOOKUP(B460,学連登録!$C$2:$H$3000,6,FALSE))","v":""},null,"",{"$f":"IF(G460=\"\",\"\",VLOOKUP(G460,種目名!$O$5:$T$104,3,0))","v":""},{"$f":"IF(J460=\"\",\"\",VLOOKUP(J460,種目名!$O$5:$T$104,3,0))","v":""},{"$f":"IF(M460=\"\",\"\",VLOOKUP(M460,種目名!$O$5:$T$104,3,0))","v":""},{"$f":"IF(P460=\"\",\"\",VLOOKUP(AE460,種目名!$O$5:$T$104,3,0))","v":""},{"$f":"IF(S460=\"\",\"\",VLOOKUP(AH460,種目名!$O$5:$T$104,3,0))","v":""},0,"","",0,"",""]
["",null,{"$f":"IF(B461=\"\",\"\",VLOOKUP(B461,学連登録!$C$2:$G$3000,2,FALSE))","v":""},{"$f":"IF(B461=\"\",\"\",VLOOKUP(B461,学連登録!$C$2:$G$3000,3,FALSE))","v":""},{"$f":"IF(B461=\"\",\"\",VLOOKUP(B461,学連登録!$C$2:$G$3000,4,FALSE))","v":""},"",null,null,null,null,null,null,null,null,null,null,null,null,null,null,null,{"$f":"IF(B461=\"\",\"\",VLOOKUP(B461,学連登録!$C$2:$H$3000,6,FALSE))","v":""},null,"",{"$f":"IF(G461=\"\",\"\",VLOOKUP(G461,種目名!$O$5:$T$104,3,0))","v":""},{"$f":"IF(J461=\"\",\"\",VLOOKUP(J461,種目名!$O$5:$T$104,3,0))","v":""},{"$f":"IF(M461=\"\",\"\",VLOOKUP(M461,種目名!$O$5:$T$104,3,0))","v":""},{"$f":"IF(P461=\"\",\"\",VLOOKUP(AE461,種目名!$O$5:$T$104,3,0))","v":""},{"$f":"IF(S461=\"\",\"\",VLOOKUP(AH461,種目名!$O$5:$T$104,3,0))","v":""},0,"","",0,"",""]
["",null,{"$f":"IF(B462=\"\",\"\",VLOOKUP(B462,学連登録!$C$2:$G$3000,2,FALSE))","v":""},{"$f":"IF(B462=\"\",\"\",VLOOKUP(B462,学連登録!$C$2:$G$3000,3,FALSE))","v":""},{"$f":"IF(B462=\"\",\"\",VLOOKUP(B462,学連登録!$C$2:$G$3000,4,FALSE))","v":""},"",null,null,null,null,null,null,null,null,null,null,null,null,null,null,null,{"$f":"IF(B462=\"\",\"\",VLOOKUP(B462,学連登録!$C$2:$H$3000,6,FALSE))","v":""},null,"",{"$f":"IF(G462=\"\",\"\",VLOOKUP(G462,種目名!$O$5:$T$104,3,0))","v":""},{"$f":"IF(J462=\"\",\"\",VLOOKUP(J462,種目名!$O$5:$T$104,3,0))","v":""},{"$f":"IF(M462=\"\",\"\",VLOOKUP(M462,種目名!$O$5:$T$104,3,0))","v":""},{"$f":"IF(P462=\"\",\"\",VLOOKUP(AE462,種目名!$O$5:$T$104,3,0))","v":""},{"$f":"IF(S462=\"\",\"\",VLOOKUP(AH462,種目名!$O$5:$T$104,3,0))","v":""},0,"","",0,"",""]
["",null,{"$f":"IF(B463=\"\",\"\",VLOOKUP(B463,学連登録!$C$2:$G$3000,2,FALSE))","v":""},{"$f":"IF(B463=\"\",\"\",VLOOKUP(B463,学連登録!$C$2:$G$3000,3,FALSE))","v":""},{"$f":"IF(B463=\"\",\"\",VLOOKUP(B463,学連登録!$C$2:$G$3000,4,FALSE))","v":""},"",null,null,null,null,null,null,null,null,null,null,null,null,null,null,null,{"$f":"IF(B463=\"\",\"\",VLOOKUP(B463,学連登録!$C$2:$H$3000,6,FALSE))","v":""},null,"",{"$f":"IF(G463=\"\",\"\",VLOOKUP(G463,種目名!$O$5:$T$104,3,0))","v":""},{"$f":"IF(J463=\"\",\"\",VLOOKUP(J463,種目名!$O$5:$T$104,3,0))","v":""},{"$f":"IF(M463=\"\",\"\",VLOOKUP(M463,種目名!$O$5:$T$104,3,0))","v":""},{"$f":"IF(P463=\"\",\"\",VLOOKUP(AE463,種目名!$O$5:$T$104,3,0))","v":""},{"$f":"IF(S463=\"\",\"\",VLOOKUP(AH463,種目名!$O$5:$T$104,3,0))","v":""},0,"","",0,"",""]
["",null,{"$f":"IF(B464=\"\",\"\",VLOOKUP(B464,学連登録!$C$2:$G$3000,2,FALSE))","v":""},{"$f":"IF(B464=\"\",\"\",VLOOKUP(B464,学連登録!$C$2:$G$3000,3,FALSE))","v":""},{"$f":"IF(B464=\"\",\"\",VLOOKUP(B464,学連登録!$C$2:$G$3000,4,FALSE))","v":""},"",null,null,null,null,null,null,null,null,null,null,null,null,null,null,null,{"$f":"IF(B464=\"\",\"\",VLOOKUP(B464,学連登録!$C$2:$H$3000,6,FALSE))","v":""},null,"",{"$f":"IF(G464=\"\",\"\",VLOOKUP(G464,種目名!$O$5:$T$104,3,0))","v":""},{"$f":"IF(J464=\"\",\"\",VLOOKUP(J464,種目名!$O$5:$T$104,3,0))","v":""},{"$f":"IF(M464=\"\",\"\",VLOOKUP(M464,種目名!$O$5:$T$104,3,0))","v":""},{"$f":"IF(P464=\"\",\"\",VLOOKUP(AE464,種目名!$O$5:$T$104,3,0))","v":""},{"$f":"IF(S464=\"\",\"\",VLOOKUP(AH464,種目名!$O$5:$T$104,3,0))","v":""},0,"","",0,"",""]
["",null,{"$f":"IF(B465=\"\",\"\",VLOOKUP(B465,学連登録!$C$2:$G$3000,2,FALSE))","v":""},{"$f":"IF(B465=\"\",\"\",VLOOKUP(B465,学連登録!$C$2:$G$3000,3,FALSE))","v":""},{"$f":"IF(B465=\"\",\"\",VLOOKUP(B465,学連登録!$C$2:$G$3000,4,FALSE))","v":""},"",null,null,null,null,null,null,null,null,null,null,null,null,null,null,null,{"$f":"IF(B465=\"\",\"\",VLOOKUP(B465,学連登録!$C$2:$H$3000,6,FALSE))","v":""},null,"",{"$f":"IF(G465=\"\",\"\",VLOOKUP(G465,種目名!$O$5:$T$104,3,0))","v":""},{"$f":"IF(J465=\"\",\"\",VLOOKUP(J465,種目名!$O$5:$T$104,3,0))","v":""},{"$f":"IF(M465=\"\",\"\",VLOOKUP(M465,種目名!$O$5:$T$104,3,0))","v":""},{"$f":"IF(P465=\"\",\"\",VLOOKUP(AE465,種目名!$O$5:$T$104,3,0))","v":""},{"$f":"IF(S465=\"\",\"\",VLOOKUP(AH465,種目名!$O$5:$T$104,3,0))","v":""},0,"","",0,"",""]
["",null,{"$f":"IF(B466=\"\",\"\",VLOOKUP(B466,学連登録!$C$2:$G$3000,2,FALSE))","v":""},{"$f":"IF(B466=\"\",\"\",VLOOKUP(B466,学連登録!$C$2:$G$3000,3,FALSE))","v":""},{"$f":"IF(B466=\"\",\"\",VLOOKUP(B466,学連登録!$C$2:$G$3000,4,FALSE))","v":""},"",null,null,null,null,null,null,null,null,null,null,null,null,null,null,null,{"$f":"IF(B466=\"\",\"\",VLOOKUP(B466,学連登録!$C$2:$H$3000,6,FALSE))","v":""},null,"",{"$f":"IF(G466=\"\",\"\",VLOOKUP(G466,種目名!$O$5:$T$104,3,0))","v":""},{"$f":"IF(J466=\"\",\"\",VLOOKUP(J466,種目名!$O$5:$T$104,3,0))","v":""},{"$f":"IF(M466=\"\",\"\",VLOOKUP(M466,種目名!$O$5:$T$104,3,0))","v":""},{"$f":"IF(P466=\"\",\"\",VLOOKUP(AE466,種目名!$O$5:$T$104,3,0))","v":""},{"$f":"IF(S466=\"\",\"\",VLOOKUP(AH466,種目名!$O$5:$T$104,3,0))","v":""},0,"","",0,"",""]
["",null,{"$f":"IF(B467=\"\",\"\",VLOOKUP(B467,学連登録!$C$2:$G$3000,2,FALSE))","v":""},{"$f":"IF(B467=\"\",\"\",VLOOKUP(B467,学連登録!$C$2:$G$3000,3,FALSE))","v":""},{"$f":"IF(B467=\"\",\"\",VLOOKUP(B467,学連登録!$C$2:$G$3000,4,FALSE))","v":""},"",null,null,null,null,null,null,null,null,null,null,null,null,null,null,null,{"$f":"IF(B467=\"\",\"\",VLOOKUP(B467,学連登録!$C$2:$H$3000,6,FALSE))","v":""},null,"",{"$f":"IF(G467=\"\",\"\",VLOOKUP(G467,種目名!$O$5:$T$104,3,0))","v":""},{"$f":"IF(J467=\"\",\"\",VLOOKUP(J467,種目名!$O$5:$T$104,3,0))","v":""},{"$f":"IF(M467=\"\",\"\",VLOOKUP(M467,種目名!$O$5:$T$104,3,0))","v":""},{"$f":"IF(P467=\"\",\"\",VLOOKUP(AE467,種目名!$O$5:$T$104,3,0))","v":""},{"$f":"IF(S467=\"\",\"\",VLOOKUP(AH467,種目名!$O$5:$T$104,3,0))","v":""},0,"","",0,"",""]
["",null,{"$f":"IF(B468=\"\",\"\",VLOOKUP(B468,学連登録!$C$2:$G$3000,2,FALSE))","v":""},{"$f":"IF(B468=\"\",\"\",VLOOKUP(B468,学連登録!$C$2:$G$3000,3,FALSE))","v":""},{"$f":"IF(B468=\"\",\"\",VLOOKUP(B468,学連登録!$C$2:$G$3000,4,FALSE))","v":""},"",null,null,null,null,null,null,null,null,null,null,null,null,null,null,null,{"$f":"IF(B468=\"\",\"\",VLOOKUP(B468,学連登録!$C$2:$H$3000,6,FALSE))","v":""},null,"",{"$f":"IF(G468=\"\",\"\",VLOOKUP(G468,種目名!$O$5:$T$104,3,0))","v":""},{"$f":"IF(J468=\"\",\"\",VLOOKUP(J468,種目名!$O$5:$T$104,3,0))","v":""},{"$f":"IF(M468=\"\",\"\",VLOOKUP(M468,種目名!$O$5:$T$104,3,0))","v":""},{"$f":"IF(P468=\"\",\"\",VLOOKUP(AE468,種目名!$O$5:$T$104,3,0))","v":""},{"$f":"IF(S468=\"\",\"\",VLOOKUP(AH468,種目名!$O$5:$T$104,3,0))","v":""},0,"","",0,"",""]
["",null,{"$f":"IF(B469=\"\",\"\",VLOOKUP(B469,学連登録!$C$2:$G$3000,2,FALSE))","v":""},{"$f":"IF(B469=\"\",\"\",VLOOKUP(B469,学連登録!$C$2:$G$3000,3,FALSE))","v":""},{"$f":"IF(B469=\"\",\"\",VLOOKUP(B469,学連登録!$C$2:$G$3000,4,FALSE))","v":""},"",null,null,null,null,null,null,null,null,null,null,null,null,null,null,null,{"$f":"IF(B469=\"\",\"\",VLOOKUP(B469,学連登録!$C$2:$H$3000,6,FALSE))","v":""},null,"",{"$f":"IF(G469=\"\",\"\",VLOOKUP(G469,種目名!$O$5:$T$104,3,0))","v":""},{"$f":"IF(J469=\"\",\"\",VLOOKUP(J469,種目名!$O$5:$T$104,3,0))","v":""},{"$f":"IF(M469=\"\",\"\",VLOOKUP(M469,種目名!$O$5:$T$104,3,0))","v":""},{"$f":"IF(P469=\"\",\"\",VLOOKUP(AE469,種目名!$O$5:$T$104,3,0))","v":""},{"$f":"IF(S469=\"\",\"\",VLOOKUP(AH469,種目名!$O$5:$T$104,3,0))","v":""},0,"","",0,"",""]
["",null,{"$f":"IF(B470=\"\",\"\",VLOOKUP(B470,学連登録!$C$2:$G$3000,2,FALSE))","v":""},{"$f":"IF(B470=\"\",\"\",VLOOKUP(B470,学連登録!$C$2:$G$3000,3,FALSE))","v":""},{"$f":"IF(B470=\"\",\"\",VLOOKUP(B470,学連登録!$C$2:$G$3000,4,FALSE))","v":""},{"$f":"IF(C470=\"\",\"\",$P$1)","v":""},null,null,null,null,null,null,null,null,null,null,null,null,null,null,null,{"$f":"IF(B470=\"\",\"\",VLOOKUP(B470,学連登録!$C$2:$H$3000,6,FALSE))","v":""},null,{"$f":"IF(C470=\"\",\"\",$S$3)","v":""},{"$f":"IF(G470=\"\",\"\",VLOOKUP(G470,種目名!$O$5:$T$104,3,0))","v":""},{"$f":"IF(J470=\"\",\"\",VLOOKUP(J470,種目名!$O$5:$T$104,3,0))","v":""},{"$f":"IF(M470=\"\",\"\",VLOOKUP(M470,種目名!$O$5:$T$104,3,0))","v":""},{"$f":"IF(P470=\"\",\"\",VLOOKUP(AE470,種目名!$O$5:$T$104,3,0))","v":""},{"$f":"IF(S470=\"\",\"\",VLOOKUP(AH470,種目名!$O$5:$T$104,3,0))","v":""},{"$f":"LENB(P470)","v":0},{"$f":"IF(AD470,LEFTB(P470,AD470-1),\"\")","v":""},{"$f":"IF(AD470,MIDB(P470,AD470,1),\"\")","v":""},{"$f":"LENB(S470)","v":0},{"$f":"IF(AG470,LEFTB(S470,AG470-1),\"\")","v":""},{"$f":"IF(AG470,MIDB(S470,AG470,1),\"\")","v":""}]
[{"$f":"IF(C471=\"\",\"\",A470+1)","v":""},null,{"$f":"IF(B471=\"\",\"\",VLOOKUP(B471,学連登録!$C$2:$G$3000,2,FALSE))","v":""},{"$f":"IF(B471=\"\",\"\",VLOOKUP(B471,学連登録!$C$2:$G$3000,3,FALSE))","v":""},{"$f":"IF(B471=\"\",\"\",VLOOKUP(B471,学連登録!$C$2:$G$3000,4,FALSE))","v":""},"",null,null,null,null,null,null,null,null,null,null,null,null,null,null,null,{"$f":"IF(B471=\"\",\"\",VLOOKUP(B471,学連登録!$C$2:$H$3000,6,FALSE))","v":""},null,"",{"$f":"IF(G471=\"\",\"\",VLOOKUP(G471,種目名!$O$5:$T$104,3,0))","v":""},{"$f":"IF(J471=\"\",\"\",VLOOKUP(J471,種目名!$O$5:$T$104,3,0))","v":""},{"$f":"IF(M471=\"\",\"\",VLOOKUP(M471,種目名!$O$5:$T$104,3,0))","v":""},{"$f":"IF(P471=\"\",\"\",VLOOKUP(AE471,種目名!$O$5:$T$104,3,0))","v":""},{"$f":"IF(S471=\"\",\"\",VLOOKUP(AH471,種目名!$O$5:$T$104,3,0))","v":""},0,"","",0,"",""]
["",null,{"$f":"IF(B472=\"\",\"\",VLOOKUP(B472,学連登録!$C$2:$G$3000,2,FALSE))","v":""},{"$f":"IF(B472=\"\",\"\",VLOOKUP(B472,学連登録!$C$2:$G$3000,3,FALSE))","v":""},{"$f":"IF(B472=\"\",\"\",VLOOKUP(B472,学連登録!$C$2:$G$3000,4,FALSE))","v":""},"",null,null,null,null,null,null,null,null,null,null,null,null,null,null,null,{"$f":"IF(B472=\"\",\"\",VLOOKUP(B472,学連登録!$C$2:$H$3000,6,FALSE))","v":""},null,"",{"$f":"IF(G472=\"\",\"\",VLOOKUP(G472,種目名!$O$5:$T$104,3,0))","v":""},{"$f":"IF(J472=\"\",\"\",VLOOKUP(J472,種目名!$O$5:$T$104,3,0))","v":""},{"$f":"IF(M472=\"\",\"\",VLOOKUP(M472,種目名!$O$5:$T$104,3,0))","v":""},{"$f":"IF(P472=\"\",\"\",VLOOKUP(AE472,種目名!$O$5:$T$104,3,0))","v":""},{"$f":"IF(S472=\"\",\"\",VLOOKUP(AH472,種目名!$O$5:$T$104,3,0))","v":""},0,"","",0,"",""]
["",null,{"$f":"IF(B473=\"\",\"\",VLOOKUP(B473,学連登録!$C$2:$G$3000,2,FALSE))","v":""},{"$f":"IF(B473=\"\",\"\",VLOOKUP(B473,学連登録!$C$2:$G$3000,3,FALSE))","v":""},{"$f":"IF(B473=\"\",\"\",VLOOKUP(B473,学連登録!$C$2:$G$3000,4,FALSE))","v":""},"",null,null,null,null,null,null,null,null,null,null,null,null,null,null,null,{"$f":"IF(B473=\"\",\"\",VLOOKUP(B473,学連登録!$C$2:$H$3000,6,FALSE))","v":""},null,"",{"$f":"IF(G473=\"\",\"\",VLOOKUP(G473,種目名!$O$5:$T$104,3,0))","v":""},{"$f":"IF(J473=\"\",\"\",VLOOKUP(J473,種目名!$O$5:$T$104,3,0))","v":""},{"$f":"IF(M473=\"\",\"\",VLOOKUP(M473,種目名!$O$5:$T$104,3,0))","v":""},{"$f":"IF(P473=\"\",\"\",VLOOKUP(AE473,種目名!$O$5:$T$104,3,0))","v":""},{"$f":"IF(S473=\"\",\"\",VLOOKUP(AH473,種目名!$O$5:$T$104,3,0))","v":""},0,"","",0,"",""]
["",null,{"$f":"IF(B474=\"\",\"\",VLOOKUP(B474,学連登録!$C$2:$G$3000,2,FALSE))","v":""},{"$f":"IF(B474=\"\",\"\",VLOOKUP(B474,学連登録!$C$2:$G$3000,3,FALSE))","v":""},{"$f":"IF(B474=\"\",\"\",VLOOKUP(B474,学連登録!$C$2:$G$3000,4,FALSE))","v":""},"",null,null,null,null,null,null,null,null,null,null,null,null,null,null,null,{"$f":"IF(B474=\"\",\"\",VLOOKUP(B474,学連登録!$C$2:$H$3000,6,FALSE))","v":""},null,"",{"$f":"IF(G474=\"\",\"\",VLOOKUP(G474,種目名!$O$5:$T$104,3,0))","v":""},{"$f":"IF(J474=\"\",\"\",VLOOKUP(J474,種目名!$O$5:$T$104,3,0))","v":""},{"$f":"IF(M474=\"\",\"\",VLOOKUP(M474,種目名!$O$5:$T$104,3,0))","v":""},{"$f":"IF(P474=\"\",\"\",VLOOKUP(AE474,種目名!$O$5:$T$104,3,0))","v":""},{"$f":"IF(S474=\"\",\"\",VLOOKUP(AH474,種目名!$O$5:$T$104,3,0))","v":""},0,"","",0,"",""]
["",null,{"$f":"IF(B475=\"\",\"\",VLOOKUP(B475,学連登録!$C$2:$G$3000,2,FALSE))","v":""},{"$f":"IF(B475=\"\",\"\",VLOOKUP(B475,学連登録!$C$2:$G$3000,3,FALSE))","v":""},{"$f":"IF(B475=\"\",\"\",VLOOKUP(B475,学連登録!$C$2:$G$3000,4,FALSE))","v":""},"",null,null,null,null,null,null,null,null,null,null,null,null,null,null,null,{"$f":"IF(B475=\"\",\"\",VLOOKUP(B475,学連登録!$C$2:$H$3000,6,FALSE))","v":""},null,"",{"$f":"IF(G475=\"\",\"\",VLOOKUP(G475,種目名!$O$5:$T$104,3,0))","v":""},{"$f":"IF(J475=\"\",\"\",VLOOKUP(J475,種目名!$O$5:$T$104,3,0))","v":""},{"$f":"IF(M475=\"\",\"\",VLOOKUP(M475,種目名!$O$5:$T$104,3,0))","v":""},{"$f":"IF(P475=\"\",\"\",VLOOKUP(AE475,種目名!$O$5:$T$104,3,0))","v":""},{"$f":"IF(S475=\"\",\"\",VLOOKUP(AH475,種目名!$O$5:$T$104,3,0))","v":""},0,"","",0,"",""]
["",null,{"$f":"IF(B476=\"\",\"\",VLOOKUP(B476,学連登録!$C$2:$G$3000,2,FALSE))","v":""},{"$f":"IF(B476=\"\",\"\",VLOOKUP(B476,学連登録!$C$2:$G$3000,3,FALSE))","v":""},{"$f":"IF(B476=\"\",\"\",VLOOKUP(B476,学連登録!$C$2:$G$3000,4,FALSE))","v":""},"",null,null,null,null,null,null,null,null,null,null,null,null,null,null,null,{"$f":"IF(B476=\"\",\"\",VLOOKUP(B476,学連登録!$C$2:$H$3000,6,FALSE))","v":""},null,"",{"$f":"IF(G476=\"\",\"\",VLOOKUP(G476,種目名!$O$5:$T$104,3,0))","v":""},{"$f":"IF(J476=\"\",\"\",VLOOKUP(J476,種目名!$O$5:$T$104,3,0))","v":""},{"$f":"IF(M476=\"\",\"\",VLOOKUP(M476,種目名!$O$5:$T$104,3,0))","v":""},{"$f":"IF(P476=\"\",\"\",VLOOKUP(AE476,種目名!$O$5:$T$104,3,0))","v":""},{"$f":"IF(S476=\"\",\"\",VLOOKUP(AH476,種目名!$O$5:$T$104,3,0))","v":""},0,"","",0,"",""]
["",null,{"$f":"IF(B477=\"\",\"\",VLOOKUP(B477,学連登録!$C$2:$G$3000,2,FALSE))","v":""},{"$f":"IF(B477=\"\",\"\",VLOOKUP(B477,学連登録!$C$2:$G$3000,3,FALSE))","v":""},{"$f":"IF(B477=\"\",\"\",VLOOKUP(B477,学連登録!$C$2:$G$3000,4,FALSE))","v":""},"",null,null,null,null,null,null,null,null,null,null,null,null,null,null,null,{"$f":"IF(B477=\"\",\"\",VLOOKUP(B477,学連登録!$C$2:$H$3000,6,FALSE))","v":""},null,"",{"$f":"IF(G477=\"\",\"\",VLOOKUP(G477,種目名!$O$5:$T$104,3,0))","v":""},{"$f":"IF(J477=\"\",\"\",VLOOKUP(J477,種目名!$O$5:$T$104,3,0))","v":""},{"$f":"IF(M477=\"\",\"\",VLOOKUP(M477,種目名!$O$5:$T$104,3,0))","v":""},{"$f":"IF(P477=\"\",\"\",VLOOKUP(AE477,種目名!$O$5:$T$104,3,0))","v":""},{"$f":"IF(S477=\"\",\"\",VLOOKUP(AH477,種目名!$O$5:$T$104,3,0))","v":""},0,"","",0,"",""]
["",null,{"$f":"IF(B478=\"\",\"\",VLOOKUP(B478,学連登録!$C$2:$G$3000,2,FALSE))","v":""},{"$f":"IF(B478=\"\",\"\",VLOOKUP(B478,学連登録!$C$2:$G$3000,3,FALSE))","v":""},{"$f":"IF(B478=\"\",\"\",VLOOKUP(B478,学連登録!$C$2:$G$3000,4,FALSE))","v":""},"",null,null,null,null,null,null,null,null,null,null,null,null,null,null,null,{"$f":"IF(B478=\"\",\"\",VLOOKUP(B478,学連登録!$C$2:$H$3000,6,FALSE))","v":""},null,"",{"$f":"IF(G478=\"\",\"\",VLOOKUP(G478,種目名!$O$5:$T$104,3,0))","v":""},{"$f":"IF(J478=\"\",\"\",VLOOKUP(J478,種目名!$O$5:$T$104,3,0))","v":""},{"$f":"IF(M478=\"\",\"\",VLOOKUP(M478,種目名!$O$5:$T$104,3,0))","v":""},{"$f":"IF(P478=\"\",\"\",VLOOKUP(AE478,種目名!$O$5:$T$104,3,0))","v":""},{"$f":"IF(S478=\"\",\"\",VLOOKUP(AH478,種目名!$O$5:$T$104,3,0))","v":""},0,"","",0,"",""]
["",null,{"$f":"IF(B479=\"\",\"\",VLOOKUP(B479,学連登録!$C$2:$G$3000,2,FALSE))","v":""},{"$f":"IF(B479=\"\",\"\",VLOOKUP(B479,学連登録!$C$2:$G$3000,3,FALSE))","v":""},{"$f":"IF(B479=\"\",\"\",VLOOKUP(B479,学連登録!$C$2:$G$3000,4,FALSE))","v":""},"",null,null,null,null,null,null,null,null,null,null,null,null,null,null,null,{"$f":"IF(B479=\"\",\"\",VLOOKUP(B479,学連登録!$C$2:$H$3000,6,FALSE))","v":""},null,"",{"$f":"IF(G479=\"\",\"\",VLOOKUP(G479,種目名!$O$5:$T$104,3,0))","v":""},{"$f":"IF(J479=\"\",\"\",VLOOKUP(J479,種目名!$O$5:$T$104,3,0))","v":""},{"$f":"IF(M479=\"\",\"\",VLOOKUP(M479,種目名!$O$5:$T$104,3,0))","v":""},{"$f":"IF(P479=\"\",\"\",VLOOKUP(AE479,種目名!$O$5:$T$104,3,0))","v":""},{"$f":"IF(S479=\"\",\"\",VLOOKUP(AH479,種目名!$O$5:$T$104,3,0))","v":""},0,"","",0,"",""]
["",null,{"$f":"IF(B480=\"\",\"\",VLOOKUP(B480,学連登録!$C$2:$G$3000,2,FALSE))","v":""},{"$f":"IF(B480=\"\",\"\",VLOOKUP(B480,学連登録!$C$2:$G$3000,3,FALSE))","v":""},{"$f":"IF(B480=\"\",\"\",VLOOKUP(B480,学連登録!$C$2:$G$3000,4,FALSE))","v":""},"",null,null,null,null,null,null,null,null,null,null,null,null,null,null,null,{"$f":"IF(B480=\"\",\"\",VLOOKUP(B480,学連登録!$C$2:$H$3000,6,FALSE))","v":""},null,"",{"$f":"IF(G480=\"\",\"\",VLOOKUP(G480,種目名!$O$5:$T$104,3,0))","v":""},{"$f":"IF(J480=\"\",\"\",VLOOKUP(J480,種目名!$O$5:$T$104,3,0))","v":""},{"$f":"IF(M480=\"\",\"\",VLOOKUP(M480,種目名!$O$5:$T$104,3,0))","v":""},{"$f":"IF(P480=\"\",\"\",VLOOKUP(AE480,種目名!$O$5:$T$104,3,0))","v":""},{"$f":"IF(S480=\"\",\"\",VLOOKUP(AH480,種目名!$O$5:$T$104,3,0))","v":""},0,"","",0,"",""]
["",null,{"$f":"IF(B481=\"\",\"\",VLOOKUP(B481,学連登録!$C$2:$G$3000,2,FALSE))","v":""},{"$f":"IF(B481=\"\",\"\",VLOOKUP(B481,学連登録!$C$2:$G$3000,3,FALSE))","v":""},{"$f":"IF(B481=\"\",\"\",VLOOKUP(B481,学連登録!$C$2:$G$3000,4,FALSE))","v":""},"",null,null,null,null,null,null,null,null,null,null,null,null,null,null,null,{"$f":"IF(B481=\"\",\"\",VLOOKUP(B481,学連登録!$C$2:$H$3000,6,FALSE))","v":""},null,"",{"$f":"IF(G481=\"\",\"\",VLOOKUP(G481,種目名!$O$5:$T$104,3,0))","v":""},{"$f":"IF(J481=\"\",\"\",VLOOKUP(J481,種目名!$O$5:$T$104,3,0))","v":""},{"$f":"IF(M481=\"\",\"\",VLOOKUP(M481,種目名!$O$5:$T$104,3,0))","v":""},{"$f":"IF(P481=\"\",\"\",VLOOKUP(AE481,種目名!$O$5:$T$104,3,0))","v":""},{"$f":"IF(S481=\"\",\"\",VLOOKUP(AH481,種目名!$O$5:$T$104,3,0))","v":""},0,"","",0,"",""]
["",null,{"$f":"IF(B482=\"\",\"\",VLOOKUP(B482,学連登録!$C$2:$G$3000,2,FALSE))","v":""},{"$f":"IF(B482=\"\",\"\",VLOOKUP(B482,学連登録!$C$2:$G$3000,3,FALSE))","v":""},{"$f":"IF(B482=\"\",\"\",VLOOKUP(B482,学連登録!$C$2:$G$3000,4,FALSE))","v":""},"",null,null,null,null,null,null,null,null,null,null,null,null,null,null,null,{"$f":"IF(B482=\"\",\"\",VLOOKUP(B482,学連登録!$C$2:$H$3000,6,FALSE))","v":""},null,"",{"$f":"IF(G482=\"\",\"\",VLOOKUP(G482,種目名!$O$5:$T$104,3,0))","v":""},{"$f":"IF(J482=\"\",\"\",VLOOKUP(J482,種目名!$O$5:$T$104,3,0))","v":""},{"$f":"IF(M482=\"\",\"\",VLOOKUP(M482,種目名!$O$5:$T$104,3,0))","v":""},{"$f":"IF(P482=\"\",\"\",VLOOKUP(AE482,種目名!$O$5:$T$104,3,0))","v":""},{"$f":"IF(S482=\"\",\"\",VLOOKUP(AH482,種目名!$O$5:$T$104,3,0))","v":""},0,"","",0,"",""]
["",null,{"$f":"IF(B483=\"\",\"\",VLOOKUP(B483,学連登録!$C$2:$G$3000,2,FALSE))","v":""},{"$f":"IF(B483=\"\",\"\",VLOOKUP(B483,学連登録!$C$2:$G$3000,3,FALSE))","v":""},{"$f":"IF(B483=\"\",\"\",VLOOKUP(B483,学連登録!$C$2:$G$3000,4,FALSE))","v":""},"",null,null,null,null,null,null,null,null,null,null,null,null,null,null,null,{"$f":"IF(B483=\"\",\"\",VLOOKUP(B483,学連登録!$C$2:$H$3000,6,FALSE))","v":""},null,"",{"$f":"IF(G483=\"\",\"\",VLOOKUP(G483,種目名!$O$5:$T$104,3,0))","v":""},{"$f":"IF(J483=\"\",\"\",VLOOKUP(J483,種目名!$O$5:$T$104,3,0))","v":""},{"$f":"IF(M483=\"\",\"\",VLOOKUP(M483,種目名!$O$5:$T$104,3,0))","v":""},{"$f":"IF(P483=\"\",\"\",VLOOKUP(AE483,種目名!$O$5:$T$104,3,0))","v":""},{"$f":"IF(S483=\"\",\"\",VLOOKUP(AH483,種目名!$O$5:$T$104,3,0))","v":""},0,"","",0,"",""]
["",null,{"$f":"IF(B484=\"\",\"\",VLOOKUP(B484,学連登録!$C$2:$G$3000,2,FALSE))","v":""},{"$f":"IF(B484=\"\",\"\",VLOOKUP(B484,学連登録!$C$2:$G$3000,3,FALSE))","v":""},{"$f":"IF(B484=\"\",\"\",VLOOKUP(B484,学連登録!$C$2:$G$3000,4,FALSE))","v":""},"",null,null,null,null,null,null,null,null,null,null,null,null,null,null,null,{"$f":"IF(B484=\"\",\"\",VLOOKUP(B484,学連登録!$C$2:$H$3000,6,FALSE))","v":""},null,"",{"$f":"IF(G484=\"\",\"\",VLOOKUP(G484,種目名!$O$5:$T$104,3,0))","v":""},{"$f":"IF(J484=\"\",\"\",VLOOKUP(J484,種目名!$O$5:$T$104,3,0))","v":""},{"$f":"IF(M484=\"\",\"\",VLOOKUP(M484,種目名!$O$5:$T$104,3,0))","v":""},{"$f":"IF(P484=\"\",\"\",VLOOKUP(AE484,種目名!$O$5:$T$104,3,0))","v":""},{"$f":"IF(S484=\"\",\"\",VLOOKUP(AH484,種目名!$O$5:$T$104,3,0))","v":""},0,"","",0,"",""]
["",null,{"$f":"IF(B485=\"\",\"\",VLOOKUP(B485,学連登録!$C$2:$G$3000,2,FALSE))","v":""},{"$f":"IF(B485=\"\",\"\",VLOOKUP(B485,学連登録!$C$2:$G$3000,3,FALSE))","v":""},{"$f":"IF(B485=\"\",\"\",VLOOKUP(B485,学連登録!$C$2:$G$3000,4,FALSE))","v":""},"",null,null,null,null,null,null,null,null,null,null,null,null,null,null,null,{"$f":"IF(B485=\"\",\"\",VLOOKUP(B485,学連登録!$C$2:$H$3000,6,FALSE))","v":""},null,"",{"$f":"IF(G485=\"\",\"\",VLOOKUP(G485,種目名!$O$5:$T$104,3,0))","v":""},{"$f":"IF(J485=\"\",\"\",VLOOKUP(J485,種目名!$O$5:$T$104,3,0))","v":""},{"$f":"IF(M485=\"\",\"\",VLOOKUP(M485,種目名!$O$5:$T$104,3,0))","v":""},{"$f":"IF(P485=\"\",\"\",VLOOKUP(AE485,種目名!$O$5:$T$104,3,0))","v":""},{"$f":"IF(S485=\"\",\"\",VLOOKUP(AH485,種目名!$O$5:$T$104,3,0))","v":""},0,"","",0,"",""]
["",null,{"$f":"IF(B486=\"\",\"\",VLOOKUP(B486,学連登録!$C$2:$G$3000,2,FALSE))","v":""},{"$f":"IF(B486=\"\",\"\",VLOOKUP(B486,学連登録!$C$2:$G$3000,3,FALSE))","v":""},{"$f":"IF(B486=\"\",\"\",VLOOKUP(B486,学連登録!$C$2:$G$3000,4,FALSE))","v":""},"",null,null,null,null,null,null,null,null,null,null,null,null,null,null,null,{"$f":"IF(B486=\"\",\"\",VLOOKUP(B486,学連登録!$C$2:$H$3000,6,FALSE))","v":""},null,"",{"$f":"IF(G486=\"\",\"\",VLOOKUP(G486,種目名!$O$5:$T$104,3,0))","v":""},{"$f":"IF(J486=\"\",\"\",VLOOKUP(J486,種目名!$O$5:$T$104,3,0))","v":""},{"$f":"IF(M486=\"\",\"\",VLOOKUP(M486,種目名!$O$5:$T$104,3,0))","v":""},{"$f":"IF(P486=\"\",\"\",VLOOKUP(AE486,種目名!$O$5:$T$104,3,0))","v":""},{"$f":"IF(S486=\"\",\"\",VLOOKUP(AH486,種目名!$O$5:$T$104,3,0))","v":""},0,"","",0,"",""]
["",null,{"$f":"IF(B487=\"\",\"\",VLOOKUP(B487,学連登録!$C$2:$G$3000,2,FALSE))","v":""},{"$f":"IF(B487=\"\",\"\",VLOOKUP(B487,学連登録!$C$2:$G$3000,3,FALSE))","v":""},{"$f":"IF(B487=\"\",\"\",VLOOKUP(B487,学連登録!$C$2:$G$3000,4,FALSE))","v":""},"",null,null,null,null,null,null,null,null,null,null,null,null,null,null,null,{"$f":"IF(B487=\"\",\"\",VLOOKUP(B487,学連登録!$C$2:$H$3000,6,FALSE))","v":""},null,"",{"$f":"IF(G487=\"\",\"\",VLOOKUP(G487,種目名!$O$5:$T$104,3,0))","v":""},{"$f":"IF(J487=\"\",\"\",VLOOKUP(J487,種目名!$O$5:$T$104,3,0))","v":""},{"$f":"IF(M487=\"\",\"\",VLOOKUP(M487,種目名!$O$5:$T$104,3,0))","v":""},{"$f":"IF(P487=\"\",\"\",VLOOKUP(AE487,種目名!$O$5:$T$104,3,0))","v":""},{"$f":"IF(S487=\"\",\"\",VLOOKUP(AH487,種目名!$O$5:$T$104,3,0))","v":""},0,"","",0,"",""]
["",null,{"$f":"IF(B488=\"\",\"\",VLOOKUP(B488,学連登録!$C$2:$G$3000,2,FALSE))","v":""},{"$f":"IF(B488=\"\",\"\",VLOOKUP(B488,学連登録!$C$2:$G$3000,3,FALSE))","v":""},{"$f":"IF(B488=\"\",\"\",VLOOKUP(B488,学連登録!$C$2:$G$3000,4,FALSE))","v":""},"",null,null,null,null,null,null,null,null,null,null,null,null,null,null,null,{"$f":"IF(B488=\"\",\"\",VLOOKUP(B488,学連登録!$C$2:$H$3000,6,FALSE))","v":""},null,"",{"$f":"IF(G488=\"\",\"\",VLOOKUP(G488,種目名!$O$5:$T$104,3,0))","v":""},{"$f":"IF(J488=\"\",\"\",VLOOKUP(J488,種目名!$O$5:$T$104,3,0))","v":""},{"$f":"IF(M488=\"\",\"\",VLOOKUP(M488,種目名!$O$5:$T$104,3,0))","v":""},{"$f":"IF(P488=\"\",\"\",VLOOKUP(AE488,種目名!$O$5:$T$104,3,0))","v":""},{"$f":"IF(S488=\"\",\"\",VLOOKUP(AH488,種目名!$O$5:$T$104,3,0))","v":""},0,"","",0,"",""]
["",null,{"$f":"IF(B489=\"\",\"\",VLOOKUP(B489,学連登録!$C$2:$G$3000,2,FALSE))","v":""},{"$f":"IF(B489=\"\",\"\",VLOOKUP(B489,学連登録!$C$2:$G$3000,3,FALSE))","v":""},{"$f":"IF(B489=\"\",\"\",VLOOKUP(B489,学連登録!$C$2:$G$3000,4,FALSE))","v":""},"",null,null,null,null,null,null,null,null,null,null,null,null,null,null,null,{"$f":"IF(B489=\"\",\"\",VLOOKUP(B489,学連登録!$C$2:$H$3000,6,FALSE))","v":""},null,"",{"$f":"IF(G489=\"\",\"\",VLOOKUP(G489,種目名!$O$5:$T$104,3,0))","v":""},{"$f":"IF(J489=\"\",\"\",VLOOKUP(J489,種目名!$O$5:$T$104,3,0))","v":""},{"$f":"IF(M489=\"\",\"\",VLOOKUP(M489,種目名!$O$5:$T$104,3,0))","v":""},{"$f":"IF(P489=\"\",\"\",VLOOKUP(AE489,種目名!$O$5:$T$104,3,0))","v":""},{"$f":"IF(S489=\"\",\"\",VLOOKUP(AH489,種目名!$O$5:$T$104,3,0))","v":""},0,"","",0,"",""]
["",null,{"$f":"IF(B490=\"\",\"\",VLOOKUP(B490,学連登録!$C$2:$G$3000,2,FALSE))","v":""},{"$f":"IF(B490=\"\",\"\",VLOOKUP(B490,学連登録!$C$2:$G$3000,3,FALSE))","v":""},{"$f":"IF(B490=\"\",\"\",VLOOKUP(B490,学連登録!$C$2:$G$3000,4,FALSE))","v":""},"",null,null,null,null,null,null,null,null,null,null,null,null,null,null,null,{"$f":"IF(B490=\"\",\"\",VLOOKUP(B490,学連登録!$C$2:$H$3000,6,FALSE))","v":""},null,"",{"$f":"IF(G490=\"\",\"\",VLOOKUP(G490,種目名!$O$5:$T$104,3,0))","v":""},{"$f":"IF(J490=\"\",\"\",VLOOKUP(J490,種目名!$O$5:$T$104,3,0))","v":""},{"$f":"IF(M490=\"\",\"\",VLOOKUP(M490,種目名!$O$5:$T$104,3,0))","v":""},{"$f":"IF(P490=\"\",\"\",VLOOKUP(AE490,種目名!$O$5:$T$104,3,0))","v":""},{"$f":"IF(S490=\"\",\"\",VLOOKUP(AH490,種目名!$O$5:$T$104,3,0))","v":""},0,"","",0,"",""]
["",null,{"$f":"IF(B491=\"\",\"\",VLOOKUP(B491,学連登録!$C$2:$G$3000,2,FALSE))","v":""},{"$f":"IF(B491=\"\",\"\",VLOOKUP(B491,学連登録!$C$2:$G$3000,3,FALSE))","v":""},{"$f":"IF(B491=\"\",\"\",VLOOKUP(B491,学連登録!$C$2:$G$3000,4,FALSE))","v":""},"",null,null,null,null,null,null,null,null,null,null,null,null,null,null,null,{"$f":"IF(B491=\"\",\"\",VLOOKUP(B491,学連登録!$C$2:$H$3000,6,FALSE))","v":""},null,"",{"$f":"IF(G491=\"\",\"\",VLOOKUP(G491,種目名!$O$5:$T$104,3,0))","v":""},{"$f":"IF(J491=\"\",\"\",VLOOKUP(J491,種目名!$O$5:$T$104,3,0))","v":""},{"$f":"IF(M491=\"\",\"\",VLOOKUP(M491,種目名!$O$5:$T$104,3,0))","v":""},{"$f":"IF(P491=\"\",\"\",VLOOKUP(AE491,種目名!$O$5:$T$104,3,0))","v":""},{"$f":"IF(S491=\"\",\"\",VLOOKUP(AH491,種目名!$O$5:$T$104,3,0))","v":""},0,"","",0,"",""]
["",null,{"$f":"IF(B492=\"\",\"\",VLOOKUP(B492,学連登録!$C$2:$G$3000,2,FALSE))","v":""},{"$f":"IF(B492=\"\",\"\",VLOOKUP(B492,学連登録!$C$2:$G$3000,3,FALSE))","v":""},{"$f":"IF(B492=\"\",\"\",VLOOKUP(B492,学連登録!$C$2:$G$3000,4,FALSE))","v":""},"",null,null,null,null,null,null,null,null,null,null,null,null,null,null,null,{"$f":"IF(B492=\"\",\"\",VLOOKUP(B492,学連登録!$C$2:$H$3000,6,FALSE))","v":""},null,"",{"$f":"IF(G492=\"\",\"\",VLOOKUP(G492,種目名!$O$5:$T$104,3,0))","v":""},{"$f":"IF(J492=\"\",\"\",VLOOKUP(J492,種目名!$O$5:$T$104,3,0))","v":""},{"$f":"IF(M492=\"\",\"\",VLOOKUP(M492,種目名!$O$5:$T$104,3,0))","v":""},{"$f":"IF(P492=\"\",\"\",VLOOKUP(AE492,種目名!$O$5:$T$104,3,0))","v":""},{"$f":"IF(S492=\"\",\"\",VLOOKUP(AH492,種目名!$O$5:$T$104,3,0))","v":""},0,"","",0,"",""]
["",null,{"$f":"IF(B493=\"\",\"\",VLOOKUP(B493,学連登録!$C$2:$G$3000,2,FALSE))","v":""},{"$f":"IF(B493=\"\",\"\",VLOOKUP(B493,学連登録!$C$2:$G$3000,3,FALSE))","v":""},{"$f":"IF(B493=\"\",\"\",VLOOKUP(B493,学連登録!$C$2:$G$3000,4,FALSE))","v":""},"",null,null,null,null,null,null,null,null,null,null,null,null,null,null,null,{"$f":"IF(B493=\"\",\"\",VLOOKUP(B493,学連登録!$C$2:$H$3000,6,FALSE))","v":""},null,"",{"$f":"IF(G493=\"\",\"\",VLOOKUP(G493,種目名!$O$5:$T$104,3,0))","v":""},{"$f":"IF(J493=\"\",\"\",VLOOKUP(J493,種目名!$O$5:$T$104,3,0))","v":""},{"$f":"IF(M493=\"\",\"\",VLOOKUP(M493,種目名!$O$5:$T$104,3,0))","v":""},{"$f":"IF(P493=\"\",\"\",VLOOKUP(AE493,種目名!$O$5:$T$104,3,0))","v":""},{"$f":"IF(S493=\"\",\"\",VLOOKUP(AH493,種目名!$O$5:$T$104,3,0))","v":""},0,"","",0,"",""]
["",null,{"$f":"IF(B494=\"\",\"\",VLOOKUP(B494,学連登録!$C$2:$G$3000,2,FALSE))","v":""},{"$f":"IF(B494=\"\",\"\",VLOOKUP(B494,学連登録!$C$2:$G$3000,3,FALSE))","v":""},{"$f":"IF(B494=\"\",\"\",VLOOKUP(B494,学連登録!$C$2:$G$3000,4,FALSE))","v":""},"",null,null,null,null,null,null,null,null,null,null,null,null,null,null,null,{"$f":"IF(B494=\"\",\"\",VLOOKUP(B494,学連登録!$C$2:$H$3000,6,FALSE))","v":""},null,"",{"$f":"IF(G494=\"\",\"\",VLOOKUP(G494,種目名!$O$5:$T$104,3,0))","v":""},{"$f":"IF(J494=\"\",\"\",VLOOKUP(J494,種目名!$O$5:$T$104,3,0))","v":""},{"$f":"IF(M494=\"\",\"\",VLOOKUP(M494,種目名!$O$5:$T$104,3,0))","v":""},{"$f":"IF(P494=\"\",\"\",VLOOKUP(AE494,種目名!$O$5:$T$104,3,0))","v":""},{"$f":"IF(S494=\"\",\"\",VLOOKUP(AH494,種目名!$O$5:$T$104,3,0))","v":""},0,"","",0,"",""]
["",null,{"$f":"IF(B495=\"\",\"\",VLOOKUP(B495,学連登録!$C$2:$G$3000,2,FALSE))","v":""},{"$f":"IF(B495=\"\",\"\",VLOOKUP(B495,学連登録!$C$2:$G$3000,3,FALSE))","v":""},{"$f":"IF(B495=\"\",\"\",VLOOKUP(B495,学連登録!$C$2:$G$3000,4,FALSE))","v":""},"",null,null,null,null,null,null,null,null,null,null,null,null,null,null,null,{"$f":"IF(B495=\"\",\"\",VLOOKUP(B495,学連登録!$C$2:$H$3000,6,FALSE))","v":""},null,"",{"$f":"IF(G495=\"\",\"\",VLOOKUP(G495,種目名!$O$5:$T$104,3,0))","v":""},{"$f":"IF(J495=\"\",\"\",VLOOKUP(J495,種目名!$O$5:$T$104,3,0))","v":""},{"$f":"IF(M495=\"\",\"\",VLOOKUP(M495,種目名!$O$5:$T$104,3,0))","v":""},{"$f":"IF(P495=\"\",\"\",VLOOKUP(AE495,種目名!$O$5:$T$104,3,0))","v":""},{"$f":"IF(S495=\"\",\"\",VLOOKUP(AH495,種目名!$O$5:$T$104,3,0))","v":""},0,"","",0,"",""]
["",null,{"$f":"IF(B496=\"\",\"\",VLOOKUP(B496,学連登録!$C$2:$G$3000,2,FALSE))","v":""},{"$f":"IF(B496=\"\",\"\",VLOOKUP(B496,学連登録!$C$2:$G$3000,3,FALSE))","v":""},{"$f":"IF(B496=\"\",\"\",VLOOKUP(B496,学連登録!$C$2:$G$3000,4,FALSE))","v":""},"",null,null,null,null,null,null,null,null,null,null,null,null,null,null,null,{"$f":"IF(B496=\"\",\"\",VLOOKUP(B496,学連登録!$C$2:$H$3000,6,FALSE))","v":""},null,"",{"$f":"IF(G496=\"\",\"\",VLOOKUP(G496,種目名!$O$5:$T$104,3,0))","v":""},{"$f":"IF(J496=\"\",\"\",VLOOKUP(J496,種目名!$O$5:$T$104,3,0))","v":""},{"$f":"IF(M496=\"\",\"\",VLOOKUP(M496,種目名!$O$5:$T$104,3,0))","v":""},{"$f":"IF(P496=\"\",\"\",VLOOKUP(AE496,種目名!$O$5:$T$104,3,0))","v":""},{"$f":"IF(S496=\"\",\"\",VLOOKUP(AH496,種目名!$O$5:$T$104,3,0))","v":""},0,"","",0,"",""]
["",null,{"$f":"IF(B497=\"\",\"\",VLOOKUP(B497,学連登録!$C$2:$G$3000,2,FALSE))","v":""},{"$f":"IF(B497=\"\",\"\",VLOOKUP(B497,学連登録!$C$2:$G$3000,3,FALSE))","v":""},{"$f":"IF(B497=\"\",\"\",VLOOKUP(B497,学連登録!$C$2:$G$3000,4,FALSE))","v":""},"",null,null,null,null,null,null,null,null,null,null,null,null,null,null,null,{"$f":"IF(B497=\"\",\"\",VLOOKUP(B497,学連登録!$C$2:$H$3000,6,FALSE))","v":""},null,"",{"$f":"IF(G497=\"\",\"\",VLOOKUP(G497,種目名!$O$5:$T$104,3,0))","v":""},{"$f":"IF(J497=\"\",\"\",VLOOKUP(J497,種目名!$O$5:$T$104,3,0))","v":""},{"$f":"IF(M497=\"\",\"\",VLOOKUP(M497,種目名!$O$5:$T$104,3,0))","v":""},{"$f":"IF(P497=\"\",\"\",VLOOKUP(AE497,種目名!$O$5:$T$104,3,0))","v":""},{"$f":"IF(S497=\"\",\"\",VLOOKUP(AH497,種目名!$O$5:$T$104,3,0))","v":""},0,"","",0,"",""]
["",null,{"$f":"IF(B498=\"\",\"\",VLOOKUP(B498,学連登録!$C$2:$G$3000,2,FALSE))","v":""},{"$f":"IF(B498=\"\",\"\",VLOOKUP(B498,学連登録!$C$2:$G$3000,3,FALSE))","v":""},{"$f":"IF(B498=\"\",\"\",VLOOKUP(B498,学連登録!$C$2:$G$3000,4,FALSE))","v":""},"",null,null,null,null,null,null,null,null,null,null,null,null,null,null,null,{"$f":"IF(B498=\"\",\"\",VLOOKUP(B498,学連登録!$C$2:$H$3000,6,FALSE))","v":""},null,"",{"$f":"IF(G498=\"\",\"\",VLOOKUP(G498,種目名!$O$5:$T$104,3,0))","v":""},{"$f":"IF(J498=\"\",\"\",VLOOKUP(J498,種目名!$O$5:$T$104,3,0))","v":""},{"$f":"IF(M498=\"\",\"\",VLOOKUP(M498,種目名!$O$5:$T$104,3,0))","v":""},{"$f":"IF(P498=\"\",\"\",VLOOKUP(AE498,種目名!$O$5:$T$104,3,0))","v":""},{"$f":"IF(S498=\"\",\"\",VLOOKUP(AH498,種目名!$O$5:$T$104,3,0))","v":""},0,"","",0,"",""]
["",null,{"$f":"IF(B499=\"\",\"\",VLOOKUP(B499,学連登録!$C$2:$G$3000,2,FALSE))","v":""},{"$f":"IF(B499=\"\",\"\",VLOOKUP(B499,学連登録!$C$2:$G$3000,3,FALSE))","v":""},{"$f":"IF(B499=\"\",\"\",VLOOKUP(B499,学連登録!$C$2:$G$3000,4,FALSE))","v":""},"",null,null,null,null,null,null,null,null,null,null,null,null,null,null,null,{"$f":"IF(B499=\"\",\"\",VLOOKUP(B499,学連登録!$C$2:$H$3000,6,FALSE))","v":""},null,"",{"$f":"IF(G499=\"\",\"\",VLOOKUP(G499,種目名!$O$5:$T$104,3,0))","v":""},{"$f":"IF(J499=\"\",\"\",VLOOKUP(J499,種目名!$O$5:$T$104,3,0))","v":""},{"$f":"IF(M499=\"\",\"\",VLOOKUP(M499,種目名!$O$5:$T$104,3,0))","v":""},{"$f":"IF(P499=\"\",\"\",VLOOKUP(AE499,種目名!$O$5:$T$104,3,0))","v":""},{"$f":"IF(S499=\"\",\"\",VLOOKUP(AH499,種目名!$O$5:$T$104,3,0))","v":""},0,"","",0,"",""]
["",null,{"$f":"IF(B500=\"\",\"\",VLOOKUP(B500,学連登録!$C$2:$G$3000,2,FALSE))","v":""},{"$f":"IF(B500=\"\",\"\",VLOOKUP(B500,学連登録!$C$2:$G$3000,3,FALSE))","v":""},{"$f":"IF(B500=\"\",\"\",VLOOKUP(B500,学連登録!$C$2:$G$3000,4,FALSE))","v":""},"",null,null,null,null,null,null,null,null,null,null,null,null,null,null,null,{"$f":"IF(B500=\"\",\"\",VLOOKUP(B500,学連登録!$C$2:$H$3000,6,FALSE))","v":""},null,"",{"$f":"IF(G500=\"\",\"\",VLOOKUP(G500,種目名!$O$5:$T$104,3,0))","v":""},{"$f":"IF(J500=\"\",\"\",VLOOKUP(J500,種目名!$O$5:$T$104,3,0))","v":""},{"$f":"IF(M500=\"\",\"\",VLOOKUP(M500,種目名!$O$5:$T$104,3,0))","v":""},{"$f":"IF(P500=\"\",\"\",VLOOKUP(AE500,種目名!$O$5:$T$104,3,0))","v":""},{"$f":"IF(S500=\"\",\"\",VLOOKUP(AH500,種目名!$O$5:$T$104,3,0))","v":""},0,"","",0,"",""]
["",null,{"$f":"IF(B501=\"\",\"\",VLOOKUP(B501,学連登録!$C$2:$G$3000,2,FALSE))","v":""},{"$f":"IF(B501=\"\",\"\",VLOOKUP(B501,学連登録!$C$2:$G$3000,3,FALSE))","v":""},{"$f":"IF(B501=\"\",\"\",VLOOKUP(B501,学連登録!$C$2:$G$3000,4,FALSE))","v":""},"",null,null,null,null,null,null,null,null,null,null,null,null,null,null,null,{"$f":"IF(B501=\"\",\"\",VLOOKUP(B501,学連登録!$C$2:$H$3000,6,FALSE))","v":""},null,"",{"$f":"IF(G501=\"\",\"\",VLOOKUP(G501,種目名!$O$5:$T$104,3,0))","v":""},{"$f":"IF(J501=\"\",\"\",VLOOKUP(J501,種目名!$O$5:$T$104,3,0))","v":""},{"$f":"IF(M501=\"\",\"\",VLOOKUP(M501,種目名!$O$5:$T$104,3,0))","v":""},{"$f":"IF(P501=\"\",\"\",VLOOKUP(AE501,種目名!$O$5:$T$104,3,0))","v":""},{"$f":"IF(S501=\"\",\"\",VLOOKUP(AH501,種目名!$O$5:$T$104,3,0))","v":""},0,"","",0,"",""]
["",null,{"$f":"IF(B502=\"\",\"\",VLOOKUP(B502,学連登録!$C$2:$G$3000,2,FALSE))","v":""},{"$f":"IF(B502=\"\",\"\",VLOOKUP(B502,学連登録!$C$2:$G$3000,3,FALSE))","v":""},{"$f":"IF(B502=\"\",\"\",VLOOKUP(B502,学連登録!$C$2:$G$3000,4,FALSE))","v":""},"",null,null,null,null,null,null,null,null,null,null,null,null,null,null,null,{"$f":"IF(B502=\"\",\"\",VLOOKUP(B502,学連登録!$C$2:$H$3000,6,FALSE))","v":""},null,"",{"$f":"IF(G502=\"\",\"\",VLOOKUP(G502,種目名!$O$5:$T$104,3,0))","v":""},{"$f":"IF(J502=\"\",\"\",VLOOKUP(J502,種目名!$O$5:$T$104,3,0))","v":""},{"$f":"IF(M502=\"\",\"\",VLOOKUP(M502,種目名!$O$5:$T$104,3,0))","v":""},{"$f":"IF(P502=\"\",\"\",VLOOKUP(AE502,種目名!$O$5:$T$104,3,0))","v":""},{"$f":"IF(S502=\"\",\"\",VLOOKUP(AH502,種目名!$O$5:$T$104,3,0))","v":""},0,"","",0,"",""]
["",null,{"$f":"IF(B503=\"\",\"\",VLOOKUP(B503,学連登録!$C$2:$G$3000,2,FALSE))","v":""},{"$f":"IF(B503=\"\",\"\",VLOOKUP(B503,学連登録!$C$2:$G$3000,3,FALSE))","v":""},{"$f":"IF(B503=\"\",\"\",VLOOKUP(B503,学連登録!$C$2:$G$3000,4,FALSE))","v":""},"",null,null,null,null,null,null,null,null,null,null,null,null,null,null,null,{"$f":"IF(B503=\"\",\"\",VLOOKUP(B503,学連登録!$C$2:$H$3000,6,FALSE))","v":""},null,"",{"$f":"IF(G503=\"\",\"\",VLOOKUP(G503,種目名!$O$5:$T$104,3,0))","v":""},{"$f":"IF(J503=\"\",\"\",VLOOKUP(J503,種目名!$O$5:$T$104,3,0))","v":""},{"$f":"IF(M503=\"\",\"\",VLOOKUP(M503,種目名!$O$5:$T$104,3,0))","v":""},{"$f":"IF(P503=\"\",\"\",VLOOKUP(AE503,種目名!$O$5:$T$104,3,0))","v":""},{"$f":"IF(S503=\"\",\"\",VLOOKUP(AH503,種目名!$O$5:$T$104,3,0))","v":""},0,"","",0,"",""]
["",null,{"$f":"IF(B504=\"\",\"\",VLOOKUP(B504,学連登録!$C$2:$G$3000,2,FALSE))","v":""},{"$f":"IF(B504=\"\",\"\",VLOOKUP(B504,学連登録!$C$2:$G$3000,3,FALSE))","v":""},{"$f":"IF(B504=\"\",\"\",VLOOKUP(B504,学連登録!$C$2:$G$3000,4,FALSE))","v":""},"",null,null,null,null,null,null,null,null,null,null,null,null,null,null,null,{"$f":"IF(B504=\"\",\"\",VLOOKUP(B504,学連登録!$C$2:$H$3000,6,FALSE))","v":""},null,"",{"$f":"IF(G504=\"\",\"\",VLOOKUP(G504,種目名!$O$5:$T$104,3,0))","v":""},{"$f":"IF(J504=\"\",\"\",VLOOKUP(J504,種目名!$O$5:$T$104,3,0))","v":""},{"$f":"IF(M504=\"\",\"\",VLOOKUP(M504,種目名!$O$5:$T$104,3,0))","v":""},{"$f":"IF(P504=\"\",\"\",VLOOKUP(AE504,種目名!$O$5:$T$104,3,0))","v":""},{"$f":"IF(S504=\"\",\"\",VLOOKUP(AH504,種目名!$O$5:$T$104,3,0))","v":""},0,"","",0,"",""]
["",null,{"$f":"IF(B505=\"\",\"\",VLOOKUP(B505,学連登録!$C$2:$G$3000,2,FALSE))","v":""},{"$f":"IF(B505=\"\",\"\",VLOOKUP(B505,学連登録!$C$2:$G$3000,3,FALSE))","v":""},{"$f":"IF(B505=\"\",\"\",VLOOKUP(B505,学連登録!$C$2:$G$3000,4,FALSE))","v":""},"",null,null,null,null,null,null,null,null,null,null,null,null,null,null,null,{"$f":"IF(B505=\"\",\"\",VLOOKUP(B505,学連登録!$C$2:$H$3000,6,FALSE))","v":""},null,"",{"$f":"IF(G505=\"\",\"\",VLOOKUP(G505,種目名!$O$5:$T$104,3,0))","v":""},{"$f":"IF(J505=\"\",\"\",VLOOKUP(J505,種目名!$O$5:$T$104,3,0))","v":""},{"$f":"IF(M505=\"\",\"\",VLOOKUP(M505,種目名!$O$5:$T$104,3,0))","v":""},{"$f":"IF(P505=\"\",\"\",VLOOKUP(AE505,種目名!$O$5:$T$104,3,0))","v":""},{"$f":"IF(S505=\"\",\"\",VLOOKUP(AH505,種目名!$O$5:$T$104,3,0))","v":""},0,"","",0,"",""]
["",null,{"$f":"IF(B506=\"\",\"\",VLOOKUP(B506,学連登録!$C$2:$G$3000,2,FALSE))","v":""},{"$f":"IF(B506=\"\",\"\",VLOOKUP(B506,学連登録!$C$2:$G$3000,3,FALSE))","v":""},{"$f":"IF(B506=\"\",\"\",VLOOKUP(B506,学連登録!$C$2:$G$3000,4,FALSE))","v":""},"",null,null,null,null,null,null,null,null,null,null,null,null,null,null,null,{"$f":"IF(B506=\"\",\"\",VLOOKUP(B506,学連登録!$C$2:$H$3000,6,FALSE))","v":""},null,"",{"$f":"IF(G506=\"\",\"\",VLOOKUP(G506,種目名!$O$5:$T$104,3,0))","v":""},{"$f":"IF(J506=\"\",\"\",VLOOKUP(J506,種目名!$O$5:$T$104,3,0))","v":""},{"$f":"IF(M506=\"\",\"\",VLOOKUP(M506,種目名!$O$5:$T$104,3,0))","v":""},{"$f":"IF(P506=\"\",\"\",VLOOKUP(AE506,種目名!$O$5:$T$104,3,0))","v":""},{"$f":"IF(S506=\"\",\"\",VLOOKUP(AH506,種目名!$O$5:$T$104,3,0))","v":""},0,"","",0,"",""]
["",null,{"$f":"IF(B507=\"\",\"\",VLOOKUP(B507,学連登録!$C$2:$G$3000,2,FALSE))","v":""},{"$f":"IF(B507=\"\",\"\",VLOOKUP(B507,学連登録!$C$2:$G$3000,3,FALSE))","v":""},{"$f":"IF(B507=\"\",\"\",VLOOKUP(B507,学連登録!$C$2:$G$3000,4,FALSE))","v":""},"",null,null,null,null,null,null,null,null,null,null,null,null,null,null,null,{"$f":"IF(B507=\"\",\"\",VLOOKUP(B507,学連登録!$C$2:$H$3000,6,FALSE))","v":""},null,"",{"$f":"IF(G507=\"\",\"\",VLOOKUP(G507,種目名!$O$5:$T$104,3,0))","v":""},{"$f":"IF(J507=\"\",\"\",VLOOKUP(J507,種目名!$O$5:$T$104,3,0))","v":""},{"$f":"IF(M507=\"\",\"\",VLOOKUP(M507,種目名!$O$5:$T$104,3,0))","v":""},{"$f":"IF(P507=\"\",\"\",VLOOKUP(AE507,種目名!$O$5:$T$104,3,0))","v":""},{"$f":"IF(S507=\"\",\"\",VLOOKUP(AH507,種目名!$O$5:$T$104,3,0))","v":""},0,"","",0,"",""]
["",null,{"$f":"IF(B508=\"\",\"\",VLOOKUP(B508,学連登録!$C$2:$G$3000,2,FALSE))","v":""},{"$f":"IF(B508=\"\",\"\",VLOOKUP(B508,学連登録!$C$2:$G$3000,3,FALSE))","v":""},{"$f":"IF(B508=\"\",\"\",VLOOKUP(B508,学連登録!$C$2:$G$3000,4,FALSE))","v":""},"",null,null,null,null,null,null,null,null,null,null,null,null,null,null,null,{"$f":"IF(B508=\"\",\"\",VLOOKUP(B508,学連登録!$C$2:$H$3000,6,FALSE))","v":""},null,"",{"$f":"IF(G508=\"\",\"\",VLOOKUP(G508,種目名!$O$5:$T$104,3,0))","v":""},{"$f":"IF(J508=\"\",\"\",VLOOKUP(J508,種目名!$O$5:$T$104,3,0))","v":""},{"$f":"IF(M508=\"\",\"\",VLOOKUP(M508,種目名!$O$5:$T$104,3,0))","v":""},{"$f":"IF(P508=\"\",\"\",VLOOKUP(AE508,種目名!$O$5:$T$104,3,0))","v":""},{"$f":"IF(S508=\"\",\"\",VLOOKUP(AH508,種目名!$O$5:$T$104,3,0))","v":""},0,"","",0,"",""]
["",null,{"$f":"IF(B509=\"\",\"\",VLOOKUP(B509,学連登録!$C$2:$G$3000,2,FALSE))","v":""},{"$f":"IF(B509=\"\",\"\",VLOOKUP(B509,学連登録!$C$2:$G$3000,3,FALSE))","v":""},{"$f":"IF(B509=\"\",\"\",VLOOKUP(B509,学連登録!$C$2:$G$3000,4,FALSE))","v":""},"",null,null,null,null,null,null,null,null,null,null,null,null,null,null,null,{"$f":"IF(B509=\"\",\"\",VLOOKUP(B509,学連登録!$C$2:$H$3000,6,FALSE))","v":""},null,"",{"$f":"IF(G509=\"\",\"\",VLOOKUP(G509,種目名!$O$5:$T$104,3,0))","v":""},{"$f":"IF(J509=\"\",\"\",VLOOKUP(J509,種目名!$O$5:$T$104,3,0))","v":""},{"$f":"IF(M509=\"\",\"\",VLOOKUP(M509,種目名!$O$5:$T$104,3,0))","v":""},{"$f":"IF(P509=\"\",\"\",VLOOKUP(AE509,種目名!$O$5:$T$104,3,0))","v":""},{"$f":"IF(S509=\"\",\"\",VLOOKUP(AH509,種目名!$O$5:$T$104,3,0))","v":""},0,"","",0,"",""]
["",null,{"$f":"IF(B510=\"\",\"\",VLOOKUP(B510,学連登録!$C$2:$G$3000,2,FALSE))","v":""},{"$f":"IF(B510=\"\",\"\",VLOOKUP(B510,学連登録!$C$2:$G$3000,3,FALSE))","v":""},{"$f":"IF(B510=\"\",\"\",VLOOKUP(B510,学連登録!$C$2:$G$3000,4,FALSE))","v":""},"",null,null,null,null,null,null,null,null,null,null,null,null,null,null,null,{"$f":"IF(B510=\"\",\"\",VLOOKUP(B510,学連登録!$C$2:$H$3000,6,FALSE))","v":""},null,"",{"$f":"IF(G510=\"\",\"\",VLOOKUP(G510,種目名!$O$5:$T$104,3,0))","v":""},{"$f":"IF(J510=\"\",\"\",VLOOKUP(J510,種目名!$O$5:$T$104,3,0))","v":""},{"$f":"IF(M510=\"\",\"\",VLOOKUP(M510,種目名!$O$5:$T$104,3,0))","v":""},{"$f":"IF(P510=\"\",\"\",VLOOKUP(AE510,種目名!$O$5:$T$104,3,0))","v":""},{"$f":"IF(S510=\"\",\"\",VLOOKUP(AH510,種目名!$O$5:$T$104,3,0))","v":""},0,"","",0,"",""]
["",null,{"$f":"IF(B511=\"\",\"\",VLOOKUP(B511,学連登録!$C$2:$G$3000,2,FALSE))","v":""},{"$f":"IF(B511=\"\",\"\",VLOOKUP(B511,学連登録!$C$2:$G$3000,3,FALSE))","v":""},{"$f":"IF(B511=\"\",\"\",VLOOKUP(B511,学連登録!$C$2:$G$3000,4,FALSE))","v":""},"",null,null,null,null,null,null,null,null,null,null,null,null,null,null,null,{"$f":"IF(B511=\"\",\"\",VLOOKUP(B511,学連登録!$C$2:$H$3000,6,FALSE))","v":""},null,"",{"$f":"IF(G511=\"\",\"\",VLOOKUP(G511,種目名!$O$5:$T$104,3,0))","v":""},{"$f":"IF(J511=\"\",\"\",VLOOKUP(J511,種目名!$O$5:$T$104,3,0))","v":""},{"$f":"IF(M511=\"\",\"\",VLOOKUP(M511,種目名!$O$5:$T$104,3,0))","v":""},{"$f":"IF(P511=\"\",\"\",VLOOKUP(AE511,種目名!$O$5:$T$104,3,0))","v":""},{"$f":"IF(S511=\"\",\"\",VLOOKUP(AH511,種目名!$O$5:$T$104,3,0))","v":""},0,"","",0,"",""]
["",null,{"$f":"IF(B512=\"\",\"\",VLOOKUP(B512,学連登録!$C$2:$G$3000,2,FALSE))","v":""},{"$f":"IF(B512=\"\",\"\",VLOOKUP(B512,学連登録!$C$2:$G$3000,3,FALSE))","v":""},{"$f":"IF(B512=\"\",\"\",VLOOKUP(B512,学連登録!$C$2:$G$3000,4,FALSE))","v":""},"",null,null,null,null,null,null,null,null,null,null,null,null,null,null,null,{"$f":"IF(B512=\"\",\"\",VLOOKUP(B512,学連登録!$C$2:$H$3000,6,FALSE))","v":""},null,"",{"$f":"IF(G512=\"\",\"\",VLOOKUP(G512,種目名!$O$5:$T$104,3,0))","v":""},{"$f":"IF(J512=\"\",\"\",VLOOKUP(J512,種目名!$O$5:$T$104,3,0))","v":""},{"$f":"IF(M512=\"\",\"\",VLOOKUP(M512,種目名!$O$5:$T$104,3,0))","v":""},{"$f":"IF(P512=\"\",\"\",VLOOKUP(AE512,種目名!$O$5:$T$104,3,0))","v":""},{"$f":"IF(S512=\"\",\"\",VLOOKUP(AH512,種目名!$O$5:$T$104,3,0))","v":""},0,"","",0,"",""]
["",null,{"$f":"IF(B513=\"\",\"\",VLOOKUP(B513,学連登録!$C$2:$G$3000,2,FALSE))","v":""},{"$f":"IF(B513=\"\",\"\",VLOOKUP(B513,学連登録!$C$2:$G$3000,3,FALSE))","v":""},{"$f":"IF(B513=\"\",\"\",VLOOKUP(B513,学連登録!$C$2:$G$3000,4,FALSE))","v":""},"",null,null,null,null,null,null,null,null,null,null,null,null,null,null,null,{"$f":"IF(B513=\"\",\"\",VLOOKUP(B513,学連登録!$C$2:$H$3000,6,FALSE))","v":""},null,"",{"$f":"IF(G513=\"\",\"\",VLOOKUP(G513,種目名!$O$5:$T$104,3,0))","v":""},{"$f":"IF(J513=\"\",\"\",VLOOKUP(J513,種目名!$O$5:$T$104,3,0))","v":""},{"$f":"IF(M513=\"\",\"\",VLOOKUP(M513,種目名!$O$5:$T$104,3,0))","v":""},{"$f":"IF(P513=\"\",\"\",VLOOKUP(AE513,種目名!$O$5:$T$104,3,0))","v":""},{"$f":"IF(S513=\"\",\"\",VLOOKUP(AH513,種目名!$O$5:$T$104,3,0))","v":""},0,"","",0,"",""]
["",null,{"$f":"IF(B514=\"\",\"\",VLOOKUP(B514,学連登録!$C$2:$G$3000,2,FALSE))","v":""},{"$f":"IF(B514=\"\",\"\",VLOOKUP(B514,学連登録!$C$2:$G$3000,3,FALSE))","v":""},{"$f":"IF(B514=\"\",\"\",VLOOKUP(B514,学連登録!$C$2:$G$3000,4,FALSE))","v":""},"",null,null,null,null,null,null,null,null,null,null,null,null,null,null,null,{"$f":"IF(B514=\"\",\"\",VLOOKUP(B514,学連登録!$C$2:$H$3000,6,FALSE))","v":""},null,"",{"$f":"IF(G514=\"\",\"\",VLOOKUP(G514,種目名!$O$5:$T$104,3,0))","v":""},{"$f":"IF(J514=\"\",\"\",VLOOKUP(J514,種目名!$O$5:$T$104,3,0))","v":""},{"$f":"IF(M514=\"\",\"\",VLOOKUP(M514,種目名!$O$5:$T$104,3,0))","v":""},{"$f":"IF(P514=\"\",\"\",VLOOKUP(AE514,種目名!$O$5:$T$104,3,0))","v":""},{"$f":"IF(S514=\"\",\"\",VLOOKUP(AH514,種目名!$O$5:$T$104,3,0))","v":""},0,"","",0,"",""]
["",null,{"$f":"IF(B515=\"\",\"\",VLOOKUP(B515,学連登録!$C$2:$G$3000,2,FALSE))","v":""},{"$f":"IF(B515=\"\",\"\",VLOOKUP(B515,学連登録!$C$2:$G$3000,3,FALSE))","v":""},{"$f":"IF(B515=\"\",\"\",VLOOKUP(B515,学連登録!$C$2:$G$3000,4,FALSE))","v":""},"",null,null,null,null,null,null,null,null,null,null,null,null,null,null,null,{"$f":"IF(B515=\"\",\"\",VLOOKUP(B515,学連登録!$C$2:$H$3000,6,FALSE))","v":""},null,"",{"$f":"IF(G515=\"\",\"\",VLOOKUP(G515,種目名!$O$5:$T$104,3,0))","v":""},{"$f":"IF(J515=\"\",\"\",VLOOKUP(J515,種目名!$O$5:$T$104,3,0))","v":""},{"$f":"IF(M515=\"\",\"\",VLOOKUP(M515,種目名!$O$5:$T$104,3,0))","v":""},{"$f":"IF(P515=\"\",\"\",VLOOKUP(AE515,種目名!$O$5:$T$104,3,0))","v":""},{"$f":"IF(S515=\"\",\"\",VLOOKUP(AH515,種目名!$O$5:$T$104,3,0))","v":""},0,"","",0,"",""]
["",null,{"$f":"IF(B516=\"\",\"\",VLOOKUP(B516,学連登録!$C$2:$G$3000,2,FALSE))","v":""},{"$f":"IF(B516=\"\",\"\",VLOOKUP(B516,学連登録!$C$2:$G$3000,3,FALSE))","v":""},{"$f":"IF(B516=\"\",\"\",VLOOKUP(B516,学連登録!$C$2:$G$3000,4,FALSE))","v":""},"",null,null,null,null,null,null,null,null,null,null,null,null,null,null,null,{"$f":"IF(B516=\"\",\"\",VLOOKUP(B516,学連登録!$C$2:$H$3000,6,FALSE))","v":""},null,"",{"$f":"IF(G516=\"\",\"\",VLOOKUP(G516,種目名!$O$5:$T$104,3,0))","v":""},{"$f":"IF(J516=\"\",\"\",VLOOKUP(J516,種目名!$O$5:$T$104,3,0))","v":""},{"$f":"IF(M516=\"\",\"\",VLOOKUP(M516,種目名!$O$5:$T$104,3,0))","v":""},{"$f":"IF(P516=\"\",\"\",VLOOKUP(AE516,種目名!$O$5:$T$104,3,0))","v":""},{"$f":"IF(S516=\"\",\"\",VLOOKUP(AH516,種目名!$O$5:$T$104,3,0))","v":""},0,"","",0,"",""]
["",null,{"$f":"IF(B517=\"\",\"\",VLOOKUP(B517,学連登録!$C$2:$G$3000,2,FALSE))","v":""},{"$f":"IF(B517=\"\",\"\",VLOOKUP(B517,学連登録!$C$2:$G$3000,3,FALSE))","v":""},{"$f":"IF(B517=\"\",\"\",VLOOKUP(B517,学連登録!$C$2:$G$3000,4,FALSE))","v":""},"",null,null,null,null,null,null,null,null,null,null,null,null,null,null,null,{"$f":"IF(B517=\"\",\"\",VLOOKUP(B517,学連登録!$C$2:$H$3000,6,FALSE))","v":""},null,"",{"$f":"IF(G517=\"\",\"\",VLOOKUP(G517,種目名!$O$5:$T$104,3,0))","v":""},{"$f":"IF(J517=\"\",\"\",VLOOKUP(J517,種目名!$O$5:$T$104,3,0))","v":""},{"$f":"IF(M517=\"\",\"\",VLOOKUP(M517,種目名!$O$5:$T$104,3,0))","v":""},{"$f":"IF(P517=\"\",\"\",VLOOKUP(AE517,種目名!$O$5:$T$104,3,0))","v":""},{"$f":"IF(S517=\"\",\"\",VLOOKUP(AH517,種目名!$O$5:$T$104,3,0))","v":""},0,"","",0,"",""]
["",null,{"$f":"IF(B518=\"\",\"\",VLOOKUP(B518,学連登録!$C$2:$G$3000,2,FALSE))","v":""},{"$f":"IF(B518=\"\",\"\",VLOOKUP(B518,学連登録!$C$2:$G$3000,3,FALSE))","v":""},{"$f":"IF(B518=\"\",\"\",VLOOKUP(B518,学連登録!$C$2:$G$3000,4,FALSE))","v":""},"",null,null,null,null,null,null,null,null,null,null,null,null,null,null,null,{"$f":"IF(B518=\"\",\"\",VLOOKUP(B518,学連登録!$C$2:$H$3000,6,FALSE))","v":""},null,"",{"$f":"IF(G518=\"\",\"\",VLOOKUP(G518,種目名!$O$5:$T$104,3,0))","v":""},{"$f":"IF(J518=\"\",\"\",VLOOKUP(J518,種目名!$O$5:$T$104,3,0))","v":""},{"$f":"IF(M518=\"\",\"\",VLOOKUP(M518,種目名!$O$5:$T$104,3,0))","v":""},{"$f":"IF(P518=\"\",\"\",VLOOKUP(AE518,種目名!$O$5:$T$104,3,0))","v":""},{"$f":"IF(S518=\"\",\"\",VLOOKUP(AH518,種目名!$O$5:$T$104,3,0))","v":""},0,"","",0,"",""]
["",null,{"$f":"IF(B519=\"\",\"\",VLOOKUP(B519,学連登録!$C$2:$G$3000,2,FALSE))","v":""},{"$f":"IF(B519=\"\",\"\",VLOOKUP(B519,学連登録!$C$2:$G$3000,3,FALSE))","v":""},{"$f":"IF(B519=\"\",\"\",VLOOKUP(B519,学連登録!$C$2:$G$3000,4,FALSE))","v":""},"",null,null,null,null,null,null,null,null,null,null,null,null,null,null,null,{"$f":"IF(B519=\"\",\"\",VLOOKUP(B519,学連登録!$C$2:$H$3000,6,FALSE))","v":""},null,"",{"$f":"IF(G519=\"\",\"\",VLOOKUP(G519,種目名!$O$5:$T$104,3,0))","v":""},{"$f":"IF(J519=\"\",\"\",VLOOKUP(J519,種目名!$O$5:$T$104,3,0))","v":""},{"$f":"IF(M519=\"\",\"\",VLOOKUP(M519,種目名!$O$5:$T$104,3,0))","v":""},{"$f":"IF(P519=\"\",\"\",VLOOKUP(AE519,種目名!$O$5:$T$104,3,0))","v":""},{"$f":"IF(S519=\"\",\"\",VLOOKUP(AH519,種目名!$O$5:$T$104,3,0))","v":""},0,"","",0,"",""]
["",null,{"$f":"IF(B520=\"\",\"\",VLOOKUP(B520,学連登録!$C$2:$G$3000,2,FALSE))","v":""},{"$f":"IF(B520=\"\",\"\",VLOOKUP(B520,学連登録!$C$2:$G$3000,3,FALSE))","v":""},{"$f":"IF(B520=\"\",\"\",VLOOKUP(B520,学連登録!$C$2:$G$3000,4,FALSE))","v":""},"",null,null,null,null,null,null,null,null,null,null,null,null,null,null,null,{"$f":"IF(B520=\"\",\"\",VLOOKUP(B520,学連登録!$C$2:$H$3000,6,FALSE))","v":""},null,"",{"$f":"IF(G520=\"\",\"\",VLOOKUP(G520,種目名!$O$5:$T$104,3,0))","v":""},{"$f":"IF(J520=\"\",\"\",VLOOKUP(J520,種目名!$O$5:$T$104,3,0))","v":""},{"$f":"IF(M520=\"\",\"\",VLOOKUP(M520,種目名!$O$5:$T$104,3,0))","v":""},{"$f":"IF(P520=\"\",\"\",VLOOKUP(AE520,種目名!$O$5:$T$104,3,0))","v":""},{"$f":"IF(S520=\"\",\"\",VLOOKUP(AH520,種目名!$O$5:$T$104,3,0))","v":""},0,"","",0,"",""]
[null,null,{"$f":"COUNTA($C$12:$C$520)","v":508},null,null,null,{"$f":"COUNTA($G$12:$G$520)-1","v":0},null,null,{"$f":"COUNTA($J$12:$J$520)","v":0},null,null,{"$f":"COUNTA($M$12:$M$520)","v":0},null,null,{"$f":"COUNTA($P$12:$P$520)","v":0},null,null,{"$f":"COUNTA($S$12:$S$520)","v":0},null,null,null,null,null,null,null,null,null,null,null,null,null,null,""]
[null,"参加制限","基本情報種目一覧","リスト一覧",null,null,{"$f":"$G$521","v":0},null,null,{"$f":"$J$521","v":0},null,null,{"$f":"$J$521","v":0},null,null,{"$f":"SUM(Q523:Q544)","v":0},null,null,{"$f":"SUM(T523:T544)","v":0},null,"合　計"]
[null,{"$f":"管理者入力!E5","v":2},{"$f":"総括申込書!A25","v":"男子100m"},{"$f":"IF(COUNTIF($G$12:$S$520,C523)>B523,\"\",C523)","v":"男子100m"},null,null,{"$f":"COUNTIF(男子名簿!$G$12:$G$520,総括申込書!$A25)","v":0},null,null,{"$f":"COUNTIF(男子名簿!$J$12:$J$520,総括申込書!A25)","v":0},null,null,{"$f":"COUNTIF(男子名簿!$M$12:$M$520,総括申込書!$A25)","v":0},null,null,{"$f":"COUNTIF(男子名簿!$P$12:$P$520,管理者入力!$B39)","v":0},{"$f":"IF(P523>=4,1,0)","v":0},{"$f":"SUM($G523,$J523,$M523)","v":0},{"$f":"COUNTIF(男子名簿!$S$12:$S$520,管理者入力!$C39)","v":0},{"$f":"IF(S523>=4,1,0)","v":0},{"$f":"SUM($G523,$J523,$M523)","v":0}]
[null,{"$f":"管理者入力!E6","v":2},{"$f":"総括申込書!A26","v":"男子200m"},{"$f":"IF(COUNTIF($G$12:$S$520,C524)>B524,\"\",C524)","v":"男子200m"},null,null,{"$f":"COUNTIF(男子名簿!$G$12:$G$520,総括申込書!$A26)","v":0},null,null,{"$f":"COUNTIF(男子名簿!$J$12:$J$520,総括申込書!A26)","v":0},null,null,{"$f":"COUNTIF(男子名簿!$M$12:$M$520,総括申込書!$A26)","v":0},null,null,{"$f":"COUNTIF(男子名簿!$P$12:$P$520,管理者入力!$B40)","v":0},{"$f":"IF(P524>=4,1,0)","v":0},{"$f":"SUM($G524,$J524,$M524)","v":0},{"$f":"COUNTIF(男子名簿!$S$12:$S$520,管理者入力!$C40)","v":0},{"$f":"IF(S524>=4,1,0)","v":0},{"$f":"SUM($G524,$J524,$M524)","v":0}]
[null,{"$f":"管理者入力!E7","v":2},{"$f":"総括申込書!A27","v":"男子400m"},"男子400m",null,null,{"$f":"COUNTIF(男子名簿!$G$12:$G$520,総括申込書!$A27)","v":0},null,null,{"$f":"COUNTIF(男子名簿!$J$12:$J$520,総括申込書!A27)","v":0},null,null,{"$f":"COUNTIF(男子名簿!$M$12:$M$520,総括申込書!$A27)","v":0},null,null,{"$f":"COUNTIF(男子名簿!$P$12:$P$520,管理者入力!$B41)","v":0},0,0,{"$f":"COUNTIF(男子名簿!$S$12:$S$520,管理者入力!$C41)","v":0},0,0,"リレーチーム数合計"]
[null,{"$f":"管理者入力!E8","v":2},{"$f":"総括申込書!A28","v":"男子800m"},"男子800m",null,null,{"$f":"COUNTIF(男子名簿!$G$12:$G$520,総括申込書!$A28)","v":0},null,null,{"$f":"COUNTIF(男子名簿!$J$12:$J$520,総括申込書!A28)","v":0},null,null,{"$f":"COUNTIF(男子名簿!$M$12:$M$520,総括申込書!$A28)","v":0},null,null,{"$f":"COUNTIF(男子名簿!$P$12:$P$520,管理者入力!$B42)","v":0},0,0,{"$f":"COUNTIF(男子名簿!$S$12:$S$520,管理者入力!$C42)","v":0},0,0,{"$f":"P522+S522","v":0}]
[null,{"$f":"管理者入力!E9","v":2},{"$f":"総括申込書!A29","v":"男子1500m"},"男子1500m",null,null,{"$f":"COUNTIF(男子名簿!$G$12:$G$520,総括申込書!$A29)","v":0},null,null,{"$f":"COUNTIF(男子名簿!$J$12:$J$520,総括申込書!A29)","v":0},null,null,{"$f":"COUNTIF(男子名簿!$M$12:$M$520,総括申込書!$A29)","v":0},null,null,{"$f":"COUNTIF(男子名簿!$P$12:$P$520,管理者入力!$B43)","v":0},0,0,{"$f":"COUNTIF(男子名簿!$S$12:$S$520,管理者入力!$C43)","v":0},0,0]
[null,{"$f":"管理者入力!E10","v":2},{"$f":"総括申込書!A30","v":"男子5000m"},"男子5000m",null,null,{"$f":"COUNTIF(男子名簿!$G$12:$G$520,総括申込書!$A30)","v":0},null,null,{"$f":"COUNTIF(男子名簿!$J$12:$J$520,総括申込書!A30)","v":0},null,null,{"$f":"COUNTIF(男子名簿!$M$12:$M$520,総括申込書!$A30)","v":0},null,null,{"$f":"COUNTIF(男子名簿!$P$12:$P$520,管理者入力!$B44)","v":0},0,0,{"$f":"COUNTIF(男子名簿!$S$12:$S$520,管理者入力!$C44)","v":0},0,0]
[null,{"$f":"管理者入力!E11","v":2},{"$f":"総括申込書!A31","v":"男子10000m"},"男子10000m",null,null,{"$f":"COUNTIF(男子名簿!$G$12:$G$520,総括申込書!$A31)","v":0},null,null,{"$f":"COUNTIF(男子名簿!$J$12:$J$520,総括申込書!A31)","v":0},null,null,{"$f":"COUNTIF(男子名簿!$M$12:$M$520,総括申込書!$A31)","v":0},null,null,{"$f":"COUNTIF(男子名簿!$P$12:$P$520,管理者入力!$B45)","v":0},0,0,{"$f":"COUNTIF(男子名簿!$S$12:$S$520,管理者入力!$C45)","v":0},0,0]
[null,{"$f":"管理者入力!E12","v":2},{"$f":"総括申込書!A32","v":"男子110mH(1.067m)"},"男子110mH(1.067m)",null,null,{"$f":"COUNTIF(男子名簿!$G$12:$G$520,総括申込書!$A32)","v":0},null,null,{"$f":"COUNTIF(男子名簿!$J$12:$J$520,総括申込書!A32)","v":0},null,null,{"$f":"COUNTIF(男子名簿!$M$12:$M$520,総括申込書!$A32)","v":0},null,null,{"$f":"COUNTIF(男子名簿!$P$12:$P$520,管理者入力!$B46)","v":0},0,0,{"$f":"COUNTIF(男子名簿!$S$12:$S$520,管理者入力!$C46)","v":0},0,0]
[null,{"$f":"管理者入力!E13","v":2},{"$f":"総括申込書!A33","v":"男子400mH(0.914m)"},"男子400mH(0.914m)",null,null,{"$f":"COUNTIF(男子名簿!$G$12:$G$520,総括申込書!$A33)","v":0},null,null,{"$f":"COUNTIF(男子名簿!$J$12:$J$520,総括申込書!A33)","v":0},null,null,{"$f":"COUNTIF(男子名簿!$M$12:$M$520,総括申込書!$A33)","v":0},null,null,{"$f":"COUNTIF(男子名簿!$P$12:$P$520,管理者入力!$B47)","v":0},0,0,{"$f":"COUNTIF(男子名簿!$S$12:$S$520,管理者入力!$C47)","v":0},0,0]
[null,{"$f":"管理者入力!E14","v":2},{"$f":"総括申込書!A34","v":"男子3000mSC"},"男子3000mSC",null,null,{"$f":"COUNTIF(男子名簿!$G$12:$G$520,総括申込書!$A34)","v":0},null,null,{"$f":"COUNTIF(男子名簿!$J$12:$J$520,総括申込書!A34)","v":0},null,null,{"$f":"COUNTIF(男子名簿!$M$12:$M$520,総括申込書!$A34)","v":0},null,null,{"$f":"COUNTIF(男子名簿!$P$12:$P$520,管理者入力!$B48)","v":0},0,0,{"$f":"COUNTIF(男子名簿!$S$12:$S$520,管理者入力!$C48)","v":0},0,0]
[null,{"$f":"管理者入力!E15","v":2},{"$f":"総括申込書!A35","v":"男子10000mW"},"男子10000mW",null,null,{"$f":"COUNTIF(男子名簿!$G$12:$G$520,総括申込書!$A35)","v":0},null,null,{"$f":"COUNTIF(男子名簿!$J$12:$J$520,総括申込書!A35)","v":0},null,null,{"$f":"COUNTIF(男子名簿!$M$12:$M$520,総括申込書!$A35)","v":0},null,null,{"$f":"COUNTIF(男子名簿!$P$12:$P$520,管理者入力!$B49)","v":0},0,0,{"$f":"COUNTIF(男子名簿!$S$12:$S$520,管理者入力!$C49)","v":0},0,0]
[null,{"$f":"管理者入力!E16","v":2},{"$f":"総括申込書!A36","v":"男子走高跳"},"男子走高跳",null,null,{"$f":"COUNTIF(男子名簿!$G$12:$G$520,総括申込書!$A36)","v":0},null,null,{"$f":"COUNTIF(男子名簿!$J$12:$J$520,総括申込書!A36)","v":0},null,null,{"$f":"COUNTIF(男子名簿!$M$12:$M$520,総括申込書!$A36)","v":0},null,null,{"$f":"COUNTIF(男子名簿!$P$12:$P$520,管理者入力!$B50)","v":0},0,0,{"$f":"COUNTIF(男子名簿!$S$12:$S$520,管理者入力!$C50)","v":0},0,0]
[null,{"$f":"管理者入力!E17","v":2},{"$f":"総括申込書!A37","v":"男子棒高跳"},"男子棒高跳",null,null,{"$f":"COUNTIF(男子名簿!$G$12:$G$520,総括申込書!$A37)","v":0},null,null,{"$f":"COUNTIF(男子名簿!$J$12:$J$520,総括申込書!A37)","v":0},null,null,{"$f":"COUNTIF(男子名簿!$M$12:$M$520,総括申込書!$A37)","v":0},null,null,{"$f":"COUNTIF(男子名簿!$P$12:$P$520,管理者入力!$B51)","v":0},0,0,{"$f":"COUNTIF(男子名簿!$S$12:$S$520,管理者入力!$C51)","v":0},0,0]
[null,{"$f":"管理者入力!E18","v":2},{"$f":"総括申込書!A38","v":"男子走幅跳"},"男子走幅跳",null,null,{"$f":"COUNTIF(男子名簿!$G$12:$G$520,総括申込書!$A38)","v":0},null,null,{"$f":"COUNTIF(男子名簿!$J$12:$J$520,総括申込書!A38)","v":0},null,null,{"$f":"COUNTIF(男子名簿!$M$12:$M$520,総括申込書!$A38)","v":0},null,null,{"$f":"COUNTIF(男子名簿!$P$12:$P$520,管理者入力!$B52)","v":0},0,0,{"$f":"COUNTIF(男子名簿!$S$12:$S$520,管理者入力!$C52)","v":0},0,0]
[null,{"$f":"管理者入力!E19","v":2},{"$f":"総括申込書!A39","v":"男子三段跳"},"男子三段跳",null,null,{"$f":"COUNTIF(男子名簿!$G$12:$G$520,総括申込書!$A39)","v":0},null,null,{"$f":"COUNTIF(男子名簿!$J$12:$J$520,総括申込書!A39)","v":0},null,null,{"$f":"COUNTIF(男子名簿!$M$12:$M$520,総括申込書!$A39)","v":0},null,null,{"$f":"COUNTIF(男子名簿!$P$12:$P$520,管理者入力!$B53)","v":0},0,0,{"$f":"COUNTIF(男子名簿!$S$12:$S$520,管理者入力!$C53)","v":0},0,0]
[null,{"$f":"管理者入力!E20","v":2},{"$f":"総括申込書!A40","v":"男子砲丸投(7.260kg)"},"男子砲丸投(7.260kg)",null,null,{"$f":"COUNTIF(男子名簿!$G$12:$G$520,総括申込書!$A40)","v":0},null,null,{"$f":"COUNTIF(男子名簿!$J$12:$J$520,総括申込書!A40)","v":0},null,null,{"$f":"COUNTIF(男子名簿!$M$12:$M$520,総括申込書!$A40)","v":0},null,null,{"$f":"COUNTIF(男子名簿!$P$12:$P$520,管理者入力!$B54)","v":0},0,0,{"$f":"COUNTIF(男子名簿!$S$12:$S$520,管理者入力!$C54)","v":0},{"$f":"IF(S538>=4,1,0)","v":0},0]
[null,{"$f":"管理者入力!E21","v":2},{"$f":"総括申込書!A41","v":"男子円盤投(2.000kg)"},"男子円盤投(2.000kg)",null,null,{"$f":"COUNTIF(男子名簿!$G$12:$G$520,総括申込書!$A41)","v":0},null,null,{"$f":"COUNTIF(男子名簿!$J$12:$J$520,総括申込書!A41)","v":0},null,null,{"$f":"COUNTIF(男子名簿!$M$12:$M$520,総括申込書!$A41)","v":0},null,null,{"$f":"COUNTIF(男子名簿!$P$12:$P$520,管理者入力!$B55)","v":0},0,0,{"$f":"COUNTIF(男子名簿!$S$12:$S$520,管理者入力!$C55)","v":0},0,{"$f":"SUM($G539,$J539,$M539)","v":0}]
[null,{"$f":"管理者入力!E22","v":2},{"$f":"総括申込書!A42","v":"男子ハンマー投(7.260kg)"},"男子ハンマー投(7.260kg)",null,null,{"$f":"COUNTIF(男子名簿!$G$12:$G$520,総括申込書!$A42)","v":0},null,null,{"$f":"COUNTIF(男子名簿!$J$12:$J$520,総括申込書!A42)","v":0},null,null,{"$f":"COUNTIF(男子名簿!$M$12:$M$520,総括申込書!$A42)","v":0},null,null,{"$f":"COUNTIF(男子名簿!$P$12:$P$520,管理者入力!$B56)","v":0},0,0,{"$f":"COUNTIF(男子名簿!$S$12:$S$520,管理者入力!$C56)","v":0},0,0]
[null,{"$f":"管理者入力!E23","v":2},{"$f":"総括申込書!A43","v":"男子やり投(800g)"},"男子やり投(800g)",null,null,{"$f":"COUNTIF(男子名簿!$G$12:$G$520,総括申込書!$A43)","v":0},null,null,{"$f":"COUNTIF(男子名簿!$J$12:$J$520,総括申込書!A43)","v":0},null,null,{"$f":"COUNTIF(男子名簿!$M$12:$M$520,総括申込書!$A43)","v":0},null,null,{"$f":"COUNTIF(男子名簿!$P$12:$P$520,管理者入力!$B57)","v":0},0,0,{"$f":"COUNTIF(男子名簿!$S$12:$S$520,管理者入力!$C57)","v":0},0,0]
[null,{"$f":"管理者入力!E24","v":2},{"$f":"総括申込書!A44","v":"男子十種競技"},"男子十種競技",null,null,{"$f":"COUNTIF(男子名簿!$G$12:$G$520,総括申込書!$A44)","v":0},null,null,{"$f":"COUNTIF(男子名簿!$J$12:$J$520,総括申込書!A44)","v":0},null,null,{"$f":"COUNTIF(男子名簿!$M$12:$M$520,総括申込書!$A44)","v":0},null,null,{"$f":"COUNTIF(男子名簿!$P$12:$P$520,管理者入力!$B58)","v":0},0,0,{"$f":"COUNTIF(男子名簿!$S$12:$S$520,管理者入力!$C58)","v":0},0,0]
[null,{"$f":"管理者入力!E25","v":99},{"$f":"総括申込書!A45","v":"男子5000mOP"},"男子5000mOP",null,null,{"$f":"COUNTIF(男子名簿!$G$12:$G$520,総括申込書!$A45)","v":0},null,null,{"$f":"COUNTIF(男子名簿!$J$12:$J$520,総括申込書!A45)","v":0},null,null,{"$f":"COUNTIF(男子名簿!$M$12:$M$520,総括申込書!$A45)","v":0},null,null,{"$f":"COUNTIF(男子名簿!$P$12:$P$520,管理者入力!$B59)","v":0},0,0,{"$f":"COUNTIF(男子名簿!$S$12:$S$520,管理者入力!$C59)","v":0},0,0]
[null,{"$f":"管理者入力!E26","v":0},{"$f":"総括申込書!A46","v":" "},{"$f":"IF(COUNTIF($G$12:$S$520,C544)>B544,\"\",C544)","v":" "},null,null,{"$f":"COUNTIF(男子名簿!$G$12:$G$520,総括申込書!$A46)","v":0},null,null,{"$f":"COUNTIF(男子名簿!$J$12:$J$520,総括申込書!A46)","v":0},null,null,{"$f":"COUNTIF(男子名簿!$M$12:$M$520,総括申込書!$A46)","v":0},null,null,{"$f":"COUNTIF(男子名簿!$P$12:$P$520,管理者入力!$B60)","v":0},0,0,{"$f":"COUNTIF(男子名簿!$S$12:$S$520,管理者入力!$C60)","v":0},0,0]
[null,{"$f":"管理者入力!E27","v":0},{"$f":"総括申込書!A47","v":" "}," ",null,null,{"$f":"COUNTIF(男子名簿!$G$12:$G$520,総括申込書!$A47)","v":0},null,null,{"$f":"COUNTIF(男子名簿!$J$12:$J$520,総括申込書!A47)","v":0},null,null,{"$f":"COUNTIF(男子名簿!$M$12:$M$520,総括申込書!$A47)","v":0},null,null,{"$f":"COUNTIF(男子名簿!$P$12:$P$520,管理者入力!$B61)","v":0},0,0,{"$f":"COUNTIF(男子名簿!$S$12:$S$520,管理者入力!$C61)","v":0},0,0]
[null,{"$f":"管理者入力!E28","v":0},{"$f":"総括申込書!A48","v":" "}," ",null,null,{"$f":"COUNTIF(男子名簿!$G$12:$G$520,総括申込書!$A48)","v":0},null,null,{"$f":"COUNTIF(男子名簿!$J$12:$J$520,総括申込書!A48)","v":0},null,null,{"$f":"COUNTIF(男子名簿!$M$12:$M$520,総括申込書!$A48)","v":0},null,null,{"$f":"COUNTIF(男子名簿!$P$12:$P$520,管理者入力!$B62)","v":0},0,0,{"$f":"COUNTIF(男子名簿!$S$12:$S$520,管理者入力!$C62)","v":0},0,0]
[null,{"$f":"管理者入力!E29","v":0},{"$f":"総括申込書!A49","v":" "}," ",null,null,{"$f":"COUNTIF(男子名簿!$G$12:$G$520,総括申込書!$A49)","v":0},null,null,{"$f":"COUNTIF(男子名簿!$J$12:$J$520,総括申込書!A49)","v":0},null,null,{"$f":"COUNTIF(男子名簿!$M$12:$M$520,総括申込書!$A49)","v":0},null,null,{"$f":"COUNTIF(男子名簿!$P$12:$P$520,管理者入力!$B63)","v":0},0,0,{"$f":"COUNTIF(男子名簿!$S$12:$S$520,管理者入力!$C63)","v":0},0,0]
[null,{"$f":"管理者入力!E30","v":0},{"$f":"総括申込書!A50","v":" "}," ",null,null,{"$f":"COUNTIF(男子名簿!$G$12:$G$520,総括申込書!$A50)","v":0},null,null,{"$f":"COUNTIF(男子名簿!$J$12:$J$520,総括申込書!A50)","v":0},null,null,{"$f":"COUNTIF(男子名簿!$M$12:$M$520,総括申込書!$A50)","v":0},null,null,{"$f":"COUNTIF(男子名簿!$P$12:$P$520,管理者入力!$B64)","v":0},0,0,{"$f":"COUNTIF(男子名簿!$S$12:$S$520,管理者入力!$C64)","v":0},0,0]
[null,{"$f":"管理者入力!E31","v":99},{"$f":"総括申込書!A51","v":" "}," ",null,null,{"$f":"COUNTIF(男子名簿!$G$12:$G$520,総括申込書!$A51)","v":0},null,null,{"$f":"COUNTIF(男子名簿!$J$12:$J$520,総括申込書!A51)","v":0},null,null,{"$f":"COUNTIF(男子名簿!$M$12:$M$520,総括申込書!$A51)","v":0},null,null,{"$f":"COUNTIF(男子名簿!$P$12:$P$520,管理者入力!$B65)","v":0},0,0,{"$f":"COUNTIF(男子名簿!$S$12:$S$520,管理者入力!$C65)","v":0},0,0]
[null,{"$f":"管理者入力!E32","v":99},{"$f":"総括申込書!A52","v":" "}," ",null,null,{"$f":"COUNTIF(男子名簿!$G$12:$G$520,総括申込書!$A52)","v":0},null,null,{"$f":"COUNTIF(男子名簿!$J$12:$J$520,総括申込書!A52)","v":0},null,null,{"$f":"COUNTIF(男子名簿!$M$12:$M$520,総括申込書!$A52)","v":0},null,null,{"$f":"COUNTIF(男子名簿!$P$12:$P$520,管理者入力!$B66)","v":0},0,0,{"$f":"COUNTIF(男子名簿!$S$12:$S$520,管理者入力!$C66)","v":0},0,0]
[null,{"$f":"管理者入力!E33","v":0},{"$f":"総括申込書!A53","v":"種　目　合　計"},"種　目　合　計",null,null,{"$f":"COUNTIF(男子名簿!$G$12:$G$520,総括申込書!$A53)","v":0},null,null,{"$f":"COUNTIF(男子名簿!$J$12:$J$520,総括申込書!A53)","v":0},null,null,{"$f":"COUNTIF(男子名簿!$M$12:$M$520,総括申込書!$A53)","v":0},null,null,{"$f":"COUNTIF(男子名簿!$P$12:$P$520,管理者入力!$B67)","v":0},0,0,{"$f":"COUNTIF(男子名簿!$S$12:$S$520,管理者入力!$C67)","v":0},0,0]
[null,{"$f":"管理者入力!E34","v":0},{"$f":"総括申込書!A54","v":"男子4X100mR"},"男子4X100mR",null,null,{"$f":"COUNTIF(男子名簿!$G$12:$G$520,総括申込書!$A54)","v":0},null,null,{"$f":"COUNTIF(男子名簿!$J$12:$J$520,総括申込書!A54)","v":0},null,null,{"$f":"COUNTIF(男子名簿!$M$12:$M$520,総括申込書!$A54)","v":0},null,null,{"$f":"COUNTIF(男子名簿!$P$12:$P$520,管理者入力!$B68)","v":0},0,0,{"$f":"COUNTIF(男子名簿!$S$12:$S$520,管理者入力!$C68)","v":0},0,0]
[null,{"$f":"管理者入力!E35","v":0},{"$f":"総括申込書!A55","v":"男子4X400mR"},"男子4X400mR",null,null,{"$f":"COUNTIF(男子名簿!$G$12:$G$520,総括申込書!$A55)","v":0},null,null,{"$f":"COUNTIF(男子名簿!$J$12:$J$520,総括申込書!A55)","v":0},null,null,{"$f":"COUNTIF(男子名簿!$M$12:$M$520,総括申込書!$A55)","v":0},null,null,{"$f":"COUNTIF(男子名簿!$P$12:$P$520,管理者入力!$B69)","v":0},0,0,{"$f":"COUNTIF(男子名簿!$S$12:$S$520,管理者入力!$C69)","v":0},0,0]
[null,{"$f":"管理者入力!E36","v":0},null,0,null,null,{"$f":"COUNTIF(男子名簿!$G$12:$G$520,総括申込書!$A56)","v":0},null,null,{"$f":"COUNTIF(男子名簿!$J$12:$J$520,総括申込書!A56)","v":0},null,null,{"$f":"COUNTIF(男子名簿!$M$12:$M$520,総括申込書!$A56)","v":0},null,null,{"$f":"COUNTIF(男子名簿!$P$12:$P$520,管理者入力!$B70)","v":0},0,0,{"$f":"COUNTIF(男子名簿!$S$12:$S$520,管理者入力!$C70)","v":0},0,0]
[null,null,{"$f":"管理者入力!B39","v":"男子4X100mRA"},{"$f":"管理者入力!C39","v":"男子4X400mRA"}]
[null,null,{"$f":"管理者入力!B40","v":"男子4X100mRB"},{"$f":"管理者入力!C40","v":"男子4X400mRB"}]
[null,null,{"$f":"管理者入力!B41","v":"男子4X100mRC"},{"$f":"管理者入力!C41","v":"男子4X400mRC"}]
[null,null,{"$f":"管理者入力!B42","v":"男子4X100mRD"},{"$f":"管理者入力!C42","v":"男子4X400mRD"}]
[null,null,{"$f":"管理者入力!B43","v":"男子4X100mRE"},{"$f":"管理者入力!C43","v":"男子4X400mRE"}]
[null,null,{"$f":"管理者入力!B44","v":"男子4X100mRF"},{"$f":"管理者入力!C44","v":"男子4X400mRF"}]
[null,null,{"$f":"管理者入力!B45","v":"男子4X100mRG"},{"$f":"管理者入力!C45","v":"男子4X400mRG"}]
[null,null,{"$f":"管理者入力!B46","v":"男子4X100mRH"},{"$f":"管理者入力!C46","v":"男子4X400mRH"}]
[null,null,{"$f":"管理者入力!B47","v":"男子4X100mRI"},{"$f":"管理者入力!C47","v":"男子4X400mRI"}]
[null,null,{"$f":"管理者入力!B48","v":"男子4X100mRJ"},{"$f":"管理者入力!C48","v":"男子4X400mRJ"}]
[null,null,{"$f":"管理者入力!B49","v":"男子4X100mRK"},{"$f":"管理者入力!C49","v":"男子4X400mRK"}]
[null,null,{"$f":"管理者入力!B50","v":"男子4X100mRL"},{"$f":"管理者入力!C50","v":"男子4X400mRL"}]
[null,null,{"$f":"管理者入力!B51","v":"男子4X100mRM"},{"$f":"管理者入力!C51","v":"男子4X400mRM"}]
[null,null,{"$f":"管理者入力!B52","v":"男子4X100mRN"},{"$f":"管理者入力!C52","v":"男子4X400mRN"}]
[null,null,{"$f":"管理者入力!B53","v":"男子4X100mRO"},{"$f":"管理者入力!C53","v":"男子4X400mRO"}]
[null,null,{"$f":"管理者入力!B54","v":"男子4X100mRP"},{"$f":"管理者入力!C54","v":"男子4X400mRP"}]
[null,null,{"$f":"管理者入力!B55","v":"男子4X100mRQ"},{"$f":"管理者入力!C55","v":"男子4X400mRQ"}]
[null,null,{"$f":"管理者入力!B56","v":"男子4X100mRR"},{"$f":"管理者入力!C56","v":"男子4X400mRR"}]
[null,null,{"$f":"管理者入力!B57","v":"男子4X100mRS"},{"$f":"管理者入力!C57","v":"男子4X400mRS"}]
[null,null,{"$f":"管理者入力!B58","v":"男子4X100mRT"},{"$f":"管理者入力!C58","v":"男子4X400mRT"}]
[null,null,{"$f":"管理者入力!B59","v":"男子4X100mRU"},{"$f":"管理者入力!C59","v":"男子4X400mRU"}]
[null,null,{"$f":"管理者入力!B60","v":"男子4X100mRV"},{"$f":"管理者入力!C60","v":"男子4X400mRV"}]
[null,null,{"$f":"管理者入力!B61","v":"男子4X100mRW"},{"$f":"管理者入力!C61","v":"男子4X400mRW"}]
[null,null,{"$f":"管理者入力!B62","v":"男子4X100mRX"},{"$f":"管理者入力!C62","v":"男子4X400mRX"}]
[null,null,{"$f":"管理者入力!B63","v":"男子4X100mRY"},{"$f":"管理者入力!C63","v":"男子4X400mRY"}]
[null,null,{"$f":"管理者入力!B64","v":"男子4X100mRZ"},{"$f":"管理者入力!C64","v":"男子4X400mRZ"}]
[]
[]
[]
[]
[]
[]
[null,null,{"$f":"管理者入力!B71","v":0}]
[null,null,{"$f":"管理者入力!B72","v":0}]
[null,null,{"$f":"管理者入力!B73","v":0}]
[null,null,{"$f":"管理者入力!B74","v":0}]
[null,null,{"$f":"管理者入力!B75","v":0}]
[null,null,{"$f":"管理者入力!B76","v":0}]
[null,null,{"$f":"管理者入力!B77","v":0}]
[null,null,{"$f":"管理者入力!B78","v":0}]
[null,null,{"$f":"管理者入力!B79","v":0}]
[null,null,{"$f":"管理者入力!B80","v":0}]

{"sheet":"女子名簿","index":3,"n_rows":610,"n_cols":36,"rows_kept":610,"cut":false,"hidden":false,"merged":[[0,0,0,9],[508,7,508,8],[484,7,484,8],[485,7,485,8],[482,7,482,8],[483,7,483,8],[505,7,505,8],[490,7,490,8],[488,7,488,8],[480,7,480,8],[487,7,487,8],[486,7,486,8],[84,9,84,20],[489,7,489,8],[476,7,476,8],[478,7,478,8],[477,7,477,8],[6,19,6,20],[507,7,507,8],[506,7,506,8],[501,7,501,8],[498,7,498,8],[499,7,499,8],[504,7,504,8],[518,7,518,8],[515,7,515,8],[511,7,511,8],[510,7,510,8],[491,7,491,8],[494,7,494,8],[493,7,493,8],[492,7,492,8],[509,7,509,8],[514,7,514,8],[495,7,495,8],[496,7,496,8],[497,7,497,8],[503,7,503,8],[500,7,500,8],[513,7,513,8],[479,7,479,8],[475,7,475,8],[481,7,481,8],[474,7,474,8],[473,7,473,8],[467,7,467,8],[470,7,470,8],[469,7,469,8],[468,7,468,8],[471,7,471,8],[472,7,472,8],[466,7,466,8],[465,7,465,8],[452,7,452,8],[464,7,464,8],[462,7,462,8],[453,7,453,8],[463,7,463,8],[454,7,454,8],[461,7,461,8],[460,7,460,8],[455,7,455,8],[456,7,456,8],[459,7,459,8],[458,7,458,8],[457,7,457,8],[441,7,441,8],[444,7,444,8],[438,7,438,8],[440,7,440,8],[437,7,437,8],[435,7,435,8],[436,7,436,8],[450,7,450,8],[451,7,451,8],[439,7,439,8],[443,7,443,8],[442,7,442,8],[445,7,445,8],[449,7,449,8],[447,7,447,8],[448,7,448,8],[446,7,446,8],[425,7,425,8],[428,7,428,8],[422,7,422,8],[423,7,423,8],[426,7,426,8],[429,7,429,8],[427,7,427,8],[434,7,434,8],[433,7,433,8],[432,7,432,8],[431,7,431,8],[430,7,430,8],[415,7,415,8],[417,7,417,8],[419,7,419,8],[420,7,420,8],[418,7,418,8],[421,7,421,8],[414,7,414,8],[416,7,416,8],[424,7,424,8],[407,7,407,8],[413,7,413,8],[411,7,411,8],[403,7,403,8],[404,7,404,8],[402,7,402,8],[406,7,406,8],[408,7,408,8],[409,7,409,8],[410,7,410,8],[412,7,412,8],[391,7,391,8],[397,7,397,8],[395,7,395,8],[387,7,387,8],[388,7,388,8],[386,7,386,8],[390,7,390,8],[398,7,398,8],[405,7,405,8],[392,7,392,8],[393,7,393,8],[394,7,394,8],[400,7,400,8],[399,7,399,8],[401,7,401,8],[396,7,396,8],[375,7,375,8],[381,7,381,8],[379,7,379,8],[371,7,371,8],[372,7,372,8],[370,7,370,8],[374,7,374,8],[382,7,382,8],[389,7,389,8],[376,7,376,8],[377,7,377,8],[378,7,378,8],[384,7,384,8],[383,7,383,8],[385,7,385,8],[380,7,380,8],[359,7,359,8],[365,7,365,8],[363,7,363,8],[355,7,355,8],[356,7,356,8],[354,7,354,8],[358,7,358,8],[366,7,366,8],[373,7,373,8],[360,7,360,8],[361,7,361,8],[362,7,362,8],[368,7,368,8],[367,7,367,8],[369,7,369,8],[364,7,364,8],[343,7,343,8],[349,7,349,8],[347,7,347,8],[339,7,339,8],[340,7,340,8],[338,7,338,8],[342,7,342,8],[350,7,350,8],[357,7,357,8],[344,7,344,8],[345,7,345,8],[346,7,346,8],[352,7,352,8],[351,7,351,8],[353,7,353,8],[348,7,348,8],[327,7,327,8],[333,7,333,8],[331,7,331,8],[323,7,323,8],[324,7,324,8],[322,7,322,8],[326,7,326,8],[334,7,334,8],[341,7,341,8],[328,7,328,8],[329,7,329,8],[330,7,330,8],[336,7,336,8],[335,7,335,8],[337,7,337,8],[332,7,332,8],[311,7,311,8],[317,7,317,8],[315,7,315,8],[307,7,307,8],[308,7,308,8],[306,7,306,8],[310,7,310,8],[318,7,318,8],[325,7,325,8],[312,7,312,8],[313,7,313,8],[314,7,314,8],[320,7,320,8],[319,7,319,8],[321,7,321,8],[316,7,316,8],[295,7,295,8],[301,7,301,8],[299,7,299,8],[291,7,291,8],[292,7,292,8],[290,7,290,8],[294,7,294,8],[302,7,302,8],[309,7,309,8],[296,7,296,8],[297,7,297,8],[298,7,298,8],[304,7,304,8],[303,7,303,8],[305,7,305,8],[300,7,300,8],[279,7,279,8],[285,7,285,8],[283,7,283,8],[275,7,275,8],[276,7,276,8],[274,7,274,8],[278,7,278,8],[286,7,286,8],[293,7,293,8],[280,7,280,8],[281,7,281,8],[282,7,282,8],[288,7,288,8],[287,7,287,8],[289,7,289,8],[284,7,284,8],[263,7,263,8],[269,7,269,8],[267,7,267,8],[259,7,259,8],[260,7,260,8],[258,7,258,8],[262,7,262,8],[270,7,270,8],[277,7,277,8],[264,7,264,8],[265,7,265,8],[266,7,266,8],[272,7,272,8],[271,7,271,8],[273,7,273,8],[268,7,268,8],[247,7,247,8],[253,7,253,8],[251,7,251,8],[243,7,243,8],[244,7,244,8],[242,7,242,8],[246,7,246,8],[254,7,254,8],[261,7,261,8],[248,7,248,8],[249,7,249,8],[250,7,250,8],[256,7,256,8],[255,7,255,8],[257,7,257,8],[252,7,252,8],[231,7,231,8],[237,7,237,8],[235,7,235,8],[227,7,227,8],[228,7,228,8],[226,7,226,8],[230,7,230,8],[238,7,238,8],[245,7,245,8],[232,7,232,8],[233,7,233,8],[234,7,234,8],[240,7,240,8],[239,7,239,8],[241,7,241,8],[236,7,236,8],[215,7,215,8],[221,7,221,8],[219,7,219,8],[211,7,211,8],[212,7,212,8],[210,7,210,8],[214,7,214,8],[222,7,222,8],[229,7,229,8],[216,7,216,8],[217,7,217,8],[218,7,218,8],[224,7,224,8],[223,7,223,8],[225,7,225,8],[220,7,220,8],[199,7,199,8],[205,7,205,8],[203,7,203,8],[195,7,195,8],[196,7,196,8],[194,7,194,8],[198,7,198,8],[206,7,206,8],[213,7,213,8],[200,7,200,8],[201,7,201,8],[202,7,202,8],[208,7,208,8],[207,7,207,8],[209,7,209,8],[204,7,204,8],[183,7,183,8],[189,7,189,8],[187,7,187,8],[179,7,179,8],[180,7,180,8],[178,7,178,8],[182,7,182,8],[190,7,190,8],[197,7,197,8],[184,7,184,8],[185,7,185,8],[186,7,186,8],[192,7,192,8],[191,7,191,8],[193,7,193,8],[188,7,188,8],[167,7,167,8],[173,7,173,8],[171,7,171,8],[163,7,163,8],[164,7,164,8],[162,7,162,8],[166,7,166,8],[174,7,174,8],[181,7,181,8],[168,7,168,8],[169,7,169,8],[170,7,170,8],[176,7,176,8],[175,7,175,8],[177,7,177,8],[172,7,172,8],[158,7,158,8],[165,7,165,8],[152,7,152,8],[153,7,153,8],[154,7,154,8],[156,7,156,8],[160,7,160,8],[159,7,159,8],[161,7,161,8],[151,7,151,8],[157,7,157,8],[155,7,155,8],[149,7,149,8],[150,7,150,8],[140,7,140,8],[144,7,144,8],[143,7,143,8],[147,7,147,8],[148,7,148,8],[135,7,135,8],[131,7,131,8],[132,7,132,8],[130,7,130,8],[129,7,129,8],[146,7,146,8],[145,7,145,8],[136,7,136,8],[139,7,139,8],[137,7,137,8],[138,7,138,8],[142,7,142,8],[141,7,141,8],[122,7,122,8],[133,7,133,8],[134,7,134,8],[126,7,126,8],[128,7,128,8],[127,7,127,8],[125,7,125,8],[123,7,123,8],[124,7,124,8],[121,7,121,8],[119,7,119,8],[120,7,120,8],[117,7,117,8],[118,7,118,8],[113,7,113,8],[115,7,115,8],[116,7,116,8],[114,7,114,8],[89,7,89,8],[91,7,91,8],[90,7,90,8],[105,7,105,8],[107,7,107,8],[110,7,110,8],[109,7,109,8],[106,7,106,8],[112,7,112,8],[111,7,111,8],[108,7,108,8],[85,7,85,8],[84,7,84,8],[87,7,87,8],[80,7,80,8],[80,10,80,11],[80,13,80,14],[86,7,86,8],[85,9,519,20],[502,7,502,8],[83,0,83,21],[95,7,95,8],[94,7,94,8],[98,7,98,8],[96,7,96,8],[97,7,97,8],[92,7,92,8],[93,7,93,8],[88,7,88,8],[103,7,103,8],[104,7,104,8],[100,7,100,8],[102,7,102,8],[101,7,101,8],[99,7,99,8],[80,19,80,20],[79,10,79,11],[79,13,79,14],[82,7,82,8],[81,19,81,20],[82,10,82,11],[79,19,79,20],[82,19,82,20],[82,13,82,14],[82,16,82,17],[81,7,81,8],[79,7,79,8],[81,10,81,11],[81,13,81,14],[81,16,81,17],[79,16,79,17],[80,16,80,17],[78,7,78,8],[78,10,78,11],[78,13,78,14],[78,16,78,17],[77,10,77,11],[75,7,75,8],[74,7,74,8],[74,10,74,11],[72,7,72,8],[72,10,72,11],[69,7,69,8],[74,19,74,20],[74,16,74,17],[77,7,77,8],[76,13,76,14],[76,16,76,17],[76,19,76,20],[77,13,77,14],[77,19,77,20],[69,19,69,20],[71,19,71,20],[73,7,73,8],[71,7,71,8],[71,10,71,11],[71,13,71,14],[72,13,72,14],[73,10,73,11],[76,7,76,8],[76,10,76,11],[75,10,75,11],[70,10,70,11],[70,13,70,14],[74,13,74,14],[77,16,77,17],[68,19,68,20],[65,19,65,20],[65,7,65,8],[65,10,65,11],[66,7,66,8],[66,10,66,11],[66,13,66,14],[66,16,66,17],[68,16,68,17],[66,19,66,20],[67,19,67,20],[67,16,67,17],[65,13,65,14],[519,7,519,8],[516,7,516,8],[58,19,58,20],[60,13,60,14],[69,10,69,11],[512,7,512,8],[68,7,68,8],[68,10,68,11],[62,19,62,20],[69,13,69,14],[69,16,69,17],[75,13,75,14],[71,16,71,17],[70,7,70,8],[72,16,72,17],[73,13,73,14],[70,16,70,17],[75,19,75,20],[75,16,75,17],[73,19,73,20],[72,19,72,20],[78,19,78,20],[73,16,73,17],[70,19,70,20],[64,7,64,8],[64,10,64,11],[64,13,64,14],[65,16,65,17],[67,7,67,8],[67,10,67,11],[67,13,67,14],[64,16,64,17],[68,13,68,14],[62,7,62,8],[59,19,59,20],[62,13,62,14],[53,16,53,17],[49,7,49,8],[61,10,61,11],[61,13,61,14],[61,7,61,8],[51,7,51,8],[51,10,51,11],[57,7,57,8],[57,10,57,11],[57,13,57,14],[52,7,52,8],[52,10,52,11],[52,13,52,14],[51,13,51,14],[60,10,60,11],[53,19,53,20],[56,19,56,20],[54,7,54,8],[53,10,53,11],[53,13,53,14],[54,16,54,17],[48,19,48,20],[62,16,62,17],[48,7,48,8],[49,10,49,11],[49,13,49,14],[48,16,48,17],[62,10,62,11],[48,10,48,11],[64,19,64,20],[63,16,63,17],[63,19,63,20],[49,16,49,17],[49,19,49,20],[52,16,52,17],[57,16,57,17],[57,19,57,20],[59,16,59,17],[59,7,59,8],[60,19,60,20],[60,16,60,17],[60,7,60,8],[48,13,48,14],[51,16,51,17],[53,7,53,8],[41,19,41,20],[36,7,36,8],[46,10,46,11],[46,13,46,14],[45,10,45,11],[45,13,45,14],[44,16,44,17],[46,16,46,17],[46,19,46,20],[42,19,42,20],[42,10,42,11],[42,13,42,14],[43,10,43,11],[43,13,43,14],[43,16,43,17],[43,19,43,20],[43,7,43,8],[42,7,42,8],[40,16,40,17],[41,10,41,11],[41,13,41,14],[41,16,41,17],[41,7,41,8],[42,16,42,17],[47,7,47,8],[47,19,47,20],[44,7,44,8],[45,7,45,8],[47,16,47,17],[45,16,45,17],[47,13,47,14],[45,19,45,20],[44,10,44,11],[44,13,44,14],[46,7,46,8],[47,10,47,11],[40,7,40,8],[40,10,40,11],[40,13,40,14],[40,19,40,20],[39,7,39,8],[39,13,39,14],[39,16,39,17],[39,10,39,11],[36,16,36,17],[39,19,39,20],[38,19,38,20],[38,10,38,11],[38,7,38,8],[37,16,37,17],[37,19,37,20],[37,7,37,8],[36,13,36,14],[37,10,37,11],[38,16,38,17],[37,13,37,14],[38,13,38,14],[36,10,36,11],[27,16,27,17],[28,16,28,17],[30,10,30,11],[27,7,27,8],[27,10,27,11],[27,13,27,14],[35,7,35,8],[33,10,33,11],[35,19,35,20],[33,16,33,17],[33,19,33,20],[35,10,35,11],[32,10,32,11],[31,10,31,11],[31,7,31,8],[32,7,32,8],[35,13,35,14],[35,16,35,17],[34,10,34,11],[34,13,34,14],[33,13,33,14],[34,16,34,17],[32,13,32,14],[28,10,28,11],[29,10,29,11],[32,19,32,20],[32,16,32,17],[33,7,33,8],[34,7,34,8],[30,7,30,8],[29,7,29,8],[29,13,29,14],[30,16,30,17],[31,16,31,17],[28,19,28,20],[31,13,31,14],[14,19,14,20],[19,19,19,20],[15,19,15,20],[20,19,20,20],[17,19,17,20],[19,16,19,17],[24,7,24,8],[26,7,26,8],[25,13,25,14],[24,10,24,11],[17,10,17,11],[14,16,14,17],[17,13,17,14],[14,13,14,14],[15,7,15,8],[16,10,16,11],[15,16,15,17],[16,7,16,8],[16,13,16,14],[14,7,14,8],[19,10,19,11],[20,7,20,8],[22,7,22,8],[20,10,20,11],[18,10,18,11],[20,13,20,14],[26,10,26,11],[23,10,23,11],[19,7,19,8],[22,10,22,11],[25,7,25,8],[26,13,26,14],[25,10,25,11],[10,19,10,20],[12,19,12,20],[11,16,11,17],[12,16,12,17],[10,16,10,17],[54,19,54,20],[52,19,52,20],[26,19,26,20],[7,0,8,0],[12,7,12,8],[17,7,17,8],[25,19,25,20],[50,19,50,20],[36,19,36,20],[11,19,11,20],[13,19,13,20],[18,16,18,17],[18,19,18,20],[16,19,16,20],[16,16,16,17],[20,16,20,17],[15,13,15,14],[18,13,18,14],[34,19,34,20],[1,15,1,17],[2,15,2,17],[1,0,1,11],[2,0,2,11],[8,7,8,8],[9,7,9,8],[8,9,8,11],[4,15,4,17],[6,16,6,18],[9,9,9,11],[7,1,8,2],[8,12,9,21],[13,16,13,17],[17,16,17,17],[56,10,56,11],[55,10,55,11],[55,13,55,14],[59,10,59,11],[55,16,55,17],[13,13,13,14],[25,16,25,17],[58,10,58,11],[58,13,58,14],[58,16,58,17],[59,13,59,14],[56,13,56,14],[21,10,21,11],[22,13,22,14],[21,16,21,17],[21,13,21,14],[24,16,24,17],[26,16,26,17],[23,16,23,17],[23,13,23,14],[24,13,24,14],[22,16,22,17],[13,7,13,8],[13,10,13,11],[63,10,63,11],[63,13,63,14],[55,7,55,8],[9,0,9,2],[63,7,63,8],[14,10,14,11],[15,10,15,11],[58,7,58,8],[56,7,56,8],[10,10,10,11],[10,13,10,14],[11,10,11,11],[11,13,11,14],[12,10,12,11],[11,7,11,8],[12,13,12,14],[10,7,10,8],[21,7,21,8],[19,13,19,14],[50,7,50,8],[23,7,23,8],[18,7,18,8],[56,16,56,17],[517,7,517,8],[21,19,21,20],[50,16,50,17],[54,10,54,11],[54,13,54,14],[50,10,50,11],[50,13,50,14],[55,19,55,20],[61,16,61,17],[61,19,61,20],[51,19,51,20],[44,19,44,20],[24,19,24,20],[22,19,22,20],[23,19,23,20],[28,7,28,8],[28,13,28,14],[30,13,30,14],[31,19,31,20],[29,16,29,17],[30,19,30,20],[27,19,27,20],[29,19,29,20]]}
[{"$f":"基本情報!A1","v":"第８４回　東海学生陸上競技対校選手権大会"},null,null,null,null,null,null,null,null,null,null,null,null,null,null,{"$f":"IF($T$3=\"\",\"\",VLOOKUP(T3,学校名!B8:C1417,2))","v":""}]
[null,null,null,null,null,null,null,null,null,null,null,null,null,null,null,"所属名",null,null,"学校コード"]
[null,null,null,null,null,null,null,null,null,null,null,null,null,null,null,{"$f":"IF(T3=\"\",\"\",VLOOKUP(S3,学校名!B8:D1417,3))","v":""},null,null,{"$f":"IF(T3=\"\",\"\",ABS(T3))","v":""},{"$f":"IF(総括申込書!$A$5=\"\",\"\",総括申込書!$A$5)","v":""}]
["選手参加申込"]
[null,null,null,null,null,null,null,null,null,null,null,null,null,null,null,{"$f":"IF(総括申込書!$A$10=\"\",\"\",総括申込書!$A$10)","v":0},null,null,"印"]
[null,null,null,null,null,null,null,null,null,null,null,null,null,null,null,null,null,null,null,null,null,null,null,null,null,null,null,null,null,null,"関数はさわるべからず"]
["＜女子＞",null,null,null,null,null,null,null,null,null,null,null,null,null,null,"記載責任者",{"$f":"IF(総括申込書!E20=\"\",\"\",総括申込書!$E$20)","v":""},null,null,"印"]
["監督名",{"$f":"IF(総括申込書!$A$10=\"\",\"\",総括申込書!$A$10)","v":0}]
[null,null,null,null,null,null,null,"監督　電話",null,{"$f":"IF(総括申込書!$D$10=\"\",\"\",総括申込書!$D$10)","v":""},null,null,"女子5000mOPはB86のセルまで↓↓"]
["女子対校入力欄",null,null,null,null,null,null,"記載責任者　電話",null,{"$f":"IF(総括申込書!$H$20=\"\",\"\",総括申込書!$H$20)","v":""}]
["番 号","ナンバー","選　手　名","ﾌﾘｶﾞﾅ","学年","学校名","１　種　目","記　録",null,"２　種　目","記　録",null,"３　種　目","記　録",null,"女子4X100mR","記　録",null,"女子4X400mR","記　録",null,"登録陸協",null,null,null,"種目１","種目２","種目３","女子4X100mR","女子4×400mR"]
[{"$f":"IF(C12=\"\",\"\",1)","v":""},null,{"$f":"IF(B12=\"\",\"\",VLOOKUP(B12,学連登録!$C$2:$G$3000,2,FALSE))","v":""},{"$f":"IF(B12=\"\",\"\",VLOOKUP(B12,学連登録!$C$2:$G$3000,3,FALSE))","v":""},{"$f":"IF(B12=\"\",\"\",VLOOKUP(B12,学連登録!$C$2:$G$3000,4,FALSE))","v":""},{"$f":"IF(C12=\"\",\"\",$P$1)","v":""},null,null,null,null,null,null,null,null,null,null,null,null,null,null,null,{"$f":"IF(B12=\"\",\"\",VLOOKUP(B12,学連登録!$C$2:$H$3000,6,FALSE))","v":""},null,null,{"$f":"IF(C12=\"\",\"\",$S$3)","v":""},{"$f":"IF(G12=\"\",\"\",VLOOKUP(G12,種目名!$R$5:$T$104,3,0))","v":""},{"$f":"IF(J12=\"\",\"\",VLOOKUP(J12,種目名!$R$5:$T$104,3,0))","v":""},{"$f":"IF(M12=\"\",\"\",VLOOKUP(M12,種目名!$R$5:$T$104,3,0))","v":""},{"$f":"IF(P12=\"\",\"\",VLOOKUP(AF12,種目名!$R$5:$T$104,3,0))","v":""},{"$f":"IF(S12=\"\",\"\",VLOOKUP(AI12,種目名!$R$5:$T$104,3,0))","v":""},{"$f":"LENB(P12)","v":0},{"$f":"IF(AE12,LEFTB(P12,AE12-1),\"\")","v":""},{"$f":"IF(AE12,MIDB(P12,AE12,1),\"\")","v":""},{"$f":"LENB(S12)","v":0},{"$f":"IF(AH12,LEFTB(S12,AH12-1),\"\")","v":""},{"$f":"IF(AH12,MIDB(S12,AH12,1),\"\")","v":""}]
[{"$f":"IF(C13=\"\",\"\",A12+1)","v":""},null,{"$f":"IF(B13=\"\",\"\",VLOOKUP(B13,学連登録!$C$2:$G$3000,2,FALSE))","v":""},{"$f":"IF(B13=\"\",\"\",VLOOKUP(B13,学連登録!$C$2:$G$3000,3,FALSE))","v":""},{"$f":"IF(B13=\"\",\"\",VLOOKUP(B13,学連登録!$C$2:$G$3000,4,FALSE))","v":""},"",null,null,null,null,null,null,null,null,null,null,null,null,null,null,null,{"$f":"IF(B13=\"\",\"\",VLOOKUP(B13,学連登録!$C$2:$H$3000,6,FALSE))","v":""},null,null,"",{"$f":"IF(G13=\"\",\"\",VLOOKUP(G13,種目名!$R$5:$T$104,3,0))","v":""},{"$f":"IF(J13=\"\",\"\",VLOOKUP(J13,種目名!$R$5:$T$104,3,0))","v":""},{"$f":"IF(M13=\"\",\"\",VLOOKUP(M13,種目名!$R$5:$T$104,3,0))","v":""},{"$f":"IF(P13=\"\",\"\",VLOOKUP(AF13,種目名!$R$5:$T$104,3,0))","v":""},{"$f":"IF(S13=\"\",\"\",VLOOKUP(AI13,種目名!$R$5:$T$104,3,0))","v":""},0,"","",0,"",""]
["",null,{"$f":"IF(B14=\"\",\"\",VLOOKUP(B14,学連登録!$C$2:$G$3000,2,FALSE))","v":""},{"$f":"IF(B14=\"\",\"\",VLOOKUP(B14,学連登録!$C$2:$G$3000,3,FALSE))","v":""},{"$f":"IF(B14=\"\",\"\",VLOOKUP(B14,学連登録!$C$2:$G$3000,4,FALSE))","v":""},"",null,null,null,null,null,null,null,null,null,null,null,null,null,null,null,{"$f":"IF(B14=\"\",\"\",VLOOKUP(B14,学連登録!$C$2:$H$3000,6,FALSE))","v":""},null,null,"",{"$f":"IF(G14=\"\",\"\",VLOOKUP(G14,種目名!$R$5:$T$104,3,0))","v":""},{"$f":"IF(J14=\"\",\"\",VLOOKUP(J14,種目名!$R$5:$T$104,3,0))","v":""},{"$f":"IF(M14=\"\",\"\",VLOOKUP(M14,種目名!$R$5:$T$104,3,0))","v":""},{"$f":"IF(P14=\"\",\"\",VLOOKUP(AF14,種目名!$R$5:$T$104,3,0))","v":""},{"$f":"IF(S14=\"\",\"\",VLOOKUP(AI14,種目名!$R$5:$T$104,3,0))","v":""},0,"","",0,"",""]
["",null,{"$f":"IF(B15=\"\",\"\",VLOOKUP(B15,学連登録!$C$2:$G$3000,2,FALSE))","v":""},{"$f":"IF(B15=\"\",\"\",VLOOKUP(B15,学連登録!$C$2:$G$3000,3,FALSE))","v":""},{"$f":"IF(B15=\"\",\"\",VLOOKUP(B15,学連登録!$C$2:$G$3000,4,FALSE))","v":""},"",null,null,null,null,null,null,null,null,null,null,null,null,null,null,null,{"$f":"IF(B15=\"\",\"\",VLOOKUP(B15,学連登録!$C$2:$H$3000,6,FALSE))","v":""},null,null,"",{"$f":"IF(G15=\"\",\"\",VLOOKUP(G15,種目名!$R$5:$T$104,3,0))","v":""},{"$f":"IF(J15=\"\",\"\",VLOOKUP(J15,種目名!$R$5:$T$104,3,0))","v":""},{"$f":"IF(M15=\"\",\"\",VLOOKUP(M15,種目名!$R$5:$T$104,3,0))","v":""},{"$f":"IF(P15=\"\",\"\",VLOOKUP(AF15,種目名!$R$5:$T$104,3,0))","v":""},{"$f":"IF(S15=\"\",\"\",VLOOKUP(AI15,種目名!$R$5:$T$104,3,0))","v":""},0,"","",0,"",""]
["",null,{"$f":"IF(B16=\"\",\"\",VLOOKUP(B16,学連登録!$C$2:$G$3000,2,FALSE))","v":""},{"$f":"IF(B16=\"\",\"\",VLOOKUP(B16,学連登録!$C$2:$G$3000,3,FALSE))","v":""},{"$f":"IF(B16=\"\",\"\",VLOOKUP(B16,学連登録!$C$2:$G$3000,4,FALSE))","v":""},"",null,null,null,null,null,null,null,null,null,null,null,null,null,null,null,{"$f":"IF(B16=\"\",\"\",VLOOKUP(B16,学連登録!$C$2:$H$3000,6,FALSE))","v":""},null,null,"",{"$f":"IF(G16=\"\",\"\",VLOOKUP(G16,種目名!$R$5:$T$104,3,0))","v":""},{"$f":"IF(J16=\"\",\"\",VLOOKUP(J16,種目名!$R$5:$T$104,3,0))","v":""},{"$f":"IF(M16=\"\",\"\",VLOOKUP(M16,種目名!$R$5:$T$104,3,0))","v":""},{"$f":"IF(P16=\"\",\"\",VLOOKUP(AF16,種目名!$R$5:$T$104,3,0))","v":""},{"$f":"IF(S16=\"\",\"\",VLOOKUP(AI16,種目名!$R$5:$T$104,3,0))","v":""},0,"","",0,"",""]
["",null,{"$f":"IF(B17=\"\",\"\",VLOOKUP(B17,学連登録!$C$2:$G$3000,2,FALSE))","v":""},{"$f":"IF(B17=\"\",\"\",VLOOKUP(B17,学連登録!$C$2:$G$3000,3,FALSE))","v":""},{"$f":"IF(B17=\"\",\"\",VLOOKUP(B17,学連登録!$C$2:$G$3000,4,FALSE))","v":""},"",null,null,null,null,null,null,null,null,null,null,null,null,null,null,null,{"$f":"IF(B17=\"\",\"\",VLOOKUP(B17,学連登録!$C$2:$H$3000,6,FALSE))","v":""},null,null,"",{"$f":"IF(G17=\"\",\"\",VLOOKUP(G17,種目名!$R$5:$T$104,3,0))","v":""},{"$f":"IF(J17=\"\",\"\",VLOOKUP(J17,種目名!$R$5:$T$104,3,0))","v":""},{"$f":"IF(M17=\"\",\"\",VLOOKUP(M17,種目名!$R$5:$T$104,3,0))","v":""},{"$f":"IF(P17=\"\",\"\",VLOOKUP(AF17,種目名!$R$5:$T$104,3,0))","v":""},{"$f":"IF(S17=\"\",\"\",VLOOKUP(AI17,種目名!$R$5:$T$104,3,0))","v":""},0,"","",0,"",""]
["",null,{"$f":"IF(B18=\"\",\"\",VLOOKUP(B18,学連登録!$C$2:$G$3000,2,FALSE))","v":""},{"$f":"IF(B18=\"\",\"\",VLOOKUP(B18,学連登録!$C$2:$G$3000,3,FALSE))","v":""},{"$f":"IF(B18=\"\",\"\",VLOOKUP(B18,学連登録!$C$2:$G$3000,4,FALSE))","v":""},"",null,null,null,null,null,null,null,null,null,null,null,null,null,null,null,{"$f":"IF(B18=\"\",\"\",VLOOKUP(B18,学連登録!$C$2:$H$3000,6,FALSE))","v":""},null,null,"",{"$f":"IF(G18=\"\",\"\",VLOOKUP(G18,種目名!$R$5:$T$104,3,0))","v":""},{"$f":"IF(J18=\"\",\"\",VLOOKUP(J18,種目名!$R$5:$T$104,3,0))","v":""},{"$f":"IF(M18=\"\",\"\",VLOOKUP(M18,種目名!$R$5:$T$104,3,0))","v":""},{"$f":"IF(P18=\"\",\"\",VLOOKUP(AF18,種目名!$R$5:$T$104,3,0))","v":""},{"$f":"IF(S18=\"\",\"\",VLOOKUP(AI18,種目名!$R$5:$T$104,3,0))","v":""},0,"","",0,"",""]
["",null,{"$f":"IF(B19=\"\",\"\",VLOOKUP(B19,学連登録!$C$2:$G$3000,2,FALSE))","v":""},{"$f":"IF(B19=\"\",\"\",VLOOKUP(B19,学連登録!$C$2:$G$3000,3,FALSE))","v":""},{"$f":"IF(B19=\"\",\"\",VLOOKUP(B19,学連登録!$C$2:$G$3000,4,FALSE))","v":""},"",null,null,null,null,null,null,null,null,null,null,null,null,null,null,null,{"$f":"IF(B19=\"\",\"\",VLOOKUP(B19,学連登録!$C$2:$H$3000,6,FALSE))","v":""},null,null,"",{"$f":"IF(G19=\"\",\"\",VLOOKUP(G19,種目名!$R$5:$T$104,3,0))","v":""},{"$f":"IF(J19=\"\",\"\",VLOOKUP(J19,種目名!$R$5:$T$104,3,0))","v":""},{"$f":"IF(M19=\"\",\"\",VLOOKUP(M19,種目名!$R$5:$T$104,3,0))","v":""},{"$f":"IF(P19=\"\",\"\",VLOOKUP(AF19,種目名!$R$5:$T$104,3,0))","v":""},{"$f":"IF(S19=\"\",\"\",VLOOKUP(AI19,種目名!$R$5:$T$104,3,0))","v":""},0,"","",0,"",""]
["",null,{"$f":"IF(B20=\"\",\"\",VLOOKUP(B20,学連登録!$C$2:$G$3000,2,FALSE))","v":""},{"$f":"IF(B20=\"\",\"\",VLOOKUP(B20,学連登録!$C$2:$G$3000,3,FALSE))","v":""},{"$f":"IF(B20=\"\",\"\",VLOOKUP(B20,学連登録!$C$2:$G$3000,4,FALSE))","v":""},"",null,null,null,null,null,null,null,null,null,null,null,null,null,null,null,{"$f":"IF(B20=\"\",\"\",VLOOKUP(B20,学連登録!$C$2:$H$3000,6,FALSE))","v":""},null,null,"",{"$f":"IF(G20=\"\",\"\",VLOOKUP(G20,種目名!$R$5:$T$104,3,0))","v":""},{"$f":"IF(J20=\"\",\"\",VLOOKUP(J20,種目名!$R$5:$T$104,3,0))","v":""},{"$f":"IF(M20=\"\",\"\",VLOOKUP(M20,種目名!$R$5:$T$104,3,0))","v":""},{"$f":"IF(P20=\"\",\"\",VLOOKUP(AF20,種目名!$R$5:$T$104,3,0))","v":""},{"$f":"IF(S20=\"\",\"\",VLOOKUP(AI20,種目名!$R$5:$T$104,3,0))","v":""},0,"","",0,"",""]
["",null,{"$f":"IF(B21=\"\",\"\",VLOOKUP(B21,学連登録!$C$2:$G$3000,2,FALSE))","v":""},{"$f":"IF(B21=\"\",\"\",VLOOKUP(B21,学連登録!$C$2:$G$3000,3,FALSE))","v":""},{"$f":"IF(B21=\"\",\"\",VLOOKUP(B21,学連登録!$C$2:$G$3000,4,FALSE))","v":""},"",null,null,null,null,null,null,null,null,null,null,null,null,null,null,null,{"$f":"IF(B21=\"\",\"\",VLOOKUP(B21,学連登録!$C$2:$H$3000,6,FALSE))","v":""},null,null,"",{"$f":"IF(G21=\"\",\"\",VLOOKUP(G21,種目名!$R$5:$T$104,3,0))","v":""},{"$f":"IF(J21=\"\",\"\",VLOOKUP(J21,種目名!$R$5:$T$104,3,0))","v":""},{"$f":"IF(M21=\"\",\"\",VLOOKUP(M21,種目名!$R$5:$T$104,3,0))","v":""},{"$f":"IF(P21=\"\",\"\",VLOOKUP(AF21,種目名!$R$5:$T$104,3,0))","v":""},{"$f":"IF(S21=\"\",\"\",VLOOKUP(AI21,種目名!$R$5:$T$104,3,0))","v":""},0,"","",0,"",""]
[{"$f":"IF(C22=\"\",\"\",A21+1)","v":""},null,{"$f":"IF(B22=\"\",\"\",VLOOKUP(B22,学連登録!$C$2:$G$3000,2,FALSE))","v":""},{"$f":"IF(B22=\"\",\"\",VLOOKUP(B22,学連登録!$C$2:$G$3000,3,FALSE))","v":""},{"$f":"IF(B22=\"\",\"\",VLOOKUP(B22,学連登録!$C$2:$G$3000,4,FALSE))","v":""},"",null,null,null,null,null,null,null,null,null,null,null,null,null,null,null,{"$f":"IF(B22=\"\",\"\",VLOOKUP(B22,学連登録!$C$2:$H$3000,6,FALSE))","v":""},null,null,"",{"$f":"IF(G22=\"\",\"\",VLOOKUP(G22,種目名!$R$5:$T$104,3,0))","v":""},{"$f":"IF(J22=\"\",\"\",VLOOKUP(J22,種目名!$R$5:$T$104,3,0))","v":""},{"$f":"IF(M22=\"\",\"\",VLOOKUP(M22,種目名!$R$5:$T$104,3,0))","v":""},{"$f":"IF(P22=\"\",\"\",VLOOKUP(AF22,種目名!$R$5:$T$104,3,0))","v":""},{"$f":"IF(S22=\"\",\"\",VLOOKUP(AI22,種目名!$R$5:$T$104,3,0))","v":""},0,"","",0,"",""]
["",null,{"$f":"IF(B23=\"\",\"\",VLOOKUP(B23,学連登録!$C$2:$G$3000,2,FALSE))","v":""},{"$f":"IF(B23=\"\",\"\",VLOOKUP(B23,学連登録!$C$2:$G$3000,3,FALSE))","v":""},{"$f":"IF(B23=\"\",\"\",VLOOKUP(B23,学連登録!$C$2:$G$3000,4,FALSE))","v":""},"",null,null,null,null,null,null,null,null,null,null,null,null,null,null,null,{"$f":"IF(B23=\"\",\"\",VLOOKUP(B23,学連登録!$C$2:$H$3000,6,FALSE))","v":""},null,null,"",{"$f":"IF(G23=\"\",\"\",VLOOKUP(G23,種目名!$R$5:$T$104,3,0))","v":""},{"$f":"IF(J23=\"\",\"\",VLOOKUP(J23,種目名!$R$5:$T$104,3,0))","v":""},{"$f":"IF(M23=\"\",\"\",VLOOKUP(M23,種目名!$R$5:$T$104,3,0))","v":""},{"$f":"IF(P23=\"\",\"\",VLOOKUP(AF23,種目名!$R$5:$T$104,3,0))","v":""},{"$f":"IF(S23=\"\",\"\",VLOOKUP(AI23,種目名!$R$5:$T$104,3,0))","v":""},0,"","",0,"",""]
["",null,{"$f":"IF(B24=\"\",\"\",VLOOKUP(B24,学連登録!$C$2:$G$3000,2,FALSE))","v":""},{"$f":"IF(B24=\"\",\"\",VLOOKUP(B24,学連登録!$C$2:$G$3000,3,FALSE))","v":""},{"$f":"IF(B24=\"\",\"\",VLOOKUP(B24,学連登録!$C$2:$G$3000,4,FALSE))","v":""},"",null,null,null,null,null,null,null,null,null,null,null,null,null,null,null,{"$f":"IF(B24=\"\",\"\",VLOOKUP(B24,学連登録!$C$2:$H$3000,6,FALSE))","v":""},null,null,"",{"$f":"IF(G24=\"\",\"\",VLOOKUP(G24,種目名!$R$5:$T$104,3,0))","v":""},{"$f":"IF(J24=\"\",\"\",VLOOKUP(J24,種目名!$R$5:$T$104,3,0))","v":""},{"$f":"IF(M24=\"\",\"\",VLOOKUP(M24,種目名!$R$5:$T$104,3,0))","v":""},{"$f":"IF(P24=\"\",\"\",VLOOKUP(AF24,種目名!$R$5:$T$104,3,0))","v":""},{"$f":"IF(S24=\"\",\"\",VLOOKUP(AI24,種目名!$R$5:$T$104,3,0))","v":""},0,"","",0,"",""]
["",null,{"$f":"IF(B25=\"\",\"\",VLOOKUP(B25,学連登録!$C$2:$G$3000,2,FALSE))","v":""},{"$f":"IF(B25=\"\",\"\",VLOOKUP(B25,学連登録!$C$2:$G$3000,3,FALSE))","v":""},{"$f":"IF(B25=\"\",\"\",VLOOKUP(B25,学連登録!$C$2:$G$3000,4,FALSE))","v":""},"",null,null,null,null,null,null,null,null,null,null,null,null,null,null,null,{"$f":"IF(B25=\"\",\"\",VLOOKUP(B25,学連登録!$C$2:$H$3000,6,FALSE))","v":""},null,null,"",{"$f":"IF(G25=\"\",\"\",VLOOKUP(G25,種目名!$R$5:$T$104,3,0))","v":""},{"$f":"IF(J25=\"\",\"\",VLOOKUP(J25,種目名!$R$5:$T$104,3,0))","v":""},{"$f":"IF(M25=\"\",\"\",VLOOKUP(M25,種目名!$R$5:$T$104,3,0))","v":""},{"$f":"IF(P25=\"\",\"\",VLOOKUP(AF25,種目名!$R$5:$T$104,3,0))","v":""},{"$f":"IF(S25=\"\",\"\",VLOOKUP(AI25,種目名!$R$5:$T$104,3,0))","v":""},0,"","",0,"",""]
["",null,{"$f":"IF(B26=\"\",\"\",VLOOKUP(B26,学連登録!$C$2:$G$3000,2,FALSE))","v":""},{"$f":"IF(B26=\"\",\"\",VLOOKUP(B26,学連登録!$C$2:$G$3000,3,FALSE))","v":""},{"$f":"IF(B26=\"\",\"\",VLOOKUP(B26,学連登録!$C$2:$G$3000,4,FALSE))","v":""},"",null,null,null,null,null,null,null,null,null,null,null,null,null,null,null,{"$f":"IF(B26=\"\",\"\",VLOOKUP(B26,学連登録!$C$2:$H$3000,6,FALSE))","v":""},null,null,"",{"$f":"IF(G26=\"\",\"\",VLOOKUP(G26,種目名!$R$5:$T$104,3,0))","v":""},{"$f":"IF(J26=\"\",\"\",VLOOKUP(J26,種目名!$R$5:$T$104,3,0))","v":""},{"$f":"IF(M26=\"\",\"\",VLOOKUP(M26,種目名!$R$5:$T$104,3,0))","v":""},{"$f":"IF(P26=\"\",\"\",VLOOKUP(AF26,種目名!$R$5:$T$104,3,0))","v":""},{"$f":"IF(S26=\"\",\"\",VLOOKUP(AI26,種目名!$R$5:$T$104,3,0))","v":""},0,"","",0,"",""]
["",null,{"$f":"IF(B27=\"\",\"\",VLOOKUP(B27,学連登録!$C$2:$G$3000,2,FALSE))","v":""},{"$f":"IF(B27=\"\",\"\",VLOOKUP(B27,学連登録!$C$2:$G$3000,3,FALSE))","v":""},{"$f":"IF(B27=\"\",\"\",VLOOKUP(B27,学連登録!$C$2:$G$3000,4,FALSE))","v":""},"",null,null,null,null,null,null,null,null,null,null,null,null,null,null,null,{"$f":"IF(B27=\"\",\"\",VLOOKUP(B27,学連登録!$C$2:$H$3000,6,FALSE))","v":""},null,null,"",{"$f":"IF(G27=\"\",\"\",VLOOKUP(G27,種目名!$R$5:$T$104,3,0))","v":""},{"$f":"IF(J27=\"\",\"\",VLOOKUP(J27,種目名!$R$5:$T$104,3,0))","v":""},{"$f":"IF(M27=\"\",\"\",VLOOKUP(M27,種目名!$R$5:$T$104,3,0))","v":""},{"$f":"IF(P27=\"\",\"\",VLOOKUP(AF27,種目名!$R$5:$T$104,3,0))","v":""},{"$f":"IF(S27=\"\",\"\",VLOOKUP(AI27,種目名!$R$5:$T$104,3,0))","v":""},0,"","",0,"",""]
["",null,{"$f":"IF(B28=\"\",\"\",VLOOKUP(B28,学連登録!$C$2:$G$3000,2,FALSE))","v":""},{"$f":"IF(B28=\"\",\"\",VLOOKUP(B28,学連登録!$C$2:$G$3000,3,FALSE))","v":""},{"$f":"IF(B28=\"\",\"\",VLOOKUP(B28,学連登録!$C$2:$G$3000,4,FALSE))","v":""},"",null,null,null,null,null,null,null,null,null,null,null,null,null,null,null,{"$f":"IF(B28=\"\",\"\",VLOOKUP(B28,学連登録!$C$2:$H$3000,6,FALSE))","v":""},null,null,"",{"$f":"IF(G28=\"\",\"\",VLOOKUP(G28,種目名!$R$5:$T$104,3,0))","v":""},{"$f":"IF(J28=\"\",\"\",VLOOKUP(J28,種目名!$R$5:$T$104,3,0))","v":""},{"$f":"IF(M28=\"\",\"\",VLOOKUP(M28,種目名!$R$5:$T$104,3,0))","v":""},{"$f":"IF(P28=\"\",\"\",VLOOKUP(AF28,種目名!$R$5:$T$104,3,0))","v":""},{"$f":"IF(S28=\"\",\"\",VLOOKUP(AI28,種目名!$R$5:$T$104,3,0))","v":""},0,"","",0,"",""]
["",null,{"$f":"IF(B29=\"\",\"\",VLOOKUP(B29,学連登録!$C$2:$G$3000,2,FALSE))","v":""},{"$f":"IF(B29=\"\",\"\",VLOOKUP(B29,学連登録!$C$2:$G$3000,3,FALSE))","v":""},{"$f":"IF(B29=\"\",\"\",VLOOKUP(B29,学連登録!$C$2:$G$3000,4,FALSE))","v":""},"",null,null,null,null,null,null,null,null,null,null,null,null,null,null,null,{"$f":"IF(B29=\"\",\"\",VLOOKUP(B29,学連登録!$C$2:$H$3000,6,FALSE))","v":""},null,null,"",{"$f":"IF(G29=\"\",\"\",VLOOKUP(G29,種目名!$R$5:$T$104,3,0))","v":""},{"$f":"IF(J29=\"\",\"\",VLOOKUP(J29,種目名!$R$5:$T$104,3,0))","v":""},{"$f":"IF(M29=\"\",\"\",VLOOKUP(M29,種目名!$R$5:$T$104,3,0))","v":""},{"$f":"IF(P29=\"\",\"\",VLOOKUP(AF29,種目名!$R$5:$T$104,3,0))","v":""},{"$f":"IF(S29=\"\",\"\",VLOOKUP(AI29,種目名!$R$5:$T$104,3,0))","v":""},0,"","",0,"",""]
["",null,{"$f":"IF(B30=\"\",\"\",VLOOKUP(B30,学連登録!$C$2:$G$3000,2,FALSE))","v":""},{"$f":"IF(B30=\"\",\"\",VLOOKUP(B30,学連登録!$C$2:$G$3000,3,FALSE))","v":""},{"$f":"IF(B30=\"\",\"\",VLOOKUP(B30,学連登録!$C$2:$G$3000,4,FALSE))","v":""},"",null,null,null,null,null,null,null,null,null,null,null,null,null,null,null,{"$f":"IF(B30=\"\",\"\",VLOOKUP(B30,学連登録!$C$2:$H$3000,6,FALSE))","v":""},null,null,"",{"$f":"IF(G30=\"\",\"\",VLOOKUP(G30,種目名!$R$5:$T$104,3,0))","v":""},{"$f":"IF(J30=\"\",\"\",VLOOKUP(J30,種目名!$R$5:$T$104,3,0))","v":""},{"$f":"IF(M30=\"\",\"\",VLOOKUP(M30,種目名!$R$5:$T$104,3,0))","v":""},{"$f":"IF(P30=\"\",\"\",VLOOKUP(AF30,種目名!$R$5:$T$104,3,0))","v":""},{"$f":"IF(S30=\"\",\"\",VLOOKUP(AI30,種目名!$R$5:$T$104,3,0))","v":""},0,"","",0,"",""]
["",null,{"$f":"IF(B31=\"\",\"\",VLOOKUP(B31,学連登録!$C$2:$G$3000,2,FALSE))","v":""},{"$f":"IF(B31=\"\",\"\",VLOOKUP(B31,学連登録!$C$2:$G$3000,3,FALSE))","v":""},{"$f":"IF(B31=\"\",\"\",VLOOKUP(B31,学連登録!$C$2:$G$3000,4,FALSE))","v":""},"",null,null,null,null,null,null,null,null,null,null,null,null,null,null,null,{"$f":"IF(B31=\"\",\"\",VLOOKUP(B31,学連登録!$C$2:$H$3000,6,FALSE))","v":""},null,null,"",{"$f":"IF(G31=\"\",\"\",VLOOKUP(G31,種目名!$R$5:$T$104,3,0))","v":""},{"$f":"IF(J31=\"\",\"\",VLOOKUP(J31,種目名!$R$5:$T$104,3,0))","v":""},{"$f":"IF(M31=\"\",\"\",VLOOKUP(M31,種目名!$R$5:$T$104,3,0))","v":""},{"$f":"IF(P31=\"\",\"\",VLOOKUP(AF31,種目名!$R$5:$T$104,3,0))","v":""},{"$f":"IF(S31=\"\",\"\",VLOOKUP(AI31,種目名!$R$5:$T$104,3,0))","v":""},0,"","",0,"",""]
["",null,{"$f":"IF(B32=\"\",\"\",VLOOKUP(B32,学連登録!$C$2:$G$3000,2,FALSE))","v":""},{"$f":"IF(B32=\"\",\"\",VLOOKUP(B32,学連登録!$C$2:$G$3000,3,FALSE))","v":""},{"$f":"IF(B32=\"\",\"\",VLOOKUP(B32,学連登録!$C$2:$G$3000,4,FALSE))","v":""},"",null,null,null,null,null,null,null,null,null,null,null,null,null,null,null,{"$f":"IF(B32=\"\",\"\",VLOOKUP(B32,学連登録!$C$2:$H$3000,6,FALSE))","v":""},null,null,"",{"$f":"IF(G32=\"\",\"\",VLOOKUP(G32,種目名!$R$5:$T$104,3,0))","v":""},{"$f":"IF(J32=\"\",\"\",VLOOKUP(J32,種目名!$R$5:$T$104,3,0))","v":""},{"$f":"IF(M32=\"\",\"\",VLOOKUP(M32,種目名!$R$5:$T$104,3,0))","v":""},{"$f":"IF(P32=\"\",\"\",VLOOKUP(AF32,種目名!$R$5:$T$104,3,0))","v":""},{"$f":"IF(S32=\"\",\"\",VLOOKUP(AI32,種目名!$R$5:$T$104,3,0))","v":""},0,"","",0,"",""]
["",null,{"$f":"IF(B33=\"\",\"\",VLOOKUP(B33,学連登録!$C$2:$G$3000,2,FALSE))","v":""},{"$f":"IF(B33=\"\",\"\",VLOOKUP(B33,学連登録!$C$2:$G$3000,3,FALSE))","v":""},{"$f":"IF(B33=\"\",\"\",VLOOKUP(B33,学連登録!$C$2:$G$3000,4,FALSE))","v":""},"",null,null,null,null,null,null,null,null,null,null,null,null,null,null,null,{"$f":"IF(B33=\"\",\"\",VLOOKUP(B33,学連登録!$C$2:$H$3000,6,FALSE))","v":""},null,null,"",{"$f":"IF(G33=\"\",\"\",VLOOKUP(G33,種目名!$R$5:$T$104,3,0))","v":""},{"$f":"IF(J33=\"\",\"\",VLOOKUP(J33,種目名!$R$5:$T$104,3,0))","v":""},{"$f":"IF(M33=\"\",\"\",VLOOKUP(M33,種目名!$R$5:$T$104,3,0))","v":""},{"$f":"IF(P33=\"\",\"\",VLOOKUP(AF33,種目名!$R$5:$T$104,3,0))","v":""},{"$f":"IF(S33=\"\",\"\",VLOOKUP(AI33,種目名!$R$5:$T$104,3,0))","v":""},0,"","",0,"",""]
["",null,{"$f":"IF(B34=\"\",\"\",VLOOKUP(B34,学連登録!$C$2:$G$3000,2,FALSE))","v":""},{"$f":"IF(B34=\"\",\"\",VLOOKUP(B34,学連登録!$C$2:$G$3000,3,FALSE))","v":""},{"$f":"IF(B34=\"\",\"\",VLOOKUP(B34,学連登録!$C$2:$G$3000,4,FALSE))","v":""},"",null,null,null,null,null,null,null,null,null,null,null,null,null,null,null,{"$f":"IF(B34=\"\",\"\",VLOOKUP(B34,学連登録!$C$2:$H$3000,6,FALSE))","v":""},null,null,"",{"$f":"IF(G34=\"\",\"\",VLOOKUP(G34,種目名!$R$5:$T$104,3,0))","v":""},{"$f":"IF(J34=\"\",\"\",VLOOKUP(J34,種目名!$R$5:$T$104,3,0))","v":""},{"$f":"IF(M34=\"\",\"\",VLOOKUP(M34,種目名!$R$5:$T$104,3,0))","v":""},{"$f":"IF(P34=\"\",\"\",VLOOKUP(AF34,種目名!$R$5:$T$104,3,0))","v":""},{"$f":"IF(S34=\"\",\"\",VLOOKUP(AI34,種目名!$R$5:$T$104,3,0))","v":""},0,"","",0,"",""]
["",null,{"$f":"IF(B35=\"\",\"\",VLOOKUP(B35,学連登録!$C$2:$G$3000,2,FALSE))","v":""},{"$f":"IF(B35=\"\",\"\",VLOOKUP(B35,学連登録!$C$2:$G$3000,3,FALSE))","v":""},{"$f":"IF(B35=\"\",\"\",VLOOKUP(B35,学連登録!$C$2:$G$3000,4,FALSE))","v":""},"",null,null,null,null,null,null,null,null,null,null,null,null,null,null,null,{"$f":"IF(B35=\"\",\"\",VLOOKUP(B35,学連登録!$C$2:$H$3000,6,FALSE))","v":""},null,null,"",{"$f":"IF(G35=\"\",\"\",VLOOKUP(G35,種目名!$R$5:$T$104,3,0))","v":""},{"$f":"IF(J35=\"\",\"\",VLOOKUP(J35,種目名!$R$5:$T$104,3,0))","v":""},{"$f":"IF(M35=\"\",\"\",VLOOKUP(M35,種目名!$R$5:$T$104,3,0))","v":""},{"$f":"IF(P35=\"\",\"\",VLOOKUP(AF35,種目名!$R$5:$T$104,3,0))","v":""},{"$f":"IF(S35=\"\",\"\",VLOOKUP(AI35,種目名!$R$5:$T$104,3,0))","v":""},0,"","",0,"",""]
["",null,{"$f":"IF(B36=\"\",\"\",VLOOKUP(B36,学連登録!$C$2:$G$3000,2,FALSE))","v":""},{"$f":"IF(B36=\"\",\"\",VLOOKUP(B36,学連登録!$C$2:$G$3000,3,FALSE))","v":""},{"$f":"IF(B36=\"\",\"\",VLOOKUP(B36,学連登録!$C$2:$G$3000,4,FALSE))","v":""},"",null,null,null,null,null,null,null,null,null,null,null,null,null,null,null,{"$f":"IF(B36=\"\",\"\",VLOOKUP(B36,学連登録!$C$2:$H$3000,6,FALSE))","v":""},null,null,"",{"$f":"IF(G36=\"\",\"\",VLOOKUP(G36,種目名!$R$5:$T$104,3,0))","v":""},{"$f":"IF(J36=\"\",\"\",VLOOKUP(J36,種目名!$R$5:$T$104,3,0))","v":""},{"$f":"IF(M36=\"\",\"\",VLOOKUP(M36,種目名!$R$5:$T$104,3,0))","v":""},{"$f":"IF(P36=\"\",\"\",VLOOKUP(AF36,種目名!$R$5:$T$104,3,0))","v":""},{"$f":"IF(S36=\"\",\"\",VLOOKUP(AI36,種目名!$R$5:$T$104,3,0))","v":""},0,"","",0,"",""]
["",null,{"$f":"IF(B37=\"\",\"\",VLOOKUP(B37,学連登録!$C$2:$G$3000,2,FALSE))","v":""},{"$f":"IF(B37=\"\",\"\",VLOOKUP(B37,学連登録!$C$2:$G$3000,3,FALSE))","v":""},{"$f":"IF(B37=\"\",\"\",VLOOKUP(B37,学連登録!$C$2:$G$3000,4,FALSE))","v":""},"",null,null,null,null,null,null,null,null,null,null,null,null,null,null,null,{"$f":"IF(B37=\"\",\"\",VLOOKUP(B37,学連登録!$C$2:$H$3000,6,FALSE))","v":""},null,null,"",{"$f":"IF(G37=\"\",\"\",VLOOKUP(G37,種目名!$R$5:$T$104,3,0))","v":""},{"$f":"IF(J37=\"\",\"\",VLOOKUP(J37,種目名!$R$5:$T$104,3,0))","v":""},{"$f":"IF(M37=\"\",\"\",VLOOKUP(M37,種目名!$R$5:$T$104,3,0))","v":""},{"$f":"IF(P37=\"\",\"\",VLOOKUP(AF37,種目名!$R$5:$T$104,3,0))","v":""},{"$f":"IF(S37=\"\",\"\",VLOOKUP(AI37,種目名!$R$5:$T$104,3,0))","v":""},0,"","",0,"",""]
["",null,{"$f":"IF(B38=\"\",\"\",VLOOKUP(B38,学連登録!$C$2:$G$3000,2,FALSE))","v":""},{"$f":"IF(B38=\"\",\"\",VLOOKUP(B38,学連登録!$C$2:$G$3000,3,FALSE))","v":""},{"$f":"IF(B38=\"\",\"\",VLOOKUP(B38,学連登録!$C$2:$G$3000,4,FALSE))","v":""},"",null,null,null,null,null,null,null,null,null,null,null,null,null,null,null,{"$f":"IF(B38=\"\",\"\",VLOOKUP(B38,学連登録!$C$2:$H$3000,6,FALSE))","v":""},null,null,"",{"$f":"IF(G38=\"\",\"\",VLOOKUP(G38,種目名!$R$5:$T$104,3,0))","v":""},{"$f":"IF(J38=\"\",\"\",VLOOKUP(J38,種目名!$R$5:$T$104,3,0))","v":""},{"$f":"IF(M38=\"\",\"\",VLOOKUP(M38,種目名!$R$5:$T$104,3,0))","v":""},{"$f":"IF(P38=\"\",\"\",VLOOKUP(AF38,種目名!$R$5:$T$104,3,0))","v":""},{"$f":"IF(S38=\"\",\"\",VLOOKUP(AI38,種目名!$R$5:$T$104,3,0))","v":""},0,"","",0,"",""]
["",null,{"$f":"IF(B39=\"\",\"\",VLOOKUP(B39,学連登録!$C$2:$G$3000,2,FALSE))","v":""},{"$f":"IF(B39=\"\",\"\",VLOOKUP(B39,学連登録!$C$2:$G$3000,3,FALSE))","v":""},{"$f":"IF(B39=\"\",\"\",VLOOKUP(B39,学連登録!$C$2:$G$3000,4,FALSE))","v":""},"",null,null,null,null,null,null,null,null,null,null,null,null,null,null,null,{"$f":"IF(B39=\"\",\"\",VLOOKUP(B39,学連登録!$C$2:$H$3000,6,FALSE))","v":""},null,null,"",{"$f":"IF(G39=\"\",\"\",VLOOKUP(G39,種目名!$R$5:$T$104,3,0))","v":""},{"$f":"IF(J39=\"\",\"\",VLOOKUP(J39,種目名!$R$5:$T$104,3,0))","v":""},{"$f":"IF(M39=\"\",\"\",VLOOKUP(M39,種目名!$R$5:$T$104,3,0))","v":""},{"$f":"IF(P39=\"\",\"\",VLOOKUP(AF39,種目名!$R$5:$T$104,3,0))","v":""},{"$f":"IF(S39=\"\",\"\",VLOOKUP(AI39,種目名!$R$5:$T$104,3,0))","v":""},0,"","",0,"",""]
["",null,{"$f":"IF(B40=\"\",\"\",VLOOKUP(B40,学連登録!$C$2:$G$3000,2,FALSE))","v":""},{"$f":"IF(B40=\"\",\"\",VLOOKUP(B40,学連登録!$C$2:$G$3000,3,FALSE))","v":""},{"$f":"IF(B40=\"\",\"\",VLOOKUP(B40,学連登録!$C$2:$G$3000,4,FALSE))","v":""},"",null,null,null,null,null,null,null,null,null,null,null,null,null,null,null,{"$f":"IF(B40=\"\",\"\",VLOOKUP(B40,学連登録!$C$2:$H$3000,6,FALSE))","v":""},null,null,"",{"$f":"IF(G40=\"\",\"\",VLOOKUP(G40,種目名!$R$5:$T$104,3,0))","v":""},{"$f":"IF(J40=\"\",\"\",VLOOKUP(J40,種目名!$R$5:$T$104,3,0))","v":""},{"$f":"IF(M40=\"\",\"\",VLOOKUP(M40,種目名!$R$5:$T$104,3,0))","v":""},{"$f":"IF(P40=\"\",\"\",VLOOKUP(AF40,種目名!$R$5:$T$104,3,0))","v":""},{"$f":"IF(S40=\"\",\"\",VLOOKUP(AI40,種目名!$R$5:$T$104,3,0))","v":""},0,"","",0,"",""]
["",null,{"$f":"IF(B41=\"\",\"\",VLOOKUP(B41,学連登録!$C$2:$G$3000,2,FALSE))","v":""},{"$f":"IF(B41=\"\",\"\",VLOOKUP(B41,学連登録!$C$2:$G$3000,3,FALSE))","v":""},{"$f":"IF(B41=\"\",\"\",VLOOKUP(B41,学連登録!$C$2:$G$3000,4,FALSE))","v":""},"",null,null,null,null,null,null,null,null,null,null,null,null,null,null,null,{"$f":"IF(B41=\"\",\"\",VLOOKUP(B41,学連登録!$C$2:$H$3000,6,FALSE))","v":""},null,null,"",{"$f":"IF(G41=\"\",\"\",VLOOKUP(G41,種目名!$R$5:$T$104,3,0))","v":""},{"$f":"IF(J41=\"\",\"\",VLOOKUP(J41,種目名!$R$5:$T$104,3,0))","v":""},{"$f":"IF(M41=\"\",\"\",VLOOKUP(M41,種目名!$R$5:$T$104,3,0))","v":""},{"$f":"IF(P41=\"\",\"\",VLOOKUP(AF41,種目名!$R$5:$T$104,3,0))","v":""},{"$f":"IF(S41=\"\",\"\",VLOOKUP(AI41,種目名!$R$5:$T$104,3,0))","v":""},0,"","",0,"",""]
["",null,{"$f":"IF(B42=\"\",\"\",VLOOKUP(B42,学連登録!$C$2:$G$3000,2,FALSE))","v":""},{"$f":"IF(B42=\"\",\"\",VLOOKUP(B42,学連登録!$C$2:$G$3000,3,FALSE))","v":""},{"$f":"IF(B42=\"\",\"\",VLOOKUP(B42,学連登録!$C$2:$G$3000,4,FALSE))","v":""},"",null,null,null,null,null,null,null,null,null,null,null,null,null,null,null,{"$f":"IF(B42=\"\",\"\",VLOOKUP(B42,学連登録!$C$2:$H$3000,6,FALSE))","v":""},null,null,"",{"$f":"IF(G42=\"\",\"\",VLOOKUP(G42,種目名!$R$5:$T$104,3,0))","v":""},{"$f":"IF(J42=\"\",\"\",VLOOKUP(J42,種目名!$R$5:$T$104,3,0))","v":""},{"$f":"IF(M42=\"\",\"\",VLOOKUP(M42,種目名!$R$5:$T$104,3,0))","v":""},{"$f":"IF(P42=\"\",\"\",VLOOKUP(AF42,種目名!$R$5:$T$104,3,0))","v":""},{"$f":"IF(S42=\"\",\"\",VLOOKUP(AI42,種目名!$R$5:$T$104,3,0))","v":""},0,"","",0,"",""]
["",null,{"$f":"IF(B43=\"\",\"\",VLOOKUP(B43,学連登録!$C$2:$G$3000,2,FALSE))","v":""},{"$f":"IF(B43=\"\",\"\",VLOOKUP(B43,学連登録!$C$2:$G$3000,3,FALSE))","v":""},{"$f":"IF(B43=\"\",\"\",VLOOKUP(B43,学連登録!$C$2:$G$3000,4,FALSE))","v":""},"",null,null,null,null,null,null,null,null,null,null,null,null,null,null,null,{"$f":"IF(B43=\"\",\"\",VLOOKUP(B43,学連登録!$C$2:$H$3000,6,FALSE))","v":""},null,null,"",{"$f":"IF(G43=\"\",\"\",VLOOKUP(G43,種目名!$R$5:$T$104,3,0))","v":""},{"$f":"IF(J43=\"\",\"\",VLOOKUP(J43,種目名!$R$5:$T$104,3,0))","v":""},{"$f":"IF(M43=\"\",\"\",VLOOKUP(M43,種目名!$R$5:$T$104,3,0))","v":""},{"$f":"IF(P43=\"\",\"\",VLOOKUP(AF43,種目名!$R$5:$T$104,3,0))","v":""},{"$f":"IF(S43=\"\",\"\",VLOOKUP(AI43,種目名!$R$5:$T$104,3,0))","v":""},0,"","",0,"",""]
["",null,{"$f":"IF(B44=\"\",\"\",VLOOKUP(B44,学連登録!$C$2:$G$3000,2,FALSE))","v":""},{"$f":"IF(B44=\"\",\"\",VLOOKUP(B44,学連登録!$C$2:$G$3000,3,FALSE))","v":""},{"$f":"IF(B44=\"\",\"\",VLOOKUP(B44,学連登録!$C$2:$G$3000,4,FALSE))","v":""},"",null,null,null,null,null,null,null,null,null,null,null,null,null,null,null,{"$f":"IF(B44=\"\",\"\",VLOOKUP(B44,学連登録!$C$2:$H$3000,6,FALSE))","v":""},null,null,{"$f":"IF(C44=\"\",\"\",$S$3)","v":""},{"$f":"IF(G44=\"\",\"\",VLOOKUP(G44,種目名!$R$5:$T$104,3,0))","v":""},{"$f":"IF(J44=\"\",\"\",VLOOKUP(J44,種目名!$R$5:$T$104,3,0))","v":""},{"$f":"IF(M44=\"\",\"\",VLOOKUP(M44,種目名!$R$5:$T$104,3,0))","v":""},{"$f":"IF(P44=\"\",\"\",VLOOKUP(AF44,種目名!$R$5:$T$104,3,0))","v":""},{"$f":"IF(S44=\"\",\"\",VLOOKUP(AI44,種目名!$R$5:$T$104,3,0))","v":""},{"$f":"LENB(P44)","v":0},{"$f":"IF(AE44,LEFTB(P44,AE44-1),\"\")","v":""},{"$f":"IF(AE44,MIDB(P44,AE44,1),\"\")","v":""},{"$f":"LENB(S44)","v":0},{"$f":"IF(AH44,LEFTB(S44,AH44-1),\"\")","v":""},{"$f":"IF(AH44,MIDB(S44,AH44,1),\"\")","v":""}]
["",null,{"$f":"IF(B45=\"\",\"\",VLOOKUP(B45,学連登録!$C$2:$G$3000,2,FALSE))","v":""},{"$f":"IF(B45=\"\",\"\",VLOOKUP(B45,学連登録!$C$2:$G$3000,3,FALSE))","v":""},{"$f":"IF(B45=\"\",\"\",VLOOKUP(B45,学連登録!$C$2:$G$3000,4,FALSE))","v":""},"",null,null,null,null,null,null,null,null,null,null,null,null,null,null,null,{"$f":"IF(B45=\"\",\"\",VLOOKUP(B45,学連登録!$C$2:$H$3000,6,FALSE))","v":""},null,null,"",{"$f":"IF(G45=\"\",\"\",VLOOKUP(G45,種目名!$R$5:$T$104,3,0))","v":""},{"$f":"IF(J45=\"\",\"\",VLOOKUP(J45,種目名!$R$5:$T$104,3,0))","v":""},{"$f":"IF(M45=\"\",\"\",VLOOKUP(M45,種目名!$R$5:$T$104,3,0))","v":""},{"$f":"IF(P45=\"\",\"\",VLOOKUP(AF45,種目名!$R$5:$T$104,3,0))","v":""},{"$f":"IF(S45=\"\",\"\",VLOOKUP(AI45,種目名!$R$5:$T$104,3,0))","v":""},0,"","",0,"",""]
["",null,{"$f":"IF(B46=\"\",\"\",VLOOKUP(B46,学連登録!$C$2:$G$3000,2,FALSE))","v":""},{"$f":"IF(B46=\"\",\"\",VLOOKUP(B46,学連登録!$C$2:$G$3000,3,FALSE))","v":""},{"$f":"IF(B46=\"\",\"\",VLOOKUP(B46,学連登録!$C$2:$G$3000,4,FALSE))","v":""},"",null,null,null,null,null,null,null,null,null,null,null,null,null,null,null,{"$f":"IF(B46=\"\",\"\",VLOOKUP(B46,学連登録!$C$2:$H$3000,6,FALSE))","v":""},null,null,"",{"$f":"IF(G46=\"\",\"\",VLOOKUP(G46,種目名!$R$5:$T$104,3,0))","v":""},{"$f":"IF(J46=\"\",\"\",VLOOKUP(J46,種目名!$R$5:$T$104,3,0))","v":""},{"$f":"IF(M46=\"\",\"\",VLOOKUP(M46,種目名!$R$5:$T$104,3,0))","v":""},{"$f":"IF(P46=\"\",\"\",VLOOKUP(AF46,種目名!$R$5:$T$104,3,0))","v":""},{"$f":"IF(S46=\"\",\"\",VLOOKUP(AI46,種目名!$R$5:$T$104,3,0))","v":""},0,"","",0,"",""]
["",null,{"$f":"IF(B47=\"\",\"\",VLOOKUP(B47,学連登録!$C$2:$G$3000,2,FALSE))","v":""},{"$f":"IF(B47=\"\",\"\",VLOOKUP(B47,学連登録!$C$2:$G$3000,3,FALSE))","v":""},{"$f":"IF(B47=\"\",\"\",VLOOKUP(B47,学連登録!$C$2:$G$3000,4,FALSE))","v":""},"",null,null,null,null,null,null,null,null,null,null,null,null,null,null,null,{"$f":"IF(B47=\"\",\"\",VLOOKUP(B47,学連登録!$C$2:$H$3000,6,FALSE))","v":""},null,null,"",{"$f":"IF(G47=\"\",\"\",VLOOKUP(G47,種目名!$R$5:$T$104,3,0))","v":""},{"$f":"IF(J47=\"\",\"\",VLOOKUP(J47,種目名!$R$5:$T$104,3,0))","v":""},{"$f":"IF(M47=\"\",\"\",VLOOKUP(M47,種目名!$R$5:$T$104,3,0))","v":""},{"$f":"IF(P47=\"\",\"\",VLOOKUP(AF47,種目名!$R$5:$T$104,3,0))","v":""},{"$f":"IF(S47=\"\",\"\",VLOOKUP(AI47,種目名!$R$5:$T$104,3,0))","v":""},0,"","",0,"",""]
["",null,{"$f":"IF(B48=\"\",\"\",VLOOKUP(B48,学連登録!$C$2:$G$3000,2,FALSE))","v":""},{"$f":"IF(B48=\"\",\"\",VLOOKUP(B48,学連登録!$C$2:$G$3000,3,FALSE))","v":""},{"$f":"IF(B48=\"\",\"\",VLOOKUP(B48,学連登録!$C$2:$G$3000,4,FALSE))","v":""},"",null,null,null,null,null,null,null,null,null,null,null,null,null,null,null,{"$f":"IF(B48=\"\",\"\",VLOOKUP(B48,学連登録!$C$2:$H$3000,6,FALSE))","v":""},null,null,"",{"$f":"IF(G48=\"\",\"\",VLOOKUP(G48,種目名!$R$5:$T$104,3,0))","v":""},{"$f":"IF(J48=\"\",\"\",VLOOKUP(J48,種目名!$R$5:$T$104,3,0))","v":""},{"$f":"IF(M48=\"\",\"\",VLOOKUP(M48,種目名!$R$5:$T$104,3,0))","v":""},{"$f":"IF(P48=\"\",\"\",VLOOKUP(AF48,種目名!$R$5:$T$104,3,0))","v":""},{"$f":"IF(S48=\"\",\"\",VLOOKUP(AI48,種目名!$R$5:$T$104,3,0))","v":""},0,"","",0,"",""]
["",null,{"$f":"IF(B49=\"\",\"\",VLOOKUP(B49,学連登録!$C$2:$G$3000,2,FALSE))","v":""},{"$f":"IF(B49=\"\",\"\",VLOOKUP(B49,学連登録!$C$2:$G$3000,3,FALSE))","v":""},{"$f":"IF(B49=\"\",\"\",VLOOKUP(B49,学連登録!$C$2:$G$3000,4,FALSE))","v":""},"",null,null,null,null,null,null,null,null,null,null,null,null,null,null,null,{"$f":"IF(B49=\"\",\"\",VLOOKUP(B49,学連登録!$C$2:$H$3000,6,FALSE))","v":""},null,null,"",{"$f":"IF(G49=\"\",\"\",VLOOKUP(G49,種目名!$R$5:$T$104,3,0))","v":""},{"$f":"IF(J49=\"\",\"\",VLOOKUP(J49,種目名!$R$5:$T$104,3,0))","v":""},{"$f":"IF(M49=\"\",\"\",VLOOKUP(M49,種目名!$R$5:$T$104,3,0))","v":""},{"$f":"IF(P49=\"\",\"\",VLOOKUP(AF49,種目名!$R$5:$T$104,3,0))","v":""},{"$f":"IF(S49=\"\",\"\",VLOOKUP(AI49,種目名!$R$5:$T$104,3,0))","v":""},0,"","",0,"",""]
["",null,{"$f":"IF(B50=\"\",\"\",VLOOKUP(B50,学連登録!$C$2:$G$3000,2,FALSE))","v":""},{"$f":"IF(B50=\"\",\"\",VLOOKUP(B50,学連登録!$C$2:$G$3000,3,FALSE))","v":""},{"$f":"IF(B50=\"\",\"\",VLOOKUP(B50,学連登録!$C$2:$G$3000,4,FALSE))","v":""},"",null,null,null,null,null,null,null,null,null,null,null,null,null,null,null,{"$f":"IF(B50=\"\",\"\",VLOOKUP(B50,学連登録!$C$2:$H$3000,6,FALSE))","v":""},null,null,"",{"$f":"IF(G50=\"\",\"\",VLOOKUP(G50,種目名!$R$5:$T$104,3,0))","v":""},{"$f":"IF(J50=\"\",\"\",VLOOKUP(J50,種目名!$R$5:$T$104,3,0))","v":""},{"$f":"IF(M50=\"\",\"\",VLOOKUP(M50,種目名!$R$5:$T$104,3,0))","v":""},{"$f":"IF(P50=\"\",\"\",VLOOKUP(AF50,種目名!$R$5:$T$104,3,0))","v":""},{"$f":"IF(S50=\"\",\"\",VLOOKUP(AI50,種目名!$R$5:$T$104,3,0))","v":""},0,"","",0,"",""]
[{"$f":"IF(C51=\"\",\"\",A50+1)","v":""},null,{"$f":"IF(B51=\"\",\"\",VLOOKUP(B51,学連登録!$C$2:$G$3000,2,FALSE))","v":""},{"$f":"IF(B51=\"\",\"\",VLOOKUP(B51,学連登録!$C$2:$G$3000,3,FALSE))","v":""},{"$f":"IF(B51=\"\",\"\",VLOOKUP(B51,学連登録!$C$2:$G$3000,4,FALSE))","v":""},"",null,null,null,null,null,null,null,null,null,null,null,null,null,null,null,{"$f":"IF(B51=\"\",\"\",VLOOKUP(B51,学連登録!$C$2:$H$3000,6,FALSE))","v":""},null,null,"",{"$f":"IF(G51=\"\",\"\",VLOOKUP(G51,種目名!$R$5:$T$104,3,0))","v":""},{"$f":"IF(J51=\"\",\"\",VLOOKUP(J51,種目名!$R$5:$T$104,3,0))","v":""},{"$f":"IF(M51=\"\",\"\",VLOOKUP(M51,種目名!$R$5:$T$104,3,0))","v":""},{"$f":"IF(P51=\"\",\"\",VLOOKUP(AF51,種目名!$R$5:$T$104,3,0))","v":""},{"$f":"IF(S51=\"\",\"\",VLOOKUP(AI51,種目名!$R$5:$T$104,3,0))","v":""},0,"","",0,"",""]
["",null,{"$f":"IF(B52=\"\",\"\",VLOOKUP(B52,学連登録!$C$2:$G$3000,2,FALSE))","v":""},{"$f":"IF(B52=\"\",\"\",VLOOKUP(B52,学連登録!$C$2:$G$3000,3,FALSE))","v":""},{"$f":"IF(B52=\"\",\"\",VLOOKUP(B52,学連登録!$C$2:$G$3000,4,FALSE))","v":""},"",null,null,null,null,null,null,null,null,null,null,null,null,null,null,null,{"$f":"IF(B52=\"\",\"\",VLOOKUP(B52,学連登録!$C$2:$H$3000,6,FALSE))","v":""},null,null,"",{"$f":"IF(G52=\"\",\"\",VLOOKUP(G52,種目名!$R$5:$T$104,3,0))","v":""},{"$f":"IF(J52=\"\",\"\",VLOOKUP(J52,種目名!$R$5:$T$104,3,0))","v":""},{"$f":"IF(M52=\"\",\"\",VLOOKUP(M52,種目名!$R$5:$T$104,3,0))","v":""},{"$f":"IF(P52=\"\",\"\",VLOOKUP(AF52,種目名!$R$5:$T$104,3,0))","v":""},{"$f":"IF(S52=\"\",\"\",VLOOKUP(AI52,種目名!$R$5:$T$104,3,0))","v":""},0,"","",0,"",""]
["",null,{"$f":"IF(B53=\"\",\"\",VLOOKUP(B53,学連登録!$C$2:$G$3000,2,FALSE))","v":""},{"$f":"IF(B53=\"\",\"\",VLOOKUP(B53,学連登録!$C$2:$G$3000,3,FALSE))","v":""},{"$f":"IF(B53=\"\",\"\",VLOOKUP(B53,学連登録!$C$2:$G$3000,4,FALSE))","v":""},"",null,null,null,null,null,null,null,null,null,null,null,null,null,null,null,{"$f":"IF(B53=\"\",\"\",VLOOKUP(B53,学連登録!$C$2:$H$3000,6,FALSE))","v":""},null,null,"",{"$f":"IF(G53=\"\",\"\",VLOOKUP(G53,種目名!$R$5:$T$104,3,0))","v":""},{"$f":"IF(J53=\"\",\"\",VLOOKUP(J53,種目名!$R$5:$T$104,3,0))","v":""},{"$f":"IF(M53=\"\",\"\",VLOOKUP(M53,種目名!$R$5:$T$104,3,0))","v":""},{"$f":"IF(P53=\"\",\"\",VLOOKUP(AF53,種目名!$R$5:$T$104,3,0))","v":""},{"$f":"IF(S53=\"\",\"\",VLOOKUP(AI53,種目名!$R$5:$T$104,3,0))","v":""},0,"","",0,"",""]
["",null,{"$f":"IF(B54=\"\",\"\",VLOOKUP(B54,学連登録!$C$2:$G$3000,2,FALSE))","v":""},{"$f":"IF(B54=\"\",\"\",VLOOKUP(B54,学連登録!$C$2:$G$3000,3,FALSE))","v":""},{"$f":"IF(B54=\"\",\"\",VLOOKUP(B54,学連登録!$C$2:$G$3000,4,FALSE))","v":""},"",null,null,null,null,null,null,null,null,null,null,null,null,null,null,null,{"$f":"IF(B54=\"\",\"\",VLOOKUP(B54,学連登録!$C$2:$H$3000,6,FALSE))","v":""},null,null,"",{"$f":"IF(G54=\"\",\"\",VLOOKUP(G54,種目名!$R$5:$T$104,3,0))","v":""},{"$f":"IF(J54=\"\",\"\",VLOOKUP(J54,種目名!$R$5:$T$104,3,0))","v":""},{"$f":"IF(M54=\"\",\"\",VLOOKUP(M54,種目名!$R$5:$T$104,3,0))","v":""},{"$f":"IF(P54=\"\",\"\",VLOOKUP(AF54,種目名!$R$5:$T$104,3,0))","v":""},{"$f":"IF(S54=\"\",\"\",VLOOKUP(AI54,種目名!$R$5:$T$104,3,0))","v":""},0,"","",0,"",""]
["",null,{"$f":"IF(B55=\"\",\"\",VLOOKUP(B55,学連登録!$C$2:$G$3000,2,FALSE))","v":""},{"$f":"IF(B55=\"\",\"\",VLOOKUP(B55,学連登録!$C$2:$G$3000,3,FALSE))","v":""},{"$f":"IF(B55=\"\",\"\",VLOOKUP(B55,学連登録!$C$2:$G$3000,4,FALSE))","v":""},"",null,null,null,null,null,null,null,null,null,null,null,null,null,null,null,{"$f":"IF(B55=\"\",\"\",VLOOKUP(B55,学連登録!$C$2:$H$3000,6,FALSE))","v":""},null,null,"",{"$f":"IF(G55=\"\",\"\",VLOOKUP(G55,種目名!$R$5:$T$104,3,0))","v":""},{"$f":"IF(J55=\"\",\"\",VLOOKUP(J55,種目名!$R$5:$T$104,3,0))","v":""},{"$f":"IF(M55=\"\",\"\",VLOOKUP(M55,種目名!$R$5:$T$104,3,0))","v":""},{"$f":"IF(P55=\"\",\"\",VLOOKUP(AF55,種目名!$R$5:$T$104,3,0))","v":""},{"$f":"IF(S55=\"\",\"\",VLOOKUP(AI55,種目名!$R$5:$T$104,3,0))","v":""},0,"","",0,"",""]
["",null,{"$f":"IF(B56=\"\",\"\",VLOOKUP(B56,学連登録!$C$2:$G$3000,2,FALSE))","v":""},{"$f":"IF(B56=\"\",\"\",VLOOKUP(B56,学連登録!$C$2:$G$3000,3,FALSE))","v":""},{"$f":"IF(B56=\"\",\"\",VLOOKUP(B56,学連登録!$C$2:$G$3000,4,FALSE))","v":""},"",null,null,null,null,null,null,null,null,null,null,null,null,null,null,null,{"$f":"IF(B56=\"\",\"\",VLOOKUP(B56,学連登録!$C$2:$H$3000,6,FALSE))","v":""},null,null,"",{"$f":"IF(G56=\"\",\"\",VLOOKUP(G56,種目名!$R$5:$T$104,3,0))","v":""},{"$f":"IF(J56=\"\",\"\",VLOOKUP(J56,種目名!$R$5:$T$104,3,0))","v":""},{"$f":"IF(M56=\"\",\"\",VLOOKUP(M56,種目名!$R$5:$T$104,3,0))","v":""},{"$f":"IF(P56=\"\",\"\",VLOOKUP(AF56,種目名!$R$5:$T$104,3,0))","v":""},{"$f":"IF(S56=\"\",\"\",VLOOKUP(AI56,種目名!$R$5:$T$104,3,0))","v":""},0,"","",0,"",""]
["",null,{"$f":"IF(B57=\"\",\"\",VLOOKUP(B57,学連登録!$C$2:$G$3000,2,FALSE))","v":""},{"$f":"IF(B57=\"\",\"\",VLOOKUP(B57,学連登録!$C$2:$G$3000,3,FALSE))","v":""},{"$f":"IF(B57=\"\",\"\",VLOOKUP(B57,学連登録!$C$2:$G$3000,4,FALSE))","v":""},"",null,null,null,null,null,null,null,null,null,null,null,null,null,null,null,{"$f":"IF(B57=\"\",\"\",VLOOKUP(B57,学連登録!$C$2:$H$3000,6,FALSE))","v":""},null,null,"",{"$f":"IF(G57=\"\",\"\",VLOOKUP(G57,種目名!$R$5:$T$104,3,0))","v":""},{"$f":"IF(J57=\"\",\"\",VLOOKUP(J57,種目名!$R$5:$T$104,3,0))","v":""},{"$f":"IF(M57=\"\",\"\",VLOOKUP(M57,種目名!$R$5:$T$104,3,0))","v":""},{"$f":"IF(P57=\"\",\"\",VLOOKUP(AF57,種目名!$R$5:$T$104,3,0))","v":""},{"$f":"IF(S57=\"\",\"\",VLOOKUP(AI57,種目名!$R$5:$T$104,3,0))","v":""},0,"","",0,"",""]
["",null,{"$f":"IF(B58=\"\",\"\",VLOOKUP(B58,学連登録!$C$2:$G$3000,2,FALSE))","v":""},{"$f":"IF(B58=\"\",\"\",VLOOKUP(B58,学連登録!$C$2:$G$3000,3,FALSE))","v":""},{"$f":"IF(B58=\"\",\"\",VLOOKUP(B58,学連登録!$C$2:$G$3000,4,FALSE))","v":""},"",null,null,null,null,null,null,null,null,null,null,null,null,null,null,null,{"$f":"IF(B58=\"\",\"\",VLOOKUP(B58,学連登録!$C$2:$H$3000,6,FALSE))","v":""},null,null,"",{"$f":"IF(G58=\"\",\"\",VLOOKUP(G58,種目名!$R$5:$T$104,3,0))","v":""},{"$f":"IF(J58=\"\",\"\",VLOOKUP(J58,種目名!$R$5:$T$104,3,0))","v":""},{"$f":"IF(M58=\"\",\"\",VLOOKUP(M58,種目名!$R$5:$T$104,3,0))","v":""},{"$f":"IF(P58=\"\",\"\",VLOOKUP(AF58,種目名!$R$5:$T$104,3,0))","v":""},{"$f":"IF(S58=\"\",\"\",VLOOKUP(AI58,種目名!$R$5:$T$104,3,0))","v":""},0,"","",0,"",""]
["",null,{"$f":"IF(B59=\"\",\"\",VLOOKUP(B59,学連登録!$C$2:$G$3000,2,FALSE))","v":""},{"$f":"IF(B59=\"\",\"\",VLOOKUP(B59,学連登録!$C$2:$G$3000,3,FALSE))","v":""},{"$f":"IF(B59=\"\",\"\",VLOOKUP(B59,学連登録!$C$2:$G$3000,4,FALSE))","v":""},"",null,null,null,null,null,null,null,null,null,null,null,null,null,null,null,{"$f":"IF(B59=\"\",\"\",VLOOKUP(B59,学連登録!$C$2:$H$3000,6,FALSE))","v":""},null,null,"",{"$f":"IF(G59=\"\",\"\",VLOOKUP(G59,種目名!$R$5:$T$104,3,0))","v":""},{"$f":"IF(J59=\"\",\"\",VLOOKUP(J59,種目名!$R$5:$T$104,3,0))","v":""},{"$f":"IF(M59=\"\",\"\",VLOOKUP(M59,種目名!$R$5:$T$104,3,0))","v":""},{"$f":"IF(P59=\"\",\"\",VLOOKUP(AF59,種目名!$R$5:$T$104,3,0))","v":""},{"$f":"IF(S59=\"\",\"\",VLOOKUP(AI59,種目名!$R$5:$T$104,3,0))","v":""},0,"","",0,"",""]
["",null,{"$f":"IF(B60=\"\",\"\",VLOOKUP(B60,学連登録!$C$2:$G$3000,2,FALSE))","v":""},{"$f":"IF(B60=\"\",\"\",VLOOKUP(B60,学連登録!$C$2:$G$3000,3,FALSE))","v":""},{"$f":"IF(B60=\"\",\"\",VLOOKUP(B60,学連登録!$C$2:$G$3000,4,FALSE))","v":""},"",null,null,null,null,null,null,null,null,null,null,null,null,null,null,null,{"$f":"IF(B60=\"\",\"\",VLOOKUP(B60,学連登録!$C$2:$H$3000,6,FALSE))","v":""},null,null,"",{"$f":"IF(G60=\"\",\"\",VLOOKUP(G60,種目名!$R$5:$T$104,3,0))","v":""},{"$f":"IF(J60=\"\",\"\",VLOOKUP(J60,種目名!$R$5:$T$104,3,0))","v":""},{"$f":"IF(M60=\"\",\"\",VLOOKUP(M60,種目名!$R$5:$T$104,3,0))","v":""},{"$f":"IF(P60=\"\",\"\",VLOOKUP(AF60,種目名!$R$5:$T$104,3,0))","v":""},{"$f":"IF(S60=\"\",\"\",VLOOKUP(AI60,種目名!$R$5:$T$104,3,0))","v":""},0,"","",0,"",""]
["",null,{"$f":"IF(B61=\"\",\"\",VLOOKUP(B61,学連登録!$C$2:$G$3000,2,FALSE))","v":""},{"$f":"IF(B61=\"\",\"\",VLOOKUP(B61,学連登録!$C$2:$G$3000,3,FALSE))","v":""},{"$f":"IF(B61=\"\",\"\",VLOOKUP(B61,学連登録!$C$2:$G$3000,4,FALSE))","v":""},"",null,null,null,null,null,null,null,null,null,null,null,null,null,null,null,{"$f":"IF(B61=\"\",\"\",VLOOKUP(B61,学連登録!$C$2:$H$3000,6,FALSE))","v":""},null,null,"",{"$f":"IF(G61=\"\",\"\",VLOOKUP(G61,種目名!$R$5:$T$104,3,0))","v":""},{"$f":"IF(J61=\"\",\"\",VLOOKUP(J61,種目名!$R$5:$T$104,3,0))","v":""},{"$f":"IF(M61=\"\",\"\",VLOOKUP(M61,種目名!$R$5:$T$104,3,0))","v":""},{"$f":"IF(P61=\"\",\"\",VLOOKUP(AF61,種目名!$R$5:$T$104,3,0))","v":""},{"$f":"IF(S61=\"\",\"\",VLOOKUP(AI61,種目名!$R$5:$T$104,3,0))","v":""},0,"","",0,"",""]
["",null,{"$f":"IF(B62=\"\",\"\",VLOOKUP(B62,学連登録!$C$2:$G$3000,2,FALSE))","v":""},{"$f":"IF(B62=\"\",\"\",VLOOKUP(B62,学連登録!$C$2:$G$3000,3,FALSE))","v":""},{"$f":"IF(B62=\"\",\"\",VLOOKUP(B62,学連登録!$C$2:$G$3000,4,FALSE))","v":""},"",null,null,null,null,null,null,null,null,null,null,null,null,null,null,null,{"$f":"IF(B62=\"\",\"\",VLOOKUP(B62,学連登録!$C$2:$H$3000,6,FALSE))","v":""},null,null,"",{"$f":"IF(G62=\"\",\"\",VLOOKUP(G62,種目名!$R$5:$T$104,3,0))","v":""},{"$f":"IF(J62=\"\",\"\",VLOOKUP(J62,種目名!$R$5:$T$104,3,0))","v":""},{"$f":"IF(M62=\"\",\"\",VLOOKUP(M62,種目名!$R$5:$T$104,3,0))","v":""},{"$f":"IF(P62=\"\",\"\",VLOOKUP(AF62,種目名!$R$5:$T$104,3,0))","v":""},{"$f":"IF(S62=\"\",\"\",VLOOKUP(AI62,種目名!$R$5:$T$104,3,0))","v":""},0,"","",0,"",""]
["",null,{"$f":"IF(B63=\"\",\"\",VLOOKUP(B63,学連登録!$C$2:$G$3000,2,FALSE))","v":""},{"$f":"IF(B63=\"\",\"\",VLOOKUP(B63,学連登録!$C$2:$G$3000,3,FALSE))","v":""},{"$f":"IF(B63=\"\",\"\",VLOOKUP(B63,学連登録!$C$2:$G$3000,4,FALSE))","v":""},"",null,null,null,null,null,null,null,null,null,null,null,null,null,null,null,{"$f":"IF(B63=\"\",\"\",VLOOKUP(B63,学連登録!$C$2:$H$3000,6,FALSE))","v":""},null,null,"",{"$f":"IF(G63=\"\",\"\",VLOOKUP(G63,種目名!$R$5:$T$104,3,0))","v":""},{"$f":"IF(J63=\"\",\"\",VLOOKUP(J63,種目名!$R$5:$T$104,3,0))","v":""},{"$f":"IF(M63=\"\",\"\",VLOOKUP(M63,種目名!$R$5:$T$104,3,0))","v":""},{"$f":"IF(P63=\"\",\"\",VLOOKUP(AF63,種目名!$R$5:$T$104,3,0))","v":""},{"$f":"IF(S63=\"\",\"\",VLOOKUP(AI63,種目名!$R$5:$T$104,3,0))","v":""},0,"","",0,"",""]
["",null,{"$f":"IF(B64=\"\",\"\",VLOOKUP(B64,学連登録!$C$2:$G$3000,2,FALSE))","v":""},{"$f":"IF(B64=\"\",\"\",VLOOKUP(B64,学連登録!$C$2:$G$3000,3,FALSE))","v":""},{"$f":"IF(B64=\"\",\"\",VLOOKUP(B64,学連登録!$C$2:$G$3000,4,FALSE))","v":""},"",null,null,null,null,null,null,null,null,null,null,null,null,null,null,null,{"$f":"IF(B64=\"\",\"\",VLOOKUP(B64,学連登録!$C$2:$H$3000,6,FALSE))","v":""},null,null,"",{"$f":"IF(G64=\"\",\"\",VLOOKUP(G64,種目名!$R$5:$T$104,3,0))","v":""},{"$f":"IF(J64=\"\",\"\",VLOOKUP(J64,種目名!$R$5:$T$104,3,0))","v":""},{"$f":"IF(M64=\"\",\"\",VLOOKUP(M64,種目名!$R$5:$T$104,3,0))","v":""},{"$f":"IF(P64=\"\",\"\",VLOOKUP(AF64,種目名!$R$5:$T$104,3,0))","v":""},{"$f":"IF(S64=\"\",\"\",VLOOKUP(AI64,種目名!$R$5:$T$104,3,0))","v":""},0,"","",0,"",""]
["",null,{"$f":"IF(B65=\"\",\"\",VLOOKUP(B65,学連登録!$C$2:$G$3000,2,FALSE))","v":""},{"$f":"IF(B65=\"\",\"\",VLOOKUP(B65,学連登録!$C$2:$G$3000,3,FALSE))","v":""},{"$f":"IF(B65=\"\",\"\",VLOOKUP(B65,学連登録!$C$2:$G$3000,4,FALSE))","v":""},"",null,null,null,null,null,null,null,null,null,null,null,null,null,null,null,{"$f":"IF(B65=\"\",\"\",VLOOKUP(B65,学連登録!$C$2:$H$3000,6,FALSE))","v":""},null,null,"",{"$f":"IF(G65=\"\",\"\",VLOOKUP(G65,種目名!$R$5:$T$104,3,0))","v":""},{"$f":"IF(J65=\"\",\"\",VLOOKUP(J65,種目名!$R$5:$T$104,3,0))","v":""},{"$f":"IF(M65=\"\",\"\",VLOOKUP(M65,種目名!$R$5:$T$104,3,0))","v":""},{"$f":"IF(P65=\"\",\"\",VLOOKUP(AF65,種目名!$R$5:$T$104,3,0))","v":""},{"$f":"IF(S65=\"\",\"\",VLOOKUP(AI65,種目名!$R$5:$T$104,3,0))","v":""},0,"","",0,"",""]
["",null,{"$f":"IF(B66=\"\",\"\",VLOOKUP(B66,学連登録!$C$2:$G$3000,2,FALSE))","v":""},{"$f":"IF(B66=\"\",\"\",VLOOKUP(B66,学連登録!$C$2:$G$3000,3,FALSE))","v":""},{"$f":"IF(B66=\"\",\"\",VLOOKUP(B66,学連登録!$C$2:$G$3000,4,FALSE))","v":""},"",null,null,null,null,null,null,null,null,null,null,null,null,null,null,null,{"$f":"IF(B66=\"\",\"\",VLOOKUP(B66,学連登録!$C$2:$H$3000,6,FALSE))","v":""},null,null,"",{"$f":"IF(G66=\"\",\"\",VLOOKUP(G66,種目名!$R$5:$T$104,3,0))","v":""},{"$f":"IF(J66=\"\",\"\",VLOOKUP(J66,種目名!$R$5:$T$104,3,0))","v":""},{"$f":"IF(M66=\"\",\"\",VLOOKUP(M66,種目名!$R$5:$T$104,3,0))","v":""},{"$f":"IF(P66=\"\",\"\",VLOOKUP(AF66,種目名!$R$5:$T$104,3,0))","v":""},{"$f":"IF(S66=\"\",\"\",VLOOKUP(AI66,種目名!$R$5:$T$104,3,0))","v":""},0,"","",0,"",""]
["",null,{"$f":"IF(B67=\"\",\"\",VLOOKUP(B67,学連登録!$C$2:$G$3000,2,FALSE))","v":""},{"$f":"IF(B67=\"\",\"\",VLOOKUP(B67,学連登録!$C$2:$G$3000,3,FALSE))","v":""},{"$f":"IF(B67=\"\",\"\",VLOOKUP(B67,学連登録!$C$2:$G$3000,4,FALSE))","v":""},"",null,null,null,null,null,null,null,null,null,null,null,null,null,null,null,{"$f":"IF(B67=\"\",\"\",VLOOKUP(B67,学連登録!$C$2:$H$3000,6,FALSE))","v":""},null,null,"",{"$f":"IF(G67=\"\",\"\",VLOOKUP(G67,種目名!$R$5:$T$104,3,0))","v":""},{"$f":"IF(J67=\"\",\"\",VLOOKUP(J67,種目名!$R$5:$T$104,3,0))","v":""},{"$f":"IF(M67=\"\",\"\",VLOOKUP(M67,種目名!$R$5:$T$104,3,0))","v":""},{"$f":"IF(P67=\"\",\"\",VLOOKUP(AF67,種目名!$R$5:$T$104,3,0))","v":""},{"$f":"IF(S67=\"\",\"\",VLOOKUP(AI67,種目名!$R$5:$T$104,3,0))","v":""},0,"","",0,"",""]
["",null,{"$f":"IF(B68=\"\",\"\",VLOOKUP(B68,学連登録!$C$2:$G$3000,2,FALSE))","v":""},{"$f":"IF(B68=\"\",\"\",VLOOKUP(B68,学連登録!$C$2:$G$3000,3,FALSE))","v":""},{"$f":"IF(B68=\"\",\"\",VLOOKUP(B68,学連登録!$C$2:$G$3000,4,FALSE))","v":""},"",null,null,null,null,null,null,null,null,null,null,null,null,null,null,null,{"$f":"IF(B68=\"\",\"\",VLOOKUP(B68,学連登録!$C$2:$H$3000,6,FALSE))","v":""},null,null,"",{"$f":"IF(G68=\"\",\"\",VLOOKUP(G68,種目名!$R$5:$T$104,3,0))","v":""},{"$f":"IF(J68=\"\",\"\",VLOOKUP(J68,種目名!$R$5:$T$104,3,0))","v":""},{"$f":"IF(M68=\"\",\"\",VLOOKUP(M68,種目名!$R$5:$T$104,3,0))","v":""},{"$f":"IF(P68=\"\",\"\",VLOOKUP(AF68,種目名!$R$5:$T$104,3,0))","v":""},{"$f":"IF(S68=\"\",\"\",VLOOKUP(AI68,種目名!$R$5:$T$104,3,0))","v":""},0,"","",0,"",""]
["",null,{"$f":"IF(B69=\"\",\"\",VLOOKUP(B69,学連登録!$C$2:$G$3000,2,FALSE))","v":""},{"$f":"IF(B69=\"\",\"\",VLOOKUP(B69,学連登録!$C$2:$G$3000,3,FALSE))","v":""},{"$f":"IF(B69=\"\",\"\",VLOOKUP(B69,学連登録!$C$2:$G$3000,4,FALSE))","v":""},"",null,null,null,null,null,null,null,null,null,null,null,null,null,null,null,{"$f":"IF(B69=\"\",\"\",VLOOKUP(B69,学連登録!$C$2:$H$3000,6,FALSE))","v":""},null,null,"",{"$f":"IF(G69=\"\",\"\",VLOOKUP(G69,種目名!$R$5:$T$104,3,0))","v":""},{"$f":"IF(J69=\"\",\"\",VLOOKUP(J69,種目名!$R$5:$T$104,3,0))","v":""},{"$f":"IF(M69=\"\",\"\",VLOOKUP(M69,種目名!$R$5:$T$104,3,0))","v":""},{"$f":"IF(P69=\"\",\"\",VLOOKUP(AF69,種目名!$R$5:$T$104,3,0))","v":""},{"$f":"IF(S69=\"\",\"\",VLOOKUP(AI69,種目名!$R$5:$T$104,3,0))","v":""},0,"","",0,"",""]
["",null,{"$f":"IF(B70=\"\",\"\",VLOOKUP(B70,学連登録!$C$2:$G$3000,2,FALSE))","v":""},{"$f":"IF(B70=\"\",\"\",VLOOKUP(B70,学連登録!$C$2:$G$3000,3,FALSE))","v":""},{"$f":"IF(B70=\"\",\"\",VLOOKUP(B70,学連登録!$C$2:$G$3000,4,FALSE))","v":""},"",null,null,null,null,null,null,null,null,null,null,null,null,null,null,null,{"$f":"IF(B70=\"\",\"\",VLOOKUP(B70,学連登録!$C$2:$H$3000,6,FALSE))","v":""},null,null,"",{"$f":"IF(G70=\"\",\"\",VLOOKUP(G70,種目名!$R$5:$T$104,3,0))","v":""},{"$f":"IF(J70=\"\",\"\",VLOOKUP(J70,種目名!$R$5:$T$104,3,0))","v":""},{"$f":"IF(M70=\"\",\"\",VLOOKUP(M70,種目名!$R$5:$T$104,3,0))","v":""},{"$f":"IF(P70=\"\",\"\",VLOOKUP(AF70,種目名!$R$5:$T$104,3,0))","v":""},{"$f":"IF(S70=\"\",\"\",VLOOKUP(AI70,種目名!$R$5:$T$104,3,0))","v":""},0,"","",0,"",""]
["",null,{"$f":"IF(B71=\"\",\"\",VLOOKUP(B71,学連登録!$C$2:$G$3000,2,FALSE))","v":""},{"$f":"IF(B71=\"\",\"\",VLOOKUP(B71,学連登録!$C$2:$G$3000,3,FALSE))","v":""},{"$f":"IF(B71=\"\",\"\",VLOOKUP(B71,学連登録!$C$2:$G$3000,4,FALSE))","v":""},"",null,null,null,null,null,null,null,null,null,null,null,null,null,null,null,{"$f":"IF(B71=\"\",\"\",VLOOKUP(B71,学連登録!$C$2:$H$3000,6,FALSE))","v":""},null,null,"",{"$f":"IF(G71=\"\",\"\",VLOOKUP(G71,種目名!$R$5:$T$104,3,0))","v":""},{"$f":"IF(J71=\"\",\"\",VLOOKUP(J71,種目名!$R$5:$T$104,3,0))","v":""},{"$f":"IF(M71=\"\",\"\",VLOOKUP(M71,種目名!$R$5:$T$104,3,0))","v":""},{"$f":"IF(P71=\"\",\"\",VLOOKUP(AF71,種目名!$R$5:$T$104,3,0))","v":""},{"$f":"IF(S71=\"\",\"\",VLOOKUP(AI71,種目名!$R$5:$T$104,3,0))","v":""},0,"","",0,"",""]
["",null,{"$f":"IF(B72=\"\",\"\",VLOOKUP(B72,学連登録!$C$2:$G$3000,2,FALSE))","v":""},{"$f":"IF(B72=\"\",\"\",VLOOKUP(B72,学連登録!$C$2:$G$3000,3,FALSE))","v":""},{"$f":"IF(B72=\"\",\"\",VLOOKUP(B72,学連登録!$C$2:$G$3000,4,FALSE))","v":""},"",null,null,null,null,null,null,null,null,null,null,null,null,null,null,null,{"$f":"IF(B72=\"\",\"\",VLOOKUP(B72,学連登録!$C$2:$H$3000,6,FALSE))","v":""},null,null,"",{"$f":"IF(G72=\"\",\"\",VLOOKUP(G72,種目名!$R$5:$T$104,3,0))","v":""},{"$f":"IF(J72=\"\",\"\",VLOOKUP(J72,種目名!$R$5:$T$104,3,0))","v":""},{"$f":"IF(M72=\"\",\"\",VLOOKUP(M72,種目名!$R$5:$T$104,3,0))","v":""},{"$f":"IF(P72=\"\",\"\",VLOOKUP(AF72,種目名!$R$5:$T$104,3,0))","v":""},{"$f":"IF(S72=\"\",\"\",VLOOKUP(AI72,種目名!$R$5:$T$104,3,0))","v":""},0,"","",0,"",""]
["",null,{"$f":"IF(B73=\"\",\"\",VLOOKUP(B73,学連登録!$C$2:$G$3000,2,FALSE))","v":""},{"$f":"IF(B73=\"\",\"\",VLOOKUP(B73,学連登録!$C$2:$G$3000,3,FALSE))","v":""},{"$f":"IF(B73=\"\",\"\",VLOOKUP(B73,学連登録!$C$2:$G$3000,4,FALSE))","v":""},"",null,null,null,null,null,null,null,null,null,null,null,null,null,null,null,{"$f":"IF(B73=\"\",\"\",VLOOKUP(B73,学連登録!$C$2:$H$3000,6,FALSE))","v":""},null,null,"",{"$f":"IF(G73=\"\",\"\",VLOOKUP(G73,種目名!$R$5:$T$104,3,0))","v":""},{"$f":"IF(J73=\"\",\"\",VLOOKUP(J73,種目名!$R$5:$T$104,3,0))","v":""},{"$f":"IF(M73=\"\",\"\",VLOOKUP(M73,種目名!$R$5:$T$104,3,0))","v":""},{"$f":"IF(P73=\"\",\"\",VLOOKUP(AF73,種目名!$R$5:$T$104,3,0))","v":""},{"$f":"IF(S73=\"\",\"\",VLOOKUP(AI73,種目名!$R$5:$T$104,3,0))","v":""},0,"","",0,"",""]
["",null,{"$f":"IF(B74=\"\",\"\",VLOOKUP(B74,学連登録!$C$2:$G$3000,2,FALSE))","v":""},{"$f":"IF(B74=\"\",\"\",VLOOKUP(B74,学連登録!$C$2:$G$3000,3,FALSE))","v":""},{"$f":"IF(B74=\"\",\"\",VLOOKUP(B74,学連登録!$C$2:$G$3000,4,FALSE))","v":""},"",null,null,null,null,null,null,null,null,null,null,null,null,null,null,null,{"$f":"IF(B74=\"\",\"\",VLOOKUP(B74,学連登録!$C$2:$H$3000,6,FALSE))","v":""},null,null,"",{"$f":"IF(G74=\"\",\"\",VLOOKUP(G74,種目名!$R$5:$T$104,3,0))","v":""},{"$f":"IF(J74=\"\",\"\",VLOOKUP(J74,種目名!$R$5:$T$104,3,0))","v":""},{"$f":"IF(M74=\"\",\"\",VLOOKUP(M74,種目名!$R$5:$T$104,3,0))","v":""},{"$f":"IF(P74=\"\",\"\",VLOOKUP(AF74,種目名!$R$5:$T$104,3,0))","v":""},{"$f":"IF(S74=\"\",\"\",VLOOKUP(AI74,種目名!$R$5:$T$104,3,0))","v":""},0,"","",0,"",""]
["",null,{"$f":"IF(B75=\"\",\"\",VLOOKUP(B75,学連登録!$C$2:$G$3000,2,FALSE))","v":""},{"$f":"IF(B75=\"\",\"\",VLOOKUP(B75,学連登録!$C$2:$G$3000,3,FALSE))","v":""},{"$f":"IF(B75=\"\",\"\",VLOOKUP(B75,学連登録!$C$2:$G$3000,4,FALSE))","v":""},"",null,null,null,null,null,null,null,null,null,null,null,null,null,null,null,{"$f":"IF(B75=\"\",\"\",VLOOKUP(B75,学連登録!$C$2:$H$3000,6,FALSE))","v":""},null,null,"",{"$f":"IF(G75=\"\",\"\",VLOOKUP(G75,種目名!$R$5:$T$104,3,0))","v":""},{"$f":"IF(J75=\"\",\"\",VLOOKUP(J75,種目名!$R$5:$T$104,3,0))","v":""},{"$f":"IF(M75=\"\",\"\",VLOOKUP(M75,種目名!$R$5:$T$104,3,0))","v":""},{"$f":"IF(P75=\"\",\"\",VLOOKUP(AF75,種目名!$R$5:$T$104,3,0))","v":""},{"$f":"IF(S75=\"\",\"\",VLOOKUP(AI75,種目名!$R$5:$T$104,3,0))","v":""},0,"","",0,"",""]
["",null,{"$f":"IF(B76=\"\",\"\",VLOOKUP(B76,学連登録!$C$2:$G$3000,2,FALSE))","v":""},{"$f":"IF(B76=\"\",\"\",VLOOKUP(B76,学連登録!$C$2:$G$3000,3,FALSE))","v":""},{"$f":"IF(B76=\"\",\"\",VLOOKUP(B76,学連登録!$C$2:$G$3000,4,FALSE))","v":""},"",null,null,null,null,null,null,null,null,null,null,null,null,null,null,null,{"$f":"IF(B76=\"\",\"\",VLOOKUP(B76,学連登録!$C$2:$H$3000,6,FALSE))","v":""},null,null,{"$f":"IF(C76=\"\",\"\",$S$3)","v":""},{"$f":"IF(G76=\"\",\"\",VLOOKUP(G76,種目名!$R$5:$T$104,3,0))","v":""},{"$f":"IF(J76=\"\",\"\",VLOOKUP(J76,種目名!$R$5:$T$104,3,0))","v":""},{"$f":"IF(M76=\"\",\"\",VLOOKUP(M76,種目名!$R$5:$T$104,3,0))","v":""},{"$f":"IF(P76=\"\",\"\",VLOOKUP(AF76,種目名!$R$5:$T$104,3,0))","v":""},{"$f":"IF(S76=\"\",\"\",VLOOKUP(AI76,種目名!$R$5:$T$104,3,0))","v":""},{"$f":"LENB(P76)","v":0},{"$f":"IF(AE76,LEFTB(P76,AE76-1),\"\")","v":""},{"$f":"IF(AE76,MIDB(P76,AE76,1),\"\")","v":""},{"$f":"LENB(S76)","v":0},{"$f":"IF(AH76,LEFTB(S76,AH76-1),\"\")","v":""},{"$f":"IF(AH76,MIDB(S76,AH76,1),\"\")","v":""}]
["",null,{"$f":"IF(B77=\"\",\"\",VLOOKUP(B77,学連登録!$C$2:$G$3000,2,FALSE))","v":""},{"$f":"IF(B77=\"\",\"\",VLOOKUP(B77,学連登録!$C$2:$G$3000,3,FALSE))","v":""},{"$f":"IF(B77=\"\",\"\",VLOOKUP(B77,学連登録!$C$2:$G$3000,4,FALSE))","v":""},{"$f":"IF(C77=\"\",\"\",$P$1)","v":""},null,null,null,null,null,null,null,null,null,null,null,null,null,null,null,{"$f":"IF(B77=\"\",\"\",VLOOKUP(B77,学連登録!$C$2:$H$3000,6,FALSE))","v":""},null,null,"",{"$f":"IF(G77=\"\",\"\",VLOOKUP(G77,種目名!$R$5:$T$104,3,0))","v":""},{"$f":"IF(J77=\"\",\"\",VLOOKUP(J77,種目名!$R$5:$T$104,3,0))","v":""},{"$f":"IF(M77=\"\",\"\",VLOOKUP(M77,種目名!$R$5:$T$104,3,0))","v":""},{"$f":"IF(P77=\"\",\"\",VLOOKUP(AF77,種目名!$R$5:$T$104,3,0))","v":""},{"$f":"IF(S77=\"\",\"\",VLOOKUP(AI77,種目名!$R$5:$T$104,3,0))","v":""},0,"","",0,"",""]
["",null,{"$f":"IF(B78=\"\",\"\",VLOOKUP(B78,学連登録!$C$2:$G$3000,2,FALSE))","v":""},{"$f":"IF(B78=\"\",\"\",VLOOKUP(B78,学連登録!$C$2:$G$3000,3,FALSE))","v":""},{"$f":"IF(B78=\"\",\"\",VLOOKUP(B78,学連登録!$C$2:$G$3000,4,FALSE))","v":""},"",null,null,null,null,null,null,null,null,null,null,null,null,null,null,null,{"$f":"IF(B78=\"\",\"\",VLOOKUP(B78,学連登録!$C$2:$H$3000,6,FALSE))","v":""},null,null,"",{"$f":"IF(G78=\"\",\"\",VLOOKUP(G78,種目名!$R$5:$T$104,3,0))","v":""},{"$f":"IF(J78=\"\",\"\",VLOOKUP(J78,種目名!$R$5:$T$104,3,0))","v":""},{"$f":"IF(M78=\"\",\"\",VLOOKUP(M78,種目名!$R$5:$T$104,3,0))","v":""},{"$f":"IF(P78=\"\",\"\",VLOOKUP(AF78,種目名!$R$5:$T$104,3,0))","v":""},{"$f":"IF(S78=\"\",\"\",VLOOKUP(AI78,種目名!$R$5:$T$104,3,0))","v":""},0,"","",0,"",""]
["",null,{"$f":"IF(B79=\"\",\"\",VLOOKUP(B79,学連登録!$C$2:$G$3000,2,FALSE))","v":""},{"$f":"IF(B79=\"\",\"\",VLOOKUP(B79,学連登録!$C$2:$G$3000,3,FALSE))","v":""},{"$f":"IF(B79=\"\",\"\",VLOOKUP(B79,学連登録!$C$2:$G$3000,4,FALSE))","v":""},"",null,null,null,null,null,null,null,null,null,null,null,null,null,null,null,{"$f":"IF(B79=\"\",\"\",VLOOKUP(B79,学連登録!$C$2:$H$3000,6,FALSE))","v":""},null,null,"",{"$f":"IF(G79=\"\",\"\",VLOOKUP(G79,種目名!$R$5:$T$104,3,0))","v":""},{"$f":"IF(J79=\"\",\"\",VLOOKUP(J79,種目名!$R$5:$T$104,3,0))","v":""},{"$f":"IF(M79=\"\",\"\",VLOOKUP(M79,種目名!$R$5:$T$104,3,0))","v":""},{"$f":"IF(P79=\"\",\"\",VLOOKUP(AF79,種目名!$R$5:$T$104,3,0))","v":""},{"$f":"IF(S79=\"\",\"\",VLOOKUP(AI79,種目名!$R$5:$T$104,3,0))","v":""},0,"","",0,"",""]
["",null,{"$f":"IF(B80=\"\",\"\",VLOOKUP(B80,学連登録!$C$2:$G$3000,2,FALSE))","v":""},{"$f":"IF(B80=\"\",\"\",VLOOKUP(B80,学連登録!$C$2:$G$3000,3,FALSE))","v":""},{"$f":"IF(B80=\"\",\"\",VLOOKUP(B80,学連登録!$C$2:$G$3000,4,FALSE))","v":""},"",null,null,null,null,null,null,null,null,null,null,null,null,null,null,null,{"$f":"IF(B80=\"\",\"\",VLOOKUP(B80,学連登録!$C$2:$H$3000,6,FALSE))","v":""},null,null,"",{"$f":"IF(G80=\"\",\"\",VLOOKUP(G80,種目名!$R$5:$T$104,3,0))","v":""},{"$f":"IF(J80=\"\",\"\",VLOOKUP(J80,種目名!$R$5:$T$104,3,0))","v":""},{"$f":"IF(M80=\"\",\"\",VLOOKUP(M80,種目名!$R$5:$T$104,3,0))","v":""},{"$f":"IF(P80=\"\",\"\",VLOOKUP(AF80,種目名!$R$5:$T$104,3,0))","v":""},{"$f":"IF(S80=\"\",\"\",VLOOKUP(AI80,種目名!$R$5:$T$104,3,0))","v":""},0,"","",0,"",""]
["",null,{"$f":"IF(B81=\"\",\"\",VLOOKUP(B81,学連登録!$C$2:$G$3000,2,FALSE))","v":""},{"$f":"IF(B81=\"\",\"\",VLOOKUP(B81,学連登録!$C$2:$G$3000,3,FALSE))","v":""},{"$f":"IF(B81=\"\",\"\",VLOOKUP(B81,学連登録!$C$2:$G$3000,4,FALSE))","v":""},"",null,null,null,null,null,null,null,null,null,null,null,null,null,null,null,{"$f":"IF(B81=\"\",\"\",VLOOKUP(B81,学連登録!$C$2:$H$3000,6,FALSE))","v":""},null,null,"",{"$f":"IF(G81=\"\",\"\",VLOOKUP(G81,種目名!$R$5:$T$104,3,0))","v":""},{"$f":"IF(J81=\"\",\"\",VLOOKUP(J81,種目名!$R$5:$T$104,3,0))","v":""},{"$f":"IF(M81=\"\",\"\",VLOOKUP(M81,種目名!$R$5:$T$104,3,0))","v":""},{"$f":"IF(P81=\"\",\"\",VLOOKUP(AF81,種目名!$R$5:$T$104,3,0))","v":""},{"$f":"IF(S81=\"\",\"\",VLOOKUP(AI81,種目名!$R$5:$T$104,3,0))","v":""},0,"","",0,"",""]
["",null,{"$f":"IF(B82=\"\",\"\",VLOOKUP(B82,学連登録!$C$2:$G$3000,2,FALSE))","v":""},{"$f":"IF(B82=\"\",\"\",VLOOKUP(B82,学連登録!$C$2:$G$3000,3,FALSE))","v":""},{"$f":"IF(B82=\"\",\"\",VLOOKUP(B82,学連登録!$C$2:$G$3000,4,FALSE))","v":""},"",null,null,null,null,null,null,null,null,null,null,null,null,null,null,null,{"$f":"IF(B82=\"\",\"\",VLOOKUP(B82,学連登録!$C$2:$H$3000,6,FALSE))","v":""},null,null,"",{"$f":"IF(G82=\"\",\"\",VLOOKUP(G82,種目名!$R$5:$T$104,3,0))","v":""},{"$f":"IF(J82=\"\",\"\",VLOOKUP(J82,種目名!$R$5:$T$104,3,0))","v":""},{"$f":"IF(M82=\"\",\"\",VLOOKUP(M82,種目名!$R$5:$T$104,3,0))","v":""},{"$f":"IF(P82=\"\",\"\",VLOOKUP(AF82,種目名!$R$5:$T$104,3,0))","v":""},{"$f":"IF(S82=\"\",\"\",VLOOKUP(AI82,種目名!$R$5:$T$104,3,0))","v":""},0,"","",0,"",""]
["",null,{"$f":"IF(B83=\"\",\"\",VLOOKUP(B83,学連登録!$C$2:$G$3000,2,FALSE))","v":""},{"$f":"IF(B83=\"\",\"\",VLOOKUP(B83,学連登録!$C$2:$G$3000,3,FALSE))","v":""},{"$f":"IF(B83=\"\",\"\",VLOOKUP(B83,学連登録!$C$2:$G$3000,4,FALSE))","v":""},"",null,null,null,null,null,null,null,null,null,null,null,null,null,null,null,{"$f":"IF(B83=\"\",\"\",VLOOKUP(B83,学連登録!$C$2:$H$3000,6,FALSE))","v":""},null,null,"",{"$f":"IF(G83=\"\",\"\",VLOOKUP(G83,種目名!$R$5:$T$104,3,0))","v":""},{"$f":"IF(J83=\"\",\"\",VLOOKUP(J83,種目名!$R$5:$T$104,3,0))","v":""},{"$f":"IF(M83=\"\",\"\",VLOOKUP(M83,種目名!$R$5:$T$104,3,0))","v":""},{"$f":"IF(P83=\"\",\"\",VLOOKUP(AF83,種目名!$R$5:$T$104,3,0))","v":""},{"$f":"IF(S83=\"\",\"\",VLOOKUP(AI83,種目名!$R$5:$T$104,3,0))","v":""},0,"","",0,"",""]
["以下は女子5000mOPにエントリーする選手の入力欄となります。"]
["番 号","ナンバー","選　手　名","ﾌﾘｶﾞﾅ","学年","学校名","１　種　目","記　録",null,null,null,null,null,null,null,null,null,null,null,null,null,"登録陸協"]
[{"$f":"IF(C86=\"\",\"\",1)","v":""},null,{"$f":"IF(B86=\"\",\"\",VLOOKUP(B86,学連登録!$C$2:$G$3000,2,FALSE))","v":""},{"$f":"IF(B86=\"\",\"\",VLOOKUP(B86,学連登録!$C$2:$G$3000,3,FALSE))","v":""},{"$f":"IF(B86=\"\",\"\",VLOOKUP(B86,学連登録!$C$2:$G$3000,4,FALSE))","v":""},"",null,null,null,null,null,null,null,null,null,null,null,null,null,null,null,{"$f":"IF(B86=\"\",\"\",VLOOKUP(B86,学連登録!$C$2:$H$3000,6,FALSE))","v":""},null,null,{"$f":"IF(C86=\"\",\"\",$S$3)","v":""},{"$f":"IF(G86=\"\",\"\",VLOOKUP(G86,種目名!$R$5:$T$104,3,0))","v":""},{"$f":"IF(J86=\"\",\"\",VLOOKUP(J86,種目名!$R$5:$T$104,3,0))","v":""},{"$f":"IF(M86=\"\",\"\",VLOOKUP(M86,種目名!$R$5:$T$104,3,0))","v":""},{"$f":"IF(P86=\"\",\"\",VLOOKUP(AF86,種目名!$R$5:$T$104,3,0))","v":""},{"$f":"IF(S86=\"\",\"\",VLOOKUP(AI86,種目名!$R$5:$T$104,3,0))","v":""},{"$f":"LENB(P86)","v":0},{"$f":"IF(AE86,LEFTB(P86,AE86-1),\"\")","v":""},{"$f":"IF(AE86,MIDB(P86,AE86,1),\"\")","v":""},{"$f":"LENB(S86)","v":0},{"$f":"IF(AH86,LEFTB(S86,AH86-1),\"\")","v":""},{"$f":"IF(AH86,MIDB(S86,AH86,1),\"\")","v":""}]
[{"$f":"IF(C87=\"\",\"\",A86+1)","v":""},null,{"$f":"IF(B87=\"\",\"\",VLOOKUP(B87,学連登録!$C$2:$G$3000,2,FALSE))","v":""},{"$f":"IF(B87=\"\",\"\",VLOOKUP(B87,学連登録!$C$2:$G$3000,3,FALSE))","v":""},{"$f":"IF(B87=\"\",\"\",VLOOKUP(B87,学連登録!$C$2:$G$3000,4,FALSE))","v":""},"",null,null,null,null,null,null,null,null,null,null,null,null,null,null,null,{"$f":"IF(B87=\"\",\"\",VLOOKUP(B87,学連登録!$C$2:$H$3000,6,FALSE))","v":""},null,null,"",{"$f":"IF(G87=\"\",\"\",VLOOKUP(G87,種目名!$R$5:$T$104,3,0))","v":""},{"$f":"IF(J87=\"\",\"\",VLOOKUP(J87,種目名!$R$5:$T$104,3,0))","v":""},{"$f":"IF(M87=\"\",\"\",VLOOKUP(M87,種目名!$R$5:$T$104,3,0))","v":""},{"$f":"IF(P87=\"\",\"\",VLOOKUP(AF87,種目名!$R$5:$T$104,3,0))","v":""},{"$f":"IF(S87=\"\",\"\",VLOOKUP(AI87,種目名!$R$5:$T$104,3,0))","v":""},0,"","",0,"",""]
[{"$f":"IF(C88=\"\",\"\",A87+1)","v":""},null,{"$f":"IF(B88=\"\",\"\",VLOOKUP(B88,学連登録!$C$2:$G$3000,2,FALSE))","v":""},{"$f":"IF(B88=\"\",\"\",VLOOKUP(B88,学連登録!$C$2:$G$3000,3,FALSE))","v":""},{"$f":"IF(B88=\"\",\"\",VLOOKUP(B88,学連登録!$C$2:$G$3000,4,FALSE))","v":""},"",null,null,null,null,null,null,null,null,null,null,null,null,null,null,null,{"$f":"IF(B88=\"\",\"\",VLOOKUP(B88,学連登録!$C$2:$H$3000,6,FALSE))","v":""},null,null,"",{"$f":"IF(G88=\"\",\"\",VLOOKUP(G88,種目名!$R$5:$T$104,3,0))","v":""},{"$f":"IF(J88=\"\",\"\",VLOOKUP(J88,種目名!$R$5:$T$104,3,0))","v":""},{"$f":"IF(M88=\"\",\"\",VLOOKUP(M88,種目名!$R$5:$T$104,3,0))","v":""},{"$f":"IF(P88=\"\",\"\",VLOOKUP(AF88,種目名!$R$5:$T$104,3,0))","v":""},{"$f":"IF(S88=\"\",\"\",VLOOKUP(AI88,種目名!$R$5:$T$104,3,0))","v":""},0,"","",0,"",""]
["",null,{"$f":"IF(B89=\"\",\"\",VLOOKUP(B89,学連登録!$C$2:$G$3000,2,FALSE))","v":""},{"$f":"IF(B89=\"\",\"\",VLOOKUP(B89,学連登録!$C$2:$G$3000,3,FALSE))","v":""},{"$f":"IF(B89=\"\",\"\",VLOOKUP(B89,学連登録!$C$2:$G$3000,4,FALSE))","v":""},"",null,null,null,null,null,null,null,null,null,null,null,null,null,null,null,{"$f":"IF(B89=\"\",\"\",VLOOKUP(B89,学連登録!$C$2:$H$3000,6,FALSE))","v":""},null,null,"",{"$f":"IF(G89=\"\",\"\",VLOOKUP(G89,種目名!$R$5:$T$104,3,0))","v":""},{"$f":"IF(J89=\"\",\"\",VLOOKUP(J89,種目名!$R$5:$T$104,3,0))","v":""},{"$f":"IF(M89=\"\",\"\",VLOOKUP(M89,種目名!$R$5:$T$104,3,0))","v":""},{"$f":"IF(P89=\"\",\"\",VLOOKUP(AF89,種目名!$R$5:$T$104,3,0))","v":""},{"$f":"IF(S89=\"\",\"\",VLOOKUP(AI89,種目名!$R$5:$T$104,3,0))","v":""},0,"","",0,"",""]
["",null,{"$f":"IF(B90=\"\",\"\",VLOOKUP(B90,学連登録!$C$2:$G$3000,2,FALSE))","v":""},{"$f":"IF(B90=\"\",\"\",VLOOKUP(B90,学連登録!$C$2:$G$3000,3,FALSE))","v":""},{"$f":"IF(B90=\"\",\"\",VLOOKUP(B90,学連登録!$C$2:$G$3000,4,FALSE))","v":""},"",null,null,null,null,null,null,null,null,null,null,null,null,null,null,null,{"$f":"IF(B90=\"\",\"\",VLOOKUP(B90,学連登録!$C$2:$H$3000,6,FALSE))","v":""},null,null,"",{"$f":"IF(G90=\"\",\"\",VLOOKUP(G90,種目名!$R$5:$T$104,3,0))","v":""},{"$f":"IF(J90=\"\",\"\",VLOOKUP(J90,種目名!$R$5:$T$104,3,0))","v":""},{"$f":"IF(M90=\"\",\"\",VLOOKUP(M90,種目名!$R$5:$T$104,3,0))","v":""},{"$f":"IF(P90=\"\",\"\",VLOOKUP(AF90,種目名!$R$5:$T$104,3,0))","v":""},{"$f":"IF(S90=\"\",\"\",VLOOKUP(AI90,種目名!$R$5:$T$104,3,0))","v":""},0,"","",0,"",""]
["",null,{"$f":"IF(B91=\"\",\"\",VLOOKUP(B91,学連登録!$C$2:$G$3000,2,FALSE))","v":""},{"$f":"IF(B91=\"\",\"\",VLOOKUP(B91,学連登録!$C$2:$G$3000,3,FALSE))","v":""},{"$f":"IF(B91=\"\",\"\",VLOOKUP(B91,学連登録!$C$2:$G$3000,4,FALSE))","v":""},"",null,null,null,null,null,null,null,null,null,null,null,null,null,null,null,{"$f":"IF(B91=\"\",\"\",VLOOKUP(B91,学連登録!$C$2:$H$3000,6,FALSE))","v":""},null,null,"",{"$f":"IF(G91=\"\",\"\",VLOOKUP(G91,種目名!$R$5:$T$104,3,0))","v":""},{"$f":"IF(J91=\"\",\"\",VLOOKUP(J91,種目名!$R$5:$T$104,3,0))","v":""},{"$f":"IF(M91=\"\",\"\",VLOOKUP(M91,種目名!$R$5:$T$104,3,0))","v":""},{"$f":"IF(P91=\"\",\"\",VLOOKUP(AF91,種目名!$R$5:$T$104,3,0))","v":""},{"$f":"IF(S91=\"\",\"\",VLOOKUP(AI91,種目名!$R$5:$T$104,3,0))","v":""},0,"","",0,"",""]
["",null,{"$f":"IF(B92=\"\",\"\",VLOOKUP(B92,学連登録!$C$2:$G$3000,2,FALSE))","v":""},{"$f":"IF(B92=\"\",\"\",VLOOKUP(B92,学連登録!$C$2:$G$3000,3,FALSE))","v":""},{"$f":"IF(B92=\"\",\"\",VLOOKUP(B92,学連登録!$C$2:$G$3000,4,FALSE))","v":""},"",null,null,null,null,null,null,null,null,null,null,null,null,null,null,null,{"$f":"IF(B92=\"\",\"\",VLOOKUP(B92,学連登録!$C$2:$H$3000,6,FALSE))","v":""},null,null,"",{"$f":"IF(G92=\"\",\"\",VLOOKUP(G92,種目名!$R$5:$T$104,3,0))","v":""},{"$f":"IF(J92=\"\",\"\",VLOOKUP(J92,種目名!$R$5:$T$104,3,0))","v":""},{"$f":"IF(M92=\"\",\"\",VLOOKUP(M92,種目名!$R$5:$T$104,3,0))","v":""},{"$f":"IF(P92=\"\",\"\",VLOOKUP(AF92,種目名!$R$5:$T$104,3,0))","v":""},{"$f":"IF(S92=\"\",\"\",VLOOKUP(AI92,種目名!$R$5:$T$104,3,0))","v":""},0,"","",0,"",""]
["",null,{"$f":"IF(B93=\"\",\"\",VLOOKUP(B93,学連登録!$C$2:$G$3000,2,FALSE))","v":""},{"$f":"IF(B93=\"\",\"\",VLOOKUP(B93,学連登録!$C$2:$G$3000,3,FALSE))","v":""},{"$f":"IF(B93=\"\",\"\",VLOOKUP(B93,学連登録!$C$2:$G$3000,4,FALSE))","v":""},"",null,null,null,null,null,null,null,null,null,null,null,null,null,null,null,{"$f":"IF(B93=\"\",\"\",VLOOKUP(B93,学連登録!$C$2:$H$3000,6,FALSE))","v":""},null,null,"",{"$f":"IF(G93=\"\",\"\",VLOOKUP(G93,種目名!$R$5:$T$104,3,0))","v":""},{"$f":"IF(J93=\"\",\"\",VLOOKUP(J93,種目名!$R$5:$T$104,3,0))","v":""},{"$f":"IF(M93=\"\",\"\",VLOOKUP(M93,種目名!$R$5:$T$104,3,0))","v":""},{"$f":"IF(P93=\"\",\"\",VLOOKUP(AF93,種目名!$R$5:$T$104,3,0))","v":""},{"$f":"IF(S93=\"\",\"\",VLOOKUP(AI93,種目名!$R$5:$T$104,3,0))","v":""},0,"","",0,"",""]
["",null,{"$f":"IF(B94=\"\",\"\",VLOOKUP(B94,学連登録!$C$2:$G$3000,2,FALSE))","v":""},{"$f":"IF(B94=\"\",\"\",VLOOKUP(B94,学連登録!$C$2:$G$3000,3,FALSE))","v":""},{"$f":"IF(B94=\"\",\"\",VLOOKUP(B94,学連登録!$C$2:$G$3000,4,FALSE))","v":""},"",null,null,null,null,null,null,null,null,null,null,null,null,null,null,null,{"$f":"IF(B94=\"\",\"\",VLOOKUP(B94,学連登録!$C$2:$H$3000,6,FALSE))","v":""},null,null,"",{"$f":"IF(G94=\"\",\"\",VLOOKUP(G94,種目名!$R$5:$T$104,3,0))","v":""},{"$f":"IF(J94=\"\",\"\",VLOOKUP(J94,種目名!$R$5:$T$104,3,0))","v":""},{"$f":"IF(M94=\"\",\"\",VLOOKUP(M94,種目名!$R$5:$T$104,3,0))","v":""},{"$f":"IF(P94=\"\",\"\",VLOOKUP(AF94,種目名!$R$5:$T$104,3,0))","v":""},{"$f":"IF(S94=\"\",\"\",VLOOKUP(AI94,種目名!$R$5:$T$104,3,0))","v":""},0,"","",0,"",""]
["",null,{"$f":"IF(B95=\"\",\"\",VLOOKUP(B95,学連登録!$C$2:$G$3000,2,FALSE))","v":""},{"$f":"IF(B95=\"\",\"\",VLOOKUP(B95,学連登録!$C$2:$G$3000,3,FALSE))","v":""},{"$f":"IF(B95=\"\",\"\",VLOOKUP(B95,学連登録!$C$2:$G$3000,4,FALSE))","v":""},"",null,null,null,null,null,null,null,null,null,null,null,null,null,null,null,{"$f":"IF(B95=\"\",\"\",VLOOKUP(B95,学連登録!$C$2:$H$3000,6,FALSE))","v":""},null,null,"",{"$f":"IF(G95=\"\",\"\",VLOOKUP(G95,種目名!$R$5:$T$104,3,0))","v":""},{"$f":"IF(J95=\"\",\"\",VLOOKUP(J95,種目名!$R$5:$T$104,3,0))","v":""},{"$f":"IF(M95=\"\",\"\",VLOOKUP(M95,種目名!$R$5:$T$104,3,0))","v":""},{"$f":"IF(P95=\"\",\"\",VLOOKUP(AF95,種目名!$R$5:$T$104,3,0))","v":""},{"$f":"IF(S95=\"\",\"\",VLOOKUP(AI95,種目名!$R$5:$T$104,3,0))","v":""},0,"","",0,"",""]
["",null,{"$f":"IF(B96=\"\",\"\",VLOOKUP(B96,学連登録!$C$2:$G$3000,2,FALSE))","v":""},{"$f":"IF(B96=\"\",\"\",VLOOKUP(B96,学連登録!$C$2:$G$3000,3,FALSE))","v":""},{"$f":"IF(B96=\"\",\"\",VLOOKUP(B96,学連登録!$C$2:$G$3000,4,FALSE))","v":""},"",null,null,null,null,null,null,null,null,null,null,null,null,null,null,null,{"$f":"IF(B96=\"\",\"\",VLOOKUP(B96,学連登録!$C$2:$H$3000,6,FALSE))","v":""},null,null,"",{"$f":"IF(G96=\"\",\"\",VLOOKUP(G96,種目名!$R$5:$T$104,3,0))","v":""},{"$f":"IF(J96=\"\",\"\",VLOOKUP(J96,種目名!$R$5:$T$104,3,0))","v":""},{"$f":"IF(M96=\"\",\"\",VLOOKUP(M96,種目名!$R$5:$T$104,3,0))","v":""},{"$f":"IF(P96=\"\",\"\",VLOOKUP(AF96,種目名!$R$5:$T$104,3,0))","v":""},{"$f":"IF(S96=\"\",\"\",VLOOKUP(AI96,種目名!$R$5:$T$104,3,0))","v":""},0,"","",0,"",""]
["",null,{"$f":"IF(B97=\"\",\"\",VLOOKUP(B97,学連登録!$C$2:$G$3000,2,FALSE))","v":""},{"$f":"IF(B97=\"\",\"\",VLOOKUP(B97,学連登録!$C$2:$G$3000,3,FALSE))","v":""},{"$f":"IF(B97=\"\",\"\",VLOOKUP(B97,学連登録!$C$2:$G$3000,4,FALSE))","v":""},"",null,null,null,null,null,null,null,null,null,null,null,null,null,null,null,{"$f":"IF(B97=\"\",\"\",VLOOKUP(B97,学連登録!$C$2:$H$3000,6,FALSE))","v":""},null,null,"",{"$f":"IF(G97=\"\",\"\",VLOOKUP(G97,種目名!$R$5:$T$104,3,0))","v":""},{"$f":"IF(J97=\"\",\"\",VLOOKUP(J97,種目名!$R$5:$T$104,3,0))","v":""},{"$f":"IF(M97=\"\",\"\",VLOOKUP(M97,種目名!$R$5:$T$104,3,0))","v":""},{"$f":"IF(P97=\"\",\"\",VLOOKUP(AF97,種目名!$R$5:$T$104,3,0))","v":""},{"$f":"IF(S97=\"\",\"\",VLOOKUP(AI97,種目名!$R$5:$T$104,3,0))","v":""},0,"","",0,"",""]
["",null,{"$f":"IF(B98=\"\",\"\",VLOOKUP(B98,学連登録!$C$2:$G$3000,2,FALSE))","v":""},{"$f":"IF(B98=\"\",\"\",VLOOKUP(B98,学連登録!$C$2:$G$3000,3,FALSE))","v":""},{"$f":"IF(B98=\"\",\"\",VLOOKUP(B98,学連登録!$C$2:$G$3000,4,FALSE))","v":""},"",null,null,null,null,null,null,null,null,null,null,null,null,null,null,null,{"$f":"IF(B98=\"\",\"\",VLOOKUP(B98,学連登録!$C$2:$H$3000,6,FALSE))","v":""},null,null,"",{"$f":"IF(G98=\"\",\"\",VLOOKUP(G98,種目名!$R$5:$T$104,3,0))","v":""},{"$f":"IF(J98=\"\",\"\",VLOOKUP(J98,種目名!$R$5:$T$104,3,0))","v":""},{"$f":"IF(M98=\"\",\"\",VLOOKUP(M98,種目名!$R$5:$T$104,3,0))","v":""},{"$f":"IF(P98=\"\",\"\",VLOOKUP(AF98,種目名!$R$5:$T$104,3,0))","v":""},{"$f":"IF(S98=\"\",\"\",VLOOKUP(AI98,種目名!$R$5:$T$104,3,0))","v":""},0,"","",0,"",""]
["",null,{"$f":"IF(B99=\"\",\"\",VLOOKUP(B99,学連登録!$C$2:$G$3000,2,FALSE))","v":""},{"$f":"IF(B99=\"\",\"\",VLOOKUP(B99,学連登録!$C$2:$G$3000,3,FALSE))","v":""},{"$f":"IF(B99=\"\",\"\",VLOOKUP(B99,学連登録!$C$2:$G$3000,4,FALSE))","v":""},"",null,null,null,null,null,null,null,null,null,null,null,null,null,null,null,{"$f":"IF(B99=\"\",\"\",VLOOKUP(B99,学連登録!$C$2:$H$3000,6,FALSE))","v":""},null,null,"",{"$f":"IF(G99=\"\",\"\",VLOOKUP(G99,種目名!$R$5:$T$104,3,0))","v":""},{"$f":"IF(J99=\"\",\"\",VLOOKUP(J99,種目名!$R$5:$T$104,3,0))","v":""},{"$f":"IF(M99=\"\",\"\",VLOOKUP(M99,種目名!$R$5:$T$104,3,0))","v":""},{"$f":"IF(P99=\"\",\"\",VLOOKUP(AF99,種目名!$R$5:$T$104,3,0))","v":""},{"$f":"IF(S99=\"\",\"\",VLOOKUP(AI99,種目名!$R$5:$T$104,3,0))","v":""},0,"","",0,"",""]
["",null,{"$f":"IF(B100=\"\",\"\",VLOOKUP(B100,学連登録!$C$2:$G$3000,2,FALSE))","v":""},{"$f":"IF(B100=\"\",\"\",VLOOKUP(B100,学連登録!$C$2:$G$3000,3,FALSE))","v":""},{"$f":"IF(B100=\"\",\"\",VLOOKUP(B100,学連登録!$C$2:$G$3000,4,FALSE))","v":""},"",null,null,null,null,null,null,null,null,null,null,null,null,null,null,null,{"$f":"IF(B100=\"\",\"\",VLOOKUP(B100,学連登録!$C$2:$H$3000,6,FALSE))","v":""},null,null,"",{"$f":"IF(G100=\"\",\"\",VLOOKUP(G100,種目名!$R$5:$T$104,3,0))","v":""},{"$f":"IF(J100=\"\",\"\",VLOOKUP(J100,種目名!$R$5:$T$104,3,0))","v":""},{"$f":"IF(M100=\"\",\"\",VLOOKUP(M100,種目名!$R$5:$T$104,3,0))","v":""},{"$f":"IF(P100=\"\",\"\",VLOOKUP(AF100,種目名!$R$5:$T$104,3,0))","v":""},{"$f":"IF(S100=\"\",\"\",VLOOKUP(AI100,種目名!$R$5:$T$104,3,0))","v":""},0,"","",0,"",""]
["",null,{"$f":"IF(B101=\"\",\"\",VLOOKUP(B101,学連登録!$C$2:$G$3000,2,FALSE))","v":""},{"$f":"IF(B101=\"\",\"\",VLOOKUP(B101,学連登録!$C$2:$G$3000,3,FALSE))","v":""},{"$f":"IF(B101=\"\",\"\",VLOOKUP(B101,学連登録!$C$2:$G$3000,4,FALSE))","v":""},"",null,null,null,null,null,null,null,null,null,null,null,null,null,null,null,{"$f":"IF(B101=\"\",\"\",VLOOKUP(B101,学連登録!$C$2:$H$3000,6,FALSE))","v":""},null,null,"",{"$f":"IF(G101=\"\",\"\",VLOOKUP(G101,種目名!$R$5:$T$104,3,0))","v":""},{"$f":"IF(J101=\"\",\"\",VLOOKUP(J101,種目名!$R$5:$T$104,3,0))","v":""},{"$f":"IF(M101=\"\",\"\",VLOOKUP(M101,種目名!$R$5:$T$104,3,0))","v":""},{"$f":"IF(P101=\"\",\"\",VLOOKUP(AF101,種目名!$R$5:$T$104,3,0))","v":""},{"$f":"IF(S101=\"\",\"\",VLOOKUP(AI101,種目名!$R$5:$T$104,3,0))","v":""},0,"","",0,"",""]
["",null,{"$f":"IF(B102=\"\",\"\",VLOOKUP(B102,学連登録!$C$2:$G$3000,2,FALSE))","v":""},{"$f":"IF(B102=\"\",\"\",VLOOKUP(B102,学連登録!$C$2:$G$3000,3,FALSE))","v":""},{"$f":"IF(B102=\"\",\"\",VLOOKUP(B102,学連登録!$C$2:$G$3000,4,FALSE))","v":""},"",null,null,null,null,null,null,null,null,null,null,null,null,null,null,null,{"$f":"IF(B102=\"\",\"\",VLOOKUP(B102,学連登録!$C$2:$H$3000,6,FALSE))","v":""},null,null,"",{"$f":"IF(G102=\"\",\"\",VLOOKUP(G102,種目名!$R$5:$T$104,3,0))","v":""},{"$f":"IF(J102=\"\",\"\",VLOOKUP(J102,種目名!$R$5:$T$104,3,0))","v":""},{"$f":"IF(M102=\"\",\"\",VLOOKUP(M102,種目名!$R$5:$T$104,3,0))","v":""},{"$f":"IF(P102=\"\",\"\",VLOOKUP(AF102,種目名!$R$5:$T$104,3,0))","v":""},{"$f":"IF(S102=\"\",\"\",VLOOKUP(AI102,種目名!$R$5:$T$104,3,0))","v":""},0,"","",0,"",""]
["",null,{"$f":"IF(B103=\"\",\"\",VLOOKUP(B103,学連登録!$C$2:$G$3000,2,FALSE))","v":""},{"$f":"IF(B103=\"\",\"\",VLOOKUP(B103,学連登録!$C$2:$G$3000,3,FALSE))","v":""},{"$f":"IF(B103=\"\",\"\",VLOOKUP(B103,学連登録!$C$2:$G$3000,4,FALSE))","v":""},"",null,null,null,null,null,null,null,null,null,null,null,null,null,null,null,{"$f":"IF(B103=\"\",\"\",VLOOKUP(B103,学連登録!$C$2:$H$3000,6,FALSE))","v":""},null,null,"",{"$f":"IF(G103=\"\",\"\",VLOOKUP(G103,種目名!$R$5:$T$104,3,0))","v":""},{"$f":"IF(J103=\"\",\"\",VLOOKUP(J103,種目名!$R$5:$T$104,3,0))","v":""},{"$f":"IF(M103=\"\",\"\",VLOOKUP(M103,種目名!$R$5:$T$104,3,0))","v":""},{"$f":"IF(P103=\"\",\"\",VLOOKUP(AF103,種目名!$R$5:$T$104,3,0))","v":""},{"$f":"IF(S103=\"\",\"\",VLOOKUP(AI103,種目名!$R$5:$T$104,3,0))","v":""},0,"","",0,"",""]
["",null,{"$f":"IF(B104=\"\",\"\",VLOOKUP(B104,学連登録!$C$2:$G$3000,2,FALSE))","v":""},{"$f":"IF(B104=\"\",\"\",VLOOKUP(B104,学連登録!$C$2:$G$3000,3,FALSE))","v":""},{"$f":"IF(B104=\"\",\"\",VLOOKUP(B104,学連登録!$C$2:$G$3000,4,FALSE))","v":""},"",null,null,null,null,null,null,null,null,null,null,null,null,null,null,null,{"$f":"IF(B104=\"\",\"\",VLOOKUP(B104,学連登録!$C$2:$H$3000,6,FALSE))","v":""},null,null,"",{"$f":"IF(G104=\"\",\"\",VLOOKUP(G104,種目名!$R$5:$T$104,3,0))","v":""},{"$f":"IF(J104=\"\",\"\",VLOOKUP(J104,種目名!$R$5:$T$104,3,0))","v":""},{"$f":"IF(M104=\"\",\"\",VLOOKUP(M104,種目名!$R$5:$T$104,3,0))","v":""},{"$f":"IF(P104=\"\",\"\",VLOOKUP(AF104,種目名!$R$5:$T$104,3,0))","v":""},{"$f":"IF(S104=\"\",\"\",VLOOKUP(AI104,種目名!$R$5:$T$104,3,0))","v":""},0,"","",0,"",""]
["",null,{"$f":"IF(B105=\"\",\"\",VLOOKUP(B105,学連登録!$C$2:$G$3000,2,FALSE))","v":""},{"$f":"IF(B105=\"\",\"\",VLOOKUP(B105,学連登録!$C$2:$G$3000,3,FALSE))","v":""},{"$f":"IF(B105=\"\",\"\",VLOOKUP(B105,学連登録!$C$2:$G$3000,4,FALSE))","v":""},"",null,null,null,null,null,null,null,null,null,null,null,null,null,null,null,{"$f":"IF(B105=\"\",\"\",VLOOKUP(B105,学連登録!$C$2:$H$3000,6,FALSE))","v":""},null,null,"",{"$f":"IF(G105=\"\",\"\",VLOOKUP(G105,種目名!$R$5:$T$104,3,0))","v":""},{"$f":"IF(J105=\"\",\"\",VLOOKUP(J105,種目名!$R$5:$T$104,3,0))","v":""},{"$f":"IF(M105=\"\",\"\",VLOOKUP(M105,種目名!$R$5:$T$104,3,0))","v":""},{"$f":"IF(P105=\"\",\"\",VLOOKUP(AF105,種目名!$R$5:$T$104,3,0))","v":""},{"$f":"IF(S105=\"\",\"\",VLOOKUP(AI105,種目名!$R$5:$T$104,3,0))","v":""},0,"","",0,"",""]
["",null,{"$f":"IF(B106=\"\",\"\",VLOOKUP(B106,学連登録!$C$2:$G$3000,2,FALSE))","v":""},{"$f":"IF(B106=\"\",\"\",VLOOKUP(B106,学連登録!$C$2:$G$3000,3,FALSE))","v":""},{"$f":"IF(B106=\"\",\"\",VLOOKUP(B106,学連登録!$C$2:$G$3000,4,FALSE))","v":""},"",null,null,null,null,null,null,null,null,null,null,null,null,null,null,null,{"$f":"IF(B106=\"\",\"\",VLOOKUP(B106,学連登録!$C$2:$H$3000,6,FALSE))","v":""},null,null,"",{"$f":"IF(G106=\"\",\"\",VLOOKUP(G106,種目名!$R$5:$T$104,3,0))","v":""},{"$f":"IF(J106=\"\",\"\",VLOOKUP(J106,種目名!$R$5:$T$104,3,0))","v":""},{"$f":"IF(M106=\"\",\"\",VLOOKUP(M106,種目名!$R$5:$T$104,3,0))","v":""},{"$f":"IF(P106=\"\",\"\",VLOOKUP(AF106,種目名!$R$5:$T$104,3,0))","v":""},{"$f":"IF(S106=\"\",\"\",VLOOKUP(AI106,種目名!$R$5:$T$104,3,0))","v":""},0,"","",0,"",""]
["",null,{"$f":"IF(B107=\"\",\"\",VLOOKUP(B107,学連登録!$C$2:$G$3000,2,FALSE))","v":""},{"$f":"IF(B107=\"\",\"\",VLOOKUP(B107,学連登録!$C$2:$G$3000,3,FALSE))","v":""},{"$f":"IF(B107=\"\",\"\",VLOOKUP(B107,学連登録!$C$2:$G$3000,4,FALSE))","v":""},"",null,null,null,null,null,null,null,null,null,null,null,null,null,null,null,{"$f":"IF(B107=\"\",\"\",VLOOKUP(B107,学連登録!$C$2:$H$3000,6,FALSE))","v":""},null,null,"",{"$f":"IF(G107=\"\",\"\",VLOOKUP(G107,種目名!$R$5:$T$104,3,0))","v":""},{"$f":"IF(J107=\"\",\"\",VLOOKUP(J107,種目名!$R$5:$T$104,3,0))","v":""},{"$f":"IF(M107=\"\",\"\",VLOOKUP(M107,種目名!$R$5:$T$104,3,0))","v":""},{"$f":"IF(P107=\"\",\"\",VLOOKUP(AF107,種目名!$R$5:$T$104,3,0))","v":""},{"$f":"IF(S107=\"\",\"\",VLOOKUP(AI107,種目名!$R$5:$T$104,3,0))","v":""},0,"","",0,"",""]
["",null,{"$f":"IF(B108=\"\",\"\",VLOOKUP(B108,学連登録!$C$2:$G$3000,2,FALSE))","v":""},{"$f":"IF(B108=\"\",\"\",VLOOKUP(B108,学連登録!$C$2:$G$3000,3,FALSE))","v":""},{"$f":"IF(B108=\"\",\"\",VLOOKUP(B108,学連登録!$C$2:$G$3000,4,FALSE))","v":""},"",null,null,null,null,null,null,null,null,null,null,null,null,null,null,null,{"$f":"IF(B108=\"\",\"\",VLOOKUP(B108,学連登録!$C$2:$H$3000,6,FALSE))","v":""},null,null,"",{"$f":"IF(G108=\"\",\"\",VLOOKUP(G108,種目名!$R$5:$T$104,3,0))","v":""},{"$f":"IF(J108=\"\",\"\",VLOOKUP(J108,種目名!$R$5:$T$104,3,0))","v":""},{"$f":"IF(M108=\"\",\"\",VLOOKUP(M108,種目名!$R$5:$T$104,3,0))","v":""},{"$f":"IF(P108=\"\",\"\",VLOOKUP(AF108,種目名!$R$5:$T$104,3,0))","v":""},{"$f":"IF(S108=\"\",\"\",VLOOKUP(AI108,種目名!$R$5:$T$104,3,0))","v":""},0,"","",0,"",""]
["",null,{"$f":"IF(B109=\"\",\"\",VLOOKUP(B109,学連登録!$C$2:$G$3000,2,FALSE))","v":""},{"$f":"IF(B109=\"\",\"\",VLOOKUP(B109,学連登録!$C$2:$G$3000,3,FALSE))","v":""},{"$f":"IF(B109=\"\",\"\",VLOOKUP(B109,学連登録!$C$2:$G$3000,4,FALSE))","v":""},"",null,null,null,null,null,null,null,null,null,null,null,null,null,null,null,{"$f":"IF(B109=\"\",\"\",VLOOKUP(B109,学連登録!$C$2:$H$3000,6,FALSE))","v":""},null,null,"",{"$f":"IF(G109=\"\",\"\",VLOOKUP(G109,種目名!$R$5:$T$104,3,0))","v":""},{"$f":"IF(J109=\"\",\"\",VLOOKUP(J109,種目名!$R$5:$T$104,3,0))","v":""},{"$f":"IF(M109=\"\",\"\",VLOOKUP(M109,種目名!$R$5:$T$104,3,0))","v":""},{"$f":"IF(P109=\"\",\"\",VLOOKUP(AF109,種目名!$R$5:$T$104,3,0))","v":""},{"$f":"IF(S109=\"\",\"\",VLOOKUP(AI109,種目名!$R$5:$T$104,3,0))","v":""},0,"","",0,"",""]
["",null,{"$f":"IF(B110=\"\",\"\",VLOOKUP(B110,学連登録!$C$2:$G$3000,2,FALSE))","v":""},{"$f":"IF(B110=\"\",\"\",VLOOKUP(B110,学連登録!$C$2:$G$3000,3,FALSE))","v":""},{"$f":"IF(B110=\"\",\"\",VLOOKUP(B110,学連登録!$C$2:$G$3000,4,FALSE))","v":""},"",null,null,null,null,null,null,null,null,null,null,null,null,null,null,null,{"$f":"IF(B110=\"\",\"\",VLOOKUP(B110,学連登録!$C$2:$H$3000,6,FALSE))","v":""},null,null,"",{"$f":"IF(G110=\"\",\"\",VLOOKUP(G110,種目名!$R$5:$T$104,3,0))","v":""},{"$f":"IF(J110=\"\",\"\",VLOOKUP(J110,種目名!$R$5:$T$104,3,0))","v":""},{"$f":"IF(M110=\"\",\"\",VLOOKUP(M110,種目名!$R$5:$T$104,3,0))","v":""},{"$f":"IF(P110=\"\",\"\",VLOOKUP(AF110,種目名!$R$5:$T$104,3,0))","v":""},{"$f":"IF(S110=\"\",\"\",VLOOKUP(AI110,種目名!$R$5:$T$104,3,0))","v":""},0,"","",0,"",""]
["",null,{"$f":"IF(B111=\"\",\"\",VLOOKUP(B111,学連登録!$C$2:$G$3000,2,FALSE))","v":""},{"$f":"IF(B111=\"\",\"\",VLOOKUP(B111,学連登録!$C$2:$G$3000,3,FALSE))","v":""},{"$f":"IF(B111=\"\",\"\",VLOOKUP(B111,学連登録!$C$2:$G$3000,4,FALSE))","v":""},"",null,null,null,null,null,null,null,null,null,null,null,null,null,null,null,{"$f":"IF(B111=\"\",\"\",VLOOKUP(B111,学連登録!$C$2:$H$3000,6,FALSE))","v":""},null,null,"",{"$f":"IF(G111=\"\",\"\",VLOOKUP(G111,種目名!$R$5:$T$104,3,0))","v":""},{"$f":"IF(J111=\"\",\"\",VLOOKUP(J111,種目名!$R$5:$T$104,3,0))","v":""},{"$f":"IF(M111=\"\",\"\",VLOOKUP(M111,種目名!$R$5:$T$104,3,0))","v":""},{"$f":"IF(P111=\"\",\"\",VLOOKUP(AF111,種目名!$R$5:$T$104,3,0))","v":""},{"$f":"IF(S111=\"\",\"\",VLOOKUP(AI111,種目名!$R$5:$T$104,3,0))","v":""},0,"","",0,"",""]
["",null,{"$f":"IF(B112=\"\",\"\",VLOOKUP(B112,学連登録!$C$2:$G$3000,2,FALSE))","v":""},{"$f":"IF(B112=\"\",\"\",VLOOKUP(B112,学連登録!$C$2:$G$3000,3,FALSE))","v":""},{"$f":"IF(B112=\"\",\"\",VLOOKUP(B112,学連登録!$C$2:$G$3000,4,FALSE))","v":""},"",null,null,null,null,null,null,null,null,null,null,null,null,null,null,null,{"$f":"IF(B112=\"\",\"\",VLOOKUP(B112,学連登録!$C$2:$H$3000,6,FALSE))","v":""},null,null,"",{"$f":"IF(G112=\"\",\"\",VLOOKUP(G112,種目名!$R$5:$T$104,3,0))","v":""},{"$f":"IF(J112=\"\",\"\",VLOOKUP(J112,種目名!$R$5:$T$104,3,0))","v":""},{"$f":"IF(M112=\"\",\"\",VLOOKUP(M112,種目名!$R$5:$T$104,3,0))","v":""},{"$f":"IF(P112=\"\",\"\",VLOOKUP(AF112,種目名!$R$5:$T$104,3,0))","v":""},{"$f":"IF(S112=\"\",\"\",VLOOKUP(AI112,種目名!$R$5:$T$104,3,0))","v":""},0,"","",0,"",""]
["",null,{"$f":"IF(B113=\"\",\"\",VLOOKUP(B113,学連登録!$C$2:$G$3000,2,FALSE))","v":""},{"$f":"IF(B113=\"\",\"\",VLOOKUP(B113,学連登録!$C$2:$G$3000,3,FALSE))","v":""},{"$f":"IF(B113=\"\",\"\",VLOOKUP(B113,学連登録!$C$2:$G$3000,4,FALSE))","v":""},"",null,null,null,null,null,null,null,null,null,null,null,null,null,null,null,{"$f":"IF(B113=\"\",\"\",VLOOKUP(B113,学連登録!$C$2:$H$3000,6,FALSE))","v":""},null,null,"",{"$f":"IF(G113=\"\",\"\",VLOOKUP(G113,種目名!$R$5:$T$104,3,0))","v":""},{"$f":"IF(J113=\"\",\"\",VLOOKUP(J113,種目名!$R$5:$T$104,3,0))","v":""},{"$f":"IF(M113=\"\",\"\",VLOOKUP(M113,種目名!$R$5:$T$104,3,0))","v":""},{"$f":"IF(P113=\"\",\"\",VLOOKUP(AF113,種目名!$R$5:$T$104,3,0))","v":""},{"$f":"IF(S113=\"\",\"\",VLOOKUP(AI113,種目名!$R$5:$T$104,3,0))","v":""},0,"","",0,"",""]
["",null,{"$f":"IF(B114=\"\",\"\",VLOOKUP(B114,学連登録!$C$2:$G$3000,2,FALSE))","v":""},{"$f":"IF(B114=\"\",\"\",VLOOKUP(B114,学連登録!$C$2:$G$3000,3,FALSE))","v":""},{"$f":"IF(B114=\"\",\"\",VLOOKUP(B114,学連登録!$C$2:$G$3000,4,FALSE))","v":""},"",null,null,null,null,null,null,null,null,null,null,null,null,null,null,null,{"$f":"IF(B114=\"\",\"\",VLOOKUP(B114,学連登録!$C$2:$H$3000,6,FALSE))","v":""},null,null,"",{"$f":"IF(G114=\"\",\"\",VLOOKUP(G114,種目名!$R$5:$T$104,3,0))","v":""},{"$f":"IF(J114=\"\",\"\",VLOOKUP(J114,種目名!$R$5:$T$104,3,0))","v":""},{"$f":"IF(M114=\"\",\"\",VLOOKUP(M114,種目名!$R$5:$T$104,3,0))","v":""},{"$f":"IF(P114=\"\",\"\",VLOOKUP(AF114,種目名!$R$5:$T$104,3,0))","v":""},{"$f":"IF(S114=\"\",\"\",VLOOKUP(AI114,種目名!$R$5:$T$104,3,0))","v":""},0,"","",0,"",""]
[{"$f":"IF(C115=\"\",\"\",A114+1)","v":""},null,{"$f":"IF(B115=\"\",\"\",VLOOKUP(B115,学連登録!$C$2:$G$3000,2,FALSE))","v":""},{"$f":"IF(B115=\"\",\"\",VLOOKUP(B115,学連登録!$C$2:$G$3000,3,FALSE))","v":""},{"$f":"IF(B115=\"\",\"\",VLOOKUP(B115,学連登録!$C$2:$G$3000,4,FALSE))","v":""},"",null,null,null,null,null,null,null,null,null,null,null,null,null,null,null,{"$f":"IF(B115=\"\",\"\",VLOOKUP(B115,学連登録!$C$2:$H$3000,6,FALSE))","v":""},null,null,"",{"$f":"IF(G115=\"\",\"\",VLOOKUP(G115,種目名!$R$5:$T$104,3,0))","v":""},{"$f":"IF(J115=\"\",\"\",VLOOKUP(J115,種目名!$R$5:$T$104,3,0))","v":""},{"$f":"IF(M115=\"\",\"\",VLOOKUP(M115,種目名!$R$5:$T$104,3,0))","v":""},{"$f":"IF(P115=\"\",\"\",VLOOKUP(AF115,種目名!$R$5:$T$104,3,0))","v":""},{"$f":"IF(S115=\"\",\"\",VLOOKUP(AI115,種目名!$R$5:$T$104,3,0))","v":""},0,"","",0,"",""]
["",null,{"$f":"IF(B116=\"\",\"\",VLOOKUP(B116,学連登録!$C$2:$G$3000,2,FALSE))","v":""},{"$f":"IF(B116=\"\",\"\",VLOOKUP(B116,学連登録!$C$2:$G$3000,3,FALSE))","v":""},{"$f":"IF(B116=\"\",\"\",VLOOKUP(B116,学連登録!$C$2:$G$3000,4,FALSE))","v":""},"",null,null,null,null,null,null,null,null,null,null,null,null,null,null,null,{"$f":"IF(B116=\"\",\"\",VLOOKUP(B116,学連登録!$C$2:$H$3000,6,FALSE))","v":""},null,null,"",{"$f":"IF(G116=\"\",\"\",VLOOKUP(G116,種目名!$R$5:$T$104,3,0))","v":""},{"$f":"IF(J116=\"\",\"\",VLOOKUP(J116,種目名!$R$5:$T$104,3,0))","v":""},{"$f":"IF(M116=\"\",\"\",VLOOKUP(M116,種目名!$R$5:$T$104,3,0))","v":""},{"$f":"IF(P116=\"\",\"\",VLOOKUP(AF116,種目名!$R$5:$T$104,3,0))","v":""},{"$f":"IF(S116=\"\",\"\",VLOOKUP(AI116,種目名!$R$5:$T$104,3,0))","v":""},0,"","",0,"",""]
["",null,{"$f":"IF(B117=\"\",\"\",VLOOKUP(B117,学連登録!$C$2:$G$3000,2,FALSE))","v":""},{"$f":"IF(B117=\"\",\"\",VLOOKUP(B117,学連登録!$C$2:$G$3000,3,FALSE))","v":""},{"$f":"IF(B117=\"\",\"\",VLOOKUP(B117,学連登録!$C$2:$G$3000,4,FALSE))","v":""},"",null,null,null,null,null,null,null,null,null,null,null,null,null,null,null,{"$f":"IF(B117=\"\",\"\",VLOOKUP(B117,学連登録!$C$2:$H$3000,6,FALSE))","v":""},null,null,"",{"$f":"IF(G117=\"\",\"\",VLOOKUP(G117,種目名!$R$5:$T$104,3,0))","v":""},{"$f":"IF(J117=\"\",\"\",VLOOKUP(J117,種目名!$R$5:$T$104,3,0))","v":""},{"$f":"IF(M117=\"\",\"\",VLOOKUP(M117,種目名!$R$5:$T$104,3,0))","v":""},{"$f":"IF(P117=\"\",\"\",VLOOKUP(AF117,種目名!$R$5:$T$104,3,0))","v":""},{"$f":"IF(S117=\"\",\"\",VLOOKUP(AI117,種目名!$R$5:$T$104,3,0))","v":""},0,"","",0,"",""]
["",null,{"$f":"IF(B118=\"\",\"\",VLOOKUP(B118,学連登録!$C$2:$G$3000,2,FALSE))","v":""},{"$f":"IF(B118=\"\",\"\",VLOOKUP(B118,学連登録!$C$2:$G$3000,3,FALSE))","v":""},{"$f":"IF(B118=\"\",\"\",VLOOKUP(B118,学連登録!$C$2:$G$3000,4,FALSE))","v":""},"",null,null,null,null,null,null,null,null,null,null,null,null,null,null,null,{"$f":"IF(B118=\"\",\"\",VLOOKUP(B118,学連登録!$C$2:$H$3000,6,FALSE))","v":""},null,null,"",{"$f":"IF(G118=\"\",\"\",VLOOKUP(G118,種目名!$R$5:$T$104,3,0))","v":""},{"$f":"IF(J118=\"\",\"\",VLOOKUP(J118,種目名!$R$5:$T$104,3,0))","v":""},{"$f":"IF(M118=\"\",\"\",VLOOKUP(M118,種目名!$R$5:$T$104,3,0))","v":""},{"$f":"IF(P118=\"\",\"\",VLOOKUP(AF118,種目名!$R$5:$T$104,3,0))","v":""},{"$f":"IF(S118=\"\",\"\",VLOOKUP(AI118,種目名!$R$5:$T$104,3,0))","v":""},0,"","",0,"",""]
["",null,{"$f":"IF(B119=\"\",\"\",VLOOKUP(B119,学連登録!$C$2:$G$3000,2,FALSE))","v":""},{"$f":"IF(B119=\"\",\"\",VLOOKUP(B119,学連登録!$C$2:$G$3000,3,FALSE))","v":""},{"$f":"IF(B119=\"\",\"\",VLOOKUP(B119,学連登録!$C$2:$G$3000,4,FALSE))","v":""},"",null,null,null,null,null,null,null,null,null,null,null,null,null,null,null,{"$f":"IF(B119=\"\",\"\",VLOOKUP(B119,学連登録!$C$2:$H$3000,6,FALSE))","v":""},null,null,"",{"$f":"IF(G119=\"\",\"\",VLOOKUP(G119,種目名!$R$5:$T$104,3,0))","v":""},{"$f":"IF(J119=\"\",\"\",VLOOKUP(J119,種目名!$R$5:$T$104,3,0))","v":""},{"$f":"IF(M119=\"\",\"\",VLOOKUP(M119,種目名!$R$5:$T$104,3,0))","v":""},{"$f":"IF(P119=\"\",\"\",VLOOKUP(AF119,種目名!$R$5:$T$104,3,0))","v":""},{"$f":"IF(S119=\"\",\"\",VLOOKUP(AI119,種目名!$R$5:$T$104,3,0))","v":""},0,"","",0,"",""]
["",null,{"$f":"IF(B120=\"\",\"\",VLOOKUP(B120,学連登録!$C$2:$G$3000,2,FALSE))","v":""},{"$f":"IF(B120=\"\",\"\",VLOOKUP(B120,学連登録!$C$2:$G$3000,3,FALSE))","v":""},{"$f":"IF(B120=\"\",\"\",VLOOKUP(B120,学連登録!$C$2:$G$3000,4,FALSE))","v":""},"",null,null,null,null,null,null,null,null,null,null,null,null,null,null,null,{"$f":"IF(B120=\"\",\"\",VLOOKUP(B120,学連登録!$C$2:$H$3000,6,FALSE))","v":""},null,null,"",{"$f":"IF(G120=\"\",\"\",VLOOKUP(G120,種目名!$R$5:$T$104,3,0))","v":""},{"$f":"IF(J120=\"\",\"\",VLOOKUP(J120,種目名!$R$5:$T$104,3,0))","v":""},{"$f":"IF(M120=\"\",\"\",VLOOKUP(M120,種目名!$R$5:$T$104,3,0))","v":""},{"$f":"IF(P120=\"\",\"\",VLOOKUP(AF120,種目名!$R$5:$T$104,3,0))","v":""},{"$f":"IF(S120=\"\",\"\",VLOOKUP(AI120,種目名!$R$5:$T$104,3,0))","v":""},0,"","",0,"",""]
["",null,{"$f":"IF(B121=\"\",\"\",VLOOKUP(B121,学連登録!$C$2:$G$3000,2,FALSE))","v":""},{"$f":"IF(B121=\"\",\"\",VLOOKUP(B121,学連登録!$C$2:$G$3000,3,FALSE))","v":""},{"$f":"IF(B121=\"\",\"\",VLOOKUP(B121,学連登録!$C$2:$G$3000,4,FALSE))","v":""},"",null,null,null,null,null,null,null,null,null,null,null,null,null,null,null,{"$f":"IF(B121=\"\",\"\",VLOOKUP(B121,学連登録!$C$2:$H$3000,6,FALSE))","v":""},null,null,"",{"$f":"IF(G121=\"\",\"\",VLOOKUP(G121,種目名!$R$5:$T$104,3,0))","v":""},{"$f":"IF(J121=\"\",\"\",VLOOKUP(J121,種目名!$R$5:$T$104,3,0))","v":""},{"$f":"IF(M121=\"\",\"\",VLOOKUP(M121,種目名!$R$5:$T$104,3,0))","v":""},{"$f":"IF(P121=\"\",\"\",VLOOKUP(AF121,種目名!$R$5:$T$104,3,0))","v":""},{"$f":"IF(S121=\"\",\"\",VLOOKUP(AI121,種目名!$R$5:$T$104,3,0))","v":""},0,"","",0,"",""]
["",null,{"$f":"IF(B122=\"\",\"\",VLOOKUP(B122,学連登録!$C$2:$G$3000,2,FALSE))","v":""},{"$f":"IF(B122=\"\",\"\",VLOOKUP(B122,学連登録!$C$2:$G$3000,3,FALSE))","v":""},{"$f":"IF(B122=\"\",\"\",VLOOKUP(B122,学連登録!$C$2:$G$3000,4,FALSE))","v":""},"",null,null,null,null,null,null,null,null,null,null,null,null,null,null,null,{"$f":"IF(B122=\"\",\"\",VLOOKUP(B122,学連登録!$C$2:$H$3000,6,FALSE))","v":""},null,null,"",{"$f":"IF(G122=\"\",\"\",VLOOKUP(G122,種目名!$R$5:$T$104,3,0))","v":""},{"$f":"IF(J122=\"\",\"\",VLOOKUP(J122,種目名!$R$5:$T$104,3,0))","v":""},{"$f":"IF(M122=\"\",\"\",VLOOKUP(M122,種目名!$R$5:$T$104,3,0))","v":""},{"$f":"IF(P122=\"\",\"\",VLOOKUP(AF122,種目名!$R$5:$T$104,3,0))","v":""},{"$f":"IF(S122=\"\",\"\",VLOOKUP(AI122,種目名!$R$5:$T$104,3,0))","v":""},0,"","",0,"",""]
["",null,{"$f":"IF(B123=\"\",\"\",VLOOKUP(B123,学連登録!$C$2:$G$3000,2,FALSE))","v":""},{"$f":"IF(B123=\"\",\"\",VLOOKUP(B123,学連登録!$C$2:$G$3000,3,FALSE))","v":""},{"$f":"IF(B123=\"\",\"\",VLOOKUP(B123,学連登録!$C$2:$G$3000,4,FALSE))","v":""},"",null,null,null,null,null,null,null,null,null,null,null,null,null,null,null,{"$f":"IF(B123=\"\",\"\",VLOOKUP(B123,学連登録!$C$2:$H$3000,6,FALSE))","v":""},null,null,"",{"$f":"IF(G123=\"\",\"\",VLOOKUP(G123,種目名!$R$5:$T$104,3,0))","v":""},{"$f":"IF(J123=\"\",\"\",VLOOKUP(J123,種目名!$R$5:$T$104,3,0))","v":""},{"$f":"IF(M123=\"\",\"\",VLOOKUP(M123,種目名!$R$5:$T$104,3,0))","v":""},{"$f":"IF(P123=\"\",\"\",VLOOKUP(AF123,種目名!$R$5:$T$104,3,0))","v":""},{"$f":"IF(S123=\"\",\"\",VLOOKUP(AI123,種目名!$R$5:$T$104,3,0))","v":""},0,"","",0,"",""]
["",null,{"$f":"IF(B124=\"\",\"\",VLOOKUP(B124,学連登録!$C$2:$G$3000,2,FALSE))","v":""},{"$f":"IF(B124=\"\",\"\",VLOOKUP(B124,学連登録!$C$2:$G$3000,3,FALSE))","v":""},{"$f":"IF(B124=\"\",\"\",VLOOKUP(B124,学連登録!$C$2:$G$3000,4,FALSE))","v":""},"",null,null,null,null,null,null,null,null,null,null,null,null,null,null,null,{"$f":"IF(B124=\"\",\"\",VLOOKUP(B124,学連登録!$C$2:$H$3000,6,FALSE))","v":""},null,null,"",{"$f":"IF(G124=\"\",\"\",VLOOKUP(G124,種目名!$R$5:$T$104,3,0))","v":""},{"$f":"IF(J124=\"\",\"\",VLOOKUP(J124,種目名!$R$5:$T$104,3,0))","v":""},{"$f":"IF(M124=\"\",\"\",VLOOKUP(M124,種目名!$R$5:$T$104,3,0))","v":""},{"$f":"IF(P124=\"\",\"\",VLOOKUP(AF124,種目名!$R$5:$T$104,3,0))","v":""},{"$f":"IF(S124=\"\",\"\",VLOOKUP(AI124,種目名!$R$5:$T$104,3,0))","v":""},0,"","",0,"",""]
["",null,{"$f":"IF(B125=\"\",\"\",VLOOKUP(B125,学連登録!$C$2:$G$3000,2,FALSE))","v":""},{"$f":"IF(B125=\"\",\"\",VLOOKUP(B125,学連登録!$C$2:$G$3000,3,FALSE))","v":""},{"$f":"IF(B125=\"\",\"\",VLOOKUP(B125,学連登録!$C$2:$G$3000,4,FALSE))","v":""},"",null,null,null,null,null,null,null,null,null,null,null,null,null,null,null,{"$f":"IF(B125=\"\",\"\",VLOOKUP(B125,学連登録!$C$2:$H$3000,6,FALSE))","v":""},null,null,"",{"$f":"IF(G125=\"\",\"\",VLOOKUP(G125,種目名!$R$5:$T$104,3,0))","v":""},{"$f":"IF(J125=\"\",\"\",VLOOKUP(J125,種目名!$R$5:$T$104,3,0))","v":""},{"$f":"IF(M125=\"\",\"\",VLOOKUP(M125,種目名!$R$5:$T$104,3,0))","v":""},{"$f":"IF(P125=\"\",\"\",VLOOKUP(AF125,種目名!$R$5:$T$104,3,0))","v":""},{"$f":"IF(S125=\"\",\"\",VLOOKUP(AI125,種目名!$R$5:$T$104,3,0))","v":""},0,"","",0,"",""]
["",null,{"$f":"IF(B126=\"\",\"\",VLOOKUP(B126,学連登録!$C$2:$G$3000,2,FALSE))","v":""},{"$f":"IF(B126=\"\",\"\",VLOOKUP(B126,学連登録!$C$2:$G$3000,3,FALSE))","v":""},{"$f":"IF(B126=\"\",\"\",VLOOKUP(B126,学連登録!$C$2:$G$3000,4,FALSE))","v":""},"",null,null,null,null,null,null,null,null,null,null,null,null,null,null,null,{"$f":"IF(B126=\"\",\"\",VLOOKUP(B126,学連登録!$C$2:$H$3000,6,FALSE))","v":""},null,null,"",{"$f":"IF(G126=\"\",\"\",VLOOKUP(G126,種目名!$R$5:$T$104,3,0))","v":""},{"$f":"IF(J126=\"\",\"\",VLOOKUP(J126,種目名!$R$5:$T$104,3,0))","v":""},{"$f":"IF(M126=\"\",\"\",VLOOKUP(M126,種目名!$R$5:$T$104,3,0))","v":""},{"$f":"IF(P126=\"\",\"\",VLOOKUP(AF126,種目名!$R$5:$T$104,3,0))","v":""},{"$f":"IF(S126=\"\",\"\",VLOOKUP(AI126,種目名!$R$5:$T$104,3,0))","v":""},0,"","",0,"",""]
["",null,{"$f":"IF(B127=\"\",\"\",VLOOKUP(B127,学連登録!$C$2:$G$3000,2,FALSE))","v":""},{"$f":"IF(B127=\"\",\"\",VLOOKUP(B127,学連登録!$C$2:$G$3000,3,FALSE))","v":""},{"$f":"IF(B127=\"\",\"\",VLOOKUP(B127,学連登録!$C$2:$G$3000,4,FALSE))","v":""},"",null,null,null,null,null,null,null,null,null,null,null,null,null,null,null,{"$f":"IF(B127=\"\",\"\",VLOOKUP(B127,学連登録!$C$2:$H$3000,6,FALSE))","v":""},null,null,"",{"$f":"IF(G127=\"\",\"\",VLOOKUP(G127,種目名!$R$5:$T$104,3,0))","v":""},{"$f":"IF(J127=\"\",\"\",VLOOKUP(J127,種目名!$R$5:$T$104,3,0))","v":""},{"$f":"IF(M127=\"\",\"\",VLOOKUP(M127,種目名!$R$5:$T$104,3,0))","v":""},{"$f":"IF(P127=\"\",\"\",VLOOKUP(AF127,種目名!$R$5:$T$104,3,0))","v":""},{"$f":"IF(S127=\"\",\"\",VLOOKUP(AI127,種目名!$R$5:$T$104,3,0))","v":""},0,"","",0,"",""]
["",null,{"$f":"IF(B128=\"\",\"\",VLOOKUP(B128,学連登録!$C$2:$G$3000,2,FALSE))","v":""},{"$f":"IF(B128=\"\",\"\",VLOOKUP(B128,学連登録!$C$2:$G$3000,3,FALSE))","v":""},{"$f":"IF(B128=\"\",\"\",VLOOKUP(B128,学連登録!$C$2:$G$3000,4,FALSE))","v":""},"",null,null,null,null,null,null,null,null,null,null,null,null,null,null,null,{"$f":"IF(B128=\"\",\"\",VLOOKUP(B128,学連登録!$C$2:$H$3000,6,FALSE))","v":""},null,null,"",{"$f":"IF(G128=\"\",\"\",VLOOKUP(G128,種目名!$R$5:$T$104,3,0))","v":""},{"$f":"IF(J128=\"\",\"\",VLOOKUP(J128,種目名!$R$5:$T$104,3,0))","v":""},{"$f":"IF(M128=\"\",\"\",VLOOKUP(M128,種目名!$R$5:$T$104,3,0))","v":""},{"$f":"IF(P128=\"\",\"\",VLOOKUP(AF128,種目名!$R$5:$T$104,3,0))","v":""},{"$f":"IF(S128=\"\",\"\",VLOOKUP(AI128,種目名!$R$5:$T$104,3,0))","v":""},0,"","",0,"",""]
["",null,{"$f":"IF(B129=\"\",\"\",VLOOKUP(B129,学連登録!$C$2:$G$3000,2,FALSE))","v":""},{"$f":"IF(B129=\"\",\"\",VLOOKUP(B129,学連登録!$C$2:$G$3000,3,FALSE))","v":""},{"$f":"IF(B129=\"\",\"\",VLOOKUP(B129,学連登録!$C$2:$G$3000,4,FALSE))","v":""},"",null,null,null,null,null,null,null,null,null,null,null,null,null,null,null,{"$f":"IF(B129=\"\",\"\",VLOOKUP(B129,学連登録!$C$2:$H$3000,6,FALSE))","v":""},null,null,"",{"$f":"IF(G129=\"\",\"\",VLOOKUP(G129,種目名!$R$5:$T$104,3,0))","v":""},{"$f":"IF(J129=\"\",\"\",VLOOKUP(J129,種目名!$R$5:$T$104,3,0))","v":""},{"$f":"IF(M129=\"\",\"\",VLOOKUP(M129,種目名!$R$5:$T$104,3,0))","v":""},{"$f":"IF(P129=\"\",\"\",VLOOKUP(AF129,種目名!$R$5:$T$104,3,0))","v":""},{"$f":"IF(S129=\"\",\"\",VLOOKUP(AI129,種目名!$R$5:$T$104,3,0))","v":""},0,"","",0,"",""]
["",null,{"$f":"IF(B130=\"\",\"\",VLOOKUP(B130,学連登録!$C$2:$G$3000,2,FALSE))","v":""},{"$f":"IF(B130=\"\",\"\",VLOOKUP(B130,学連登録!$C$2:$G$3000,3,FALSE))","v":""},{"$f":"IF(B130=\"\",\"\",VLOOKUP(B130,学連登録!$C$2:$G$3000,4,FALSE))","v":""},"",null,null,null,null,null,null,null,null,null,null,null,null,null,null,null,{"$f":"IF(B130=\"\",\"\",VLOOKUP(B130,学連登録!$C$2:$H$3000,6,FALSE))","v":""},null,null,"",{"$f":"IF(G130=\"\",\"\",VLOOKUP(G130,種目名!$R$5:$T$104,3,0))","v":""},{"$f":"IF(J130=\"\",\"\",VLOOKUP(J130,種目名!$R$5:$T$104,3,0))","v":""},{"$f":"IF(M130=\"\",\"\",VLOOKUP(M130,種目名!$R$5:$T$104,3,0))","v":""},{"$f":"IF(P130=\"\",\"\",VLOOKUP(AF130,種目名!$R$5:$T$104,3,0))","v":""},{"$f":"IF(S130=\"\",\"\",VLOOKUP(AI130,種目名!$R$5:$T$104,3,0))","v":""},0,"","",0,"",""]
["",null,{"$f":"IF(B131=\"\",\"\",VLOOKUP(B131,学連登録!$C$2:$G$3000,2,FALSE))","v":""},{"$f":"IF(B131=\"\",\"\",VLOOKUP(B131,学連登録!$C$2:$G$3000,3,FALSE))","v":""},{"$f":"IF(B131=\"\",\"\",VLOOKUP(B131,学連登録!$C$2:$G$3000,4,FALSE))","v":""},"",null,null,null,null,null,null,null,null,null,null,null,null,null,null,null,{"$f":"IF(B131=\"\",\"\",VLOOKUP(B131,学連登録!$C$2:$H$3000,6,FALSE))","v":""},null,null,"",{"$f":"IF(G131=\"\",\"\",VLOOKUP(G131,種目名!$R$5:$T$104,3,0))","v":""},{"$f":"IF(J131=\"\",\"\",VLOOKUP(J131,種目名!$R$5:$T$104,3,0))","v":""},{"$f":"IF(M131=\"\",\"\",VLOOKUP(M131,種目名!$R$5:$T$104,3,0))","v":""},{"$f":"IF(P131=\"\",\"\",VLOOKUP(AF131,種目名!$R$5:$T$104,3,0))","v":""},{"$f":"IF(S131=\"\",\"\",VLOOKUP(AI131,種目名!$R$5:$T$104,3,0))","v":""},0,"","",0,"",""]
["",null,{"$f":"IF(B132=\"\",\"\",VLOOKUP(B132,学連登録!$C$2:$G$3000,2,FALSE))","v":""},{"$f":"IF(B132=\"\",\"\",VLOOKUP(B132,学連登録!$C$2:$G$3000,3,FALSE))","v":""},{"$f":"IF(B132=\"\",\"\",VLOOKUP(B132,学連登録!$C$2:$G$3000,4,FALSE))","v":""},"",null,null,null,null,null,null,null,null,null,null,null,null,null,null,null,{"$f":"IF(B132=\"\",\"\",VLOOKUP(B132,学連登録!$C$2:$H$3000,6,FALSE))","v":""},null,null,"",{"$f":"IF(G132=\"\",\"\",VLOOKUP(G132,種目名!$R$5:$T$104,3,0))","v":""},{"$f":"IF(J132=\"\",\"\",VLOOKUP(J132,種目名!$R$5:$T$104,3,0))","v":""},{"$f":"IF(M132=\"\",\"\",VLOOKUP(M132,種目名!$R$5:$T$104,3,0))","v":""},{"$f":"IF(P132=\"\",\"\",VLOOKUP(AF132,種目名!$R$5:$T$104,3,0))","v":""},{"$f":"IF(S132=\"\",\"\",VLOOKUP(AI132,種目名!$R$5:$T$104,3,0))","v":""},0,"","",0,"",""]
["",null,{"$f":"IF(B133=\"\",\"\",VLOOKUP(B133,学連登録!$C$2:$G$3000,2,FALSE))","v":""},{"$f":"IF(B133=\"\",\"\",VLOOKUP(B133,学連登録!$C$2:$G$3000,3,FALSE))","v":""},{"$f":"IF(B133=\"\",\"\",VLOOKUP(B133,学連登録!$C$2:$G$3000,4,FALSE))","v":""},"",null,null,null,null,null,null,null,null,null,null,null,null,null,null,null,{"$f":"IF(B133=\"\",\"\",VLOOKUP(B133,学連登録!$C$2:$H$3000,6,FALSE))","v":""},null,null,"",{"$f":"IF(G133=\"\",\"\",VLOOKUP(G133,種目名!$R$5:$T$104,3,0))","v":""},{"$f":"IF(J133=\"\",\"\",VLOOKUP(J133,種目名!$R$5:$T$104,3,0))","v":""},{"$f":"IF(M133=\"\",\"\",VLOOKUP(M133,種目名!$R$5:$T$104,3,0))","v":""},{"$f":"IF(P133=\"\",\"\",VLOOKUP(AF133,種目名!$R$5:$T$104,3,0))","v":""},{"$f":"IF(S133=\"\",\"\",VLOOKUP(AI133,種目名!$R$5:$T$104,3,0))","v":""},0,"","",0,"",""]
["",null,{"$f":"IF(B134=\"\",\"\",VLOOKUP(B134,学連登録!$C$2:$G$3000,2,FALSE))","v":""},{"$f":"IF(B134=\"\",\"\",VLOOKUP(B134,学連登録!$C$2:$G$3000,3,FALSE))","v":""},{"$f":"IF(B134=\"\",\"\",VLOOKUP(B134,学連登録!$C$2:$G$3000,4,FALSE))","v":""},"",null,null,null,null,null,null,null,null,null,null,null,null,null,null,null,{"$f":"IF(B134=\"\",\"\",VLOOKUP(B134,学連登録!$C$2:$H$3000,6,FALSE))","v":""},null,null,"",{"$f":"IF(G134=\"\",\"\",VLOOKUP(G134,種目名!$R$5:$T$104,3,0))","v":""},{"$f":"IF(J134=\"\",\"\",VLOOKUP(J134,種目名!$R$5:$T$104,3,0))","v":""},{"$f":"IF(M134=\"\",\"\",VLOOKUP(M134,種目名!$R$5:$T$104,3,0))","v":""},{"$f":"IF(P134=\"\",\"\",VLOOKUP(AF134,種目名!$R$5:$T$104,3,0))","v":""},{"$f":"IF(S134=\"\",\"\",VLOOKUP(AI134,種目名!$R$5:$T$104,3,0))","v":""},0,"","",0,"",""]
["",null,{"$f":"IF(B135=\"\",\"\",VLOOKUP(B135,学連登録!$C$2:$G$3000,2,FALSE))","v":""},{"$f":"IF(B135=\"\",\"\",VLOOKUP(B135,学連登録!$C$2:$G$3000,3,FALSE))","v":""},{"$f":"IF(B135=\"\",\"\",VLOOKUP(B135,学連登録!$C$2:$G$3000,4,FALSE))","v":""},"",null,null,null,null,null,null,null,null,null,null,null,null,null,null,null,{"$f":"IF(B135=\"\",\"\",VLOOKUP(B135,学連登録!$C$2:$H$3000,6,FALSE))","v":""},null,null,"",{"$f":"IF(G135=\"\",\"\",VLOOKUP(G135,種目名!$R$5:$T$104,3,0))","v":""},{"$f":"IF(J135=\"\",\"\",VLOOKUP(J135,種目名!$R$5:$T$104,3,0))","v":""},{"$f":"IF(M135=\"\",\"\",VLOOKUP(M135,種目名!$R$5:$T$104,3,0))","v":""},{"$f":"IF(P135=\"\",\"\",VLOOKUP(AF135,種目名!$R$5:$T$104,3,0))","v":""},{"$f":"IF(S135=\"\",\"\",VLOOKUP(AI135,種目名!$R$5:$T$104,3,0))","v":""},0,"","",0,"",""]
["",null,{"$f":"IF(B136=\"\",\"\",VLOOKUP(B136,学連登録!$C$2:$G$3000,2,FALSE))","v":""},{"$f":"IF(B136=\"\",\"\",VLOOKUP(B136,学連登録!$C$2:$G$3000,3,FALSE))","v":""},{"$f":"IF(B136=\"\",\"\",VLOOKUP(B136,学連登録!$C$2:$G$3000,4,FALSE))","v":""},"",null,null,null,null,null,null,null,null,null,null,null,null,null,null,null,{"$f":"IF(B136=\"\",\"\",VLOOKUP(B136,学連登録!$C$2:$H$3000,6,FALSE))","v":""},null,null,"",{"$f":"IF(G136=\"\",\"\",VLOOKUP(G136,種目名!$R$5:$T$104,3,0))","v":""},{"$f":"IF(J136=\"\",\"\",VLOOKUP(J136,種目名!$R$5:$T$104,3,0))","v":""},{"$f":"IF(M136=\"\",\"\",VLOOKUP(M136,種目名!$R$5:$T$104,3,0))","v":""},{"$f":"IF(P136=\"\",\"\",VLOOKUP(AF136,種目名!$R$5:$T$104,3,0))","v":""},{"$f":"IF(S136=\"\",\"\",VLOOKUP(AI136,種目名!$R$5:$T$104,3,0))","v":""},0,"","",0,"",""]
["",null,{"$f":"IF(B137=\"\",\"\",VLOOKUP(B137,学連登録!$C$2:$G$3000,2,FALSE))","v":""},{"$f":"IF(B137=\"\",\"\",VLOOKUP(B137,学連登録!$C$2:$G$3000,3,FALSE))","v":""},{"$f":"IF(B137=\"\",\"\",VLOOKUP(B137,学連登録!$C$2:$G$3000,4,FALSE))","v":""},"",null,null,null,null,null,null,null,null,null,null,null,null,null,null,null,{"$f":"IF(B137=\"\",\"\",VLOOKUP(B137,学連登録!$C$2:$H$3000,6,FALSE))","v":""},null,null,"",{"$f":"IF(G137=\"\",\"\",VLOOKUP(G137,種目名!$R$5:$T$104,3,0))","v":""},{"$f":"IF(J137=\"\",\"\",VLOOKUP(J137,種目名!$R$5:$T$104,3,0))","v":""},{"$f":"IF(M137=\"\",\"\",VLOOKUP(M137,種目名!$R$5:$T$104,3,0))","v":""},{"$f":"IF(P137=\"\",\"\",VLOOKUP(AF137,種目名!$R$5:$T$104,3,0))","v":""},{"$f":"IF(S137=\"\",\"\",VLOOKUP(AI137,種目名!$R$5:$T$104,3,0))","v":""},0,"","",0,"",""]
["",null,{"$f":"IF(B138=\"\",\"\",VLOOKUP(B138,学連登録!$C$2:$G$3000,2,FALSE))","v":""},{"$f":"IF(B138=\"\",\"\",VLOOKUP(B138,学連登録!$C$2:$G$3000,3,FALSE))","v":""},{"$f":"IF(B138=\"\",\"\",VLOOKUP(B138,学連登録!$C$2:$G$3000,4,FALSE))","v":""},"",null,null,null,null,null,null,null,null,null,null,null,null,null,null,null,{"$f":"IF(B138=\"\",\"\",VLOOKUP(B138,学連登録!$C$2:$H$3000,6,FALSE))","v":""},null,null,"",{"$f":"IF(G138=\"\",\"\",VLOOKUP(G138,種目名!$R$5:$T$104,3,0))","v":""},{"$f":"IF(J138=\"\",\"\",VLOOKUP(J138,種目名!$R$5:$T$104,3,0))","v":""},{"$f":"IF(M138=\"\",\"\",VLOOKUP(M138,種目名!$R$5:$T$104,3,0))","v":""},{"$f":"IF(P138=\"\",\"\",VLOOKUP(AF138,種目名!$R$5:$T$104,3,0))","v":""},{"$f":"IF(S138=\"\",\"\",VLOOKUP(AI138,種目名!$R$5:$T$104,3,0))","v":""},0,"","",0,"",""]
["",null,{"$f":"IF(B139=\"\",\"\",VLOOKUP(B139,学連登録!$C$2:$G$3000,2,FALSE))","v":""},{"$f":"IF(B139=\"\",\"\",VLOOKUP(B139,学連登録!$C$2:$G$3000,3,FALSE))","v":""},{"$f":"IF(B139=\"\",\"\",VLOOKUP(B139,学連登録!$C$2:$G$3000,4,FALSE))","v":""},"",null,null,null,null,null,null,null,null,null,null,null,null,null,null,null,{"$f":"IF(B139=\"\",\"\",VLOOKUP(B139,学連登録!$C$2:$H$3000,6,FALSE))","v":""},null,null,"",{"$f":"IF(G139=\"\",\"\",VLOOKUP(G139,種目名!$R$5:$T$104,3,0))","v":""},{"$f":"IF(J139=\"\",\"\",VLOOKUP(J139,種目名!$R$5:$T$104,3,0))","v":""},{"$f":"IF(M139=\"\",\"\",VLOOKUP(M139,種目名!$R$5:$T$104,3,0))","v":""},{"$f":"IF(P139=\"\",\"\",VLOOKUP(AF139,種目名!$R$5:$T$104,3,0))","v":""},{"$f":"IF(S139=\"\",\"\",VLOOKUP(AI139,種目名!$R$5:$T$104,3,0))","v":""},0,"","",0,"",""]
["",null,{"$f":"IF(B140=\"\",\"\",VLOOKUP(B140,学連登録!$C$2:$G$3000,2,FALSE))","v":""},{"$f":"IF(B140=\"\",\"\",VLOOKUP(B140,学連登録!$C$2:$G$3000,3,FALSE))","v":""},{"$f":"IF(B140=\"\",\"\",VLOOKUP(B140,学連登録!$C$2:$G$3000,4,FALSE))","v":""},"",null,null,null,null,null,null,null,null,null,null,null,null,null,null,null,{"$f":"IF(B140=\"\",\"\",VLOOKUP(B140,学連登録!$C$2:$H$3000,6,FALSE))","v":""},null,null,"",{"$f":"IF(G140=\"\",\"\",VLOOKUP(G140,種目名!$R$5:$T$104,3,0))","v":""},{"$f":"IF(J140=\"\",\"\",VLOOKUP(J140,種目名!$R$5:$T$104,3,0))","v":""},{"$f":"IF(M140=\"\",\"\",VLOOKUP(M140,種目名!$R$5:$T$104,3,0))","v":""},{"$f":"IF(P140=\"\",\"\",VLOOKUP(AF140,種目名!$R$5:$T$104,3,0))","v":""},{"$f":"IF(S140=\"\",\"\",VLOOKUP(AI140,種目名!$R$5:$T$104,3,0))","v":""},0,"","",0,"",""]
["",null,{"$f":"IF(B141=\"\",\"\",VLOOKUP(B141,学連登録!$C$2:$G$3000,2,FALSE))","v":""},{"$f":"IF(B141=\"\",\"\",VLOOKUP(B141,学連登録!$C$2:$G$3000,3,FALSE))","v":""},{"$f":"IF(B141=\"\",\"\",VLOOKUP(B141,学連登録!$C$2:$G$3000,4,FALSE))","v":""},{"$f":"IF(C141=\"\",\"\",$P$1)","v":""},null,null,null,null,null,null,null,null,null,null,null,null,null,null,null,{"$f":"IF(B141=\"\",\"\",VLOOKUP(B141,学連登録!$C$2:$H$3000,6,FALSE))","v":""},null,null,"",{"$f":"IF(G141=\"\",\"\",VLOOKUP(G141,種目名!$R$5:$T$104,3,0))","v":""},{"$f":"IF(J141=\"\",\"\",VLOOKUP(J141,種目名!$R$5:$T$104,3,0))","v":""},{"$f":"IF(M141=\"\",\"\",VLOOKUP(M141,種目名!$R$5:$T$104,3,0))","v":""},{"$f":"IF(P141=\"\",\"\",VLOOKUP(AF141,種目名!$R$5:$T$104,3,0))","v":""},{"$f":"IF(S141=\"\",\"\",VLOOKUP(AI141,種目名!$R$5:$T$104,3,0))","v":""},0,"","",0,"",""]
["",null,{"$f":"IF(B142=\"\",\"\",VLOOKUP(B142,学連登録!$C$2:$G$3000,2,FALSE))","v":""},{"$f":"IF(B142=\"\",\"\",VLOOKUP(B142,学連登録!$C$2:$G$3000,3,FALSE))","v":""},{"$f":"IF(B142=\"\",\"\",VLOOKUP(B142,学連登録!$C$2:$G$3000,4,FALSE))","v":""},"",null,null,null,null,null,null,null,null,null,null,null,null,null,null,null,{"$f":"IF(B142=\"\",\"\",VLOOKUP(B142,学連登録!$C$2:$H$3000,6,FALSE))","v":""},null,null,"",{"$f":"IF(G142=\"\",\"\",VLOOKUP(G142,種目名!$R$5:$T$104,3,0))","v":""},{"$f":"IF(J142=\"\",\"\",VLOOKUP(J142,種目名!$R$5:$T$104,3,0))","v":""},{"$f":"IF(M142=\"\",\"\",VLOOKUP(M142,種目名!$R$5:$T$104,3,0))","v":""},{"$f":"IF(P142=\"\",\"\",VLOOKUP(AF142,種目名!$R$5:$T$104,3,0))","v":""},{"$f":"IF(S142=\"\",\"\",VLOOKUP(AI142,種目名!$R$5:$T$104,3,0))","v":""},0,"","",0,"",""]
["",null,{"$f":"IF(B143=\"\",\"\",VLOOKUP(B143,学連登録!$C$2:$G$3000,2,FALSE))","v":""},{"$f":"IF(B143=\"\",\"\",VLOOKUP(B143,学連登録!$C$2:$G$3000,3,FALSE))","v":""},{"$f":"IF(B143=\"\",\"\",VLOOKUP(B143,学連登録!$C$2:$G$3000,4,FALSE))","v":""},"",null,null,null,null,null,null,null,null,null,null,null,null,null,null,null,{"$f":"IF(B143=\"\",\"\",VLOOKUP(B143,学連登録!$C$2:$H$3000,6,FALSE))","v":""},null,null,"",{"$f":"IF(G143=\"\",\"\",VLOOKUP(G143,種目名!$R$5:$T$104,3,0))","v":""},{"$f":"IF(J143=\"\",\"\",VLOOKUP(J143,種目名!$R$5:$T$104,3,0))","v":""},{"$f":"IF(M143=\"\",\"\",VLOOKUP(M143,種目名!$R$5:$T$104,3,0))","v":""},{"$f":"IF(P143=\"\",\"\",VLOOKUP(AF143,種目名!$R$5:$T$104,3,0))","v":""},{"$f":"IF(S143=\"\",\"\",VLOOKUP(AI143,種目名!$R$5:$T$104,3,0))","v":""},0,"","",0,"",""]
["",null,{"$f":"IF(B144=\"\",\"\",VLOOKUP(B144,学連登録!$C$2:$G$3000,2,FALSE))","v":""},{"$f":"IF(B144=\"\",\"\",VLOOKUP(B144,学連登録!$C$2:$G$3000,3,FALSE))","v":""},{"$f":"IF(B144=\"\",\"\",VLOOKUP(B144,学連登録!$C$2:$G$3000,4,FALSE))","v":""},"",null,null,null,null,null,null,null,null,null,null,null,null,null,null,null,{"$f":"IF(B144=\"\",\"\",VLOOKUP(B144,学連登録!$C$2:$H$3000,6,FALSE))","v":""},null,null,"",{"$f":"IF(G144=\"\",\"\",VLOOKUP(G144,種目名!$R$5:$T$104,3,0))","v":""},{"$f":"IF(J144=\"\",\"\",VLOOKUP(J144,種目名!$R$5:$T$104,3,0))","v":""},{"$f":"IF(M144=\"\",\"\",VLOOKUP(M144,種目名!$R$5:$T$104,3,0))","v":""},{"$f":"IF(P144=\"\",\"\",VLOOKUP(AF144,種目名!$R$5:$T$104,3,0))","v":""},{"$f":"IF(S144=\"\",\"\",VLOOKUP(AI144,種目名!$R$5:$T$104,3,0))","v":""},0,"","",0,"",""]
["",null,{"$f":"IF(B145=\"\",\"\",VLOOKUP(B145,学連登録!$C$2:$G$3000,2,FALSE))","v":""},{"$f":"IF(B145=\"\",\"\",VLOOKUP(B145,学連登録!$C$2:$G$3000,3,FALSE))","v":""},{"$f":"IF(B145=\"\",\"\",VLOOKUP(B145,学連登録!$C$2:$G$3000,4,FALSE))","v":""},"",null,null,null,null,null,null,null,null,null,null,null,null,null,null,null,{"$f":"IF(B145=\"\",\"\",VLOOKUP(B145,学連登録!$C$2:$H$3000,6,FALSE))","v":""},null,null,"",{"$f":"IF(G145=\"\",\"\",VLOOKUP(G145,種目名!$R$5:$T$104,3,0))","v":""},{"$f":"IF(J145=\"\",\"\",VLOOKUP(J145,種目名!$R$5:$T$104,3,0))","v":""},{"$f":"IF(M145=\"\",\"\",VLOOKUP(M145,種目名!$R$5:$T$104,3,0))","v":""},{"$f":"IF(P145=\"\",\"\",VLOOKUP(AF145,種目名!$R$5:$T$104,3,0))","v":""},{"$f":"IF(S145=\"\",\"\",VLOOKUP(AI145,種目名!$R$5:$T$104,3,0))","v":""},0,"","",0,"",""]
["",null,{"$f":"IF(B146=\"\",\"\",VLOOKUP(B146,学連登録!$C$2:$G$3000,2,FALSE))","v":""},{"$f":"IF(B146=\"\",\"\",VLOOKUP(B146,学連登録!$C$2:$G$3000,3,FALSE))","v":""},{"$f":"IF(B146=\"\",\"\",VLOOKUP(B146,学連登録!$C$2:$G$3000,4,FALSE))","v":""},"",null,null,null,null,null,null,null,null,null,null,null,null,null,null,null,{"$f":"IF(B146=\"\",\"\",VLOOKUP(B146,学連登録!$C$2:$H$3000,6,FALSE))","v":""},null,null,"",{"$f":"IF(G146=\"\",\"\",VLOOKUP(G146,種目名!$R$5:$T$104,3,0))","v":""},{"$f":"IF(J146=\"\",\"\",VLOOKUP(J146,種目名!$R$5:$T$104,3,0))","v":""},{"$f":"IF(M146=\"\",\"\",VLOOKUP(M146,種目名!$R$5:$T$104,3,0))","v":""},{"$f":"IF(P146=\"\",\"\",VLOOKUP(AF146,種目名!$R$5:$T$104,3,0))","v":""},{"$f":"IF(S146=\"\",\"\",VLOOKUP(AI146,種目名!$R$5:$T$104,3,0))","v":""},0,"","",0,"",""]
["",null,{"$f":"IF(B147=\"\",\"\",VLOOKUP(B147,学連登録!$C$2:$G$3000,2,FALSE))","v":""},{"$f":"IF(B147=\"\",\"\",VLOOKUP(B147,学連登録!$C$2:$G$3000,3,FALSE))","v":""},{"$f":"IF(B147=\"\",\"\",VLOOKUP(B147,学連登録!$C$2:$G$3000,4,FALSE))","v":""},"",null,null,null,null,null,null,null,null,null,null,null,null,null,null,null,{"$f":"IF(B147=\"\",\"\",VLOOKUP(B147,学連登録!$C$2:$H$3000,6,FALSE))","v":""},null,null,"",{"$f":"IF(G147=\"\",\"\",VLOOKUP(G147,種目名!$R$5:$T$104,3,0))","v":""},{"$f":"IF(J147=\"\",\"\",VLOOKUP(J147,種目名!$R$5:$T$104,3,0))","v":""},{"$f":"IF(M147=\"\",\"\",VLOOKUP(M147,種目名!$R$5:$T$104,3,0))","v":""},{"$f":"IF(P147=\"\",\"\",VLOOKUP(AF147,種目名!$R$5:$T$104,3,0))","v":""},{"$f":"IF(S147=\"\",\"\",VLOOKUP(AI147,種目名!$R$5:$T$104,3,0))","v":""},0,"","",0,"",""]
["",null,{"$f":"IF(B148=\"\",\"\",VLOOKUP(B148,学連登録!$C$2:$G$3000,2,FALSE))","v":""},{"$f":"IF(B148=\"\",\"\",VLOOKUP(B148,学連登録!$C$2:$G$3000,3,FALSE))","v":""},{"$f":"IF(B148=\"\",\"\",VLOOKUP(B148,学連登録!$C$2:$G$3000,4,FALSE))","v":""},"",null,null,null,null,null,null,null,null,null,null,null,null,null,null,null,{"$f":"IF(B148=\"\",\"\",VLOOKUP(B148,学連登録!$C$2:$H$3000,6,FALSE))","v":""},null,null,"",{"$f":"IF(G148=\"\",\"\",VLOOKUP(G148,種目名!$R$5:$T$104,3,0))","v":""},{"$f":"IF(J148=\"\",\"\",VLOOKUP(J148,種目名!$R$5:$T$104,3,0))","v":""},{"$f":"IF(M148=\"\",\"\",VLOOKUP(M148,種目名!$R$5:$T$104,3,0))","v":""},{"$f":"IF(P148=\"\",\"\",VLOOKUP(AF148,種目名!$R$5:$T$104,3,0))","v":""},{"$f":"IF(S148=\"\",\"\",VLOOKUP(AI148,種目名!$R$5:$T$104,3,0))","v":""},0,"","",0,"",""]
["",null,{"$f":"IF(B149=\"\",\"\",VLOOKUP(B149,学連登録!$C$2:$G$3000,2,FALSE))","v":""},{"$f":"IF(B149=\"\",\"\",VLOOKUP(B149,学連登録!$C$2:$G$3000,3,FALSE))","v":""},{"$f":"IF(B149=\"\",\"\",VLOOKUP(B149,学連登録!$C$2:$G$3000,4,FALSE))","v":""},"",null,null,null,null,null,null,null,null,null,null,null,null,null,null,null,{"$f":"IF(B149=\"\",\"\",VLOOKUP(B149,学連登録!$C$2:$H$3000,6,FALSE))","v":""},null,null,"",{"$f":"IF(G149=\"\",\"\",VLOOKUP(G149,種目名!$R$5:$T$104,3,0))","v":""},{"$f":"IF(J149=\"\",\"\",VLOOKUP(J149,種目名!$R$5:$T$104,3,0))","v":""},{"$f":"IF(M149=\"\",\"\",VLOOKUP(M149,種目名!$R$5:$T$104,3,0))","v":""},{"$f":"IF(P149=\"\",\"\",VLOOKUP(AF149,種目名!$R$5:$T$104,3,0))","v":""},{"$f":"IF(S149=\"\",\"\",VLOOKUP(AI149,種目名!$R$5:$T$104,3,0))","v":""},0,"","",0,"",""]
["",null,{"$f":"IF(B150=\"\",\"\",VLOOKUP(B150,学連登録!$C$2:$G$3000,2,FALSE))","v":""},{"$f":"IF(B150=\"\",\"\",VLOOKUP(B150,学連登録!$C$2:$G$3000,3,FALSE))","v":""},{"$f":"IF(B150=\"\",\"\",VLOOKUP(B150,学連登録!$C$2:$G$3000,4,FALSE))","v":""},"",null,null,null,null,null,null,null,null,null,null,null,null,null,null,null,{"$f":"IF(B150=\"\",\"\",VLOOKUP(B150,学連登録!$C$2:$H$3000,6,FALSE))","v":""},null,null,{"$f":"IF(C150=\"\",\"\",$S$3)","v":""},{"$f":"IF(G150=\"\",\"\",VLOOKUP(G150,種目名!$R$5:$T$104,3,0))","v":""},{"$f":"IF(J150=\"\",\"\",VLOOKUP(J150,種目名!$R$5:$T$104,3,0))","v":""},{"$f":"IF(M150=\"\",\"\",VLOOKUP(M150,種目名!$R$5:$T$104,3,0))","v":""},{"$f":"IF(P150=\"\",\"\",VLOOKUP(AF150,種目名!$R$5:$T$104,3,0))","v":""},{"$f":"IF(S150=\"\",\"\",VLOOKUP(AI150,種目名!$R$5:$T$104,3,0))","v":""},{"$f":"LENB(P150)","v":0},{"$f":"IF(AE150,LEFTB(P150,AE150-1),\"\")","v":""},{"$f":"IF(AE150,MIDB(P150,AE150,1),\"\")","v":""},{"$f":"LENB(S150)","v":0},{"$f":"IF(AH150,LEFTB(S150,AH150-1),\"\")","v":""},{"$f":"IF(AH150,MIDB(S150,AH150,1),\"\")","v":""}]
["",null,{"$f":"IF(B151=\"\",\"\",VLOOKUP(B151,学連登録!$C$2:$G$3000,2,FALSE))","v":""},{"$f":"IF(B151=\"\",\"\",VLOOKUP(B151,学連登録!$C$2:$G$3000,3,FALSE))","v":""},{"$f":"IF(B151=\"\",\"\",VLOOKUP(B151,学連登録!$C$2:$G$3000,4,FALSE))","v":""},"",null,null,null,null,null,null,null,null,null,null,null,null,null,null,null,{"$f":"IF(B151=\"\",\"\",VLOOKUP(B151,学連登録!$C$2:$H$3000,6,FALSE))","v":""},null,null,"",{"$f":"IF(G151=\"\",\"\",VLOOKUP(G151,種目名!$R$5:$T$104,3,0))","v":""},{"$f":"IF(J151=\"\",\"\",VLOOKUP(J151,種目名!$R$5:$T$104,3,0))","v":""},{"$f":"IF(M151=\"\",\"\",VLOOKUP(M151,種目名!$R$5:$T$104,3,0))","v":""},{"$f":"IF(P151=\"\",\"\",VLOOKUP(AF151,種目名!$R$5:$T$104,3,0))","v":""},{"$f":"IF(S151=\"\",\"\",VLOOKUP(AI151,種目名!$R$5:$T$104,3,0))","v":""},0,"","",0,"",""]
["",null,{"$f":"IF(B152=\"\",\"\",VLOOKUP(B152,学連登録!$C$2:$G$3000,2,FALSE))","v":""},{"$f":"IF(B152=\"\",\"\",VLOOKUP(B152,学連登録!$C$2:$G$3000,3,FALSE))","v":""},{"$f":"IF(B152=\"\",\"\",VLOOKUP(B152,学連登録!$C$2:$G$3000,4,FALSE))","v":""},"",null,null,null,null,null,null,null,null,null,null,null,null,null,null,null,{"$f":"IF(B152=\"\",\"\",VLOOKUP(B152,学連登録!$C$2:$H$3000,6,FALSE))","v":""},null,null,"",{"$f":"IF(G152=\"\",\"\",VLOOKUP(G152,種目名!$R$5:$T$104,3,0))","v":""},{"$f":"IF(J152=\"\",\"\",VLOOKUP(J152,種目名!$R$5:$T$104,3,0))","v":""},{"$f":"IF(M152=\"\",\"\",VLOOKUP(M152,種目名!$R$5:$T$104,3,0))","v":""},{"$f":"IF(P152=\"\",\"\",VLOOKUP(AF152,種目名!$R$5:$T$104,3,0))","v":""},{"$f":"IF(S152=\"\",\"\",VLOOKUP(AI152,種目名!$R$5:$T$104,3,0))","v":""},0,"","",0,"",""]
["",null,{"$f":"IF(B153=\"\",\"\",VLOOKUP(B153,学連登録!$C$2:$G$3000,2,FALSE))","v":""},{"$f":"IF(B153=\"\",\"\",VLOOKUP(B153,学連登録!$C$2:$G$3000,3,FALSE))","v":""},{"$f":"IF(B153=\"\",\"\",VLOOKUP(B153,学連登録!$C$2:$G$3000,4,FALSE))","v":""},"",null,null,null,null,null,null,null,null,null,null,null,null,null,null,null,{"$f":"IF(B153=\"\",\"\",VLOOKUP(B153,学連登録!$C$2:$H$3000,6,FALSE))","v":""},null,null,"",{"$f":"IF(G153=\"\",\"\",VLOOKUP(G153,種目名!$R$5:$T$104,3,0))","v":""},{"$f":"IF(J153=\"\",\"\",VLOOKUP(J153,種目名!$R$5:$T$104,3,0))","v":""},{"$f":"IF(M153=\"\",\"\",VLOOKUP(M153,種目名!$R$5:$T$104,3,0))","v":""},{"$f":"IF(P153=\"\",\"\",VLOOKUP(AF153,種目名!$R$5:$T$104,3,0))","v":""},{"$f":"IF(S153=\"\",\"\",VLOOKUP(AI153,種目名!$R$5:$T$104,3,0))","v":""},0,"","",0,"",""]
["",null,{"$f":"IF(B154=\"\",\"\",VLOOKUP(B154,学連登録!$C$2:$G$3000,2,FALSE))","v":""},{"$f":"IF(B154=\"\",\"\",VLOOKUP(B154,学連登録!$C$2:$G$3000,3,FALSE))","v":""},{"$f":"IF(B154=\"\",\"\",VLOOKUP(B154,学連登録!$C$2:$G$3000,4,FALSE))","v":""},"",null,null,null,null,null,null,null,null,null,null,null,null,null,null,null,{"$f":"IF(B154=\"\",\"\",VLOOKUP(B154,学連登録!$C$2:$H$3000,6,FALSE))","v":""},null,null,"",{"$f":"IF(G154=\"\",\"\",VLOOKUP(G154,種目名!$R$5:$T$104,3,0))","v":""},{"$f":"IF(J154=\"\",\"\",VLOOKUP(J154,種目名!$R$5:$T$104,3,0))","v":""},{"$f":"IF(M154=\"\",\"\",VLOOKUP(M154,種目名!$R$5:$T$104,3,0))","v":""},{"$f":"IF(P154=\"\",\"\",VLOOKUP(AF154,種目名!$R$5:$T$104,3,0))","v":""},{"$f":"IF(S154=\"\",\"\",VLOOKUP(AI154,種目名!$R$5:$T$104,3,0))","v":""},0,"","",0,"",""]
["",null,{"$f":"IF(B155=\"\",\"\",VLOOKUP(B155,学連登録!$C$2:$G$3000,2,FALSE))","v":""},{"$f":"IF(B155=\"\",\"\",VLOOKUP(B155,学連登録!$C$2:$G$3000,3,FALSE))","v":""},{"$f":"IF(B155=\"\",\"\",VLOOKUP(B155,学連登録!$C$2:$G$3000,4,FALSE))","v":""},"",null,null,null,null,null,null,null,null,null,null,null,null,null,null,null,{"$f":"IF(B155=\"\",\"\",VLOOKUP(B155,学連登録!$C$2:$H$3000,6,FALSE))","v":""},null,null,"",{"$f":"IF(G155=\"\",\"\",VLOOKUP(G155,種目名!$R$5:$T$104,3,0))","v":""},{"$f":"IF(J155=\"\",\"\",VLOOKUP(J155,種目名!$R$5:$T$104,3,0))","v":""},{"$f":"IF(M155=\"\",\"\",VLOOKUP(M155,種目名!$R$5:$T$104,3,0))","v":""},{"$f":"IF(P155=\"\",\"\",VLOOKUP(AF155,種目名!$R$5:$T$104,3,0))","v":""},{"$f":"IF(S155=\"\",\"\",VLOOKUP(AI155,種目名!$R$5:$T$104,3,0))","v":""},0,"","",0,"",""]
["",null,{"$f":"IF(B156=\"\",\"\",VLOOKUP(B156,学連登録!$C$2:$G$3000,2,FALSE))","v":""},{"$f":"IF(B156=\"\",\"\",VLOOKUP(B156,学連登録!$C$2:$G$3000,3,FALSE))","v":""},{"$f":"IF(B156=\"\",\"\",VLOOKUP(B156,学連登録!$C$2:$G$3000,4,FALSE))","v":""},"",null,null,null,null,null,null,null,null,null,null,null,null,null,null,null,{"$f":"IF(B156=\"\",\"\",VLOOKUP(B156,学連登録!$C$2:$H$3000,6,FALSE))","v":""},null,null,"",{"$f":"IF(G156=\"\",\"\",VLOOKUP(G156,種目名!$R$5:$T$104,3,0))","v":""},{"$f":"IF(J156=\"\",\"\",VLOOKUP(J156,種目名!$R$5:$T$104,3,0))","v":""},{"$f":"IF(M156=\"\",\"\",VLOOKUP(M156,種目名!$R$5:$T$104,3,0))","v":""},{"$f":"IF(P156=\"\",\"\",VLOOKUP(AF156,種目名!$R$5:$T$104,3,0))","v":""},{"$f":"IF(S156=\"\",\"\",VLOOKUP(AI156,種目名!$R$5:$T$104,3,0))","v":""},0,"","",0,"",""]
["",null,{"$f":"IF(B157=\"\",\"\",VLOOKUP(B157,学連登録!$C$2:$G$3000,2,FALSE))","v":""},{"$f":"IF(B157=\"\",\"\",VLOOKUP(B157,学連登録!$C$2:$G$3000,3,FALSE))","v":""},{"$f":"IF(B157=\"\",\"\",VLOOKUP(B157,学連登録!$C$2:$G$3000,4,FALSE))","v":""},"",null,null,null,null,null,null,null,null,null,null,null,null,null,null,null,{"$f":"IF(B157=\"\",\"\",VLOOKUP(B157,学連登録!$C$2:$H$3000,6,FALSE))","v":""},null,null,"",{"$f":"IF(G157=\"\",\"\",VLOOKUP(G157,種目名!$R$5:$T$104,3,0))","v":""},{"$f":"IF(J157=\"\",\"\",VLOOKUP(J157,種目名!$R$5:$T$104,3,0))","v":""},{"$f":"IF(M157=\"\",\"\",VLOOKUP(M157,種目名!$R$5:$T$104,3,0))","v":""},{"$f":"IF(P157=\"\",\"\",VLOOKUP(AF157,種目名!$R$5:$T$104,3,0))","v":""},{"$f":"IF(S157=\"\",\"\",VLOOKUP(AI157,種目名!$R$5:$T$104,3,0))","v":""},0,"","",0,"",""]
["",null,{"$f":"IF(B158=\"\",\"\",VLOOKUP(B158,学連登録!$C$2:$G$3000,2,FALSE))","v":""},{"$f":"IF(B158=\"\",\"\",VLOOKUP(B158,学連登録!$C$2:$G$3000,3,FALSE))","v":""},{"$f":"IF(B158=\"\",\"\",VLOOKUP(B158,学連登録!$C$2:$G$3000,4,FALSE))","v":""},"",null,null,null,null,null,null,null,null,null,null,null,null,null,null,null,{"$f":"IF(B158=\"\",\"\",VLOOKUP(B158,学連登録!$C$2:$H$3000,6,FALSE))","v":""},null,null,"",{"$f":"IF(G158=\"\",\"\",VLOOKUP(G158,種目名!$R$5:$T$104,3,0))","v":""},{"$f":"IF(J158=\"\",\"\",VLOOKUP(J158,種目名!$R$5:$T$104,3,0))","v":""},{"$f":"IF(M158=\"\",\"\",VLOOKUP(M158,種目名!$R$5:$T$104,3,0))","v":""},{"$f":"IF(P158=\"\",\"\",VLOOKUP(AF158,種目名!$R$5:$T$104,3,0))","v":""},{"$f":"IF(S158=\"\",\"\",VLOOKUP(AI158,種目名!$R$5:$T$104,3,0))","v":""},0,"","",0,"",""]
["",null,{"$f":"IF(B159=\"\",\"\",VLOOKUP(B159,学連登録!$C$2:$G$3000,2,FALSE))","v":""},{"$f":"IF(B159=\"\",\"\",VLOOKUP(B159,学連登録!$C$2:$G$3000,3,FALSE))","v":""},{"$f":"IF(B159=\"\",\"\",VLOOKUP(B159,学連登録!$C$2:$G$3000,4,FALSE))","v":""},"",null,null,null,null,null,null,null,null,null,null,null,null,null,null,null,{"$f":"IF(B159=\"\",\"\",VLOOKUP(B159,学連登録!$C$2:$H$3000,6,FALSE))","v":""},null,null,"",{"$f":"IF(G159=\"\",\"\",VLOOKUP(G159,種目名!$R$5:$T$104,3,0))","v":""},{"$f":"IF(J159=\"\",\"\",VLOOKUP(J159,種目名!$R$5:$T$104,3,0))","v":""},{"$f":"IF(M159=\"\",\"\",VLOOKUP(M159,種目名!$R$5:$T$104,3,0))","v":""},{"$f":"IF(P159=\"\",\"\",VLOOKUP(AF159,種目名!$R$5:$T$104,3,0))","v":""},{"$f":"IF(S159=\"\",\"\",VLOOKUP(AI159,種目名!$R$5:$T$104,3,0))","v":""},0,"","",0,"",""]
["",null,{"$f":"IF(B160=\"\",\"\",VLOOKUP(B160,学連登録!$C$2:$G$3000,2,FALSE))","v":""},{"$f":"IF(B160=\"\",\"\",VLOOKUP(B160,学連登録!$C$2:$G$3000,3,FALSE))","v":""},{"$f":"IF(B160=\"\",\"\",VLOOKUP(B160,学連登録!$C$2:$G$3000,4,FALSE))","v":""},"",null,null,null,null,null,null,null,null,null,null,null,null,null,null,null,{"$f":"IF(B160=\"\",\"\",VLOOKUP(B160,学連登録!$C$2:$H$3000,6,FALSE))","v":""},null,null,"",{"$f":"IF(G160=\"\",\"\",VLOOKUP(G160,種目名!$R$5:$T$104,3,0))","v":""},{"$f":"IF(J160=\"\",\"\",VLOOKUP(J160,種目名!$R$5:$T$104,3,0))","v":""},{"$f":"IF(M160=\"\",\"\",VLOOKUP(M160,種目名!$R$5:$T$104,3,0))","v":""},{"$f":"IF(P160=\"\",\"\",VLOOKUP(AF160,種目名!$R$5:$T$104,3,0))","v":""},{"$f":"IF(S160=\"\",\"\",VLOOKUP(AI160,種目名!$R$5:$T$104,3,0))","v":""},0,"","",0,"",""]
["",null,{"$f":"IF(B161=\"\",\"\",VLOOKUP(B161,学連登録!$C$2:$G$3000,2,FALSE))","v":""},{"$f":"IF(B161=\"\",\"\",VLOOKUP(B161,学連登録!$C$2:$G$3000,3,FALSE))","v":""},{"$f":"IF(B161=\"\",\"\",VLOOKUP(B161,学連登録!$C$2:$G$3000,4,FALSE))","v":""},"",null,null,null,null,null,null,null,null,null,null,null,null,null,null,null,{"$f":"IF(B161=\"\",\"\",VLOOKUP(B161,学連登録!$C$2:$H$3000,6,FALSE))","v":""},null,null,"",{"$f":"IF(G161=\"\",\"\",VLOOKUP(G161,種目名!$R$5:$T$104,3,0))","v":""},{"$f":"IF(J161=\"\",\"\",VLOOKUP(J161,種目名!$R$5:$T$104,3,0))","v":""},{"$f":"IF(M161=\"\",\"\",VLOOKUP(M161,種目名!$R$5:$T$104,3,0))","v":""},{"$f":"IF(P161=\"\",\"\",VLOOKUP(AF161,種目名!$R$5:$T$104,3,0))","v":""},{"$f":"IF(S161=\"\",\"\",VLOOKUP(AI161,種目名!$R$5:$T$104,3,0))","v":""},0,"","",0,"",""]
["",null,{"$f":"IF(B162=\"\",\"\",VLOOKUP(B162,学連登録!$C$2:$G$3000,2,FALSE))","v":""},{"$f":"IF(B162=\"\",\"\",VLOOKUP(B162,学連登録!$C$2:$G$3000,3,FALSE))","v":""},{"$f":"IF(B162=\"\",\"\",VLOOKUP(B162,学連登録!$C$2:$G$3000,4,FALSE))","v":""},"",null,null,null,null,null,null,null,null,null,null,null,null,null,null,null,{"$f":"IF(B162=\"\",\"\",VLOOKUP(B162,学連登録!$C$2:$H$3000,6,FALSE))","v":""},null,null,"",{"$f":"IF(G162=\"\",\"\",VLOOKUP(G162,種目名!$R$5:$T$104,3,0))","v":""},{"$f":"IF(J162=\"\",\"\",VLOOKUP(J162,種目名!$R$5:$T$104,3,0))","v":""},{"$f":"IF(M162=\"\",\"\",VLOOKUP(M162,種目名!$R$5:$T$104,3,0))","v":""},{"$f":"IF(P162=\"\",\"\",VLOOKUP(AF162,種目名!$R$5:$T$104,3,0))","v":""},{"$f":"IF(S162=\"\",\"\",VLOOKUP(AI162,種目名!$R$5:$T$104,3,0))","v":""},0,"","",0,"",""]
["",null,{"$f":"IF(B163=\"\",\"\",VLOOKUP(B163,学連登録!$C$2:$G$3000,2,FALSE))","v":""},{"$f":"IF(B163=\"\",\"\",VLOOKUP(B163,学連登録!$C$2:$G$3000,3,FALSE))","v":""},{"$f":"IF(B163=\"\",\"\",VLOOKUP(B163,学連登録!$C$2:$G$3000,4,FALSE))","v":""},"",null,null,null,null,null,null,null,null,null,null,null,null,null,null,null,{"$f":"IF(B163=\"\",\"\",VLOOKUP(B163,学連登録!$C$2:$H$3000,6,FALSE))","v":""},null,null,"",{"$f":"IF(G163=\"\",\"\",VLOOKUP(G163,種目名!$R$5:$T$104,3,0))","v":""},{"$f":"IF(J163=\"\",\"\",VLOOKUP(J163,種目名!$R$5:$T$104,3,0))","v":""},{"$f":"IF(M163=\"\",\"\",VLOOKUP(M163,種目名!$R$5:$T$104,3,0))","v":""},{"$f":"IF(P163=\"\",\"\",VLOOKUP(AF163,種目名!$R$5:$T$104,3,0))","v":""},{"$f":"IF(S163=\"\",\"\",VLOOKUP(AI163,種目名!$R$5:$T$104,3,0))","v":""},0,"","",0,"",""]
["",null,{"$f":"IF(B164=\"\",\"\",VLOOKUP(B164,学連登録!$C$2:$G$3000,2,FALSE))","v":""},{"$f":"IF(B164=\"\",\"\",VLOOKUP(B164,学連登録!$C$2:$G$3000,3,FALSE))","v":""},{"$f":"IF(B164=\"\",\"\",VLOOKUP(B164,学連登録!$C$2:$G$3000,4,FALSE))","v":""},"",null,null,null,null,null,null,null,null,null,null,null,null,null,null,null,{"$f":"IF(B164=\"\",\"\",VLOOKUP(B164,学連登録!$C$2:$H$3000,6,FALSE))","v":""},null,null,"",{"$f":"IF(G164=\"\",\"\",VLOOKUP(G164,種目名!$R$5:$T$104,3,0))","v":""},{"$f":"IF(J164=\"\",\"\",VLOOKUP(J164,種目名!$R$5:$T$104,3,0))","v":""},{"$f":"IF(M164=\"\",\"\",VLOOKUP(M164,種目名!$R$5:$T$104,3,0))","v":""},{"$f":"IF(P164=\"\",\"\",VLOOKUP(AF164,種目名!$R$5:$T$104,3,0))","v":""},{"$f":"IF(S164=\"\",\"\",VLOOKUP(AI164,種目名!$R$5:$T$104,3,0))","v":""},0,"","",0,"",""]
["",null,{"$f":"IF(B165=\"\",\"\",VLOOKUP(B165,学連登録!$C$2:$G$3000,2,FALSE))","v":""},{"$f":"IF(B165=\"\",\"\",VLOOKUP(B165,学連登録!$C$2:$G$3000,3,FALSE))","v":""},{"$f":"IF(B165=\"\",\"\",VLOOKUP(B165,学連登録!$C$2:$G$3000,4,FALSE))","v":""},"",null,null,null,null,null,null,null,null,null,null,null,null,null,null,null,{"$f":"IF(B165=\"\",\"\",VLOOKUP(B165,学連登録!$C$2:$H$3000,6,FALSE))","v":""},null,null,"",{"$f":"IF(G165=\"\",\"\",VLOOKUP(G165,種目名!$R$5:$T$104,3,0))","v":""},{"$f":"IF(J165=\"\",\"\",VLOOKUP(J165,種目名!$R$5:$T$104,3,0))","v":""},{"$f":"IF(M165=\"\",\"\",VLOOKUP(M165,種目名!$R$5:$T$104,3,0))","v":""},{"$f":"IF(P165=\"\",\"\",VLOOKUP(AF165,種目名!$R$5:$T$104,3,0))","v":""},{"$f":"IF(S165=\"\",\"\",VLOOKUP(AI165,種目名!$R$5:$T$104,3,0))","v":""},0,"","",0,"",""]
["",null,{"$f":"IF(B166=\"\",\"\",VLOOKUP(B166,学連登録!$C$2:$G$3000,2,FALSE))","v":""},{"$f":"IF(B166=\"\",\"\",VLOOKUP(B166,学連登録!$C$2:$G$3000,3,FALSE))","v":""},{"$f":"IF(B166=\"\",\"\",VLOOKUP(B166,学連登録!$C$2:$G$3000,4,FALSE))","v":""},"",null,null,null,null,null,null,null,null,null,null,null,null,null,null,null,{"$f":"IF(B166=\"\",\"\",VLOOKUP(B166,学連登録!$C$2:$H$3000,6,FALSE))","v":""},null,null,"",{"$f":"IF(G166=\"\",\"\",VLOOKUP(G166,種目名!$R$5:$T$104,3,0))","v":""},{"$f":"IF(J166=\"\",\"\",VLOOKUP(J166,種目名!$R$5:$T$104,3,0))","v":""},{"$f":"IF(M166=\"\",\"\",VLOOKUP(M166,種目名!$R$5:$T$104,3,0))","v":""},{"$f":"IF(P166=\"\",\"\",VLOOKUP(AF166,種目名!$R$5:$T$104,3,0))","v":""},{"$f":"IF(S166=\"\",\"\",VLOOKUP(AI166,種目名!$R$5:$T$104,3,0))","v":""},0,"","",0,"",""]
["",null,{"$f":"IF(B167=\"\",\"\",VLOOKUP(B167,学連登録!$C$2:$G$3000,2,FALSE))","v":""},{"$f":"IF(B167=\"\",\"\",VLOOKUP(B167,学連登録!$C$2:$G$3000,3,FALSE))","v":""},{"$f":"IF(B167=\"\",\"\",VLOOKUP(B167,学連登録!$C$2:$G$3000,4,FALSE))","v":""},"",null,null,null,null,null,null,null,null,null,null,null,null,null,null,null,{"$f":"IF(B167=\"\",\"\",VLOOKUP(B167,学連登録!$C$2:$H$3000,6,FALSE))","v":""},null,null,"",{"$f":"IF(G167=\"\",\"\",VLOOKUP(G167,種目名!$R$5:$T$104,3,0))","v":""},{"$f":"IF(J167=\"\",\"\",VLOOKUP(J167,種目名!$R$5:$T$104,3,0))","v":""},{"$f":"IF(M167=\"\",\"\",VLOOKUP(M167,種目名!$R$5:$T$104,3,0))","v":""},{"$f":"IF(P167=\"\",\"\",VLOOKUP(AF167,種目名!$R$5:$T$104,3,0))","v":""},{"$f":"IF(S167=\"\",\"\",VLOOKUP(AI167,種目名!$R$5:$T$104,3,0))","v":""},0,"","",0,"",""]
["",null,{"$f":"IF(B168=\"\",\"\",VLOOKUP(B168,学連登録!$C$2:$G$3000,2,FALSE))","v":""},{"$f":"IF(B168=\"\",\"\",VLOOKUP(B168,学連登録!$C$2:$G$3000,3,FALSE))","v":""},{"$f":"IF(B168=\"\",\"\",VLOOKUP(B168,学連登録!$C$2:$G$3000,4,FALSE))","v":""},"",null,null,null,null,null,null,null,null,null,null,null,null,null,null,null,{"$f":"IF(B168=\"\",\"\",VLOOKUP(B168,学連登録!$C$2:$H$3000,6,FALSE))","v":""},null,null,"",{"$f":"IF(G168=\"\",\"\",VLOOKUP(G168,種目名!$R$5:$T$104,3,0))","v":""},{"$f":"IF(J168=\"\",\"\",VLOOKUP(J168,種目名!$R$5:$T$104,3,0))","v":""},{"$f":"IF(M168=\"\",\"\",VLOOKUP(M168,種目名!$R$5:$T$104,3,0))","v":""},{"$f":"IF(P168=\"\",\"\",VLOOKUP(AF168,種目名!$R$5:$T$104,3,0))","v":""},{"$f":"IF(S168=\"\",\"\",VLOOKUP(AI168,種目名!$R$5:$T$104,3,0))","v":""},0,"","",0,"",""]
["",null,{"$f":"IF(B169=\"\",\"\",VLOOKUP(B169,学連登録!$C$2:$G$3000,2,FALSE))","v":""},{"$f":"IF(B169=\"\",\"\",VLOOKUP(B169,学連登録!$C$2:$G$3000,3,FALSE))","v":""},{"$f":"IF(B169=\"\",\"\",VLOOKUP(B169,学連登録!$C$2:$G$3000,4,FALSE))","v":""},"",null,null,null,null,null,null,null,null,null,null,null,null,null,null,null,{"$f":"IF(B169=\"\",\"\",VLOOKUP(B169,学連登録!$C$2:$H$3000,6,FALSE))","v":""},null,null,"",{"$f":"IF(G169=\"\",\"\",VLOOKUP(G169,種目名!$R$5:$T$104,3,0))","v":""},{"$f":"IF(J169=\"\",\"\",VLOOKUP(J169,種目名!$R$5:$T$104,3,0))","v":""},{"$f":"IF(M169=\"\",\"\",VLOOKUP(M169,種目名!$R$5:$T$104,3,0))","v":""},{"$f":"IF(P169=\"\",\"\",VLOOKUP(AF169,種目名!$R$5:$T$104,3,0))","v":""},{"$f":"IF(S169=\"\",\"\",VLOOKUP(AI169,種目名!$R$5:$T$104,3,0))","v":""},0,"","",0,"",""]
["",null,{"$f":"IF(B170=\"\",\"\",VLOOKUP(B170,学連登録!$C$2:$G$3000,2,FALSE))","v":""},{"$f":"IF(B170=\"\",\"\",VLOOKUP(B170,学連登録!$C$2:$G$3000,3,FALSE))","v":""},{"$f":"IF(B170=\"\",\"\",VLOOKUP(B170,学連登録!$C$2:$G$3000,4,FALSE))","v":""},"",null,null,null,null,null,null,null,null,null,null,null,null,null,null,null,{"$f":"IF(B170=\"\",\"\",VLOOKUP(B170,学連登録!$C$2:$H$3000,6,FALSE))","v":""},null,null,"",{"$f":"IF(G170=\"\",\"\",VLOOKUP(G170,種目名!$R$5:$T$104,3,0))","v":""},{"$f":"IF(J170=\"\",\"\",VLOOKUP(J170,種目名!$R$5:$T$104,3,0))","v":""},{"$f":"IF(M170=\"\",\"\",VLOOKUP(M170,種目名!$R$5:$T$104,3,0))","v":""},{"$f":"IF(P170=\"\",\"\",VLOOKUP(AF170,種目名!$R$5:$T$104,3,0))","v":""},{"$f":"IF(S170=\"\",\"\",VLOOKUP(AI170,種目名!$R$5:$T$104,3,0))","v":""},0,"","",0,"",""]
["",null,{"$f":"IF(B171=\"\",\"\",VLOOKUP(B171,学連登録!$C$2:$G$3000,2,FALSE))","v":""},{"$f":"IF(B171=\"\",\"\",VLOOKUP(B171,学連登録!$C$2:$G$3000,3,FALSE))","v":""},{"$f":"IF(B171=\"\",\"\",VLOOKUP(B171,学連登録!$C$2:$G$3000,4,FALSE))","v":""},"",null,null,null,null,null,null,null,null,null,null,null,null,null,null,null,{"$f":"IF(B171=\"\",\"\",VLOOKUP(B171,学連登録!$C$2:$H$3000,6,FALSE))","v":""},null,null,"",{"$f":"IF(G171=\"\",\"\",VLOOKUP(G171,種目名!$R$5:$T$104,3,0))","v":""},{"$f":"IF(J171=\"\",\"\",VLOOKUP(J171,種目名!$R$5:$T$104,3,0))","v":""},{"$f":"IF(M171=\"\",\"\",VLOOKUP(M171,種目名!$R$5:$T$104,3,0))","v":""},{"$f":"IF(P171=\"\",\"\",VLOOKUP(AF171,種目名!$R$5:$T$104,3,0))","v":""},{"$f":"IF(S171=\"\",\"\",VLOOKUP(AI171,種目名!$R$5:$T$104,3,0))","v":""},0,"","",0,"",""]
["",null,{"$f":"IF(B172=\"\",\"\",VLOOKUP(B172,学連登録!$C$2:$G$3000,2,FALSE))","v":""},{"$f":"IF(B172=\"\",\"\",VLOOKUP(B172,学連登録!$C$2:$G$3000,3,FALSE))","v":""},{"$f":"IF(B172=\"\",\"\",VLOOKUP(B172,学連登録!$C$2:$G$3000,4,FALSE))","v":""},"",null,null,null,null,null,null,null,null,null,null,null,null,null,null,null,{"$f":"IF(B172=\"\",\"\",VLOOKUP(B172,学連登録!$C$2:$H$3000,6,FALSE))","v":""},null,null,"",{"$f":"IF(G172=\"\",\"\",VLOOKUP(G172,種目名!$R$5:$T$104,3,0))","v":""},{"$f":"IF(J172=\"\",\"\",VLOOKUP(J172,種目名!$R$5:$T$104,3,0))","v":""},{"$f":"IF(M172=\"\",\"\",VLOOKUP(M172,種目名!$R$5:$T$104,3,0))","v":""},{"$f":"IF(P172=\"\",\"\",VLOOKUP(AF172,種目名!$R$5:$T$104,3,0))","v":""},{"$f":"IF(S172=\"\",\"\",VLOOKUP(AI172,種目名!$R$5:$T$104,3,0))","v":""},0,"","",0,"",""]
["",null,{"$f":"IF(B173=\"\",\"\",VLOOKUP(B173,学連登録!$C$2:$G$3000,2,FALSE))","v":""},{"$f":"IF(B173=\"\",\"\",VLOOKUP(B173,学連登録!$C$2:$G$3000,3,FALSE))","v":""},{"$f":"IF(B173=\"\",\"\",VLOOKUP(B173,学連登録!$C$2:$G$3000,4,FALSE))","v":""},"",null,null,null,null,null,null,null,null,null,null,null,null,null,null,null,{"$f":"IF(B173=\"\",\"\",VLOOKUP(B173,学連登録!$C$2:$H$3000,6,FALSE))","v":""},null,null,"",{"$f":"IF(G173=\"\",\"\",VLOOKUP(G173,種目名!$R$5:$T$104,3,0))","v":""},{"$f":"IF(J173=\"\",\"\",VLOOKUP(J173,種目名!$R$5:$T$104,3,0))","v":""},{"$f":"IF(M173=\"\",\"\",VLOOKUP(M173,種目名!$R$5:$T$104,3,0))","v":""},{"$f":"IF(P173=\"\",\"\",VLOOKUP(AF173,種目名!$R$5:$T$104,3,0))","v":""},{"$f":"IF(S173=\"\",\"\",VLOOKUP(AI173,種目名!$R$5:$T$104,3,0))","v":""},0,"","",0,"",""]
["",null,{"$f":"IF(B174=\"\",\"\",VLOOKUP(B174,学連登録!$C$2:$G$3000,2,FALSE))","v":""},{"$f":"IF(B174=\"\",\"\",VLOOKUP(B174,学連登録!$C$2:$G$3000,3,FALSE))","v":""},{"$f":"IF(B174=\"\",\"\",VLOOKUP(B174,学連登録!$C$2:$G$3000,4,FALSE))","v":""},"",null,null,null,null,null,null,null,null,null,null,null,null,null,null,null,{"$f":"IF(B174=\"\",\"\",VLOOKUP(B174,学連登録!$C$2:$H$3000,6,FALSE))","v":""},null,null,"",{"$f":"IF(G174=\"\",\"\",VLOOKUP(G174,種目名!$R$5:$T$104,3,0))","v":""},{"$f":"IF(J174=\"\",\"\",VLOOKUP(J174,種目名!$R$5:$T$104,3,0))","v":""},{"$f":"IF(M174=\"\",\"\",VLOOKUP(M174,種目名!$R$5:$T$104,3,0))","v":""},{"$f":"IF(P174=\"\",\"\",VLOOKUP(AF174,種目名!$R$5:$T$104,3,0))","v":""},{"$f":"IF(S174=\"\",\"\",VLOOKUP(AI174,種目名!$R$5:$T$104,3,0))","v":""},0,"","",0,"",""]
["",null,{"$f":"IF(B175=\"\",\"\",VLOOKUP(B175,学連登録!$C$2:$G$3000,2,FALSE))","v":""},{"$f":"IF(B175=\"\",\"\",VLOOKUP(B175,学連登録!$C$2:$G$3000,3,FALSE))","v":""},{"$f":"IF(B175=\"\",\"\",VLOOKUP(B175,学連登録!$C$2:$G$3000,4,FALSE))","v":""},"",null,null,null,null,null,null,null,null,null,null,null,null,null,null,null,{"$f":"IF(B175=\"\",\"\",VLOOKUP(B175,学連登録!$C$2:$H$3000,6,FALSE))","v":""},null,null,"",{"$f":"IF(G175=\"\",\"\",VLOOKUP(G175,種目名!$R$5:$T$104,3,0))","v":""},{"$f":"IF(J175=\"\",\"\",VLOOKUP(J175,種目名!$R$5:$T$104,3,0))","v":""},{"$f":"IF(M175=\"\",\"\",VLOOKUP(M175,種目名!$R$5:$T$104,3,0))","v":""},{"$f":"IF(P175=\"\",\"\",VLOOKUP(AF175,種目名!$R$5:$T$104,3,0))","v":""},{"$f":"IF(S175=\"\",\"\",VLOOKUP(AI175,種目名!$R$5:$T$104,3,0))","v":""},0,"","",0,"",""]
["",null,{"$f":"IF(B176=\"\",\"\",VLOOKUP(B176,学連登録!$C$2:$G$3000,2,FALSE))","v":""},{"$f":"IF(B176=\"\",\"\",VLOOKUP(B176,学連登録!$C$2:$G$3000,3,FALSE))","v":""},{"$f":"IF(B176=\"\",\"\",VLOOKUP(B176,学連登録!$C$2:$G$3000,4,FALSE))","v":""},"",null,null,null,null,null,null,null,null,null,null,null,null,null,null,null,{"$f":"IF(B176=\"\",\"\",VLOOKUP(B176,学連登録!$C$2:$H$3000,6,FALSE))","v":""},null,null,"",{"$f":"IF(G176=\"\",\"\",VLOOKUP(G176,種目名!$R$5:$T$104,3,0))","v":""},{"$f":"IF(J176=\"\",\"\",VLOOKUP(J176,種目名!$R$5:$T$104,3,0))","v":""},{"$f":"IF(M176=\"\",\"\",VLOOKUP(M176,種目名!$R$5:$T$104,3,0))","v":""},{"$f":"IF(P176=\"\",\"\",VLOOKUP(AF176,種目名!$R$5:$T$104,3,0))","v":""},{"$f":"IF(S176=\"\",\"\",VLOOKUP(AI176,種目名!$R$5:$T$104,3,0))","v":""},0,"","",0,"",""]
["",null,{"$f":"IF(B177=\"\",\"\",VLOOKUP(B177,学連登録!$C$2:$G$3000,2,FALSE))","v":""},{"$f":"IF(B177=\"\",\"\",VLOOKUP(B177,学連登録!$C$2:$G$3000,3,FALSE))","v":""},{"$f":"IF(B177=\"\",\"\",VLOOKUP(B177,学連登録!$C$2:$G$3000,4,FALSE))","v":""},"",null,null,null,null,null,null,null,null,null,null,null,null,null,null,null,{"$f":"IF(B177=\"\",\"\",VLOOKUP(B177,学連登録!$C$2:$H$3000,6,FALSE))","v":""},null,null,"",{"$f":"IF(G177=\"\",\"\",VLOOKUP(G177,種目名!$R$5:$T$104,3,0))","v":""},{"$f":"IF(J177=\"\",\"\",VLOOKUP(J177,種目名!$R$5:$T$104,3,0))","v":""},{"$f":"IF(M177=\"\",\"\",VLOOKUP(M177,種目名!$R$5:$T$104,3,0))","v":""},{"$f":"IF(P177=\"\",\"\",VLOOKUP(AF177,種目名!$R$5:$T$104,3,0))","v":""},{"$f":"IF(S177=\"\",\"\",VLOOKUP(AI177,種目名!$R$5:$T$104,3,0))","v":""},0,"","",0,"",""]
["",null,{"$f":"IF(B178=\"\",\"\",VLOOKUP(B178,学連登録!$C$2:$G$3000,2,FALSE))","v":""},{"$f":"IF(B178=\"\",\"\",VLOOKUP(B178,学連登録!$C$2:$G$3000,3,FALSE))","v":""},{"$f":"IF(B178=\"\",\"\",VLOOKUP(B178,学連登録!$C$2:$G$3000,4,FALSE))","v":""},"",null,null,null,null,null,null,null,null,null,null,null,null,null,null,null,{"$f":"IF(B178=\"\",\"\",VLOOKUP(B178,学連登録!$C$2:$H$3000,6,FALSE))","v":""},null,null,"",{"$f":"IF(G178=\"\",\"\",VLOOKUP(G178,種目名!$R$5:$T$104,3,0))","v":""},{"$f":"IF(J178=\"\",\"\",VLOOKUP(J178,種目名!$R$5:$T$104,3,0))","v":""},{"$f":"IF(M178=\"\",\"\",VLOOKUP(M178,種目名!$R$5:$T$104,3,0))","v":""},{"$f":"IF(P178=\"\",\"\",VLOOKUP(AF178,種目名!$R$5:$T$104,3,0))","v":""},{"$f":"IF(S178=\"\",\"\",VLOOKUP(AI178,種目名!$R$5:$T$104,3,0))","v":""},0,"","",0,"",""]
[{"$f":"IF(C179=\"\",\"\",A178+1)","v":""},null,{"$f":"IF(B179=\"\",\"\",VLOOKUP(B179,学連登録!$C$2:$G$3000,2,FALSE))","v":""},{"$f":"IF(B179=\"\",\"\",VLOOKUP(B179,学連登録!$C$2:$G$3000,3,FALSE))","v":""},{"$f":"IF(B179=\"\",\"\",VLOOKUP(B179,学連登録!$C$2:$G$3000,4,FALSE))","v":""},"",null,null,null,null,null,null,null,null,null,null,null,null,null,null,null,{"$f":"IF(B179=\"\",\"\",VLOOKUP(B179,学連登録!$C$2:$H$3000,6,FALSE))","v":""},null,null,"",{"$f":"IF(G179=\"\",\"\",VLOOKUP(G179,種目名!$R$5:$T$104,3,0))","v":""},{"$f":"IF(J179=\"\",\"\",VLOOKUP(J179,種目名!$R$5:$T$104,3,0))","v":""},{"$f":"IF(M179=\"\",\"\",VLOOKUP(M179,種目名!$R$5:$T$104,3,0))","v":""},{"$f":"IF(P179=\"\",\"\",VLOOKUP(AF179,種目名!$R$5:$T$104,3,0))","v":""},{"$f":"IF(S179=\"\",\"\",VLOOKUP(AI179,種目名!$R$5:$T$104,3,0))","v":""},0,"","",0,"",""]
["",null,{"$f":"IF(B180=\"\",\"\",VLOOKUP(B180,学連登録!$C$2:$G$3000,2,FALSE))","v":""},{"$f":"IF(B180=\"\",\"\",VLOOKUP(B180,学連登録!$C$2:$G$3000,3,FALSE))","v":""},{"$f":"IF(B180=\"\",\"\",VLOOKUP(B180,学連登録!$C$2:$G$3000,4,FALSE))","v":""},"",null,null,null,null,null,null,null,null,null,null,null,null,null,null,null,{"$f":"IF(B180=\"\",\"\",VLOOKUP(B180,学連登録!$C$2:$H$3000,6,FALSE))","v":""},null,null,"",{"$f":"IF(G180=\"\",\"\",VLOOKUP(G180,種目名!$R$5:$T$104,3,0))","v":""},{"$f":"IF(J180=\"\",\"\",VLOOKUP(J180,種目名!$R$5:$T$104,3,0))","v":""},{"$f":"IF(M180=\"\",\"\",VLOOKUP(M180,種目名!$R$5:$T$104,3,0))","v":""},{"$f":"IF(P180=\"\",\"\",VLOOKUP(AF180,種目名!$R$5:$T$104,3,0))","v":""},{"$f":"IF(S180=\"\",\"\",VLOOKUP(AI180,種目名!$R$5:$T$104,3,0))","v":""},0,"","",0,"",""]
["",null,{"$f":"IF(B181=\"\",\"\",VLOOKUP(B181,学連登録!$C$2:$G$3000,2,FALSE))","v":""},{"$f":"IF(B181=\"\",\"\",VLOOKUP(B181,学連登録!$C$2:$G$3000,3,FALSE))","v":""},{"$f":"IF(B181=\"\",\"\",VLOOKUP(B181,学連登録!$C$2:$G$3000,4,FALSE))","v":""},"",null,null,null,null,null,null,null,null,null,null,null,null,null,null,null,{"$f":"IF(B181=\"\",\"\",VLOOKUP(B181,学連登録!$C$2:$H$3000,6,FALSE))","v":""},null,null,"",{"$f":"IF(G181=\"\",\"\",VLOOKUP(G181,種目名!$R$5:$T$104,3,0))","v":""},{"$f":"IF(J181=\"\",\"\",VLOOKUP(J181,種目名!$R$5:$T$104,3,0))","v":""},{"$f":"IF(M181=\"\",\"\",VLOOKUP(M181,種目名!$R$5:$T$104,3,0))","v":""},{"$f":"IF(P181=\"\",\"\",VLOOKUP(AF181,種目名!$R$5:$T$104,3,0))","v":""},{"$f":"IF(S181=\"\",\"\",VLOOKUP(AI181,種目名!$R$5:$T$104,3,0))","v":""},0,"","",0,"",""]
["",null,{"$f":"IF(B182=\"\",\"\",VLOOKUP(B182,学連登録!$C$2:$G$3000,2,FALSE))","v":""},{"$f":"IF(B182=\"\",\"\",VLOOKUP(B182,学連登録!$C$2:$G$3000,3,FALSE))","v":""},{"$f":"IF(B182=\"\",\"\",VLOOKUP(B182,学連登録!$C$2:$G$3000,4,FALSE))","v":""},"",null,null,null,null,null,null,null,null,null,null,null,null,null,null,null,{"$f":"IF(B182=\"\",\"\",VLOOKUP(B182,学連登録!$C$2:$H$3000,6,FALSE))","v":""},null,null,"",{"$f":"IF(G182=\"\",\"\",VLOOKUP(G182,種目名!$R$5:$T$104,3,0))","v":""},{"$f":"IF(J182=\"\",\"\",VLOOKUP(J182,種目名!$R$5:$T$104,3,0))","v":""},{"$f":"IF(M182=\"\",\"\",VLOOKUP(M182,種目名!$R$5:$T$104,3,0))","v":""},{"$f":"IF(P182=\"\",\"\",VLOOKUP(AF182,種目名!$R$5:$T$104,3,0))","v":""},{"$f":"IF(S182=\"\",\"\",VLOOKUP(AI182,種目名!$R$5:$T$104,3,0))","v":""},0,"","",0,"",""]
["",null,{"$f":"IF(B183=\"\",\"\",VLOOKUP(B183,学連登録!$C$2:$G$3000,2,FALSE))","v":""},{"$f":"IF(B183=\"\",\"\",VLOOKUP(B183,学連登録!$C$2:$G$3000,3,FALSE))","v":""},{"$f":"IF(B183=\"\",\"\",VLOOKUP(B183,学連登録!$C$2:$G$3000,4,FALSE))","v":""},"",null,null,null,null,null,null,null,null,null,null,null,null,null,null,null,{"$f":"IF(B183=\"\",\"\",VLOOKUP(B183,学連登録!$C$2:$H$3000,6,FALSE))","v":""},null,null,"",{"$f":"IF(G183=\"\",\"\",VLOOKUP(G183,種目名!$R$5:$T$104,3,0))","v":""},{"$f":"IF(J183=\"\",\"\",VLOOKUP(J183,種目名!$R$5:$T$104,3,0))","v":""},{"$f":"IF(M183=\"\",\"\",VLOOKUP(M183,種目名!$R$5:$T$104,3,0))","v":""},{"$f":"IF(P183=\"\",\"\",VLOOKUP(AF183,種目名!$R$5:$T$104,3,0))","v":""},{"$f":"IF(S183=\"\",\"\",VLOOKUP(AI183,種目名!$R$5:$T$104,3,0))","v":""},0,"","",0,"",""]
["",null,{"$f":"IF(B184=\"\",\"\",VLOOKUP(B184,学連登録!$C$2:$G$3000,2,FALSE))","v":""},{"$f":"IF(B184=\"\",\"\",VLOOKUP(B184,学連登録!$C$2:$G$3000,3,FALSE))","v":""},{"$f":"IF(B184=\"\",\"\",VLOOKUP(B184,学連登録!$C$2:$G$3000,4,FALSE))","v":""},"",null,null,null,null,null,null,null,null,null,null,null,null,null,null,null,{"$f":"IF(B184=\"\",\"\",VLOOKUP(B184,学連登録!$C$2:$H$3000,6,FALSE))","v":""},null,null,"",{"$f":"IF(G184=\"\",\"\",VLOOKUP(G184,種目名!$R$5:$T$104,3,0))","v":""},{"$f":"IF(J184=\"\",\"\",VLOOKUP(J184,種目名!$R$5:$T$104,3,0))","v":""},{"$f":"IF(M184=\"\",\"\",VLOOKUP(M184,種目名!$R$5:$T$104,3,0))","v":""},{"$f":"IF(P184=\"\",\"\",VLOOKUP(AF184,種目名!$R$5:$T$104,3,0))","v":""},{"$f":"IF(S184=\"\",\"\",VLOOKUP(AI184,種目名!$R$5:$T$104,3,0))","v":""},0,"","",0,"",""]
["",null,{"$f":"IF(B185=\"\",\"\",VLOOKUP(B185,学連登録!$C$2:$G$3000,2,FALSE))","v":""},{"$f":"IF(B185=\"\",\"\",VLOOKUP(B185,学連登録!$C$2:$G$3000,3,FALSE))","v":""},{"$f":"IF(B185=\"\",\"\",VLOOKUP(B185,学連登録!$C$2:$G$3000,4,FALSE))","v":""},"",null,null,null,null,null,null,null,null,null,null,null,null,null,null,null,{"$f":"IF(B185=\"\",\"\",VLOOKUP(B185,学連登録!$C$2:$H$3000,6,FALSE))","v":""},null,null,"",{"$f":"IF(G185=\"\",\"\",VLOOKUP(G185,種目名!$R$5:$T$104,3,0))","v":""},{"$f":"IF(J185=\"\",\"\",VLOOKUP(J185,種目名!$R$5:$T$104,3,0))","v":""},{"$f":"IF(M185=\"\",\"\",VLOOKUP(M185,種目名!$R$5:$T$104,3,0))","v":""},{"$f":"IF(P185=\"\",\"\",VLOOKUP(AF185,種目名!$R$5:$T$104,3,0))","v":""},{"$f":"IF(S185=\"\",\"\",VLOOKUP(AI185,種目名!$R$5:$T$104,3,0))","v":""},0,"","",0,"",""]
["",null,{"$f":"IF(B186=\"\",\"\",VLOOKUP(B186,学連登録!$C$2:$G$3000,2,FALSE))","v":""},{"$f":"IF(B186=\"\",\"\",VLOOKUP(B186,学連登録!$C$2:$G$3000,3,FALSE))","v":""},{"$f":"IF(B186=\"\",\"\",VLOOKUP(B186,学連登録!$C$2:$G$3000,4,FALSE))","v":""},"",null,null,null,null,null,null,null,null,null,null,null,null,null,null,null,{"$f":"IF(B186=\"\",\"\",VLOOKUP(B186,学連登録!$C$2:$H$3000,6,FALSE))","v":""},null,null,"",{"$f":"IF(G186=\"\",\"\",VLOOKUP(G186,種目名!$R$5:$T$104,3,0))","v":""},{"$f":"IF(J186=\"\",\"\",VLOOKUP(J186,種目名!$R$5:$T$104,3,0))","v":""},{"$f":"IF(M186=\"\",\"\",VLOOKUP(M186,種目名!$R$5:$T$104,3,0))","v":""},{"$f":"IF(P186=\"\",\"\",VLOOKUP(AF186,種目名!$R$5:$T$104,3,0))","v":""},{"$f":"IF(S186=\"\",\"\",VLOOKUP(AI186,種目名!$R$5:$T$104,3,0))","v":""},0,"","",0,"",""]
["",null,{"$f":"IF(B187=\"\",\"\",VLOOKUP(B187,学連登録!$C$2:$G$3000,2,FALSE))","v":""},{"$f":"IF(B187=\"\",\"\",VLOOKUP(B187,学連登録!$C$2:$G$3000,3,FALSE))","v":""},{"$f":"IF(B187=\"\",\"\",VLOOKUP(B187,学連登録!$C$2:$G$3000,4,FALSE))","v":""},"",null,null,null,null,null,null,null,null,null,null,null,null,null,null,null,{"$f":"IF(B187=\"\",\"\",VLOOKUP(B187,学連登録!$C$2:$H$3000,6,FALSE))","v":""},null,null,"",{"$f":"IF(G187=\"\",\"\",VLOOKUP(G187,種目名!$R$5:$T$104,3,0))","v":""},{"$f":"IF(J187=\"\",\"\",VLOOKUP(J187,種目名!$R$5:$T$104,3,0))","v":""},{"$f":"IF(M187=\"\",\"\",VLOOKUP(M187,種目名!$R$5:$T$104,3,0))","v":""},{"$f":"IF(P187=\"\",\"\",VLOOKUP(AF187,種目名!$R$5:$T$104,3,0))","v":""},{"$f":"IF(S187=\"\",\"\",VLOOKUP(AI187,種目名!$R$5:$T$104,3,0))","v":""},0,"","",0,"",""]
["",null,{"$f":"IF(B188=\"\",\"\",VLOOKUP(B188,学連登録!$C$2:$G$3000,2,FALSE))","v":""},{"$f":"IF(B188=\"\",\"\",VLOOKUP(B188,学連登録!$C$2:$G$3000,3,FALSE))","v":""},{"$f":"IF(B188=\"\",\"\",VLOOKUP(B188,学連登録!$C$2:$G$3000,4,FALSE))","v":""},"",null,null,null,null,null,null,null,null,null,null,null,null,null,null,null,{"$f":"IF(B188=\"\",\"\",VLOOKUP(B188,学連登録!$C$2:$H$3000,6,FALSE))","v":""},null,null,"",{"$f":"IF(G188=\"\",\"\",VLOOKUP(G188,種目名!$R$5:$T$104,3,0))","v":""},{"$f":"IF(J188=\"\",\"\",VLOOKUP(J188,種目名!$R$5:$T$104,3,0))","v":""},{"$f":"IF(M188=\"\",\"\",VLOOKUP(M188,種目名!$R$5:$T$104,3,0))","v":""},{"$f":"IF(P188=\"\",\"\",VLOOKUP(AF188,種目名!$R$5:$T$104,3,0))","v":""},{"$f":"IF(S188=\"\",\"\",VLOOKUP(AI188,種目名!$R$5:$T$104,3,0))","v":""},0,"","",0,"",""]
["",null,{"$f":"IF(B189=\"\",\"\",VLOOKUP(B189,学連登録!$C$2:$G$3000,2,FALSE))","v":""},{"$f":"IF(B189=\"\",\"\",VLOOKUP(B189,学連登録!$C$2:$G$3000,3,FALSE))","v":""},{"$f":"IF(B189=\"\",\"\",VLOOKUP(B189,学連登録!$C$2:$G$3000,4,FALSE))","v":""},"",null,null,null,null,null,null,null,null,null,null,null,null,null,null,null,{"$f":"IF(B189=\"\",\"\",VLOOKUP(B189,学連登録!$C$2:$H$3000,6,FALSE))","v":""},null,null,"",{"$f":"IF(G189=\"\",\"\",VLOOKUP(G189,種目名!$R$5:$T$104,3,0))","v":""},{"$f":"IF(J189=\"\",\"\",VLOOKUP(J189,種目名!$R$5:$T$104,3,0))","v":""},{"$f":"IF(M189=\"\",\"\",VLOOKUP(M189,種目名!$R$5:$T$104,3,0))","v":""},{"$f":"IF(P189=\"\",\"\",VLOOKUP(AF189,種目名!$R$5:$T$104,3,0))","v":""},{"$f":"IF(S189=\"\",\"\",VLOOKUP(AI189,種目名!$R$5:$T$104,3,0))","v":""},0,"","",0,"",""]
["",null,{"$f":"IF(B190=\"\",\"\",VLOOKUP(B190,学連登録!$C$2:$G$3000,2,FALSE))","v":""},{"$f":"IF(B190=\"\",\"\",VLOOKUP(B190,学連登録!$C$2:$G$3000,3,FALSE))","v":""},{"$f":"IF(B190=\"\",\"\",VLOOKUP(B190,学連登録!$C$2:$G$3000,4,FALSE))","v":""},"",null,null,null,null,null,null,null,null,null,null,null,null,null,null,null,{"$f":"IF(B190=\"\",\"\",VLOOKUP(B190,学連登録!$C$2:$H$3000,6,FALSE))","v":""},null,null,"",{"$f":"IF(G190=\"\",\"\",VLOOKUP(G190,種目名!$R$5:$T$104,3,0))","v":""},{"$f":"IF(J190=\"\",\"\",VLOOKUP(J190,種目名!$R$5:$T$104,3,0))","v":""},{"$f":"IF(M190=\"\",\"\",VLOOKUP(M190,種目名!$R$5:$T$104,3,0))","v":""},{"$f":"IF(P190=\"\",\"\",VLOOKUP(AF190,種目名!$R$5:$T$104,3,0))","v":""},{"$f":"IF(S190=\"\",\"\",VLOOKUP(AI190,種目名!$R$5:$T$104,3,0))","v":""},0,"","",0,"",""]
["",null,{"$f":"IF(B191=\"\",\"\",VLOOKUP(B191,学連登録!$C$2:$G$3000,2,FALSE))","v":""},{"$f":"IF(B191=\"\",\"\",VLOOKUP(B191,学連登録!$C$2:$G$3000,3,FALSE))","v":""},{"$f":"IF(B191=\"\",\"\",VLOOKUP(B191,学連登録!$C$2:$G$3000,4,FALSE))","v":""},"",null,null,null,null,null,null,null,null,null,null,null,null,null,null,null,{"$f":"IF(B191=\"\",\"\",VLOOKUP(B191,学連登録!$C$2:$H$3000,6,FALSE))","v":""},null,null,"",{"$f":"IF(G191=\"\",\"\",VLOOKUP(G191,種目名!$R$5:$T$104,3,0))","v":""},{"$f":"IF(J191=\"\",\"\",VLOOKUP(J191,種目名!$R$5:$T$104,3,0))","v":""},{"$f":"IF(M191=\"\",\"\",VLOOKUP(M191,種目名!$R$5:$T$104,3,0))","v":""},{"$f":"IF(P191=\"\",\"\",VLOOKUP(AF191,種目名!$R$5:$T$104,3,0))","v":""},{"$f":"IF(S191=\"\",\"\",VLOOKUP(AI191,種目名!$R$5:$T$104,3,0))","v":""},0,"","",0,"",""]
["",null,{"$f":"IF(B192=\"\",\"\",VLOOKUP(B192,学連登録!$C$2:$G$3000,2,FALSE))","v":""},{"$f":"IF(B192=\"\",\"\",VLOOKUP(B192,学連登録!$C$2:$G$3000,3,FALSE))","v":""},{"$f":"IF(B192=\"\",\"\",VLOOKUP(B192,学連登録!$C$2:$G$3000,4,FALSE))","v":""},"",null,null,null,null,null,null,null,null,null,null,null,null,null,null,null,{"$f":"IF(B192=\"\",\"\",VLOOKUP(B192,学連登録!$C$2:$H$3000,6,FALSE))","v":""},null,null,"",{"$f":"IF(G192=\"\",\"\",VLOOKUP(G192,種目名!$R$5:$T$104,3,0))","v":""},{"$f":"IF(J192=\"\",\"\",VLOOKUP(J192,種目名!$R$5:$T$104,3,0))","v":""},{"$f":"IF(M192=\"\",\"\",VLOOKUP(M192,種目名!$R$5:$T$104,3,0))","v":""},{"$f":"IF(P192=\"\",\"\",VLOOKUP(AF192,種目名!$R$5:$T$104,3,0))","v":""},{"$f":"IF(S192=\"\",\"\",VLOOKUP(AI192,種目名!$R$5:$T$104,3,0))","v":""},0,"","",0,"",""]
["",null,{"$f":"IF(B193=\"\",\"\",VLOOKUP(B193,学連登録!$C$2:$G$3000,2,FALSE))","v":""},{"$f":"IF(B193=\"\",\"\",VLOOKUP(B193,学連登録!$C$2:$G$3000,3,FALSE))","v":""},{"$f":"IF(B193=\"\",\"\",VLOOKUP(B193,学連登録!$C$2:$G$3000,4,FALSE))","v":""},"",null,null,null,null,null,null,null,null,null,null,null,null,null,null,null,{"$f":"IF(B193=\"\",\"\",VLOOKUP(B193,学連登録!$C$2:$H$3000,6,FALSE))","v":""},null,null,"",{"$f":"IF(G193=\"\",\"\",VLOOKUP(G193,種目名!$R$5:$T$104,3,0))","v":""},{"$f":"IF(J193=\"\",\"\",VLOOKUP(J193,種目名!$R$5:$T$104,3,0))","v":""},{"$f":"IF(M193=\"\",\"\",VLOOKUP(M193,種目名!$R$5:$T$104,3,0))","v":""},{"$f":"IF(P193=\"\",\"\",VLOOKUP(AF193,種目名!$R$5:$T$104,3,0))","v":""},{"$f":"IF(S193=\"\",\"\",VLOOKUP(AI193,種目名!$R$5:$T$104,3,0))","v":""},0,"","",0,"",""]
["",null,{"$f":"IF(B194=\"\",\"\",VLOOKUP(B194,学連登録!$C$2:$G$3000,2,FALSE))","v":""},{"$f":"IF(B194=\"\",\"\",VLOOKUP(B194,学連登録!$C$2:$G$3000,3,FALSE))","v":""},{"$f":"IF(B194=\"\",\"\",VLOOKUP(B194,学連登録!$C$2:$G$3000,4,FALSE))","v":""},"",null,null,null,null,null,null,null,null,null,null,null,null,null,null,null,{"$f":"IF(B194=\"\",\"\",VLOOKUP(B194,学連登録!$C$2:$H$3000,6,FALSE))","v":""},null,null,"",{"$f":"IF(G194=\"\",\"\",VLOOKUP(G194,種目名!$R$5:$T$104,3,0))","v":""},{"$f":"IF(J194=\"\",\"\",VLOOKUP(J194,種目名!$R$5:$T$104,3,0))","v":""},{"$f":"IF(M194=\"\",\"\",VLOOKUP(M194,種目名!$R$5:$T$104,3,0))","v":""},{"$f":"IF(P194=\"\",\"\",VLOOKUP(AF194,種目名!$R$5:$T$104,3,0))","v":""},{"$f":"IF(S194=\"\",\"\",VLOOKUP(AI194,種目名!$R$5:$T$104,3,0))","v":""},0,"","",0,"",""]
["",null,{"$f":"IF(B195=\"\",\"\",VLOOKUP(B195,学連登録!$C$2:$G$3000,2,FALSE))","v":""},{"$f":"IF(B195=\"\",\"\",VLOOKUP(B195,学連登録!$C$2:$G$3000,3,FALSE))","v":""},{"$f":"IF(B195=\"\",\"\",VLOOKUP(B195,学連登録!$C$2:$G$3000,4,FALSE))","v":""},"",null,null,null,null,null,null,null,null,null,null,null,null,null,null,null,{"$f":"IF(B195=\"\",\"\",VLOOKUP(B195,学連登録!$C$2:$H$3000,6,FALSE))","v":""},null,null,"",{"$f":"IF(G195=\"\",\"\",VLOOKUP(G195,種目名!$R$5:$T$104,3,0))","v":""},{"$f":"IF(J195=\"\",\"\",VLOOKUP(J195,種目名!$R$5:$T$104,3,0))","v":""},{"$f":"IF(M195=\"\",\"\",VLOOKUP(M195,種目名!$R$5:$T$104,3,0))","v":""},{"$f":"IF(P195=\"\",\"\",VLOOKUP(AF195,種目名!$R$5:$T$104,3,0))","v":""},{"$f":"IF(S195=\"\",\"\",VLOOKUP(AI195,種目名!$R$5:$T$104,3,0))","v":""},0,"","",0,"",""]
["",null,{"$f":"IF(B196=\"\",\"\",VLOOKUP(B196,学連登録!$C$2:$G$3000,2,FALSE))","v":""},{"$f":"IF(B196=\"\",\"\",VLOOKUP(B196,学連登録!$C$2:$G$3000,3,FALSE))","v":""},{"$f":"IF(B196=\"\",\"\",VLOOKUP(B196,学連登録!$C$2:$G$3000,4,FALSE))","v":""},"",null,null,null,null,null,null,null,null,null,null,null,null,null,null,null,{"$f":"IF(B196=\"\",\"\",VLOOKUP(B196,学連登録!$C$2:$H$3000,6,FALSE))","v":""},null,null,"",{"$f":"IF(G196=\"\",\"\",VLOOKUP(G196,種目名!$R$5:$T$104,3,0))","v":""},{"$f":"IF(J196=\"\",\"\",VLOOKUP(J196,種目名!$R$5:$T$104,3,0))","v":""},{"$f":"IF(M196=\"\",\"\",VLOOKUP(M196,種目名!$R$5:$T$104,3,0))","v":""},{"$f":"IF(P196=\"\",\"\",VLOOKUP(AF196,種目名!$R$5:$T$104,3,0))","v":""},{"$f":"IF(S196=\"\",\"\",VLOOKUP(AI196,種目名!$R$5:$T$104,3,0))","v":""},0,"","",0,"",""]
["",null,{"$f":"IF(B197=\"\",\"\",VLOOKUP(B197,学連登録!$C$2:$G$3000,2,FALSE))","v":""},{"$f":"IF(B197=\"\",\"\",VLOOKUP(B197,学連登録!$C$2:$G$3000,3,FALSE))","v":""},{"$f":"IF(B197=\"\",\"\",VLOOKUP(B197,学連登録!$C$2:$G$3000,4,FALSE))","v":""},"",null,null,null,null,null,null,null,null,null,null,null,null,null,null,null,{"$f":"IF(B197=\"\",\"\",VLOOKUP(B197,学連登録!$C$2:$H$3000,6,FALSE))","v":""},null,null,"",{"$f":"IF(G197=\"\",\"\",VLOOKUP(G197,種目名!$R$5:$T$104,3,0))","v":""},{"$f":"IF(J197=\"\",\"\",VLOOKUP(J197,種目名!$R$5:$T$104,3,0))","v":""},{"$f":"IF(M197=\"\",\"\",VLOOKUP(M197,種目名!$R$5:$T$104,3,0))","v":""},{"$f":"IF(P197=\"\",\"\",VLOOKUP(AF197,種目名!$R$5:$T$104,3,0))","v":""},{"$f":"IF(S197=\"\",\"\",VLOOKUP(AI197,種目名!$R$5:$T$104,3,0))","v":""},0,"","",0,"",""]
["",null,{"$f":"IF(B198=\"\",\"\",VLOOKUP(B198,学連登録!$C$2:$G$3000,2,FALSE))","v":""},{"$f":"IF(B198=\"\",\"\",VLOOKUP(B198,学連登録!$C$2:$G$3000,3,FALSE))","v":""},{"$f":"IF(B198=\"\",\"\",VLOOKUP(B198,学連登録!$C$2:$G$3000,4,FALSE))","v":""},"",null,null,null,null,null,null,null,null,null,null,null,null,null,null,null,{"$f":"IF(B198=\"\",\"\",VLOOKUP(B198,学連登録!$C$2:$H$3000,6,FALSE))","v":""},null,null,"",{"$f":"IF(G198=\"\",\"\",VLOOKUP(G198,種目名!$R$5:$T$104,3,0))","v":""},{"$f":"IF(J198=\"\",\"\",VLOOKUP(J198,種目名!$R$5:$T$104,3,0))","v":""},{"$f":"IF(M198=\"\",\"\",VLOOKUP(M198,種目名!$R$5:$T$104,3,0))","v":""},{"$f":"IF(P198=\"\",\"\",VLOOKUP(AF198,種目名!$R$5:$T$104,3,0))","v":""},{"$f":"IF(S198=\"\",\"\",VLOOKUP(AI198,種目名!$R$5:$T$104,3,0))","v":""},0,"","",0,"",""]
["",null,{"$f":"IF(B199=\"\",\"\",VLOOKUP(B199,学連登録!$C$2:$G$3000,2,FALSE))","v":""},{"$f":"IF(B199=\"\",\"\",VLOOKUP(B199,学連登録!$C$2:$G$3000,3,FALSE))","v":""},{"$f":"IF(B199=\"\",\"\",VLOOKUP(B199,学連登録!$C$2:$G$3000,4,FALSE))","v":""},"",null,null,null,null,null,null,null,null,null,null,null,null,null,null,null,{"$f":"IF(B199=\"\",\"\",VLOOKUP(B199,学連登録!$C$2:$H$3000,6,FALSE))","v":""},null,null,"",{"$f":"IF(G199=\"\",\"\",VLOOKUP(G199,種目名!$R$5:$T$104,3,0))","v":""},{"$f":"IF(J199=\"\",\"\",VLOOKUP(J199,種目名!$R$5:$T$104,3,0))","v":""},{"$f":"IF(M199=\"\",\"\",VLOOKUP(M199,種目名!$R$5:$T$104,3,0))","v":""},{"$f":"IF(P199=\"\",\"\",VLOOKUP(AF199,種目名!$R$5:$T$104,3,0))","v":""},{"$f":"IF(S199=\"\",\"\",VLOOKUP(AI199,種目名!$R$5:$T$104,3,0))","v":""},0,"","",0,"",""]
["",null,{"$f":"IF(B200=\"\",\"\",VLOOKUP(B200,学連登録!$C$2:$G$3000,2,FALSE))","v":""},{"$f":"IF(B200=\"\",\"\",VLOOKUP(B200,学連登録!$C$2:$G$3000,3,FALSE))","v":""},{"$f":"IF(B200=\"\",\"\",VLOOKUP(B200,学連登録!$C$2:$G$3000,4,FALSE))","v":""},"",null,null,null,null,null,null,null,null,null,null,null,null,null,null,null,{"$f":"IF(B200=\"\",\"\",VLOOKUP(B200,学連登録!$C$2:$H$3000,6,FALSE))","v":""},null,null,"",{"$f":"IF(G200=\"\",\"\",VLOOKUP(G200,種目名!$R$5:$T$104,3,0))","v":""},{"$f":"IF(J200=\"\",\"\",VLOOKUP(J200,種目名!$R$5:$T$104,3,0))","v":""},{"$f":"IF(M200=\"\",\"\",VLOOKUP(M200,種目名!$R$5:$T$104,3,0))","v":""},{"$f":"IF(P200=\"\",\"\",VLOOKUP(AF200,種目名!$R$5:$T$104,3,0))","v":""},{"$f":"IF(S200=\"\",\"\",VLOOKUP(AI200,種目名!$R$5:$T$104,3,0))","v":""},0,"","",0,"",""]
["",null,{"$f":"IF(B201=\"\",\"\",VLOOKUP(B201,学連登録!$C$2:$G$3000,2,FALSE))","v":""},{"$f":"IF(B201=\"\",\"\",VLOOKUP(B201,学連登録!$C$2:$G$3000,3,FALSE))","v":""},{"$f":"IF(B201=\"\",\"\",VLOOKUP(B201,学連登録!$C$2:$G$3000,4,FALSE))","v":""},"",null,null,null,null,null,null,null,null,null,null,null,null,null,null,null,{"$f":"IF(B201=\"\",\"\",VLOOKUP(B201,学連登録!$C$2:$H$3000,6,FALSE))","v":""},null,null,"",{"$f":"IF(G201=\"\",\"\",VLOOKUP(G201,種目名!$R$5:$T$104,3,0))","v":""},{"$f":"IF(J201=\"\",\"\",VLOOKUP(J201,種目名!$R$5:$T$104,3,0))","v":""},{"$f":"IF(M201=\"\",\"\",VLOOKUP(M201,種目名!$R$5:$T$104,3,0))","v":""},{"$f":"IF(P201=\"\",\"\",VLOOKUP(AF201,種目名!$R$5:$T$104,3,0))","v":""},{"$f":"IF(S201=\"\",\"\",VLOOKUP(AI201,種目名!$R$5:$T$104,3,0))","v":""},0,"","",0,"",""]
["",null,{"$f":"IF(B202=\"\",\"\",VLOOKUP(B202,学連登録!$C$2:$G$3000,2,FALSE))","v":""},{"$f":"IF(B202=\"\",\"\",VLOOKUP(B202,学連登録!$C$2:$G$3000,3,FALSE))","v":""},{"$f":"IF(B202=\"\",\"\",VLOOKUP(B202,学連登録!$C$2:$G$3000,4,FALSE))","v":""},"",null,null,null,null,null,null,null,null,null,null,null,null,null,null,null,{"$f":"IF(B202=\"\",\"\",VLOOKUP(B202,学連登録!$C$2:$H$3000,6,FALSE))","v":""},null,null,"",{"$f":"IF(G202=\"\",\"\",VLOOKUP(G202,種目名!$R$5:$T$104,3,0))","v":""},{"$f":"IF(J202=\"\",\"\",VLOOKUP(J202,種目名!$R$5:$T$104,3,0))","v":""},{"$f":"IF(M202=\"\",\"\",VLOOKUP(M202,種目名!$R$5:$T$104,3,0))","v":""},{"$f":"IF(P202=\"\",\"\",VLOOKUP(AF202,種目名!$R$5:$T$104,3,0))","v":""},{"$f":"IF(S202=\"\",\"\",VLOOKUP(AI202,種目名!$R$5:$T$104,3,0))","v":""},0,"","",0,"",""]
["",null,{"$f":"IF(B203=\"\",\"\",VLOOKUP(B203,学連登録!$C$2:$G$3000,2,FALSE))","v":""},{"$f":"IF(B203=\"\",\"\",VLOOKUP(B203,学連登録!$C$2:$G$3000,3,FALSE))","v":""},{"$f":"IF(B203=\"\",\"\",VLOOKUP(B203,学連登録!$C$2:$G$3000,4,FALSE))","v":""},"",null,null,null,null,null,null,null,null,null,null,null,null,null,null,null,{"$f":"IF(B203=\"\",\"\",VLOOKUP(B203,学連登録!$C$2:$H$3000,6,FALSE))","v":""},null,null,"",{"$f":"IF(G203=\"\",\"\",VLOOKUP(G203,種目名!$R$5:$T$104,3,0))","v":""},{"$f":"IF(J203=\"\",\"\",VLOOKUP(J203,種目名!$R$5:$T$104,3,0))","v":""},{"$f":"IF(M203=\"\",\"\",VLOOKUP(M203,種目名!$R$5:$T$104,3,0))","v":""},{"$f":"IF(P203=\"\",\"\",VLOOKUP(AF203,種目名!$R$5:$T$104,3,0))","v":""},{"$f":"IF(S203=\"\",\"\",VLOOKUP(AI203,種目名!$R$5:$T$104,3,0))","v":""},0,"","",0,"",""]
["",null,{"$f":"IF(B204=\"\",\"\",VLOOKUP(B204,学連登録!$C$2:$G$3000,2,FALSE))","v":""},{"$f":"IF(B204=\"\",\"\",VLOOKUP(B204,学連登録!$C$2:$G$3000,3,FALSE))","v":""},{"$f":"IF(B204=\"\",\"\",VLOOKUP(B204,学連登録!$C$2:$G$3000,4,FALSE))","v":""},"",null,null,null,null,null,null,null,null,null,null,null,null,null,null,null,{"$f":"IF(B204=\"\",\"\",VLOOKUP(B204,学連登録!$C$2:$H$3000,6,FALSE))","v":""},null,null,"",{"$f":"IF(G204=\"\",\"\",VLOOKUP(G204,種目名!$R$5:$T$104,3,0))","v":""},{"$f":"IF(J204=\"\",\"\",VLOOKUP(J204,種目名!$R$5:$T$104,3,0))","v":""},{"$f":"IF(M204=\"\",\"\",VLOOKUP(M204,種目名!$R$5:$T$104,3,0))","v":""},{"$f":"IF(P204=\"\",\"\",VLOOKUP(AF204,種目名!$R$5:$T$104,3,0))","v":""},{"$f":"IF(S204=\"\",\"\",VLOOKUP(AI204,種目名!$R$5:$T$104,3,0))","v":""},0,"","",0,"",""]
["",null,{"$f":"IF(B205=\"\",\"\",VLOOKUP(B205,学連登録!$C$2:$G$3000,2,FALSE))","v":""},{"$f":"IF(B205=\"\",\"\",VLOOKUP(B205,学連登録!$C$2:$G$3000,3,FALSE))","v":""},{"$f":"IF(B205=\"\",\"\",VLOOKUP(B205,学連登録!$C$2:$G$3000,4,FALSE))","v":""},{"$f":"IF(C205=\"\",\"\",$P$1)","v":""},null,null,null,null,null,null,null,null,null,null,null,null,null,null,null,{"$f":"IF(B205=\"\",\"\",VLOOKUP(B205,学連登録!$C$2:$H$3000,6,FALSE))","v":""},null,null,"",{"$f":"IF(G205=\"\",\"\",VLOOKUP(G205,種目名!$R$5:$T$104,3,0))","v":""},{"$f":"IF(J205=\"\",\"\",VLOOKUP(J205,種目名!$R$5:$T$104,3,0))","v":""},{"$f":"IF(M205=\"\",\"\",VLOOKUP(M205,種目名!$R$5:$T$104,3,0))","v":""},{"$f":"IF(P205=\"\",\"\",VLOOKUP(AF205,種目名!$R$5:$T$104,3,0))","v":""},{"$f":"IF(S205=\"\",\"\",VLOOKUP(AI205,種目名!$R$5:$T$104,3,0))","v":""},0,"","",0,"",""]
["",null,{"$f":"IF(B206=\"\",\"\",VLOOKUP(B206,学連登録!$C$2:$G$3000,2,FALSE))","v":""},{"$f":"IF(B206=\"\",\"\",VLOOKUP(B206,学連登録!$C$2:$G$3000,3,FALSE))","v":""},{"$f":"IF(B206=\"\",\"\",VLOOKUP(B206,学連登録!$C$2:$G$3000,4,FALSE))","v":""},"",null,null,null,null,null,null,null,null,null,null,null,null,null,null,null,{"$f":"IF(B206=\"\",\"\",VLOOKUP(B206,学連登録!$C$2:$H$3000,6,FALSE))","v":""},null,null,"",{"$f":"IF(G206=\"\",\"\",VLOOKUP(G206,種目名!$R$5:$T$104,3,0))","v":""},{"$f":"IF(J206=\"\",\"\",VLOOKUP(J206,種目名!$R$5:$T$104,3,0))","v":""},{"$f":"IF(M206=\"\",\"\",VLOOKUP(M206,種目名!$R$5:$T$104,3,0))","v":""},{"$f":"IF(P206=\"\",\"\",VLOOKUP(AF206,種目名!$R$5:$T$104,3,0))","v":""},{"$f":"IF(S206=\"\",\"\",VLOOKUP(AI206,種目名!$R$5:$T$104,3,0))","v":""},0,"","",0,"",""]
["",null,{"$f":"IF(B207=\"\",\"\",VLOOKUP(B207,学連登録!$C$2:$G$3000,2,FALSE))","v":""},{"$f":"IF(B207=\"\",\"\",VLOOKUP(B207,学連登録!$C$2:$G$3000,3,FALSE))","v":""},{"$f":"IF(B207=\"\",\"\",VLOOKUP(B207,学連登録!$C$2:$G$3000,4,FALSE))","v":""},"",null,null,null,null,null,null,null,null,null,null,null,null,null,null,null,{"$f":"IF(B207=\"\",\"\",VLOOKUP(B207,学連登録!$C$2:$H$3000,6,FALSE))","v":""},null,null,"",{"$f":"IF(G207=\"\",\"\",VLOOKUP(G207,種目名!$R$5:$T$104,3,0))","v":""},{"$f":"IF(J207=\"\",\"\",VLOOKUP(J207,種目名!$R$5:$T$104,3,0))","v":""},{"$f":"IF(M207=\"\",\"\",VLOOKUP(M207,種目名!$R$5:$T$104,3,0))","v":""},{"$f":"IF(P207=\"\",\"\",VLOOKUP(AF207,種目名!$R$5:$T$104,3,0))","v":""},{"$f":"IF(S207=\"\",\"\",VLOOKUP(AI207,種目名!$R$5:$T$104,3,0))","v":""},0,"","",0,"",""]
["",null,{"$f":"IF(B208=\"\",\"\",VLOOKUP(B208,学連登録!$C$2:$G$3000,2,FALSE))","v":""},{"$f":"IF(B208=\"\",\"\",VLOOKUP(B208,学連登録!$C$2:$G$3000,3,FALSE))","v":""},{"$f":"IF(B208=\"\",\"\",VLOOKUP(B208,学連登録!$C$2:$G$3000,4,FALSE))","v":""},"",null,null,null,null,null,null,null,null,null,null,null,null,null,null,null,{"$f":"IF(B208=\"\",\"\",VLOOKUP(B208,学連登録!$C$2:$H$3000,6,FALSE))","v":""},null,null,"",{"$f":"IF(G208=\"\",\"\",VLOOKUP(G208,種目名!$R$5:$T$104,3,0))","v":""},{"$f":"IF(J208=\"\",\"\",VLOOKUP(J208,種目名!$R$5:$T$104,3,0))","v":""},{"$f":"IF(M208=\"\",\"\",VLOOKUP(M208,種目名!$R$5:$T$104,3,0))","v":""},{"$f":"IF(P208=\"\",\"\",VLOOKUP(AF208,種目名!$R$5:$T$104,3,0))","v":""},{"$f":"IF(S208=\"\",\"\",VLOOKUP(AI208,種目名!$R$5:$T$104,3,0))","v":""},0,"","",0,"",""]
["",null,{"$f":"IF(B209=\"\",\"\",VLOOKUP(B209,学連登録!$C$2:$G$3000,2,FALSE))","v":""},{"$f":"IF(B209=\"\",\"\",VLOOKUP(B209,学連登録!$C$2:$G$3000,3,FALSE))","v":""},{"$f":"IF(B209=\"\",\"\",VLOOKUP(B209,学連登録!$C$2:$G$3000,4,FALSE))","v":""},"",null,null,null,null,null,null,null,null,null,null,null,null,null,null,null,{"$f":"IF(B209=\"\",\"\",VLOOKUP(B209,学連登録!$C$2:$H$3000,6,FALSE))","v":""},null,null,"",{"$f":"IF(G209=\"\",\"\",VLOOKUP(G209,種目名!$R$5:$T$104,3,0))","v":""},{"$f":"IF(J209=\"\",\"\",VLOOKUP(J209,種目名!$R$5:$T$104,3,0))","v":""},{"$f":"IF(M209=\"\",\"\",VLOOKUP(M209,種目名!$R$5:$T$104,3,0))","v":""},{"$f":"IF(P209=\"\",\"\",VLOOKUP(AF209,種目名!$R$5:$T$104,3,0))","v":""},{"$f":"IF(S209=\"\",\"\",VLOOKUP(AI209,種目名!$R$5:$T$104,3,0))","v":""},0,"","",0,"",""]
["",null,{"$f":"IF(B210=\"\",\"\",VLOOKUP(B210,学連登録!$C$2:$G$3000,2,FALSE))","v":""},{"$f":"IF(B210=\"\",\"\",VLOOKUP(B210,学連登録!$C$2:$G$3000,3,FALSE))","v":""},{"$f":"IF(B210=\"\",\"\",VLOOKUP(B210,学連登録!$C$2:$G$3000,4,FALSE))","v":""},"",null,null,null,null,null,null,null,null,null,null,null,null,null,null,null,{"$f":"IF(B210=\"\",\"\",VLOOKUP(B210,学連登録!$C$2:$H$3000,6,FALSE))","v":""},null,null,"",{"$f":"IF(G210=\"\",\"\",VLOOKUP(G210,種目名!$R$5:$T$104,3,0))","v":""},{"$f":"IF(J210=\"\",\"\",VLOOKUP(J210,種目名!$R$5:$T$104,3,0))","v":""},{"$f":"IF(M210=\"\",\"\",VLOOKUP(M210,種目名!$R$5:$T$104,3,0))","v":""},{"$f":"IF(P210=\"\",\"\",VLOOKUP(AF210,種目名!$R$5:$T$104,3,0))","v":""},{"$f":"IF(S210=\"\",\"\",VLOOKUP(AI210,種目名!$R$5:$T$104,3,0))","v":""},0,"","",0,"",""]
["",null,{"$f":"IF(B211=\"\",\"\",VLOOKUP(B211,学連登録!$C$2:$G$3000,2,FALSE))","v":""},{"$f":"IF(B211=\"\",\"\",VLOOKUP(B211,学連登録!$C$2:$G$3000,3,FALSE))","v":""},{"$f":"IF(B211=\"\",\"\",VLOOKUP(B211,学連登録!$C$2:$G$3000,4,FALSE))","v":""},"",null,null,null,null,null,null,null,null,null,null,null,null,null,null,null,{"$f":"IF(B211=\"\",\"\",VLOOKUP(B211,学連登録!$C$2:$H$3000,6,FALSE))","v":""},null,null,"",{"$f":"IF(G211=\"\",\"\",VLOOKUP(G211,種目名!$R$5:$T$104,3,0))","v":""},{"$f":"IF(J211=\"\",\"\",VLOOKUP(J211,種目名!$R$5:$T$104,3,0))","v":""},{"$f":"IF(M211=\"\",\"\",VLOOKUP(M211,種目名!$R$5:$T$104,3,0))","v":""},{"$f":"IF(P211=\"\",\"\",VLOOKUP(AF211,種目名!$R$5:$T$104,3,0))","v":""},{"$f":"IF(S211=\"\",\"\",VLOOKUP(AI211,種目名!$R$5:$T$104,3,0))","v":""},0,"","",0,"",""]
["",null,{"$f":"IF(B212=\"\",\"\",VLOOKUP(B212,学連登録!$C$2:$G$3000,2,FALSE))","v":""},{"$f":"IF(B212=\"\",\"\",VLOOKUP(B212,学連登録!$C$2:$G$3000,3,FALSE))","v":""},{"$f":"IF(B212=\"\",\"\",VLOOKUP(B212,学連登録!$C$2:$G$3000,4,FALSE))","v":""},"",null,null,null,null,null,null,null,null,null,null,null,null,null,null,null,{"$f":"IF(B212=\"\",\"\",VLOOKUP(B212,学連登録!$C$2:$H$3000,6,FALSE))","v":""},null,null,"",{"$f":"IF(G212=\"\",\"\",VLOOKUP(G212,種目名!$R$5:$T$104,3,0))","v":""},{"$f":"IF(J212=\"\",\"\",VLOOKUP(J212,種目名!$R$5:$T$104,3,0))","v":""},{"$f":"IF(M212=\"\",\"\",VLOOKUP(M212,種目名!$R$5:$T$104,3,0))","v":""},{"$f":"IF(P212=\"\",\"\",VLOOKUP(AF212,種目名!$R$5:$T$104,3,0))","v":""},{"$f":"IF(S212=\"\",\"\",VLOOKUP(AI212,種目名!$R$5:$T$104,3,0))","v":""},0,"","",0,"",""]
["",null,{"$f":"IF(B213=\"\",\"\",VLOOKUP(B213,学連登録!$C$2:$G$3000,2,FALSE))","v":""},{"$f":"IF(B213=\"\",\"\",VLOOKUP(B213,学連登録!$C$2:$G$3000,3,FALSE))","v":""},{"$f":"IF(B213=\"\",\"\",VLOOKUP(B213,学連登録!$C$2:$G$3000,4,FALSE))","v":""},"",null,null,null,null,null,null,null,null,null,null,null,null,null,null,null,{"$f":"IF(B213=\"\",\"\",VLOOKUP(B213,学連登録!$C$2:$H$3000,6,FALSE))","v":""},null,null,"",{"$f":"IF(G213=\"\",\"\",VLOOKUP(G213,種目名!$R$5:$T$104,3,0))","v":""},{"$f":"IF(J213=\"\",\"\",VLOOKUP(J213,種目名!$R$5:$T$104,3,0))","v":""},{"$f":"IF(M213=\"\",\"\",VLOOKUP(M213,種目名!$R$5:$T$104,3,0))","v":""},{"$f":"IF(P213=\"\",\"\",VLOOKUP(AF213,種目名!$R$5:$T$104,3,0))","v":""},{"$f":"IF(S213=\"\",\"\",VLOOKUP(AI213,種目名!$R$5:$T$104,3,0))","v":""},0,"","",0,"",""]
["",null,{"$f":"IF(B214=\"\",\"\",VLOOKUP(B214,学連登録!$C$2:$G$3000,2,FALSE))","v":""},{"$f":"IF(B214=\"\",\"\",VLOOKUP(B214,学連登録!$C$2:$G$3000,3,FALSE))","v":""},{"$f":"IF(B214=\"\",\"\",VLOOKUP(B214,学連登録!$C$2:$G$3000,4,FALSE))","v":""},"",null,null,null,null,null,null,null,null,null,null,null,null,null,null,null,{"$f":"IF(B214=\"\",\"\",VLOOKUP(B214,学連登録!$C$2:$H$3000,6,FALSE))","v":""},null,null,{"$f":"IF(C214=\"\",\"\",$S$3)","v":""},{"$f":"IF(G214=\"\",\"\",VLOOKUP(G214,種目名!$R$5:$T$104,3,0))","v":""},{"$f":"IF(J214=\"\",\"\",VLOOKUP(J214,種目名!$R$5:$T$104,3,0))","v":""},{"$f":"IF(M214=\"\",\"\",VLOOKUP(M214,種目名!$R$5:$T$104,3,0))","v":""},{"$f":"IF(P214=\"\",\"\",VLOOKUP(AF214,種目名!$R$5:$T$104,3,0))","v":""},{"$f":"IF(S214=\"\",\"\",VLOOKUP(AI214,種目名!$R$5:$T$104,3,0))","v":""},{"$f":"LENB(P214)","v":0},{"$f":"IF(AE214,LEFTB(P214,AE214-1),\"\")","v":""},{"$f":"IF(AE214,MIDB(P214,AE214,1),\"\")","v":""},{"$f":"LENB(S214)","v":0},{"$f":"IF(AH214,LEFTB(S214,AH214-1),\"\")","v":""},{"$f":"IF(AH214,MIDB(S214,AH214,1),\"\")","v":""}]
["",null,{"$f":"IF(B215=\"\",\"\",VLOOKUP(B215,学連登録!$C$2:$G$3000,2,FALSE))","v":""},{"$f":"IF(B215=\"\",\"\",VLOOKUP(B215,学連登録!$C$2:$G$3000,3,FALSE))","v":""},{"$f":"IF(B215=\"\",\"\",VLOOKUP(B215,学連登録!$C$2:$G$3000,4,FALSE))","v":""},"",null,null,null,null,null,null,null,null,null,null,null,null,null,null,null,{"$f":"IF(B215=\"\",\"\",VLOOKUP(B215,学連登録!$C$2:$H$3000,6,FALSE))","v":""},null,null,"",{"$f":"IF(G215=\"\",\"\",VLOOKUP(G215,種目名!$R$5:$T$104,3,0))","v":""},{"$f":"IF(J215=\"\",\"\",VLOOKUP(J215,種目名!$R$5:$T$104,3,0))","v":""},{"$f":"IF(M215=\"\",\"\",VLOOKUP(M215,種目名!$R$5:$T$104,3,0))","v":""},{"$f":"IF(P215=\"\",\"\",VLOOKUP(AF215,種目名!$R$5:$T$104,3,0))","v":""},{"$f":"IF(S215=\"\",\"\",VLOOKUP(AI215,種目名!$R$5:$T$104,3,0))","v":""},0,"","",0,"",""]
["",null,{"$f":"IF(B216=\"\",\"\",VLOOKUP(B216,学連登録!$C$2:$G$3000,2,FALSE))","v":""},{"$f":"IF(B216=\"\",\"\",VLOOKUP(B216,学連登録!$C$2:$G$3000,3,FALSE))","v":""},{"$f":"IF(B216=\"\",\"\",VLOOKUP(B216,学連登録!$C$2:$G$3000,4,FALSE))","v":""},"",null,null,null,null,null,null,null,null,null,null,null,null,null,null,null,{"$f":"IF(B216=\"\",\"\",VLOOKUP(B216,学連登録!$C$2:$H$3000,6,FALSE))","v":""},null,null,"",{"$f":"IF(G216=\"\",\"\",VLOOKUP(G216,種目名!$R$5:$T$104,3,0))","v":""},{"$f":"IF(J216=\"\",\"\",VLOOKUP(J216,種目名!$R$5:$T$104,3,0))","v":""},{"$f":"IF(M216=\"\",\"\",VLOOKUP(M216,種目名!$R$5:$T$104,3,0))","v":""},{"$f":"IF(P216=\"\",\"\",VLOOKUP(AF216,種目名!$R$5:$T$104,3,0))","v":""},{"$f":"IF(S216=\"\",\"\",VLOOKUP(AI216,種目名!$R$5:$T$104,3,0))","v":""},0,"","",0,"",""]
["",null,{"$f":"IF(B217=\"\",\"\",VLOOKUP(B217,学連登録!$C$2:$G$3000,2,FALSE))","v":""},{"$f":"IF(B217=\"\",\"\",VLOOKUP(B217,学連登録!$C$2:$G$3000,3,FALSE))","v":""},{"$f":"IF(B217=\"\",\"\",VLOOKUP(B217,学連登録!$C$2:$G$3000,4,FALSE))","v":""},"",null,null,null,null,null,null,null,null,null,null,null,null,null,null,null,{"$f":"IF(B217=\"\",\"\",VLOOKUP(B217,学連登録!$C$2:$H$3000,6,FALSE))","v":""},null,null,"",{"$f":"IF(G217=\"\",\"\",VLOOKUP(G217,種目名!$R$5:$T$104,3,0))","v":""},{"$f":"IF(J217=\"\",\"\",VLOOKUP(J217,種目名!$R$5:$T$104,3,0))","v":""},{"$f":"IF(M217=\"\",\"\",VLOOKUP(M217,種目名!$R$5:$T$104,3,0))","v":""},{"$f":"IF(P217=\"\",\"\",VLOOKUP(AF217,種目名!$R$5:$T$104,3,0))","v":""},{"$f":"IF(S217=\"\",\"\",VLOOKUP(AI217,種目名!$R$5:$T$104,3,0))","v":""},0,"","",0,"",""]
["",null,{"$f":"IF(B218=\"\",\"\",VLOOKUP(B218,学連登録!$C$2:$G$3000,2,FALSE))","v":""},{"$f":"IF(B218=\"\",\"\",VLOOKUP(B218,学連登録!$C$2:$G$3000,3,FALSE))","v":""},{"$f":"IF(B218=\"\",\"\",VLOOKUP(B218,学連登録!$C$2:$G$3000,4,FALSE))","v":""},"",null,null,null,null,null,null,null,null,null,null,null,null,null,null,null,{"$f":"IF(B218=\"\",\"\",VLOOKUP(B218,学連登録!$C$2:$H$3000,6,FALSE))","v":""},null,null,"",{"$f":"IF(G218=\"\",\"\",VLOOKUP(G218,種目名!$R$5:$T$104,3,0))","v":""},{"$f":"IF(J218=\"\",\"\",VLOOKUP(J218,種目名!$R$5:$T$104,3,0))","v":""},{"$f":"IF(M218=\"\",\"\",VLOOKUP(M218,種目名!$R$5:$T$104,3,0))","v":""},{"$f":"IF(P218=\"\",\"\",VLOOKUP(AF218,種目名!$R$5:$T$104,3,0))","v":""},{"$f":"IF(S218=\"\",\"\",VLOOKUP(AI218,種目名!$R$5:$T$104,3,0))","v":""},0,"","",0,"",""]
["",null,{"$f":"IF(B219=\"\",\"\",VLOOKUP(B219,学連登録!$C$2:$G$3000,2,FALSE))","v":""},{"$f":"IF(B219=\"\",\"\",VLOOKUP(B219,学連登録!$C$2:$G$3000,3,FALSE))","v":""},{"$f":"IF(B219=\"\",\"\",VLOOKUP(B219,学連登録!$C$2:$G$3000,4,FALSE))","v":""},"",null,null,null,null,null,null,null,null,null,null,null,null,null,null,null,{"$f":"IF(B219=\"\",\"\",VLOOKUP(B219,学連登録!$C$2:$H$3000,6,FALSE))","v":""},null,null,"",{"$f":"IF(G219=\"\",\"\",VLOOKUP(G219,種目名!$R$5:$T$104,3,0))","v":""},{"$f":"IF(J219=\"\",\"\",VLOOKUP(J219,種目名!$R$5:$T$104,3,0))","v":""},{"$f":"IF(M219=\"\",\"\",VLOOKUP(M219,種目名!$R$5:$T$104,3,0))","v":""},{"$f":"IF(P219=\"\",\"\",VLOOKUP(AF219,種目名!$R$5:$T$104,3,0))","v":""},{"$f":"IF(S219=\"\",\"\",VLOOKUP(AI219,種目名!$R$5:$T$104,3,0))","v":""},0,"","",0,"",""]
["",null,{"$f":"IF(B220=\"\",\"\",VLOOKUP(B220,学連登録!$C$2:$G$3000,2,FALSE))","v":""},{"$f":"IF(B220=\"\",\"\",VLOOKUP(B220,学連登録!$C$2:$G$3000,3,FALSE))","v":""},{"$f":"IF(B220=\"\",\"\",VLOOKUP(B220,学連登録!$C$2:$G$3000,4,FALSE))","v":""},"",null,null,null,null,null,null,null,null,null,null,null,null,null,null,null,{"$f":"IF(B220=\"\",\"\",VLOOKUP(B220,学連登録!$C$2:$H$3000,6,FALSE))","v":""},null,null,"",{"$f":"IF(G220=\"\",\"\",VLOOKUP(G220,種目名!$R$5:$T$104,3,0))","v":""},{"$f":"IF(J220=\"\",\"\",VLOOKUP(J220,種目名!$R$5:$T$104,3,0))","v":""},{"$f":"IF(M220=\"\",\"\",VLOOKUP(M220,種目名!$R$5:$T$104,3,0))","v":""},{"$f":"IF(P220=\"\",\"\",VLOOKUP(AF220,種目名!$R$5:$T$104,3,0))","v":""},{"$f":"IF(S220=\"\",\"\",VLOOKUP(AI220,種目名!$R$5:$T$104,3,0))","v":""},0,"","",0,"",""]
["",null,{"$f":"IF(B221=\"\",\"\",VLOOKUP(B221,学連登録!$C$2:$G$3000,2,FALSE))","v":""},{"$f":"IF(B221=\"\",\"\",VLOOKUP(B221,学連登録!$C$2:$G$3000,3,FALSE))","v":""},{"$f":"IF(B221=\"\",\"\",VLOOKUP(B221,学連登録!$C$2:$G$3000,4,FALSE))","v":""},"",null,null,null,null,null,null,null,null,null,null,null,null,null,null,null,{"$f":"IF(B221=\"\",\"\",VLOOKUP(B221,学連登録!$C$2:$H$3000,6,FALSE))","v":""},null,null,"",{"$f":"IF(G221=\"\",\"\",VLOOKUP(G221,種目名!$R$5:$T$104,3,0))","v":""},{"$f":"IF(J221=\"\",\"\",VLOOKUP(J221,種目名!$R$5:$T$104,3,0))","v":""},{"$f":"IF(M221=\"\",\"\",VLOOKUP(M221,種目名!$R$5:$T$104,3,0))","v":""},{"$f":"IF(P221=\"\",\"\",VLOOKUP(AF221,種目名!$R$5:$T$104,3,0))","v":""},{"$f":"IF(S221=\"\",\"\",VLOOKUP(AI221,種目名!$R$5:$T$104,3,0))","v":""},0,"","",0,"",""]
["",null,{"$f":"IF(B222=\"\",\"\",VLOOKUP(B222,学連登録!$C$2:$G$3000,2,FALSE))","v":""},{"$f":"IF(B222=\"\",\"\",VLOOKUP(B222,学連登録!$C$2:$G$3000,3,FALSE))","v":""},{"$f":"IF(B222=\"\",\"\",VLOOKUP(B222,学連登録!$C$2:$G$3000,4,FALSE))","v":""},"",null,null,null,null,null,null,null,null,null,null,null,null,null,null,null,{"$f":"IF(B222=\"\",\"\",VLOOKUP(B222,学連登録!$C$2:$H$3000,6,FALSE))","v":""},null,null,"",{"$f":"IF(G222=\"\",\"\",VLOOKUP(G222,種目名!$R$5:$T$104,3,0))","v":""},{"$f":"IF(J222=\"\",\"\",VLOOKUP(J222,種目名!$R$5:$T$104,3,0))","v":""},{"$f":"IF(M222=\"\",\"\",VLOOKUP(M222,種目名!$R$5:$T$104,3,0))","v":""},{"$f":"IF(P222=\"\",\"\",VLOOKUP(AF222,種目名!$R$5:$T$104,3,0))","v":""},{"$f":"IF(S222=\"\",\"\",VLOOKUP(AI222,種目名!$R$5:$T$104,3,0))","v":""},0,"","",0,"",""]
["",null,{"$f":"IF(B223=\"\",\"\",VLOOKUP(B223,学連登録!$C$2:$G$3000,2,FALSE))","v":""},{"$f":"IF(B223=\"\",\"\",VLOOKUP(B223,学連登録!$C$2:$G$3000,3,FALSE))","v":""},{"$f":"IF(B223=\"\",\"\",VLOOKUP(B223,学連登録!$C$2:$G$3000,4,FALSE))","v":""},"",null,null,null,null,null,null,null,null,null,null,null,null,null,null,null,{"$f":"IF(B223=\"\",\"\",VLOOKUP(B223,学連登録!$C$2:$H$3000,6,FALSE))","v":""},null,null,"",{"$f":"IF(G223=\"\",\"\",VLOOKUP(G223,種目名!$R$5:$T$104,3,0))","v":""},{"$f":"IF(J223=\"\",\"\",VLOOKUP(J223,種目名!$R$5:$T$104,3,0))","v":""},{"$f":"IF(M223=\"\",\"\",VLOOKUP(M223,種目名!$R$5:$T$104,3,0))","v":""},{"$f":"IF(P223=\"\",\"\",VLOOKUP(AF223,種目名!$R$5:$T$104,3,0))","v":""},{"$f":"IF(S223=\"\",\"\",VLOOKUP(AI223,種目名!$R$5:$T$104,3,0))","v":""},0,"","",0,"",""]
["",null,{"$f":"IF(B224=\"\",\"\",VLOOKUP(B224,学連登録!$C$2:$G$3000,2,FALSE))","v":""},{"$f":"IF(B224=\"\",\"\",VLOOKUP(B224,学連登録!$C$2:$G$3000,3,FALSE))","v":""},{"$f":"IF(B224=\"\",\"\",VLOOKUP(B224,学連登録!$C$2:$G$3000,4,FALSE))","v":""},"",null,null,null,null,null,null,null,null,null,null,null,null,null,null,null,{"$f":"IF(B224=\"\",\"\",VLOOKUP(B224,学連登録!$C$2:$H$3000,6,FALSE))","v":""},null,null,"",{"$f":"IF(G224=\"\",\"\",VLOOKUP(G224,種目名!$R$5:$T$104,3,0))","v":""},{"$f":"IF(J224=\"\",\"\",VLOOKUP(J224,種目名!$R$5:$T$104,3,0))","v":""},{"$f":"IF(M224=\"\",\"\",VLOOKUP(M224,種目名!$R$5:$T$104,3,0))","v":""},{"$f":"IF(P224=\"\",\"\",VLOOKUP(AF224,種目名!$R$5:$T$104,3,0))","v":""},{"$f":"IF(S224=\"\",\"\",VLOOKUP(AI224,種目名!$R$5:$T$104,3,0))","v":""},0,"","",0,"",""]
["",null,{"$f":"IF(B225=\"\",\"\",VLOOKUP(B225,学連登録!$C$2:$G$3000,2,FALSE))","v":""},{"$f":"IF(B225=\"\",\"\",VLOOKUP(B225,学連登録!$C$2:$G$3000,3,FALSE))","v":""},{"$f":"IF(B225=\"\",\"\",VLOOKUP(B225,学連登録!$C$2:$G$3000,4,FALSE))","v":""},"",null,null,null,null,null,null,null,null,null,null,null,null,null,null,null,{"$f":"IF(B225=\"\",\"\",VLOOKUP(B225,学連登録!$C$2:$H$3000,6,FALSE))","v":""},null,null,"",{"$f":"IF(G225=\"\",\"\",VLOOKUP(G225,種目名!$R$5:$T$104,3,0))","v":""},{"$f":"IF(J225=\"\",\"\",VLOOKUP(J225,種目名!$R$5:$T$104,3,0))","v":""},{"$f":"IF(M225=\"\",\"\",VLOOKUP(M225,種目名!$R$5:$T$104,3,0))","v":""},{"$f":"IF(P225=\"\",\"\",VLOOKUP(AF225,種目名!$R$5:$T$104,3,0))","v":""},{"$f":"IF(S225=\"\",\"\",VLOOKUP(AI225,種目名!$R$5:$T$104,3,0))","v":""},0,"","",0,"",""]
["",null,{"$f":"IF(B226=\"\",\"\",VLOOKUP(B226,学連登録!$C$2:$G$3000,2,FALSE))","v":""},{"$f":"IF(B226=\"\",\"\",VLOOKUP(B226,学連登録!$C$2:$G$3000,3,FALSE))","v":""},{"$f":"IF(B226=\"\",\"\",VLOOKUP(B226,学連登録!$C$2:$G$3000,4,FALSE))","v":""},"",null,null,null,null,null,null,null,null,null,null,null,null,null,null,null,{"$f":"IF(B226=\"\",\"\",VLOOKUP(B226,学連登録!$C$2:$H$3000,6,FALSE))","v":""},null,null,"",{"$f":"IF(G226=\"\",\"\",VLOOKUP(G226,種目名!$R$5:$T$104,3,0))","v":""},{"$f":"IF(J226=\"\",\"\",VLOOKUP(J226,種目名!$R$5:$T$104,3,0))","v":""},{"$f":"IF(M226=\"\",\"\",VLOOKUP(M226,種目名!$R$5:$T$104,3,0))","v":""},{"$f":"IF(P226=\"\",\"\",VLOOKUP(AF226,種目名!$R$5:$T$104,3,0))","v":""},{"$f":"IF(S226=\"\",\"\",VLOOKUP(AI226,種目名!$R$5:$T$104,3,0))","v":""},0,"","",0,"",""]
["",null,{"$f":"IF(B227=\"\",\"\",VLOOKUP(B227,学連登録!$C$2:$G$3000,2,FALSE))","v":""},{"$f":"IF(B227=\"\",\"\",VLOOKUP(B227,学連登録!$C$2:$G$3000,3,FALSE))","v":""},{"$f":"IF(B227=\"\",\"\",VLOOKUP(B227,学連登録!$C$2:$G$3000,4,FALSE))","v":""},"",null,null,null,null,null,null,null,null,null,null,null,null,null,null,null,{"$f":"IF(B227=\"\",\"\",VLOOKUP(B227,学連登録!$C$2:$H$3000,6,FALSE))","v":""},null,null,"",{"$f":"IF(G227=\"\",\"\",VLOOKUP(G227,種目名!$R$5:$T$104,3,0))","v":""},{"$f":"IF(J227=\"\",\"\",VLOOKUP(J227,種目名!$R$5:$T$104,3,0))","v":""},{"$f":"IF(M227=\"\",\"\",VLOOKUP(M227,種目名!$R$5:$T$104,3,0))","v":""},{"$f":"IF(P227=\"\",\"\",VLOOKUP(AF227,種目名!$R$5:$T$104,3,0))","v":""},{"$f":"IF(S227=\"\",\"\",VLOOKUP(AI227,種目名!$R$5:$T$104,3,0))","v":""},0,"","",0,"",""]
["",null,{"$f":"IF(B228=\"\",\"\",VLOOKUP(B228,学連登録!$C$2:$G$3000,2,FALSE))","v":""},{"$f":"IF(B228=\"\",\"\",VLOOKUP(B228,学連登録!$C$2:$G$3000,3,FALSE))","v":""},{"$f":"IF(B228=\"\",\"\",VLOOKUP(B228,学連登録!$C$2:$G$3000,4,FALSE))","v":""},"",null,null,null,null,null,null,null,null,null,null,null,null,null,null,null,{"$f":"IF(B228=\"\",\"\",VLOOKUP(B228,学連登録!$C$2:$H$3000,6,FALSE))","v":""},null,null,"",{"$f":"IF(G228=\"\",\"\",VLOOKUP(G228,種目名!$R$5:$T$104,3,0))","v":""},{"$f":"IF(J228=\"\",\"\",VLOOKUP(J228,種目名!$R$5:$T$104,3,0))","v":""},{"$f":"IF(M228=\"\",\"\",VLOOKUP(M228,種目名!$R$5:$T$104,3,0))","v":""},{"$f":"IF(P228=\"\",\"\",VLOOKUP(AF228,種目名!$R$5:$T$104,3,0))","v":""},{"$f":"IF(S228=\"\",\"\",VLOOKUP(AI228,種目名!$R$5:$T$104,3,0))","v":""},0,"","",0,"",""]
["",null,{"$f":"IF(B229=\"\",\"\",VLOOKUP(B229,学連登録!$C$2:$G$3000,2,FALSE))","v":""},{"$f":"IF(B229=\"\",\"\",VLOOKUP(B229,学連登録!$C$2:$G$3000,3,FALSE))","v":""},{"$f":"IF(B229=\"\",\"\",VLOOKUP(B229,学連登録!$C$2:$G$3000,4,FALSE))","v":""},"",null,null,null,null,null,null,null,null,null,null,null,null,null,null,null,{"$f":"IF(B229=\"\",\"\",VLOOKUP(B229,学連登録!$C$2:$H$3000,6,FALSE))","v":""},null,null,"",{"$f":"IF(G229=\"\",\"\",VLOOKUP(G229,種目名!$R$5:$T$104,3,0))","v":""},{"$f":"IF(J229=\"\",\"\",VLOOKUP(J229,種目名!$R$5:$T$104,3,0))","v":""},{"$f":"IF(M229=\"\",\"\",VLOOKUP(M229,種目名!$R$5:$T$104,3,0))","v":""},{"$f":"IF(P229=\"\",\"\",VLOOKUP(AF229,種目名!$R$5:$T$104,3,0))","v":""},{"$f":"IF(S229=\"\",\"\",VLOOKUP(AI229,種目名!$R$5:$T$104,3,0))","v":""},0,"","",0,"",""]
["",null,{"$f":"IF(B230=\"\",\"\",VLOOKUP(B230,学連登録!$C$2:$G$3000,2,FALSE))","v":""},{"$f":"IF(B230=\"\",\"\",VLOOKUP(B230,学連登録!$C$2:$G$3000,3,FALSE))","v":""},{"$f":"IF(B230=\"\",\"\",VLOOKUP(B230,学連登録!$C$2:$G$3000,4,FALSE))","v":""},"",null,null,null,null,null,null,null,null,null,null,null,null,null,null,null,{"$f":"IF(B230=\"\",\"\",VLOOKUP(B230,学連登録!$C$2:$H$3000,6,FALSE))","v":""},null,null,"",{"$f":"IF(G230=\"\",\"\",VLOOKUP(G230,種目名!$R$5:$T$104,3,0))","v":""},{"$f":"IF(J230=\"\",\"\",VLOOKUP(J230,種目名!$R$5:$T$104,3,0))","v":""},{"$f":"IF(M230=\"\",\"\",VLOOKUP(M230,種目名!$R$5:$T$104,3,0))","v":""},{"$f":"IF(P230=\"\",\"\",VLOOKUP(AF230,種目名!$R$5:$T$104,3,0))","v":""},{"$f":"IF(S230=\"\",\"\",VLOOKUP(AI230,種目名!$R$5:$T$104,3,0))","v":""},0,"","",0,"",""]
["",null,{"$f":"IF(B231=\"\",\"\",VLOOKUP(B231,学連登録!$C$2:$G$3000,2,FALSE))","v":""},{"$f":"IF(B231=\"\",\"\",VLOOKUP(B231,学連登録!$C$2:$G$3000,3,FALSE))","v":""},{"$f":"IF(B231=\"\",\"\",VLOOKUP(B231,学連登録!$C$2:$G$3000,4,FALSE))","v":""},"",null,null,null,null,null,null,null,null,null,null,null,null,null,null,null,{"$f":"IF(B231=\"\",\"\",VLOOKUP(B231,学連登録!$C$2:$H$3000,6,FALSE))","v":""},null,null,"",{"$f":"IF(G231=\"\",\"\",VLOOKUP(G231,種目名!$R$5:$T$104,3,0))","v":""},{"$f":"IF(J231=\"\",\"\",VLOOKUP(J231,種目名!$R$5:$T$104,3,0))","v":""},{"$f":"IF(M231=\"\",\"\",VLOOKUP(M231,種目名!$R$5:$T$104,3,0))","v":""},{"$f":"IF(P231=\"\",\"\",VLOOKUP(AF231,種目名!$R$5:$T$104,3,0))","v":""},{"$f":"IF(S231=\"\",\"\",VLOOKUP(AI231,種目名!$R$5:$T$104,3,0))","v":""},0,"","",0,"",""]
["",null,{"$f":"IF(B232=\"\",\"\",VLOOKUP(B232,学連登録!$C$2:$G$3000,2,FALSE))","v":""},{"$f":"IF(B232=\"\",\"\",VLOOKUP(B232,学連登録!$C$2:$G$3000,3,FALSE))","v":""},{"$f":"IF(B232=\"\",\"\",VLOOKUP(B232,学連登録!$C$2:$G$3000,4,FALSE))","v":""},"",null,null,null,null,null,null,null,null,null,null,null,null,null,null,null,{"$f":"IF(B232=\"\",\"\",VLOOKUP(B232,学連登録!$C$2:$H$3000,6,FALSE))","v":""},null,null,"",{"$f":"IF(G232=\"\",\"\",VLOOKUP(G232,種目名!$R$5:$T$104,3,0))","v":""},{"$f":"IF(J232=\"\",\"\",VLOOKUP(J232,種目名!$R$5:$T$104,3,0))","v":""},{"$f":"IF(M232=\"\",\"\",VLOOKUP(M232,種目名!$R$5:$T$104,3,0))","v":""},{"$f":"IF(P232=\"\",\"\",VLOOKUP(AF232,種目名!$R$5:$T$104,3,0))","v":""},{"$f":"IF(S232=\"\",\"\",VLOOKUP(AI232,種目名!$R$5:$T$104,3,0))","v":""},0,"","",0,"",""]
["",null,{"$f":"IF(B233=\"\",\"\",VLOOKUP(B233,学連登録!$C$2:$G$3000,2,FALSE))","v":""},{"$f":"IF(B233=\"\",\"\",VLOOKUP(B233,学連登録!$C$2:$G$3000,3,FALSE))","v":""},{"$f":"IF(B233=\"\",\"\",VLOOKUP(B233,学連登録!$C$2:$G$3000,4,FALSE))","v":""},"",null,null,null,null,null,null,null,null,null,null,null,null,null,null,null,{"$f":"IF(B233=\"\",\"\",VLOOKUP(B233,学連登録!$C$2:$H$3000,6,FALSE))","v":""},null,null,"",{"$f":"IF(G233=\"\",\"\",VLOOKUP(G233,種目名!$R$5:$T$104,3,0))","v":""},{"$f":"IF(J233=\"\",\"\",VLOOKUP(J233,種目名!$R$5:$T$104,3,0))","v":""},{"$f":"IF(M233=\"\",\"\",VLOOKUP(M233,種目名!$R$5:$T$104,3,0))","v":""},{"$f":"IF(P233=\"\",\"\",VLOOKUP(AF233,種目名!$R$5:$T$104,3,0))","v":""},{"$f":"IF(S233=\"\",\"\",VLOOKUP(AI233,種目名!$R$5:$T$104,3,0))","v":""},0,"","",0,"",""]
["",null,{"$f":"IF(B234=\"\",\"\",VLOOKUP(B234,学連登録!$C$2:$G$3000,2,FALSE))","v":""},{"$f":"IF(B234=\"\",\"\",VLOOKUP(B234,学連登録!$C$2:$G$3000,3,FALSE))","v":""},{"$f":"IF(B234=\"\",\"\",VLOOKUP(B234,学連登録!$C$2:$G$3000,4,FALSE))","v":""},"",null,null,null,null,null,null,null,null,null,null,null,null,null,null,null,{"$f":"IF(B234=\"\",\"\",VLOOKUP(B234,学連登録!$C$2:$H$3000,6,FALSE))","v":""},null,null,"",{"$f":"IF(G234=\"\",\"\",VLOOKUP(G234,種目名!$R$5:$T$104,3,0))","v":""},{"$f":"IF(J234=\"\",\"\",VLOOKUP(J234,種目名!$R$5:$T$104,3,0))","v":""},{"$f":"IF(M234=\"\",\"\",VLOOKUP(M234,種目名!$R$5:$T$104,3,0))","v":""},{"$f":"IF(P234=\"\",\"\",VLOOKUP(AF234,種目名!$R$5:$T$104,3,0))","v":""},{"$f":"IF(S234=\"\",\"\",VLOOKUP(AI234,種目名!$R$5:$T$104,3,0))","v":""},0,"","",0,"",""]
["",null,{"$f":"IF(B235=\"\",\"\",VLOOKUP(B235,学連登録!$C$2:$G$3000,2,FALSE))","v":""},{"$f":"IF(B235=\"\",\"\",VLOOKUP(B235,学連登録!$C$2:$G$3000,3,FALSE))","v":""},{"$f":"IF(B235=\"\",\"\",VLOOKUP(B235,学連登録!$C$2:$G$3000,4,FALSE))","v":""},"",null,null,null,null,null,null,null,null,null,null,null,null,null,null,null,{"$f":"IF(B235=\"\",\"\",VLOOKUP(B235,学連登録!$C$2:$H$3000,6,FALSE))","v":""},null,null,"",{"$f":"IF(G235=\"\",\"\",VLOOKUP(G235,種目名!$R$5:$T$104,3,0))","v":""},{"$f":"IF(J235=\"\",\"\",VLOOKUP(J235,種目名!$R$5:$T$104,3,0))","v":""},{"$f":"IF(M235=\"\",\"\",VLOOKUP(M235,種目名!$R$5:$T$104,3,0))","v":""},{"$f":"IF(P235=\"\",\"\",VLOOKUP(AF235,種目名!$R$5:$T$104,3,0))","v":""},{"$f":"IF(S235=\"\",\"\",VLOOKUP(AI235,種目名!$R$5:$T$104,3,0))","v":""},0,"","",0,"",""]
["",null,{"$f":"IF(B236=\"\",\"\",VLOOKUP(B236,学連登録!$C$2:$G$3000,2,FALSE))","v":""},{"$f":"IF(B236=\"\",\"\",VLOOKUP(B236,学連登録!$C$2:$G$3000,3,FALSE))","v":""},{"$f":"IF(B236=\"\",\"\",VLOOKUP(B236,学連登録!$C$2:$G$3000,4,FALSE))","v":""},"",null,null,null,null,null,null,null,null,null,null,null,null,null,null,null,{"$f":"IF(B236=\"\",\"\",VLOOKUP(B236,学連登録!$C$2:$H$3000,6,FALSE))","v":""},null,null,"",{"$f":"IF(G236=\"\",\"\",VLOOKUP(G236,種目名!$R$5:$T$104,3,0))","v":""},{"$f":"IF(J236=\"\",\"\",VLOOKUP(J236,種目名!$R$5:$T$104,3,0))","v":""},{"$f":"IF(M236=\"\",\"\",VLOOKUP(M236,種目名!$R$5:$T$104,3,0))","v":""},{"$f":"IF(P236=\"\",\"\",VLOOKUP(AF236,種目名!$R$5:$T$104,3,0))","v":""},{"$f":"IF(S236=\"\",\"\",VLOOKUP(AI236,種目名!$R$5:$T$104,3,0))","v":""},0,"","",0,"",""]
["",null,{"$f":"IF(B237=\"\",\"\",VLOOKUP(B237,学連登録!$C$2:$G$3000,2,FALSE))","v":""},{"$f":"IF(B237=\"\",\"\",VLOOKUP(B237,学連登録!$C$2:$G$3000,3,FALSE))","v":""},{"$f":"IF(B237=\"\",\"\",VLOOKUP(B237,学連登録!$C$2:$G$3000,4,FALSE))","v":""},"",null,null,null,null,null,null,null,null,null,null,null,null,null,null,null,{"$f":"IF(B237=\"\",\"\",VLOOKUP(B237,学連登録!$C$2:$H$3000,6,FALSE))","v":""},null,null,"",{"$f":"IF(G237=\"\",\"\",VLOOKUP(G237,種目名!$R$5:$T$104,3,0))","v":""},{"$f":"IF(J237=\"\",\"\",VLOOKUP(J237,種目名!$R$5:$T$104,3,0))","v":""},{"$f":"IF(M237=\"\",\"\",VLOOKUP(M237,種目名!$R$5:$T$104,3,0))","v":""},{"$f":"IF(P237=\"\",\"\",VLOOKUP(AF237,種目名!$R$5:$T$104,3,0))","v":""},{"$f":"IF(S237=\"\",\"\",VLOOKUP(AI237,種目名!$R$5:$T$104,3,0))","v":""},0,"","",0,"",""]
["",null,{"$f":"IF(B238=\"\",\"\",VLOOKUP(B238,学連登録!$C$2:$G$3000,2,FALSE))","v":""},{"$f":"IF(B238=\"\",\"\",VLOOKUP(B238,学連登録!$C$2:$G$3000,3,FALSE))","v":""},{"$f":"IF(B238=\"\",\"\",VLOOKUP(B238,学連登録!$C$2:$G$3000,4,FALSE))","v":""},"",null,null,null,null,null,null,null,null,null,null,null,null,null,null,null,{"$f":"IF(B238=\"\",\"\",VLOOKUP(B238,学連登録!$C$2:$H$3000,6,FALSE))","v":""},null,null,"",{"$f":"IF(G238=\"\",\"\",VLOOKUP(G238,種目名!$R$5:$T$104,3,0))","v":""},{"$f":"IF(J238=\"\",\"\",VLOOKUP(J238,種目名!$R$5:$T$104,3,0))","v":""},{"$f":"IF(M238=\"\",\"\",VLOOKUP(M238,種目名!$R$5:$T$104,3,0))","v":""},{"$f":"IF(P238=\"\",\"\",VLOOKUP(AF238,種目名!$R$5:$T$104,3,0))","v":""},{"$f":"IF(S238=\"\",\"\",VLOOKUP(AI238,種目名!$R$5:$T$104,3,0))","v":""},0,"","",0,"",""]
["",null,{"$f":"IF(B239=\"\",\"\",VLOOKUP(B239,学連登録!$C$2:$G$3000,2,FALSE))","v":""},{"$f":"IF(B239=\"\",\"\",VLOOKUP(B239,学連登録!$C$2:$G$3000,3,FALSE))","v":""},{"$f":"IF(B239=\"\",\"\",VLOOKUP(B239,学連登録!$C$2:$G$3000,4,FALSE))","v":""},"",null,null,null,null,null,null,null,null,null,null,null,null,null,null,null,{"$f":"IF(B239=\"\",\"\",VLOOKUP(B239,学連登録!$C$2:$H$3000,6,FALSE))","v":""},null,null,"",{"$f":"IF(G239=\"\",\"\",VLOOKUP(G239,種目名!$R$5:$T$104,3,0))","v":""},{"$f":"IF(J239=\"\",\"\",VLOOKUP(J239,種目名!$R$5:$T$104,3,0))","v":""},{"$f":"IF(M239=\"\",\"\",VLOOKUP(M239,種目名!$R$5:$T$104,3,0))","v":""},{"$f":"IF(P239=\"\",\"\",VLOOKUP(AF239,種目名!$R$5:$T$104,3,0))","v":""},{"$f":"IF(S239=\"\",\"\",VLOOKUP(AI239,種目名!$R$5:$T$104,3,0))","v":""},0,"","",0,"",""]
["",null,{"$f":"IF(B240=\"\",\"\",VLOOKUP(B240,学連登録!$C$2:$G$3000,2,FALSE))","v":""},{"$f":"IF(B240=\"\",\"\",VLOOKUP(B240,学連登録!$C$2:$G$3000,3,FALSE))","v":""},{"$f":"IF(B240=\"\",\"\",VLOOKUP(B240,学連登録!$C$2:$G$3000,4,FALSE))","v":""},"",null,null,null,null,null,null,null,null,null,null,null,null,null,null,null,{"$f":"IF(B240=\"\",\"\",VLOOKUP(B240,学連登録!$C$2:$H$3000,6,FALSE))","v":""},null,null,"",{"$f":"IF(G240=\"\",\"\",VLOOKUP(G240,種目名!$R$5:$T$104,3,0))","v":""},{"$f":"IF(J240=\"\",\"\",VLOOKUP(J240,種目名!$R$5:$T$104,3,0))","v":""},{"$f":"IF(M240=\"\",\"\",VLOOKUP(M240,種目名!$R$5:$T$104,3,0))","v":""},{"$f":"IF(P240=\"\",\"\",VLOOKUP(AF240,種目名!$R$5:$T$104,3,0))","v":""},{"$f":"IF(S240=\"\",\"\",VLOOKUP(AI240,種目名!$R$5:$T$104,3,0))","v":""},0,"","",0,"",""]
["",null,{"$f":"IF(B241=\"\",\"\",VLOOKUP(B241,学連登録!$C$2:$G$3000,2,FALSE))","v":""},{"$f":"IF(B241=\"\",\"\",VLOOKUP(B241,学連登録!$C$2:$G$3000,3,FALSE))","v":""},{"$f":"IF(B241=\"\",\"\",VLOOKUP(B241,学連登録!$C$2:$G$3000,4,FALSE))","v":""},"",null,null,null,null,null,null,null,null,null,null,null,null,null,null,null,{"$f":"IF(B241=\"\",\"\",VLOOKUP(B241,学連登録!$C$2:$H$3000,6,FALSE))","v":""},null,null,"",{"$f":"IF(G241=\"\",\"\",VLOOKUP(G241,種目名!$R$5:$T$104,3,0))","v":""},{"$f":"IF(J241=\"\",\"\",VLOOKUP(J241,種目名!$R$5:$T$104,3,0))","v":""},{"$f":"IF(M241=\"\",\"\",VLOOKUP(M241,種目名!$R$5:$T$104,3,0))","v":""},{"$f":"IF(P241=\"\",\"\",VLOOKUP(AF241,種目名!$R$5:$T$104,3,0))","v":""},{"$f":"IF(S241=\"\",\"\",VLOOKUP(AI241,種目名!$R$5:$T$104,3,0))","v":""},0,"","",0,"",""]
["",null,{"$f":"IF(B242=\"\",\"\",VLOOKUP(B242,学連登録!$C$2:$G$3000,2,FALSE))","v":""},{"$f":"IF(B242=\"\",\"\",VLOOKUP(B242,学連登録!$C$2:$G$3000,3,FALSE))","v":""},{"$f":"IF(B242=\"\",\"\",VLOOKUP(B242,学連登録!$C$2:$G$3000,4,FALSE))","v":""},"",null,null,null,null,null,null,null,null,null,null,null,null,null,null,null,{"$f":"IF(B242=\"\",\"\",VLOOKUP(B242,学連登録!$C$2:$H$3000,6,FALSE))","v":""},null,null,"",{"$f":"IF(G242=\"\",\"\",VLOOKUP(G242,種目名!$R$5:$T$104,3,0))","v":""},{"$f":"IF(J242=\"\",\"\",VLOOKUP(J242,種目名!$R$5:$T$104,3,0))","v":""},{"$f":"IF(M242=\"\",\"\",VLOOKUP(M242,種目名!$R$5:$T$104,3,0))","v":""},{"$f":"IF(P242=\"\",\"\",VLOOKUP(AF242,種目名!$R$5:$T$104,3,0))","v":""},{"$f":"IF(S242=\"\",\"\",VLOOKUP(AI242,種目名!$R$5:$T$104,3,0))","v":""},0,"","",0,"",""]
[{"$f":"IF(C243=\"\",\"\",A242+1)","v":""},null,{"$f":"IF(B243=\"\",\"\",VLOOKUP(B243,学連登録!$C$2:$G$3000,2,FALSE))","v":""},{"$f":"IF(B243=\"\",\"\",VLOOKUP(B243,学連登録!$C$2:$G$3000,3,FALSE))","v":""},{"$f":"IF(B243=\"\",\"\",VLOOKUP(B243,学連登録!$C$2:$G$3000,4,FALSE))","v":""},"",null,null,null,null,null,null,null,null,null,null,null,null,null,null,null,{"$f":"IF(B243=\"\",\"\",VLOOKUP(B243,学連登録!$C$2:$H$3000,6,FALSE))","v":""},null,null,"",{"$f":"IF(G243=\"\",\"\",VLOOKUP(G243,種目名!$R$5:$T$104,3,0))","v":""},{"$f":"IF(J243=\"\",\"\",VLOOKUP(J243,種目名!$R$5:$T$104,3,0))","v":""},{"$f":"IF(M243=\"\",\"\",VLOOKUP(M243,種目名!$R$5:$T$104,3,0))","v":""},{"$f":"IF(P243=\"\",\"\",VLOOKUP(AF243,種目名!$R$5:$T$104,3,0))","v":""},{"$f":"IF(S243=\"\",\"\",VLOOKUP(AI243,種目名!$R$5:$T$104,3,0))","v":""},0,"","",0,"",""]
["",null,{"$f":"IF(B244=\"\",\"\",VLOOKUP(B244,学連登録!$C$2:$G$3000,2,FALSE))","v":""},{"$f":"IF(B244=\"\",\"\",VLOOKUP(B244,学連登録!$C$2:$G$3000,3,FALSE))","v":""},{"$f":"IF(B244=\"\",\"\",VLOOKUP(B244,学連登録!$C$2:$G$3000,4,FALSE))","v":""},"",null,null,null,null,null,null,null,null,null,null,null,null,null,null,null,{"$f":"IF(B244=\"\",\"\",VLOOKUP(B244,学連登録!$C$2:$H$3000,6,FALSE))","v":""},null,null,"",{"$f":"IF(G244=\"\",\"\",VLOOKUP(G244,種目名!$R$5:$T$104,3,0))","v":""},{"$f":"IF(J244=\"\",\"\",VLOOKUP(J244,種目名!$R$5:$T$104,3,0))","v":""},{"$f":"IF(M244=\"\",\"\",VLOOKUP(M244,種目名!$R$5:$T$104,3,0))","v":""},{"$f":"IF(P244=\"\",\"\",VLOOKUP(AF244,種目名!$R$5:$T$104,3,0))","v":""},{"$f":"IF(S244=\"\",\"\",VLOOKUP(AI244,種目名!$R$5:$T$104,3,0))","v":""},0,"","",0,"",""]
["",null,{"$f":"IF(B245=\"\",\"\",VLOOKUP(B245,学連登録!$C$2:$G$3000,2,FALSE))","v":""},{"$f":"IF(B245=\"\",\"\",VLOOKUP(B245,学連登録!$C$2:$G$3000,3,FALSE))","v":""},{"$f":"IF(B245=\"\",\"\",VLOOKUP(B245,学連登録!$C$2:$G$3000,4,FALSE))","v":""},"",null,null,null,null,null,null,null,null,null,null,null,null,null,null,null,{"$f":"IF(B245=\"\",\"\",VLOOKUP(B245,学連登録!$C$2:$H$3000,6,FALSE))","v":""},null,null,"",{"$f":"IF(G245=\"\",\"\",VLOOKUP(G245,種目名!$R$5:$T$104,3,0))","v":""},{"$f":"IF(J245=\"\",\"\",VLOOKUP(J245,種目名!$R$5:$T$104,3,0))","v":""},{"$f":"IF(M245=\"\",\"\",VLOOKUP(M245,種目名!$R$5:$T$104,3,0))","v":""},{"$f":"IF(P245=\"\",\"\",VLOOKUP(AF245,種目名!$R$5:$T$104,3,0))","v":""},{"$f":"IF(S245=\"\",\"\",VLOOKUP(AI245,種目名!$R$5:$T$104,3,0))","v":""},0,"","",0,"",""]
["",null,{"$f":"IF(B246=\"\",\"\",VLOOKUP(B246,学連登録!$C$2:$G$3000,2,FALSE))","v":""},{"$f":"IF(B246=\"\",\"\",VLOOKUP(B246,学連登録!$C$2:$G$3000,3,FALSE))","v":""},{"$f":"IF(B246=\"\",\"\",VLOOKUP(B246,学連登録!$C$2:$G$3000,4,FALSE))","v":""},"",null,null,null,null,null,null,null,null,null,null,null,null,null,null,null,{"$f":"IF(B246=\"\",\"\",VLOOKUP(B246,学連登録!$C$2:$H$3000,6,FALSE))","v":""},null,null,"",{"$f":"IF(G246=\"\",\"\",VLOOKUP(G246,種目名!$R$5:$T$104,3,0))","v":""},{"$f":"IF(J246=\"\",\"\",VLOOKUP(J246,種目名!$R$5:$T$104,3,0))","v":""},{"$f":"IF(M246=\"\",\"\",VLOOKUP(M246,種目名!$R$5:$T$104,3,0))","v":""},{"$f":"IF(P246=\"\",\"\",VLOOKUP(AF246,種目名!$R$5:$T$104,3,0))","v":""},{"$f":"IF(S246=\"\",\"\",VLOOKUP(AI246,種目名!$R$5:$T$104,3,0))","v":""},0,"","",0,"",""]
["",null,{"$f":"IF(B247=\"\",\"\",VLOOKUP(B247,学連登録!$C$2:$G$3000,2,FALSE))","v":""},{"$f":"IF(B247=\"\",\"\",VLOOKUP(B247,学連登録!$C$2:$G$3000,3,FALSE))","v":""},{"$f":"IF(B247=\"\",\"\",VLOOKUP(B247,学連登録!$C$2:$G$3000,4,FALSE))","v":""},"",null,null,null,null,null,null,null,null,null,null,null,null,null,null,null,{"$f":"IF(B247=\"\",\"\",VLOOKUP(B247,学連登録!$C$2:$H$3000,6,FALSE))","v":""},null,null,"",{"$f":"IF(G247=\"\",\"\",VLOOKUP(G247,種目名!$R$5:$T$104,3,0))","v":""},{"$f":"IF(J247=\"\",\"\",VLOOKUP(J247,種目名!$R$5:$T$104,3,0))","v":""},{"$f":"IF(M247=\"\",\"\",VLOOKUP(M247,種目名!$R$5:$T$104,3,0))","v":""},{"$f":"IF(P247=\"\",\"\",VLOOKUP(AF247,種目名!$R$5:$T$104,3,0))","v":""},{"$f":"IF(S247=\"\",\"\",VLOOKUP(AI247,種目名!$R$5:$T$104,3,0))","v":""},0,"","",0,"",""]
["",null,{"$f":"IF(B248=\"\",\"\",VLOOKUP(B248,学連登録!$C$2:$G$3000,2,FALSE))","v":""},{"$f":"IF(B248=\"\",\"\",VLOOKUP(B248,学連登録!$C$2:$G$3000,3,FALSE))","v":""},{"$f":"IF(B248=\"\",\"\",VLOOKUP(B248,学連登録!$C$2:$G$3000,4,FALSE))","v":""},"",null,null,null,null,null,null,null,null,null,null,null,null,null,null,null,{"$f":"IF(B248=\"\",\"\",VLOOKUP(B248,学連登録!$C$2:$H$3000,6,FALSE))","v":""},null,null,"",{"$f":"IF(G248=\"\",\"\",VLOOKUP(G248,種目名!$R$5:$T$104,3,0))","v":""},{"$f":"IF(J248=\"\",\"\",VLOOKUP(J248,種目名!$R$5:$T$104,3,0))","v":""},{"$f":"IF(M248=\"\",\"\",VLOOKUP(M248,種目名!$R$5:$T$104,3,0))","v":""},{"$f":"IF(P248=\"\",\"\",VLOOKUP(AF248,種目名!$R$5:$T$104,3,0))","v":""},{"$f":"IF(S248=\"\",\"\",VLOOKUP(AI248,種目名!$R$5:$T$104,3,0))","v":""},0,"","",0,"",""]
["",null,{"$f":"IF(B249=\"\",\"\",VLOOKUP(B249,学連登録!$C$2:$G$3000,2,FALSE))","v":""},{"$f":"IF(B249=\"\",\"\",VLOOKUP(B249,学連登録!$C$2:$G$3000,3,FALSE))","v":""},{"$f":"IF(B249=\"\",\"\",VLOOKUP(B249,学連登録!$C$2:$G$3000,4,FALSE))","v":""},"",null,null,null,null,null,null,null,null,null,null,null,null,null,null,null,{"$f":"IF(B249=\"\",\"\",VLOOKUP(B249,学連登録!$C$2:$H$3000,6,FALSE))","v":""},null,null,"",{"$f":"IF(G249=\"\",\"\",VLOOKUP(G249,種目名!$R$5:$T$104,3,0))","v":""},{"$f":"IF(J249=\"\",\"\",VLOOKUP(J249,種目名!$R$5:$T$104,3,0))","v":""},{"$f":"IF(M249=\"\",\"\",VLOOKUP(M249,種目名!$R$5:$T$104,3,0))","v":""},{"$f":"IF(P249=\"\",\"\",VLOOKUP(AF249,種目名!$R$5:$T$104,3,0))","v":""},{"$f":"IF(S249=\"\",\"\",VLOOKUP(AI249,種目名!$R$5:$T$104,3,0))","v":""},0,"","",0,"",""]
["",null,{"$f":"IF(B250=\"\",\"\",VLOOKUP(B250,学連登録!$C$2:$G$3000,2,FALSE))","v":""},{"$f":"IF(B250=\"\",\"\",VLOOKUP(B250,学連登録!$C$2:$G$3000,3,FALSE))","v":""},{"$f":"IF(B250=\"\",\"\",VLOOKUP(B250,学連登録!$C$2:$G$3000,4,FALSE))","v":""},"",null,null,null,null,null,null,null,null,null,null,null,null,null,null,null,{"$f":"IF(B250=\"\",\"\",VLOOKUP(B250,学連登録!$C$2:$H$3000,6,FALSE))","v":""},null,null,"",{"$f":"IF(G250=\"\",\"\",VLOOKUP(G250,種目名!$R$5:$T$104,3,0))","v":""},{"$f":"IF(J250=\"\",\"\",VLOOKUP(J250,種目名!$R$5:$T$104,3,0))","v":""},{"$f":"IF(M250=\"\",\"\",VLOOKUP(M250,種目名!$R$5:$T$104,3,0))","v":""},{"$f":"IF(P250=\"\",\"\",VLOOKUP(AF250,種目名!$R$5:$T$104,3,0))","v":""},{"$f":"IF(S250=\"\",\"\",VLOOKUP(AI250,種目名!$R$5:$T$104,3,0))","v":""},0,"","",0,"",""]
["",null,{"$f":"IF(B251=\"\",\"\",VLOOKUP(B251,学連登録!$C$2:$G$3000,2,FALSE))","v":""},{"$f":"IF(B251=\"\",\"\",VLOOKUP(B251,学連登録!$C$2:$G$3000,3,FALSE))","v":""},{"$f":"IF(B251=\"\",\"\",VLOOKUP(B251,学連登録!$C$2:$G$3000,4,FALSE))","v":""},"",null,null,null,null,null,null,null,null,null,null,null,null,null,null,null,{"$f":"IF(B251=\"\",\"\",VLOOKUP(B251,学連登録!$C$2:$H$3000,6,FALSE))","v":""},null,null,"",{"$f":"IF(G251=\"\",\"\",VLOOKUP(G251,種目名!$R$5:$T$104,3,0))","v":""},{"$f":"IF(J251=\"\",\"\",VLOOKUP(J251,種目名!$R$5:$T$104,3,0))","v":""},{"$f":"IF(M251=\"\",\"\",VLOOKUP(M251,種目名!$R$5:$T$104,3,0))","v":""},{"$f":"IF(P251=\"\",\"\",VLOOKUP(AF251,種目名!$R$5:$T$104,3,0))","v":""},{"$f":"IF(S251=\"\",\"\",VLOOKUP(AI251,種目名!$R$5:$T$104,3,0))","v":""},0,"","",0,"",""]
["",null,{"$f":"IF(B252=\"\",\"\",VLOOKUP(B252,学連登録!$C$2:$G$3000,2,FALSE))","v":""},{"$f":"IF(B252=\"\",\"\",VLOOKUP(B252,学連登録!$C$2:$G$3000,3,FALSE))","v":""},{"$f":"IF(B252=\"\",\"\",VLOOKUP(B252,学連登録!$C$2:$G$3000,4,FALSE))","v":""},"",null,null,null,null,null,null,null,null,null,null,null,null,null,null,null,{"$f":"IF(B252=\"\",\"\",VLOOKUP(B252,学連登録!$C$2:$H$3000,6,FALSE))","v":""},null,null,"",{"$f":"IF(G252=\"\",\"\",VLOOKUP(G252,種目名!$R$5:$T$104,3,0))","v":""},{"$f":"IF(J252=\"\",\"\",VLOOKUP(J252,種目名!$R$5:$T$104,3,0))","v":""},{"$f":"IF(M252=\"\",\"\",VLOOKUP(M252,種目名!$R$5:$T$104,3,0))","v":""},{"$f":"IF(P252=\"\",\"\",VLOOKUP(AF252,種目名!$R$5:$T$104,3,0))","v":""},{"$f":"IF(S252=\"\",\"\",VLOOKUP(AI252,種目名!$R$5:$T$104,3,0))","v":""},0,"","",0,"",""]
["",null,{"$f":"IF(B253=\"\",\"\",VLOOKUP(B253,学連登録!$C$2:$G$3000,2,FALSE))","v":""},{"$f":"IF(B253=\"\",\"\",VLOOKUP(B253,学連登録!$C$2:$G$3000,3,FALSE))","v":""},{"$f":"IF(B253=\"\",\"\",VLOOKUP(B253,学連登録!$C$2:$G$3000,4,FALSE))","v":""},"",null,null,null,null,null,null,null,null,null,null,null,null,null,null,null,{"$f":"IF(B253=\"\",\"\",VLOOKUP(B253,学連登録!$C$2:$H$3000,6,FALSE))","v":""},null,null,"",{"$f":"IF(G253=\"\",\"\",VLOOKUP(G253,種目名!$R$5:$T$104,3,0))","v":""},{"$f":"IF(J253=\"\",\"\",VLOOKUP(J253,種目名!$R$5:$T$104,3,0))","v":""},{"$f":"IF(M253=\"\",\"\",VLOOKUP(M253,種目名!$R$5:$T$104,3,0))","v":""},{"$f":"IF(P253=\"\",\"\",VLOOKUP(AF253,種目名!$R$5:$T$104,3,0))","v":""},{"$f":"IF(S253=\"\",\"\",VLOOKUP(AI253,種目名!$R$5:$T$104,3,0))","v":""},0,"","",0,"",""]
["",null,{"$f":"IF(B254=\"\",\"\",VLOOKUP(B254,学連登録!$C$2:$G$3000,2,FALSE))","v":""},{"$f":"IF(B254=\"\",\"\",VLOOKUP(B254,学連登録!$C$2:$G$3000,3,FALSE))","v":""},{"$f":"IF(B254=\"\",\"\",VLOOKUP(B254,学連登録!$C$2:$G$3000,4,FALSE))","v":""},"",null,null,null,null,null,null,null,null,null,null,null,null,null,null,null,{"$f":"IF(B254=\"\",\"\",VLOOKUP(B254,学連登録!$C$2:$H$3000,6,FALSE))","v":""},null,null,"",{"$f":"IF(G254=\"\",\"\",VLOOKUP(G254,種目名!$R$5:$T$104,3,0))","v":""},{"$f":"IF(J254=\"\",\"\",VLOOKUP(J254,種目名!$R$5:$T$104,3,0))","v":""},{"$f":"IF(M254=\"\",\"\",VLOOKUP(M254,種目名!$R$5:$T$104,3,0))","v":""},{"$f":"IF(P254=\"\",\"\",VLOOKUP(AF254,種目名!$R$5:$T$104,3,0))","v":""},{"$f":"IF(S254=\"\",\"\",VLOOKUP(AI254,種目名!$R$5:$T$104,3,0))","v":""},0,"","",0,"",""]
["",null,{"$f":"IF(B255=\"\",\"\",VLOOKUP(B255,学連登録!$C$2:$G$3000,2,FALSE))","v":""},{"$f":"IF(B255=\"\",\"\",VLOOKUP(B255,学連登録!$C$2:$G$3000,3,FALSE))","v":""},{"$f":"IF(B255=\"\",\"\",VLOOKUP(B255,学連登録!$C$2:$G$3000,4,FALSE))","v":""},"",null,null,null,null,null,null,null,null,null,null,null,null,null,null,null,{"$f":"IF(B255=\"\",\"\",VLOOKUP(B255,学連登録!$C$2:$H$3000,6,FALSE))","v":""},null,null,"",{"$f":"IF(G255=\"\",\"\",VLOOKUP(G255,種目名!$R$5:$T$104,3,0))","v":""},{"$f":"IF(J255=\"\",\"\",VLOOKUP(J255,種目名!$R$5:$T$104,3,0))","v":""},{"$f":"IF(M255=\"\",\"\",VLOOKUP(M255,種目名!$R$5:$T$104,3,0))","v":""},{"$f":"IF(P255=\"\",\"\",VLOOKUP(AF255,種目名!$R$5:$T$104,3,0))","v":""},{"$f":"IF(S255=\"\",\"\",VLOOKUP(AI255,種目名!$R$5:$T$104,3,0))","v":""},0,"","",0,"",""]
["",null,{"$f":"IF(B256=\"\",\"\",VLOOKUP(B256,学連登録!$C$2:$G$3000,2,FALSE))","v":""},{"$f":"IF(B256=\"\",\"\",VLOOKUP(B256,学連登録!$C$2:$G$3000,3,FALSE))","v":""},{"$f":"IF(B256=\"\",\"\",VLOOKUP(B256,学連登録!$C$2:$G$3000,4,FALSE))","v":""},"",null,null,null,null,null,null,null,null,null,null,null,null,null,null,null,{"$f":"IF(B256=\"\",\"\",VLOOKUP(B256,学連登録!$C$2:$H$3000,6,FALSE))","v":""},null,null,"",{"$f":"IF(G256=\"\",\"\",VLOOKUP(G256,種目名!$R$5:$T$104,3,0))","v":""},{"$f":"IF(J256=\"\",\"\",VLOOKUP(J256,種目名!$R$5:$T$104,3,0))","v":""},{"$f":"IF(M256=\"\",\"\",VLOOKUP(M256,種目名!$R$5:$T$104,3,0))","v":""},{"$f":"IF(P256=\"\",\"\",VLOOKUP(AF256,種目名!$R$5:$T$104,3,0))","v":""},{"$f":"IF(S256=\"\",\"\",VLOOKUP(AI256,種目名!$R$5:$T$104,3,0))","v":""},0,"","",0,"",""]
["",null,{"$f":"IF(B257=\"\",\"\",VLOOKUP(B257,学連登録!$C$2:$G$3000,2,FALSE))","v":""},{"$f":"IF(B257=\"\",\"\",VLOOKUP(B257,学連登録!$C$2:$G$3000,3,FALSE))","v":""},{"$f":"IF(B257=\"\",\"\",VLOOKUP(B257,学連登録!$C$2:$G$3000,4,FALSE))","v":""},"",null,null,null,null,null,null,null,null,null,null,null,null,null,null,null,{"$f":"IF(B257=\"\",\"\",VLOOKUP(B257,学連登録!$C$2:$H$3000,6,FALSE))","v":""},null,null,"",{"$f":"IF(G257=\"\",\"\",VLOOKUP(G257,種目名!$R$5:$T$104,3,0))","v":""},{"$f":"IF(J257=\"\",\"\",VLOOKUP(J257,種目名!$R$5:$T$104,3,0))","v":""},{"$f":"IF(M257=\"\",\"\",VLOOKUP(M257,種目名!$R$5:$T$104,3,0))","v":""},{"$f":"IF(P257=\"\",\"\",VLOOKUP(AF257,種目名!$R$5:$T$104,3,0))","v":""},{"$f":"IF(S257=\"\",\"\",VLOOKUP(AI257,種目名!$R$5:$T$104,3,0))","v":""},0,"","",0,"",""]
["",null,{"$f":"IF(B258=\"\",\"\",VLOOKUP(B258,学連登録!$C$2:$G$3000,2,FALSE))","v":""},{"$f":"IF(B258=\"\",\"\",VLOOKUP(B258,学連登録!$C$2:$G$3000,3,FALSE))","v":""},{"$f":"IF(B258=\"\",\"\",VLOOKUP(B258,学連登録!$C$2:$G$3000,4,FALSE))","v":""},"",null,null,null,null,null,null,null,null,null,null,null,null,null,null,null,{"$f":"IF(B258=\"\",\"\",VLOOKUP(B258,学連登録!$C$2:$H$3000,6,FALSE))","v":""},null,null,"",{"$f":"IF(G258=\"\",\"\",VLOOKUP(G258,種目名!$R$5:$T$104,3,0))","v":""},{"$f":"IF(J258=\"\",\"\",VLOOKUP(J258,種目名!$R$5:$T$104,3,0))","v":""},{"$f":"IF(M258=\"\",\"\",VLOOKUP(M258,種目名!$R$5:$T$104,3,0))","v":""},{"$f":"IF(P258=\"\",\"\",VLOOKUP(AF258,種目名!$R$5:$T$104,3,0))","v":""},{"$f":"IF(S258=\"\",\"\",VLOOKUP(AI258,種目名!$R$5:$T$104,3,0))","v":""},0,"","",0,"",""]
["",null,{"$f":"IF(B259=\"\",\"\",VLOOKUP(B259,学連登録!$C$2:$G$3000,2,FALSE))","v":""},{"$f":"IF(B259=\"\",\"\",VLOOKUP(B259,学連登録!$C$2:$G$3000,3,FALSE))","v":""},{"$f":"IF(B259=\"\",\"\",VLOOKUP(B259,学連登録!$C$2:$G$3000,4,FALSE))","v":""},"",null,null,null,null,null,null,null,null,null,null,null,null,null,null,null,{"$f":"IF(B259=\"\",\"\",VLOOKUP(B259,学連登録!$C$2:$H$3000,6,FALSE))","v":""},null,null,"",{"$f":"IF(G259=\"\",\"\",VLOOKUP(G259,種目名!$R$5:$T$104,3,0))","v":""},{"$f":"IF(J259=\"\",\"\",VLOOKUP(J259,種目名!$R$5:$T$104,3,0))","v":""},{"$f":"IF(M259=\"\",\"\",VLOOKUP(M259,種目名!$R$5:$T$104,3,0))","v":""},{"$f":"IF(P259=\"\",\"\",VLOOKUP(AF259,種目名!$R$5:$T$104,3,0))","v":""},{"$f":"IF(S259=\"\",\"\",VLOOKUP(AI259,種目名!$R$5:$T$104,3,0))","v":""},0,"","",0,"",""]
["",null,{"$f":"IF(B260=\"\",\"\",VLOOKUP(B260,学連登録!$C$2:$G$3000,2,FALSE))","v":""},{"$f":"IF(B260=\"\",\"\",VLOOKUP(B260,学連登録!$C$2:$G$3000,3,FALSE))","v":""},{"$f":"IF(B260=\"\",\"\",VLOOKUP(B260,学連登録!$C$2:$G$3000,4,FALSE))","v":""},"",null,null,null,null,null,null,null,null,null,null,null,null,null,null,null,{"$f":"IF(B260=\"\",\"\",VLOOKUP(B260,学連登録!$C$2:$H$3000,6,FALSE))","v":""},null,null,"",{"$f":"IF(G260=\"\",\"\",VLOOKUP(G260,種目名!$R$5:$T$104,3,0))","v":""},{"$f":"IF(J260=\"\",\"\",VLOOKUP(J260,種目名!$R$5:$T$104,3,0))","v":""},{"$f":"IF(M260=\"\",\"\",VLOOKUP(M260,種目名!$R$5:$T$104,3,0))","v":""},{"$f":"IF(P260=\"\",\"\",VLOOKUP(AF260,種目名!$R$5:$T$104,3,0))","v":""},{"$f":"IF(S260=\"\",\"\",VLOOKUP(AI260,種目名!$R$5:$T$104,3,0))","v":""},0,"","",0,"",""]
["",null,{"$f":"IF(B261=\"\",\"\",VLOOKUP(B261,学連登録!$C$2:$G$3000,2,FALSE))","v":""},{"$f":"IF(B261=\"\",\"\",VLOOKUP(B261,学連登録!$C$2:$G$3000,3,FALSE))","v":""},{"$f":"IF(B261=\"\",\"\",VLOOKUP(B261,学連登録!$C$2:$G$3000,4,FALSE))","v":""},"",null,null,null,null,null,null,null,null,null,null,null,null,null,null,null,{"$f":"IF(B261=\"\",\"\",VLOOKUP(B261,学連登録!$C$2:$H$3000,6,FALSE))","v":""},null,null,"",{"$f":"IF(G261=\"\",\"\",VLOOKUP(G261,種目名!$R$5:$T$104,3,0))","v":""},{"$f":"IF(J261=\"\",\"\",VLOOKUP(J261,種目名!$R$5:$T$104,3,0))","v":""},{"$f":"IF(M261=\"\",\"\",VLOOKUP(M261,種目名!$R$5:$T$104,3,0))","v":""},{"$f":"IF(P261=\"\",\"\",VLOOKUP(AF261,種目名!$R$5:$T$104,3,0))","v":""},{"$f":"IF(S261=\"\",\"\",VLOOKUP(AI261,種目名!$R$5:$T$104,3,0))","v":""},0,"","",0,"",""]
["",null,{"$f":"IF(B262=\"\",\"\",VLOOKUP(B262,学連登録!$C$2:$G$3000,2,FALSE))","v":""},{"$f":"IF(B262=\"\",\"\",VLOOKUP(B262,学連登録!$C$2:$G$3000,3,FALSE))","v":""},{"$f":"IF(B262=\"\",\"\",VLOOKUP(B262,学連登録!$C$2:$G$3000,4,FALSE))","v":""},"",null,null,null,null,null,null,null,null,null,null,null,null,null,null,null,{"$f":"IF(B262=\"\",\"\",VLOOKUP(B262,学連登録!$C$2:$H$3000,6,FALSE))","v":""},null,null,"",{"$f":"IF(G262=\"\",\"\",VLOOKUP(G262,種目名!$R$5:$T$104,3,0))","v":""},{"$f":"IF(J262=\"\",\"\",VLOOKUP(J262,種目名!$R$5:$T$104,3,0))","v":""},{"$f":"IF(M262=\"\",\"\",VLOOKUP(M262,種目名!$R$5:$T$104,3,0))","v":""},{"$f":"IF(P262=\"\",\"\",VLOOKUP(AF262,種目名!$R$5:$T$104,3,0))","v":""},{"$f":"IF(S262=\"\",\"\",VLOOKUP(AI262,種目名!$R$5:$T$104,3,0))","v":""},0,"","",0,"",""]
["",null,{"$f":"IF(B263=\"\",\"\",VLOOKUP(B263,学連登録!$C$2:$G$3000,2,FALSE))","v":""},{"$f":"IF(B263=\"\",\"\",VLOOKUP(B263,学連登録!$C$2:$G$3000,3,FALSE))","v":""},{"$f":"IF(B263=\"\",\"\",VLOOKUP(B263,学連登録!$C$2:$G$3000,4,FALSE))","v":""},"",null,null,null,null,null,null,null,null,null,null,null,null,null,null,null,{"$f":"IF(B263=\"\",\"\",VLOOKUP(B263,学連登録!$C$2:$H$3000,6,FALSE))","v":""},null,null,"",{"$f":"IF(G263=\"\",\"\",VLOOKUP(G263,種目名!$R$5:$T$104,3,0))","v":""},{"$f":"IF(J263=\"\",\"\",VLOOKUP(J263,種目名!$R$5:$T$104,3,0))","v":""},{"$f":"IF(M263=\"\",\"\",VLOOKUP(M263,種目名!$R$5:$T$104,3,0))","v":""},{"$f":"IF(P263=\"\",\"\",VLOOKUP(AF263,種目名!$R$5:$T$104,3,0))","v":""},{"$f":"IF(S263=\"\",\"\",VLOOKUP(AI263,種目名!$R$5:$T$104,3,0))","v":""},0,"","",0,"",""]
["",null,{"$f":"IF(B264=\"\",\"\",VLOOKUP(B264,学連登録!$C$2:$G$3000,2,FALSE))","v":""},{"$f":"IF(B264=\"\",\"\",VLOOKUP(B264,学連登録!$C$2:$G$3000,3,FALSE))","v":""},{"$f":"IF(B264=\"\",\"\",VLOOKUP(B264,学連登録!$C$2:$G$3000,4,FALSE))","v":""},"",null,null,null,null,null,null,null,null,null,null,null,null,null,null,null,{"$f":"IF(B264=\"\",\"\",VLOOKUP(B264,学連登録!$C$2:$H$3000,6,FALSE))","v":""},null,null,"",{"$f":"IF(G264=\"\",\"\",VLOOKUP(G264,種目名!$R$5:$T$104,3,0))","v":""},{"$f":"IF(J264=\"\",\"\",VLOOKUP(J264,種目名!$R$5:$T$104,3,0))","v":""},{"$f":"IF(M264=\"\",\"\",VLOOKUP(M264,種目名!$R$5:$T$104,3,0))","v":""},{"$f":"IF(P264=\"\",\"\",VLOOKUP(AF264,種目名!$R$5:$T$104,3,0))","v":""},{"$f":"IF(S264=\"\",\"\",VLOOKUP(AI264,種目名!$R$5:$T$104,3,0))","v":""},0,"","",0,"",""]
["",null,{"$f":"IF(B265=\"\",\"\",VLOOKUP(B265,学連登録!$C$2:$G$3000,2,FALSE))","v":""},{"$f":"IF(B265=\"\",\"\",VLOOKUP(B265,学連登録!$C$2:$G$3000,3,FALSE))","v":""},{"$f":"IF(B265=\"\",\"\",VLOOKUP(B265,学連登録!$C$2:$G$3000,4,FALSE))","v":""},"",null,null,null,null,null,null,null,null,null,null,null,null,null,null,null,{"$f":"IF(B265=\"\",\"\",VLOOKUP(B265,学連登録!$C$2:$H$3000,6,FALSE))","v":""},null,null,"",{"$f":"IF(G265=\"\",\"\",VLOOKUP(G265,種目名!$R$5:$T$104,3,0))","v":""},{"$f":"IF(J265=\"\",\"\",VLOOKUP(J265,種目名!$R$5:$T$104,3,0))","v":""},{"$f":"IF(M265=\"\",\"\",VLOOKUP(M265,種目名!$R$5:$T$104,3,0))","v":""},{"$f":"IF(P265=\"\",\"\",VLOOKUP(AF265,種目名!$R$5:$T$104,3,0))","v":""},{"$f":"IF(S265=\"\",\"\",VLOOKUP(AI265,種目名!$R$5:$T$104,3,0))","v":""},0,"","",0,"",""]
["",null,{"$f":"IF(B266=\"\",\"\",VLOOKUP(B266,学連登録!$C$2:$G$3000,2,FALSE))","v":""},{"$f":"IF(B266=\"\",\"\",VLOOKUP(B266,学連登録!$C$2:$G$3000,3,FALSE))","v":""},{"$f":"IF(B266=\"\",\"\",VLOOKUP(B266,学連登録!$C$2:$G$3000,4,FALSE))","v":""},"",null,null,null,null,null,null,null,null,null,null,null,null,null,null,null,{"$f":"IF(B266=\"\",\"\",VLOOKUP(B266,学連登録!$C$2:$H$3000,6,FALSE))","v":""},null,null,"",{"$f":"IF(G266=\"\",\"\",VLOOKUP(G266,種目名!$R$5:$T$104,3,0))","v":""},{"$f":"IF(J266=\"\",\"\",VLOOKUP(J266,種目名!$R$5:$T$104,3,0))","v":""},{"$f":"IF(M266=\"\",\"\",VLOOKUP(M266,種目名!$R$5:$T$104,3,0))","v":""},{"$f":"IF(P266=\"\",\"\",VLOOKUP(AF266,種目名!$R$5:$T$104,3,0))","v":""},{"$f":"IF(S266=\"\",\"\",VLOOKUP(AI266,種目名!$R$5:$T$104,3,0))","v":""},0,"","",0,"",""]
["",null,{"$f":"IF(B267=\"\",\"\",VLOOKUP(B267,学連登録!$C$2:$G$3000,2,FALSE))","v":""},{"$f":"IF(B267=\"\",\"\",VLOOKUP(B267,学連登録!$C$2:$G$3000,3,FALSE))","v":""},{"$f":"IF(B267=\"\",\"\",VLOOKUP(B267,学連登録!$C$2:$G$3000,4,FALSE))","v":""},"",null,null,null,null,null,null,null,null,null,null,null,null,null,null,null,{"$f":"IF(B267=\"\",\"\",VLOOKUP(B267,学連登録!$C$2:$H$3000,6,FALSE))","v":""},null,null,"",{"$f":"IF(G267=\"\",\"\",VLOOKUP(G267,種目名!$R$5:$T$104,3,0))","v":""},{"$f":"IF(J267=\"\",\"\",VLOOKUP(J267,種目名!$R$5:$T$104,3,0))","v":""},{"$f":"IF(M267=\"\",\"\",VLOOKUP(M267,種目名!$R$5:$T$104,3,0))","v":""},{"$f":"IF(P267=\"\",\"\",VLOOKUP(AF267,種目名!$R$5:$T$104,3,0))","v":""},{"$f":"IF(S267=\"\",\"\",VLOOKUP(AI267,種目名!$R$5:$T$104,3,0))","v":""},0,"","",0,"",""]
["",null,{"$f":"IF(B268=\"\",\"\",VLOOKUP(B268,学連登録!$C$2:$G$3000,2,FALSE))","v":""},{"$f":"IF(B268=\"\",\"\",VLOOKUP(B268,学連登録!$C$2:$G$3000,3,FALSE))","v":""},{"$f":"IF(B268=\"\",\"\",VLOOKUP(B268,学連登録!$C$2:$G$3000,4,FALSE))","v":""},"",null,null,null,null,null,null,null,null,null,null,null,null,null,null,null,{"$f":"IF(B268=\"\",\"\",VLOOKUP(B268,学連登録!$C$2:$H$3000,6,FALSE))","v":""},null,null,"",{"$f":"IF(G268=\"\",\"\",VLOOKUP(G268,種目名!$R$5:$T$104,3,0))","v":""},{"$f":"IF(J268=\"\",\"\",VLOOKUP(J268,種目名!$R$5:$T$104,3,0))","v":""},{"$f":"IF(M268=\"\",\"\",VLOOKUP(M268,種目名!$R$5:$T$104,3,0))","v":""},{"$f":"IF(P268=\"\",\"\",VLOOKUP(AF268,種目名!$R$5:$T$104,3,0))","v":""},{"$f":"IF(S268=\"\",\"\",VLOOKUP(AI268,種目名!$R$5:$T$104,3,0))","v":""},0,"","",0,"",""]
["",null,{"$f":"IF(B269=\"\",\"\",VLOOKUP(B269,学連登録!$C$2:$G$3000,2,FALSE))","v":""},{"$f":"IF(B269=\"\",\"\",VLOOKUP(B269,学連登録!$C$2:$G$3000,3,FALSE))","v":""},{"$f":"IF(B269=\"\",\"\",VLOOKUP(B269,学連登録!$C$2:$G$3000,4,FALSE))","v":""},{"$f":"IF(C269=\"\",\"\",$P$1)","v":""},null,null,null,null,null,null,null,null,null,null,null,null,null,null,null,{"$f":"IF(B269=\"\",\"\",VLOOKUP(B269,学連登録!$C$2:$H$3000,6,FALSE))","v":""},null,null,"",{"$f":"IF(G269=\"\",\"\",VLOOKUP(G269,種目名!$R$5:$T$104,3,0))","v":""},{"$f":"IF(J269=\"\",\"\",VLOOKUP(J269,種目名!$R$5:$T$104,3,0))","v":""},{"$f":"IF(M269=\"\",\"\",VLOOKUP(M269,種目名!$R$5:$T$104,3,0))","v":""},{"$f":"IF(P269=\"\",\"\",VLOOKUP(AF269,種目名!$R$5:$T$104,3,0))","v":""},{"$f":"IF(S269=\"\",\"\",VLOOKUP(AI269,種目名!$R$5:$T$104,3,0))","v":""},0,"","",0,"",""]
["",null,{"$f":"IF(B270=\"\",\"\",VLOOKUP(B270,学連登録!$C$2:$G$3000,2,FALSE))","v":""},{"$f":"IF(B270=\"\",\"\",VLOOKUP(B270,学連登録!$C$2:$G$3000,3,FALSE))","v":""},{"$f":"IF(B270=\"\",\"\",VLOOKUP(B270,学連登録!$C$2:$G$3000,4,FALSE))","v":""},"",null,null,null,null,null,null,null,null,null,null,null,null,null,null,null,{"$f":"IF(B270=\"\",\"\",VLOOKUP(B270,学連登録!$C$2:$H$3000,6,FALSE))","v":""},null,null,"",{"$f":"IF(G270=\"\",\"\",VLOOKUP(G270,種目名!$R$5:$T$104,3,0))","v":""},{"$f":"IF(J270=\"\",\"\",VLOOKUP(J270,種目名!$R$5:$T$104,3,0))","v":""},{"$f":"IF(M270=\"\",\"\",VLOOKUP(M270,種目名!$R$5:$T$104,3,0))","v":""},{"$f":"IF(P270=\"\",\"\",VLOOKUP(AF270,種目名!$R$5:$T$104,3,0))","v":""},{"$f":"IF(S270=\"\",\"\",VLOOKUP(AI270,種目名!$R$5:$T$104,3,0))","v":""},0,"","",0,"",""]
["",null,{"$f":"IF(B271=\"\",\"\",VLOOKUP(B271,学連登録!$C$2:$G$3000,2,FALSE))","v":""},{"$f":"IF(B271=\"\",\"\",VLOOKUP(B271,学連登録!$C$2:$G$3000,3,FALSE))","v":""},{"$f":"IF(B271=\"\",\"\",VLOOKUP(B271,学連登録!$C$2:$G$3000,4,FALSE))","v":""},"",null,null,null,null,null,null,null,null,null,null,null,null,null,null,null,{"$f":"IF(B271=\"\",\"\",VLOOKUP(B271,学連登録!$C$2:$H$3000,6,FALSE))","v":""},null,null,"",{"$f":"IF(G271=\"\",\"\",VLOOKUP(G271,種目名!$R$5:$T$104,3,0))","v":""},{"$f":"IF(J271=\"\",\"\",VLOOKUP(J271,種目名!$R$5:$T$104,3,0))","v":""},{"$f":"IF(M271=\"\",\"\",VLOOKUP(M271,種目名!$R$5:$T$104,3,0))","v":""},{"$f":"IF(P271=\"\",\"\",VLOOKUP(AF271,種目名!$R$5:$T$104,3,0))","v":""},{"$f":"IF(S271=\"\",\"\",VLOOKUP(AI271,種目名!$R$5:$T$104,3,0))","v":""},0,"","",0,"",""]
["",null,{"$f":"IF(B272=\"\",\"\",VLOOKUP(B272,学連登録!$C$2:$G$3000,2,FALSE))","v":""},{"$f":"IF(B272=\"\",\"\",VLOOKUP(B272,学連登録!$C$2:$G$3000,3,FALSE))","v":""},{"$f":"IF(B272=\"\",\"\",VLOOKUP(B272,学連登録!$C$2:$G$3000,4,FALSE))","v":""},"",null,null,null,null,null,null,null,null,null,null,null,null,null,null,null,{"$f":"IF(B272=\"\",\"\",VLOOKUP(B272,学連登録!$C$2:$H$3000,6,FALSE))","v":""},null,null,"",{"$f":"IF(G272=\"\",\"\",VLOOKUP(G272,種目名!$R$5:$T$104,3,0))","v":""},{"$f":"IF(J272=\"\",\"\",VLOOKUP(J272,種目名!$R$5:$T$104,3,0))","v":""},{"$f":"IF(M272=\"\",\"\",VLOOKUP(M272,種目名!$R$5:$T$104,3,0))","v":""},{"$f":"IF(P272=\"\",\"\",VLOOKUP(AF272,種目名!$R$5:$T$104,3,0))","v":""},{"$f":"IF(S272=\"\",\"\",VLOOKUP(AI272,種目名!$R$5:$T$104,3,0))","v":""},0,"","",0,"",""]
["",null,{"$f":"IF(B273=\"\",\"\",VLOOKUP(B273,学連登録!$C$2:$G$3000,2,FALSE))","v":""},{"$f":"IF(B273=\"\",\"\",VLOOKUP(B273,学連登録!$C$2:$G$3000,3,FALSE))","v":""},{"$f":"IF(B273=\"\",\"\",VLOOKUP(B273,学連登録!$C$2:$G$3000,4,FALSE))","v":""},"",null,null,null,null,null,null,null,null,null,null,null,null,null,null,null,{"$f":"IF(B273=\"\",\"\",VLOOKUP(B273,学連登録!$C$2:$H$3000,6,FALSE))","v":""},null,null,"",{"$f":"IF(G273=\"\",\"\",VLOOKUP(G273,種目名!$R$5:$T$104,3,0))","v":""},{"$f":"IF(J273=\"\",\"\",VLOOKUP(J273,種目名!$R$5:$T$104,3,0))","v":""},{"$f":"IF(M273=\"\",\"\",VLOOKUP(M273,種目名!$R$5:$T$104,3,0))","v":""},{"$f":"IF(P273=\"\",\"\",VLOOKUP(AF273,種目名!$R$5:$T$104,3,0))","v":""},{"$f":"IF(S273=\"\",\"\",VLOOKUP(AI273,種目名!$R$5:$T$104,3,0))","v":""},0,"","",0,"",""]
["",null,{"$f":"IF(B274=\"\",\"\",VLOOKUP(B274,学連登録!$C$2:$G$3000,2,FALSE))","v":""},{"$f":"IF(B274=\"\",\"\",VLOOKUP(B274,学連登録!$C$2:$G$3000,3,FALSE))","v":""},{"$f":"IF(B274=\"\",\"\",VLOOKUP(B274,学連登録!$C$2:$G$3000,4,FALSE))","v":""},"",null,null,null,null,null,null,null,null,null,null,null,null,null,null,null,{"$f":"IF(B274=\"\",\"\",VLOOKUP(B274,学連登録!$C$2:$H$3000,6,FALSE))","v":""},null,null,"",{"$f":"IF(G274=\"\",\"\",VLOOKUP(G274,種目名!$R$5:$T$104,3,0))","v":""},{"$f":"IF(J274=\"\",\"\",VLOOKUP(J274,種目名!$R$5:$T$104,3,0))","v":""},{"$f":"IF(M274=\"\",\"\",VLOOKUP(M274,種目名!$R$5:$T$104,3,0))","v":""},{"$f":"IF(P274=\"\",\"\",VLOOKUP(AF274,種目名!$R$5:$T$104,3,0))","v":""},{"$f":"IF(S274=\"\",\"\",VLOOKUP(AI274,種目名!$R$5:$T$104,3,0))","v":""},0,"","",0,"",""]
["",null,{"$f":"IF(B275=\"\",\"\",VLOOKUP(B275,学連登録!$C$2:$G$3000,2,FALSE))","v":""},{"$f":"IF(B275=\"\",\"\",VLOOKUP(B275,学連登録!$C$2:$G$3000,3,FALSE))","v":""},{"$f":"IF(B275=\"\",\"\",VLOOKUP(B275,学連登録!$C$2:$G$3000,4,FALSE))","v":""},"",null,null,null,null,null,null,null,null,null,null,null,null,null,null,null,{"$f":"IF(B275=\"\",\"\",VLOOKUP(B275,学連登録!$C$2:$H$3000,6,FALSE))","v":""},null,null,"",{"$f":"IF(G275=\"\",\"\",VLOOKUP(G275,種目名!$R$5:$T$104,3,0))","v":""},{"$f":"IF(J275=\"\",\"\",VLOOKUP(J275,種目名!$R$5:$T$104,3,0))","v":""},{"$f":"IF(M275=\"\",\"\",VLOOKUP(M275,種目名!$R$5:$T$104,3,0))","v":""},{"$f":"IF(P275=\"\",\"\",VLOOKUP(AF275,種目名!$R$5:$T$104,3,0))","v":""},{"$f":"IF(S275=\"\",\"\",VLOOKUP(AI275,種目名!$R$5:$T$104,3,0))","v":""},0,"","",0,"",""]
["",null,{"$f":"IF(B276=\"\",\"\",VLOOKUP(B276,学連登録!$C$2:$G$3000,2,FALSE))","v":""},{"$f":"IF(B276=\"\",\"\",VLOOKUP(B276,学連登録!$C$2:$G$3000,3,FALSE))","v":""},{"$f":"IF(B276=\"\",\"\",VLOOKUP(B276,学連登録!$C$2:$G$3000,4,FALSE))","v":""},"",null,null,null,null,null,null,null,null,null,null,null,null,null,null,null,{"$f":"IF(B276=\"\",\"\",VLOOKUP(B276,学連登録!$C$2:$H$3000,6,FALSE))","v":""},null,null,"",{"$f":"IF(G276=\"\",\"\",VLOOKUP(G276,種目名!$R$5:$T$104,3,0))","v":""},{"$f":"IF(J276=\"\",\"\",VLOOKUP(J276,種目名!$R$5:$T$104,3,0))","v":""},{"$f":"IF(M276=\"\",\"\",VLOOKUP(M276,種目名!$R$5:$T$104,3,0))","v":""},{"$f":"IF(P276=\"\",\"\",VLOOKUP(AF276,種目名!$R$5:$T$104,3,0))","v":""},{"$f":"IF(S276=\"\",\"\",VLOOKUP(AI276,種目名!$R$5:$T$104,3,0))","v":""},0,"","",0,"",""]
["",null,{"$f":"IF(B277=\"\",\"\",VLOOKUP(B277,学連登録!$C$2:$G$3000,2,FALSE))","v":""},{"$f":"IF(B277=\"\",\"\",VLOOKUP(B277,学連登録!$C$2:$G$3000,3,FALSE))","v":""},{"$f":"IF(B277=\"\",\"\",VLOOKUP(B277,学連登録!$C$2:$G$3000,4,FALSE))","v":""},"",null,null,null,null,null,null,null,null,null,null,null,null,null,null,null,{"$f":"IF(B277=\"\",\"\",VLOOKUP(B277,学連登録!$C$2:$H$3000,6,FALSE))","v":""},null,null,"",{"$f":"IF(G277=\"\",\"\",VLOOKUP(G277,種目名!$R$5:$T$104,3,0))","v":""},{"$f":"IF(J277=\"\",\"\",VLOOKUP(J277,種目名!$R$5:$T$104,3,0))","v":""},{"$f":"IF(M277=\"\",\"\",VLOOKUP(M277,種目名!$R$5:$T$104,3,0))","v":""},{"$f":"IF(P277=\"\",\"\",VLOOKUP(AF277,種目名!$R$5:$T$104,3,0))","v":""},{"$f":"IF(S277=\"\",\"\",VLOOKUP(AI277,種目名!$R$5:$T$104,3,0))","v":""},0,"","",0,"",""]
["",null,{"$f":"IF(B278=\"\",\"\",VLOOKUP(B278,学連登録!$C$2:$G$3000,2,FALSE))","v":""},{"$f":"IF(B278=\"\",\"\",VLOOKUP(B278,学連登録!$C$2:$G$3000,3,FALSE))","v":""},{"$f":"IF(B278=\"\",\"\",VLOOKUP(B278,学連登録!$C$2:$G$3000,4,FALSE))","v":""},"",null,null,null,null,null,null,null,null,null,null,null,null,null,null,null,{"$f":"IF(B278=\"\",\"\",VLOOKUP(B278,学連登録!$C$2:$H$3000,6,FALSE))","v":""},null,null,{"$f":"IF(C278=\"\",\"\",$S$3)","v":""},{"$f":"IF(G278=\"\",\"\",VLOOKUP(G278,種目名!$R$5:$T$104,3,0))","v":""},{"$f":"IF(J278=\"\",\"\",VLOOKUP(J278,種目名!$R$5:$T$104,3,0))","v":""},{"$f":"IF(M278=\"\",\"\",VLOOKUP(M278,種目名!$R$5:$T$104,3,0))","v":""},{"$f":"IF(P278=\"\",\"\",VLOOKUP(AF278,種目名!$R$5:$T$104,3,0))","v":""},{"$f":"IF(S278=\"\",\"\",VLOOKUP(AI278,種目名!$R$5:$T$104,3,0))","v":""},{"$f":"LENB(P278)","v":0},{"$f":"IF(AE278,LEFTB(P278,AE278-1),\"\")","v":""},{"$f":"IF(AE278,MIDB(P278,AE278,1),\"\")","v":""},{"$f":"LENB(S278)","v":0},{"$f":"IF(AH278,LEFTB(S278,AH278-1),\"\")","v":""},{"$f":"IF(AH278,MIDB(S278,AH278,1),\"\")","v":""}]
["",null,{"$f":"IF(B279=\"\",\"\",VLOOKUP(B279,学連登録!$C$2:$G$3000,2,FALSE))","v":""},{"$f":"IF(B279=\"\",\"\",VLOOKUP(B279,学連登録!$C$2:$G$3000,3,FALSE))","v":""},{"$f":"IF(B279=\"\",\"\",VLOOKUP(B279,学連登録!$C$2:$G$3000,4,FALSE))","v":""},"",null,null,null,null,null,null,null,null,null,null,null,null,null,null,null,{"$f":"IF(B279=\"\",\"\",VLOOKUP(B279,学連登録!$C$2:$H$3000,6,FALSE))","v":""},null,null,"",{"$f":"IF(G279=\"\",\"\",VLOOKUP(G279,種目名!$R$5:$T$104,3,0))","v":""},{"$f":"IF(J279=\"\",\"\",VLOOKUP(J279,種目名!$R$5:$T$104,3,0))","v":""},{"$f":"IF(M279=\"\",\"\",VLOOKUP(M279,種目名!$R$5:$T$104,3,0))","v":""},{"$f":"IF(P279=\"\",\"\",VLOOKUP(AF279,種目名!$R$5:$T$104,3,0))","v":""},{"$f":"IF(S279=\"\",\"\",VLOOKUP(AI279,種目名!$R$5:$T$104,3,0))","v":""},0,"","",0,"",""]
["",null,{"$f":"IF(B280=\"\",\"\",VLOOKUP(B280,学連登録!$C$2:$G$3000,2,FALSE))","v":""},{"$f":"IF(B280=\"\",\"\",VLOOKUP(B280,学連登録!$C$2:$G$3000,3,FALSE))","v":""},{"$f":"IF(B280=\"\",\"\",VLOOKUP(B280,学連登録!$C$2:$G$3000,4,FALSE))","v":""},"",null,null,null,null,null,null,null,null,null,null,null,null,null,null,null,{"$f":"IF(B280=\"\",\"\",VLOOKUP(B280,学連登録!$C$2:$H$3000,6,FALSE))","v":""},null,null,"",{"$f":"IF(G280=\"\",\"\",VLOOKUP(G280,種目名!$R$5:$T$104,3,0))","v":""},{"$f":"IF(J280=\"\",\"\",VLOOKUP(J280,種目名!$R$5:$T$104,3,0))","v":""},{"$f":"IF(M280=\"\",\"\",VLOOKUP(M280,種目名!$R$5:$T$104,3,0))","v":""},{"$f":"IF(P280=\"\",\"\",VLOOKUP(AF280,種目名!$R$5:$T$104,3,0))","v":""},{"$f":"IF(S280=\"\",\"\",VLOOKUP(AI280,種目名!$R$5:$T$104,3,0))","v":""},0,"","",0,"",""]
["",null,{"$f":"IF(B281=\"\",\"\",VLOOKUP(B281,学連登録!$C$2:$G$3000,2,FALSE))","v":""},{"$f":"IF(B281=\"\",\"\",VLOOKUP(B281,学連登録!$C$2:$G$3000,3,FALSE))","v":""},{"$f":"IF(B281=\"\",\"\",VLOOKUP(B281,学連登録!$C$2:$G$3000,4,FALSE))","v":""},"",null,null,null,null,null,null,null,null,null,null,null,null,null,null,null,{"$f":"IF(B281=\"\",\"\",VLOOKUP(B281,学連登録!$C$2:$H$3000,6,FALSE))","v":""},null,null,"",{"$f":"IF(G281=\"\",\"\",VLOOKUP(G281,種目名!$R$5:$T$104,3,0))","v":""},{"$f":"IF(J281=\"\",\"\",VLOOKUP(J281,種目名!$R$5:$T$104,3,0))","v":""},{"$f":"IF(M281=\"\",\"\",VLOOKUP(M281,種目名!$R$5:$T$104,3,0))","v":""},{"$f":"IF(P281=\"\",\"\",VLOOKUP(AF281,種目名!$R$5:$T$104,3,0))","v":""},{"$f":"IF(S281=\"\",\"\",VLOOKUP(AI281,種目名!$R$5:$T$104,3,0))","v":""},0,"","",0,"",""]
["",null,{"$f":"IF(B282=\"\",\"\",VLOOKUP(B282,学連登録!$C$2:$G$3000,2,FALSE))","v":""},{"$f":"IF(B282=\"\",\"\",VLOOKUP(B282,学連登録!$C$2:$G$3000,3,FALSE))","v":""},{"$f":"IF(B282=\"\",\"\",VLOOKUP(B282,学連登録!$C$2:$G$3000,4,FALSE))","v":""},"",null,null,null,null,null,null,null,null,null,null,null,null,null,null,null,{"$f":"IF(B282=\"\",\"\",VLOOKUP(B282,学連登録!$C$2:$H$3000,6,FALSE))","v":""},null,null,"",{"$f":"IF(G282=\"\",\"\",VLOOKUP(G282,種目名!$R$5:$T$104,3,0))","v":""},{"$f":"IF(J282=\"\",\"\",VLOOKUP(J282,種目名!$R$5:$T$104,3,0))","v":""},{"$f":"IF(M282=\"\",\"\",VLOOKUP(M282,種目名!$R$5:$T$104,3,0))","v":""},{"$f":"IF(P282=\"\",\"\",VLOOKUP(AF282,種目名!$R$5:$T$104,3,0))","v":""},{"$f":"IF(S282=\"\",\"\",VLOOKUP(AI282,種目名!$R$5:$T$104,3,0))","v":""},0,"","",0,"",""]
["",null,{"$f":"IF(B283=\"\",\"\",VLOOKUP(B283,学連登録!$C$2:$G$3000,2,FALSE))","v":""},{"$f":"IF(B283=\"\",\"\",VLOOKUP(B283,学連登録!$C$2:$G$3000,3,FALSE))","v":""},{"$f":"IF(B283=\"\",\"\",VLOOKUP(B283,学連登録!$C$2:$G$3000,4,FALSE))","v":""},"",null,null,null,null,null,null,null,null,null,null,null,null,null,null,null,{"$f":"IF(B283=\"\",\"\",VLOOKUP(B283,学連登録!$C$2:$H$3000,6,FALSE))","v":""},null,null,"",{"$f":"IF(G283=\"\",\"\",VLOOKUP(G283,種目名!$R$5:$T$104,3,0))","v":""},{"$f":"IF(J283=\"\",\"\",VLOOKUP(J283,種目名!$R$5:$T$104,3,0))","v":""},{"$f":"IF(M283=\"\",\"\",VLOOKUP(M283,種目名!$R$5:$T$104,3,0))","v":""},{"$f":"IF(P283=\"\",\"\",VLOOKUP(AF283,種目名!$R$5:$T$104,3,0))","v":""},{"$f":"IF(S283=\"\",\"\",VLOOKUP(AI283,種目名!$R$5:$T$104,3,0))","v":""},0,"","",0,"",""]
["",null,{"$f":"IF(B284=\"\",\"\",VLOOKUP(B284,学連登録!$C$2:$G$3000,2,FALSE))","v":""},{"$f":"IF(B284=\"\",\"\",VLOOKUP(B284,学連登録!$C$2:$G$3000,3,FALSE))","v":""},{"$f":"IF(B284=\"\",\"\",VLOOKUP(B284,学連登録!$C$2:$G$3000,4,FALSE))","v":""},"",null,null,null,null,null,null,null,null,null,null,null,null,null,null,null,{"$f":"IF(B284=\"\",\"\",VLOOKUP(B284,学連登録!$C$2:$H$3000,6,FALSE))","v":""},null,null,"",{"$f":"IF(G284=\"\",\"\",VLOOKUP(G284,種目名!$R$5:$T$104,3,0))","v":""},{"$f":"IF(J284=\"\",\"\",VLOOKUP(J284,種目名!$R$5:$T$104,3,0))","v":""},{"$f":"IF(M284=\"\",\"\",VLOOKUP(M284,種目名!$R$5:$T$104,3,0))","v":""},{"$f":"IF(P284=\"\",\"\",VLOOKUP(AF284,種目名!$R$5:$T$104,3,0))","v":""},{"$f":"IF(S284=\"\",\"\",VLOOKUP(AI284,種目名!$R$5:$T$104,3,0))","v":""},0,"","",0,"",""]
["",null,{"$f":"IF(B285=\"\",\"\",VLOOKUP(B285,学連登録!$C$2:$G$3000,2,FALSE))","v":""},{"$f":"IF(B285=\"\",\"\",VLOOKUP(B285,学連登録!$C$2:$G$3000,3,FALSE))","v":""},{"$f":"IF(B285=\"\",\"\",VLOOKUP(B285,学連登録!$C$2:$G$3000,4,FALSE))","v":""},"",null,null,null,null,null,null,null,null,null,null,null,null,null,null,null,{"$f":"IF(B285=\"\",\"\",VLOOKUP(B285,学連登録!$C$2:$H$3000,6,FALSE))","v":""},null,null,"",{"$f":"IF(G285=\"\",\"\",VLOOKUP(G285,種目名!$R$5:$T$104,3,0))","v":""},{"$f":"IF(J285=\"\",\"\",VLOOKUP(J285,種目名!$R$5:$T$104,3,0))","v":""},{"$f":"IF(M285=\"\",\"\",VLOOKUP(M285,種目名!$R$5:$T$104,3,0))","v":""},{"$f":"IF(P285=\"\",\"\",VLOOKUP(AF285,種目名!$R$5:$T$104,3,0))","v":""},{"$f":"IF(S285=\"\",\"\",VLOOKUP(AI285,種目名!$R$5:$T$104,3,0))","v":""},0,"","",0,"",""]
["",null,{"$f":"IF(B286=\"\",\"\",VLOOKUP(B286,学連登録!$C$2:$G$3000,2,FALSE))","v":""},{"$f":"IF(B286=\"\",\"\",VLOOKUP(B286,学連登録!$C$2:$G$3000,3,FALSE))","v":""},{"$f":"IF(B286=\"\",\"\",VLOOKUP(B286,学連登録!$C$2:$G$3000,4,FALSE))","v":""},"",null,null,null,null,null,null,null,null,null,null,null,null,null,null,null,{"$f":"IF(B286=\"\",\"\",VLOOKUP(B286,学連登録!$C$2:$H$3000,6,FALSE))","v":""},null,null,"",{"$f":"IF(G286=\"\",\"\",VLOOKUP(G286,種目名!$R$5:$T$104,3,0))","v":""},{"$f":"IF(J286=\"\",\"\",VLOOKUP(J286,種目名!$R$5:$T$104,3,0))","v":""},{"$f":"IF(M286=\"\",\"\",VLOOKUP(M286,種目名!$R$5:$T$104,3,0))","v":""},{"$f":"IF(P286=\"\",\"\",VLOOKUP(AF286,種目名!$R$5:$T$104,3,0))","v":""},{"$f":"IF(S286=\"\",\"\",VLOOKUP(AI286,種目名!$R$5:$T$104,3,0))","v":""},0,"","",0,"",""]
["",null,{"$f":"IF(B287=\"\",\"\",VLOOKUP(B287,学連登録!$C$2:$G$3000,2,FALSE))","v":""},{"$f":"IF(B287=\"\",\"\",VLOOKUP(B287,学連登録!$C$2:$G$3000,3,FALSE))","v":""},{"$f":"IF(B287=\"\",\"\",VLOOKUP(B287,学連登録!$C$2:$G$3000,4,FALSE))","v":""},"",null,null,null,null,null,null,null,null,null,null,null,null,null,null,null,{"$f":"IF(B287=\"\",\"\",VLOOKUP(B287,学連登録!$C$2:$H$3000,6,FALSE))","v":""},null,null,"",{"$f":"IF(G287=\"\",\"\",VLOOKUP(G287,種目名!$R$5:$T$104,3,0))","v":""},{"$f":"IF(J287=\"\",\"\",VLOOKUP(J287,種目名!$R$5:$T$104,3,0))","v":""},{"$f":"IF(M287=\"\",\"\",VLOOKUP(M287,種目名!$R$5:$T$104,3,0))","v":""},{"$f":"IF(P287=\"\",\"\",VLOOKUP(AF287,種目名!$R$5:$T$104,3,0))","v":""},{"$f":"IF(S287=\"\",\"\",VLOOKUP(AI287,種目名!$R$5:$T$104,3,0))","v":""},0,"","",0,"",""]
["",null,{"$f":"IF(B288=\"\",\"\",VLOOKUP(B288,学連登録!$C$2:$G$3000,2,FALSE))","v":""},{"$f":"IF(B288=\"\",\"\",VLOOKUP(B288,学連登録!$C$2:$G$3000,3,FALSE))","v":""},{"$f":"IF(B288=\"\",\"\",VLOOKUP(B288,学連登録!$C$2:$G$3000,4,FALSE))","v":""},"",null,null,null,null,null,null,null,null,null,null,null,null,null,null,null,{"$f":"IF(B288=\"\",\"\",VLOOKUP(B288,学連登録!$C$2:$H$3000,6,FALSE))","v":""},null,null,"",{"$f":"IF(G288=\"\",\"\",VLOOKUP(G288,種目名!$R$5:$T$104,3,0))","v":""},{"$f":"IF(J288=\"\",\"\",VLOOKUP(J288,種目名!$R$5:$T$104,3,0))","v":""},{"$f":"IF(M288=\"\",\"\",VLOOKUP(M288,種目名!$R$5:$T$104,3,0))","v":""},{"$f":"IF(P288=\"\",\"\",VLOOKUP(AF288,種目名!$R$5:$T$104,3,0))","v":""},{"$f":"IF(S288=\"\",\"\",VLOOKUP(AI288,種目名!$R$5:$T$104,3,0))","v":""},0,"","",0,"",""]
["",null,{"$f":"IF(B289=\"\",\"\",VLOOKUP(B289,学連登録!$C$2:$G$3000,2,FALSE))","v":""},{"$f":"IF(B289=\"\",\"\",VLOOKUP(B289,学連登録!$C$2:$G$3000,3,FALSE))","v":""},{"$f":"IF(B289=\"\",\"\",VLOOKUP(B289,学連登録!$C$2:$G$3000,4,FALSE))","v":""},"",null,null,null,null,null,null,null,null,null,null,null,null,null,null,null,{"$f":"IF(B289=\"\",\"\",VLOOKUP(B289,学連登録!$C$2:$H$3000,6,FALSE))","v":""},null,null,"",{"$f":"IF(G289=\"\",\"\",VLOOKUP(G289,種目名!$R$5:$T$104,3,0))","v":""},{"$f":"IF(J289=\"\",\"\",VLOOKUP(J289,種目名!$R$5:$T$104,3,0))","v":""},{"$f":"IF(M289=\"\",\"\",VLOOKUP(M289,種目名!$R$5:$T$104,3,0))","v":""},{"$f":"IF(P289=\"\",\"\",VLOOKUP(AF289,種目名!$R$5:$T$104,3,0))","v":""},{"$f":"IF(S289=\"\",\"\",VLOOKUP(AI289,種目名!$R$5:$T$104,3,0))","v":""},0,"","",0,"",""]
["",null,{"$f":"IF(B290=\"\",\"\",VLOOKUP(B290,学連登録!$C$2:$G$3000,2,FALSE))","v":""},{"$f":"IF(B290=\"\",\"\",VLOOKUP(B290,学連登録!$C$2:$G$3000,3,FALSE))","v":""},{"$f":"IF(B290=\"\",\"\",VLOOKUP(B290,学連登録!$C$2:$G$3000,4,FALSE))","v":""},"",null,null,null,null,null,null,null,null,null,null,null,null,null,null,null,{"$f":"IF(B290=\"\",\"\",VLOOKUP(B290,学連登録!$C$2:$H$3000,6,FALSE))","v":""},null,null,"",{"$f":"IF(G290=\"\",\"\",VLOOKUP(G290,種目名!$R$5:$T$104,3,0))","v":""},{"$f":"IF(J290=\"\",\"\",VLOOKUP(J290,種目名!$R$5:$T$104,3,0))","v":""},{"$f":"IF(M290=\"\",\"\",VLOOKUP(M290,種目名!$R$5:$T$104,3,0))","v":""},{"$f":"IF(P290=\"\",\"\",VLOOKUP(AF290,種目名!$R$5:$T$104,3,0))","v":""},{"$f":"IF(S290=\"\",\"\",VLOOKUP(AI290,種目名!$R$5:$T$104,3,0))","v":""},0,"","",0,"",""]
["",null,{"$f":"IF(B291=\"\",\"\",VLOOKUP(B291,学連登録!$C$2:$G$3000,2,FALSE))","v":""},{"$f":"IF(B291=\"\",\"\",VLOOKUP(B291,学連登録!$C$2:$G$3000,3,FALSE))","v":""},{"$f":"IF(B291=\"\",\"\",VLOOKUP(B291,学連登録!$C$2:$G$3000,4,FALSE))","v":""},"",null,null,null,null,null,null,null,null,null,null,null,null,null,null,null,{"$f":"IF(B291=\"\",\"\",VLOOKUP(B291,学連登録!$C$2:$H$3000,6,FALSE))","v":""},null,null,"",{"$f":"IF(G291=\"\",\"\",VLOOKUP(G291,種目名!$R$5:$T$104,3,0))","v":""},{"$f":"IF(J291=\"\",\"\",VLOOKUP(J291,種目名!$R$5:$T$104,3,0))","v":""},{"$f":"IF(M291=\"\",\"\",VLOOKUP(M291,種目名!$R$5:$T$104,3,0))","v":""},{"$f":"IF(P291=\"\",\"\",VLOOKUP(AF291,種目名!$R$5:$T$104,3,0))","v":""},{"$f":"IF(S291=\"\",\"\",VLOOKUP(AI291,種目名!$R$5:$T$104,3,0))","v":""},0,"","",0,"",""]
["",null,{"$f":"IF(B292=\"\",\"\",VLOOKUP(B292,学連登録!$C$2:$G$3000,2,FALSE))","v":""},{"$f":"IF(B292=\"\",\"\",VLOOKUP(B292,学連登録!$C$2:$G$3000,3,FALSE))","v":""},{"$f":"IF(B292=\"\",\"\",VLOOKUP(B292,学連登録!$C$2:$G$3000,4,FALSE))","v":""},"",null,null,null,null,null,null,null,null,null,null,null,null,null,null,null,{"$f":"IF(B292=\"\",\"\",VLOOKUP(B292,学連登録!$C$2:$H$3000,6,FALSE))","v":""},null,null,"",{"$f":"IF(G292=\"\",\"\",VLOOKUP(G292,種目名!$R$5:$T$104,3,0))","v":""},{"$f":"IF(J292=\"\",\"\",VLOOKUP(J292,種目名!$R$5:$T$104,3,0))","v":""},{"$f":"IF(M292=\"\",\"\",VLOOKUP(M292,種目名!$R$5:$T$104,3,0))","v":""},{"$f":"IF(P292=\"\",\"\",VLOOKUP(AF292,種目名!$R$5:$T$104,3,0))","v":""},{"$f":"IF(S292=\"\",\"\",VLOOKUP(AI292,種目名!$R$5:$T$104,3,0))","v":""},0,"","",0,"",""]
["",null,{"$f":"IF(B293=\"\",\"\",VLOOKUP(B293,学連登録!$C$2:$G$3000,2,FALSE))","v":""},{"$f":"IF(B293=\"\",\"\",VLOOKUP(B293,学連登録!$C$2:$G$3000,3,FALSE))","v":""},{"$f":"IF(B293=\"\",\"\",VLOOKUP(B293,学連登録!$C$2:$G$3000,4,FALSE))","v":""},"",null,null,null,null,null,null,null,null,null,null,null,null,null,null,null,{"$f":"IF(B293=\"\",\"\",VLOOKUP(B293,学連登録!$C$2:$H$3000,6,FALSE))","v":""},null,null,"",{"$f":"IF(G293=\"\",\"\",VLOOKUP(G293,種目名!$R$5:$T$104,3,0))","v":""},{"$f":"IF(J293=\"\",\"\",VLOOKUP(J293,種目名!$R$5:$T$104,3,0))","v":""},{"$f":"IF(M293=\"\",\"\",VLOOKUP(M293,種目名!$R$5:$T$104,3,0))","v":""},{"$f":"IF(P293=\"\",\"\",VLOOKUP(AF293,種目名!$R$5:$T$104,3,0))","v":""},{"$f":"IF(S293=\"\",\"\",VLOOKUP(AI293,種目名!$R$5:$T$104,3,0))","v":""},0,"","",0,"",""]
["",null,{"$f":"IF(B294=\"\",\"\",VLOOKUP(B294,学連登録!$C$2:$G$3000,2,FALSE))","v":""},{"$f":"IF(B294=\"\",\"\",VLOOKUP(B294,学連登録!$C$2:$G$3000,3,FALSE))","v":""},{"$f":"IF(B294=\"\",\"\",VLOOKUP(B294,学連登録!$C$2:$G$3000,4,FALSE))","v":""},"",null,null,null,null,null,null,null,null,null,null,null,null,null,null,null,{"$f":"IF(B294=\"\",\"\",VLOOKUP(B294,学連登録!$C$2:$H$3000,6,FALSE))","v":""},null,null,"",{"$f":"IF(G294=\"\",\"\",VLOOKUP(G294,種目名!$R$5:$T$104,3,0))","v":""},{"$f":"IF(J294=\"\",\"\",VLOOKUP(J294,種目名!$R$5:$T$104,3,0))","v":""},{"$f":"IF(M294=\"\",\"\",VLOOKUP(M294,種目名!$R$5:$T$104,3,0))","v":""},{"$f":"IF(P294=\"\",\"\",VLOOKUP(AF294,種目名!$R$5:$T$104,3,0))","v":""},{"$f":"IF(S294=\"\",\"\",VLOOKUP(AI294,種目名!$R$5:$T$104,3,0))","v":""},0,"","",0,"",""]
["",null,{"$f":"IF(B295=\"\",\"\",VLOOKUP(B295,学連登録!$C$2:$G$3000,2,FALSE))","v":""},{"$f":"IF(B295=\"\",\"\",VLOOKUP(B295,学連登録!$C$2:$G$3000,3,FALSE))","v":""},{"$f":"IF(B295=\"\",\"\",VLOOKUP(B295,学連登録!$C$2:$G$3000,4,FALSE))","v":""},"",null,null,null,null,null,null,null,null,null,null,null,null,null,null,null,{"$f":"IF(B295=\"\",\"\",VLOOKUP(B295,学連登録!$C$2:$H$3000,6,FALSE))","v":""},null,null,"",{"$f":"IF(G295=\"\",\"\",VLOOKUP(G295,種目名!$R$5:$T$104,3,0))","v":""},{"$f":"IF(J295=\"\",\"\",VLOOKUP(J295,種目名!$R$5:$T$104,3,0))","v":""},{"$f":"IF(M295=\"\",\"\",VLOOKUP(M295,種目名!$R$5:$T$104,3,0))","v":""},{"$f":"IF(P295=\"\",\"\",VLOOKUP(AF295,種目名!$R$5:$T$104,3,0))","v":""},{"$f":"IF(S295=\"\",\"\",VLOOKUP(AI295,種目名!$R$5:$T$104,3,0))","v":""},0,"","",0,"",""]
["",null,{"$f":"IF(B296=\"\",\"\",VLOOKUP(B296,学連登録!$C$2:$G$3000,2,FALSE))","v":""},{"$f":"IF(B296=\"\",\"\",VLOOKUP(B296,学連登録!$C$2:$G$3000,3,FALSE))","v":""},{"$f":"IF(B296=\"\",\"\",VLOOKUP(B296,学連登録!$C$2:$G$3000,4,FALSE))","v":""},"",null,null,null,null,null,null,null,null,null,null,null,null,null,null,null,{"$f":"IF(B296=\"\",\"\",VLOOKUP(B296,学連登録!$C$2:$H$3000,6,FALSE))","v":""},null,null,"",{"$f":"IF(G296=\"\",\"\",VLOOKUP(G296,種目名!$R$5:$T$104,3,0))","v":""},{"$f":"IF(J296=\"\",\"\",VLOOKUP(J296,種目名!$R$5:$T$104,3,0))","v":""},{"$f":"IF(M296=\"\",\"\",VLOOKUP(M296,種目名!$R$5:$T$104,3,0))","v":""},{"$f":"IF(P296=\"\",\"\",VLOOKUP(AF296,種目名!$R$5:$T$104,3,0))","v":""},{"$f":"IF(S296=\"\",\"\",VLOOKUP(AI296,種目名!$R$5:$T$104,3,0))","v":""},0,"","",0,"",""]
["",null,{"$f":"IF(B297=\"\",\"\",VLOOKUP(B297,学連登録!$C$2:$G$3000,2,FALSE))","v":""},{"$f":"IF(B297=\"\",\"\",VLOOKUP(B297,学連登録!$C$2:$G$3000,3,FALSE))","v":""},{"$f":"IF(B297=\"\",\"\",VLOOKUP(B297,学連登録!$C$2:$G$3000,4,FALSE))","v":""},"",null,null,null,null,null,null,null,null,null,null,null,null,null,null,null,{"$f":"IF(B297=\"\",\"\",VLOOKUP(B297,学連登録!$C$2:$H$3000,6,FALSE))","v":""},null,null,"",{"$f":"IF(G297=\"\",\"\",VLOOKUP(G297,種目名!$R$5:$T$104,3,0))","v":""},{"$f":"IF(J297=\"\",\"\",VLOOKUP(J297,種目名!$R$5:$T$104,3,0))","v":""},{"$f":"IF(M297=\"\",\"\",VLOOKUP(M297,種目名!$R$5:$T$104,3,0))","v":""},{"$f":"IF(P297=\"\",\"\",VLOOKUP(AF297,種目名!$R$5:$T$104,3,0))","v":""},{"$f":"IF(S297=\"\",\"\",VLOOKUP(AI297,種目名!$R$5:$T$104,3,0))","v":""},0,"","",0,"",""]
["",null,{"$f":"IF(B298=\"\",\"\",VLOOKUP(B298,学連登録!$C$2:$G$3000,2,FALSE))","v":""},{"$f":"IF(B298=\"\",\"\",VLOOKUP(B298,学連登録!$C$2:$G$3000,3,FALSE))","v":""},{"$f":"IF(B298=\"\",\"\",VLOOKUP(B298,学連登録!$C$2:$G$3000,4,FALSE))","v":""},"",null,null,null,null,null,null,null,null,null,null,null,null,null,null,null,{"$f":"IF(B298=\"\",\"\",VLOOKUP(B298,学連登録!$C$2:$H$3000,6,FALSE))","v":""},null,null,"",{"$f":"IF(G298=\"\",\"\",VLOOKUP(G298,種目名!$R$5:$T$104,3,0))","v":""},{"$f":"IF(J298=\"\",\"\",VLOOKUP(J298,種目名!$R$5:$T$104,3,0))","v":""},{"$f":"IF(M298=\"\",\"\",VLOOKUP(M298,種目名!$R$5:$T$104,3,0))","v":""},{"$f":"IF(P298=\"\",\"\",VLOOKUP(AF298,種目名!$R$5:$T$104,3,0))","v":""},{"$f":"IF(S298=\"\",\"\",VLOOKUP(AI298,種目名!$R$5:$T$104,3,0))","v":""},0,"","",0,"",""]
["",null,{"$f":"IF(B299=\"\",\"\",VLOOKUP(B299,学連登録!$C$2:$G$3000,2,FALSE))","v":""},{"$f":"IF(B299=\"\",\"\",VLOOKUP(B299,学連登録!$C$2:$G$3000,3,FALSE))","v":""},{"$f":"IF(B299=\"\",\"\",VLOOKUP(B299,学連登録!$C$2:$G$3000,4,FALSE))","v":""},"",null,null,null,null,null,null,null,null,null,null,null,null,null,null,null,{"$f":"IF(B299=\"\",\"\",VLOOKUP(B299,学連登録!$C$2:$H$3000,6,FALSE))","v":""},null,null,"",{"$f":"IF(G299=\"\",\"\",VLOOKUP(G299,種目名!$R$5:$T$104,3,0))","v":""},{"$f":"IF(J299=\"\",\"\",VLOOKUP(J299,種目名!$R$5:$T$104,3,0))","v":""},{"$f":"IF(M299=\"\",\"\",VLOOKUP(M299,種目名!$R$5:$T$104,3,0))","v":""},{"$f":"IF(P299=\"\",\"\",VLOOKUP(AF299,種目名!$R$5:$T$104,3,0))","v":""},{"$f":"IF(S299=\"\",\"\",VLOOKUP(AI299,種目名!$R$5:$T$104,3,0))","v":""},0,"","",0,"",""]
["",null,{"$f":"IF(B300=\"\",\"\",VLOOKUP(B300,学連登録!$C$2:$G$3000,2,FALSE))","v":""},{"$f":"IF(B300=\"\",\"\",VLOOKUP(B300,学連登録!$C$2:$G$3000,3,FALSE))","v":""},{"$f":"IF(B300=\"\",\"\",VLOOKUP(B300,学連登録!$C$2:$G$3000,4,FALSE))","v":""},"",null,null,null,null,null,null,null,null,null,null,null,null,null,null,null,{"$f":"IF(B300=\"\",\"\",VLOOKUP(B300,学連登録!$C$2:$H$3000,6,FALSE))","v":""},null,null,"",{"$f":"IF(G300=\"\",\"\",VLOOKUP(G300,種目名!$R$5:$T$104,3,0))","v":""},{"$f":"IF(J300=\"\",\"\",VLOOKUP(J300,種目名!$R$5:$T$104,3,0))","v":""},{"$f":"IF(M300=\"\",\"\",VLOOKUP(M300,種目名!$R$5:$T$104,3,0))","v":""},{"$f":"IF(P300=\"\",\"\",VLOOKUP(AF300,種目名!$R$5:$T$104,3,0))","v":""},{"$f":"IF(S300=\"\",\"\",VLOOKUP(AI300,種目名!$R$5:$T$104,3,0))","v":""},0,"","",0,"",""]
["",null,{"$f":"IF(B301=\"\",\"\",VLOOKUP(B301,学連登録!$C$2:$G$3000,2,FALSE))","v":""},{"$f":"IF(B301=\"\",\"\",VLOOKUP(B301,学連登録!$C$2:$G$3000,3,FALSE))","v":""},{"$f":"IF(B301=\"\",\"\",VLOOKUP(B301,学連登録!$C$2:$G$3000,4,FALSE))","v":""},"",null,null,null,null,null,null,null,null,null,null,null,null,null,null,null,{"$f":"IF(B301=\"\",\"\",VLOOKUP(B301,学連登録!$C$2:$H$3000,6,FALSE))","v":""},null,null,"",{"$f":"IF(G301=\"\",\"\",VLOOKUP(G301,種目名!$R$5:$T$104,3,0))","v":""},{"$f":"IF(J301=\"\",\"\",VLOOKUP(J301,種目名!$R$5:$T$104,3,0))","v":""},{"$f":"IF(M301=\"\",\"\",VLOOKUP(M301,種目名!$R$5:$T$104,3,0))","v":""},{"$f":"IF(P301=\"\",\"\",VLOOKUP(AF301,種目名!$R$5:$T$104,3,0))","v":""},{"$f":"IF(S301=\"\",\"\",VLOOKUP(AI301,種目名!$R$5:$T$104,3,0))","v":""},0,"","",0,"",""]
["",null,{"$f":"IF(B302=\"\",\"\",VLOOKUP(B302,学連登録!$C$2:$G$3000,2,FALSE))","v":""},{"$f":"IF(B302=\"\",\"\",VLOOKUP(B302,学連登録!$C$2:$G$3000,3,FALSE))","v":""},{"$f":"IF(B302=\"\",\"\",VLOOKUP(B302,学連登録!$C$2:$G$3000,4,FALSE))","v":""},"",null,null,null,null,null,null,null,null,null,null,null,null,null,null,null,{"$f":"IF(B302=\"\",\"\",VLOOKUP(B302,学連登録!$C$2:$H$3000,6,FALSE))","v":""},null,null,"",{"$f":"IF(G302=\"\",\"\",VLOOKUP(G302,種目名!$R$5:$T$104,3,0))","v":""},{"$f":"IF(J302=\"\",\"\",VLOOKUP(J302,種目名!$R$5:$T$104,3,0))","v":""},{"$f":"IF(M302=\"\",\"\",VLOOKUP(M302,種目名!$R$5:$T$104,3,0))","v":""},{"$f":"IF(P302=\"\",\"\",VLOOKUP(AF302,種目名!$R$5:$T$104,3,0))","v":""},{"$f":"IF(S302=\"\",\"\",VLOOKUP(AI302,種目名!$R$5:$T$104,3,0))","v":""},0,"","",0,"",""]
["",null,{"$f":"IF(B303=\"\",\"\",VLOOKUP(B303,学連登録!$C$2:$G$3000,2,FALSE))","v":""},{"$f":"IF(B303=\"\",\"\",VLOOKUP(B303,学連登録!$C$2:$G$3000,3,FALSE))","v":""},{"$f":"IF(B303=\"\",\"\",VLOOKUP(B303,学連登録!$C$2:$G$3000,4,FALSE))","v":""},"",null,null,null,null,null,null,null,null,null,null,null,null,null,null,null,{"$f":"IF(B303=\"\",\"\",VLOOKUP(B303,学連登録!$C$2:$H$3000,6,FALSE))","v":""},null,null,"",{"$f":"IF(G303=\"\",\"\",VLOOKUP(G303,種目名!$R$5:$T$104,3,0))","v":""},{"$f":"IF(J303=\"\",\"\",VLOOKUP(J303,種目名!$R$5:$T$104,3,0))","v":""},{"$f":"IF(M303=\"\",\"\",VLOOKUP(M303,種目名!$R$5:$T$104,3,0))","v":""},{"$f":"IF(P303=\"\",\"\",VLOOKUP(AF303,種目名!$R$5:$T$104,3,0))","v":""},{"$f":"IF(S303=\"\",\"\",VLOOKUP(AI303,種目名!$R$5:$T$104,3,0))","v":""},0,"","",0,"",""]
["",null,{"$f":"IF(B304=\"\",\"\",VLOOKUP(B304,学連登録!$C$2:$G$3000,2,FALSE))","v":""},{"$f":"IF(B304=\"\",\"\",VLOOKUP(B304,学連登録!$C$2:$G$3000,3,FALSE))","v":""},{"$f":"IF(B304=\"\",\"\",VLOOKUP(B304,学連登録!$C$2:$G$3000,4,FALSE))","v":""},"",null,null,null,null,null,null,null,null,null,null,null,null,null,null,null,{"$f":"IF(B304=\"\",\"\",VLOOKUP(B304,学連登録!$C$2:$H$3000,6,FALSE))","v":""},null,null,"",{"$f":"IF(G304=\"\",\"\",VLOOKUP(G304,種目名!$R$5:$T$104,3,0))","v":""},{"$f":"IF(J304=\"\",\"\",VLOOKUP(J304,種目名!$R$5:$T$104,3,0))","v":""},{"$f":"IF(M304=\"\",\"\",VLOOKUP(M304,種目名!$R$5:$T$104,3,0))","v":""},{"$f":"IF(P304=\"\",\"\",VLOOKUP(AF304,種目名!$R$5:$T$104,3,0))","v":""},{"$f":"IF(S304=\"\",\"\",VLOOKUP(AI304,種目名!$R$5:$T$104,3,0))","v":""},0,"","",0,"",""]
["",null,{"$f":"IF(B305=\"\",\"\",VLOOKUP(B305,学連登録!$C$2:$G$3000,2,FALSE))","v":""},{"$f":"IF(B305=\"\",\"\",VLOOKUP(B305,学連登録!$C$2:$G$3000,3,FALSE))","v":""},{"$f":"IF(B305=\"\",\"\",VLOOKUP(B305,学連登録!$C$2:$G$3000,4,FALSE))","v":""},"",null,null,null,null,null,null,null,null,null,null,null,null,null,null,null,{"$f":"IF(B305=\"\",\"\",VLOOKUP(B305,学連登録!$C$2:$H$3000,6,FALSE))","v":""},null,null,"",{"$f":"IF(G305=\"\",\"\",VLOOKUP(G305,種目名!$R$5:$T$104,3,0))","v":""},{"$f":"IF(J305=\"\",\"\",VLOOKUP(J305,種目名!$R$5:$T$104,3,0))","v":""},{"$f":"IF(M305=\"\",\"\",VLOOKUP(M305,種目名!$R$5:$T$104,3,0))","v":""},{"$f":"IF(P305=\"\",\"\",VLOOKUP(AF305,種目名!$R$5:$T$104,3,0))","v":""},{"$f":"IF(S305=\"\",\"\",VLOOKUP(AI305,種目名!$R$5:$T$104,3,0))","v":""},0,"","",0,"",""]
["",null,{"$f":"IF(B306=\"\",\"\",VLOOKUP(B306,学連登録!$C$2:$G$3000,2,FALSE))","v":""},{"$f":"IF(B306=\"\",\"\",VLOOKUP(B306,学連登録!$C$2:$G$3000,3,FALSE))","v":""},{"$f":"IF(B306=\"\",\"\",VLOOKUP(B306,学連登録!$C$2:$G$3000,4,FALSE))","v":""},"",null,null,null,null,null,null,null,null,null,null,null,null,null,null,null,{"$f":"IF(B306=\"\",\"\",VLOOKUP(B306,学連登録!$C$2:$H$3000,6,FALSE))","v":""},null,null,"",{"$f":"IF(G306=\"\",\"\",VLOOKUP(G306,種目名!$R$5:$T$104,3,0))","v":""},{"$f":"IF(J306=\"\",\"\",VLOOKUP(J306,種目名!$R$5:$T$104,3,0))","v":""},{"$f":"IF(M306=\"\",\"\",VLOOKUP(M306,種目名!$R$5:$T$104,3,0))","v":""},{"$f":"IF(P306=\"\",\"\",VLOOKUP(AF306,種目名!$R$5:$T$104,3,0))","v":""},{"$f":"IF(S306=\"\",\"\",VLOOKUP(AI306,種目名!$R$5:$T$104,3,0))","v":""},0,"","",0,"",""]
[{"$f":"IF(C307=\"\",\"\",A306+1)","v":""},null,{"$f":"IF(B307=\"\",\"\",VLOOKUP(B307,学連登録!$C$2:$G$3000,2,FALSE))","v":""},{"$f":"IF(B307=\"\",\"\",VLOOKUP(B307,学連登録!$C$2:$G$3000,3,FALSE))","v":""},{"$f":"IF(B307=\"\",\"\",VLOOKUP(B307,学連登録!$C$2:$G$3000,4,FALSE))","v":""},"",null,null,null,null,null,null,null,null,null,null,null,null,null,null,null,{"$f":"IF(B307=\"\",\"\",VLOOKUP(B307,学連登録!$C$2:$H$3000,6,FALSE))","v":""},null,null,"",{"$f":"IF(G307=\"\",\"\",VLOOKUP(G307,種目名!$R$5:$T$104,3,0))","v":""},{"$f":"IF(J307=\"\",\"\",VLOOKUP(J307,種目名!$R$5:$T$104,3,0))","v":""},{"$f":"IF(M307=\"\",\"\",VLOOKUP(M307,種目名!$R$5:$T$104,3,0))","v":""},{"$f":"IF(P307=\"\",\"\",VLOOKUP(AF307,種目名!$R$5:$T$104,3,0))","v":""},{"$f":"IF(S307=\"\",\"\",VLOOKUP(AI307,種目名!$R$5:$T$104,3,0))","v":""},0,"","",0,"",""]
["",null,{"$f":"IF(B308=\"\",\"\",VLOOKUP(B308,学連登録!$C$2:$G$3000,2,FALSE))","v":""},{"$f":"IF(B308=\"\",\"\",VLOOKUP(B308,学連登録!$C$2:$G$3000,3,FALSE))","v":""},{"$f":"IF(B308=\"\",\"\",VLOOKUP(B308,学連登録!$C$2:$G$3000,4,FALSE))","v":""},"",null,null,null,null,null,null,null,null,null,null,null,null,null,null,null,{"$f":"IF(B308=\"\",\"\",VLOOKUP(B308,学連登録!$C$2:$H$3000,6,FALSE))","v":""},null,null,"",{"$f":"IF(G308=\"\",\"\",VLOOKUP(G308,種目名!$R$5:$T$104,3,0))","v":""},{"$f":"IF(J308=\"\",\"\",VLOOKUP(J308,種目名!$R$5:$T$104,3,0))","v":""},{"$f":"IF(M308=\"\",\"\",VLOOKUP(M308,種目名!$R$5:$T$104,3,0))","v":""},{"$f":"IF(P308=\"\",\"\",VLOOKUP(AF308,種目名!$R$5:$T$104,3,0))","v":""},{"$f":"IF(S308=\"\",\"\",VLOOKUP(AI308,種目名!$R$5:$T$104,3,0))","v":""},0,"","",0,"",""]
["",null,{"$f":"IF(B309=\"\",\"\",VLOOKUP(B309,学連登録!$C$2:$G$3000,2,FALSE))","v":""},{"$f":"IF(B309=\"\",\"\",VLOOKUP(B309,学連登録!$C$2:$G$3000,3,FALSE))","v":""},{"$f":"IF(B309=\"\",\"\",VLOOKUP(B309,学連登録!$C$2:$G$3000,4,FALSE))","v":""},"",null,null,null,null,null,null,null,null,null,null,null,null,null,null,null,{"$f":"IF(B309=\"\",\"\",VLOOKUP(B309,学連登録!$C$2:$H$3000,6,FALSE))","v":""},null,null,"",{"$f":"IF(G309=\"\",\"\",VLOOKUP(G309,種目名!$R$5:$T$104,3,0))","v":""},{"$f":"IF(J309=\"\",\"\",VLOOKUP(J309,種目名!$R$5:$T$104,3,0))","v":""},{"$f":"IF(M309=\"\",\"\",VLOOKUP(M309,種目名!$R$5:$T$104,3,0))","v":""},{"$f":"IF(P309=\"\",\"\",VLOOKUP(AF309,種目名!$R$5:$T$104,3,0))","v":""},{"$f":"IF(S309=\"\",\"\",VLOOKUP(AI309,種目名!$R$5:$T$104,3,0))","v":""},0,"","",0,"",""]
["",null,{"$f":"IF(B310=\"\",\"\",VLOOKUP(B310,学連登録!$C$2:$G$3000,2,FALSE))","v":""},{"$f":"IF(B310=\"\",\"\",VLOOKUP(B310,学連登録!$C$2:$G$3000,3,FALSE))","v":""},{"$f":"IF(B310=\"\",\"\",VLOOKUP(B310,学連登録!$C$2:$G$3000,4,FALSE))","v":""},"",null,null,null,null,null,null,null,null,null,null,null,null,null,null,null,{"$f":"IF(B310=\"\",\"\",VLOOKUP(B310,学連登録!$C$2:$H$3000,6,FALSE))","v":""},null,null,"",{"$f":"IF(G310=\"\",\"\",VLOOKUP(G310,種目名!$R$5:$T$104,3,0))","v":""},{"$f":"IF(J310=\"\",\"\",VLOOKUP(J310,種目名!$R$5:$T$104,3,0))","v":""},{"$f":"IF(M310=\"\",\"\",VLOOKUP(M310,種目名!$R$5:$T$104,3,0))","v":""},{"$f":"IF(P310=\"\",\"\",VLOOKUP(AF310,種目名!$R$5:$T$104,3,0))","v":""},{"$f":"IF(S310=\"\",\"\",VLOOKUP(AI310,種目名!$R$5:$T$104,3,0))","v":""},0,"","",0,"",""]
["",null,{"$f":"IF(B311=\"\",\"\",VLOOKUP(B311,学連登録!$C$2:$G$3000,2,FALSE))","v":""},{"$f":"IF(B311=\"\",\"\",VLOOKUP(B311,学連登録!$C$2:$G$3000,3,FALSE))","v":""},{"$f":"IF(B311=\"\",\"\",VLOOKUP(B311,学連登録!$C$2:$G$3000,4,FALSE))","v":""},"",null,null,null,null,null,null,null,null,null,null,null,null,null,null,null,{"$f":"IF(B311=\"\",\"\",VLOOKUP(B311,学連登録!$C$2:$H$3000,6,FALSE))","v":""},null,null,"",{"$f":"IF(G311=\"\",\"\",VLOOKUP(G311,種目名!$R$5:$T$104,3,0))","v":""},{"$f":"IF(J311=\"\",\"\",VLOOKUP(J311,種目名!$R$5:$T$104,3,0))","v":""},{"$f":"IF(M311=\"\",\"\",VLOOKUP(M311,種目名!$R$5:$T$104,3,0))","v":""},{"$f":"IF(P311=\"\",\"\",VLOOKUP(AF311,種目名!$R$5:$T$104,3,0))","v":""},{"$f":"IF(S311=\"\",\"\",VLOOKUP(AI311,種目名!$R$5:$T$104,3,0))","v":""},0,"","",0,"",""]
["",null,{"$f":"IF(B312=\"\",\"\",VLOOKUP(B312,学連登録!$C$2:$G$3000,2,FALSE))","v":""},{"$f":"IF(B312=\"\",\"\",VLOOKUP(B312,学連登録!$C$2:$G$3000,3,FALSE))","v":""},{"$f":"IF(B312=\"\",\"\",VLOOKUP(B312,学連登録!$C$2:$G$3000,4,FALSE))","v":""},"",null,null,null,null,null,null,null,null,null,null,null,null,null,null,null,{"$f":"IF(B312=\"\",\"\",VLOOKUP(B312,学連登録!$C$2:$H$3000,6,FALSE))","v":""},null,null,"",{"$f":"IF(G312=\"\",\"\",VLOOKUP(G312,種目名!$R$5:$T$104,3,0))","v":""},{"$f":"IF(J312=\"\",\"\",VLOOKUP(J312,種目名!$R$5:$T$104,3,0))","v":""},{"$f":"IF(M312=\"\",\"\",VLOOKUP(M312,種目名!$R$5:$T$104,3,0))","v":""},{"$f":"IF(P312=\"\",\"\",VLOOKUP(AF312,種目名!$R$5:$T$104,3,0))","v":""},{"$f":"IF(S312=\"\",\"\",VLOOKUP(AI312,種目名!$R$5:$T$104,3,0))","v":""},0,"","",0,"",""]
["",null,{"$f":"IF(B313=\"\",\"\",VLOOKUP(B313,学連登録!$C$2:$G$3000,2,FALSE))","v":""},{"$f":"IF(B313=\"\",\"\",VLOOKUP(B313,学連登録!$C$2:$G$3000,3,FALSE))","v":""},{"$f":"IF(B313=\"\",\"\",VLOOKUP(B313,学連登録!$C$2:$G$3000,4,FALSE))","v":""},"",null,null,null,null,null,null,null,null,null,null,null,null,null,null,null,{"$f":"IF(B313=\"\",\"\",VLOOKUP(B313,学連登録!$C$2:$H$3000,6,FALSE))","v":""},null,null,"",{"$f":"IF(G313=\"\",\"\",VLOOKUP(G313,種目名!$R$5:$T$104,3,0))","v":""},{"$f":"IF(J313=\"\",\"\",VLOOKUP(J313,種目名!$R$5:$T$104,3,0))","v":""},{"$f":"IF(M313=\"\",\"\",VLOOKUP(M313,種目名!$R$5:$T$104,3,0))","v":""},{"$f":"IF(P313=\"\",\"\",VLOOKUP(AF313,種目名!$R$5:$T$104,3,0))","v":""},{"$f":"IF(S313=\"\",\"\",VLOOKUP(AI313,種目名!$R$5:$T$104,3,0))","v":""},0,"","",0,"",""]
["",null,{"$f":"IF(B314=\"\",\"\",VLOOKUP(B314,学連登録!$C$2:$G$3000,2,FALSE))","v":""},{"$f":"IF(B314=\"\",\"\",VLOOKUP(B314,学連登録!$C$2:$G$3000,3,FALSE))","v":""},{"$f":"IF(B314=\"\",\"\",VLOOKUP(B314,学連登録!$C$2:$G$3000,4,FALSE))","v":""},"",null,null,null,null,null,null,null,null,null,null,null,null,null,null,null,{"$f":"IF(B314=\"\",\"\",VLOOKUP(B314,学連登録!$C$2:$H$3000,6,FALSE))","v":""},null,null,"",{"$f":"IF(G314=\"\",\"\",VLOOKUP(G314,種目名!$R$5:$T$104,3,0))","v":""},{"$f":"IF(J314=\"\",\"\",VLOOKUP(J314,種目名!$R$5:$T$104,3,0))","v":""},{"$f":"IF(M314=\"\",\"\",VLOOKUP(M314,種目名!$R$5:$T$104,3,0))","v":""},{"$f":"IF(P314=\"\",\"\",VLOOKUP(AF314,種目名!$R$5:$T$104,3,0))","v":""},{"$f":"IF(S314=\"\",\"\",VLOOKUP(AI314,種目名!$R$5:$T$104,3,0))","v":""},0,"","",0,"",""]
["",null,{"$f":"IF(B315=\"\",\"\",VLOOKUP(B315,学連登録!$C$2:$G$3000,2,FALSE))","v":""},{"$f":"IF(B315=\"\",\"\",VLOOKUP(B315,学連登録!$C$2:$G$3000,3,FALSE))","v":""},{"$f":"IF(B315=\"\",\"\",VLOOKUP(B315,学連登録!$C$2:$G$3000,4,FALSE))","v":""},"",null,null,null,null,null,null,null,null,null,null,null,null,null,null,null,{"$f":"IF(B315=\"\",\"\",VLOOKUP(B315,学連登録!$C$2:$H$3000,6,FALSE))","v":""},null,null,"",{"$f":"IF(G315=\"\",\"\",VLOOKUP(G315,種目名!$R$5:$T$104,3,0))","v":""},{"$f":"IF(J315=\"\",\"\",VLOOKUP(J315,種目名!$R$5:$T$104,3,0))","v":""},{"$f":"IF(M315=\"\",\"\",VLOOKUP(M315,種目名!$R$5:$T$104,3,0))","v":""},{"$f":"IF(P315=\"\",\"\",VLOOKUP(AF315,種目名!$R$5:$T$104,3,0))","v":""},{"$f":"IF(S315=\"\",\"\",VLOOKUP(AI315,種目名!$R$5:$T$104,3,0))","v":""},0,"","",0,"",""]
["",null,{"$f":"IF(B316=\"\",\"\",VLOOKUP(B316,学連登録!$C$2:$G$3000,2,FALSE))","v":""},{"$f":"IF(B316=\"\",\"\",VLOOKUP(B316,学連登録!$C$2:$G$3000,3,FALSE))","v":""},{"$f":"IF(B316=\"\",\"\",VLOOKUP(B316,学連登録!$C$2:$G$3000,4,FALSE))","v":""},"",null,null,null,null,null,null,null,null,null,null,null,null,null,null,null,{"$f":"IF(B316=\"\",\"\",VLOOKUP(B316,学連登録!$C$2:$H$3000,6,FALSE))","v":""},null,null,"",{"$f":"IF(G316=\"\",\"\",VLOOKUP(G316,種目名!$R$5:$T$104,3,0))","v":""},{"$f":"IF(J316=\"\",\"\",VLOOKUP(J316,種目名!$R$5:$T$104,3,0))","v":""},{"$f":"IF(M316=\"\",\"\",VLOOKUP(M316,種目名!$R$5:$T$104,3,0))","v":""},{"$f":"IF(P316=\"\",\"\",VLOOKUP(AF316,種目名!$R$5:$T$104,3,0))","v":""},{"$f":"IF(S316=\"\",\"\",VLOOKUP(AI316,種目名!$R$5:$T$104,3,0))","v":""},0,"","",0,"",""]
["",null,{"$f":"IF(B317=\"\",\"\",VLOOKUP(B317,学連登録!$C$2:$G$3000,2,FALSE))","v":""},{"$f":"IF(B317=\"\",\"\",VLOOKUP(B317,学連登録!$C$2:$G$3000,3,FALSE))","v":""},{"$f":"IF(B317=\"\",\"\",VLOOKUP(B317,学連登録!$C$2:$G$3000,4,FALSE))","v":""},"",null,null,null,null,null,null,null,null,null,null,null,null,null,null,null,{"$f":"IF(B317=\"\",\"\",VLOOKUP(B317,学連登録!$C$2:$H$3000,6,FALSE))","v":""},null,null,"",{"$f":"IF(G317=\"\",\"\",VLOOKUP(G317,種目名!$R$5:$T$104,3,0))","v":""},{"$f":"IF(J317=\"\",\"\",VLOOKUP(J317,種目名!$R$5:$T$104,3,0))","v":""},{"$f":"IF(M317=\"\",\"\",VLOOKUP(M317,種目名!$R$5:$T$104,3,0))","v":""},{"$f":"IF(P317=\"\",\"\",VLOOKUP(AF317,種目名!$R$5:$T$104,3,0))","v":""},{"$f":"IF(S317=\"\",\"\",VLOOKUP(AI317,種目名!$R$5:$T$104,3,0))","v":""},0,"","",0,"",""]
["",null,{"$f":"IF(B318=\"\",\"\",VLOOKUP(B318,学連登録!$C$2:$G$3000,2,FALSE))","v":""},{"$f":"IF(B318=\"\",\"\",VLOOKUP(B318,学連登録!$C$2:$G$3000,3,FALSE))","v":""},{"$f":"IF(B318=\"\",\"\",VLOOKUP(B318,学連登録!$C$2:$G$3000,4,FALSE))","v":""},"",null,null,null,null,null,null,null,null,null,null,null,null,null,null,null,{"$f":"IF(B318=\"\",\"\",VLOOKUP(B318,学連登録!$C$2:$H$3000,6,FALSE))","v":""},null,null,"",{"$f":"IF(G318=\"\",\"\",VLOOKUP(G318,種目名!$R$5:$T$104,3,0))","v":""},{"$f":"IF(J318=\"\",\"\",VLOOKUP(J318,種目名!$R$5:$T$104,3,0))","v":""},{"$f":"IF(M318=\"\",\"\",VLOOKUP(M318,種目名!$R$5:$T$104,3,0))","v":""},{"$f":"IF(P318=\"\",\"\",VLOOKUP(AF318,種目名!$R$5:$T$104,3,0))","v":""},{"$f":"IF(S318=\"\",\"\",VLOOKUP(AI318,種目名!$R$5:$T$104,3,0))","v":""},0,"","",0,"",""]
["",null,{"$f":"IF(B319=\"\",\"\",VLOOKUP(B319,学連登録!$C$2:$G$3000,2,FALSE))","v":""},{"$f":"IF(B319=\"\",\"\",VLOOKUP(B319,学連登録!$C$2:$G$3000,3,FALSE))","v":""},{"$f":"IF(B319=\"\",\"\",VLOOKUP(B319,学連登録!$C$2:$G$3000,4,FALSE))","v":""},"",null,null,null,null,null,null,null,null,null,null,null,null,null,null,null,{"$f":"IF(B319=\"\",\"\",VLOOKUP(B319,学連登録!$C$2:$H$3000,6,FALSE))","v":""},null,null,"",{"$f":"IF(G319=\"\",\"\",VLOOKUP(G319,種目名!$R$5:$T$104,3,0))","v":""},{"$f":"IF(J319=\"\",\"\",VLOOKUP(J319,種目名!$R$5:$T$104,3,0))","v":""},{"$f":"IF(M319=\"\",\"\",VLOOKUP(M319,種目名!$R$5:$T$104,3,0))","v":""},{"$f":"IF(P319=\"\",\"\",VLOOKUP(AF319,種目名!$R$5:$T$104,3,0))","v":""},{"$f":"IF(S319=\"\",\"\",VLOOKUP(AI319,種目名!$R$5:$T$104,3,0))","v":""},0,"","",0,"",""]
["",null,{"$f":"IF(B320=\"\",\"\",VLOOKUP(B320,学連登録!$C$2:$G$3000,2,FALSE))","v":""},{"$f":"IF(B320=\"\",\"\",VLOOKUP(B320,学連登録!$C$2:$G$3000,3,FALSE))","v":""},{"$f":"IF(B320=\"\",\"\",VLOOKUP(B320,学連登録!$C$2:$G$3000,4,FALSE))","v":""},"",null,null,null,null,null,null,null,null,null,null,null,null,null,null,null,{"$f":"IF(B320=\"\",\"\",VLOOKUP(B320,学連登録!$C$2:$H$3000,6,FALSE))","v":""},null,null,"",{"$f":"IF(G320=\"\",\"\",VLOOKUP(G320,種目名!$R$5:$T$104,3,0))","v":""},{"$f":"IF(J320=\"\",\"\",VLOOKUP(J320,種目名!$R$5:$T$104,3,0))","v":""},{"$f":"IF(M320=\"\",\"\",VLOOKUP(M320,種目名!$R$5:$T$104,3,0))","v":""},{"$f":"IF(P320=\"\",\"\",VLOOKUP(AF320,種目名!$R$5:$T$104,3,0))","v":""},{"$f":"IF(S320=\"\",\"\",VLOOKUP(AI320,種目名!$R$5:$T$104,3,0))","v":""},0,"","",0,"",""]
["",null,{"$f":"IF(B321=\"\",\"\",VLOOKUP(B321,学連登録!$C$2:$G$3000,2,FALSE))","v":""},{"$f":"IF(B321=\"\",\"\",VLOOKUP(B321,学連登録!$C$2:$G$3000,3,FALSE))","v":""},{"$f":"IF(B321=\"\",\"\",VLOOKUP(B321,学連登録!$C$2:$G$3000,4,FALSE))","v":""},"",null,null,null,null,null,null,null,null,null,null,null,null,null,null,null,{"$f":"IF(B321=\"\",\"\",VLOOKUP(B321,学連登録!$C$2:$H$3000,6,FALSE))","v":""},null,null,"",{"$f":"IF(G321=\"\",\"\",VLOOKUP(G321,種目名!$R$5:$T$104,3,0))","v":""},{"$f":"IF(J321=\"\",\"\",VLOOKUP(J321,種目名!$R$5:$T$104,3,0))","v":""},{"$f":"IF(M321=\"\",\"\",VLOOKUP(M321,種目名!$R$5:$T$104,3,0))","v":""},{"$f":"IF(P321=\"\",\"\",VLOOKUP(AF321,種目名!$R$5:$T$104,3,0))","v":""},{"$f":"IF(S321=\"\",\"\",VLOOKUP(AI321,種目名!$R$5:$T$104,3,0))","v":""},0,"","",0,"",""]
["",null,{"$f":"IF(B322=\"\",\"\",VLOOKUP(B322,学連登録!$C$2:$G$3000,2,FALSE))","v":""},{"$f":"IF(B322=\"\",\"\",VLOOKUP(B322,学連登録!$C$2:$G$3000,3,FALSE))","v":""},{"$f":"IF(B322=\"\",\"\",VLOOKUP(B322,学連登録!$C$2:$G$3000,4,FALSE))","v":""},"",null,null,null,null,null,null,null,null,null,null,null,null,null,null,null,{"$f":"IF(B322=\"\",\"\",VLOOKUP(B322,学連登録!$C$2:$H$3000,6,FALSE))","v":""},null,null,"",{"$f":"IF(G322=\"\",\"\",VLOOKUP(G322,種目名!$R$5:$T$104,3,0))","v":""},{"$f":"IF(J322=\"\",\"\",VLOOKUP(J322,種目名!$R$5:$T$104,3,0))","v":""},{"$f":"IF(M322=\"\",\"\",VLOOKUP(M322,種目名!$R$5:$T$104,3,0))","v":""},{"$f":"IF(P322=\"\",\"\",VLOOKUP(AF322,種目名!$R$5:$T$104,3,0))","v":""},{"$f":"IF(S322=\"\",\"\",VLOOKUP(AI322,種目名!$R$5:$T$104,3,0))","v":""},0,"","",0,"",""]
["",null,{"$f":"IF(B323=\"\",\"\",VLOOKUP(B323,学連登録!$C$2:$G$3000,2,FALSE))","v":""},{"$f":"IF(B323=\"\",\"\",VLOOKUP(B323,学連登録!$C$2:$G$3000,3,FALSE))","v":""},{"$f":"IF(B323=\"\",\"\",VLOOKUP(B323,学連登録!$C$2:$G$3000,4,FALSE))","v":""},"",null,null,null,null,null,null,null,null,null,null,null,null,null,null,null,{"$f":"IF(B323=\"\",\"\",VLOOKUP(B323,学連登録!$C$2:$H$3000,6,FALSE))","v":""},null,null,"",{"$f":"IF(G323=\"\",\"\",VLOOKUP(G323,種目名!$R$5:$T$104,3,0))","v":""},{"$f":"IF(J323=\"\",\"\",VLOOKUP(J323,種目名!$R$5:$T$104,3,0))","v":""},{"$f":"IF(M323=\"\",\"\",VLOOKUP(M323,種目名!$R$5:$T$104,3,0))","v":""},{"$f":"IF(P323=\"\",\"\",VLOOKUP(AF323,種目名!$R$5:$T$104,3,0))","v":""},{"$f":"IF(S323=\"\",\"\",VLOOKUP(AI323,種目名!$R$5:$T$104,3,0))","v":""},0,"","",0,"",""]
["",null,{"$f":"IF(B324=\"\",\"\",VLOOKUP(B324,学連登録!$C$2:$G$3000,2,FALSE))","v":""},{"$f":"IF(B324=\"\",\"\",VLOOKUP(B324,学連登録!$C$2:$G$3000,3,FALSE))","v":""},{"$f":"IF(B324=\"\",\"\",VLOOKUP(B324,学連登録!$C$2:$G$3000,4,FALSE))","v":""},"",null,null,null,null,null,null,null,null,null,null,null,null,null,null,null,{"$f":"IF(B324=\"\",\"\",VLOOKUP(B324,学連登録!$C$2:$H$3000,6,FALSE))","v":""},null,null,"",{"$f":"IF(G324=\"\",\"\",VLOOKUP(G324,種目名!$R$5:$T$104,3,0))","v":""},{"$f":"IF(J324=\"\",\"\",VLOOKUP(J324,種目名!$R$5:$T$104,3,0))","v":""},{"$f":"IF(M324=\"\",\"\",VLOOKUP(M324,種目名!$R$5:$T$104,3,0))","v":""},{"$f":"IF(P324=\"\",\"\",VLOOKUP(AF324,種目名!$R$5:$T$104,3,0))","v":""},{"$f":"IF(S324=\"\",\"\",VLOOKUP(AI324,種目名!$R$5:$T$104,3,0))","v":""},0,"","",0,"",""]
["",null,{"$f":"IF(B325=\"\",\"\",VLOOKUP(B325,学連登録!$C$2:$G$3000,2,FALSE))","v":""},{"$f":"IF(B325=\"\",\"\",VLOOKUP(B325,学連登録!$C$2:$G$3000,3,FALSE))","v":""},{"$f":"IF(B325=\"\",\"\",VLOOKUP(B325,学連登録!$C$2:$G$3000,4,FALSE))","v":""},"",null,null,null,null,null,null,null,null,null,null,null,null,null,null,null,{"$f":"IF(B325=\"\",\"\",VLOOKUP(B325,学連登録!$C$2:$H$3000,6,FALSE))","v":""},null,null,"",{"$f":"IF(G325=\"\",\"\",VLOOKUP(G325,種目名!$R$5:$T$104,3,0))","v":""},{"$f":"IF(J325=\"\",\"\",VLOOKUP(J325,種目名!$R$5:$T$104,3,0))","v":""},{"$f":"IF(M325=\"\",\"\",VLOOKUP(M325,種目名!$R$5:$T$104,3,0))","v":""},{"$f":"IF(P325=\"\",\"\",VLOOKUP(AF325,種目名!$R$5:$T$104,3,0))","v":""},{"$f":"IF(S325=\"\",\"\",VLOOKUP(AI325,種目名!$R$5:$T$104,3,0))","v":""},0,"","",0,"",""]
["",null,{"$f":"IF(B326=\"\",\"\",VLOOKUP(B326,学連登録!$C$2:$G$3000,2,FALSE))","v":""},{"$f":"IF(B326=\"\",\"\",VLOOKUP(B326,学連登録!$C$2:$G$3000,3,FALSE))","v":""},{"$f":"IF(B326=\"\",\"\",VLOOKUP(B326,学連登録!$C$2:$G$3000,4,FALSE))","v":""},"",null,null,null,null,null,null,null,null,null,null,null,null,null,null,null,{"$f":"IF(B326=\"\",\"\",VLOOKUP(B326,学連登録!$C$2:$H$3000,6,FALSE))","v":""},null,null,"",{"$f":"IF(G326=\"\",\"\",VLOOKUP(G326,種目名!$R$5:$T$104,3,0))","v":""},{"$f":"IF(J326=\"\",\"\",VLOOKUP(J326,種目名!$R$5:$T$104,3,0))","v":""},{"$f":"IF(M326=\"\",\"\",VLOOKUP(M326,種目名!$R$5:$T$104,3,0))","v":""},{"$f":"IF(P326=\"\",\"\",VLOOKUP(AF326,種目名!$R$5:$T$104,3,0))","v":""},{"$f":"IF(S326=\"\",\"\",VLOOKUP(AI326,種目名!$R$5:$T$104,3,0))","v":""},0,"","",0,"",""]
["",null,{"$f":"IF(B327=\"\",\"\",VLOOKUP(B327,学連登録!$C$2:$G$3000,2,FALSE))","v":""},{"$f":"IF(B327=\"\",\"\",VLOOKUP(B327,学連登録!$C$2:$G$3000,3,FALSE))","v":""},{"$f":"IF(B327=\"\",\"\",VLOOKUP(B327,学連登録!$C$2:$G$3000,4,FALSE))","v":""},"",null,null,null,null,null,null,null,null,null,null,null,null,null,null,null,{"$f":"IF(B327=\"\",\"\",VLOOKUP(B327,学連登録!$C$2:$H$3000,6,FALSE))","v":""},null,null,"",{"$f":"IF(G327=\"\",\"\",VLOOKUP(G327,種目名!$R$5:$T$104,3,0))","v":""},{"$f":"IF(J327=\"\",\"\",VLOOKUP(J327,種目名!$R$5:$T$104,3,0))","v":""},{"$f":"IF(M327=\"\",\"\",VLOOKUP(M327,種目名!$R$5:$T$104,3,0))","v":""},{"$f":"IF(P327=\"\",\"\",VLOOKUP(AF327,種目名!$R$5:$T$104,3,0))","v":""},{"$f":"IF(S327=\"\",\"\",VLOOKUP(AI327,種目名!$R$5:$T$104,3,0))","v":""},0,"","",0,"",""]
["",null,{"$f":"IF(B328=\"\",\"\",VLOOKUP(B328,学連登録!$C$2:$G$3000,2,FALSE))","v":""},{"$f":"IF(B328=\"\",\"\",VLOOKUP(B328,学連登録!$C$2:$G$3000,3,FALSE))","v":""},{"$f":"IF(B328=\"\",\"\",VLOOKUP(B328,学連登録!$C$2:$G$3000,4,FALSE))","v":""},"",null,null,null,null,null,null,null,null,null,null,null,null,null,null,null,{"$f":"IF(B328=\"\",\"\",VLOOKUP(B328,学連登録!$C$2:$H$3000,6,FALSE))","v":""},null,null,"",{"$f":"IF(G328=\"\",\"\",VLOOKUP(G328,種目名!$R$5:$T$104,3,0))","v":""},{"$f":"IF(J328=\"\",\"\",VLOOKUP(J328,種目名!$R$5:$T$104,3,0))","v":""},{"$f":"IF(M328=\"\",\"\",VLOOKUP(M328,種目名!$R$5:$T$104,3,0))","v":""},{"$f":"IF(P328=\"\",\"\",VLOOKUP(AF328,種目名!$R$5:$T$104,3,0))","v":""},{"$f":"IF(S328=\"\",\"\",VLOOKUP(AI328,種目名!$R$5:$T$104,3,0))","v":""},0,"","",0,"",""]
["",null,{"$f":"IF(B329=\"\",\"\",VLOOKUP(B329,学連登録!$C$2:$G$3000,2,FALSE))","v":""},{"$f":"IF(B329=\"\",\"\",VLOOKUP(B329,学連登録!$C$2:$G$3000,3,FALSE))","v":""},{"$f":"IF(B329=\"\",\"\",VLOOKUP(B329,学連登録!$C$2:$G$3000,4,FALSE))","v":""},"",null,null,null,null,null,null,null,null,null,null,null,null,null,null,null,{"$f":"IF(B329=\"\",\"\",VLOOKUP(B329,学連登録!$C$2:$H$3000,6,FALSE))","v":""},null,null,"",{"$f":"IF(G329=\"\",\"\",VLOOKUP(G329,種目名!$R$5:$T$104,3,0))","v":""},{"$f":"IF(J329=\"\",\"\",VLOOKUP(J329,種目名!$R$5:$T$104,3,0))","v":""},{"$f":"IF(M329=\"\",\"\",VLOOKUP(M329,種目名!$R$5:$T$104,3,0))","v":""},{"$f":"IF(P329=\"\",\"\",VLOOKUP(AF329,種目名!$R$5:$T$104,3,0))","v":""},{"$f":"IF(S329=\"\",\"\",VLOOKUP(AI329,種目名!$R$5:$T$104,3,0))","v":""},0,"","",0,"",""]
["",null,{"$f":"IF(B330=\"\",\"\",VLOOKUP(B330,学連登録!$C$2:$G$3000,2,FALSE))","v":""},{"$f":"IF(B330=\"\",\"\",VLOOKUP(B330,学連登録!$C$2:$G$3000,3,FALSE))","v":""},{"$f":"IF(B330=\"\",\"\",VLOOKUP(B330,学連登録!$C$2:$G$3000,4,FALSE))","v":""},"",null,null,null,null,null,null,null,null,null,null,null,null,null,null,null,{"$f":"IF(B330=\"\",\"\",VLOOKUP(B330,学連登録!$C$2:$H$3000,6,FALSE))","v":""},null,null,"",{"$f":"IF(G330=\"\",\"\",VLOOKUP(G330,種目名!$R$5:$T$104,3,0))","v":""},{"$f":"IF(J330=\"\",\"\",VLOOKUP(J330,種目名!$R$5:$T$104,3,0))","v":""},{"$f":"IF(M330=\"\",\"\",VLOOKUP(M330,種目名!$R$5:$T$104,3,0))","v":""},{"$f":"IF(P330=\"\",\"\",VLOOKUP(AF330,種目名!$R$5:$T$104,3,0))","v":""},{"$f":"IF(S330=\"\",\"\",VLOOKUP(AI330,種目名!$R$5:$T$104,3,0))","v":""},0,"","",0,"",""]
["",null,{"$f":"IF(B331=\"\",\"\",VLOOKUP(B331,学連登録!$C$2:$G$3000,2,FALSE))","v":""},{"$f":"IF(B331=\"\",\"\",VLOOKUP(B331,学連登録!$C$2:$G$3000,3,FALSE))","v":""},{"$f":"IF(B331=\"\",\"\",VLOOKUP(B331,学連登録!$C$2:$G$3000,4,FALSE))","v":""},"",null,null,null,null,null,null,null,null,null,null,null,null,null,null,null,{"$f":"IF(B331=\"\",\"\",VLOOKUP(B331,学連登録!$C$2:$H$3000,6,FALSE))","v":""},null,null,"",{"$f":"IF(G331=\"\",\"\",VLOOKUP(G331,種目名!$R$5:$T$104,3,0))","v":""},{"$f":"IF(J331=\"\",\"\",VLOOKUP(J331,種目名!$R$5:$T$104,3,0))","v":""},{"$f":"IF(M331=\"\",\"\",VLOOKUP(M331,種目名!$R$5:$T$104,3,0))","v":""},{"$f":"IF(P331=\"\",\"\",VLOOKUP(AF331,種目名!$R$5:$T$104,3,0))","v":""},{"$f":"IF(S331=\"\",\"\",VLOOKUP(AI331,種目名!$R$5:$T$104,3,0))","v":""},0,"","",0,"",""]
["",null,{"$f":"IF(B332=\"\",\"\",VLOOKUP(B332,学連登録!$C$2:$G$3000,2,FALSE))","v":""},{"$f":"IF(B332=\"\",\"\",VLOOKUP(B332,学連登録!$C$2:$G$3000,3,FALSE))","v":""},{"$f":"IF(B332=\"\",\"\",VLOOKUP(B332,学連登録!$C$2:$G$3000,4,FALSE))","v":""},"",null,null,null,null,null,null,null,null,null,null,null,null,null,null,null,{"$f":"IF(B332=\"\",\"\",VLOOKUP(B332,学連登録!$C$2:$H$3000,6,FALSE))","v":""},null,null,"",{"$f":"IF(G332=\"\",\"\",VLOOKUP(G332,種目名!$R$5:$T$104,3,0))","v":""},{"$f":"IF(J332=\"\",\"\",VLOOKUP(J332,種目名!$R$5:$T$104,3,0))","v":""},{"$f":"IF(M332=\"\",\"\",VLOOKUP(M332,種目名!$R$5:$T$104,3,0))","v":""},{"$f":"IF(P332=\"\",\"\",VLOOKUP(AF332,種目名!$R$5:$T$104,3,0))","v":""},{"$f":"IF(S332=\"\",\"\",VLOOKUP(AI332,種目名!$R$5:$T$104,3,0))","v":""},0,"","",0,"",""]
["",null,{"$f":"IF(B333=\"\",\"\",VLOOKUP(B333,学連登録!$C$2:$G$3000,2,FALSE))","v":""},{"$f":"IF(B333=\"\",\"\",VLOOKUP(B333,学連登録!$C$2:$G$3000,3,FALSE))","v":""},{"$f":"IF(B333=\"\",\"\",VLOOKUP(B333,学連登録!$C$2:$G$3000,4,FALSE))","v":""},{"$f":"IF(C333=\"\",\"\",$P$1)","v":""},null,null,null,null,null,null,null,null,null,null,null,null,null,null,null,{"$f":"IF(B333=\"\",\"\",VLOOKUP(B333,学連登録!$C$2:$H$3000,6,FALSE))","v":""},null,null,"",{"$f":"IF(G333=\"\",\"\",VLOOKUP(G333,種目名!$R$5:$T$104,3,0))","v":""},{"$f":"IF(J333=\"\",\"\",VLOOKUP(J333,種目名!$R$5:$T$104,3,0))","v":""},{"$f":"IF(M333=\"\",\"\",VLOOKUP(M333,種目名!$R$5:$T$104,3,0))","v":""},{"$f":"IF(P333=\"\",\"\",VLOOKUP(AF333,種目名!$R$5:$T$104,3,0))","v":""},{"$f":"IF(S333=\"\",\"\",VLOOKUP(AI333,種目名!$R$5:$T$104,3,0))","v":""},0,"","",0,"",""]
["",null,{"$f":"IF(B334=\"\",\"\",VLOOKUP(B334,学連登録!$C$2:$G$3000,2,FALSE))","v":""},{"$f":"IF(B334=\"\",\"\",VLOOKUP(B334,学連登録!$C$2:$G$3000,3,FALSE))","v":""},{"$f":"IF(B334=\"\",\"\",VLOOKUP(B334,学連登録!$C$2:$G$3000,4,FALSE))","v":""},"",null,null,null,null,null,null,null,null,null,null,null,null,null,null,null,{"$f":"IF(B334=\"\",\"\",VLOOKUP(B334,学連登録!$C$2:$H$3000,6,FALSE))","v":""},null,null,"",{"$f":"IF(G334=\"\",\"\",VLOOKUP(G334,種目名!$R$5:$T$104,3,0))","v":""},{"$f":"IF(J334=\"\",\"\",VLOOKUP(J334,種目名!$R$5:$T$104,3,0))","v":""},{"$f":"IF(M334=\"\",\"\",VLOOKUP(M334,種目名!$R$5:$T$104,3,0))","v":""},{"$f":"IF(P334=\"\",\"\",VLOOKUP(AF334,種目名!$R$5:$T$104,3,0))","v":""},{"$f":"IF(S334=\"\",\"\",VLOOKUP(AI334,種目名!$R$5:$T$104,3,0))","v":""},0,"","",0,"",""]
["",null,{"$f":"IF(B335=\"\",\"\",VLOOKUP(B335,学連登録!$C$2:$G$3000,2,FALSE))","v":""},{"$f":"IF(B335=\"\",\"\",VLOOKUP(B335,学連登録!$C$2:$G$3000,3,FALSE))","v":""},{"$f":"IF(B335=\"\",\"\",VLOOKUP(B335,学連登録!$C$2:$G$3000,4,FALSE))","v":""},"",null,null,null,null,null,null,null,null,null,null,null,null,null,null,null,{"$f":"IF(B335=\"\",\"\",VLOOKUP(B335,学連登録!$C$2:$H$3000,6,FALSE))","v":""},null,null,"",{"$f":"IF(G335=\"\",\"\",VLOOKUP(G335,種目名!$R$5:$T$104,3,0))","v":""},{"$f":"IF(J335=\"\",\"\",VLOOKUP(J335,種目名!$R$5:$T$104,3,0))","v":""},{"$f":"IF(M335=\"\",\"\",VLOOKUP(M335,種目名!$R$5:$T$104,3,0))","v":""},{"$f":"IF(P335=\"\",\"\",VLOOKUP(AF335,種目名!$R$5:$T$104,3,0))","v":""},{"$f":"IF(S335=\"\",\"\",VLOOKUP(AI335,種目名!$R$5:$T$104,3,0))","v":""},0,"","",0,"",""]
["",null,{"$f":"IF(B336=\"\",\"\",VLOOKUP(B336,学連登録!$C$2:$G$3000,2,FALSE))","v":""},{"$f":"IF(B336=\"\",\"\",VLOOKUP(B336,学連登録!$C$2:$G$3000,3,FALSE))","v":""},{"$f":"IF(B336=\"\",\"\",VLOOKUP(B336,学連登録!$C$2:$G$3000,4,FALSE))","v":""},"",null,null,null,null,null,null,null,null,null,null,null,null,null,null,null,{"$f":"IF(B336=\"\",\"\",VLOOKUP(B336,学連登録!$C$2:$H$3000,6,FALSE))","v":""},null,null,"",{"$f":"IF(G336=\"\",\"\",VLOOKUP(G336,種目名!$R$5:$T$104,3,0))","v":""},{"$f":"IF(J336=\"\",\"\",VLOOKUP(J336,種目名!$R$5:$T$104,3,0))","v":""},{"$f":"IF(M336=\"\",\"\",VLOOKUP(M336,種目名!$R$5:$T$104,3,0))","v":""},{"$f":"IF(P336=\"\",\"\",VLOOKUP(AF336,種目名!$R$5:$T$104,3,0))","v":""},{"$f":"IF(S336=\"\",\"\",VLOOKUP(AI336,種目名!$R$5:$T$104,3,0))","v":""},0,"","",0,"",""]
["",null,{"$f":"IF(B337=\"\",\"\",VLOOKUP(B337,学連登録!$C$2:$G$3000,2,FALSE))","v":""},{"$f":"IF(B337=\"\",\"\",VLOOKUP(B337,学連登録!$C$2:$G$3000,3,FALSE))","v":""},{"$f":"IF(B337=\"\",\"\",VLOOKUP(B337,学連登録!$C$2:$G$3000,4,FALSE))","v":""},"",null,null,null,null,null,null,null,null,null,null,null,null,null,null,null,{"$f":"IF(B337=\"\",\"\",VLOOKUP(B337,学連登録!$C$2:$H$3000,6,FALSE))","v":""},null,null,"",{"$f":"IF(G337=\"\",\"\",VLOOKUP(G337,種目名!$R$5:$T$104,3,0))","v":""},{"$f":"IF(J337=\"\",\"\",VLOOKUP(J337,種目名!$R$5:$T$104,3,0))","v":""},{"$f":"IF(M337=\"\",\"\",VLOOKUP(M337,種目名!$R$5:$T$104,3,0))","v":""},{"$f":"IF(P337=\"\",\"\",VLOOKUP(AF337,種目名!$R$5:$T$104,3,0))","v":""},{"$f":"IF(S337=\"\",\"\",VLOOKUP(AI337,種目名!$R$5:$T$104,3,0))","v":""},0,"","",0,"",""]
["",null,{"$f":"IF(B338=\"\",\"\",VLOOKUP(B338,学連登録!$C$2:$G$3000,2,FALSE))","v":""},{"$f":"IF(B338=\"\",\"\",VLOOKUP(B338,学連登録!$C$2:$G$3000,3,FALSE))","v":""},{"$f":"IF(B338=\"\",\"\",VLOOKUP(B338,学連登録!$C$2:$G$3000,4,FALSE))","v":""},"",null,null,null,null,null,null,null,null,null,null,null,null,null,null,null,{"$f":"IF(B338=\"\",\"\",VLOOKUP(B338,学連登録!$C$2:$H$3000,6,FALSE))","v":""},null,null,"",{"$f":"IF(G338=\"\",\"\",VLOOKUP(G338,種目名!$R$5:$T$104,3,0))","v":""},{"$f":"IF(J338=\"\",\"\",VLOOKUP(J338,種目名!$R$5:$T$104,3,0))","v":""},{"$f":"IF(M338=\"\",\"\",VLOOKUP(M338,種目名!$R$5:$T$104,3,0))","v":""},{"$f":"IF(P338=\"\",\"\",VLOOKUP(AF338,種目名!$R$5:$T$104,3,0))","v":""},{"$f":"IF(S338=\"\",\"\",VLOOKUP(AI338,種目名!$R$5:$T$104,3,0))","v":""},0,"","",0,"",""]
["",null,{"$f":"IF(B339=\"\",\"\",VLOOKUP(B339,学連登録!$C$2:$G$3000,2,FALSE))","v":""},{"$f":"IF(B339=\"\",\"\",VLOOKUP(B339,学連登録!$C$2:$G$3000,3,FALSE))","v":""},{"$f":"IF(B339=\"\",\"\",VLOOKUP(B339,学連登録!$C$2:$G$3000,4,FALSE))","v":""},"",null,null,null,null,null,null,null,null,null,null,null,null,null,null,null,{"$f":"IF(B339=\"\",\"\",VLOOKUP(B339,学連登録!$C$2:$H$3000,6,FALSE))","v":""},null,null,"",{"$f":"IF(G339=\"\",\"\",VLOOKUP(G339,種目名!$R$5:$T$104,3,0))","v":""},{"$f":"IF(J339=\"\",\"\",VLOOKUP(J339,種目名!$R$5:$T$104,3,0))","v":""},{"$f":"IF(M339=\"\",\"\",VLOOKUP(M339,種目名!$R$5:$T$104,3,0))","v":""},{"$f":"IF(P339=\"\",\"\",VLOOKUP(AF339,種目名!$R$5:$T$104,3,0))","v":""},{"$f":"IF(S339=\"\",\"\",VLOOKUP(AI339,種目名!$R$5:$T$104,3,0))","v":""},0,"","",0,"",""]
["",null,{"$f":"IF(B340=\"\",\"\",VLOOKUP(B340,学連登録!$C$2:$G$3000,2,FALSE))","v":""},{"$f":"IF(B340=\"\",\"\",VLOOKUP(B340,学連登録!$C$2:$G$3000,3,FALSE))","v":""},{"$f":"IF(B340=\"\",\"\",VLOOKUP(B340,学連登録!$C$2:$G$3000,4,FALSE))","v":""},"",null,null,null,null,null,null,null,null,null,null,null,null,null,null,null,{"$f":"IF(B340=\"\",\"\",VLOOKUP(B340,学連登録!$C$2:$H$3000,6,FALSE))","v":""},null,null,"",{"$f":"IF(G340=\"\",\"\",VLOOKUP(G340,種目名!$R$5:$T$104,3,0))","v":""},{"$f":"IF(J340=\"\",\"\",VLOOKUP(J340,種目名!$R$5:$T$104,3,0))","v":""},{"$f":"IF(M340=\"\",\"\",VLOOKUP(M340,種目名!$R$5:$T$104,3,0))","v":""},{"$f":"IF(P340=\"\",\"\",VLOOKUP(AF340,種目名!$R$5:$T$104,3,0))","v":""},{"$f":"IF(S340=\"\",\"\",VLOOKUP(AI340,種目名!$R$5:$T$104,3,0))","v":""},0,"","",0,"",""]
["",null,{"$f":"IF(B341=\"\",\"\",VLOOKUP(B341,学連登録!$C$2:$G$3000,2,FALSE))","v":""},{"$f":"IF(B341=\"\",\"\",VLOOKUP(B341,学連登録!$C$2:$G$3000,3,FALSE))","v":""},{"$f":"IF(B341=\"\",\"\",VLOOKUP(B341,学連登録!$C$2:$G$3000,4,FALSE))","v":""},"",null,null,null,null,null,null,null,null,null,null,null,null,null,null,null,{"$f":"IF(B341=\"\",\"\",VLOOKUP(B341,学連登録!$C$2:$H$3000,6,FALSE))","v":""},null,null,"",{"$f":"IF(G341=\"\",\"\",VLOOKUP(G341,種目名!$R$5:$T$104,3,0))","v":""},{"$f":"IF(J341=\"\",\"\",VLOOKUP(J341,種目名!$R$5:$T$104,3,0))","v":""},{"$f":"IF(M341=\"\",\"\",VLOOKUP(M341,種目名!$R$5:$T$104,3,0))","v":""},{"$f":"IF(P341=\"\",\"\",VLOOKUP(AF341,種目名!$R$5:$T$104,3,0))","v":""},{"$f":"IF(S341=\"\",\"\",VLOOKUP(AI341,種目名!$R$5:$T$104,3,0))","v":""},0,"","",0,"",""]
["",null,{"$f":"IF(B342=\"\",\"\",VLOOKUP(B342,学連登録!$C$2:$G$3000,2,FALSE))","v":""},{"$f":"IF(B342=\"\",\"\",VLOOKUP(B342,学連登録!$C$2:$G$3000,3,FALSE))","v":""},{"$f":"IF(B342=\"\",\"\",VLOOKUP(B342,学連登録!$C$2:$G$3000,4,FALSE))","v":""},"",null,null,null,null,null,null,null,null,null,null,null,null,null,null,null,{"$f":"IF(B342=\"\",\"\",VLOOKUP(B342,学連登録!$C$2:$H$3000,6,FALSE))","v":""},null,null,{"$f":"IF(C342=\"\",\"\",$S$3)","v":""},{"$f":"IF(G342=\"\",\"\",VLOOKUP(G342,種目名!$R$5:$T$104,3,0))","v":""},{"$f":"IF(J342=\"\",\"\",VLOOKUP(J342,種目名!$R$5:$T$104,3,0))","v":""},{"$f":"IF(M342=\"\",\"\",VLOOKUP(M342,種目名!$R$5:$T$104,3,0))","v":""},{"$f":"IF(P342=\"\",\"\",VLOOKUP(AF342,種目名!$R$5:$T$104,3,0))","v":""},{"$f":"IF(S342=\"\",\"\",VLOOKUP(AI342,種目名!$R$5:$T$104,3,0))","v":""},{"$f":"LENB(P342)","v":0},{"$f":"IF(AE342,LEFTB(P342,AE342-1),\"\")","v":""},{"$f":"IF(AE342,MIDB(P342,AE342,1),\"\")","v":""},{"$f":"LENB(S342)","v":0},{"$f":"IF(AH342,LEFTB(S342,AH342-1),\"\")","v":""},{"$f":"IF(AH342,MIDB(S342,AH342,1),\"\")","v":""}]
["",null,{"$f":"IF(B343=\"\",\"\",VLOOKUP(B343,学連登録!$C$2:$G$3000,2,FALSE))","v":""},{"$f":"IF(B343=\"\",\"\",VLOOKUP(B343,学連登録!$C$2:$G$3000,3,FALSE))","v":""},{"$f":"IF(B343=\"\",\"\",VLOOKUP(B343,学連登録!$C$2:$G$3000,4,FALSE))","v":""},"",null,null,null,null,null,null,null,null,null,null,null,null,null,null,null,{"$f":"IF(B343=\"\",\"\",VLOOKUP(B343,学連登録!$C$2:$H$3000,6,FALSE))","v":""},null,null,"",{"$f":"IF(G343=\"\",\"\",VLOOKUP(G343,種目名!$R$5:$T$104,3,0))","v":""},{"$f":"IF(J343=\"\",\"\",VLOOKUP(J343,種目名!$R$5:$T$104,3,0))","v":""},{"$f":"IF(M343=\"\",\"\",VLOOKUP(M343,種目名!$R$5:$T$104,3,0))","v":""},{"$f":"IF(P343=\"\",\"\",VLOOKUP(AF343,種目名!$R$5:$T$104,3,0))","v":""},{"$f":"IF(S343=\"\",\"\",VLOOKUP(AI343,種目名!$R$5:$T$104,3,0))","v":""},0,"","",0,"",""]
["",null,{"$f":"IF(B344=\"\",\"\",VLOOKUP(B344,学連登録!$C$2:$G$3000,2,FALSE))","v":""},{"$f":"IF(B344=\"\",\"\",VLOOKUP(B344,学連登録!$C$2:$G$3000,3,FALSE))","v":""},{"$f":"IF(B344=\"\",\"\",VLOOKUP(B344,学連登録!$C$2:$G$3000,4,FALSE))","v":""},"",null,null,null,null,null,null,null,null,null,null,null,null,null,null,null,{"$f":"IF(B344=\"\",\"\",VLOOKUP(B344,学連登録!$C$2:$H$3000,6,FALSE))","v":""},null,null,"",{"$f":"IF(G344=\"\",\"\",VLOOKUP(G344,種目名!$R$5:$T$104,3,0))","v":""},{"$f":"IF(J344=\"\",\"\",VLOOKUP(J344,種目名!$R$5:$T$104,3,0))","v":""},{"$f":"IF(M344=\"\",\"\",VLOOKUP(M344,種目名!$R$5:$T$104,3,0))","v":""},{"$f":"IF(P344=\"\",\"\",VLOOKUP(AF344,種目名!$R$5:$T$104,3,0))","v":""},{"$f":"IF(S344=\"\",\"\",VLOOKUP(AI344,種目名!$R$5:$T$104,3,0))","v":""},0,"","",0,"",""]
["",null,{"$f":"IF(B345=\"\",\"\",VLOOKUP(B345,学連登録!$C$2:$G$3000,2,FALSE))","v":""},{"$f":"IF(B345=\"\",\"\",VLOOKUP(B345,学連登録!$C$2:$G$3000,3,FALSE))","v":""},{"$f":"IF(B345=\"\",\"\",VLOOKUP(B345,学連登録!$C$2:$G$3000,4,FALSE))","v":""},"",null,null,null,null,null,null,null,null,null,null,null,null,null,null,null,{"$f":"IF(B345=\"\",\"\",VLOOKUP(B345,学連登録!$C$2:$H$3000,6,FALSE))","v":""},null,null,"",{"$f":"IF(G345=\"\",\"\",VLOOKUP(G345,種目名!$R$5:$T$104,3,0))","v":""},{"$f":"IF(J345=\"\",\"\",VLOOKUP(J345,種目名!$R$5:$T$104,3,0))","v":""},{"$f":"IF(M345=\"\",\"\",VLOOKUP(M345,種目名!$R$5:$T$104,3,0))","v":""},{"$f":"IF(P345=\"\",\"\",VLOOKUP(AF345,種目名!$R$5:$T$104,3,0))","v":""},{"$f":"IF(S345=\"\",\"\",VLOOKUP(AI345,種目名!$R$5:$T$104,3,0))","v":""},0,"","",0,"",""]
["",null,{"$f":"IF(B346=\"\",\"\",VLOOKUP(B346,学連登録!$C$2:$G$3000,2,FALSE))","v":""},{"$f":"IF(B346=\"\",\"\",VLOOKUP(B346,学連登録!$C$2:$G$3000,3,FALSE))","v":""},{"$f":"IF(B346=\"\",\"\",VLOOKUP(B346,学連登録!$C$2:$G$3000,4,FALSE))","v":""},"",null,null,null,null,null,null,null,null,null,null,null,null,null,null,null,{"$f":"IF(B346=\"\",\"\",VLOOKUP(B346,学連登録!$C$2:$H$3000,6,FALSE))","v":""},null,null,"",{"$f":"IF(G346=\"\",\"\",VLOOKUP(G346,種目名!$R$5:$T$104,3,0))","v":""},{"$f":"IF(J346=\"\",\"\",VLOOKUP(J346,種目名!$R$5:$T$104,3,0))","v":""},{"$f":"IF(M346=\"\",\"\",VLOOKUP(M346,種目名!$R$5:$T$104,3,0))","v":""},{"$f":"IF(P346=\"\",\"\",VLOOKUP(AF346,種目名!$R$5:$T$104,3,0))","v":""},{"$f":"IF(S346=\"\",\"\",VLOOKUP(AI346,種目名!$R$5:$T$104,3,0))","v":""},0,"","",0,"",""]
["",null,{"$f":"IF(B347=\"\",\"\",VLOOKUP(B347,学連登録!$C$2:$G$3000,2,FALSE))","v":""},{"$f":"IF(B347=\"\",\"\",VLOOKUP(B347,学連登録!$C$2:$G$3000,3,FALSE))","v":""},{"$f":"IF(B347=\"\",\"\",VLOOKUP(B347,学連登録!$C$2:$G$3000,4,FALSE))","v":""},"",null,null,null,null,null,null,null,null,null,null,null,null,null,null,null,{"$f":"IF(B347=\"\",\"\",VLOOKUP(B347,学連登録!$C$2:$H$3000,6,FALSE))","v":""},null,null,"",{"$f":"IF(G347=\"\",\"\",VLOOKUP(G347,種目名!$R$5:$T$104,3,0))","v":""},{"$f":"IF(J347=\"\",\"\",VLOOKUP(J347,種目名!$R$5:$T$104,3,0))","v":""},{"$f":"IF(M347=\"\",\"\",VLOOKUP(M347,種目名!$R$5:$T$104,3,0))","v":""},{"$f":"IF(P347=\"\",\"\",VLOOKUP(AF347,種目名!$R$5:$T$104,3,0))","v":""},{"$f":"IF(S347=\"\",\"\",VLOOKUP(AI347,種目名!$R$5:$T$104,3,0))","v":""},0,"","",0,"",""]
["",null,{"$f":"IF(B348=\"\",\"\",VLOOKUP(B348,学連登録!$C$2:$G$3000,2,FALSE))","v":""},{"$f":"IF(B348=\"\",\"\",VLOOKUP(B348,学連登録!$C$2:$G$3000,3,FALSE))","v":""},{"$f":"IF(B348=\"\",\"\",VLOOKUP(B348,学連登録!$C$2:$G$3000,4,FALSE))","v":""},"",null,null,null,null,null,null,null,null,null,null,null,null,null,null,null,{"$f":"IF(B348=\"\",\"\",VLOOKUP(B348,学連登録!$C$2:$H$3000,6,FALSE))","v":""},null,null,"",{"$f":"IF(G348=\"\",\"\",VLOOKUP(G348,種目名!$R$5:$T$104,3,0))","v":""},{"$f":"IF(J348=\"\",\"\",VLOOKUP(J348,種目名!$R$5:$T$104,3,0))","v":""},{"$f":"IF(M348=\"\",\"\",VLOOKUP(M348,種目名!$R$5:$T$104,3,0))","v":""},{"$f":"IF(P348=\"\",\"\",VLOOKUP(AF348,種目名!$R$5:$T$104,3,0))","v":""},{"$f":"IF(S348=\"\",\"\",VLOOKUP(AI348,種目名!$R$5:$T$104,3,0))","v":""},0,"","",0,"",""]
["",null,{"$f":"IF(B349=\"\",\"\",VLOOKUP(B349,学連登録!$C$2:$G$3000,2,FALSE))","v":""},{"$f":"IF(B349=\"\",\"\",VLOOKUP(B349,学連登録!$C$2:$G$3000,3,FALSE))","v":""},{"$f":"IF(B349=\"\",\"\",VLOOKUP(B349,学連登録!$C$2:$G$3000,4,FALSE))","v":""},"",null,null,null,null,null,null,null,null,null,null,null,null,null,null,null,{"$f":"IF(B349=\"\",\"\",VLOOKUP(B349,学連登録!$C$2:$H$3000,6,FALSE))","v":""},null,null,"",{"$f":"IF(G349=\"\",\"\",VLOOKUP(G349,種目名!$R$5:$T$104,3,0))","v":""},{"$f":"IF(J349=\"\",\"\",VLOOKUP(J349,種目名!$R$5:$T$104,3,0))","v":""},{"$f":"IF(M349=\"\",\"\",VLOOKUP(M349,種目名!$R$5:$T$104,3,0))","v":""},{"$f":"IF(P349=\"\",\"\",VLOOKUP(AF349,種目名!$R$5:$T$104,3,0))","v":""},{"$f":"IF(S349=\"\",\"\",VLOOKUP(AI349,種目名!$R$5:$T$104,3,0))","v":""},0,"","",0,"",""]
["",null,{"$f":"IF(B350=\"\",\"\",VLOOKUP(B350,学連登録!$C$2:$G$3000,2,FALSE))","v":""},{"$f":"IF(B350=\"\",\"\",VLOOKUP(B350,学連登録!$C$2:$G$3000,3,FALSE))","v":""},{"$f":"IF(B350=\"\",\"\",VLOOKUP(B350,学連登録!$C$2:$G$3000,4,FALSE))","v":""},"",null,null,null,null,null,null,null,null,null,null,null,null,null,null,null,{"$f":"IF(B350=\"\",\"\",VLOOKUP(B350,学連登録!$C$2:$H$3000,6,FALSE))","v":""},null,null,"",{"$f":"IF(G350=\"\",\"\",VLOOKUP(G350,種目名!$R$5:$T$104,3,0))","v":""},{"$f":"IF(J350=\"\",\"\",VLOOKUP(J350,種目名!$R$5:$T$104,3,0))","v":""},{"$f":"IF(M350=\"\",\"\",VLOOKUP(M350,種目名!$R$5:$T$104,3,0))","v":""},{"$f":"IF(P350=\"\",\"\",VLOOKUP(AF350,種目名!$R$5:$T$104,3,0))","v":""},{"$f":"IF(S350=\"\",\"\",VLOOKUP(AI350,種目名!$R$5:$T$104,3,0))","v":""},0,"","",0,"",""]
["",null,{"$f":"IF(B351=\"\",\"\",VLOOKUP(B351,学連登録!$C$2:$G$3000,2,FALSE))","v":""},{"$f":"IF(B351=\"\",\"\",VLOOKUP(B351,学連登録!$C$2:$G$3000,3,FALSE))","v":""},{"$f":"IF(B351=\"\",\"\",VLOOKUP(B351,学連登録!$C$2:$G$3000,4,FALSE))","v":""},"",null,null,null,null,null,null,null,null,null,null,null,null,null,null,null,{"$f":"IF(B351=\"\",\"\",VLOOKUP(B351,学連登録!$C$2:$H$3000,6,FALSE))","v":""},null,null,"",{"$f":"IF(G351=\"\",\"\",VLOOKUP(G351,種目名!$R$5:$T$104,3,0))","v":""},{"$f":"IF(J351=\"\",\"\",VLOOKUP(J351,種目名!$R$5:$T$104,3,0))","v":""},{"$f":"IF(M351=\"\",\"\",VLOOKUP(M351,種目名!$R$5:$T$104,3,0))","v":""},{"$f":"IF(P351=\"\",\"\",VLOOKUP(AF351,種目名!$R$5:$T$104,3,0))","v":""},{"$f":"IF(S351=\"\",\"\",VLOOKUP(AI351,種目名!$R$5:$T$104,3,0))","v":""},0,"","",0,"",""]
["",null,{"$f":"IF(B352=\"\",\"\",VLOOKUP(B352,学連登録!$C$2:$G$3000,2,FALSE))","v":""},{"$f":"IF(B352=\"\",\"\",VLOOKUP(B352,学連登録!$C$2:$G$3000,3,FALSE))","v":""},{"$f":"IF(B352=\"\",\"\",VLOOKUP(B352,学連登録!$C$2:$G$3000,4,FALSE))","v":""},"",null,null,null,null,null,null,null,null,null,null,null,null,null,null,null,{"$f":"IF(B352=\"\",\"\",VLOOKUP(B352,学連登録!$C$2:$H$3000,6,FALSE))","v":""},null,null,"",{"$f":"IF(G352=\"\",\"\",VLOOKUP(G352,種目名!$R$5:$T$104,3,0))","v":""},{"$f":"IF(J352=\"\",\"\",VLOOKUP(J352,種目名!$R$5:$T$104,3,0))","v":""},{"$f":"IF(M352=\"\",\"\",VLOOKUP(M352,種目名!$R$5:$T$104,3,0))","v":""},{"$f":"IF(P352=\"\",\"\",VLOOKUP(AF352,種目名!$R$5:$T$104,3,0))","v":""},{"$f":"IF(S352=\"\",\"\",VLOOKUP(AI352,種目名!$R$5:$T$104,3,0))","v":""},0,"","",0,"",""]
["",null,{"$f":"IF(B353=\"\",\"\",VLOOKUP(B353,学連登録!$C$2:$G$3000,2,FALSE))","v":""},{"$f":"IF(B353=\"\",\"\",VLOOKUP(B353,学連登録!$C$2:$G$3000,3,FALSE))","v":""},{"$f":"IF(B353=\"\",\"\",VLOOKUP(B353,学連登録!$C$2:$G$3000,4,FALSE))","v":""},"",null,null,null,null,null,null,null,null,null,null,null,null,null,null,null,{"$f":"IF(B353=\"\",\"\",VLOOKUP(B353,学連登録!$C$2:$H$3000,6,FALSE))","v":""},null,null,"",{"$f":"IF(G353=\"\",\"\",VLOOKUP(G353,種目名!$R$5:$T$104,3,0))","v":""},{"$f":"IF(J353=\"\",\"\",VLOOKUP(J353,種目名!$R$5:$T$104,3,0))","v":""},{"$f":"IF(M353=\"\",\"\",VLOOKUP(M353,種目名!$R$5:$T$104,3,0))","v":""},{"$f":"IF(P353=\"\",\"\",VLOOKUP(AF353,種目名!$R$5:$T$104,3,0))","v":""},{"$f":"IF(S353=\"\",\"\",VLOOKUP(AI353,種目名!$R$5:$T$104,3,0))","v":""},0,"","",0,"",""]
["",null,{"$f":"IF(B354=\"\",\"\",VLOOKUP(B354,学連登録!$C$2:$G$3000,2,FALSE))","v":""},{"$f":"IF(B354=\"\",\"\",VLOOKUP(B354,学連登録!$C$2:$G$3000,3,FALSE))","v":""},{"$f":"IF(B354=\"\",\"\",VLOOKUP(B354,学連登録!$C$2:$G$3000,4,FALSE))","v":""},"",null,null,null,null,null,null,null,null,null,null,null,null,null,null,null,{"$f":"IF(B354=\"\",\"\",VLOOKUP(B354,学連登録!$C$2:$H$3000,6,FALSE))","v":""},null,null,"",{"$f":"IF(G354=\"\",\"\",VLOOKUP(G354,種目名!$R$5:$T$104,3,0))","v":""},{"$f":"IF(J354=\"\",\"\",VLOOKUP(J354,種目名!$R$5:$T$104,3,0))","v":""},{"$f":"IF(M354=\"\",\"\",VLOOKUP(M354,種目名!$R$5:$T$104,3,0))","v":""},{"$f":"IF(P354=\"\",\"\",VLOOKUP(AF354,種目名!$R$5:$T$104,3,0))","v":""},{"$f":"IF(S354=\"\",\"\",VLOOKUP(AI354,種目名!$R$5:$T$104,3,0))","v":""},0,"","",0,"",""]
["",null,{"$f":"IF(B355=\"\",\"\",VLOOKUP(B355,学連登録!$C$2:$G$3000,2,FALSE))","v":""},{"$f":"IF(B355=\"\",\"\",VLOOKUP(B355,学連登録!$C$2:$G$3000,3,FALSE))","v":""},{"$f":"IF(B355=\"\",\"\",VLOOKUP(B355,学連登録!$C$2:$G$3000,4,FALSE))","v":""},"",null,null,null,null,null,null,null,null,null,null,null,null,null,null,null,{"$f":"IF(B355=\"\",\"\",VLOOKUP(B355,学連登録!$C$2:$H$3000,6,FALSE))","v":""},null,null,"",{"$f":"IF(G355=\"\",\"\",VLOOKUP(G355,種目名!$R$5:$T$104,3,0))","v":""},{"$f":"IF(J355=\"\",\"\",VLOOKUP(J355,種目名!$R$5:$T$104,3,0))","v":""},{"$f":"IF(M355=\"\",\"\",VLOOKUP(M355,種目名!$R$5:$T$104,3,0))","v":""},{"$f":"IF(P355=\"\",\"\",VLOOKUP(AF355,種目名!$R$5:$T$104,3,0))","v":""},{"$f":"IF(S355=\"\",\"\",VLOOKUP(AI355,種目名!$R$5:$T$104,3,0))","v":""},0,"","",0,"",""]
["",null,{"$f":"IF(B356=\"\",\"\",VLOOKUP(B356,学連登録!$C$2:$G$3000,2,FALSE))","v":""},{"$f":"IF(B356=\"\",\"\",VLOOKUP(B356,学連登録!$C$2:$G$3000,3,FALSE))","v":""},{"$f":"IF(B356=\"\",\"\",VLOOKUP(B356,学連登録!$C$2:$G$3000,4,FALSE))","v":""},"",null,null,null,null,null,null,null,null,null,null,null,null,null,null,null,{"$f":"IF(B356=\"\",\"\",VLOOKUP(B356,学連登録!$C$2:$H$3000,6,FALSE))","v":""},null,null,"",{"$f":"IF(G356=\"\",\"\",VLOOKUP(G356,種目名!$R$5:$T$104,3,0))","v":""},{"$f":"IF(J356=\"\",\"\",VLOOKUP(J356,種目名!$R$5:$T$104,3,0))","v":""},{"$f":"IF(M356=\"\",\"\",VLOOKUP(M356,種目名!$R$5:$T$104,3,0))","v":""},{"$f":"IF(P356=\"\",\"\",VLOOKUP(AF356,種目名!$R$5:$T$104,3,0))","v":""},{"$f":"IF(S356=\"\",\"\",VLOOKUP(AI356,種目名!$R$5:$T$104,3,0))","v":""},0,"","",0,"",""]
["",null,{"$f":"IF(B357=\"\",\"\",VLOOKUP(B357,学連登録!$C$2:$G$3000,2,FALSE))","v":""},{"$f":"IF(B357=\"\",\"\",VLOOKUP(B357,学連登録!$C$2:$G$3000,3,FALSE))","v":""},{"$f":"IF(B357=\"\",\"\",VLOOKUP(B357,学連登録!$C$2:$G$3000,4,FALSE))","v":""},"",null,null,null,null,null,null,null,null,null,null,null,null,null,null,null,{"$f":"IF(B357=\"\",\"\",VLOOKUP(B357,学連登録!$C$2:$H$3000,6,FALSE))","v":""},null,null,"",{"$f":"IF(G357=\"\",\"\",VLOOKUP(G357,種目名!$R$5:$T$104,3,0))","v":""},{"$f":"IF(J357=\"\",\"\",VLOOKUP(J357,種目名!$R$5:$T$104,3,0))","v":""},{"$f":"IF(M357=\"\",\"\",VLOOKUP(M357,種目名!$R$5:$T$104,3,0))","v":""},{"$f":"IF(P357=\"\",\"\",VLOOKUP(AF357,種目名!$R$5:$T$104,3,0))","v":""},{"$f":"IF(S357=\"\",\"\",VLOOKUP(AI357,種目名!$R$5:$T$104,3,0))","v":""},0,"","",0,"",""]
["",null,{"$f":"IF(B358=\"\",\"\",VLOOKUP(B358,学連登録!$C$2:$G$3000,2,FALSE))","v":""},{"$f":"IF(B358=\"\",\"\",VLOOKUP(B358,学連登録!$C$2:$G$3000,3,FALSE))","v":""},{"$f":"IF(B358=\"\",\"\",VLOOKUP(B358,学連登録!$C$2:$G$3000,4,FALSE))","v":""},"",null,null,null,null,null,null,null,null,null,null,null,null,null,null,null,{"$f":"IF(B358=\"\",\"\",VLOOKUP(B358,学連登録!$C$2:$H$3000,6,FALSE))","v":""},null,null,"",{"$f":"IF(G358=\"\",\"\",VLOOKUP(G358,種目名!$R$5:$T$104,3,0))","v":""},{"$f":"IF(J358=\"\",\"\",VLOOKUP(J358,種目名!$R$5:$T$104,3,0))","v":""},{"$f":"IF(M358=\"\",\"\",VLOOKUP(M358,種目名!$R$5:$T$104,3,0))","v":""},{"$f":"IF(P358=\"\",\"\",VLOOKUP(AF358,種目名!$R$5:$T$104,3,0))","v":""},{"$f":"IF(S358=\"\",\"\",VLOOKUP(AI358,種目名!$R$5:$T$104,3,0))","v":""},0,"","",0,"",""]
["",null,{"$f":"IF(B359=\"\",\"\",VLOOKUP(B359,学連登録!$C$2:$G$3000,2,FALSE))","v":""},{"$f":"IF(B359=\"\",\"\",VLOOKUP(B359,学連登録!$C$2:$G$3000,3,FALSE))","v":""},{"$f":"IF(B359=\"\",\"\",VLOOKUP(B359,学連登録!$C$2:$G$3000,4,FALSE))","v":""},"",null,null,null,null,null,null,null,null,null,null,null,null,null,null,null,{"$f":"IF(B359=\"\",\"\",VLOOKUP(B359,学連登録!$C$2:$H$3000,6,FALSE))","v":""},null,null,"",{"$f":"IF(G359=\"\",\"\",VLOOKUP(G359,種目名!$R$5:$T$104,3,0))","v":""},{"$f":"IF(J359=\"\",\"\",VLOOKUP(J359,種目名!$R$5:$T$104,3,0))","v":""},{"$f":"IF(M359=\"\",\"\",VLOOKUP(M359,種目名!$R$5:$T$104,3,0))","v":""},{"$f":"IF(P359=\"\",\"\",VLOOKUP(AF359,種目名!$R$5:$T$104,3,0))","v":""},{"$f":"IF(S359=\"\",\"\",VLOOKUP(AI359,種目名!$R$5:$T$104,3,0))","v":""},0,"","",0,"",""]
["",null,{"$f":"IF(B360=\"\",\"\",VLOOKUP(B360,学連登録!$C$2:$G$3000,2,FALSE))","v":""},{"$f":"IF(B360=\"\",\"\",VLOOKUP(B360,学連登録!$C$2:$G$3000,3,FALSE))","v":""},{"$f":"IF(B360=\"\",\"\",VLOOKUP(B360,学連登録!$C$2:$G$3000,4,FALSE))","v":""},"",null,null,null,null,null,null,null,null,null,null,null,null,null,null,null,{"$f":"IF(B360=\"\",\"\",VLOOKUP(B360,学連登録!$C$2:$H$3000,6,FALSE))","v":""},null,null,"",{"$f":"IF(G360=\"\",\"\",VLOOKUP(G360,種目名!$R$5:$T$104,3,0))","v":""},{"$f":"IF(J360=\"\",\"\",VLOOKUP(J360,種目名!$R$5:$T$104,3,0))","v":""},{"$f":"IF(M360=\"\",\"\",VLOOKUP(M360,種目名!$R$5:$T$104,3,0))","v":""},{"$f":"IF(P360=\"\",\"\",VLOOKUP(AF360,種目名!$R$5:$T$104,3,0))","v":""},{"$f":"IF(S360=\"\",\"\",VLOOKUP(AI360,種目名!$R$5:$T$104,3,0))","v":""},0,"","",0,"",""]
["",null,{"$f":"IF(B361=\"\",\"\",VLOOKUP(B361,学連登録!$C$2:$G$3000,2,FALSE))","v":""},{"$f":"IF(B361=\"\",\"\",VLOOKUP(B361,学連登録!$C$2:$G$3000,3,FALSE))","v":""},{"$f":"IF(B361=\"\",\"\",VLOOKUP(B361,学連登録!$C$2:$G$3000,4,FALSE))","v":""},"",null,null,null,null,null,null,null,null,null,null,null,null,null,null,null,{"$f":"IF(B361=\"\",\"\",VLOOKUP(B361,学連登録!$C$2:$H$3000,6,FALSE))","v":""},null,null,"",{"$f":"IF(G361=\"\",\"\",VLOOKUP(G361,種目名!$R$5:$T$104,3,0))","v":""},{"$f":"IF(J361=\"\",\"\",VLOOKUP(J361,種目名!$R$5:$T$104,3,0))","v":""},{"$f":"IF(M361=\"\",\"\",VLOOKUP(M361,種目名!$R$5:$T$104,3,0))","v":""},{"$f":"IF(P361=\"\",\"\",VLOOKUP(AF361,種目名!$R$5:$T$104,3,0))","v":""},{"$f":"IF(S361=\"\",\"\",VLOOKUP(AI361,種目名!$R$5:$T$104,3,0))","v":""},0,"","",0,"",""]
["",null,{"$f":"IF(B362=\"\",\"\",VLOOKUP(B362,学連登録!$C$2:$G$3000,2,FALSE))","v":""},{"$f":"IF(B362=\"\",\"\",VLOOKUP(B362,学連登録!$C$2:$G$3000,3,FALSE))","v":""},{"$f":"IF(B362=\"\",\"\",VLOOKUP(B362,学連登録!$C$2:$G$3000,4,FALSE))","v":""},"",null,null,null,null,null,null,null,null,null,null,null,null,null,null,null,{"$f":"IF(B362=\"\",\"\",VLOOKUP(B362,学連登録!$C$2:$H$3000,6,FALSE))","v":""},null,null,"",{"$f":"IF(G362=\"\",\"\",VLOOKUP(G362,種目名!$R$5:$T$104,3,0))","v":""},{"$f":"IF(J362=\"\",\"\",VLOOKUP(J362,種目名!$R$5:$T$104,3,0))","v":""},{"$f":"IF(M362=\"\",\"\",VLOOKUP(M362,種目名!$R$5:$T$104,3,0))","v":""},{"$f":"IF(P362=\"\",\"\",VLOOKUP(AF362,種目名!$R$5:$T$104,3,0))","v":""},{"$f":"IF(S362=\"\",\"\",VLOOKUP(AI362,種目名!$R$5:$T$104,3,0))","v":""},0,"","",0,"",""]
["",null,{"$f":"IF(B363=\"\",\"\",VLOOKUP(B363,学連登録!$C$2:$G$3000,2,FALSE))","v":""},{"$f":"IF(B363=\"\",\"\",VLOOKUP(B363,学連登録!$C$2:$G$3000,3,FALSE))","v":""},{"$f":"IF(B363=\"\",\"\",VLOOKUP(B363,学連登録!$C$2:$G$3000,4,FALSE))","v":""},"",null,null,null,null,null,null,null,null,null,null,null,null,null,null,null,{"$f":"IF(B363=\"\",\"\",VLOOKUP(B363,学連登録!$C$2:$H$3000,6,FALSE))","v":""},null,null,"",{"$f":"IF(G363=\"\",\"\",VLOOKUP(G363,種目名!$R$5:$T$104,3,0))","v":""},{"$f":"IF(J363=\"\",\"\",VLOOKUP(J363,種目名!$R$5:$T$104,3,0))","v":""},{"$f":"IF(M363=\"\",\"\",VLOOKUP(M363,種目名!$R$5:$T$104,3,0))","v":""},{"$f":"IF(P363=\"\",\"\",VLOOKUP(AF363,種目名!$R$5:$T$104,3,0))","v":""},{"$f":"IF(S363=\"\",\"\",VLOOKUP(AI363,種目名!$R$5:$T$104,3,0))","v":""},0,"","",0,"",""]
["",null,{"$f":"IF(B364=\"\",\"\",VLOOKUP(B364,学連登録!$C$2:$G$3000,2,FALSE))","v":""},{"$f":"IF(B364=\"\",\"\",VLOOKUP(B364,学連登録!$C$2:$G$3000,3,FALSE))","v":""},{"$f":"IF(B364=\"\",\"\",VLOOKUP(B364,学連登録!$C$2:$G$3000,4,FALSE))","v":""},"",null,null,null,null,null,null,null,null,null,null,null,null,null,null,null,{"$f":"IF(B364=\"\",\"\",VLOOKUP(B364,学連登録!$C$2:$H$3000,6,FALSE))","v":""},null,null,"",{"$f":"IF(G364=\"\",\"\",VLOOKUP(G364,種目名!$R$5:$T$104,3,0))","v":""},{"$f":"IF(J364=\"\",\"\",VLOOKUP(J364,種目名!$R$5:$T$104,3,0))","v":""},{"$f":"IF(M364=\"\",\"\",VLOOKUP(M364,種目名!$R$5:$T$104,3,0))","v":""},{"$f":"IF(P364=\"\",\"\",VLOOKUP(AF364,種目名!$R$5:$T$104,3,0))","v":""},{"$f":"IF(S364=\"\",\"\",VLOOKUP(AI364,種目名!$R$5:$T$104,3,0))","v":""},0,"","",0,"",""]
["",null,{"$f":"IF(B365=\"\",\"\",VLOOKUP(B365,学連登録!$C$2:$G$3000,2,FALSE))","v":""},{"$f":"IF(B365=\"\",\"\",VLOOKUP(B365,学連登録!$C$2:$G$3000,3,FALSE))","v":""},{"$f":"IF(B365=\"\",\"\",VLOOKUP(B365,学連登録!$C$2:$G$3000,4,FALSE))","v":""},"",null,null,null,null,null,null,null,null,null,null,null,null,null,null,null,{"$f":"IF(B365=\"\",\"\",VLOOKUP(B365,学連登録!$C$2:$H$3000,6,FALSE))","v":""},null,null,"",{"$f":"IF(G365=\"\",\"\",VLOOKUP(G365,種目名!$R$5:$T$104,3,0))","v":""},{"$f":"IF(J365=\"\",\"\",VLOOKUP(J365,種目名!$R$5:$T$104,3,0))","v":""},{"$f":"IF(M365=\"\",\"\",VLOOKUP(M365,種目名!$R$5:$T$104,3,0))","v":""},{"$f":"IF(P365=\"\",\"\",VLOOKUP(AF365,種目名!$R$5:$T$104,3,0))","v":""},{"$f":"IF(S365=\"\",\"\",VLOOKUP(AI365,種目名!$R$5:$T$104,3,0))","v":""},0,"","",0,"",""]
["",null,{"$f":"IF(B366=\"\",\"\",VLOOKUP(B366,学連登録!$C$2:$G$3000,2,FALSE))","v":""},{"$f":"IF(B366=\"\",\"\",VLOOKUP(B366,学連登録!$C$2:$G$3000,3,FALSE))","v":""},{"$f":"IF(B366=\"\",\"\",VLOOKUP(B366,学連登録!$C$2:$G$3000,4,FALSE))","v":""},"",null,null,null,null,null,null,null,null,null,null,null,null,null,null,null,{"$f":"IF(B366=\"\",\"\",VLOOKUP(B366,学連登録!$C$2:$H$3000,6,FALSE))","v":""},null,null,"",{"$f":"IF(G366=\"\",\"\",VLOOKUP(G366,種目名!$R$5:$T$104,3,0))","v":""},{"$f":"IF(J366=\"\",\"\",VLOOKUP(J366,種目名!$R$5:$T$104,3,0))","v":""},{"$f":"IF(M366=\"\",\"\",VLOOKUP(M366,種目名!$R$5:$T$104,3,0))","v":""},{"$f":"IF(P366=\"\",\"\",VLOOKUP(AF366,種目名!$R$5:$T$104,3,0))","v":""},{"$f":"IF(S366=\"\",\"\",VLOOKUP(AI366,種目名!$R$5:$T$104,3,0))","v":""},0,"","",0,"",""]
["",null,{"$f":"IF(B367=\"\",\"\",VLOOKUP(B367,学連登録!$C$2:$G$3000,2,FALSE))","v":""},{"$f":"IF(B367=\"\",\"\",VLOOKUP(B367,学連登録!$C$2:$G$3000,3,FALSE))","v":""},{"$f":"IF(B367=\"\",\"\",VLOOKUP(B367,学連登録!$C$2:$G$3000,4,FALSE))","v":""},"",null,null,null,null,null,null,null,null,null,null,null,null,null,null,null,{"$f":"IF(B367=\"\",\"\",VLOOKUP(B367,学連登録!$C$2:$H$3000,6,FALSE))","v":""},null,null,"",{"$f":"IF(G367=\"\",\"\",VLOOKUP(G367,種目名!$R$5:$T$104,3,0))","v":""},{"$f":"IF(J367=\"\",\"\",VLOOKUP(J367,種目名!$R$5:$T$104,3,0))","v":""},{"$f":"IF(M367=\"\",\"\",VLOOKUP(M367,種目名!$R$5:$T$104,3,0))","v":""},{"$f":"IF(P367=\"\",\"\",VLOOKUP(AF367,種目名!$R$5:$T$104,3,0))","v":""},{"$f":"IF(S367=\"\",\"\",VLOOKUP(AI367,種目名!$R$5:$T$104,3,0))","v":""},0,"","",0,"",""]
["",null,{"$f":"IF(B368=\"\",\"\",VLOOKUP(B368,学連登録!$C$2:$G$3000,2,FALSE))","v":""},{"$f":"IF(B368=\"\",\"\",VLOOKUP(B368,学連登録!$C$2:$G$3000,3,FALSE))","v":""},{"$f":"IF(B368=\"\",\"\",VLOOKUP(B368,学連登録!$C$2:$G$3000,4,FALSE))","v":""},"",null,null,null,null,null,null,null,null,null,null,null,null,null,null,null,{"$f":"IF(B368=\"\",\"\",VLOOKUP(B368,学連登録!$C$2:$H$3000,6,FALSE))","v":""},null,null,"",{"$f":"IF(G368=\"\",\"\",VLOOKUP(G368,種目名!$R$5:$T$104,3,0))","v":""},{"$f":"IF(J368=\"\",\"\",VLOOKUP(J368,種目名!$R$5:$T$104,3,0))","v":""},{"$f":"IF(M368=\"\",\"\",VLOOKUP(M368,種目名!$R$5:$T$104,3,0))","v":""},{"$f":"IF(P368=\"\",\"\",VLOOKUP(AF368,種目名!$R$5:$T$104,3,0))","v":""},{"$f":"IF(S368=\"\",\"\",VLOOKUP(AI368,種目名!$R$5:$T$104,3,0))","v":""},0,"","",0,"",""]
["",null,{"$f":"IF(B369=\"\",\"\",VLOOKUP(B369,学連登録!$C$2:$G$3000,2,FALSE))","v":""},{"$f":"IF(B369=\"\",\"\",VLOOKUP(B369,学連登録!$C$2:$G$3000,3,FALSE))","v":""},{"$f":"IF(B369=\"\",\"\",VLOOKUP(B369,学連登録!$C$2:$G$3000,4,FALSE))","v":""},"",null,null,null,null,null,null,null,null,null,null,null,null,null,null,null,{"$f":"IF(B369=\"\",\"\",VLOOKUP(B369,学連登録!$C$2:$H$3000,6,FALSE))","v":""},null,null,"",{"$f":"IF(G369=\"\",\"\",VLOOKUP(G369,種目名!$R$5:$T$104,3,0))","v":""},{"$f":"IF(J369=\"\",\"\",VLOOKUP(J369,種目名!$R$5:$T$104,3,0))","v":""},{"$f":"IF(M369=\"\",\"\",VLOOKUP(M369,種目名!$R$5:$T$104,3,0))","v":""},{"$f":"IF(P369=\"\",\"\",VLOOKUP(AF369,種目名!$R$5:$T$104,3,0))","v":""},{"$f":"IF(S369=\"\",\"\",VLOOKUP(AI369,種目名!$R$5:$T$104,3,0))","v":""},0,"","",0,"",""]
["",null,{"$f":"IF(B370=\"\",\"\",VLOOKUP(B370,学連登録!$C$2:$G$3000,2,FALSE))","v":""},{"$f":"IF(B370=\"\",\"\",VLOOKUP(B370,学連登録!$C$2:$G$3000,3,FALSE))","v":""},{"$f":"IF(B370=\"\",\"\",VLOOKUP(B370,学連登録!$C$2:$G$3000,4,FALSE))","v":""},"",null,null,null,null,null,null,null,null,null,null,null,null,null,null,null,{"$f":"IF(B370=\"\",\"\",VLOOKUP(B370,学連登録!$C$2:$H$3000,6,FALSE))","v":""},null,null,"",{"$f":"IF(G370=\"\",\"\",VLOOKUP(G370,種目名!$R$5:$T$104,3,0))","v":""},{"$f":"IF(J370=\"\",\"\",VLOOKUP(J370,種目名!$R$5:$T$104,3,0))","v":""},{"$f":"IF(M370=\"\",\"\",VLOOKUP(M370,種目名!$R$5:$T$104,3,0))","v":""},{"$f":"IF(P370=\"\",\"\",VLOOKUP(AF370,種目名!$R$5:$T$104,3,0))","v":""},{"$f":"IF(S370=\"\",\"\",VLOOKUP(AI370,種目名!$R$5:$T$104,3,0))","v":""},0,"","",0,"",""]
[{"$f":"IF(C371=\"\",\"\",A370+1)","v":""},null,{"$f":"IF(B371=\"\",\"\",VLOOKUP(B371,学連登録!$C$2:$G$3000,2,FALSE))","v":""},{"$f":"IF(B371=\"\",\"\",VLOOKUP(B371,学連登録!$C$2:$G$3000,3,FALSE))","v":""},{"$f":"IF(B371=\"\",\"\",VLOOKUP(B371,学連登録!$C$2:$G$3000,4,FALSE))","v":""},"",null,null,null,null,null,null,null,null,null,null,null,null,null,null,null,{"$f":"IF(B371=\"\",\"\",VLOOKUP(B371,学連登録!$C$2:$H$3000,6,FALSE))","v":""},null,null,"",{"$f":"IF(G371=\"\",\"\",VLOOKUP(G371,種目名!$R$5:$T$104,3,0))","v":""},{"$f":"IF(J371=\"\",\"\",VLOOKUP(J371,種目名!$R$5:$T$104,3,0))","v":""},{"$f":"IF(M371=\"\",\"\",VLOOKUP(M371,種目名!$R$5:$T$104,3,0))","v":""},{"$f":"IF(P371=\"\",\"\",VLOOKUP(AF371,種目名!$R$5:$T$104,3,0))","v":""},{"$f":"IF(S371=\"\",\"\",VLOOKUP(AI371,種目名!$R$5:$T$104,3,0))","v":""},0,"","",0,"",""]
["",null,{"$f":"IF(B372=\"\",\"\",VLOOKUP(B372,学連登録!$C$2:$G$3000,2,FALSE))","v":""},{"$f":"IF(B372=\"\",\"\",VLOOKUP(B372,学連登録!$C$2:$G$3000,3,FALSE))","v":""},{"$f":"IF(B372=\"\",\"\",VLOOKUP(B372,学連登録!$C$2:$G$3000,4,FALSE))","v":""},"",null,null,null,null,null,null,null,null,null,null,null,null,null,null,null,{"$f":"IF(B372=\"\",\"\",VLOOKUP(B372,学連登録!$C$2:$H$3000,6,FALSE))","v":""},null,null,"",{"$f":"IF(G372=\"\",\"\",VLOOKUP(G372,種目名!$R$5:$T$104,3,0))","v":""},{"$f":"IF(J372=\"\",\"\",VLOOKUP(J372,種目名!$R$5:$T$104,3,0))","v":""},{"$f":"IF(M372=\"\",\"\",VLOOKUP(M372,種目名!$R$5:$T$104,3,0))","v":""},{"$f":"IF(P372=\"\",\"\",VLOOKUP(AF372,種目名!$R$5:$T$104,3,0))","v":""},{"$f":"IF(S372=\"\",\"\",VLOOKUP(AI372,種目名!$R$5:$T$104,3,0))","v":""},0,"","",0,"",""]
["",null,{"$f":"IF(B373=\"\",\"\",VLOOKUP(B373,学連登録!$C$2:$G$3000,2,FALSE))","v":""},{"$f":"IF(B373=\"\",\"\",VLOOKUP(B373,学連登録!$C$2:$G$3000,3,FALSE))","v":""},{"$f":"IF(B373=\"\",\"\",VLOOKUP(B373,学連登録!$C$2:$G$3000,4,FALSE))","v":""},"",null,null,null,null,null,null,null,null,null,null,null,null,null,null,null,{"$f":"IF(B373=\"\",\"\",VLOOKUP(B373,学連登録!$C$2:$H$3000,6,FALSE))","v":""},null,null,"",{"$f":"IF(G373=\"\",\"\",VLOOKUP(G373,種目名!$R$5:$T$104,3,0))","v":""},{"$f":"IF(J373=\"\",\"\",VLOOKUP(J373,種目名!$R$5:$T$104,3,0))","v":""},{"$f":"IF(M373=\"\",\"\",VLOOKUP(M373,種目名!$R$5:$T$104,3,0))","v":""},{"$f":"IF(P373=\"\",\"\",VLOOKUP(AF373,種目名!$R$5:$T$104,3,0))","v":""},{"$f":"IF(S373=\"\",\"\",VLOOKUP(AI373,種目名!$R$5:$T$104,3,0))","v":""},0,"","",0,"",""]
["",null,{"$f":"IF(B374=\"\",\"\",VLOOKUP(B374,学連登録!$C$2:$G$3000,2,FALSE))","v":""},{"$f":"IF(B374=\"\",\"\",VLOOKUP(B374,学連登録!$C$2:$G$3000,3,FALSE))","v":""},{"$f":"IF(B374=\"\",\"\",VLOOKUP(B374,学連登録!$C$2:$G$3000,4,FALSE))","v":""},"",null,null,null,null,null,null,null,null,null,null,null,null,null,null,null,{"$f":"IF(B374=\"\",\"\",VLOOKUP(B374,学連登録!$C$2:$H$3000,6,FALSE))","v":""},null,null,"",{"$f":"IF(G374=\"\",\"\",VLOOKUP(G374,種目名!$R$5:$T$104,3,0))","v":""},{"$f":"IF(J374=\"\",\"\",VLOOKUP(J374,種目名!$R$5:$T$104,3,0))","v":""},{"$f":"IF(M374=\"\",\"\",VLOOKUP(M374,種目名!$R$5:$T$104,3,0))","v":""},{"$f":"IF(P374=\"\",\"\",VLOOKUP(AF374,種目名!$R$5:$T$104,3,0))","v":""},{"$f":"IF(S374=\"\",\"\",VLOOKUP(AI374,種目名!$R$5:$T$104,3,0))","v":""},0,"","",0,"",""]
["",null,{"$f":"IF(B375=\"\",\"\",VLOOKUP(B375,学連登録!$C$2:$G$3000,2,FALSE))","v":""},{"$f":"IF(B375=\"\",\"\",VLOOKUP(B375,学連登録!$C$2:$G$3000,3,FALSE))","v":""},{"$f":"IF(B375=\"\",\"\",VLOOKUP(B375,学連登録!$C$2:$G$3000,4,FALSE))","v":""},"",null,null,null,null,null,null,null,null,null,null,null,null,null,null,null,{"$f":"IF(B375=\"\",\"\",VLOOKUP(B375,学連登録!$C$2:$H$3000,6,FALSE))","v":""},null,null,"",{"$f":"IF(G375=\"\",\"\",VLOOKUP(G375,種目名!$R$5:$T$104,3,0))","v":""},{"$f":"IF(J375=\"\",\"\",VLOOKUP(J375,種目名!$R$5:$T$104,3,0))","v":""},{"$f":"IF(M375=\"\",\"\",VLOOKUP(M375,種目名!$R$5:$T$104,3,0))","v":""},{"$f":"IF(P375=\"\",\"\",VLOOKUP(AF375,種目名!$R$5:$T$104,3,0))","v":""},{"$f":"IF(S375=\"\",\"\",VLOOKUP(AI375,種目名!$R$5:$T$104,3,0))","v":""},0,"","",0,"",""]
["",null,{"$f":"IF(B376=\"\",\"\",VLOOKUP(B376,学連登録!$C$2:$G$3000,2,FALSE))","v":""},{"$f":"IF(B376=\"\",\"\",VLOOKUP(B376,学連登録!$C$2:$G$3000,3,FALSE))","v":""},{"$f":"IF(B376=\"\",\"\",VLOOKUP(B376,学連登録!$C$2:$G$3000,4,FALSE))","v":""},"",null,null,null,null,null,null,null,null,null,null,null,null,null,null,null,{"$f":"IF(B376=\"\",\"\",VLOOKUP(B376,学連登録!$C$2:$H$3000,6,FALSE))","v":""},null,null,"",{"$f":"IF(G376=\"\",\"\",VLOOKUP(G376,種目名!$R$5:$T$104,3,0))","v":""},{"$f":"IF(J376=\"\",\"\",VLOOKUP(J376,種目名!$R$5:$T$104,3,0))","v":""},{"$f":"IF(M376=\"\",\"\",VLOOKUP(M376,種目名!$R$5:$T$104,3,0))","v":""},{"$f":"IF(P376=\"\",\"\",VLOOKUP(AF376,種目名!$R$5:$T$104,3,0))","v":""},{"$f":"IF(S376=\"\",\"\",VLOOKUP(AI376,種目名!$R$5:$T$104,3,0))","v":""},0,"","",0,"",""]
["",null,{"$f":"IF(B377=\"\",\"\",VLOOKUP(B377,学連登録!$C$2:$G$3000,2,FALSE))","v":""},{"$f":"IF(B377=\"\",\"\",VLOOKUP(B377,学連登録!$C$2:$G$3000,3,FALSE))","v":""},{"$f":"IF(B377=\"\",\"\",VLOOKUP(B377,学連登録!$C$2:$G$3000,4,FALSE))","v":""},"",null,null,null,null,null,null,null,null,null,null,null,null,null,null,null,{"$f":"IF(B377=\"\",\"\",VLOOKUP(B377,学連登録!$C$2:$H$3000,6,FALSE))","v":""},null,null,"",{"$f":"IF(G377=\"\",\"\",VLOOKUP(G377,種目名!$R$5:$T$104,3,0))","v":""},{"$f":"IF(J377=\"\",\"\",VLOOKUP(J377,種目名!$R$5:$T$104,3,0))","v":""},{"$f":"IF(M377=\"\",\"\",VLOOKUP(M377,種目名!$R$5:$T$104,3,0))","v":""},{"$f":"IF(P377=\"\",\"\",VLOOKUP(AF377,種目名!$R$5:$T$104,3,0))","v":""},{"$f":"IF(S377=\"\",\"\",VLOOKUP(AI377,種目名!$R$5:$T$104,3,0))","v":""},0,"","",0,"",""]
["",null,{"$f":"IF(B378=\"\",\"\",VLOOKUP(B378,学連登録!$C$2:$G$3000,2,FALSE))","v":""},{"$f":"IF(B378=\"\",\"\",VLOOKUP(B378,学連登録!$C$2:$G$3000,3,FALSE))","v":""},{"$f":"IF(B378=\"\",\"\",VLOOKUP(B378,学連登録!$C$2:$G$3000,4,FALSE))","v":""},"",null,null,null,null,null,null,null,null,null,null,null,null,null,null,null,{"$f":"IF(B378=\"\",\"\",VLOOKUP(B378,学連登録!$C$2:$H$3000,6,FALSE))","v":""},null,null,"",{"$f":"IF(G378=\"\",\"\",VLOOKUP(G378,種目名!$R$5:$T$104,3,0))","v":""},{"$f":"IF(J378=\"\",\"\",VLOOKUP(J378,種目名!$R$5:$T$104,3,0))","v":""},{"$f":"IF(M378=\"\",\"\",VLOOKUP(M378,種目名!$R$5:$T$104,3,0))","v":""},{"$f":"IF(P378=\"\",\"\",VLOOKUP(AF378,種目名!$R$5:$T$104,3,0))","v":""},{"$f":"IF(S378=\"\",\"\",VLOOKUP(AI378,種目名!$R$5:$T$104,3,0))","v":""},0,"","",0,"",""]
["",null,{"$f":"IF(B379=\"\",\"\",VLOOKUP(B379,学連登録!$C$2:$G$3000,2,FALSE))","v":""},{"$f":"IF(B379=\"\",\"\",VLOOKUP(B379,学連登録!$C$2:$G$3000,3,FALSE))","v":""},{"$f":"IF(B379=\"\",\"\",VLOOKUP(B379,学連登録!$C$2:$G$3000,4,FALSE))","v":""},"",null,null,null,null,null,null,null,null,null,null,null,null,null,null,null,{"$f":"IF(B379=\"\",\"\",VLOOKUP(B379,学連登録!$C$2:$H$3000,6,FALSE))","v":""},null,null,"",{"$f":"IF(G379=\"\",\"\",VLOOKUP(G379,種目名!$R$5:$T$104,3,0))","v":""},{"$f":"IF(J379=\"\",\"\",VLOOKUP(J379,種目名!$R$5:$T$104,3,0))","v":""},{"$f":"IF(M379=\"\",\"\",VLOOKUP(M379,種目名!$R$5:$T$104,3,0))","v":""},{"$f":"IF(P379=\"\",\"\",VLOOKUP(AF379,種目名!$R$5:$T$104,3,0))","v":""},{"$f":"IF(S379=\"\",\"\",VLOOKUP(AI379,種目名!$R$5:$T$104,3,0))","v":""},0,"","",0,"",""]
["",null,{"$f":"IF(B380=\"\",\"\",VLOOKUP(B380,学連登録!$C$2:$G$3000,2,FALSE))","v":""},{"$f":"IF(B380=\"\",\"\",VLOOKUP(B380,学連登録!$C$2:$G$3000,3,FALSE))","v":""},{"$f":"IF(B380=\"\",\"\",VLOOKUP(B380,学連登録!$C$2:$G$3000,4,FALSE))","v":""},"",null,null,null,null,null,null,null,null,null,null,null,null,null,null,null,{"$f":"IF(B380=\"\",\"\",VLOOKUP(B380,学連登録!$C$2:$H$3000,6,FALSE))","v":""},null,null,"",{"$f":"IF(G380=\"\",\"\",VLOOKUP(G380,種目名!$R$5:$T$104,3,0))","v":""},{"$f":"IF(J380=\"\",\"\",VLOOKUP(J380,種目名!$R$5:$T$104,3,0))","v":""},{"$f":"IF(M380=\"\",\"\",VLOOKUP(M380,種目名!$R$5:$T$104,3,0))","v":""},{"$f":"IF(P380=\"\",\"\",VLOOKUP(AF380,種目名!$R$5:$T$104,3,0))","v":""},{"$f":"IF(S380=\"\",\"\",VLOOKUP(AI380,種目名!$R$5:$T$104,3,0))","v":""},0,"","",0,"",""]
["",null,{"$f":"IF(B381=\"\",\"\",VLOOKUP(B381,学連登録!$C$2:$G$3000,2,FALSE))","v":""},{"$f":"IF(B381=\"\",\"\",VLOOKUP(B381,学連登録!$C$2:$G$3000,3,FALSE))","v":""},{"$f":"IF(B381=\"\",\"\",VLOOKUP(B381,学連登録!$C$2:$G$3000,4,FALSE))","v":""},"",null,null,null,null,null,null,null,null,null,null,null,null,null,null,null,{"$f":"IF(B381=\"\",\"\",VLOOKUP(B381,学連登録!$C$2:$H$3000,6,FALSE))","v":""},null,null,"",{"$f":"IF(G381=\"\",\"\",VLOOKUP(G381,種目名!$R$5:$T$104,3,0))","v":""},{"$f":"IF(J381=\"\",\"\",VLOOKUP(J381,種目名!$R$5:$T$104,3,0))","v":""},{"$f":"IF(M381=\"\",\"\",VLOOKUP(M381,種目名!$R$5:$T$104,3,0))","v":""},{"$f":"IF(P381=\"\",\"\",VLOOKUP(AF381,種目名!$R$5:$T$104,3,0))","v":""},{"$f":"IF(S381=\"\",\"\",VLOOKUP(AI381,種目名!$R$5:$T$104,3,0))","v":""},0,"","",0,"",""]
["",null,{"$f":"IF(B382=\"\",\"\",VLOOKUP(B382,学連登録!$C$2:$G$3000,2,FALSE))","v":""},{"$f":"IF(B382=\"\",\"\",VLOOKUP(B382,学連登録!$C$2:$G$3000,3,FALSE))","v":""},{"$f":"IF(B382=\"\",\"\",VLOOKUP(B382,学連登録!$C$2:$G$3000,4,FALSE))","v":""},"",null,null,null,null,null,null,null,null,null,null,null,null,null,null,null,{"$f":"IF(B382=\"\",\"\",VLOOKUP(B382,学連登録!$C$2:$H$3000,6,FALSE))","v":""},null,null,"",{"$f":"IF(G382=\"\",\"\",VLOOKUP(G382,種目名!$R$5:$T$104,3,0))","v":""},{"$f":"IF(J382=\"\",\"\",VLOOKUP(J382,種目名!$R$5:$T$104,3,0))","v":""},{"$f":"IF(M382=\"\",\"\",VLOOKUP(M382,種目名!$R$5:$T$104,3,0))","v":""},{"$f":"IF(P382=\"\",\"\",VLOOKUP(AF382,種目名!$R$5:$T$104,3,0))","v":""},{"$f":"IF(S382=\"\",\"\",VLOOKUP(AI382,種目名!$R$5:$T$104,3,0))","v":""},0,"","",0,"",""]
["",null,{"$f":"IF(B383=\"\",\"\",VLOOKUP(B383,学連登録!$C$2:$G$3000,2,FALSE))","v":""},{"$f":"IF(B383=\"\",\"\",VLOOKUP(B383,学連登録!$C$2:$G$3000,3,FALSE))","v":""},{"$f":"IF(B383=\"\",\"\",VLOOKUP(B383,学連登録!$C$2:$G$3000,4,FALSE))","v":""},"",null,null,null,null,null,null,null,null,null,null,null,null,null,null,null,{"$f":"IF(B383=\"\",\"\",VLOOKUP(B383,学連登録!$C$2:$H$3000,6,FALSE))","v":""},null,null,"",{"$f":"IF(G383=\"\",\"\",VLOOKUP(G383,種目名!$R$5:$T$104,3,0))","v":""},{"$f":"IF(J383=\"\",\"\",VLOOKUP(J383,種目名!$R$5:$T$104,3,0))","v":""},{"$f":"IF(M383=\"\",\"\",VLOOKUP(M383,種目名!$R$5:$T$104,3,0))","v":""},{"$f":"IF(P383=\"\",\"\",VLOOKUP(AF383,種目名!$R$5:$T$104,3,0))","v":""},{"$f":"IF(S383=\"\",\"\",VLOOKUP(AI383,種目名!$R$5:$T$104,3,0))","v":""},0,"","",0,"",""]
["",null,{"$f":"IF(B384=\"\",\"\",VLOOKUP(B384,学連登録!$C$2:$G$3000,2,FALSE))","v":""},{"$f":"IF(B384=\"\",\"\",VLOOKUP(B384,学連登録!$C$2:$G$3000,3,FALSE))","v":""},{"$f":"IF(B384=\"\",\"\",VLOOKUP(B384,学連登録!$C$2:$G$3000,4,FALSE))","v":""},"",null,null,null,null,null,null,null,null,null,null,null,null,null,null,null,{"$f":"IF(B384=\"\",\"\",VLOOKUP(B384,学連登録!$C$2:$H$3000,6,FALSE))","v":""},null,null,"",{"$f":"IF(G384=\"\",\"\",VLOOKUP(G384,種目名!$R$5:$T$104,3,0))","v":""},{"$f":"IF(J384=\"\",\"\",VLOOKUP(J384,種目名!$R$5:$T$104,3,0))","v":""},{"$f":"IF(M384=\"\",\"\",VLOOKUP(M384,種目名!$R$5:$T$104,3,0))","v":""},{"$f":"IF(P384=\"\",\"\",VLOOKUP(AF384,種目名!$R$5:$T$104,3,0))","v":""},{"$f":"IF(S384=\"\",\"\",VLOOKUP(AI384,種目名!$R$5:$T$104,3,0))","v":""},0,"","",0,"",""]
["",null,{"$f":"IF(B385=\"\",\"\",VLOOKUP(B385,学連登録!$C$2:$G$3000,2,FALSE))","v":""},{"$f":"IF(B385=\"\",\"\",VLOOKUP(B385,学連登録!$C$2:$G$3000,3,FALSE))","v":""},{"$f":"IF(B385=\"\",\"\",VLOOKUP(B385,学連登録!$C$2:$G$3000,4,FALSE))","v":""},"",null,null,null,null,null,null,null,null,null,null,null,null,null,null,null,{"$f":"IF(B385=\"\",\"\",VLOOKUP(B385,学連登録!$C$2:$H$3000,6,FALSE))","v":""},null,null,"",{"$f":"IF(G385=\"\",\"\",VLOOKUP(G385,種目名!$R$5:$T$104,3,0))","v":""},{"$f":"IF(J385=\"\",\"\",VLOOKUP(J385,種目名!$R$5:$T$104,3,0))","v":""},{"$f":"IF(M385=\"\",\"\",VLOOKUP(M385,種目名!$R$5:$T$104,3,0))","v":""},{"$f":"IF(P385=\"\",\"\",VLOOKUP(AF385,種目名!$R$5:$T$104,3,0))","v":""},{"$f":"IF(S385=\"\",\"\",VLOOKUP(AI385,種目名!$R$5:$T$104,3,0))","v":""},0,"","",0,"",""]
["",null,{"$f":"IF(B386=\"\",\"\",VLOOKUP(B386,学連登録!$C$2:$G$3000,2,FALSE))","v":""},{"$f":"IF(B386=\"\",\"\",VLOOKUP(B386,学連登録!$C$2:$G$3000,3,FALSE))","v":""},{"$f":"IF(B386=\"\",\"\",VLOOKUP(B386,学連登録!$C$2:$G$3000,4,FALSE))","v":""},"",null,null,null,null,null,null,null,null,null,null,null,null,null,null,null,{"$f":"IF(B386=\"\",\"\",VLOOKUP(B386,学連登録!$C$2:$H$3000,6,FALSE))","v":""},null,null,"",{"$f":"IF(G386=\"\",\"\",VLOOKUP(G386,種目名!$R$5:$T$104,3,0))","v":""},{"$f":"IF(J386=\"\",\"\",VLOOKUP(J386,種目名!$R$5:$T$104,3,0))","v":""},{"$f":"IF(M386=\"\",\"\",VLOOKUP(M386,種目名!$R$5:$T$104,3,0))","v":""},{"$f":"IF(P386=\"\",\"\",VLOOKUP(AF386,種目名!$R$5:$T$104,3,0))","v":""},{"$f":"IF(S386=\"\",\"\",VLOOKUP(AI386,種目名!$R$5:$T$104,3,0))","v":""},0,"","",0,"",""]
["",null,{"$f":"IF(B387=\"\",\"\",VLOOKUP(B387,学連登録!$C$2:$G$3000,2,FALSE))","v":""},{"$f":"IF(B387=\"\",\"\",VLOOKUP(B387,学連登録!$C$2:$G$3000,3,FALSE))","v":""},{"$f":"IF(B387=\"\",\"\",VLOOKUP(B387,学連登録!$C$2:$G$3000,4,FALSE))","v":""},"",null,null,null,null,null,null,null,null,null,null,null,null,null,null,null,{"$f":"IF(B387=\"\",\"\",VLOOKUP(B387,学連登録!$C$2:$H$3000,6,FALSE))","v":""},null,null,"",{"$f":"IF(G387=\"\",\"\",VLOOKUP(G387,種目名!$R$5:$T$104,3,0))","v":""},{"$f":"IF(J387=\"\",\"\",VLOOKUP(J387,種目名!$R$5:$T$104,3,0))","v":""},{"$f":"IF(M387=\"\",\"\",VLOOKUP(M387,種目名!$R$5:$T$104,3,0))","v":""},{"$f":"IF(P387=\"\",\"\",VLOOKUP(AF387,種目名!$R$5:$T$104,3,0))","v":""},{"$f":"IF(S387=\"\",\"\",VLOOKUP(AI387,種目名!$R$5:$T$104,3,0))","v":""},0,"","",0,"",""]
["",null,{"$f":"IF(B388=\"\",\"\",VLOOKUP(B388,学連登録!$C$2:$G$3000,2,FALSE))","v":""},{"$f":"IF(B388=\"\",\"\",VLOOKUP(B388,学連登録!$C$2:$G$3000,3,FALSE))","v":""},{"$f":"IF(B388=\"\",\"\",VLOOKUP(B388,学連登録!$C$2:$G$3000,4,FALSE))","v":""},"",null,null,null,null,null,null,null,null,null,null,null,null,null,null,null,{"$f":"IF(B388=\"\",\"\",VLOOKUP(B388,学連登録!$C$2:$H$3000,6,FALSE))","v":""},null,null,"",{"$f":"IF(G388=\"\",\"\",VLOOKUP(G388,種目名!$R$5:$T$104,3,0))","v":""},{"$f":"IF(J388=\"\",\"\",VLOOKUP(J388,種目名!$R$5:$T$104,3,0))","v":""},{"$f":"IF(M388=\"\",\"\",VLOOKUP(M388,種目名!$R$5:$T$104,3,0))","v":""},{"$f":"IF(P388=\"\",\"\",VLOOKUP(AF388,種目名!$R$5:$T$104,3,0))","v":""},{"$f":"IF(S388=\"\",\"\",VLOOKUP(AI388,種目名!$R$5:$T$104,3,0))","v":""},0,"","",0,"",""]
["",null,{"$f":"IF(B389=\"\",\"\",VLOOKUP(B389,学連登録!$C$2:$G$3000,2,FALSE))","v":""},{"$f":"IF(B389=\"\",\"\",VLOOKUP(B389,学連登録!$C$2:$G$3000,3,FALSE))","v":""},{"$f":"IF(B389=\"\",\"\",VLOOKUP(B389,学連登録!$C$2:$G$3000,4,FALSE))","v":""},"",null,null,null,null,null,null,null,null,null,null,null,null,null,null,null,{"$f":"IF(B389=\"\",\"\",VLOOKUP(B389,学連登録!$C$2:$H$3000,6,FALSE))","v":""},null,null,"",{"$f":"IF(G389=\"\",\"\",VLOOKUP(G389,種目名!$R$5:$T$104,3,0))","v":""},{"$f":"IF(J389=\"\",\"\",VLOOKUP(J389,種目名!$R$5:$T$104,3,0))","v":""},{"$f":"IF(M389=\"\",\"\",VLOOKUP(M389,種目名!$R$5:$T$104,3,0))","v":""},{"$f":"IF(P389=\"\",\"\",VLOOKUP(AF389,種目名!$R$5:$T$104,3,0))","v":""},{"$f":"IF(S389=\"\",\"\",VLOOKUP(AI389,種目名!$R$5:$T$104,3,0))","v":""},0,"","",0,"",""]
["",null,{"$f":"IF(B390=\"\",\"\",VLOOKUP(B390,学連登録!$C$2:$G$3000,2,FALSE))","v":""},{"$f":"IF(B390=\"\",\"\",VLOOKUP(B390,学連登録!$C$2:$G$3000,3,FALSE))","v":""},{"$f":"IF(B390=\"\",\"\",VLOOKUP(B390,学連登録!$C$2:$G$3000,4,FALSE))","v":""},"",null,null,null,null,null,null,null,null,null,null,null,null,null,null,null,{"$f":"IF(B390=\"\",\"\",VLOOKUP(B390,学連登録!$C$2:$H$3000,6,FALSE))","v":""},null,null,"",{"$f":"IF(G390=\"\",\"\",VLOOKUP(G390,種目名!$R$5:$T$104,3,0))","v":""},{"$f":"IF(J390=\"\",\"\",VLOOKUP(J390,種目名!$R$5:$T$104,3,0))","v":""},{"$f":"IF(M390=\"\",\"\",VLOOKUP(M390,種目名!$R$5:$T$104,3,0))","v":""},{"$f":"IF(P390=\"\",\"\",VLOOKUP(AF390,種目名!$R$5:$T$104,3,0))","v":""},{"$f":"IF(S390=\"\",\"\",VLOOKUP(AI390,種目名!$R$5:$T$104,3,0))","v":""},0,"","",0,"",""]
["",null,{"$f":"IF(B391=\"\",\"\",VLOOKUP(B391,学連登録!$C$2:$G$3000,2,FALSE))","v":""},{"$f":"IF(B391=\"\",\"\",VLOOKUP(B391,学連登録!$C$2:$G$3000,3,FALSE))","v":""},{"$f":"IF(B391=\"\",\"\",VLOOKUP(B391,学連登録!$C$2:$G$3000,4,FALSE))","v":""},"",null,null,null,null,null,null,null,null,null,null,null,null,null,null,null,{"$f":"IF(B391=\"\",\"\",VLOOKUP(B391,学連登録!$C$2:$H$3000,6,FALSE))","v":""},null,null,"",{"$f":"IF(G391=\"\",\"\",VLOOKUP(G391,種目名!$R$5:$T$104,3,0))","v":""},{"$f":"IF(J391=\"\",\"\",VLOOKUP(J391,種目名!$R$5:$T$104,3,0))","v":""},{"$f":"IF(M391=\"\",\"\",VLOOKUP(M391,種目名!$R$5:$T$104,3,0))","v":""},{"$f":"IF(P391=\"\",\"\",VLOOKUP(AF391,種目名!$R$5:$T$104,3,0))","v":""},{"$f":"IF(S391=\"\",\"\",VLOOKUP(AI391,種目名!$R$5:$T$104,3,0))","v":""},0,"","",0,"",""]
["",null,{"$f":"IF(B392=\"\",\"\",VLOOKUP(B392,学連登録!$C$2:$G$3000,2,FALSE))","v":""},{"$f":"IF(B392=\"\",\"\",VLOOKUP(B392,学連登録!$C$2:$G$3000,3,FALSE))","v":""},{"$f":"IF(B392=\"\",\"\",VLOOKUP(B392,学連登録!$C$2:$G$3000,4,FALSE))","v":""},"",null,null,null,null,null,null,null,null,null,null,null,null,null,null,null,{"$f":"IF(B392=\"\",\"\",VLOOKUP(B392,学連登録!$C$2:$H$3000,6,FALSE))","v":""},null,null,"",{"$f":"IF(G392=\"\",\"\",VLOOKUP(G392,種目名!$R$5:$T$104,3,0))","v":""},{"$f":"IF(J392=\"\",\"\",VLOOKUP(J392,種目名!$R$5:$T$104,3,0))","v":""},{"$f":"IF(M392=\"\",\"\",VLOOKUP(M392,種目名!$R$5:$T$104,3,0))","v":""},{"$f":"IF(P392=\"\",\"\",VLOOKUP(AF392,種目名!$R$5:$T$104,3,0))","v":""},{"$f":"IF(S392=\"\",\"\",VLOOKUP(AI392,種目名!$R$5:$T$104,3,0))","v":""},0,"","",0,"",""]
["",null,{"$f":"IF(B393=\"\",\"\",VLOOKUP(B393,学連登録!$C$2:$G$3000,2,FALSE))","v":""},{"$f":"IF(B393=\"\",\"\",VLOOKUP(B393,学連登録!$C$2:$G$3000,3,FALSE))","v":""},{"$f":"IF(B393=\"\",\"\",VLOOKUP(B393,学連登録!$C$2:$G$3000,4,FALSE))","v":""},"",null,null,null,null,null,null,null,null,null,null,null,null,null,null,null,{"$f":"IF(B393=\"\",\"\",VLOOKUP(B393,学連登録!$C$2:$H$3000,6,FALSE))","v":""},null,null,"",{"$f":"IF(G393=\"\",\"\",VLOOKUP(G393,種目名!$R$5:$T$104,3,0))","v":""},{"$f":"IF(J393=\"\",\"\",VLOOKUP(J393,種目名!$R$5:$T$104,3,0))","v":""},{"$f":"IF(M393=\"\",\"\",VLOOKUP(M393,種目名!$R$5:$T$104,3,0))","v":""},{"$f":"IF(P393=\"\",\"\",VLOOKUP(AF393,種目名!$R$5:$T$104,3,0))","v":""},{"$f":"IF(S393=\"\",\"\",VLOOKUP(AI393,種目名!$R$5:$T$104,3,0))","v":""},0,"","",0,"",""]
["",null,{"$f":"IF(B394=\"\",\"\",VLOOKUP(B394,学連登録!$C$2:$G$3000,2,FALSE))","v":""},{"$f":"IF(B394=\"\",\"\",VLOOKUP(B394,学連登録!$C$2:$G$3000,3,FALSE))","v":""},{"$f":"IF(B394=\"\",\"\",VLOOKUP(B394,学連登録!$C$2:$G$3000,4,FALSE))","v":""},"",null,null,null,null,null,null,null,null,null,null,null,null,null,null,null,{"$f":"IF(B394=\"\",\"\",VLOOKUP(B394,学連登録!$C$2:$H$3000,6,FALSE))","v":""},null,null,"",{"$f":"IF(G394=\"\",\"\",VLOOKUP(G394,種目名!$R$5:$T$104,3,0))","v":""},{"$f":"IF(J394=\"\",\"\",VLOOKUP(J394,種目名!$R$5:$T$104,3,0))","v":""},{"$f":"IF(M394=\"\",\"\",VLOOKUP(M394,種目名!$R$5:$T$104,3,0))","v":""},{"$f":"IF(P394=\"\",\"\",VLOOKUP(AF394,種目名!$R$5:$T$104,3,0))","v":""},{"$f":"IF(S394=\"\",\"\",VLOOKUP(AI394,種目名!$R$5:$T$104,3,0))","v":""},0,"","",0,"",""]
["",null,{"$f":"IF(B395=\"\",\"\",VLOOKUP(B395,学連登録!$C$2:$G$3000,2,FALSE))","v":""},{"$f":"IF(B395=\"\",\"\",VLOOKUP(B395,学連登録!$C$2:$G$3000,3,FALSE))","v":""},{"$f":"IF(B395=\"\",\"\",VLOOKUP(B395,学連登録!$C$2:$G$3000,4,FALSE))","v":""},"",null,null,null,null,null,null,null,null,null,null,null,null,null,null,null,{"$f":"IF(B395=\"\",\"\",VLOOKUP(B395,学連登録!$C$2:$H$3000,6,FALSE))","v":""},null,null,"",{"$f":"IF(G395=\"\",\"\",VLOOKUP(G395,種目名!$R$5:$T$104,3,0))","v":""},{"$f":"IF(J395=\"\",\"\",VLOOKUP(J395,種目名!$R$5:$T$104,3,0))","v":""},{"$f":"IF(M395=\"\",\"\",VLOOKUP(M395,種目名!$R$5:$T$104,3,0))","v":""},{"$f":"IF(P395=\"\",\"\",VLOOKUP(AF395,種目名!$R$5:$T$104,3,0))","v":""},{"$f":"IF(S395=\"\",\"\",VLOOKUP(AI395,種目名!$R$5:$T$104,3,0))","v":""},0,"","",0,"",""]
["",null,{"$f":"IF(B396=\"\",\"\",VLOOKUP(B396,学連登録!$C$2:$G$3000,2,FALSE))","v":""},{"$f":"IF(B396=\"\",\"\",VLOOKUP(B396,学連登録!$C$2:$G$3000,3,FALSE))","v":""},{"$f":"IF(B396=\"\",\"\",VLOOKUP(B396,学連登録!$C$2:$G$3000,4,FALSE))","v":""},"",null,null,null,null,null,null,null,null,null,null,null,null,null,null,null,{"$f":"IF(B396=\"\",\"\",VLOOKUP(B396,学連登録!$C$2:$H$3000,6,FALSE))","v":""},null,null,"",{"$f":"IF(G396=\"\",\"\",VLOOKUP(G396,種目名!$R$5:$T$104,3,0))","v":""},{"$f":"IF(J396=\"\",\"\",VLOOKUP(J396,種目名!$R$5:$T$104,3,0))","v":""},{"$f":"IF(M396=\"\",\"\",VLOOKUP(M396,種目名!$R$5:$T$104,3,0))","v":""},{"$f":"IF(P396=\"\",\"\",VLOOKUP(AF396,種目名!$R$5:$T$104,3,0))","v":""},{"$f":"IF(S396=\"\",\"\",VLOOKUP(AI396,種目名!$R$5:$T$104,3,0))","v":""},0,"","",0,"",""]
["",null,{"$f":"IF(B397=\"\",\"\",VLOOKUP(B397,学連登録!$C$2:$G$3000,2,FALSE))","v":""},{"$f":"IF(B397=\"\",\"\",VLOOKUP(B397,学連登録!$C$2:$G$3000,3,FALSE))","v":""},{"$f":"IF(B397=\"\",\"\",VLOOKUP(B397,学連登録!$C$2:$G$3000,4,FALSE))","v":""},{"$f":"IF(C397=\"\",\"\",$P$1)","v":""},null,null,null,null,null,null,null,null,null,null,null,null,null,null,null,{"$f":"IF(B397=\"\",\"\",VLOOKUP(B397,学連登録!$C$2:$H$3000,6,FALSE))","v":""},null,null,"",{"$f":"IF(G397=\"\",\"\",VLOOKUP(G397,種目名!$R$5:$T$104,3,0))","v":""},{"$f":"IF(J397=\"\",\"\",VLOOKUP(J397,種目名!$R$5:$T$104,3,0))","v":""},{"$f":"IF(M397=\"\",\"\",VLOOKUP(M397,種目名!$R$5:$T$104,3,0))","v":""},{"$f":"IF(P397=\"\",\"\",VLOOKUP(AF397,種目名!$R$5:$T$104,3,0))","v":""},{"$f":"IF(S397=\"\",\"\",VLOOKUP(AI397,種目名!$R$5:$T$104,3,0))","v":""},0,"","",0,"",""]
["",null,{"$f":"IF(B398=\"\",\"\",VLOOKUP(B398,学連登録!$C$2:$G$3000,2,FALSE))","v":""},{"$f":"IF(B398=\"\",\"\",VLOOKUP(B398,学連登録!$C$2:$G$3000,3,FALSE))","v":""},{"$f":"IF(B398=\"\",\"\",VLOOKUP(B398,学連登録!$C$2:$G$3000,4,FALSE))","v":""},"",null,null,null,null,null,null,null,null,null,null,null,null,null,null,null,{"$f":"IF(B398=\"\",\"\",VLOOKUP(B398,学連登録!$C$2:$H$3000,6,FALSE))","v":""},null,null,"",{"$f":"IF(G398=\"\",\"\",VLOOKUP(G398,種目名!$R$5:$T$104,3,0))","v":""},{"$f":"IF(J398=\"\",\"\",VLOOKUP(J398,種目名!$R$5:$T$104,3,0))","v":""},{"$f":"IF(M398=\"\",\"\",VLOOKUP(M398,種目名!$R$5:$T$104,3,0))","v":""},{"$f":"IF(P398=\"\",\"\",VLOOKUP(AF398,種目名!$R$5:$T$104,3,0))","v":""},{"$f":"IF(S398=\"\",\"\",VLOOKUP(AI398,種目名!$R$5:$T$104,3,0))","v":""},0,"","",0,"",""]
["",null,{"$f":"IF(B399=\"\",\"\",VLOOKUP(B399,学連登録!$C$2:$G$3000,2,FALSE))","v":""},{"$f":"IF(B399=\"\",\"\",VLOOKUP(B399,学連登録!$C$2:$G$3000,3,FALSE))","v":""},{"$f":"IF(B399=\"\",\"\",VLOOKUP(B399,学連登録!$C$2:$G$3000,4,FALSE))","v":""},"",null,null,null,null,null,null,null,null,null,null,null,null,null,null,null,{"$f":"IF(B399=\"\",\"\",VLOOKUP(B399,学連登録!$C$2:$H$3000,6,FALSE))","v":""},null,null,"",{"$f":"IF(G399=\"\",\"\",VLOOKUP(G399,種目名!$R$5:$T$104,3,0))","v":""},{"$f":"IF(J399=\"\",\"\",VLOOKUP(J399,種目名!$R$5:$T$104,3,0))","v":""},{"$f":"IF(M399=\"\",\"\",VLOOKUP(M399,種目名!$R$5:$T$104,3,0))","v":""},{"$f":"IF(P399=\"\",\"\",VLOOKUP(AF399,種目名!$R$5:$T$104,3,0))","v":""},{"$f":"IF(S399=\"\",\"\",VLOOKUP(AI399,種目名!$R$5:$T$104,3,0))","v":""},0,"","",0,"",""]
["",null,{"$f":"IF(B400=\"\",\"\",VLOOKUP(B400,学連登録!$C$2:$G$3000,2,FALSE))","v":""},{"$f":"IF(B400=\"\",\"\",VLOOKUP(B400,学連登録!$C$2:$G$3000,3,FALSE))","v":""},{"$f":"IF(B400=\"\",\"\",VLOOKUP(B400,学連登録!$C$2:$G$3000,4,FALSE))","v":""},"",null,null,null,null,null,null,null,null,null,null,null,null,null,null,null,{"$f":"IF(B400=\"\",\"\",VLOOKUP(B400,学連登録!$C$2:$H$3000,6,FALSE))","v":""},null,null,"",{"$f":"IF(G400=\"\",\"\",VLOOKUP(G400,種目名!$R$5:$T$104,3,0))","v":""},{"$f":"IF(J400=\"\",\"\",VLOOKUP(J400,種目名!$R$5:$T$104,3,0))","v":""},{"$f":"IF(M400=\"\",\"\",VLOOKUP(M400,種目名!$R$5:$T$104,3,0))","v":""},{"$f":"IF(P400=\"\",\"\",VLOOKUP(AF400,種目名!$R$5:$T$104,3,0))","v":""},{"$f":"IF(S400=\"\",\"\",VLOOKUP(AI400,種目名!$R$5:$T$104,3,0))","v":""},0,"","",0,"",""]
["",null,{"$f":"IF(B401=\"\",\"\",VLOOKUP(B401,学連登録!$C$2:$G$3000,2,FALSE))","v":""},{"$f":"IF(B401=\"\",\"\",VLOOKUP(B401,学連登録!$C$2:$G$3000,3,FALSE))","v":""},{"$f":"IF(B401=\"\",\"\",VLOOKUP(B401,学連登録!$C$2:$G$3000,4,FALSE))","v":""},"",null,null,null,null,null,null,null,null,null,null,null,null,null,null,null,{"$f":"IF(B401=\"\",\"\",VLOOKUP(B401,学連登録!$C$2:$H$3000,6,FALSE))","v":""},null,null,"",{"$f":"IF(G401=\"\",\"\",VLOOKUP(G401,種目名!$R$5:$T$104,3,0))","v":""},{"$f":"IF(J401=\"\",\"\",VLOOKUP(J401,種目名!$R$5:$T$104,3,0))","v":""},{"$f":"IF(M401=\"\",\"\",VLOOKUP(M401,種目名!$R$5:$T$104,3,0))","v":""},{"$f":"IF(P401=\"\",\"\",VLOOKUP(AF401,種目名!$R$5:$T$104,3,0))","v":""},{"$f":"IF(S401=\"\",\"\",VLOOKUP(AI401,種目名!$R$5:$T$104,3,0))","v":""},0,"","",0,"",""]
["",null,{"$f":"IF(B402=\"\",\"\",VLOOKUP(B402,学連登録!$C$2:$G$3000,2,FALSE))","v":""},{"$f":"IF(B402=\"\",\"\",VLOOKUP(B402,学連登録!$C$2:$G$3000,3,FALSE))","v":""},{"$f":"IF(B402=\"\",\"\",VLOOKUP(B402,学連登録!$C$2:$G$3000,4,FALSE))","v":""},"",null,null,null,null,null,null,null,null,null,null,null,null,null,null,null,{"$f":"IF(B402=\"\",\"\",VLOOKUP(B402,学連登録!$C$2:$H$3000,6,FALSE))","v":""},null,null,"",{"$f":"IF(G402=\"\",\"\",VLOOKUP(G402,種目名!$R$5:$T$104,3,0))","v":""},{"$f":"IF(J402=\"\",\"\",VLOOKUP(J402,種目名!$R$5:$T$104,3,0))","v":""},{"$f":"IF(M402=\"\",\"\",VLOOKUP(M402,種目名!$R$5:$T$104,3,0))","v":""},{"$f":"IF(P402=\"\",\"\",VLOOKUP(AF402,種目名!$R$5:$T$104,3,0))","v":""},{"$f":"IF(S402=\"\",\"\",VLOOKUP(AI402,種目名!$R$5:$T$104,3,0))","v":""},0,"","",0,"",""]
["",null,{"$f":"IF(B403=\"\",\"\",VLOOKUP(B403,学連登録!$C$2:$G$3000,2,FALSE))","v":""},{"$f":"IF(B403=\"\",\"\",VLOOKUP(B403,学連登録!$C$2:$G$3000,3,FALSE))","v":""},{"$f":"IF(B403=\"\",\"\",VLOOKUP(B403,学連登録!$C$2:$G$3000,4,FALSE))","v":""},"",null,null,null,null,null,null,null,null,null,null,null,null,null,null,null,{"$f":"IF(B403=\"\",\"\",VLOOKUP(B403,学連登録!$C$2:$H$3000,6,FALSE))","v":""},null,null,"",{"$f":"IF(G403=\"\",\"\",VLOOKUP(G403,種目名!$R$5:$T$104,3,0))","v":""},{"$f":"IF(J403=\"\",\"\",VLOOKUP(J403,種目名!$R$5:$T$104,3,0))","v":""},{"$f":"IF(M403=\"\",\"\",VLOOKUP(M403,種目名!$R$5:$T$104,3,0))","v":""},{"$f":"IF(P403=\"\",\"\",VLOOKUP(AF403,種目名!$R$5:$T$104,3,0))","v":""},{"$f":"IF(S403=\"\",\"\",VLOOKUP(AI403,種目名!$R$5:$T$104,3,0))","v":""},0,"","",0,"",""]
["",null,{"$f":"IF(B404=\"\",\"\",VLOOKUP(B404,学連登録!$C$2:$G$3000,2,FALSE))","v":""},{"$f":"IF(B404=\"\",\"\",VLOOKUP(B404,学連登録!$C$2:$G$3000,3,FALSE))","v":""},{"$f":"IF(B404=\"\",\"\",VLOOKUP(B404,学連登録!$C$2:$G$3000,4,FALSE))","v":""},"",null,null,null,null,null,null,null,null,null,null,null,null,null,null,null,{"$f":"IF(B404=\"\",\"\",VLOOKUP(B404,学連登録!$C$2:$H$3000,6,FALSE))","v":""},null,null,"",{"$f":"IF(G404=\"\",\"\",VLOOKUP(G404,種目名!$R$5:$T$104,3,0))","v":""},{"$f":"IF(J404=\"\",\"\",VLOOKUP(J404,種目名!$R$5:$T$104,3,0))","v":""},{"$f":"IF(M404=\"\",\"\",VLOOKUP(M404,種目名!$R$5:$T$104,3,0))","v":""},{"$f":"IF(P404=\"\",\"\",VLOOKUP(AF404,種目名!$R$5:$T$104,3,0))","v":""},{"$f":"IF(S404=\"\",\"\",VLOOKUP(AI404,種目名!$R$5:$T$104,3,0))","v":""},0,"","",0,"",""]
["",null,{"$f":"IF(B405=\"\",\"\",VLOOKUP(B405,学連登録!$C$2:$G$3000,2,FALSE))","v":""},{"$f":"IF(B405=\"\",\"\",VLOOKUP(B405,学連登録!$C$2:$G$3000,3,FALSE))","v":""},{"$f":"IF(B405=\"\",\"\",VLOOKUP(B405,学連登録!$C$2:$G$3000,4,FALSE))","v":""},"",null,null,null,null,null,null,null,null,null,null,null,null,null,null,null,{"$f":"IF(B405=\"\",\"\",VLOOKUP(B405,学連登録!$C$2:$H$3000,6,FALSE))","v":""},null,null,"",{"$f":"IF(G405=\"\",\"\",VLOOKUP(G405,種目名!$R$5:$T$104,3,0))","v":""},{"$f":"IF(J405=\"\",\"\",VLOOKUP(J405,種目名!$R$5:$T$104,3,0))","v":""},{"$f":"IF(M405=\"\",\"\",VLOOKUP(M405,種目名!$R$5:$T$104,3,0))","v":""},{"$f":"IF(P405=\"\",\"\",VLOOKUP(AF405,種目名!$R$5:$T$104,3,0))","v":""},{"$f":"IF(S405=\"\",\"\",VLOOKUP(AI405,種目名!$R$5:$T$104,3,0))","v":""},0,"","",0,"",""]
["",null,{"$f":"IF(B406=\"\",\"\",VLOOKUP(B406,学連登録!$C$2:$G$3000,2,FALSE))","v":""},{"$f":"IF(B406=\"\",\"\",VLOOKUP(B406,学連登録!$C$2:$G$3000,3,FALSE))","v":""},{"$f":"IF(B406=\"\",\"\",VLOOKUP(B406,学連登録!$C$2:$G$3000,4,FALSE))","v":""},"",null,null,null,null,null,null,null,null,null,null,null,null,null,null,null,{"$f":"IF(B406=\"\",\"\",VLOOKUP(B406,学連登録!$C$2:$H$3000,6,FALSE))","v":""},null,null,{"$f":"IF(C406=\"\",\"\",$S$3)","v":""},{"$f":"IF(G406=\"\",\"\",VLOOKUP(G406,種目名!$R$5:$T$104,3,0))","v":""},{"$f":"IF(J406=\"\",\"\",VLOOKUP(J406,種目名!$R$5:$T$104,3,0))","v":""},{"$f":"IF(M406=\"\",\"\",VLOOKUP(M406,種目名!$R$5:$T$104,3,0))","v":""},{"$f":"IF(P406=\"\",\"\",VLOOKUP(AF406,種目名!$R$5:$T$104,3,0))","v":""},{"$f":"IF(S406=\"\",\"\",VLOOKUP(AI406,種目名!$R$5:$T$104,3,0))","v":""},{"$f":"LENB(P406)","v":0},{"$f":"IF(AE406,LEFTB(P406,AE406-1),\"\")","v":""},{"$f":"IF(AE406,MIDB(P406,AE406,1),\"\")","v":""},{"$f":"LENB(S406)","v":0},{"$f":"IF(AH406,LEFTB(S406,AH406-1),\"\")","v":""},{"$f":"IF(AH406,MIDB(S406,AH406,1),\"\")","v":""}]
["",null,{"$f":"IF(B407=\"\",\"\",VLOOKUP(B407,学連登録!$C$2:$G$3000,2,FALSE))","v":""},{"$f":"IF(B407=\"\",\"\",VLOOKUP(B407,学連登録!$C$2:$G$3000,3,FALSE))","v":""},{"$f":"IF(B407=\"\",\"\",VLOOKUP(B407,学連登録!$C$2:$G$3000,4,FALSE))","v":""},"",null,null,null,null,null,null,null,null,null,null,null,null,null,null,null,{"$f":"IF(B407=\"\",\"\",VLOOKUP(B407,学連登録!$C$2:$H$3000,6,FALSE))","v":""},null,null,"",{"$f":"IF(G407=\"\",\"\",VLOOKUP(G407,種目名!$R$5:$T$104,3,0))","v":""},{"$f":"IF(J407=\"\",\"\",VLOOKUP(J407,種目名!$R$5:$T$104,3,0))","v":""},{"$f":"IF(M407=\"\",\"\",VLOOKUP(M407,種目名!$R$5:$T$104,3,0))","v":""},{"$f":"IF(P407=\"\",\"\",VLOOKUP(AF407,種目名!$R$5:$T$104,3,0))","v":""},{"$f":"IF(S407=\"\",\"\",VLOOKUP(AI407,種目名!$R$5:$T$104,3,0))","v":""},0,"","",0,"",""]
["",null,{"$f":"IF(B408=\"\",\"\",VLOOKUP(B408,学連登録!$C$2:$G$3000,2,FALSE))","v":""},{"$f":"IF(B408=\"\",\"\",VLOOKUP(B408,学連登録!$C$2:$G$3000,3,FALSE))","v":""},{"$f":"IF(B408=\"\",\"\",VLOOKUP(B408,学連登録!$C$2:$G$3000,4,FALSE))","v":""},"",null,null,null,null,null,null,null,null,null,null,null,null,null,null,null,{"$f":"IF(B408=\"\",\"\",VLOOKUP(B408,学連登録!$C$2:$H$3000,6,FALSE))","v":""},null,null,"",{"$f":"IF(G408=\"\",\"\",VLOOKUP(G408,種目名!$R$5:$T$104,3,0))","v":""},{"$f":"IF(J408=\"\",\"\",VLOOKUP(J408,種目名!$R$5:$T$104,3,0))","v":""},{"$f":"IF(M408=\"\",\"\",VLOOKUP(M408,種目名!$R$5:$T$104,3,0))","v":""},{"$f":"IF(P408=\"\",\"\",VLOOKUP(AF408,種目名!$R$5:$T$104,3,0))","v":""},{"$f":"IF(S408=\"\",\"\",VLOOKUP(AI408,種目名!$R$5:$T$104,3,0))","v":""},0,"","",0,"",""]
["",null,{"$f":"IF(B409=\"\",\"\",VLOOKUP(B409,学連登録!$C$2:$G$3000,2,FALSE))","v":""},{"$f":"IF(B409=\"\",\"\",VLOOKUP(B409,学連登録!$C$2:$G$3000,3,FALSE))","v":""},{"$f":"IF(B409=\"\",\"\",VLOOKUP(B409,学連登録!$C$2:$G$3000,4,FALSE))","v":""},"",null,null,null,null,null,null,null,null,null,null,null,null,null,null,null,{"$f":"IF(B409=\"\",\"\",VLOOKUP(B409,学連登録!$C$2:$H$3000,6,FALSE))","v":""},null,null,"",{"$f":"IF(G409=\"\",\"\",VLOOKUP(G409,種目名!$R$5:$T$104,3,0))","v":""},{"$f":"IF(J409=\"\",\"\",VLOOKUP(J409,種目名!$R$5:$T$104,3,0))","v":""},{"$f":"IF(M409=\"\",\"\",VLOOKUP(M409,種目名!$R$5:$T$104,3,0))","v":""},{"$f":"IF(P409=\"\",\"\",VLOOKUP(AF409,種目名!$R$5:$T$104,3,0))","v":""},{"$f":"IF(S409=\"\",\"\",VLOOKUP(AI409,種目名!$R$5:$T$104,3,0))","v":""},0,"","",0,"",""]
["",null,{"$f":"IF(B410=\"\",\"\",VLOOKUP(B410,学連登録!$C$2:$G$3000,2,FALSE))","v":""},{"$f":"IF(B410=\"\",\"\",VLOOKUP(B410,学連登録!$C$2:$G$3000,3,FALSE))","v":""},{"$f":"IF(B410=\"\",\"\",VLOOKUP(B410,学連登録!$C$2:$G$3000,4,FALSE))","v":""},"",null,null,null,null,null,null,null,null,null,null,null,null,null,null,null,{"$f":"IF(B410=\"\",\"\",VLOOKUP(B410,学連登録!$C$2:$H$3000,6,FALSE))","v":""},null,null,"",{"$f":"IF(G410=\"\",\"\",VLOOKUP(G410,種目名!$R$5:$T$104,3,0))","v":""},{"$f":"IF(J410=\"\",\"\",VLOOKUP(J410,種目名!$R$5:$T$104,3,0))","v":""},{"$f":"IF(M410=\"\",\"\",VLOOKUP(M410,種目名!$R$5:$T$104,3,0))","v":""},{"$f":"IF(P410=\"\",\"\",VLOOKUP(AF410,種目名!$R$5:$T$104,3,0))","v":""},{"$f":"IF(S410=\"\",\"\",VLOOKUP(AI410,種目名!$R$5:$T$104,3,0))","v":""},0,"","",0,"",""]
["",null,{"$f":"IF(B411=\"\",\"\",VLOOKUP(B411,学連登録!$C$2:$G$3000,2,FALSE))","v":""},{"$f":"IF(B411=\"\",\"\",VLOOKUP(B411,学連登録!$C$2:$G$3000,3,FALSE))","v":""},{"$f":"IF(B411=\"\",\"\",VLOOKUP(B411,学連登録!$C$2:$G$3000,4,FALSE))","v":""},"",null,null,null,null,null,null,null,null,null,null,null,null,null,null,null,{"$f":"IF(B411=\"\",\"\",VLOOKUP(B411,学連登録!$C$2:$H$3000,6,FALSE))","v":""},null,null,"",{"$f":"IF(G411=\"\",\"\",VLOOKUP(G411,種目名!$R$5:$T$104,3,0))","v":""},{"$f":"IF(J411=\"\",\"\",VLOOKUP(J411,種目名!$R$5:$T$104,3,0))","v":""},{"$f":"IF(M411=\"\",\"\",VLOOKUP(M411,種目名!$R$5:$T$104,3,0))","v":""},{"$f":"IF(P411=\"\",\"\",VLOOKUP(AF411,種目名!$R$5:$T$104,3,0))","v":""},{"$f":"IF(S411=\"\",\"\",VLOOKUP(AI411,種目名!$R$5:$T$104,3,0))","v":""},0,"","",0,"",""]
["",null,{"$f":"IF(B412=\"\",\"\",VLOOKUP(B412,学連登録!$C$2:$G$3000,2,FALSE))","v":""},{"$f":"IF(B412=\"\",\"\",VLOOKUP(B412,学連登録!$C$2:$G$3000,3,FALSE))","v":""},{"$f":"IF(B412=\"\",\"\",VLOOKUP(B412,学連登録!$C$2:$G$3000,4,FALSE))","v":""},"",null,null,null,null,null,null,null,null,null,null,null,null,null,null,null,{"$f":"IF(B412=\"\",\"\",VLOOKUP(B412,学連登録!$C$2:$H$3000,6,FALSE))","v":""},null,null,"",{"$f":"IF(G412=\"\",\"\",VLOOKUP(G412,種目名!$R$5:$T$104,3,0))","v":""},{"$f":"IF(J412=\"\",\"\",VLOOKUP(J412,種目名!$R$5:$T$104,3,0))","v":""},{"$f":"IF(M412=\"\",\"\",VLOOKUP(M412,種目名!$R$5:$T$104,3,0))","v":""},{"$f":"IF(P412=\"\",\"\",VLOOKUP(AF412,種目名!$R$5:$T$104,3,0))","v":""},{"$f":"IF(S412=\"\",\"\",VLOOKUP(AI412,種目名!$R$5:$T$104,3,0))","v":""},0,"","",0,"",""]
["",null,{"$f":"IF(B413=\"\",\"\",VLOOKUP(B413,学連登録!$C$2:$G$3000,2,FALSE))","v":""},{"$f":"IF(B413=\"\",\"\",VLOOKUP(B413,学連登録!$C$2:$G$3000,3,FALSE))","v":""},{"$f":"IF(B413=\"\",\"\",VLOOKUP(B413,学連登録!$C$2:$G$3000,4,FALSE))","v":""},"",null,null,null,null,null,null,null,null,null,null,null,null,null,null,null,{"$f":"IF(B413=\"\",\"\",VLOOKUP(B413,学連登録!$C$2:$H$3000,6,FALSE))","v":""},null,null,"",{"$f":"IF(G413=\"\",\"\",VLOOKUP(G413,種目名!$R$5:$T$104,3,0))","v":""},{"$f":"IF(J413=\"\",\"\",VLOOKUP(J413,種目名!$R$5:$T$104,3,0))","v":""},{"$f":"IF(M413=\"\",\"\",VLOOKUP(M413,種目名!$R$5:$T$104,3,0))","v":""},{"$f":"IF(P413=\"\",\"\",VLOOKUP(AF413,種目名!$R$5:$T$104,3,0))","v":""},{"$f":"IF(S413=\"\",\"\",VLOOKUP(AI413,種目名!$R$5:$T$104,3,0))","v":""},0,"","",0,"",""]
["",null,{"$f":"IF(B414=\"\",\"\",VLOOKUP(B414,学連登録!$C$2:$G$3000,2,FALSE))","v":""},{"$f":"IF(B414=\"\",\"\",VLOOKUP(B414,学連登録!$C$2:$G$3000,3,FALSE))","v":""},{"$f":"IF(B414=\"\",\"\",VLOOKUP(B414,学連登録!$C$2:$G$3000,4,FALSE))","v":""},"",null,null,null,null,null,null,null,null,null,null,null,null,null,null,null,{"$f":"IF(B414=\"\",\"\",VLOOKUP(B414,学連登録!$C$2:$H$3000,6,FALSE))","v":""},null,null,"",{"$f":"IF(G414=\"\",\"\",VLOOKUP(G414,種目名!$R$5:$T$104,3,0))","v":""},{"$f":"IF(J414=\"\",\"\",VLOOKUP(J414,種目名!$R$5:$T$104,3,0))","v":""},{"$f":"IF(M414=\"\",\"\",VLOOKUP(M414,種目名!$R$5:$T$104,3,0))","v":""},{"$f":"IF(P414=\"\",\"\",VLOOKUP(AF414,種目名!$R$5:$T$104,3,0))","v":""},{"$f":"IF(S414=\"\",\"\",VLOOKUP(AI414,種目名!$R$5:$T$104,3,0))","v":""},0,"","",0,"",""]
["",null,{"$f":"IF(B415=\"\",\"\",VLOOKUP(B415,学連登録!$C$2:$G$3000,2,FALSE))","v":""},{"$f":"IF(B415=\"\",\"\",VLOOKUP(B415,学連登録!$C$2:$G$3000,3,FALSE))","v":""},{"$f":"IF(B415=\"\",\"\",VLOOKUP(B415,学連登録!$C$2:$G$3000,4,FALSE))","v":""},"",null,null,null,null,null,null,null,null,null,null,null,null,null,null,null,{"$f":"IF(B415=\"\",\"\",VLOOKUP(B415,学連登録!$C$2:$H$3000,6,FALSE))","v":""},null,null,"",{"$f":"IF(G415=\"\",\"\",VLOOKUP(G415,種目名!$R$5:$T$104,3,0))","v":""},{"$f":"IF(J415=\"\",\"\",VLOOKUP(J415,種目名!$R$5:$T$104,3,0))","v":""},{"$f":"IF(M415=\"\",\"\",VLOOKUP(M415,種目名!$R$5:$T$104,3,0))","v":""},{"$f":"IF(P415=\"\",\"\",VLOOKUP(AF415,種目名!$R$5:$T$104,3,0))","v":""},{"$f":"IF(S415=\"\",\"\",VLOOKUP(AI415,種目名!$R$5:$T$104,3,0))","v":""},0,"","",0,"",""]
["",null,{"$f":"IF(B416=\"\",\"\",VLOOKUP(B416,学連登録!$C$2:$G$3000,2,FALSE))","v":""},{"$f":"IF(B416=\"\",\"\",VLOOKUP(B416,学連登録!$C$2:$G$3000,3,FALSE))","v":""},{"$f":"IF(B416=\"\",\"\",VLOOKUP(B416,学連登録!$C$2:$G$3000,4,FALSE))","v":""},"",null,null,null,null,null,null,null,null,null,null,null,null,null,null,null,{"$f":"IF(B416=\"\",\"\",VLOOKUP(B416,学連登録!$C$2:$H$3000,6,FALSE))","v":""},null,null,"",{"$f":"IF(G416=\"\",\"\",VLOOKUP(G416,種目名!$R$5:$T$104,3,0))","v":""},{"$f":"IF(J416=\"\",\"\",VLOOKUP(J416,種目名!$R$5:$T$104,3,0))","v":""},{"$f":"IF(M416=\"\",\"\",VLOOKUP(M416,種目名!$R$5:$T$104,3,0))","v":""},{"$f":"IF(P416=\"\",\"\",VLOOKUP(AF416,種目名!$R$5:$T$104,3,0))","v":""},{"$f":"IF(S416=\"\",\"\",VLOOKUP(AI416,種目名!$R$5:$T$104,3,0))","v":""},0,"","",0,"",""]
["",null,{"$f":"IF(B417=\"\",\"\",VLOOKUP(B417,学連登録!$C$2:$G$3000,2,FALSE))","v":""},{"$f":"IF(B417=\"\",\"\",VLOOKUP(B417,学連登録!$C$2:$G$3000,3,FALSE))","v":""},{"$f":"IF(B417=\"\",\"\",VLOOKUP(B417,学連登録!$C$2:$G$3000,4,FALSE))","v":""},"",null,null,null,null,null,null,null,null,null,null,null,null,null,null,null,{"$f":"IF(B417=\"\",\"\",VLOOKUP(B417,学連登録!$C$2:$H$3000,6,FALSE))","v":""},null,null,"",{"$f":"IF(G417=\"\",\"\",VLOOKUP(G417,種目名!$R$5:$T$104,3,0))","v":""},{"$f":"IF(J417=\"\",\"\",VLOOKUP(J417,種目名!$R$5:$T$104,3,0))","v":""},{"$f":"IF(M417=\"\",\"\",VLOOKUP(M417,種目名!$R$5:$T$104,3,0))","v":""},{"$f":"IF(P417=\"\",\"\",VLOOKUP(AF417,種目名!$R$5:$T$104,3,0))","v":""},{"$f":"IF(S417=\"\",\"\",VLOOKUP(AI417,種目名!$R$5:$T$104,3,0))","v":""},0,"","",0,"",""]
["",null,{"$f":"IF(B418=\"\",\"\",VLOOKUP(B418,学連登録!$C$2:$G$3000,2,FALSE))","v":""},{"$f":"IF(B418=\"\",\"\",VLOOKUP(B418,学連登録!$C$2:$G$3000,3,FALSE))","v":""},{"$f":"IF(B418=\"\",\"\",VLOOKUP(B418,学連登録!$C$2:$G$3000,4,FALSE))","v":""},"",null,null,null,null,null,null,null,null,null,null,null,null,null,null,null,{"$f":"IF(B418=\"\",\"\",VLOOKUP(B418,学連登録!$C$2:$H$3000,6,FALSE))","v":""},null,null,"",{"$f":"IF(G418=\"\",\"\",VLOOKUP(G418,種目名!$R$5:$T$104,3,0))","v":""},{"$f":"IF(J418=\"\",\"\",VLOOKUP(J418,種目名!$R$5:$T$104,3,0))","v":""},{"$f":"IF(M418=\"\",\"\",VLOOKUP(M418,種目名!$R$5:$T$104,3,0))","v":""},{"$f":"IF(P418=\"\",\"\",VLOOKUP(AF418,種目名!$R$5:$T$104,3,0))","v":""},{"$f":"IF(S418=\"\",\"\",VLOOKUP(AI418,種目名!$R$5:$T$104,3,0))","v":""},0,"","",0,"",""]
["",null,{"$f":"IF(B419=\"\",\"\",VLOOKUP(B419,学連登録!$C$2:$G$3000,2,FALSE))","v":""},{"$f":"IF(B419=\"\",\"\",VLOOKUP(B419,学連登録!$C$2:$G$3000,3,FALSE))","v":""},{"$f":"IF(B419=\"\",\"\",VLOOKUP(B419,学連登録!$C$2:$G$3000,4,FALSE))","v":""},"",null,null,null,null,null,null,null,null,null,null,null,null,null,null,null,{"$f":"IF(B419=\"\",\"\",VLOOKUP(B419,学連登録!$C$2:$H$3000,6,FALSE))","v":""},null,null,"",{"$f":"IF(G419=\"\",\"\",VLOOKUP(G419,種目名!$R$5:$T$104,3,0))","v":""},{"$f":"IF(J419=\"\",\"\",VLOOKUP(J419,種目名!$R$5:$T$104,3,0))","v":""},{"$f":"IF(M419=\"\",\"\",VLOOKUP(M419,種目名!$R$5:$T$104,3,0))","v":""},{"$f":"IF(P419=\"\",\"\",VLOOKUP(AF419,種目名!$R$5:$T$104,3,0))","v":""},{"$f":"IF(S419=\"\",\"\",VLOOKUP(AI419,種目名!$R$5:$T$104,3,0))","v":""},0,"","",0,"",""]
["",null,{"$f":"IF(B420=\"\",\"\",VLOOKUP(B420,学連登録!$C$2:$G$3000,2,FALSE))","v":""},{"$f":"IF(B420=\"\",\"\",VLOOKUP(B420,学連登録!$C$2:$G$3000,3,FALSE))","v":""},{"$f":"IF(B420=\"\",\"\",VLOOKUP(B420,学連登録!$C$2:$G$3000,4,FALSE))","v":""},"",null,null,null,null,null,null,null,null,null,null,null,null,null,null,null,{"$f":"IF(B420=\"\",\"\",VLOOKUP(B420,学連登録!$C$2:$H$3000,6,FALSE))","v":""},null,null,"",{"$f":"IF(G420=\"\",\"\",VLOOKUP(G420,種目名!$R$5:$T$104,3,0))","v":""},{"$f":"IF(J420=\"\",\"\",VLOOKUP(J420,種目名!$R$5:$T$104,3,0))","v":""},{"$f":"IF(M420=\"\",\"\",VLOOKUP(M420,種目名!$R$5:$T$104,3,0))","v":""},{"$f":"IF(P420=\"\",\"\",VLOOKUP(AF420,種目名!$R$5:$T$104,3,0))","v":""},{"$f":"IF(S420=\"\",\"\",VLOOKUP(AI420,種目名!$R$5:$T$104,3,0))","v":""},0,"","",0,"",""]
["",null,{"$f":"IF(B421=\"\",\"\",VLOOKUP(B421,学連登録!$C$2:$G$3000,2,FALSE))","v":""},{"$f":"IF(B421=\"\",\"\",VLOOKUP(B421,学連登録!$C$2:$G$3000,3,FALSE))","v":""},{"$f":"IF(B421=\"\",\"\",VLOOKUP(B421,学連登録!$C$2:$G$3000,4,FALSE))","v":""},"",null,null,null,null,null,null,null,null,null,null,null,null,null,null,null,{"$f":"IF(B421=\"\",\"\",VLOOKUP(B421,学連登録!$C$2:$H$3000,6,FALSE))","v":""},null,null,"",{"$f":"IF(G421=\"\",\"\",VLOOKUP(G421,種目名!$R$5:$T$104,3,0))","v":""},{"$f":"IF(J421=\"\",\"\",VLOOKUP(J421,種目名!$R$5:$T$104,3,0))","v":""},{"$f":"IF(M421=\"\",\"\",VLOOKUP(M421,種目名!$R$5:$T$104,3,0))","v":""},{"$f":"IF(P421=\"\",\"\",VLOOKUP(AF421,種目名!$R$5:$T$104,3,0))","v":""},{"$f":"IF(S421=\"\",\"\",VLOOKUP(AI421,種目名!$R$5:$T$104,3,0))","v":""},0,"","",0,"",""]
["",null,{"$f":"IF(B422=\"\",\"\",VLOOKUP(B422,学連登録!$C$2:$G$3000,2,FALSE))","v":""},{"$f":"IF(B422=\"\",\"\",VLOOKUP(B422,学連登録!$C$2:$G$3000,3,FALSE))","v":""},{"$f":"IF(B422=\"\",\"\",VLOOKUP(B422,学連登録!$C$2:$G$3000,4,FALSE))","v":""},"",null,null,null,null,null,null,null,null,null,null,null,null,null,null,null,{"$f":"IF(B422=\"\",\"\",VLOOKUP(B422,学連登録!$C$2:$H$3000,6,FALSE))","v":""},null,null,"",{"$f":"IF(G422=\"\",\"\",VLOOKUP(G422,種目名!$R$5:$T$104,3,0))","v":""},{"$f":"IF(J422=\"\",\"\",VLOOKUP(J422,種目名!$R$5:$T$104,3,0))","v":""},{"$f":"IF(M422=\"\",\"\",VLOOKUP(M422,種目名!$R$5:$T$104,3,0))","v":""},{"$f":"IF(P422=\"\",\"\",VLOOKUP(AF422,種目名!$R$5:$T$104,3,0))","v":""},{"$f":"IF(S422=\"\",\"\",VLOOKUP(AI422,種目名!$R$5:$T$104,3,0))","v":""},0,"","",0,"",""]
["",null,{"$f":"IF(B423=\"\",\"\",VLOOKUP(B423,学連登録!$C$2:$G$3000,2,FALSE))","v":""},{"$f":"IF(B423=\"\",\"\",VLOOKUP(B423,学連登録!$C$2:$G$3000,3,FALSE))","v":""},{"$f":"IF(B423=\"\",\"\",VLOOKUP(B423,学連登録!$C$2:$G$3000,4,FALSE))","v":""},"",null,null,null,null,null,null,null,null,null,null,null,null,null,null,null,{"$f":"IF(B423=\"\",\"\",VLOOKUP(B423,学連登録!$C$2:$H$3000,6,FALSE))","v":""},null,null,"",{"$f":"IF(G423=\"\",\"\",VLOOKUP(G423,種目名!$R$5:$T$104,3,0))","v":""},{"$f":"IF(J423=\"\",\"\",VLOOKUP(J423,種目名!$R$5:$T$104,3,0))","v":""},{"$f":"IF(M423=\"\",\"\",VLOOKUP(M423,種目名!$R$5:$T$104,3,0))","v":""},{"$f":"IF(P423=\"\",\"\",VLOOKUP(AF423,種目名!$R$5:$T$104,3,0))","v":""},{"$f":"IF(S423=\"\",\"\",VLOOKUP(AI423,種目名!$R$5:$T$104,3,0))","v":""},0,"","",0,"",""]
["",null,{"$f":"IF(B424=\"\",\"\",VLOOKUP(B424,学連登録!$C$2:$G$3000,2,FALSE))","v":""},{"$f":"IF(B424=\"\",\"\",VLOOKUP(B424,学連登録!$C$2:$G$3000,3,FALSE))","v":""},{"$f":"IF(B424=\"\",\"\",VLOOKUP(B424,学連登録!$C$2:$G$3000,4,FALSE))","v":""},"",null,null,null,null,null,null,null,null,null,null,null,null,null,null,null,{"$f":"IF(B424=\"\",\"\",VLOOKUP(B424,学連登録!$C$2:$H$3000,6,FALSE))","v":""},null,null,"",{"$f":"IF(G424=\"\",\"\",VLOOKUP(G424,種目名!$R$5:$T$104,3,0))","v":""},{"$f":"IF(J424=\"\",\"\",VLOOKUP(J424,種目名!$R$5:$T$104,3,0))","v":""},{"$f":"IF(M424=\"\",\"\",VLOOKUP(M424,種目名!$R$5:$T$104,3,0))","v":""},{"$f":"IF(P424=\"\",\"\",VLOOKUP(AF424,種目名!$R$5:$T$104,3,0))","v":""},{"$f":"IF(S424=\"\",\"\",VLOOKUP(AI424,種目名!$R$5:$T$104,3,0))","v":""},0,"","",0,"",""]
["",null,{"$f":"IF(B425=\"\",\"\",VLOOKUP(B425,学連登録!$C$2:$G$3000,2,FALSE))","v":""},{"$f":"IF(B425=\"\",\"\",VLOOKUP(B425,学連登録!$C$2:$G$3000,3,FALSE))","v":""},{"$f":"IF(B425=\"\",\"\",VLOOKUP(B425,学連登録!$C$2:$G$3000,4,FALSE))","v":""},"",null,null,null,null,null,null,null,null,null,null,null,null,null,null,null,{"$f":"IF(B425=\"\",\"\",VLOOKUP(B425,学連登録!$C$2:$H$3000,6,FALSE))","v":""},null,null,"",{"$f":"IF(G425=\"\",\"\",VLOOKUP(G425,種目名!$R$5:$T$104,3,0))","v":""},{"$f":"IF(J425=\"\",\"\",VLOOKUP(J425,種目名!$R$5:$T$104,3,0))","v":""},{"$f":"IF(M425=\"\",\"\",VLOOKUP(M425,種目名!$R$5:$T$104,3,0))","v":""},{"$f":"IF(P425=\"\",\"\",VLOOKUP(AF425,種目名!$R$5:$T$104,3,0))","v":""},{"$f":"IF(S425=\"\",\"\",VLOOKUP(AI425,種目名!$R$5:$T$104,3,0))","v":""},0,"","",0,"",""]
["",null,{"$f":"IF(B426=\"\",\"\",VLOOKUP(B426,学連登録!$C$2:$G$3000,2,FALSE))","v":""},{"$f":"IF(B426=\"\",\"\",VLOOKUP(B426,学連登録!$C$2:$G$3000,3,FALSE))","v":""},{"$f":"IF(B426=\"\",\"\",VLOOKUP(B426,学連登録!$C$2:$G$3000,4,FALSE))","v":""},"",null,null,null,null,null,null,null,null,null,null,null,null,null,null,null,{"$f":"IF(B426=\"\",\"\",VLOOKUP(B426,学連登録!$C$2:$H$3000,6,FALSE))","v":""},null,null,"",{"$f":"IF(G426=\"\",\"\",VLOOKUP(G426,種目名!$R$5:$T$104,3,0))","v":""},{"$f":"IF(J426=\"\",\"\",VLOOKUP(J426,種目名!$R$5:$T$104,3,0))","v":""},{"$f":"IF(M426=\"\",\"\",VLOOKUP(M426,種目名!$R$5:$T$104,3,0))","v":""},{"$f":"IF(P426=\"\",\"\",VLOOKUP(AF426,種目名!$R$5:$T$104,3,0))","v":""},{"$f":"IF(S426=\"\",\"\",VLOOKUP(AI426,種目名!$R$5:$T$104,3,0))","v":""},0,"","",0,"",""]
["",null,{"$f":"IF(B427=\"\",\"\",VLOOKUP(B427,学連登録!$C$2:$G$3000,2,FALSE))","v":""},{"$f":"IF(B427=\"\",\"\",VLOOKUP(B427,学連登録!$C$2:$G$3000,3,FALSE))","v":""},{"$f":"IF(B427=\"\",\"\",VLOOKUP(B427,学連登録!$C$2:$G$3000,4,FALSE))","v":""},"",null,null,null,null,null,null,null,null,null,null,null,null,null,null,null,{"$f":"IF(B427=\"\",\"\",VLOOKUP(B427,学連登録!$C$2:$H$3000,6,FALSE))","v":""},null,null,"",{"$f":"IF(G427=\"\",\"\",VLOOKUP(G427,種目名!$R$5:$T$104,3,0))","v":""},{"$f":"IF(J427=\"\",\"\",VLOOKUP(J427,種目名!$R$5:$T$104,3,0))","v":""},{"$f":"IF(M427=\"\",\"\",VLOOKUP(M427,種目名!$R$5:$T$104,3,0))","v":""},{"$f":"IF(P427=\"\",\"\",VLOOKUP(AF427,種目名!$R$5:$T$104,3,0))","v":""},{"$f":"IF(S427=\"\",\"\",VLOOKUP(AI427,種目名!$R$5:$T$104,3,0))","v":""},0,"","",0,"",""]
["",null,{"$f":"IF(B428=\"\",\"\",VLOOKUP(B428,学連登録!$C$2:$G$3000,2,FALSE))","v":""},{"$f":"IF(B428=\"\",\"\",VLOOKUP(B428,学連登録!$C$2:$G$3000,3,FALSE))","v":""},{"$f":"IF(B428=\"\",\"\",VLOOKUP(B428,学連登録!$C$2:$G$3000,4,FALSE))","v":""},"",null,null,null,null,null,null,null,null,null,null,null,null,null,null,null,{"$f":"IF(B428=\"\",\"\",VLOOKUP(B428,学連登録!$C$2:$H$3000,6,FALSE))","v":""},null,null,"",{"$f":"IF(G428=\"\",\"\",VLOOKUP(G428,種目名!$R$5:$T$104,3,0))","v":""},{"$f":"IF(J428=\"\",\"\",VLOOKUP(J428,種目名!$R$5:$T$104,3,0))","v":""},{"$f":"IF(M428=\"\",\"\",VLOOKUP(M428,種目名!$R$5:$T$104,3,0))","v":""},{"$f":"IF(P428=\"\",\"\",VLOOKUP(AF428,種目名!$R$5:$T$104,3,0))","v":""},{"$f":"IF(S428=\"\",\"\",VLOOKUP(AI428,種目名!$R$5:$T$104,3,0))","v":""},0,"","",0,"",""]
["",null,{"$f":"IF(B429=\"\",\"\",VLOOKUP(B429,学連登録!$C$2:$G$3000,2,FALSE))","v":""},{"$f":"IF(B429=\"\",\"\",VLOOKUP(B429,学連登録!$C$2:$G$3000,3,FALSE))","v":""},{"$f":"IF(B429=\"\",\"\",VLOOKUP(B429,学連登録!$C$2:$G$3000,4,FALSE))","v":""},"",null,null,null,null,null,null,null,null,null,null,null,null,null,null,null,{"$f":"IF(B429=\"\",\"\",VLOOKUP(B429,学連登録!$C$2:$H$3000,6,FALSE))","v":""},null,null,"",{"$f":"IF(G429=\"\",\"\",VLOOKUP(G429,種目名!$R$5:$T$104,3,0))","v":""},{"$f":"IF(J429=\"\",\"\",VLOOKUP(J429,種目名!$R$5:$T$104,3,0))","v":""},{"$f":"IF(M429=\"\",\"\",VLOOKUP(M429,種目名!$R$5:$T$104,3,0))","v":""},{"$f":"IF(P429=\"\",\"\",VLOOKUP(AF429,種目名!$R$5:$T$104,3,0))","v":""},{"$f":"IF(S429=\"\",\"\",VLOOKUP(AI429,種目名!$R$5:$T$104,3,0))","v":""},0,"","",0,"",""]
["",null,{"$f":"IF(B430=\"\",\"\",VLOOKUP(B430,学連登録!$C$2:$G$3000,2,FALSE))","v":""},{"$f":"IF(B430=\"\",\"\",VLOOKUP(B430,学連登録!$C$2:$G$3000,3,FALSE))","v":""},{"$f":"IF(B430=\"\",\"\",VLOOKUP(B430,学連登録!$C$2:$G$3000,4,FALSE))","v":""},"",null,null,null,null,null,null,null,null,null,null,null,null,null,null,null,{"$f":"IF(B430=\"\",\"\",VLOOKUP(B430,学連登録!$C$2:$H$3000,6,FALSE))","v":""},null,null,"",{"$f":"IF(G430=\"\",\"\",VLOOKUP(G430,種目名!$R$5:$T$104,3,0))","v":""},{"$f":"IF(J430=\"\",\"\",VLOOKUP(J430,種目名!$R$5:$T$104,3,0))","v":""},{"$f":"IF(M430=\"\",\"\",VLOOKUP(M430,種目名!$R$5:$T$104,3,0))","v":""},{"$f":"IF(P430=\"\",\"\",VLOOKUP(AF430,種目名!$R$5:$T$104,3,0))","v":""},{"$f":"IF(S430=\"\",\"\",VLOOKUP(AI430,種目名!$R$5:$T$104,3,0))","v":""},0,"","",0,"",""]
["",null,{"$f":"IF(B431=\"\",\"\",VLOOKUP(B431,学連登録!$C$2:$G$3000,2,FALSE))","v":""},{"$f":"IF(B431=\"\",\"\",VLOOKUP(B431,学連登録!$C$2:$G$3000,3,FALSE))","v":""},{"$f":"IF(B431=\"\",\"\",VLOOKUP(B431,学連登録!$C$2:$G$3000,4,FALSE))","v":""},"",null,null,null,null,null,null,null,null,null,null,null,null,null,null,null,{"$f":"IF(B431=\"\",\"\",VLOOKUP(B431,学連登録!$C$2:$H$3000,6,FALSE))","v":""},null,null,"",{"$f":"IF(G431=\"\",\"\",VLOOKUP(G431,種目名!$R$5:$T$104,3,0))","v":""},{"$f":"IF(J431=\"\",\"\",VLOOKUP(J431,種目名!$R$5:$T$104,3,0))","v":""},{"$f":"IF(M431=\"\",\"\",VLOOKUP(M431,種目名!$R$5:$T$104,3,0))","v":""},{"$f":"IF(P431=\"\",\"\",VLOOKUP(AF431,種目名!$R$5:$T$104,3,0))","v":""},{"$f":"IF(S431=\"\",\"\",VLOOKUP(AI431,種目名!$R$5:$T$104,3,0))","v":""},0,"","",0,"",""]
["",null,{"$f":"IF(B432=\"\",\"\",VLOOKUP(B432,学連登録!$C$2:$G$3000,2,FALSE))","v":""},{"$f":"IF(B432=\"\",\"\",VLOOKUP(B432,学連登録!$C$2:$G$3000,3,FALSE))","v":""},{"$f":"IF(B432=\"\",\"\",VLOOKUP(B432,学連登録!$C$2:$G$3000,4,FALSE))","v":""},"",null,null,null,null,null,null,null,null,null,null,null,null,null,null,null,{"$f":"IF(B432=\"\",\"\",VLOOKUP(B432,学連登録!$C$2:$H$3000,6,FALSE))","v":""},null,null,"",{"$f":"IF(G432=\"\",\"\",VLOOKUP(G432,種目名!$R$5:$T$104,3,0))","v":""},{"$f":"IF(J432=\"\",\"\",VLOOKUP(J432,種目名!$R$5:$T$104,3,0))","v":""},{"$f":"IF(M432=\"\",\"\",VLOOKUP(M432,種目名!$R$5:$T$104,3,0))","v":""},{"$f":"IF(P432=\"\",\"\",VLOOKUP(AF432,種目名!$R$5:$T$104,3,0))","v":""},{"$f":"IF(S432=\"\",\"\",VLOOKUP(AI432,種目名!$R$5:$T$104,3,0))","v":""},0,"","",0,"",""]
["",null,{"$f":"IF(B433=\"\",\"\",VLOOKUP(B433,学連登録!$C$2:$G$3000,2,FALSE))","v":""},{"$f":"IF(B433=\"\",\"\",VLOOKUP(B433,学連登録!$C$2:$G$3000,3,FALSE))","v":""},{"$f":"IF(B433=\"\",\"\",VLOOKUP(B433,学連登録!$C$2:$G$3000,4,FALSE))","v":""},"",null,null,null,null,null,null,null,null,null,null,null,null,null,null,null,{"$f":"IF(B433=\"\",\"\",VLOOKUP(B433,学連登録!$C$2:$H$3000,6,FALSE))","v":""},null,null,"",{"$f":"IF(G433=\"\",\"\",VLOOKUP(G433,種目名!$R$5:$T$104,3,0))","v":""},{"$f":"IF(J433=\"\",\"\",VLOOKUP(J433,種目名!$R$5:$T$104,3,0))","v":""},{"$f":"IF(M433=\"\",\"\",VLOOKUP(M433,種目名!$R$5:$T$104,3,0))","v":""},{"$f":"IF(P433=\"\",\"\",VLOOKUP(AF433,種目名!$R$5:$T$104,3,0))","v":""},{"$f":"IF(S433=\"\",\"\",VLOOKUP(AI433,種目名!$R$5:$T$104,3,0))","v":""},0,"","",0,"",""]
["",null,{"$f":"IF(B434=\"\",\"\",VLOOKUP(B434,学連登録!$C$2:$G$3000,2,FALSE))","v":""},{"$f":"IF(B434=\"\",\"\",VLOOKUP(B434,学連登録!$C$2:$G$3000,3,FALSE))","v":""},{"$f":"IF(B434=\"\",\"\",VLOOKUP(B434,学連登録!$C$2:$G$3000,4,FALSE))","v":""},"",null,null,null,null,null,null,null,null,null,null,null,null,null,null,null,{"$f":"IF(B434=\"\",\"\",VLOOKUP(B434,学連登録!$C$2:$H$3000,6,FALSE))","v":""},null,null,"",{"$f":"IF(G434=\"\",\"\",VLOOKUP(G434,種目名!$R$5:$T$104,3,0))","v":""},{"$f":"IF(J434=\"\",\"\",VLOOKUP(J434,種目名!$R$5:$T$104,3,0))","v":""},{"$f":"IF(M434=\"\",\"\",VLOOKUP(M434,種目名!$R$5:$T$104,3,0))","v":""},{"$f":"IF(P434=\"\",\"\",VLOOKUP(AF434,種目名!$R$5:$T$104,3,0))","v":""},{"$f":"IF(S434=\"\",\"\",VLOOKUP(AI434,種目名!$R$5:$T$104,3,0))","v":""},0,"","",0,"",""]
[{"$f":"IF(C435=\"\",\"\",A434+1)","v":""},null,{"$f":"IF(B435=\"\",\"\",VLOOKUP(B435,学連登録!$C$2:$G$3000,2,FALSE))","v":""},{"$f":"IF(B435=\"\",\"\",VLOOKUP(B435,学連登録!$C$2:$G$3000,3,FALSE))","v":""},{"$f":"IF(B435=\"\",\"\",VLOOKUP(B435,学連登録!$C$2:$G$3000,4,FALSE))","v":""},"",null,null,null,null,null,null,null,null,null,null,null,null,null,null,null,{"$f":"IF(B435=\"\",\"\",VLOOKUP(B435,学連登録!$C$2:$H$3000,6,FALSE))","v":""},null,null,"",{"$f":"IF(G435=\"\",\"\",VLOOKUP(G435,種目名!$R$5:$T$104,3,0))","v":""},{"$f":"IF(J435=\"\",\"\",VLOOKUP(J435,種目名!$R$5:$T$104,3,0))","v":""},{"$f":"IF(M435=\"\",\"\",VLOOKUP(M435,種目名!$R$5:$T$104,3,0))","v":""},{"$f":"IF(P435=\"\",\"\",VLOOKUP(AF435,種目名!$R$5:$T$104,3,0))","v":""},{"$f":"IF(S435=\"\",\"\",VLOOKUP(AI435,種目名!$R$5:$T$104,3,0))","v":""},0,"","",0,"",""]
["",null,{"$f":"IF(B436=\"\",\"\",VLOOKUP(B436,学連登録!$C$2:$G$3000,2,FALSE))","v":""},{"$f":"IF(B436=\"\",\"\",VLOOKUP(B436,学連登録!$C$2:$G$3000,3,FALSE))","v":""},{"$f":"IF(B436=\"\",\"\",VLOOKUP(B436,学連登録!$C$2:$G$3000,4,FALSE))","v":""},"",null,null,null,null,null,null,null,null,null,null,null,null,null,null,null,{"$f":"IF(B436=\"\",\"\",VLOOKUP(B436,学連登録!$C$2:$H$3000,6,FALSE))","v":""},null,null,"",{"$f":"IF(G436=\"\",\"\",VLOOKUP(G436,種目名!$R$5:$T$104,3,0))","v":""},{"$f":"IF(J436=\"\",\"\",VLOOKUP(J436,種目名!$R$5:$T$104,3,0))","v":""},{"$f":"IF(M436=\"\",\"\",VLOOKUP(M436,種目名!$R$5:$T$104,3,0))","v":""},{"$f":"IF(P436=\"\",\"\",VLOOKUP(AF436,種目名!$R$5:$T$104,3,0))","v":""},{"$f":"IF(S436=\"\",\"\",VLOOKUP(AI436,種目名!$R$5:$T$104,3,0))","v":""},0,"","",0,"",""]
["",null,{"$f":"IF(B437=\"\",\"\",VLOOKUP(B437,学連登録!$C$2:$G$3000,2,FALSE))","v":""},{"$f":"IF(B437=\"\",\"\",VLOOKUP(B437,学連登録!$C$2:$G$3000,3,FALSE))","v":""},{"$f":"IF(B437=\"\",\"\",VLOOKUP(B437,学連登録!$C$2:$G$3000,4,FALSE))","v":""},"",null,null,null,null,null,null,null,null,null,null,null,null,null,null,null,{"$f":"IF(B437=\"\",\"\",VLOOKUP(B437,学連登録!$C$2:$H$3000,6,FALSE))","v":""},null,null,"",{"$f":"IF(G437=\"\",\"\",VLOOKUP(G437,種目名!$R$5:$T$104,3,0))","v":""},{"$f":"IF(J437=\"\",\"\",VLOOKUP(J437,種目名!$R$5:$T$104,3,0))","v":""},{"$f":"IF(M437=\"\",\"\",VLOOKUP(M437,種目名!$R$5:$T$104,3,0))","v":""},{"$f":"IF(P437=\"\",\"\",VLOOKUP(AF437,種目名!$R$5:$T$104,3,0))","v":""},{"$f":"IF(S437=\"\",\"\",VLOOKUP(AI437,種目名!$R$5:$T$104,3,0))","v":""},0,"","",0,"",""]
["",null,{"$f":"IF(B438=\"\",\"\",VLOOKUP(B438,学連登録!$C$2:$G$3000,2,FALSE))","v":""},{"$f":"IF(B438=\"\",\"\",VLOOKUP(B438,学連登録!$C$2:$G$3000,3,FALSE))","v":""},{"$f":"IF(B438=\"\",\"\",VLOOKUP(B438,学連登録!$C$2:$G$3000,4,FALSE))","v":""},"",null,null,null,null,null,null,null,null,null,null,null,null,null,null,null,{"$f":"IF(B438=\"\",\"\",VLOOKUP(B438,学連登録!$C$2:$H$3000,6,FALSE))","v":""},null,null,"",{"$f":"IF(G438=\"\",\"\",VLOOKUP(G438,種目名!$R$5:$T$104,3,0))","v":""},{"$f":"IF(J438=\"\",\"\",VLOOKUP(J438,種目名!$R$5:$T$104,3,0))","v":""},{"$f":"IF(M438=\"\",\"\",VLOOKUP(M438,種目名!$R$5:$T$104,3,0))","v":""},{"$f":"IF(P438=\"\",\"\",VLOOKUP(AF438,種目名!$R$5:$T$104,3,0))","v":""},{"$f":"IF(S438=\"\",\"\",VLOOKUP(AI438,種目名!$R$5:$T$104,3,0))","v":""},0,"","",0,"",""]
["",null,{"$f":"IF(B439=\"\",\"\",VLOOKUP(B439,学連登録!$C$2:$G$3000,2,FALSE))","v":""},{"$f":"IF(B439=\"\",\"\",VLOOKUP(B439,学連登録!$C$2:$G$3000,3,FALSE))","v":""},{"$f":"IF(B439=\"\",\"\",VLOOKUP(B439,学連登録!$C$2:$G$3000,4,FALSE))","v":""},"",null,null,null,null,null,null,null,null,null,null,null,null,null,null,null,{"$f":"IF(B439=\"\",\"\",VLOOKUP(B439,学連登録!$C$2:$H$3000,6,FALSE))","v":""},null,null,"",{"$f":"IF(G439=\"\",\"\",VLOOKUP(G439,種目名!$R$5:$T$104,3,0))","v":""},{"$f":"IF(J439=\"\",\"\",VLOOKUP(J439,種目名!$R$5:$T$104,3,0))","v":""},{"$f":"IF(M439=\"\",\"\",VLOOKUP(M439,種目名!$R$5:$T$104,3,0))","v":""},{"$f":"IF(P439=\"\",\"\",VLOOKUP(AF439,種目名!$R$5:$T$104,3,0))","v":""},{"$f":"IF(S439=\"\",\"\",VLOOKUP(AI439,種目名!$R$5:$T$104,3,0))","v":""},0,"","",0,"",""]
["",null,{"$f":"IF(B440=\"\",\"\",VLOOKUP(B440,学連登録!$C$2:$G$3000,2,FALSE))","v":""},{"$f":"IF(B440=\"\",\"\",VLOOKUP(B440,学連登録!$C$2:$G$3000,3,FALSE))","v":""},{"$f":"IF(B440=\"\",\"\",VLOOKUP(B440,学連登録!$C$2:$G$3000,4,FALSE))","v":""},"",null,null,null,null,null,null,null,null,null,null,null,null,null,null,null,{"$f":"IF(B440=\"\",\"\",VLOOKUP(B440,学連登録!$C$2:$H$3000,6,FALSE))","v":""},null,null,"",{"$f":"IF(G440=\"\",\"\",VLOOKUP(G440,種目名!$R$5:$T$104,3,0))","v":""},{"$f":"IF(J440=\"\",\"\",VLOOKUP(J440,種目名!$R$5:$T$104,3,0))","v":""},{"$f":"IF(M440=\"\",\"\",VLOOKUP(M440,種目名!$R$5:$T$104,3,0))","v":""},{"$f":"IF(P440=\"\",\"\",VLOOKUP(AF440,種目名!$R$5:$T$104,3,0))","v":""},{"$f":"IF(S440=\"\",\"\",VLOOKUP(AI440,種目名!$R$5:$T$104,3,0))","v":""},0,"","",0,"",""]
["",null,{"$f":"IF(B441=\"\",\"\",VLOOKUP(B441,学連登録!$C$2:$G$3000,2,FALSE))","v":""},{"$f":"IF(B441=\"\",\"\",VLOOKUP(B441,学連登録!$C$2:$G$3000,3,FALSE))","v":""},{"$f":"IF(B441=\"\",\"\",VLOOKUP(B441,学連登録!$C$2:$G$3000,4,FALSE))","v":""},"",null,null,null,null,null,null,null,null,null,null,null,null,null,null,null,{"$f":"IF(B441=\"\",\"\",VLOOKUP(B441,学連登録!$C$2:$H$3000,6,FALSE))","v":""},null,null,"",{"$f":"IF(G441=\"\",\"\",VLOOKUP(G441,種目名!$R$5:$T$104,3,0))","v":""},{"$f":"IF(J441=\"\",\"\",VLOOKUP(J441,種目名!$R$5:$T$104,3,0))","v":""},{"$f":"IF(M441=\"\",\"\",VLOOKUP(M441,種目名!$R$5:$T$104,3,0))","v":""},{"$f":"IF(P441=\"\",\"\",VLOOKUP(AF441,種目名!$R$5:$T$104,3,0))","v":""},{"$f":"IF(S441=\"\",\"\",VLOOKUP(AI441,種目名!$R$5:$T$104,3,0))","v":""},0,"","",0,"",""]
["",null,{"$f":"IF(B442=\"\",\"\",VLOOKUP(B442,学連登録!$C$2:$G$3000,2,FALSE))","v":""},{"$f":"IF(B442=\"\",\"\",VLOOKUP(B442,学連登録!$C$2:$G$3000,3,FALSE))","v":""},{"$f":"IF(B442=\"\",\"\",VLOOKUP(B442,学連登録!$C$2:$G$3000,4,FALSE))","v":""},"",null,null,null,null,null,null,null,null,null,null,null,null,null,null,null,{"$f":"IF(B442=\"\",\"\",VLOOKUP(B442,学連登録!$C$2:$H$3000,6,FALSE))","v":""},null,null,"",{"$f":"IF(G442=\"\",\"\",VLOOKUP(G442,種目名!$R$5:$T$104,3,0))","v":""},{"$f":"IF(J442=\"\",\"\",VLOOKUP(J442,種目名!$R$5:$T$104,3,0))","v":""},{"$f":"IF(M442=\"\",\"\",VLOOKUP(M442,種目名!$R$5:$T$104,3,0))","v":""},{"$f":"IF(P442=\"\",\"\",VLOOKUP(AF442,種目名!$R$5:$T$104,3,0))","v":""},{"$f":"IF(S442=\"\",\"\",VLOOKUP(AI442,種目名!$R$5:$T$104,3,0))","v":""},0,"","",0,"",""]
["",null,{"$f":"IF(B443=\"\",\"\",VLOOKUP(B443,学連登録!$C$2:$G$3000,2,FALSE))","v":""},{"$f":"IF(B443=\"\",\"\",VLOOKUP(B443,学連登録!$C$2:$G$3000,3,FALSE))","v":""},{"$f":"IF(B443=\"\",\"\",VLOOKUP(B443,学連登録!$C$2:$G$3000,4,FALSE))","v":""},"",null,null,null,null,null,null,null,null,null,null,null,null,null,null,null,{"$f":"IF(B443=\"\",\"\",VLOOKUP(B443,学連登録!$C$2:$H$3000,6,FALSE))","v":""},null,null,"",{"$f":"IF(G443=\"\",\"\",VLOOKUP(G443,種目名!$R$5:$T$104,3,0))","v":""},{"$f":"IF(J443=\"\",\"\",VLOOKUP(J443,種目名!$R$5:$T$104,3,0))","v":""},{"$f":"IF(M443=\"\",\"\",VLOOKUP(M443,種目名!$R$5:$T$104,3,0))","v":""},{"$f":"IF(P443=\"\",\"\",VLOOKUP(AF443,種目名!$R$5:$T$104,3,0))","v":""},{"$f":"IF(S443=\"\",\"\",VLOOKUP(AI443,種目名!$R$5:$T$104,3,0))","v":""},0,"","",0,"",""]
["",null,{"$f":"IF(B444=\"\",\"\",VLOOKUP(B444,学連登録!$C$2:$G$3000,2,FALSE))","v":""},{"$f":"IF(B444=\"\",\"\",VLOOKUP(B444,学連登録!$C$2:$G$3000,3,FALSE))","v":""},{"$f":"IF(B444=\"\",\"\",VLOOKUP(B444,学連登録!$C$2:$G$3000,4,FALSE))","v":""},"",null,null,null,null,null,null,null,null,null,null,null,null,null,null,null,{"$f":"IF(B444=\"\",\"\",VLOOKUP(B444,学連登録!$C$2:$H$3000,6,FALSE))","v":""},null,null,"",{"$f":"IF(G444=\"\",\"\",VLOOKUP(G444,種目名!$R$5:$T$104,3,0))","v":""},{"$f":"IF(J444=\"\",\"\",VLOOKUP(J444,種目名!$R$5:$T$104,3,0))","v":""},{"$f":"IF(M444=\"\",\"\",VLOOKUP(M444,種目名!$R$5:$T$104,3,0))","v":""},{"$f":"IF(P444=\"\",\"\",VLOOKUP(AF444,種目名!$R$5:$T$104,3,0))","v":""},{"$f":"IF(S444=\"\",\"\",VLOOKUP(AI444,種目名!$R$5:$T$104,3,0))","v":""},0,"","",0,"",""]
["",null,{"$f":"IF(B445=\"\",\"\",VLOOKUP(B445,学連登録!$C$2:$G$3000,2,FALSE))","v":""},{"$f":"IF(B445=\"\",\"\",VLOOKUP(B445,学連登録!$C$2:$G$3000,3,FALSE))","v":""},{"$f":"IF(B445=\"\",\"\",VLOOKUP(B445,学連登録!$C$2:$G$3000,4,FALSE))","v":""},"",null,null,null,null,null,null,null,null,null,null,null,null,null,null,null,{"$f":"IF(B445=\"\",\"\",VLOOKUP(B445,学連登録!$C$2:$H$3000,6,FALSE))","v":""},null,null,"",{"$f":"IF(G445=\"\",\"\",VLOOKUP(G445,種目名!$R$5:$T$104,3,0))","v":""},{"$f":"IF(J445=\"\",\"\",VLOOKUP(J445,種目名!$R$5:$T$104,3,0))","v":""},{"$f":"IF(M445=\"\",\"\",VLOOKUP(M445,種目名!$R$5:$T$104,3,0))","v":""},{"$f":"IF(P445=\"\",\"\",VLOOKUP(AF445,種目名!$R$5:$T$104,3,0))","v":""},{"$f":"IF(S445=\"\",\"\",VLOOKUP(AI445,種目名!$R$5:$T$104,3,0))","v":""},0,"","",0,"",""]
["",null,{"$f":"IF(B446=\"\",\"\",VLOOKUP(B446,学連登録!$C$2:$G$3000,2,FALSE))","v":""},{"$f":"IF(B446=\"\",\"\",VLOOKUP(B446,学連登録!$C$2:$G$3000,3,FALSE))","v":""},{"$f":"IF(B446=\"\",\"\",VLOOKUP(B446,学連登録!$C$2:$G$3000,4,FALSE))","v":""},"",null,null,null,null,null,null,null,null,null,null,null,null,null,null,null,{"$f":"IF(B446=\"\",\"\",VLOOKUP(B446,学連登録!$C$2:$H$3000,6,FALSE))","v":""},null,null,"",{"$f":"IF(G446=\"\",\"\",VLOOKUP(G446,種目名!$R$5:$T$104,3,0))","v":""},{"$f":"IF(J446=\"\",\"\",VLOOKUP(J446,種目名!$R$5:$T$104,3,0))","v":""},{"$f":"IF(M446=\"\",\"\",VLOOKUP(M446,種目名!$R$5:$T$104,3,0))","v":""},{"$f":"IF(P446=\"\",\"\",VLOOKUP(AF446,種目名!$R$5:$T$104,3,0))","v":""},{"$f":"IF(S446=\"\",\"\",VLOOKUP(AI446,種目名!$R$5:$T$104,3,0))","v":""},0,"","",0,"",""]
["",null,{"$f":"IF(B447=\"\",\"\",VLOOKUP(B447,学連登録!$C$2:$G$3000,2,FALSE))","v":""},{"$f":"IF(B447=\"\",\"\",VLOOKUP(B447,学連登録!$C$2:$G$3000,3,FALSE))","v":""},{"$f":"IF(B447=\"\",\"\",VLOOKUP(B447,学連登録!$C$2:$G$3000,4,FALSE))","v":""},"",null,null,null,null,null,null,null,null,null,null,null,null,null,null,null,{"$f":"IF(B447=\"\",\"\",VLOOKUP(B447,学連登録!$C$2:$H$3000,6,FALSE))","v":""},null,null,"",{"$f":"IF(G447=\"\",\"\",VLOOKUP(G447,種目名!$R$5:$T$104,3,0))","v":""},{"$f":"IF(J447=\"\",\"\",VLOOKUP(J447,種目名!$R$5:$T$104,3,0))","v":""},{"$f":"IF(M447=\"\",\"\",VLOOKUP(M447,種目名!$R$5:$T$104,3,0))","v":""},{"$f":"IF(P447=\"\",\"\",VLOOKUP(AF447,種目名!$R$5:$T$104,3,0))","v":""},{"$f":"IF(S447=\"\",\"\",VLOOKUP(AI447,種目名!$R$5:$T$104,3,0))","v":""},0,"","",0,"",""]
["",null,{"$f":"IF(B448=\"\",\"\",VLOOKUP(B448,学連登録!$C$2:$G$3000,2,FALSE))","v":""},{"$f":"IF(B448=\"\",\"\",VLOOKUP(B448,学連登録!$C$2:$G$3000,3,FALSE))","v":""},{"$f":"IF(B448=\"\",\"\",VLOOKUP(B448,学連登録!$C$2:$G$3000,4,FALSE))","v":""},"",null,null,null,null,null,null,null,null,null,null,null,null,null,null,null,{"$f":"IF(B448=\"\",\"\",VLOOKUP(B448,学連登録!$C$2:$H$3000,6,FALSE))","v":""},null,null,"",{"$f":"IF(G448=\"\",\"\",VLOOKUP(G448,種目名!$R$5:$T$104,3,0))","v":""},{"$f":"IF(J448=\"\",\"\",VLOOKUP(J448,種目名!$R$5:$T$104,3,0))","v":""},{"$f":"IF(M448=\"\",\"\",VLOOKUP(M448,種目名!$R$5:$T$104,3,0))","v":""},{"$f":"IF(P448=\"\",\"\",VLOOKUP(AF448,種目名!$R$5:$T$104,3,0))","v":""},{"$f":"IF(S448=\"\",\"\",VLOOKUP(AI448,種目名!$R$5:$T$104,3,0))","v":""},0,"","",0,"",""]
["",null,{"$f":"IF(B449=\"\",\"\",VLOOKUP(B449,学連登録!$C$2:$G$3000,2,FALSE))","v":""},{"$f":"IF(B449=\"\",\"\",VLOOKUP(B449,学連登録!$C$2:$G$3000,3,FALSE))","v":""},{"$f":"IF(B449=\"\",\"\",VLOOKUP(B449,学連登録!$C$2:$G$3000,4,FALSE))","v":""},"",null,null,null,null,null,null,null,null,null,null,null,null,null,null,null,{"$f":"IF(B449=\"\",\"\",VLOOKUP(B449,学連登録!$C$2:$H$3000,6,FALSE))","v":""},null,null,"",{"$f":"IF(G449=\"\",\"\",VLOOKUP(G449,種目名!$R$5:$T$104,3,0))","v":""},{"$f":"IF(J449=\"\",\"\",VLOOKUP(J449,種目名!$R$5:$T$104,3,0))","v":""},{"$f":"IF(M449=\"\",\"\",VLOOKUP(M449,種目名!$R$5:$T$104,3,0))","v":""},{"$f":"IF(P449=\"\",\"\",VLOOKUP(AF449,種目名!$R$5:$T$104,3,0))","v":""},{"$f":"IF(S449=\"\",\"\",VLOOKUP(AI449,種目名!$R$5:$T$104,3,0))","v":""},0,"","",0,"",""]
["",null,{"$f":"IF(B450=\"\",\"\",VLOOKUP(B450,学連登録!$C$2:$G$3000,2,FALSE))","v":""},{"$f":"IF(B450=\"\",\"\",VLOOKUP(B450,学連登録!$C$2:$G$3000,3,FALSE))","v":""},{"$f":"IF(B450=\"\",\"\",VLOOKUP(B450,学連登録!$C$2:$G$3000,4,FALSE))","v":""},"",null,null,null,null,null,null,null,null,null,null,null,null,null,null,null,{"$f":"IF(B450=\"\",\"\",VLOOKUP(B450,学連登録!$C$2:$H$3000,6,FALSE))","v":""},null,null,"",{"$f":"IF(G450=\"\",\"\",VLOOKUP(G450,種目名!$R$5:$T$104,3,0))","v":""},{"$f":"IF(J450=\"\",\"\",VLOOKUP(J450,種目名!$R$5:$T$104,3,0))","v":""},{"$f":"IF(M450=\"\",\"\",VLOOKUP(M450,種目名!$R$5:$T$104,3,0))","v":""},{"$f":"IF(P450=\"\",\"\",VLOOKUP(AF450,種目名!$R$5:$T$104,3,0))","v":""},{"$f":"IF(S450=\"\",\"\",VLOOKUP(AI450,種目名!$R$5:$T$104,3,0))","v":""},0,"","",0,"",""]
["",null,{"$f":"IF(B451=\"\",\"\",VLOOKUP(B451,学連登録!$C$2:$G$3000,2,FALSE))","v":""},{"$f":"IF(B451=\"\",\"\",VLOOKUP(B451,学連登録!$C$2:$G$3000,3,FALSE))","v":""},{"$f":"IF(B451=\"\",\"\",VLOOKUP(B451,学連登録!$C$2:$G$3000,4,FALSE))","v":""},"",null,null,null,null,null,null,null,null,null,null,null,null,null,null,null,{"$f":"IF(B451=\"\",\"\",VLOOKUP(B451,学連登録!$C$2:$H$3000,6,FALSE))","v":""},null,null,"",{"$f":"IF(G451=\"\",\"\",VLOOKUP(G451,種目名!$R$5:$T$104,3,0))","v":""},{"$f":"IF(J451=\"\",\"\",VLOOKUP(J451,種目名!$R$5:$T$104,3,0))","v":""},{"$f":"IF(M451=\"\",\"\",VLOOKUP(M451,種目名!$R$5:$T$104,3,0))","v":""},{"$f":"IF(P451=\"\",\"\",VLOOKUP(AF451,種目名!$R$5:$T$104,3,0))","v":""},{"$f":"IF(S451=\"\",\"\",VLOOKUP(AI451,種目名!$R$5:$T$104,3,0))","v":""},0,"","",0,"",""]
["",null,{"$f":"IF(B452=\"\",\"\",VLOOKUP(B452,学連登録!$C$2:$G$3000,2,FALSE))","v":""},{"$f":"IF(B452=\"\",\"\",VLOOKUP(B452,学連登録!$C$2:$G$3000,3,FALSE))","v":""},{"$f":"IF(B452=\"\",\"\",VLOOKUP(B452,学連登録!$C$2:$G$3000,4,FALSE))","v":""},"",null,null,null,null,null,null,null,null,null,null,null,null,null,null,null,{"$f":"IF(B452=\"\",\"\",VLOOKUP(B452,学連登録!$C$2:$H$3000,6,FALSE))","v":""},null,null,"",{"$f":"IF(G452=\"\",\"\",VLOOKUP(G452,種目名!$R$5:$T$104,3,0))","v":""},{"$f":"IF(J452=\"\",\"\",VLOOKUP(J452,種目名!$R$5:$T$104,3,0))","v":""},{"$f":"IF(M452=\"\",\"\",VLOOKUP(M452,種目名!$R$5:$T$104,3,0))","v":""},{"$f":"IF(P452=\"\",\"\",VLOOKUP(AF452,種目名!$R$5:$T$104,3,0))","v":""},{"$f":"IF(S452=\"\",\"\",VLOOKUP(AI452,種目名!$R$5:$T$104,3,0))","v":""},0,"","",0,"",""]
["",null,{"$f":"IF(B453=\"\",\"\",VLOOKUP(B453,学連登録!$C$2:$G$3000,2,FALSE))","v":""},{"$f":"IF(B453=\"\",\"\",VLOOKUP(B453,学連登録!$C$2:$G$3000,3,FALSE))","v":""},{"$f":"IF(B453=\"\",\"\",VLOOKUP(B453,学連登録!$C$2:$G$3000,4,FALSE))","v":""},"",null,null,null,null,null,null,null,null,null,null,null,null,null,null,null,{"$f":"IF(B453=\"\",\"\",VLOOKUP(B453,学連登録!$C$2:$H$3000,6,FALSE))","v":""},null,null,"",{"$f":"IF(G453=\"\",\"\",VLOOKUP(G453,種目名!$R$5:$T$104,3,0))","v":""},{"$f":"IF(J453=\"\",\"\",VLOOKUP(J453,種目名!$R$5:$T$104,3,0))","v":""},{"$f":"IF(M453=\"\",\"\",VLOOKUP(M453,種目名!$R$5:$T$104,3,0))","v":""},{"$f":"IF(P453=\"\",\"\",VLOOKUP(AF453,種目名!$R$5:$T$104,3,0))","v":""},{"$f":"IF(S453=\"\",\"\",VLOOKUP(AI453,種目名!$R$5:$T$104,3,0))","v":""},0,"","",0,"",""]
["",null,{"$f":"IF(B454=\"\",\"\",VLOOKUP(B454,学連登録!$C$2:$G$3000,2,FALSE))","v":""},{"$f":"IF(B454=\"\",\"\",VLOOKUP(B454,学連登録!$C$2:$G$3000,3,FALSE))","v":""},{"$f":"IF(B454=\"\",\"\",VLOOKUP(B454,学連登録!$C$2:$G$3000,4,FALSE))","v":""},"",null,null,null,null,null,null,null,null,null,null,null,null,null,null,null,{"$f":"IF(B454=\"\",\"\",VLOOKUP(B454,学連登録!$C$2:$H$3000,6,FALSE))","v":""},null,null,"",{"$f":"IF(G454=\"\",\"\",VLOOKUP(G454,種目名!$R$5:$T$104,3,0))","v":""},{"$f":"IF(J454=\"\",\"\",VLOOKUP(J454,種目名!$R$5:$T$104,3,0))","v":""},{"$f":"IF(M454=\"\",\"\",VLOOKUP(M454,種目名!$R$5:$T$104,3,0))","v":""},{"$f":"IF(P454=\"\",\"\",VLOOKUP(AF454,種目名!$R$5:$T$104,3,0))","v":""},{"$f":"IF(S454=\"\",\"\",VLOOKUP(AI454,種目名!$R$5:$T$104,3,0))","v":""},0,"","",0,"",""]
["",null,{"$f":"IF(B455=\"\",\"\",VLOOKUP(B455,学連登録!$C$2:$G$3000,2,FALSE))","v":""},{"$f":"IF(B455=\"\",\"\",VLOOKUP(B455,学連登録!$C$2:$G$3000,3,FALSE))","v":""},{"$f":"IF(B455=\"\",\"\",VLOOKUP(B455,学連登録!$C$2:$G$3000,4,FALSE))","v":""},"",null,null,null,null,null,null,null,null,null,null,null,null,null,null,null,{"$f":"IF(B455=\"\",\"\",VLOOKUP(B455,学連登録!$C$2:$H$3000,6,FALSE))","v":""},null,null,"",{"$f":"IF(G455=\"\",\"\",VLOOKUP(G455,種目名!$R$5:$T$104,3,0))","v":""},{"$f":"IF(J455=\"\",\"\",VLOOKUP(J455,種目名!$R$5:$T$104,3,0))","v":""},{"$f":"IF(M455=\"\",\"\",VLOOKUP(M455,種目名!$R$5:$T$104,3,0))","v":""},{"$f":"IF(P455=\"\",\"\",VLOOKUP(AF455,種目名!$R$5:$T$104,3,0))","v":""},{"$f":"IF(S455=\"\",\"\",VLOOKUP(AI455,種目名!$R$5:$T$104,3,0))","v":""},0,"","",0,"",""]
["",null,{"$f":"IF(B456=\"\",\"\",VLOOKUP(B456,学連登録!$C$2:$G$3000,2,FALSE))","v":""},{"$f":"IF(B456=\"\",\"\",VLOOKUP(B456,学連登録!$C$2:$G$3000,3,FALSE))","v":""},{"$f":"IF(B456=\"\",\"\",VLOOKUP(B456,学連登録!$C$2:$G$3000,4,FALSE))","v":""},"",null,null,null,null,null,null,null,null,null,null,null,null,null,null,null,{"$f":"IF(B456=\"\",\"\",VLOOKUP(B456,学連登録!$C$2:$H$3000,6,FALSE))","v":""},null,null,"",{"$f":"IF(G456=\"\",\"\",VLOOKUP(G456,種目名!$R$5:$T$104,3,0))","v":""},{"$f":"IF(J456=\"\",\"\",VLOOKUP(J456,種目名!$R$5:$T$104,3,0))","v":""},{"$f":"IF(M456=\"\",\"\",VLOOKUP(M456,種目名!$R$5:$T$104,3,0))","v":""},{"$f":"IF(P456=\"\",\"\",VLOOKUP(AF456,種目名!$R$5:$T$104,3,0))","v":""},{"$f":"IF(S456=\"\",\"\",VLOOKUP(AI456,種目名!$R$5:$T$104,3,0))","v":""},0,"","",0,"",""]
["",null,{"$f":"IF(B457=\"\",\"\",VLOOKUP(B457,学連登録!$C$2:$G$3000,2,FALSE))","v":""},{"$f":"IF(B457=\"\",\"\",VLOOKUP(B457,学連登録!$C$2:$G$3000,3,FALSE))","v":""},{"$f":"IF(B457=\"\",\"\",VLOOKUP(B457,学連登録!$C$2:$G$3000,4,FALSE))","v":""},"",null,null,null,null,null,null,null,null,null,null,null,null,null,null,null,{"$f":"IF(B457=\"\",\"\",VLOOKUP(B457,学連登録!$C$2:$H$3000,6,FALSE))","v":""},null,null,"",{"$f":"IF(G457=\"\",\"\",VLOOKUP(G457,種目名!$R$5:$T$104,3,0))","v":""},{"$f":"IF(J457=\"\",\"\",VLOOKUP(J457,種目名!$R$5:$T$104,3,0))","v":""},{"$f":"IF(M457=\"\",\"\",VLOOKUP(M457,種目名!$R$5:$T$104,3,0))","v":""},{"$f":"IF(P457=\"\",\"\",VLOOKUP(AF457,種目名!$R$5:$T$104,3,0))","v":""},{"$f":"IF(S457=\"\",\"\",VLOOKUP(AI457,種目名!$R$5:$T$104,3,0))","v":""},0,"","",0,"",""]
["",null,{"$f":"IF(B458=\"\",\"\",VLOOKUP(B458,学連登録!$C$2:$G$3000,2,FALSE))","v":""},{"$f":"IF(B458=\"\",\"\",VLOOKUP(B458,学連登録!$C$2:$G$3000,3,FALSE))","v":""},{"$f":"IF(B458=\"\",\"\",VLOOKUP(B458,学連登録!$C$2:$G$3000,4,FALSE))","v":""},"",null,null,null,null,null,null,null,null,null,null,null,null,null,null,null,{"$f":"IF(B458=\"\",\"\",VLOOKUP(B458,学連登録!$C$2:$H$3000,6,FALSE))","v":""},null,null,"",{"$f":"IF(G458=\"\",\"\",VLOOKUP(G458,種目名!$R$5:$T$104,3,0))","v":""},{"$f":"IF(J458=\"\",\"\",VLOOKUP(J458,種目名!$R$5:$T$104,3,0))","v":""},{"$f":"IF(M458=\"\",\"\",VLOOKUP(M458,種目名!$R$5:$T$104,3,0))","v":""},{"$f":"IF(P458=\"\",\"\",VLOOKUP(AF458,種目名!$R$5:$T$104,3,0))","v":""},{"$f":"IF(S458=\"\",\"\",VLOOKUP(AI458,種目名!$R$5:$T$104,3,0))","v":""},0,"","",0,"",""]
["",null,{"$f":"IF(B459=\"\",\"\",VLOOKUP(B459,学連登録!$C$2:$G$3000,2,FALSE))","v":""},{"$f":"IF(B459=\"\",\"\",VLOOKUP(B459,学連登録!$C$2:$G$3000,3,FALSE))","v":""},{"$f":"IF(B459=\"\",\"\",VLOOKUP(B459,学連登録!$C$2:$G$3000,4,FALSE))","v":""},"",null,null,null,null,null,null,null,null,null,null,null,null,null,null,null,{"$f":"IF(B459=\"\",\"\",VLOOKUP(B459,学連登録!$C$2:$H$3000,6,FALSE))","v":""},null,null,"",{"$f":"IF(G459=\"\",\"\",VLOOKUP(G459,種目名!$R$5:$T$104,3,0))","v":""},{"$f":"IF(J459=\"\",\"\",VLOOKUP(J459,種目名!$R$5:$T$104,3,0))","v":""},{"$f":"IF(M459=\"\",\"\",VLOOKUP(M459,種目名!$R$5:$T$104,3,0))","v":""},{"$f":"IF(P459=\"\",\"\",VLOOKUP(AF459,種目名!$R$5:$T$104,3,0))","v":""},{"$f":"IF(S459=\"\",\"\",VLOOKUP(AI459,種目名!$R$5:$T$104,3,0))","v":""},0,"","",0,"",""]
["",null,{"$f":"IF(B460=\"\",\"\",VLOOKUP(B460,学連登録!$C$2:$G$3000,2,FALSE))","v":""},{"$f":"IF(B460=\"\",\"\",VLOOKUP(B460,学連登録!$C$2:$G$3000,3,FALSE))","v":""},{"$f":"IF(B460=\"\",\"\",VLOOKUP(B460,学連登録!$C$2:$G$3000,4,FALSE))","v":""},"",null,null,null,null,null,null,null,null,null,null,null,null,null,null,null,{"$f":"IF(B460=\"\",\"\",VLOOKUP(B460,学連登録!$C$2:$H$3000,6,FALSE))","v":""},null,null,"",{"$f":"IF(G460=\"\",\"\",VLOOKUP(G460,種目名!$R$5:$T$104,3,0))","v":""},{"$f":"IF(J460=\"\",\"\",VLOOKUP(J460,種目名!$R$5:$T$104,3,0))","v":""},{"$f":"IF(M460=\"\",\"\",VLOOKUP(M460,種目名!$R$5:$T$104,3,0))","v":""},{"$f":"IF(P460=\"\",\"\",VLOOKUP(AF460,種目名!$R$5:$T$104,3,0))","v":""},{"$f":"IF(S460=\"\",\"\",VLOOKUP(AI460,種目名!$R$5:$T$104,3,0))","v":""},0,"","",0,"",""]
["",null,{"$f":"IF(B461=\"\",\"\",VLOOKUP(B461,学連登録!$C$2:$G$3000,2,FALSE))","v":""},{"$f":"IF(B461=\"\",\"\",VLOOKUP(B461,学連登録!$C$2:$G$3000,3,FALSE))","v":""},{"$f":"IF(B461=\"\",\"\",VLOOKUP(B461,学連登録!$C$2:$G$3000,4,FALSE))","v":""},{"$f":"IF(C461=\"\",\"\",$P$1)","v":""},null,null,null,null,null,null,null,null,null,null,null,null,null,null,null,{"$f":"IF(B461=\"\",\"\",VLOOKUP(B461,学連登録!$C$2:$H$3000,6,FALSE))","v":""},null,null,"",{"$f":"IF(G461=\"\",\"\",VLOOKUP(G461,種目名!$R$5:$T$104,3,0))","v":""},{"$f":"IF(J461=\"\",\"\",VLOOKUP(J461,種目名!$R$5:$T$104,3,0))","v":""},{"$f":"IF(M461=\"\",\"\",VLOOKUP(M461,種目名!$R$5:$T$104,3,0))","v":""},{"$f":"IF(P461=\"\",\"\",VLOOKUP(AF461,種目名!$R$5:$T$104,3,0))","v":""},{"$f":"IF(S461=\"\",\"\",VLOOKUP(AI461,種目名!$R$5:$T$104,3,0))","v":""},0,"","",0,"",""]
["",null,{"$f":"IF(B462=\"\",\"\",VLOOKUP(B462,学連登録!$C$2:$G$3000,2,FALSE))","v":""},{"$f":"IF(B462=\"\",\"\",VLOOKUP(B462,学連登録!$C$2:$G$3000,3,FALSE))","v":""},{"$f":"IF(B462=\"\",\"\",VLOOKUP(B462,学連登録!$C$2:$G$3000,4,FALSE))","v":""},"",null,null,null,null,null,null,null,null,null,null,null,null,null,null,null,{"$f":"IF(B462=\"\",\"\",VLOOKUP(B462,学連登録!$C$2:$H$3000,6,FALSE))","v":""},null,null,"",{"$f":"IF(G462=\"\",\"\",VLOOKUP(G462,種目名!$R$5:$T$104,3,0))","v":""},{"$f":"IF(J462=\"\",\"\",VLOOKUP(J462,種目名!$R$5:$T$104,3,0))","v":""},{"$f":"IF(M462=\"\",\"\",VLOOKUP(M462,種目名!$R$5:$T$104,3,0))","v":""},{"$f":"IF(P462=\"\",\"\",VLOOKUP(AF462,種目名!$R$5:$T$104,3,0))","v":""},{"$f":"IF(S462=\"\",\"\",VLOOKUP(AI462,種目名!$R$5:$T$104,3,0))","v":""},0,"","",0,"",""]
["",null,{"$f":"IF(B463=\"\",\"\",VLOOKUP(B463,学連登録!$C$2:$G$3000,2,FALSE))","v":""},{"$f":"IF(B463=\"\",\"\",VLOOKUP(B463,学連登録!$C$2:$G$3000,3,FALSE))","v":""},{"$f":"IF(B463=\"\",\"\",VLOOKUP(B463,学連登録!$C$2:$G$3000,4,FALSE))","v":""},"",null,null,null,null,null,null,null,null,null,null,null,null,null,null,null,{"$f":"IF(B463=\"\",\"\",VLOOKUP(B463,学連登録!$C$2:$H$3000,6,FALSE))","v":""},null,null,"",{"$f":"IF(G463=\"\",\"\",VLOOKUP(G463,種目名!$R$5:$T$104,3,0))","v":""},{"$f":"IF(J463=\"\",\"\",VLOOKUP(J463,種目名!$R$5:$T$104,3,0))","v":""},{"$f":"IF(M463=\"\",\"\",VLOOKUP(M463,種目名!$R$5:$T$104,3,0))","v":""},{"$f":"IF(P463=\"\",\"\",VLOOKUP(AF463,種目名!$R$5:$T$104,3,0))","v":""},{"$f":"IF(S463=\"\",\"\",VLOOKUP(AI463,種目名!$R$5:$T$104,3,0))","v":""},0,"","",0,"",""]
["",null,{"$f":"IF(B464=\"\",\"\",VLOOKUP(B464,学連登録!$C$2:$G$3000,2,FALSE))","v":""},{"$f":"IF(B464=\"\",\"\",VLOOKUP(B464,学連登録!$C$2:$G$3000,3,FALSE))","v":""},{"$f":"IF(B464=\"\",\"\",VLOOKUP(B464,学連登録!$C$2:$G$3000,4,FALSE))","v":""},"",null,null,null,null,null,null,null,null,null,null,null,null,null,null,null,{"$f":"IF(B464=\"\",\"\",VLOOKUP(B464,学連登録!$C$2:$H$3000,6,FALSE))","v":""},null,null,"",{"$f":"IF(G464=\"\",\"\",VLOOKUP(G464,種目名!$R$5:$T$104,3,0))","v":""},{"$f":"IF(J464=\"\",\"\",VLOOKUP(J464,種目名!$R$5:$T$104,3,0))","v":""},{"$f":"IF(M464=\"\",\"\",VLOOKUP(M464,種目名!$R$5:$T$104,3,0))","v":""},{"$f":"IF(P464=\"\",\"\",VLOOKUP(AF464,種目名!$R$5:$T$104,3,0))","v":""},{"$f":"IF(S464=\"\",\"\",VLOOKUP(AI464,種目名!$R$5:$T$104,3,0))","v":""},0,"","",0,"",""]
["",null,{"$f":"IF(B465=\"\",\"\",VLOOKUP(B465,学連登録!$C$2:$G$3000,2,FALSE))","v":""},{"$f":"IF(B465=\"\",\"\",VLOOKUP(B465,学連登録!$C$2:$G$3000,3,FALSE))","v":""},{"$f":"IF(B465=\"\",\"\",VLOOKUP(B465,学連登録!$C$2:$G$3000,4,FALSE))","v":""},"",null,null,null,null,null,null,null,null,null,null,null,null,null,null,null,{"$f":"IF(B465=\"\",\"\",VLOOKUP(B465,学連登録!$C$2:$H$3000,6,FALSE))","v":""},null,null,"",{"$f":"IF(G465=\"\",\"\",VLOOKUP(G465,種目名!$R$5:$T$104,3,0))","v":""},{"$f":"IF(J465=\"\",\"\",VLOOKUP(J465,種目名!$R$5:$T$104,3,0))","v":""},{"$f":"IF(M465=\"\",\"\",VLOOKUP(M465,種目名!$R$5:$T$104,3,0))","v":""},{"$f":"IF(P465=\"\",\"\",VLOOKUP(AF465,種目名!$R$5:$T$104,3,0))","v":""},{"$f":"IF(S465=\"\",\"\",VLOOKUP(AI465,種目名!$R$5:$T$104,3,0))","v":""},0,"","",0,"",""]
["",null,{"$f":"IF(B466=\"\",\"\",VLOOKUP(B466,学連登録!$C$2:$G$3000,2,FALSE))","v":""},{"$f":"IF(B466=\"\",\"\",VLOOKUP(B466,学連登録!$C$2:$G$3000,3,FALSE))","v":""},{"$f":"IF(B466=\"\",\"\",VLOOKUP(B466,学連登録!$C$2:$G$3000,4,FALSE))","v":""},"",null,null,null,null,null,null,null,null,null,null,null,null,null,null,null,{"$f":"IF(B466=\"\",\"\",VLOOKUP(B466,学連登録!$C$2:$H$3000,6,FALSE))","v":""},null,null,"",{"$f":"IF(G466=\"\",\"\",VLOOKUP(G466,種目名!$R$5:$T$104,3,0))","v":""},{"$f":"IF(J466=\"\",\"\",VLOOKUP(J466,種目名!$R$5:$T$104,3,0))","v":""},{"$f":"IF(M466=\"\",\"\",VLOOKUP(M466,種目名!$R$5:$T$104,3,0))","v":""},{"$f":"IF(P466=\"\",\"\",VLOOKUP(AF466,種目名!$R$5:$T$104,3,0))","v":""},{"$f":"IF(S466=\"\",\"\",VLOOKUP(AI466,種目名!$R$5:$T$104,3,0))","v":""},0,"","",0,"",""]
["",null,{"$f":"IF(B467=\"\",\"\",VLOOKUP(B467,学連登録!$C$2:$G$3000,2,FALSE))","v":""},{"$f":"IF(B467=\"\",\"\",VLOOKUP(B467,学連登録!$C$2:$G$3000,3,FALSE))","v":""},{"$f":"IF(B467=\"\",\"\",VLOOKUP(B467,学連登録!$C$2:$G$3000,4,FALSE))","v":""},"",null,null,null,null,null,null,null,null,null,null,null,null,null,null,null,{"$f":"IF(B467=\"\",\"\",VLOOKUP(B467,学連登録!$C$2:$H$3000,6,FALSE))","v":""},null,null,"",{"$f":"IF(G467=\"\",\"\",VLOOKUP(G467,種目名!$R$5:$T$104,3,0))","v":""},{"$f":"IF(J467=\"\",\"\",VLOOKUP(J467,種目名!$R$5:$T$104,3,0))","v":""},{"$f":"IF(M467=\"\",\"\",VLOOKUP(M467,種目名!$R$5:$T$104,3,0))","v":""},{"$f":"IF(P467=\"\",\"\",VLOOKUP(AF467,種目名!$R$5:$T$104,3,0))","v":""},{"$f":"IF(S467=\"\",\"\",VLOOKUP(AI467,種目名!$R$5:$T$104,3,0))","v":""},0,"","",0,"",""]
["",null,{"$f":"IF(B468=\"\",\"\",VLOOKUP(B468,学連登録!$C$2:$G$3000,2,FALSE))","v":""},{"$f":"IF(B468=\"\",\"\",VLOOKUP(B468,学連登録!$C$2:$G$3000,3,FALSE))","v":""},{"$f":"IF(B468=\"\",\"\",VLOOKUP(B468,学連登録!$C$2:$G$3000,4,FALSE))","v":""},"",null,null,null,null,null,null,null,null,null,null,null,null,null,null,null,{"$f":"IF(B468=\"\",\"\",VLOOKUP(B468,学連登録!$C$2:$H$3000,6,FALSE))","v":""},null,null,"",{"$f":"IF(G468=\"\",\"\",VLOOKUP(G468,種目名!$R$5:$T$104,3,0))","v":""},{"$f":"IF(J468=\"\",\"\",VLOOKUP(J468,種目名!$R$5:$T$104,3,0))","v":""},{"$f":"IF(M468=\"\",\"\",VLOOKUP(M468,種目名!$R$5:$T$104,3,0))","v":""},{"$f":"IF(P468=\"\",\"\",VLOOKUP(AF468,種目名!$R$5:$T$104,3,0))","v":""},{"$f":"IF(S468=\"\",\"\",VLOOKUP(AI468,種目名!$R$5:$T$104,3,0))","v":""},0,"","",0,"",""]
["",null,{"$f":"IF(B469=\"\",\"\",VLOOKUP(B469,学連登録!$C$2:$G$3000,2,FALSE))","v":""},{"$f":"IF(B469=\"\",\"\",VLOOKUP(B469,学連登録!$C$2:$G$3000,3,FALSE))","v":""},{"$f":"IF(B469=\"\",\"\",VLOOKUP(B469,学連登録!$C$2:$G$3000,4,FALSE))","v":""},"",null,null,null,null,null,null,null,null,null,null,null,null,null,null,null,{"$f":"IF(B469=\"\",\"\",VLOOKUP(B469,学連登録!$C$2:$H$3000,6,FALSE))","v":""},null,null,"",{"$f":"IF(G469=\"\",\"\",VLOOKUP(G469,種目名!$R$5:$T$104,3,0))","v":""},{"$f":"IF(J469=\"\",\"\",VLOOKUP(J469,種目名!$R$5:$T$104,3,0))","v":""},{"$f":"IF(M469=\"\",\"\",VLOOKUP(M469,種目名!$R$5:$T$104,3,0))","v":""},{"$f":"IF(P469=\"\",\"\",VLOOKUP(AF469,種目名!$R$5:$T$104,3,0))","v":""},{"$f":"IF(S469=\"\",\"\",VLOOKUP(AI469,種目名!$R$5:$T$104,3,0))","v":""},0,"","",0,"",""]
["",null,{"$f":"IF(B470=\"\",\"\",VLOOKUP(B470,学連登録!$C$2:$G$3000,2,FALSE))","v":""},{"$f":"IF(B470=\"\",\"\",VLOOKUP(B470,学連登録!$C$2:$G$3000,3,FALSE))","v":""},{"$f":"IF(B470=\"\",\"\",VLOOKUP(B470,学連登録!$C$2:$G$3000,4,FALSE))","v":""},"",null,null,null,null,null,null,null,null,null,null,null,null,null,null,null,{"$f":"IF(B470=\"\",\"\",VLOOKUP(B470,学連登録!$C$2:$H$3000,6,FALSE))","v":""},null,null,{"$f":"IF(C470=\"\",\"\",$S$3)","v":""},{"$f":"IF(G470=\"\",\"\",VLOOKUP(G470,種目名!$R$5:$T$104,3,0))","v":""},{"$f":"IF(J470=\"\",\"\",VLOOKUP(J470,種目名!$R$5:$T$104,3,0))","v":""},{"$f":"IF(M470=\"\",\"\",VLOOKUP(M470,種目名!$R$5:$T$104,3,0))","v":""},{"$f":"IF(P470=\"\",\"\",VLOOKUP(AF470,種目名!$R$5:$T$104,3,0))","v":""},{"$f":"IF(S470=\"\",\"\",VLOOKUP(AI470,種目名!$R$5:$T$104,3,0))","v":""},{"$f":"LENB(P470)","v":0},{"$f":"IF(AE470,LEFTB(P470,AE470-1),\"\")","v":""},{"$f":"IF(AE470,MIDB(P470,AE470,1),\"\")","v":""},{"$f":"LENB(S470)","v":0},{"$f":"IF(AH470,LEFTB(S470,AH470-1),\"\")","v":""},{"$f":"IF(AH470,MIDB(S470,AH470,1),\"\")","v":""}]
["",null,{"$f":"IF(B471=\"\",\"\",VLOOKUP(B471,学連登録!$C$2:$G$3000,2,FALSE))","v":""},{"$f":"IF(B471=\"\",\"\",VLOOKUP(B471,学連登録!$C$2:$G$3000,3,FALSE))","v":""},{"$f":"IF(B471=\"\",\"\",VLOOKUP(B471,学連登録!$C$2:$G$3000,4,FALSE))","v":""},"",null,null,null,null,null,null,null,null,null,null,null,null,null,null,null,{"$f":"IF(B471=\"\",\"\",VLOOKUP(B471,学連登録!$C$2:$H$3000,6,FALSE))","v":""},null,null,"",{"$f":"IF(G471=\"\",\"\",VLOOKUP(G471,種目名!$R$5:$T$104,3,0))","v":""},{"$f":"IF(J471=\"\",\"\",VLOOKUP(J471,種目名!$R$5:$T$104,3,0))","v":""},{"$f":"IF(M471=\"\",\"\",VLOOKUP(M471,種目名!$R$5:$T$104,3,0))","v":""},{"$f":"IF(P471=\"\",\"\",VLOOKUP(AF471,種目名!$R$5:$T$104,3,0))","v":""},{"$f":"IF(S471=\"\",\"\",VLOOKUP(AI471,種目名!$R$5:$T$104,3,0))","v":""},0,"","",0,"",""]
["",null,{"$f":"IF(B472=\"\",\"\",VLOOKUP(B472,学連登録!$C$2:$G$3000,2,FALSE))","v":""},{"$f":"IF(B472=\"\",\"\",VLOOKUP(B472,学連登録!$C$2:$G$3000,3,FALSE))","v":""},{"$f":"IF(B472=\"\",\"\",VLOOKUP(B472,学連登録!$C$2:$G$3000,4,FALSE))","v":""},"",null,null,null,null,null,null,null,null,null,null,null,null,null,null,null,{"$f":"IF(B472=\"\",\"\",VLOOKUP(B472,学連登録!$C$2:$H$3000,6,FALSE))","v":""},null,null,"",{"$f":"IF(G472=\"\",\"\",VLOOKUP(G472,種目名!$R$5:$T$104,3,0))","v":""},{"$f":"IF(J472=\"\",\"\",VLOOKUP(J472,種目名!$R$5:$T$104,3,0))","v":""},{"$f":"IF(M472=\"\",\"\",VLOOKUP(M472,種目名!$R$5:$T$104,3,0))","v":""},{"$f":"IF(P472=\"\",\"\",VLOOKUP(AF472,種目名!$R$5:$T$104,3,0))","v":""},{"$f":"IF(S472=\"\",\"\",VLOOKUP(AI472,種目名!$R$5:$T$104,3,0))","v":""},0,"","",0,"",""]
["",null,{"$f":"IF(B473=\"\",\"\",VLOOKUP(B473,学連登録!$C$2:$G$3000,2,FALSE))","v":""},{"$f":"IF(B473=\"\",\"\",VLOOKUP(B473,学連登録!$C$2:$G$3000,3,FALSE))","v":""},{"$f":"IF(B473=\"\",\"\",VLOOKUP(B473,学連登録!$C$2:$G$3000,4,FALSE))","v":""},"",null,null,null,null,null,null,null,null,null,null,null,null,null,null,null,{"$f":"IF(B473=\"\",\"\",VLOOKUP(B473,学連登録!$C$2:$H$3000,6,FALSE))","v":""},null,null,"",{"$f":"IF(G473=\"\",\"\",VLOOKUP(G473,種目名!$R$5:$T$104,3,0))","v":""},{"$f":"IF(J473=\"\",\"\",VLOOKUP(J473,種目名!$R$5:$T$104,3,0))","v":""},{"$f":"IF(M473=\"\",\"\",VLOOKUP(M473,種目名!$R$5:$T$104,3,0))","v":""},{"$f":"IF(P473=\"\",\"\",VLOOKUP(AF473,種目名!$R$5:$T$104,3,0))","v":""},{"$f":"IF(S473=\"\",\"\",VLOOKUP(AI473,種目名!$R$5:$T$104,3,0))","v":""},0,"","",0,"",""]
["",null,{"$f":"IF(B474=\"\",\"\",VLOOKUP(B474,学連登録!$C$2:$G$3000,2,FALSE))","v":""},{"$f":"IF(B474=\"\",\"\",VLOOKUP(B474,学連登録!$C$2:$G$3000,3,FALSE))","v":""},{"$f":"IF(B474=\"\",\"\",VLOOKUP(B474,学連登録!$C$2:$G$3000,4,FALSE))","v":""},"",null,null,null,null,null,null,null,null,null,null,null,null,null,null,null,{"$f":"IF(B474=\"\",\"\",VLOOKUP(B474,学連登録!$C$2:$H$3000,6,FALSE))","v":""},null,null,"",{"$f":"IF(G474=\"\",\"\",VLOOKUP(G474,種目名!$R$5:$T$104,3,0))","v":""},{"$f":"IF(J474=\"\",\"\",VLOOKUP(J474,種目名!$R$5:$T$104,3,0))","v":""},{"$f":"IF(M474=\"\",\"\",VLOOKUP(M474,種目名!$R$5:$T$104,3,0))","v":""},{"$f":"IF(P474=\"\",\"\",VLOOKUP(AF474,種目名!$R$5:$T$104,3,0))","v":""},{"$f":"IF(S474=\"\",\"\",VLOOKUP(AI474,種目名!$R$5:$T$104,3,0))","v":""},0,"","",0,"",""]
["",null,{"$f":"IF(B475=\"\",\"\",VLOOKUP(B475,学連登録!$C$2:$G$3000,2,FALSE))","v":""},{"$f":"IF(B475=\"\",\"\",VLOOKUP(B475,学連登録!$C$2:$G$3000,3,FALSE))","v":""},{"$f":"IF(B475=\"\",\"\",VLOOKUP(B475,学連登録!$C$2:$G$3000,4,FALSE))","v":""},"",null,null,null,null,null,null,null,null,null,null,null,null,null,null,null,{"$f":"IF(B475=\"\",\"\",VLOOKUP(B475,学連登録!$C$2:$H$3000,6,FALSE))","v":""},null,null,"",{"$f":"IF(G475=\"\",\"\",VLOOKUP(G475,種目名!$R$5:$T$104,3,0))","v":""},{"$f":"IF(J475=\"\",\"\",VLOOKUP(J475,種目名!$R$5:$T$104,3,0))","v":""},{"$f":"IF(M475=\"\",\"\",VLOOKUP(M475,種目名!$R$5:$T$104,3,0))","v":""},{"$f":"IF(P475=\"\",\"\",VLOOKUP(AF475,種目名!$R$5:$T$104,3,0))","v":""},{"$f":"IF(S475=\"\",\"\",VLOOKUP(AI475,種目名!$R$5:$T$104,3,0))","v":""},0,"","",0,"",""]
["",null,{"$f":"IF(B476=\"\",\"\",VLOOKUP(B476,学連登録!$C$2:$G$3000,2,FALSE))","v":""},{"$f":"IF(B476=\"\",\"\",VLOOKUP(B476,学連登録!$C$2:$G$3000,3,FALSE))","v":""},{"$f":"IF(B476=\"\",\"\",VLOOKUP(B476,学連登録!$C$2:$G$3000,4,FALSE))","v":""},"",null,null,null,null,null,null,null,null,null,null,null,null,null,null,null,{"$f":"IF(B476=\"\",\"\",VLOOKUP(B476,学連登録!$C$2:$H$3000,6,FALSE))","v":""},null,null,"",{"$f":"IF(G476=\"\",\"\",VLOOKUP(G476,種目名!$R$5:$T$104,3,0))","v":""},{"$f":"IF(J476=\"\",\"\",VLOOKUP(J476,種目名!$R$5:$T$104,3,0))","v":""},{"$f":"IF(M476=\"\",\"\",VLOOKUP(M476,種目名!$R$5:$T$104,3,0))","v":""},{"$f":"IF(P476=\"\",\"\",VLOOKUP(AF476,種目名!$R$5:$T$104,3,0))","v":""},{"$f":"IF(S476=\"\",\"\",VLOOKUP(AI476,種目名!$R$5:$T$104,3,0))","v":""},0,"","",0,"",""]
["",null,{"$f":"IF(B477=\"\",\"\",VLOOKUP(B477,学連登録!$C$2:$G$3000,2,FALSE))","v":""},{"$f":"IF(B477=\"\",\"\",VLOOKUP(B477,学連登録!$C$2:$G$3000,3,FALSE))","v":""},{"$f":"IF(B477=\"\",\"\",VLOOKUP(B477,学連登録!$C$2:$G$3000,4,FALSE))","v":""},"",null,null,null,null,null,null,null,null,null,null,null,null,null,null,null,{"$f":"IF(B477=\"\",\"\",VLOOKUP(B477,学連登録!$C$2:$H$3000,6,FALSE))","v":""},null,null,"",{"$f":"IF(G477=\"\",\"\",VLOOKUP(G477,種目名!$R$5:$T$104,3,0))","v":""},{"$f":"IF(J477=\"\",\"\",VLOOKUP(J477,種目名!$R$5:$T$104,3,0))","v":""},{"$f":"IF(M477=\"\",\"\",VLOOKUP(M477,種目名!$R$5:$T$104,3,0))","v":""},{"$f":"IF(P477=\"\",\"\",VLOOKUP(AF477,種目名!$R$5:$T$104,3,0))","v":""},{"$f":"IF(S477=\"\",\"\",VLOOKUP(AI477,種目名!$R$5:$T$104,3,0))","v":""},0,"","",0,"",""]
["",null,{"$f":"IF(B478=\"\",\"\",VLOOKUP(B478,学連登録!$C$2:$G$3000,2,FALSE))","v":""},{"$f":"IF(B478=\"\",\"\",VLOOKUP(B478,学連登録!$C$2:$G$3000,3,FALSE))","v":""},{"$f":"IF(B478=\"\",\"\",VLOOKUP(B478,学連登録!$C$2:$G$3000,4,FALSE))","v":""},"",null,null,null,null,null,null,null,null,null,null,null,null,null,null,null,{"$f":"IF(B478=\"\",\"\",VLOOKUP(B478,学連登録!$C$2:$H$3000,6,FALSE))","v":""},null,null,"",{"$f":"IF(G478=\"\",\"\",VLOOKUP(G478,種目名!$R$5:$T$104,3,0))","v":""},{"$f":"IF(J478=\"\",\"\",VLOOKUP(J478,種目名!$R$5:$T$104,3,0))","v":""},{"$f":"IF(M478=\"\",\"\",VLOOKUP(M478,種目名!$R$5:$T$104,3,0))","v":""},{"$f":"IF(P478=\"\",\"\",VLOOKUP(AF478,種目名!$R$5:$T$104,3,0))","v":""},{"$f":"IF(S478=\"\",\"\",VLOOKUP(AI478,種目名!$R$5:$T$104,3,0))","v":""},0,"","",0,"",""]
["",null,{"$f":"IF(B479=\"\",\"\",VLOOKUP(B479,学連登録!$C$2:$G$3000,2,FALSE))","v":""},{"$f":"IF(B479=\"\",\"\",VLOOKUP(B479,学連登録!$C$2:$G$3000,3,FALSE))","v":""},{"$f":"IF(B479=\"\",\"\",VLOOKUP(B479,学連登録!$C$2:$G$3000,4,FALSE))","v":""},"",null,null,null,null,null,null,null,null,null,null,null,null,null,null,null,{"$f":"IF(B479=\"\",\"\",VLOOKUP(B479,学連登録!$C$2:$H$3000,6,FALSE))","v":""},null,null,"",{"$f":"IF(G479=\"\",\"\",VLOOKUP(G479,種目名!$R$5:$T$104,3,0))","v":""},{"$f":"IF(J479=\"\",\"\",VLOOKUP(J479,種目名!$R$5:$T$104,3,0))","v":""},{"$f":"IF(M479=\"\",\"\",VLOOKUP(M479,種目名!$R$5:$T$104,3,0))","v":""},{"$f":"IF(P479=\"\",\"\",VLOOKUP(AF479,種目名!$R$5:$T$104,3,0))","v":""},{"$f":"IF(S479=\"\",\"\",VLOOKUP(AI479,種目名!$R$5:$T$104,3,0))","v":""},0,"","",0,"",""]
["",null,{"$f":"IF(B480=\"\",\"\",VLOOKUP(B480,学連登録!$C$2:$G$3000,2,FALSE))","v":""},{"$f":"IF(B480=\"\",\"\",VLOOKUP(B480,学連登録!$C$2:$G$3000,3,FALSE))","v":""},{"$f":"IF(B480=\"\",\"\",VLOOKUP(B480,学連登録!$C$2:$G$3000,4,FALSE))","v":""},"",null,null,null,null,null,null,null,null,null,null,null,null,null,null,null,{"$f":"IF(B480=\"\",\"\",VLOOKUP(B480,学連登録!$C$2:$H$3000,6,FALSE))","v":""},null,null,"",{"$f":"IF(G480=\"\",\"\",VLOOKUP(G480,種目名!$R$5:$T$104,3,0))","v":""},{"$f":"IF(J480=\"\",\"\",VLOOKUP(J480,種目名!$R$5:$T$104,3,0))","v":""},{"$f":"IF(M480=\"\",\"\",VLOOKUP(M480,種目名!$R$5:$T$104,3,0))","v":""},{"$f":"IF(P480=\"\",\"\",VLOOKUP(AF480,種目名!$R$5:$T$104,3,0))","v":""},{"$f":"IF(S480=\"\",\"\",VLOOKUP(AI480,種目名!$R$5:$T$104,3,0))","v":""},0,"","",0,"",""]
["",null,{"$f":"IF(B481=\"\",\"\",VLOOKUP(B481,学連登録!$C$2:$G$3000,2,FALSE))","v":""},{"$f":"IF(B481=\"\",\"\",VLOOKUP(B481,学連登録!$C$2:$G$3000,3,FALSE))","v":""},{"$f":"IF(B481=\"\",\"\",VLOOKUP(B481,学連登録!$C$2:$G$3000,4,FALSE))","v":""},"",null,null,null,null,null,null,null,null,null,null,null,null,null,null,null,{"$f":"IF(B481=\"\",\"\",VLOOKUP(B481,学連登録!$C$2:$H$3000,6,FALSE))","v":""},null,null,"",{"$f":"IF(G481=\"\",\"\",VLOOKUP(G481,種目名!$R$5:$T$104,3,0))","v":""},{"$f":"IF(J481=\"\",\"\",VLOOKUP(J481,種目名!$R$5:$T$104,3,0))","v":""},{"$f":"IF(M481=\"\",\"\",VLOOKUP(M481,種目名!$R$5:$T$104,3,0))","v":""},{"$f":"IF(P481=\"\",\"\",VLOOKUP(AF481,種目名!$R$5:$T$104,3,0))","v":""},{"$f":"IF(S481=\"\",\"\",VLOOKUP(AI481,種目名!$R$5:$T$104,3,0))","v":""},0,"","",0,"",""]
["",null,{"$f":"IF(B482=\"\",\"\",VLOOKUP(B482,学連登録!$C$2:$G$3000,2,FALSE))","v":""},{"$f":"IF(B482=\"\",\"\",VLOOKUP(B482,学連登録!$C$2:$G$3000,3,FALSE))","v":""},{"$f":"IF(B482=\"\",\"\",VLOOKUP(B482,学連登録!$C$2:$G$3000,4,FALSE))","v":""},"",null,null,null,null,null,null,null,null,null,null,null,null,null,null,null,{"$f":"IF(B482=\"\",\"\",VLOOKUP(B482,学連登録!$C$2:$H$3000,6,FALSE))","v":""},null,null,"",{"$f":"IF(G482=\"\",\"\",VLOOKUP(G482,種目名!$R$5:$T$104,3,0))","v":""},{"$f":"IF(J482=\"\",\"\",VLOOKUP(J482,種目名!$R$5:$T$104,3,0))","v":""},{"$f":"IF(M482=\"\",\"\",VLOOKUP(M482,種目名!$R$5:$T$104,3,0))","v":""},{"$f":"IF(P482=\"\",\"\",VLOOKUP(AF482,種目名!$R$5:$T$104,3,0))","v":""},{"$f":"IF(S482=\"\",\"\",VLOOKUP(AI482,種目名!$R$5:$T$104,3,0))","v":""},0,"","",0,"",""]
["",null,{"$f":"IF(B483=\"\",\"\",VLOOKUP(B483,学連登録!$C$2:$G$3000,2,FALSE))","v":""},{"$f":"IF(B483=\"\",\"\",VLOOKUP(B483,学連登録!$C$2:$G$3000,3,FALSE))","v":""},{"$f":"IF(B483=\"\",\"\",VLOOKUP(B483,学連登録!$C$2:$G$3000,4,FALSE))","v":""},"",null,null,null,null,null,null,null,null,null,null,null,null,null,null,null,{"$f":"IF(B483=\"\",\"\",VLOOKUP(B483,学連登録!$C$2:$H$3000,6,FALSE))","v":""},null,null,"",{"$f":"IF(G483=\"\",\"\",VLOOKUP(G483,種目名!$R$5:$T$104,3,0))","v":""},{"$f":"IF(J483=\"\",\"\",VLOOKUP(J483,種目名!$R$5:$T$104,3,0))","v":""},{"$f":"IF(M483=\"\",\"\",VLOOKUP(M483,種目名!$R$5:$T$104,3,0))","v":""},{"$f":"IF(P483=\"\",\"\",VLOOKUP(AF483,種目名!$R$5:$T$104,3,0))","v":""},{"$f":"IF(S483=\"\",\"\",VLOOKUP(AI483,種目名!$R$5:$T$104,3,0))","v":""},0,"","",0,"",""]
["",null,{"$f":"IF(B484=\"\",\"\",VLOOKUP(B484,学連登録!$C$2:$G$3000,2,FALSE))","v":""},{"$f":"IF(B484=\"\",\"\",VLOOKUP(B484,学連登録!$C$2:$G$3000,3,FALSE))","v":""},{"$f":"IF(B484=\"\",\"\",VLOOKUP(B484,学連登録!$C$2:$G$3000,4,FALSE))","v":""},"",null,null,null,null,null,null,null,null,null,null,null,null,null,null,null,{"$f":"IF(B484=\"\",\"\",VLOOKUP(B484,学連登録!$C$2:$H$3000,6,FALSE))","v":""},null,null,"",{"$f":"IF(G484=\"\",\"\",VLOOKUP(G484,種目名!$R$5:$T$104,3,0))","v":""},{"$f":"IF(J484=\"\",\"\",VLOOKUP(J484,種目名!$R$5:$T$104,3,0))","v":""},{"$f":"IF(M484=\"\",\"\",VLOOKUP(M484,種目名!$R$5:$T$104,3,0))","v":""},{"$f":"IF(P484=\"\",\"\",VLOOKUP(AF484,種目名!$R$5:$T$104,3,0))","v":""},{"$f":"IF(S484=\"\",\"\",VLOOKUP(AI484,種目名!$R$5:$T$104,3,0))","v":""},0,"","",0,"",""]
["",null,{"$f":"IF(B485=\"\",\"\",VLOOKUP(B485,学連登録!$C$2:$G$3000,2,FALSE))","v":""},{"$f":"IF(B485=\"\",\"\",VLOOKUP(B485,学連登録!$C$2:$G$3000,3,FALSE))","v":""},{"$f":"IF(B485=\"\",\"\",VLOOKUP(B485,学連登録!$C$2:$G$3000,4,FALSE))","v":""},"",null,null,null,null,null,null,null,null,null,null,null,null,null,null,null,{"$f":"IF(B485=\"\",\"\",VLOOKUP(B485,学連登録!$C$2:$H$3000,6,FALSE))","v":""},null,null,"",{"$f":"IF(G485=\"\",\"\",VLOOKUP(G485,種目名!$R$5:$T$104,3,0))","v":""},{"$f":"IF(J485=\"\",\"\",VLOOKUP(J485,種目名!$R$5:$T$104,3,0))","v":""},{"$f":"IF(M485=\"\",\"\",VLOOKUP(M485,種目名!$R$5:$T$104,3,0))","v":""},{"$f":"IF(P485=\"\",\"\",VLOOKUP(AF485,種目名!$R$5:$T$104,3,0))","v":""},{"$f":"IF(S485=\"\",\"\",VLOOKUP(AI485,種目名!$R$5:$T$104,3,0))","v":""},0,"","",0,"",""]
["",null,{"$f":"IF(B486=\"\",\"\",VLOOKUP(B486,学連登録!$C$2:$G$3000,2,FALSE))","v":""},{"$f":"IF(B486=\"\",\"\",VLOOKUP(B486,学連登録!$C$2:$G$3000,3,FALSE))","v":""},{"$f":"IF(B486=\"\",\"\",VLOOKUP(B486,学連登録!$C$2:$G$3000,4,FALSE))","v":""},"",null,null,null,null,null,null,null,null,null,null,null,null,null,null,null,{"$f":"IF(B486=\"\",\"\",VLOOKUP(B486,学連登録!$C$2:$H$3000,6,FALSE))","v":""},null,null,"",{"$f":"IF(G486=\"\",\"\",VLOOKUP(G486,種目名!$R$5:$T$104,3,0))","v":""},{"$f":"IF(J486=\"\",\"\",VLOOKUP(J486,種目名!$R$5:$T$104,3,0))","v":""},{"$f":"IF(M486=\"\",\"\",VLOOKUP(M486,種目名!$R$5:$T$104,3,0))","v":""},{"$f":"IF(P486=\"\",\"\",VLOOKUP(AF486,種目名!$R$5:$T$104,3,0))","v":""},{"$f":"IF(S486=\"\",\"\",VLOOKUP(AI486,種目名!$R$5:$T$104,3,0))","v":""},0,"","",0,"",""]
["",null,{"$f":"IF(B487=\"\",\"\",VLOOKUP(B487,学連登録!$C$2:$G$3000,2,FALSE))","v":""},{"$f":"IF(B487=\"\",\"\",VLOOKUP(B487,学連登録!$C$2:$G$3000,3,FALSE))","v":""},{"$f":"IF(B487=\"\",\"\",VLOOKUP(B487,学連登録!$C$2:$G$3000,4,FALSE))","v":""},"",null,null,null,null,null,null,null,null,null,null,null,null,null,null,null,{"$f":"IF(B487=\"\",\"\",VLOOKUP(B487,学連登録!$C$2:$H$3000,6,FALSE))","v":""},null,null,"",{"$f":"IF(G487=\"\",\"\",VLOOKUP(G487,種目名!$R$5:$T$104,3,0))","v":""},{"$f":"IF(J487=\"\",\"\",VLOOKUP(J487,種目名!$R$5:$T$104,3,0))","v":""},{"$f":"IF(M487=\"\",\"\",VLOOKUP(M487,種目名!$R$5:$T$104,3,0))","v":""},{"$f":"IF(P487=\"\",\"\",VLOOKUP(AF487,種目名!$R$5:$T$104,3,0))","v":""},{"$f":"IF(S487=\"\",\"\",VLOOKUP(AI487,種目名!$R$5:$T$104,3,0))","v":""},0,"","",0,"",""]
["",null,{"$f":"IF(B488=\"\",\"\",VLOOKUP(B488,学連登録!$C$2:$G$3000,2,FALSE))","v":""},{"$f":"IF(B488=\"\",\"\",VLOOKUP(B488,学連登録!$C$2:$G$3000,3,FALSE))","v":""},{"$f":"IF(B488=\"\",\"\",VLOOKUP(B488,学連登録!$C$2:$G$3000,4,FALSE))","v":""},"",null,null,null,null,null,null,null,null,null,null,null,null,null,null,null,{"$f":"IF(B488=\"\",\"\",VLOOKUP(B488,学連登録!$C$2:$H$3000,6,FALSE))","v":""},null,null,"",{"$f":"IF(G488=\"\",\"\",VLOOKUP(G488,種目名!$R$5:$T$104,3,0))","v":""},{"$f":"IF(J488=\"\",\"\",VLOOKUP(J488,種目名!$R$5:$T$104,3,0))","v":""},{"$f":"IF(M488=\"\",\"\",VLOOKUP(M488,種目名!$R$5:$T$104,3,0))","v":""},{"$f":"IF(P488=\"\",\"\",VLOOKUP(AF488,種目名!$R$5:$T$104,3,0))","v":""},{"$f":"IF(S488=\"\",\"\",VLOOKUP(AI488,種目名!$R$5:$T$104,3,0))","v":""},0,"","",0,"",""]
["",null,{"$f":"IF(B489=\"\",\"\",VLOOKUP(B489,学連登録!$C$2:$G$3000,2,FALSE))","v":""},{"$f":"IF(B489=\"\",\"\",VLOOKUP(B489,学連登録!$C$2:$G$3000,3,FALSE))","v":""},{"$f":"IF(B489=\"\",\"\",VLOOKUP(B489,学連登録!$C$2:$G$3000,4,FALSE))","v":""},"",null,null,null,null,null,null,null,null,null,null,null,null,null,null,null,{"$f":"IF(B489=\"\",\"\",VLOOKUP(B489,学連登録!$C$2:$H$3000,6,FALSE))","v":""},null,null,"",{"$f":"IF(G489=\"\",\"\",VLOOKUP(G489,種目名!$R$5:$T$104,3,0))","v":""},{"$f":"IF(J489=\"\",\"\",VLOOKUP(J489,種目名!$R$5:$T$104,3,0))","v":""},{"$f":"IF(M489=\"\",\"\",VLOOKUP(M489,種目名!$R$5:$T$104,3,0))","v":""},{"$f":"IF(P489=\"\",\"\",VLOOKUP(AF489,種目名!$R$5:$T$104,3,0))","v":""},{"$f":"IF(S489=\"\",\"\",VLOOKUP(AI489,種目名!$R$5:$T$104,3,0))","v":""},0,"","",0,"",""]
["",null,{"$f":"IF(B490=\"\",\"\",VLOOKUP(B490,学連登録!$C$2:$G$3000,2,FALSE))","v":""},{"$f":"IF(B490=\"\",\"\",VLOOKUP(B490,学連登録!$C$2:$G$3000,3,FALSE))","v":""},{"$f":"IF(B490=\"\",\"\",VLOOKUP(B490,学連登録!$C$2:$G$3000,4,FALSE))","v":""},"",null,null,null,null,null,null,null,null,null,null,null,null,null,null,null,{"$f":"IF(B490=\"\",\"\",VLOOKUP(B490,学連登録!$C$2:$H$3000,6,FALSE))","v":""},null,null,"",{"$f":"IF(G490=\"\",\"\",VLOOKUP(G490,種目名!$R$5:$T$104,3,0))","v":""},{"$f":"IF(J490=\"\",\"\",VLOOKUP(J490,種目名!$R$5:$T$104,3,0))","v":""},{"$f":"IF(M490=\"\",\"\",VLOOKUP(M490,種目名!$R$5:$T$104,3,0))","v":""},{"$f":"IF(P490=\"\",\"\",VLOOKUP(AF490,種目名!$R$5:$T$104,3,0))","v":""},{"$f":"IF(S490=\"\",\"\",VLOOKUP(AI490,種目名!$R$5:$T$104,3,0))","v":""},0,"","",0,"",""]
["",null,{"$f":"IF(B491=\"\",\"\",VLOOKUP(B491,学連登録!$C$2:$G$3000,2,FALSE))","v":""},{"$f":"IF(B491=\"\",\"\",VLOOKUP(B491,学連登録!$C$2:$G$3000,3,FALSE))","v":""},{"$f":"IF(B491=\"\",\"\",VLOOKUP(B491,学連登録!$C$2:$G$3000,4,FALSE))","v":""},"",null,null,null,null,null,null,null,null,null,null,null,null,null,null,null,{"$f":"IF(B491=\"\",\"\",VLOOKUP(B491,学連登録!$C$2:$H$3000,6,FALSE))","v":""},null,null,"",{"$f":"IF(G491=\"\",\"\",VLOOKUP(G491,種目名!$R$5:$T$104,3,0))","v":""},{"$f":"IF(J491=\"\",\"\",VLOOKUP(J491,種目名!$R$5:$T$104,3,0))","v":""},{"$f":"IF(M491=\"\",\"\",VLOOKUP(M491,種目名!$R$5:$T$104,3,0))","v":""},{"$f":"IF(P491=\"\",\"\",VLOOKUP(AF491,種目名!$R$5:$T$104,3,0))","v":""},{"$f":"IF(S491=\"\",\"\",VLOOKUP(AI491,種目名!$R$5:$T$104,3,0))","v":""},0,"","",0,"",""]
["",null,{"$f":"IF(B492=\"\",\"\",VLOOKUP(B492,学連登録!$C$2:$G$3000,2,FALSE))","v":""},{"$f":"IF(B492=\"\",\"\",VLOOKUP(B492,学連登録!$C$2:$G$3000,3,FALSE))","v":""},{"$f":"IF(B492=\"\",\"\",VLOOKUP(B492,学連登録!$C$2:$G$3000,4,FALSE))","v":""},"",null,null,null,null,null,null,null,null,null,null,null,null,null,null,null,{"$f":"IF(B492=\"\",\"\",VLOOKUP(B492,学連登録!$C$2:$H$3000,6,FALSE))","v":""},null,null,"",{"$f":"IF(G492=\"\",\"\",VLOOKUP(G492,種目名!$R$5:$T$104,3,0))","v":""},{"$f":"IF(J492=\"\",\"\",VLOOKUP(J492,種目名!$R$5:$T$104,3,0))","v":""},{"$f":"IF(M492=\"\",\"\",VLOOKUP(M492,種目名!$R$5:$T$104,3,0))","v":""},{"$f":"IF(P492=\"\",\"\",VLOOKUP(AF492,種目名!$R$5:$T$104,3,0))","v":""},{"$f":"IF(S492=\"\",\"\",VLOOKUP(AI492,種目名!$R$5:$T$104,3,0))","v":""},0,"","",0,"",""]
["",null,{"$f":"IF(B493=\"\",\"\",VLOOKUP(B493,学連登録!$C$2:$G$3000,2,FALSE))","v":""},{"$f":"IF(B493=\"\",\"\",VLOOKUP(B493,学連登録!$C$2:$G$3000,3,FALSE))","v":""},{"$f":"IF(B493=\"\",\"\",VLOOKUP(B493,学連登録!$C$2:$G$3000,4,FALSE))","v":""},"",null,null,null,null,null,null,null,null,null,null,null,null,null,null,null,{"$f":"IF(B493=\"\",\"\",VLOOKUP(B493,学連登録!$C$2:$H$3000,6,FALSE))","v":""},null,null,"",{"$f":"IF(G493=\"\",\"\",VLOOKUP(G493,種目名!$R$5:$T$104,3,0))","v":""},{"$f":"IF(J493=\"\",\"\",VLOOKUP(J493,種目名!$R$5:$T$104,3,0))","v":""},{"$f":"IF(M493=\"\",\"\",VLOOKUP(M493,種目名!$R$5:$T$104,3,0))","v":""},{"$f":"IF(P493=\"\",\"\",VLOOKUP(AF493,種目名!$R$5:$T$104,3,0))","v":""},{"$f":"IF(S493=\"\",\"\",VLOOKUP(AI493,種目名!$R$5:$T$104,3,0))","v":""},0,"","",0,"",""]
["",null,{"$f":"IF(B494=\"\",\"\",VLOOKUP(B494,学連登録!$C$2:$G$3000,2,FALSE))","v":""},{"$f":"IF(B494=\"\",\"\",VLOOKUP(B494,学連登録!$C$2:$G$3000,3,FALSE))","v":""},{"$f":"IF(B494=\"\",\"\",VLOOKUP(B494,学連登録!$C$2:$G$3000,4,FALSE))","v":""},"",null,null,null,null,null,null,null,null,null,null,null,null,null,null,null,{"$f":"IF(B494=\"\",\"\",VLOOKUP(B494,学連登録!$C$2:$H$3000,6,FALSE))","v":""},null,null,"",{"$f":"IF(G494=\"\",\"\",VLOOKUP(G494,種目名!$R$5:$T$104,3,0))","v":""},{"$f":"IF(J494=\"\",\"\",VLOOKUP(J494,種目名!$R$5:$T$104,3,0))","v":""},{"$f":"IF(M494=\"\",\"\",VLOOKUP(M494,種目名!$R$5:$T$104,3,0))","v":""},{"$f":"IF(P494=\"\",\"\",VLOOKUP(AF494,種目名!$R$5:$T$104,3,0))","v":""},{"$f":"IF(S494=\"\",\"\",VLOOKUP(AI494,種目名!$R$5:$T$104,3,0))","v":""},0,"","",0,"",""]
["",null,{"$f":"IF(B495=\"\",\"\",VLOOKUP(B495,学連登録!$C$2:$G$3000,2,FALSE))","v":""},{"$f":"IF(B495=\"\",\"\",VLOOKUP(B495,学連登録!$C$2:$G$3000,3,FALSE))","v":""},{"$f":"IF(B495=\"\",\"\",VLOOKUP(B495,学連登録!$C$2:$G$3000,4,FALSE))","v":""},"",null,null,null,null,null,null,null,null,null,null,null,null,null,null,null,{"$f":"IF(B495=\"\",\"\",VLOOKUP(B495,学連登録!$C$2:$H$3000,6,FALSE))","v":""},null,null,"",{"$f":"IF(G495=\"\",\"\",VLOOKUP(G495,種目名!$R$5:$T$104,3,0))","v":""},{"$f":"IF(J495=\"\",\"\",VLOOKUP(J495,種目名!$R$5:$T$104,3,0))","v":""},{"$f":"IF(M495=\"\",\"\",VLOOKUP(M495,種目名!$R$5:$T$104,3,0))","v":""},{"$f":"IF(P495=\"\",\"\",VLOOKUP(AF495,種目名!$R$5:$T$104,3,0))","v":""},{"$f":"IF(S495=\"\",\"\",VLOOKUP(AI495,種目名!$R$5:$T$104,3,0))","v":""},0,"","",0,"",""]
["",null,{"$f":"IF(B496=\"\",\"\",VLOOKUP(B496,学連登録!$C$2:$G$3000,2,FALSE))","v":""},{"$f":"IF(B496=\"\",\"\",VLOOKUP(B496,学連登録!$C$2:$G$3000,3,FALSE))","v":""},{"$f":"IF(B496=\"\",\"\",VLOOKUP(B496,学連登録!$C$2:$G$3000,4,FALSE))","v":""},"",null,null,null,null,null,null,null,null,null,null,null,null,null,null,null,{"$f":"IF(B496=\"\",\"\",VLOOKUP(B496,学連登録!$C$2:$H$3000,6,FALSE))","v":""},null,null,"",{"$f":"IF(G496=\"\",\"\",VLOOKUP(G496,種目名!$R$5:$T$104,3,0))","v":""},{"$f":"IF(J496=\"\",\"\",VLOOKUP(J496,種目名!$R$5:$T$104,3,0))","v":""},{"$f":"IF(M496=\"\",\"\",VLOOKUP(M496,種目名!$R$5:$T$104,3,0))","v":""},{"$f":"IF(P496=\"\",\"\",VLOOKUP(AF496,種目名!$R$5:$T$104,3,0))","v":""},{"$f":"IF(S496=\"\",\"\",VLOOKUP(AI496,種目名!$R$5:$T$104,3,0))","v":""},0,"","",0,"",""]
["",null,{"$f":"IF(B497=\"\",\"\",VLOOKUP(B497,学連登録!$C$2:$G$3000,2,FALSE))","v":""},{"$f":"IF(B497=\"\",\"\",VLOOKUP(B497,学連登録!$C$2:$G$3000,3,FALSE))","v":""},{"$f":"IF(B497=\"\",\"\",VLOOKUP(B497,学連登録!$C$2:$G$3000,4,FALSE))","v":""},"",null,null,null,null,null,null,null,null,null,null,null,null,null,null,null,{"$f":"IF(B497=\"\",\"\",VLOOKUP(B497,学連登録!$C$2:$H$3000,6,FALSE))","v":""},null,null,"",{"$f":"IF(G497=\"\",\"\",VLOOKUP(G497,種目名!$R$5:$T$104,3,0))","v":""},{"$f":"IF(J497=\"\",\"\",VLOOKUP(J497,種目名!$R$5:$T$104,3,0))","v":""},{"$f":"IF(M497=\"\",\"\",VLOOKUP(M497,種目名!$R$5:$T$104,3,0))","v":""},{"$f":"IF(P497=\"\",\"\",VLOOKUP(AF497,種目名!$R$5:$T$104,3,0))","v":""},{"$f":"IF(S497=\"\",\"\",VLOOKUP(AI497,種目名!$R$5:$T$104,3,0))","v":""},0,"","",0,"",""]
["",null,{"$f":"IF(B498=\"\",\"\",VLOOKUP(B498,学連登録!$C$2:$G$3000,2,FALSE))","v":""},{"$f":"IF(B498=\"\",\"\",VLOOKUP(B498,学連登録!$C$2:$G$3000,3,FALSE))","v":""},{"$f":"IF(B498=\"\",\"\",VLOOKUP(B498,学連登録!$C$2:$G$3000,4,FALSE))","v":""},"",null,null,null,null,null,null,null,null,null,null,null,null,null,null,null,{"$f":"IF(B498=\"\",\"\",VLOOKUP(B498,学連登録!$C$2:$H$3000,6,FALSE))","v":""},null,null,"",{"$f":"IF(G498=\"\",\"\",VLOOKUP(G498,種目名!$R$5:$T$104,3,0))","v":""},{"$f":"IF(J498=\"\",\"\",VLOOKUP(J498,種目名!$R$5:$T$104,3,0))","v":""},{"$f":"IF(M498=\"\",\"\",VLOOKUP(M498,種目名!$R$5:$T$104,3,0))","v":""},{"$f":"IF(P498=\"\",\"\",VLOOKUP(AF498,種目名!$R$5:$T$104,3,0))","v":""},{"$f":"IF(S498=\"\",\"\",VLOOKUP(AI498,種目名!$R$5:$T$104,3,0))","v":""},0,"","",0,"",""]
[{"$f":"IF(C499=\"\",\"\",A498+1)","v":""},null,{"$f":"IF(B499=\"\",\"\",VLOOKUP(B499,学連登録!$C$2:$G$3000,2,FALSE))","v":""},{"$f":"IF(B499=\"\",\"\",VLOOKUP(B499,学連登録!$C$2:$G$3000,3,FALSE))","v":""},{"$f":"IF(B499=\"\",\"\",VLOOKUP(B499,学連登録!$C$2:$G$3000,4,FALSE))","v":""},"",null,null,null,null,null,null,null,null,null,null,null,null,null,null,null,{"$f":"IF(B499=\"\",\"\",VLOOKUP(B499,学連登録!$C$2:$H$3000,6,FALSE))","v":""},null,null,"",{"$f":"IF(G499=\"\",\"\",VLOOKUP(G499,種目名!$R$5:$T$104,3,0))","v":""},{"$f":"IF(J499=\"\",\"\",VLOOKUP(J499,種目名!$R$5:$T$104,3,0))","v":""},{"$f":"IF(M499=\"\",\"\",VLOOKUP(M499,種目名!$R$5:$T$104,3,0))","v":""},{"$f":"IF(P499=\"\",\"\",VLOOKUP(AF499,種目名!$R$5:$T$104,3,0))","v":""},{"$f":"IF(S499=\"\",\"\",VLOOKUP(AI499,種目名!$R$5:$T$104,3,0))","v":""},0,"","",0,"",""]
["",null,{"$f":"IF(B500=\"\",\"\",VLOOKUP(B500,学連登録!$C$2:$G$3000,2,FALSE))","v":""},{"$f":"IF(B500=\"\",\"\",VLOOKUP(B500,学連登録!$C$2:$G$3000,3,FALSE))","v":""},{"$f":"IF(B500=\"\",\"\",VLOOKUP(B500,学連登録!$C$2:$G$3000,4,FALSE))","v":""},"",null,null,null,null,null,null,null,null,null,null,null,null,null,null,null,{"$f":"IF(B500=\"\",\"\",VLOOKUP(B500,学連登録!$C$2:$H$3000,6,FALSE))","v":""},null,null,"",{"$f":"IF(G500=\"\",\"\",VLOOKUP(G500,種目名!$R$5:$T$104,3,0))","v":""},{"$f":"IF(J500=\"\",\"\",VLOOKUP(J500,種目名!$R$5:$T$104,3,0))","v":""},{"$f":"IF(M500=\"\",\"\",VLOOKUP(M500,種目名!$R$5:$T$104,3,0))","v":""},{"$f":"IF(P500=\"\",\"\",VLOOKUP(AF500,種目名!$R$5:$T$104,3,0))","v":""},{"$f":"IF(S500=\"\",\"\",VLOOKUP(AI500,種目名!$R$5:$T$104,3,0))","v":""},0,"","",0,"",""]
["",null,{"$f":"IF(B501=\"\",\"\",VLOOKUP(B501,学連登録!$C$2:$G$3000,2,FALSE))","v":""},{"$f":"IF(B501=\"\",\"\",VLOOKUP(B501,学連登録!$C$2:$G$3000,3,FALSE))","v":""},{"$f":"IF(B501=\"\",\"\",VLOOKUP(B501,学連登録!$C$2:$G$3000,4,FALSE))","v":""},"",null,null,null,null,null,null,null,null,null,null,null,null,null,null,null,{"$f":"IF(B501=\"\",\"\",VLOOKUP(B501,学連登録!$C$2:$H$3000,6,FALSE))","v":""},null,null,"",{"$f":"IF(G501=\"\",\"\",VLOOKUP(G501,種目名!$R$5:$T$104,3,0))","v":""},{"$f":"IF(J501=\"\",\"\",VLOOKUP(J501,種目名!$R$5:$T$104,3,0))","v":""},{"$f":"IF(M501=\"\",\"\",VLOOKUP(M501,種目名!$R$5:$T$104,3,0))","v":""},{"$f":"IF(P501=\"\",\"\",VLOOKUP(AF501,種目名!$R$5:$T$104,3,0))","v":""},{"$f":"IF(S501=\"\",\"\",VLOOKUP(AI501,種目名!$R$5:$T$104,3,0))","v":""},0,"","",0,"",""]
["",null,{"$f":"IF(B502=\"\",\"\",VLOOKUP(B502,学連登録!$C$2:$G$3000,2,FALSE))","v":""},{"$f":"IF(B502=\"\",\"\",VLOOKUP(B502,学連登録!$C$2:$G$3000,3,FALSE))","v":""},{"$f":"IF(B502=\"\",\"\",VLOOKUP(B502,学連登録!$C$2:$G$3000,4,FALSE))","v":""},"",null,null,null,null,null,null,null,null,null,null,null,null,null,null,null,{"$f":"IF(B502=\"\",\"\",VLOOKUP(B502,学連登録!$C$2:$H$3000,6,FALSE))","v":""},null,null,"",{"$f":"IF(G502=\"\",\"\",VLOOKUP(G502,種目名!$R$5:$T$104,3,0))","v":""},{"$f":"IF(J502=\"\",\"\",VLOOKUP(J502,種目名!$R$5:$T$104,3,0))","v":""},{"$f":"IF(M502=\"\",\"\",VLOOKUP(M502,種目名!$R$5:$T$104,3,0))","v":""},{"$f":"IF(P502=\"\",\"\",VLOOKUP(AF502,種目名!$R$5:$T$104,3,0))","v":""},{"$f":"IF(S502=\"\",\"\",VLOOKUP(AI502,種目名!$R$5:$T$104,3,0))","v":""},0,"","",0,"",""]
["",null,{"$f":"IF(B503=\"\",\"\",VLOOKUP(B503,学連登録!$C$2:$G$3000,2,FALSE))","v":""},{"$f":"IF(B503=\"\",\"\",VLOOKUP(B503,学連登録!$C$2:$G$3000,3,FALSE))","v":""},{"$f":"IF(B503=\"\",\"\",VLOOKUP(B503,学連登録!$C$2:$G$3000,4,FALSE))","v":""},"",null,null,null,null,null,null,null,null,null,null,null,null,null,null,null,{"$f":"IF(B503=\"\",\"\",VLOOKUP(B503,学連登録!$C$2:$H$3000,6,FALSE))","v":""},null,null,"",{"$f":"IF(G503=\"\",\"\",VLOOKUP(G503,種目名!$R$5:$T$104,3,0))","v":""},{"$f":"IF(J503=\"\",\"\",VLOOKUP(J503,種目名!$R$5:$T$104,3,0))","v":""},{"$f":"IF(M503=\"\",\"\",VLOOKUP(M503,種目名!$R$5:$T$104,3,0))","v":""},{"$f":"IF(P503=\"\",\"\",VLOOKUP(AF503,種目名!$R$5:$T$104,3,0))","v":""},{"$f":"IF(S503=\"\",\"\",VLOOKUP(AI503,種目名!$R$5:$T$104,3,0))","v":""},0,"","",0,"",""]
["",null,{"$f":"IF(B504=\"\",\"\",VLOOKUP(B504,学連登録!$C$2:$G$3000,2,FALSE))","v":""},{"$f":"IF(B504=\"\",\"\",VLOOKUP(B504,学連登録!$C$2:$G$3000,3,FALSE))","v":""},{"$f":"IF(B504=\"\",\"\",VLOOKUP(B504,学連登録!$C$2:$G$3000,4,FALSE))","v":""},"",null,null,null,null,null,null,null,null,null,null,null,null,null,null,null,{"$f":"IF(B504=\"\",\"\",VLOOKUP(B504,学連登録!$C$2:$H$3000,6,FALSE))","v":""},null,null,"",{"$f":"IF(G504=\"\",\"\",VLOOKUP(G504,種目名!$R$5:$T$104,3,0))","v":""},{"$f":"IF(J504=\"\",\"\",VLOOKUP(J504,種目名!$R$5:$T$104,3,0))","v":""},{"$f":"IF(M504=\"\",\"\",VLOOKUP(M504,種目名!$R$5:$T$104,3,0))","v":""},{"$f":"IF(P504=\"\",\"\",VLOOKUP(AF504,種目名!$R$5:$T$104,3,0))","v":""},{"$f":"IF(S504=\"\",\"\",VLOOKUP(AI504,種目名!$R$5:$T$104,3,0))","v":""},0,"","",0,"",""]
["",null,{"$f":"IF(B505=\"\",\"\",VLOOKUP(B505,学連登録!$C$2:$G$3000,2,FALSE))","v":""},{"$f":"IF(B505=\"\",\"\",VLOOKUP(B505,学連登録!$C$2:$G$3000,3,FALSE))","v":""},{"$f":"IF(B505=\"\",\"\",VLOOKUP(B505,学連登録!$C$2:$G$3000,4,FALSE))","v":""},"",null,null,null,null,null,null,null,null,null,null,null,null,null,null,null,{"$f":"IF(B505=\"\",\"\",VLOOKUP(B505,学連登録!$C$2:$H$3000,6,FALSE))","v":""},null,null,"",{"$f":"IF(G505=\"\",\"\",VLOOKUP(G505,種目名!$R$5:$T$104,3,0))","v":""},{"$f":"IF(J505=\"\",\"\",VLOOKUP(J505,種目名!$R$5:$T$104,3,0))","v":""},{"$f":"IF(M505=\"\",\"\",VLOOKUP(M505,種目名!$R$5:$T$104,3,0))","v":""},{"$f":"IF(P505=\"\",\"\",VLOOKUP(AF505,種目名!$R$5:$T$104,3,0))","v":""},{"$f":"IF(S505=\"\",\"\",VLOOKUP(AI505,種目名!$R$5:$T$104,3,0))","v":""},0,"","",0,"",""]
[{"$f":"IF(C506=\"\",\"\",A505+1)","v":""},null,{"$f":"IF(B506=\"\",\"\",VLOOKUP(B506,学連登録!$C$2:$G$3000,2,FALSE))","v":""},{"$f":"IF(B506=\"\",\"\",VLOOKUP(B506,学連登録!$C$2:$G$3000,3,FALSE))","v":""},{"$f":"IF(B506=\"\",\"\",VLOOKUP(B506,学連登録!$C$2:$G$3000,4,FALSE))","v":""},{"$f":"IF(C506=\"\",\"\",$P$1)","v":""},null,null,null,null,null,null,null,null,null,null,null,null,null,null,null,{"$f":"IF(B506=\"\",\"\",VLOOKUP(B506,学連登録!$C$2:$H$3000,6,FALSE))","v":""},null,null,"",{"$f":"IF(G506=\"\",\"\",VLOOKUP(G506,種目名!$R$5:$T$104,3,0))","v":""},{"$f":"IF(J506=\"\",\"\",VLOOKUP(J506,種目名!$R$5:$T$104,3,0))","v":""},{"$f":"IF(M506=\"\",\"\",VLOOKUP(M506,種目名!$R$5:$T$104,3,0))","v":""},{"$f":"IF(P506=\"\",\"\",VLOOKUP(AF506,種目名!$R$5:$T$104,3,0))","v":""},{"$f":"IF(S506=\"\",\"\",VLOOKUP(AI506,種目名!$R$5:$T$104,3,0))","v":""},0,"","",0,"",""]
["",null,{"$f":"IF(B507=\"\",\"\",VLOOKUP(B507,学連登録!$C$2:$G$3000,2,FALSE))","v":""},{"$f":"IF(B507=\"\",\"\",VLOOKUP(B507,学連登録!$C$2:$G$3000,3,FALSE))","v":""},{"$f":"IF(B507=\"\",\"\",VLOOKUP(B507,学連登録!$C$2:$G$3000,4,FALSE))","v":""},"",null,null,null,null,null,null,null,null,null,null,null,null,null,null,null,{"$f":"IF(B507=\"\",\"\",VLOOKUP(B507,学連登録!$C$2:$H$3000,6,FALSE))","v":""},null,null,"",{"$f":"IF(G507=\"\",\"\",VLOOKUP(G507,種目名!$R$5:$T$104,3,0))","v":""},{"$f":"IF(J507=\"\",\"\",VLOOKUP(J507,種目名!$R$5:$T$104,3,0))","v":""},{"$f":"IF(M507=\"\",\"\",VLOOKUP(M507,種目名!$R$5:$T$104,3,0))","v":""},{"$f":"IF(P507=\"\",\"\",VLOOKUP(AF507,種目名!$R$5:$T$104,3,0))","v":""},{"$f":"IF(S507=\"\",\"\",VLOOKUP(AI507,種目名!$R$5:$T$104,3,0))","v":""},0,"","",0,"",""]
["",null,{"$f":"IF(B508=\"\",\"\",VLOOKUP(B508,学連登録!$C$2:$G$3000,2,FALSE))","v":""},{"$f":"IF(B508=\"\",\"\",VLOOKUP(B508,学連登録!$C$2:$G$3000,3,FALSE))","v":""},{"$f":"IF(B508=\"\",\"\",VLOOKUP(B508,学連登録!$C$2:$G$3000,4,FALSE))","v":""},"",null,null,null,null,null,null,null,null,null,null,null,null,null,null,null,{"$f":"IF(B508=\"\",\"\",VLOOKUP(B508,学連登録!$C$2:$H$3000,6,FALSE))","v":""},null,null,"",{"$f":"IF(G508=\"\",\"\",VLOOKUP(G508,種目名!$R$5:$T$104,3,0))","v":""},{"$f":"IF(J508=\"\",\"\",VLOOKUP(J508,種目名!$R$5:$T$104,3,0))","v":""},{"$f":"IF(M508=\"\",\"\",VLOOKUP(M508,種目名!$R$5:$T$104,3,0))","v":""},{"$f":"IF(P508=\"\",\"\",VLOOKUP(AF508,種目名!$R$5:$T$104,3,0))","v":""},{"$f":"IF(S508=\"\",\"\",VLOOKUP(AI508,種目名!$R$5:$T$104,3,0))","v":""},0,"","",0,"",""]
["",null,{"$f":"IF(B509=\"\",\"\",VLOOKUP(B509,学連登録!$C$2:$G$3000,2,FALSE))","v":""},{"$f":"IF(B509=\"\",\"\",VLOOKUP(B509,学連登録!$C$2:$G$3000,3,FALSE))","v":""},{"$f":"IF(B509=\"\",\"\",VLOOKUP(B509,学連登録!$C$2:$G$3000,4,FALSE))","v":""},"",null,null,null,null,null,null,null,null,null,null,null,null,null,null,null,{"$f":"IF(B509=\"\",\"\",VLOOKUP(B509,学連登録!$C$2:$H$3000,6,FALSE))","v":""},null,null,"",{"$f":"IF(G509=\"\",\"\",VLOOKUP(G509,種目名!$R$5:$T$104,3,0))","v":""},{"$f":"IF(J509=\"\",\"\",VLOOKUP(J509,種目名!$R$5:$T$104,3,0))","v":""},{"$f":"IF(M509=\"\",\"\",VLOOKUP(M509,種目名!$R$5:$T$104,3,0))","v":""},{"$f":"IF(P509=\"\",\"\",VLOOKUP(AF509,種目名!$R$5:$T$104,3,0))","v":""},{"$f":"IF(S509=\"\",\"\",VLOOKUP(AI509,種目名!$R$5:$T$104,3,0))","v":""},0,"","",0,"",""]
["",null,{"$f":"IF(B510=\"\",\"\",VLOOKUP(B510,学連登録!$C$2:$G$3000,2,FALSE))","v":""},{"$f":"IF(B510=\"\",\"\",VLOOKUP(B510,学連登録!$C$2:$G$3000,3,FALSE))","v":""},{"$f":"IF(B510=\"\",\"\",VLOOKUP(B510,学連登録!$C$2:$G$3000,4,FALSE))","v":""},"",null,null,null,null,null,null,null,null,null,null,null,null,null,null,null,{"$f":"IF(B510=\"\",\"\",VLOOKUP(B510,学連登録!$C$2:$H$3000,6,FALSE))","v":""},null,null,"",{"$f":"IF(G510=\"\",\"\",VLOOKUP(G510,種目名!$R$5:$T$104,3,0))","v":""},{"$f":"IF(J510=\"\",\"\",VLOOKUP(J510,種目名!$R$5:$T$104,3,0))","v":""},{"$f":"IF(M510=\"\",\"\",VLOOKUP(M510,種目名!$R$5:$T$104,3,0))","v":""},{"$f":"IF(P510=\"\",\"\",VLOOKUP(AF510,種目名!$R$5:$T$104,3,0))","v":""},{"$f":"IF(S510=\"\",\"\",VLOOKUP(AI510,種目名!$R$5:$T$104,3,0))","v":""},0,"","",0,"",""]
["",null,{"$f":"IF(B511=\"\",\"\",VLOOKUP(B511,学連登録!$C$2:$G$3000,2,FALSE))","v":""},{"$f":"IF(B511=\"\",\"\",VLOOKUP(B511,学連登録!$C$2:$G$3000,3,FALSE))","v":""},{"$f":"IF(B511=\"\",\"\",VLOOKUP(B511,学連登録!$C$2:$G$3000,4,FALSE))","v":""},"",null,null,null,null,null,null,null,null,null,null,null,null,null,null,null,{"$f":"IF(B511=\"\",\"\",VLOOKUP(B511,学連登録!$C$2:$H$3000,6,FALSE))","v":""},null,null,"",{"$f":"IF(G511=\"\",\"\",VLOOKUP(G511,種目名!$R$5:$T$104,3,0))","v":""},{"$f":"IF(J511=\"\",\"\",VLOOKUP(J511,種目名!$R$5:$T$104,3,0))","v":""},{"$f":"IF(M511=\"\",\"\",VLOOKUP(M511,種目名!$R$5:$T$104,3,0))","v":""},{"$f":"IF(P511=\"\",\"\",VLOOKUP(AF511,種目名!$R$5:$T$104,3,0))","v":""},{"$f":"IF(S511=\"\",\"\",VLOOKUP(AI511,種目名!$R$5:$T$104,3,0))","v":""},0,"","",0,"",""]
["",null,{"$f":"IF(B512=\"\",\"\",VLOOKUP(B512,学連登録!$C$2:$G$3000,2,FALSE))","v":""},{"$f":"IF(B512=\"\",\"\",VLOOKUP(B512,学連登録!$C$2:$G$3000,3,FALSE))","v":""},{"$f":"IF(B512=\"\",\"\",VLOOKUP(B512,学連登録!$C$2:$G$3000,4,FALSE))","v":""},"",null,null,null,null,null,null,null,null,null,null,null,null,null,null,null,{"$f":"IF(B512=\"\",\"\",VLOOKUP(B512,学連登録!$C$2:$H$3000,6,FALSE))","v":""},null,null,"",{"$f":"IF(G512=\"\",\"\",VLOOKUP(G512,種目名!$R$5:$T$104,3,0))","v":""},{"$f":"IF(J512=\"\",\"\",VLOOKUP(J512,種目名!$R$5:$T$104,3,0))","v":""},{"$f":"IF(M512=\"\",\"\",VLOOKUP(M512,種目名!$R$5:$T$104,3,0))","v":""},{"$f":"IF(P512=\"\",\"\",VLOOKUP(AF512,種目名!$R$5:$T$104,3,0))","v":""},{"$f":"IF(S512=\"\",\"\",VLOOKUP(AI512,種目名!$R$5:$T$104,3,0))","v":""},0,"","",0,"",""]
["",null,{"$f":"IF(B513=\"\",\"\",VLOOKUP(B513,学連登録!$C$2:$G$3000,2,FALSE))","v":""},{"$f":"IF(B513=\"\",\"\",VLOOKUP(B513,学連登録!$C$2:$G$3000,3,FALSE))","v":""},{"$f":"IF(B513=\"\",\"\",VLOOKUP(B513,学連登録!$C$2:$G$3000,4,FALSE))","v":""},"",null,null,null,null,null,null,null,null,null,null,null,null,null,null,null,{"$f":"IF(B513=\"\",\"\",VLOOKUP(B513,学連登録!$C$2:$H$3000,6,FALSE))","v":""},null,null,"",{"$f":"IF(G513=\"\",\"\",VLOOKUP(G513,種目名!$R$5:$T$104,3,0))","v":""},{"$f":"IF(J513=\"\",\"\",VLOOKUP(J513,種目名!$R$5:$T$104,3,0))","v":""},{"$f":"IF(M513=\"\",\"\",VLOOKUP(M513,種目名!$R$5:$T$104,3,0))","v":""},{"$f":"IF(P513=\"\",\"\",VLOOKUP(AF513,種目名!$R$5:$T$104,3,0))","v":""},{"$f":"IF(S513=\"\",\"\",VLOOKUP(AI513,種目名!$R$5:$T$104,3,0))","v":""},0,"","",0,"",""]
["",null,{"$f":"IF(B514=\"\",\"\",VLOOKUP(B514,学連登録!$C$2:$G$3000,2,FALSE))","v":""},{"$f":"IF(B514=\"\",\"\",VLOOKUP(B514,学連登録!$C$2:$G$3000,3,FALSE))","v":""},{"$f":"IF(B514=\"\",\"\",VLOOKUP(B514,学連登録!$C$2:$G$3000,4,FALSE))","v":""},"",null,null,null,null,null,null,null,null,null,null,null,null,null,null,null,{"$f":"IF(B514=\"\",\"\",VLOOKUP(B514,学連登録!$C$2:$H$3000,6,FALSE))","v":""},null,null,"",{"$f":"IF(G514=\"\",\"\",VLOOKUP(G514,種目名!$R$5:$T$104,3,0))","v":""},{"$f":"IF(J514=\"\",\"\",VLOOKUP(J514,種目名!$R$5:$T$104,3,0))","v":""},{"$f":"IF(M514=\"\",\"\",VLOOKUP(M514,種目名!$R$5:$T$104,3,0))","v":""},{"$f":"IF(P514=\"\",\"\",VLOOKUP(AF514,種目名!$R$5:$T$104,3,0))","v":""},{"$f":"IF(S514=\"\",\"\",VLOOKUP(AI514,種目名!$R$5:$T$104,3,0))","v":""},0,"","",0,"",""]
["",null,{"$f":"IF(B515=\"\",\"\",VLOOKUP(B515,学連登録!$C$2:$G$3000,2,FALSE))","v":""},{"$f":"IF(B515=\"\",\"\",VLOOKUP(B515,学連登録!$C$2:$G$3000,3,FALSE))","v":""},{"$f":"IF(B515=\"\",\"\",VLOOKUP(B515,学連登録!$C$2:$G$3000,4,FALSE))","v":""},"",null,null,null,null,null,null,null,null,null,null,null,null,null,null,null,{"$f":"IF(B515=\"\",\"\",VLOOKUP(B515,学連登録!$C$2:$H$3000,6,FALSE))","v":""},null,null,"",{"$f":"IF(G515=\"\",\"\",VLOOKUP(G515,種目名!$R$5:$T$104,3,0))","v":""},{"$f":"IF(J515=\"\",\"\",VLOOKUP(J515,種目名!$R$5:$T$104,3,0))","v":""},{"$f":"IF(M515=\"\",\"\",VLOOKUP(M515,種目名!$R$5:$T$104,3,0))","v":""},{"$f":"IF(P515=\"\",\"\",VLOOKUP(AF515,種目名!$R$5:$T$104,3,0))","v":""},{"$f":"IF(S515=\"\",\"\",VLOOKUP(AI515,種目名!$R$5:$T$104,3,0))","v":""},0,"","",0,"",""]
["",null,{"$f":"IF(B516=\"\",\"\",VLOOKUP(B516,学連登録!$C$2:$G$3000,2,FALSE))","v":""},{"$f":"IF(B516=\"\",\"\",VLOOKUP(B516,学連登録!$C$2:$G$3000,3,FALSE))","v":""},{"$f":"IF(B516=\"\",\"\",VLOOKUP(B516,学連登録!$C$2:$G$3000,4,FALSE))","v":""},"",null,null,null,null,null,null,null,null,null,null,null,null,null,null,null,{"$f":"IF(B516=\"\",\"\",VLOOKUP(B516,学連登録!$C$2:$H$3000,6,FALSE))","v":""},null,null,"",{"$f":"IF(G516=\"\",\"\",VLOOKUP(G516,種目名!$R$5:$T$104,3,0))","v":""},{"$f":"IF(J516=\"\",\"\",VLOOKUP(J516,種目名!$R$5:$T$104,3,0))","v":""},{"$f":"IF(M516=\"\",\"\",VLOOKUP(M516,種目名!$R$5:$T$104,3,0))","v":""},{"$f":"IF(P516=\"\",\"\",VLOOKUP(AF516,種目名!$R$5:$T$104,3,0))","v":""},{"$f":"IF(S516=\"\",\"\",VLOOKUP(AI516,種目名!$R$5:$T$104,3,0))","v":""},0,"","",0,"",""]
[{"$f":"IF(C517=\"\",\"\",A516+1)","v":""},null,{"$f":"IF(B517=\"\",\"\",VLOOKUP(B517,学連登録!$C$2:$G$3000,2,FALSE))","v":""},{"$f":"IF(B517=\"\",\"\",VLOOKUP(B517,学連登録!$C$2:$G$3000,3,FALSE))","v":""},{"$f":"IF(B517=\"\",\"\",VLOOKUP(B517,学連登録!$C$2:$G$3000,4,FALSE))","v":""},{"$f":"IF(C517=\"\",\"\",$P$1)","v":""},null,null,null,null,null,null,null,null,null,null,null,null,null,null,null,{"$f":"IF(B517=\"\",\"\",VLOOKUP(B517,学連登録!$C$2:$H$3000,6,FALSE))","v":""},null,null,"",{"$f":"IF(G517=\"\",\"\",VLOOKUP(G517,種目名!$R$5:$T$104,3,0))","v":""},{"$f":"IF(J517=\"\",\"\",VLOOKUP(J517,種目名!$R$5:$T$104,3,0))","v":""},{"$f":"IF(M517=\"\",\"\",VLOOKUP(M517,種目名!$R$5:$T$104,3,0))","v":""},{"$f":"IF(P517=\"\",\"\",VLOOKUP(AF517,種目名!$R$5:$T$104,3,0))","v":""},{"$f":"IF(S517=\"\",\"\",VLOOKUP(AI517,種目名!$R$5:$T$104,3,0))","v":""},0,"","",0,"",""]
[{"$f":"IF(C518=\"\",\"\",A517+1)","v":""},null,{"$f":"IF(B518=\"\",\"\",VLOOKUP(B518,学連登録!$C$2:$G$3000,2,FALSE))","v":""},{"$f":"IF(B518=\"\",\"\",VLOOKUP(B518,学連登録!$C$2:$G$3000,3,FALSE))","v":""},{"$f":"IF(B518=\"\",\"\",VLOOKUP(B518,学連登録!$C$2:$G$3000,4,FALSE))","v":""},{"$f":"IF(C518=\"\",\"\",$P$1)","v":""},null,null,null,null,null,null,null,null,null,null,null,null,null,null,null,{"$f":"IF(B518=\"\",\"\",VLOOKUP(B518,学連登録!$C$2:$H$3000,6,FALSE))","v":""},null,null,"",{"$f":"IF(G518=\"\",\"\",VLOOKUP(G518,種目名!$R$5:$T$104,3,0))","v":""},{"$f":"IF(J518=\"\",\"\",VLOOKUP(J518,種目名!$R$5:$T$104,3,0))","v":""},{"$f":"IF(M518=\"\",\"\",VLOOKUP(M518,種目名!$R$5:$T$104,3,0))","v":""},{"$f":"IF(P518=\"\",\"\",VLOOKUP(AF518,種目名!$R$5:$T$104,3,0))","v":""},{"$f":"IF(S518=\"\",\"\",VLOOKUP(AI518,種目名!$R$5:$T$104,3,0))","v":""},0,"","",0,"",""]
[{"$f":"IF(C519=\"\",\"\",A516+1)","v":""},null,{"$f":"IF(B519=\"\",\"\",VLOOKUP(B519,学連登録!$C$2:$G$3000,2,FALSE))","v":""},{"$f":"IF(B519=\"\",\"\",VLOOKUP(B519,学連登録!$C$2:$G$3000,3,FALSE))","v":""},{"$f":"IF(B519=\"\",\"\",VLOOKUP(B519,学連登録!$C$2:$G$3000,4,FALSE))","v":""},"",null,null,null,null,null,null,null,null,null,null,null,null,null,null,null,{"$f":"IF(B519=\"\",\"\",VLOOKUP(B519,学連登録!$C$2:$H$3000,6,FALSE))","v":""},null,null,"",{"$f":"IF(G519=\"\",\"\",VLOOKUP(G519,種目名!$R$5:$T$104,3,0))","v":""},{"$f":"IF(J519=\"\",\"\",VLOOKUP(J519,種目名!$R$5:$T$104,3,0))","v":""},{"$f":"IF(M519=\"\",\"\",VLOOKUP(M519,種目名!$R$5:$T$104,3,0))","v":""},{"$f":"IF(P519=\"\",\"\",VLOOKUP(AF519,種目名!$R$5:$T$104,3,0))","v":""},{"$f":"IF(S519=\"\",\"\",VLOOKUP(AI519,種目名!$R$5:$T$104,3,0))","v":""},0,"","",0,"",""]
["",null,{"$f":"IF(B520=\"\",\"\",VLOOKUP(B520,学連登録!$C$2:$G$3000,2,FALSE))","v":""},{"$f":"IF(B520=\"\",\"\",VLOOKUP(B520,学連登録!$C$2:$G$3000,3,FALSE))","v":""},{"$f":"IF(B520=\"\",\"\",VLOOKUP(B520,学連登録!$C$2:$G$3000,4,FALSE))","v":""},"",null,null,null,null,null,null,null,null,null,null,null,null,null,null,null,{"$f":"IF(B520=\"\",\"\",VLOOKUP(B520,学連登録!$C$2:$H$3000,6,FALSE))","v":""},null,null,"",{"$f":"IF(G520=\"\",\"\",VLOOKUP(G520,種目名!$R$5:$T$104,3,0))","v":""},{"$f":"IF(J520=\"\",\"\",VLOOKUP(J520,種目名!$R$5:$T$104,3,0))","v":""},{"$f":"IF(M520=\"\",\"\",VLOOKUP(M520,種目名!$R$5:$T$104,3,0))","v":""},{"$f":"IF(P520=\"\",\"\",VLOOKUP(AF520,種目名!$R$5:$T$104,3,0))","v":""},{"$f":"IF(S520=\"\",\"\",VLOOKUP(AI520,種目名!$R$5:$T$104,3,0))","v":""},0,"","",0,"",""]
[null,null,{"$f":"COUNTA($C$12:$C$520)","v":508},null,null,null,{"$f":"COUNTA($G$12:$G$520)-1","v":0},null,null,{"$f":"COUNTA($J$12:$J$520)","v":0},null,null,{"$f":"COUNTA($M$12:$M$520)","v":0},null,null,{"$f":"COUNTA($P$12:$P$520)","v":0},null,null,{"$f":"COUNTA($S$12:$S$520)","v":0}]
[null,"参加制限","基本情報種目一覧","リスト一覧",null,null,{"$f":"$G$521","v":0},null,null,{"$f":"$J$521","v":0},null,null,{"$f":"IF($M$521>=4,1,0)","v":0},null,null,{"$f":"SUM(Q523:Q544)","v":0},null,null,{"$f":"SUM(T523:T544)","v":0},null,"合　計"]
[null,{"$f":"管理者入力!J5","v":2},{"$f":"総括申込書!F25","v":"女子100m"},{"$f":"IF(COUNTIF($G$12:$S$520,C523)>B523,\"\",C523)","v":"女子100m"},null,null,{"$f":"COUNTIF(女子名簿!$G$12:$G$520,$C523)","v":0},null,null,{"$f":"COUNTIF(女子名簿!$J$12:$J$520,$C523)","v":0},null,null,{"$f":"COUNTIF(女子名簿!$M$12:$M$520,$C523)","v":0},null,null,{"$f":"COUNTIF(女子名簿!$P$12:$P$520,管理者入力!$G39)","v":0},{"$f":"IF(P523>=4,1,0)","v":0},{"$f":"SUM($G523,$J523,$M523)","v":0},{"$f":"COUNTIF(女子名簿!$S$12:$S$520,管理者入力!$H39)","v":0},{"$f":"IF(S523>=4,1,0)","v":0},{"$f":"SUM($G523,$J523,$M523)","v":0}]
[null,{"$f":"管理者入力!J6","v":2},{"$f":"総括申込書!F26","v":"女子200m"},"女子200m",null,null,{"$f":"COUNTIF(女子名簿!$G$12:$G$520,$C524)","v":0},null,null,{"$f":"COUNTIF(女子名簿!$J$12:$J$520,$C524)","v":0},null,null,{"$f":"COUNTIF(女子名簿!$M$12:$M$520,$C524)","v":0},null,null,{"$f":"COUNTIF(女子名簿!$P$12:$P$520,管理者入力!$G40)","v":0},{"$f":"IF(P524>=4,1,0)","v":0},{"$f":"SUM($G524,$J524,$M524)","v":0},{"$f":"COUNTIF(女子名簿!$S$12:$S$520,管理者入力!$B40)","v":0},{"$f":"IF(S524>=4,1,0)","v":0},{"$f":"SUM($G524,$J524,$M524)","v":0}]
[null,{"$f":"管理者入力!J7","v":2},{"$f":"総括申込書!F27","v":"女子400m"},"女子400m",null,null,{"$f":"COUNTIF(女子名簿!$G$12:$G$520,$C525)","v":0},null,null,{"$f":"COUNTIF(女子名簿!$J$12:$J$520,$C525)","v":0},null,null,{"$f":"COUNTIF(女子名簿!$M$12:$M$520,$C525)","v":0},null,null,{"$f":"COUNTIF(女子名簿!$P$12:$P$520,管理者入力!$G41)","v":0},0,0,{"$f":"COUNTIF(女子名簿!$S$12:$S$520,管理者入力!$B41)","v":0},0,0,"リレーチーム数合計"]
[null,{"$f":"管理者入力!J8","v":2},{"$f":"総括申込書!F28","v":"女子800m"},"女子800m",null,null,{"$f":"COUNTIF(女子名簿!$G$12:$G$520,$C526)","v":0},null,null,{"$f":"COUNTIF(女子名簿!$J$12:$J$520,$C526)","v":0},null,null,{"$f":"COUNTIF(女子名簿!$M$12:$M$520,$C526)","v":0},null,null,{"$f":"COUNTIF(女子名簿!$P$12:$P$520,管理者入力!$G42)","v":0},0,0,{"$f":"COUNTIF(女子名簿!$S$12:$S$520,管理者入力!$B42)","v":0},0,0,{"$f":"P522+S522","v":0}]
[null,{"$f":"管理者入力!J9","v":2},{"$f":"総括申込書!F29","v":"女子1500m"},"女子1500m",null,null,{"$f":"COUNTIF(女子名簿!$G$12:$G$520,$C527)","v":0},null,null,{"$f":"COUNTIF(女子名簿!$J$12:$J$520,$C527)","v":0},null,null,{"$f":"COUNTIF(女子名簿!$M$12:$M$520,$C527)","v":0},null,null,{"$f":"COUNTIF(女子名簿!$P$12:$P$520,管理者入力!$G43)","v":0},0,0,{"$f":"COUNTIF(女子名簿!$S$12:$S$520,管理者入力!$B43)","v":0},0,0]
[null,{"$f":"管理者入力!J10","v":2},{"$f":"総括申込書!F30","v":"女子5000m"},"女子5000m",null,null,{"$f":"COUNTIF(女子名簿!$G$12:$G$520,$C528)","v":0},null,null,{"$f":"COUNTIF(女子名簿!$J$12:$J$520,$C528)","v":0},null,null,{"$f":"COUNTIF(女子名簿!$M$12:$M$520,$C528)","v":0},null,null,{"$f":"COUNTIF(女子名簿!$P$12:$P$520,管理者入力!$G44)","v":0},0,0,{"$f":"COUNTIF(女子名簿!$S$12:$S$520,管理者入力!$B44)","v":0},0,0]
[null,{"$f":"管理者入力!J11","v":2},{"$f":"総括申込書!F31","v":"女子10000m"},"女子10000m",null,null,{"$f":"COUNTIF(女子名簿!$G$12:$G$520,$C529)","v":0},null,null,{"$f":"COUNTIF(女子名簿!$J$12:$J$520,$C529)","v":0},null,null,{"$f":"COUNTIF(女子名簿!$M$12:$M$520,$C529)","v":0},null,null,{"$f":"COUNTIF(女子名簿!$P$12:$P$520,管理者入力!$G45)","v":0},0,0,{"$f":"COUNTIF(女子名簿!$S$12:$S$520,管理者入力!$B45)","v":0},0,0]
[null,{"$f":"管理者入力!J12","v":2},{"$f":"総括申込書!F32","v":"女子100mH(0.838m)"},"女子100mH(0.838m)",null,null,{"$f":"COUNTIF(女子名簿!$G$12:$G$520,$C530)","v":0},null,null,{"$f":"COUNTIF(女子名簿!$J$12:$J$520,$C530)","v":0},null,null,{"$f":"COUNTIF(女子名簿!$M$12:$M$520,$C530)","v":0},null,null,{"$f":"COUNTIF(女子名簿!$P$12:$P$520,管理者入力!$G46)","v":0},0,0,{"$f":"COUNTIF(女子名簿!$S$12:$S$520,管理者入力!$B46)","v":0},0,0]
[null,{"$f":"管理者入力!J13","v":2},{"$f":"総括申込書!F33","v":"女子400mH(0.762m)"},"女子400mH(0.762m)",null,null,{"$f":"COUNTIF(女子名簿!$G$12:$G$520,$C531)","v":0},null,null,{"$f":"COUNTIF(女子名簿!$J$12:$J$520,$C531)","v":0},null,null,{"$f":"COUNTIF(女子名簿!$M$12:$M$520,$C531)","v":0},null,null,{"$f":"COUNTIF(女子名簿!$P$12:$P$520,管理者入力!$G47)","v":0},0,0,{"$f":"COUNTIF(女子名簿!$S$12:$S$520,管理者入力!$B47)","v":0},0,0]
[null,{"$f":"管理者入力!J14","v":2},{"$f":"総括申込書!F34","v":"女子3000mSC"},"女子3000mSC",null,null,{"$f":"COUNTIF(女子名簿!$G$12:$G$520,$C532)","v":0},null,null,{"$f":"COUNTIF(女子名簿!$J$12:$J$520,$C532)","v":0},null,null,{"$f":"COUNTIF(女子名簿!$M$12:$M$520,$C532)","v":0},null,null,{"$f":"COUNTIF(女子名簿!$P$12:$P$520,管理者入力!$G48)","v":0},0,0,{"$f":"COUNTIF(女子名簿!$S$12:$S$520,管理者入力!$B48)","v":0},0,0]
[null,{"$f":"管理者入力!J15","v":2},{"$f":"総括申込書!F35","v":"女子10000mW"},"女子10000mW",null,null,{"$f":"COUNTIF(女子名簿!$G$12:$G$520,$C533)","v":0},null,null,{"$f":"COUNTIF(女子名簿!$J$12:$J$520,$C533)","v":0},null,null,{"$f":"COUNTIF(女子名簿!$M$12:$M$520,$C533)","v":0},null,null,{"$f":"COUNTIF(女子名簿!$P$12:$P$520,管理者入力!$G49)","v":0},0,0,{"$f":"COUNTIF(女子名簿!$S$12:$S$520,管理者入力!$B49)","v":0},0,0]
[null,{"$f":"管理者入力!J16","v":2},{"$f":"総括申込書!F36","v":"女子走高跳"},"女子走高跳",null,null,{"$f":"COUNTIF(女子名簿!$G$12:$G$520,$C534)","v":0},null,null,{"$f":"COUNTIF(女子名簿!$J$12:$J$520,$C534)","v":0},null,null,{"$f":"COUNTIF(女子名簿!$M$12:$M$520,$C534)","v":0},null,null,{"$f":"COUNTIF(女子名簿!$P$12:$P$520,管理者入力!$G50)","v":0},0,0,{"$f":"COUNTIF(女子名簿!$S$12:$S$520,管理者入力!$B50)","v":0},0,0]
[null,{"$f":"管理者入力!J17","v":2},{"$f":"総括申込書!F37","v":"女子棒高跳"},"女子棒高跳",null,null,{"$f":"COUNTIF(女子名簿!$G$12:$G$520,$C535)","v":0},null,null,{"$f":"COUNTIF(女子名簿!$J$12:$J$520,$C535)","v":0},null,null,{"$f":"COUNTIF(女子名簿!$M$12:$M$520,$C535)","v":0},null,null,{"$f":"COUNTIF(女子名簿!$P$12:$P$520,管理者入力!$G51)","v":0},0,0,{"$f":"COUNTIF(女子名簿!$S$12:$S$520,管理者入力!$B51)","v":0},0,0]
[null,{"$f":"管理者入力!J18","v":2},{"$f":"総括申込書!F38","v":"女子走幅跳"},"女子走幅跳",null,null,{"$f":"COUNTIF(女子名簿!$G$12:$G$520,$C536)","v":0},null,null,{"$f":"COUNTIF(女子名簿!$J$12:$J$520,$C536)","v":0},null,null,{"$f":"COUNTIF(女子名簿!$M$12:$M$520,$C536)","v":0},null,null,{"$f":"COUNTIF(女子名簿!$P$12:$P$520,管理者入力!$G52)","v":0},0,0,{"$f":"COUNTIF(女子名簿!$S$12:$S$520,管理者入力!$B52)","v":0},0,0]
[null,{"$f":"管理者入力!J19","v":2},{"$f":"総括申込書!F39","v":"女子三段跳"},"女子三段跳",null,null,{"$f":"COUNTIF(女子名簿!$G$12:$G$520,$C537)","v":0},null,null,{"$f":"COUNTIF(女子名簿!$J$12:$J$520,$C537)","v":0},null,null,{"$f":"COUNTIF(女子名簿!$M$12:$M$520,$C537)","v":0},null,null,{"$f":"COUNTIF(女子名簿!$P$12:$P$520,管理者入力!$G53)","v":0},0,0,{"$f":"COUNTIF(女子名簿!$S$12:$S$520,管理者入力!$B53)","v":0},0,0]
[null,{"$f":"管理者入力!J20","v":2},{"$f":"総括申込書!F40","v":"女子砲丸投(4.000kg)"},"女子砲丸投(4.000kg)",null,null,{"$f":"COUNTIF(女子名簿!$G$12:$G$520,$C538)","v":0},null,null,{"$f":"COUNTIF(女子名簿!$J$12:$J$520,$C538)","v":0},null,null,{"$f":"COUNTIF(女子名簿!$M$12:$M$520,$C538)","v":0},null,null,{"$f":"COUNTIF(女子名簿!$P$12:$P$520,管理者入力!$G54)","v":0},0,0,{"$f":"COUNTIF(女子名簿!$S$12:$S$520,管理者入力!$B54)","v":0},0,0]
[null,{"$f":"管理者入力!J21","v":2},{"$f":"総括申込書!F41","v":"女子円盤投(1.000kg)"},"女子円盤投(1.000kg)",null,null,{"$f":"COUNTIF(女子名簿!$G$12:$G$520,$C539)","v":0},null,null,{"$f":"COUNTIF(女子名簿!$J$12:$J$520,$C539)","v":0},null,null,{"$f":"COUNTIF(女子名簿!$M$12:$M$520,$C539)","v":0},null,null,{"$f":"COUNTIF(女子名簿!$P$12:$P$520,管理者入力!$G55)","v":0},0,0,{"$f":"COUNTIF(女子名簿!$S$12:$S$520,管理者入力!$B55)","v":0},0,0]
[null,{"$f":"管理者入力!J22","v":2},{"$f":"総括申込書!F42","v":"女子ハンマー投(4.000kg)"},"女子ハンマー投(4.000kg)",null,null,{"$f":"COUNTIF(女子名簿!$G$12:$G$520,$C540)","v":0},null,null,{"$f":"COUNTIF(女子名簿!$J$12:$J$520,$C540)","v":0},null,null,{"$f":"COUNTIF(女子名簿!$M$12:$M$520,$C540)","v":0},null,null,{"$f":"COUNTIF(女子名簿!$P$12:$P$520,管理者入力!$G56)","v":0},0,0,{"$f":"COUNTIF(女子名簿!$S$12:$S$520,管理者入力!$B56)","v":0},0,0]
[null,{"$f":"管理者入力!J23","v":2},{"$f":"総括申込書!F43","v":"女子やり投(600g)"},"女子やり投(600g)",null,null,{"$f":"COUNTIF(女子名簿!$G$12:$G$520,$C541)","v":0},null,null,{"$f":"COUNTIF(女子名簿!$J$12:$J$520,$C541)","v":0},null,null,{"$f":"COUNTIF(女子名簿!$M$12:$M$520,$C541)","v":0},null,null,{"$f":"COUNTIF(女子名簿!$P$12:$P$520,管理者入力!$G57)","v":0},0,0,{"$f":"COUNTIF(女子名簿!$S$12:$S$520,管理者入力!$B57)","v":0},0,0]
[null,{"$f":"管理者入力!J24","v":2},{"$f":"総括申込書!F44","v":"女子七種競技"},"女子七種競技",null,null,{"$f":"COUNTIF(女子名簿!$G$12:$G$520,$C542)","v":0},null,null,{"$f":"COUNTIF(女子名簿!$J$12:$J$520,$C542)","v":0},null,null,{"$f":"COUNTIF(女子名簿!$M$12:$M$520,$C542)","v":0},null,null,{"$f":"COUNTIF(女子名簿!$P$12:$P$520,管理者入力!$G58)","v":0},0,0,{"$f":"COUNTIF(女子名簿!$S$12:$S$520,管理者入力!$B58)","v":0},0,0]
[null,{"$f":"管理者入力!J25","v":99},{"$f":"総括申込書!F45","v":"女子5000mOP"},"女子5000mOP",null,null,{"$f":"COUNTIF(女子名簿!$G$12:$G$520,$C543)","v":0},null,null,{"$f":"COUNTIF(女子名簿!$J$12:$J$520,$C543)","v":0},null,null,{"$f":"COUNTIF(女子名簿!$M$12:$M$520,$C543)","v":0},null,null,{"$f":"COUNTIF(女子名簿!$P$12:$P$520,管理者入力!$G59)","v":0},0,0,{"$f":"COUNTIF(女子名簿!$S$12:$S$520,管理者入力!$B59)","v":0},0,0]
[null,{"$f":"管理者入力!J26","v":0},{"$f":"総括申込書!F46","v":" "}," ",null,null,{"$f":"COUNTIF(女子名簿!$G$12:$G$520,$C544)","v":0},null,null,{"$f":"COUNTIF(女子名簿!$J$12:$J$520,$C544)","v":0},null,null,{"$f":"COUNTIF(女子名簿!$M$12:$M$520,$C544)","v":0},null,null,{"$f":"COUNTIF(女子名簿!$P$12:$P$520,管理者入力!$G60)","v":0},0,0,{"$f":"COUNTIF(女子名簿!$S$12:$S$520,管理者入力!$B60)","v":0},0,0]
[null,{"$f":"管理者入力!J27","v":" "},{"$f":"総括申込書!F47","v":" "}," ",null,null,{"$f":"COUNTIF(女子名簿!$G$12:$G$520,$C545)","v":0},null,null,{"$f":"COUNTIF(女子名簿!$J$12:$J$520,$C545)","v":0},null,null,{"$f":"COUNTIF(女子名簿!$M$12:$M$520,$C545)","v":0},null,null,{"$f":"COUNTIF(女子名簿!$P$12:$P$520,管理者入力!$G61)","v":0},0,0,{"$f":"COUNTIF(女子名簿!$S$12:$S$520,管理者入力!$B61)","v":0},0,0]
[null,{"$f":"管理者入力!J28","v":0},{"$f":"総括申込書!F48","v":" "}," ",null,null,{"$f":"COUNTIF(女子名簿!$G$12:$G$520,$C546)","v":0},null,null,{"$f":"COUNTIF(女子名簿!$J$12:$J$520,$C546)","v":0},null,null,{"$f":"COUNTIF(女子名簿!$M$12:$M$520,$C546)","v":0},null,null,{"$f":"COUNTIF(女子名簿!$P$12:$P$520,管理者入力!$G62)","v":0},0,0,{"$f":"COUNTIF(女子名簿!$S$12:$S$520,管理者入力!$B62)","v":0},0,0]
[null,{"$f":"管理者入力!J29","v":0},{"$f":"総括申込書!F49","v":" "}," ",null,null,{"$f":"COUNTIF(女子名簿!$G$12:$G$520,$C547)","v":0},null,null,{"$f":"COUNTIF(女子名簿!$J$12:$J$520,$C547)","v":0},null,null,{"$f":"COUNTIF(女子名簿!$M$12:$M$520,$C547)","v":0},null,null,{"$f":"COUNTIF(女子名簿!$P$12:$P$520,管理者入力!$G63)","v":0},0,0,{"$f":"COUNTIF(女子名簿!$S$12:$S$520,管理者入力!$B63)","v":0},0,0]
[null,{"$f":"管理者入力!J30","v":0},{"$f":"総括申込書!F50","v":" "}," ",null,null,{"$f":"COUNTIF(女子名簿!$G$12:$G$520,$C548)","v":0},null,null,{"$f":"COUNTIF(女子名簿!$J$12:$J$520,$C548)","v":0},null,null,{"$f":"COUNTIF(女子名簿!$M$12:$M$520,$C548)","v":0},null,null,{"$f":"COUNTIF(女子名簿!$P$12:$P$520,管理者入力!$G64)","v":0},0,0,{"$f":"COUNTIF(女子名簿!$S$12:$S$520,管理者入力!$B64)","v":0},0,0]
[null,{"$f":"管理者入力!J31","v":99},{"$f":"総括申込書!F51","v":" "}," ",null,null,{"$f":"COUNTIF(女子名簿!$G$12:$G$520,$C549)","v":0},null,null,{"$f":"COUNTIF(女子名簿!$J$12:$J$520,$C549)","v":0},null,null,{"$f":"COUNTIF(女子名簿!$M$12:$M$520,$C549)","v":0},null,null,{"$f":"COUNTIF(女子名簿!$P$12:$P$520,管理者入力!$G65)","v":0},0,0,{"$f":"COUNTIF(女子名簿!$S$12:$S$520,管理者入力!$B65)","v":0},0,0]
[null,{"$f":"管理者入力!J32","v":99},{"$f":"総括申込書!F52","v":" "}," ",null,null,{"$f":"COUNTIF(女子名簿!$G$12:$G$520,$C550)","v":0},null,null,{"$f":"COUNTIF(女子名簿!$J$12:$J$520,$C550)","v":0},null,null,{"$f":"COUNTIF(女子名簿!$M$12:$M$520,$C550)","v":0},null,null,{"$f":"COUNTIF(女子名簿!$P$12:$P$520,管理者入力!$G66)","v":0},0,0,{"$f":"COUNTIF(女子名簿!$S$12:$S$520,管理者入力!$B66)","v":0},0,0]
[null,{"$f":"管理者入力!J33","v":0},{"$f":"総括申込書!F53","v":"種　目　合　計"},{"$f":"IF(COUNTIF($G$12:$S$520,C551)>B551,\"\",C551)","v":"種　目　合　計"},null,null,{"$f":"COUNTIF(女子名簿!$G$12:$G$520,$C551)","v":0},null,null,{"$f":"COUNTIF(女子名簿!$J$12:$J$520,$C551)","v":0},null,null,{"$f":"COUNTIF(女子名簿!$M$12:$M$520,$C551)","v":0},null,null,{"$f":"COUNTIF(女子名簿!$P$12:$P$520,管理者入力!$G67)","v":0},0,0,{"$f":"COUNTIF(女子名簿!$S$12:$S$520,管理者入力!$B67)","v":0},0,0]
[null,{"$f":"管理者入力!J34","v":0},{"$f":"総括申込書!F54","v":"女子4X100mR"},{"$f":"IF(COUNTIF($G$12:$S$520,C552)>B552,\"\",C552)","v":"女子4X100mR"},null,null,{"$f":"COUNTIF(女子名簿!$G$12:$G$520,$C552)","v":0},null,null,{"$f":"COUNTIF(女子名簿!$J$12:$J$520,$C552)","v":0},null,null,{"$f":"COUNTIF(女子名簿!$M$12:$M$520,$C552)","v":0},null,null,{"$f":"COUNTIF(女子名簿!$P$12:$P$520,管理者入力!$G68)","v":0},0,0,{"$f":"COUNTIF(女子名簿!$S$12:$S$520,管理者入力!$B68)","v":0},0,0]
[null,{"$f":"管理者入力!J35","v":0},{"$f":"総括申込書!F55","v":"女子4X400mR"},{"$f":"IF(COUNTIF($G$12:$S$520,C553)>B553,\"\",C553)","v":"女子4X400mR"},null,null,{"$f":"COUNTIF(女子名簿!$G$12:$G$520,$C553)","v":0},null,null,{"$f":"COUNTIF(女子名簿!$J$12:$J$520,$C553)","v":0},null,null,{"$f":"COUNTIF(女子名簿!$M$12:$M$520,$C553)","v":0},null,null,{"$f":"COUNTIF(女子名簿!$P$12:$P$520,管理者入力!$G69)","v":0},0,0,{"$f":"COUNTIF(女子名簿!$S$12:$S$520,管理者入力!$B69)","v":0},0,0]
[null,{"$f":"管理者入力!J36","v":0},"　",{"$f":"IF(COUNTIF($G$12:$S$520,C554)>B554,\"\",C554)","v":"　"},null,null,{"$f":"COUNTIF(女子名簿!$G$12:$G$520,$C554)","v":0},null,null,{"$f":"COUNTIF(女子名簿!$J$12:$J$520,$C554)","v":0},null,null,{"$f":"COUNTIF(女子名簿!$M$12:$M$520,$C554)","v":0},null,null,{"$f":"COUNTIF(女子名簿!$P$12:$P$520,管理者入力!$G70)","v":0},0,0,{"$f":"COUNTIF(女子名簿!$S$12:$S$520,管理者入力!$B70)","v":0},0,0]
[null,null,{"$f":"管理者入力!G39","v":"女子4X100mRA"},{"$f":"管理者入力!H39","v":"女子4X400mRA"}]
[null,null,{"$f":"管理者入力!G40","v":"女子4X100mRB"},{"$f":"管理者入力!H40","v":"女子4X400mRB"}]
[null,null,{"$f":"管理者入力!G41","v":"女子4X100mRC"},{"$f":"管理者入力!H41","v":"女子4X400mRC"}]
[null,null,{"$f":"管理者入力!G42","v":"女子4X100mRD"},{"$f":"管理者入力!H42","v":"女子4X400mRD"}]
[null,null,{"$f":"管理者入力!G43","v":"女子4X100mRE"},{"$f":"管理者入力!H43","v":"女子4X400mRE"}]
[null,null,{"$f":"管理者入力!G44","v":"女子4X100mRF"},{"$f":"管理者入力!H44","v":"女子4X400mRF"}]
[null,null,{"$f":"管理者入力!G45","v":"女子4X100mRG"},{"$f":"管理者入力!H45","v":"女子4X400mRG"}]
[null,null,{"$f":"管理者入力!G46","v":"女子4X100mRH"},{"$f":"管理者入力!H46","v":"女子4X400mRH"}]
[null,null,{"$f":"管理者入力!G47","v":"女子4X100mRI"},{"$f":"管理者入力!H47","v":"女子4X400mRI"}]
[null,null,{"$f":"管理者入力!G48","v":"女子4X100mRJ"},{"$f":"管理者入力!H48","v":"女子4X400mRJ"}]
[null,null,{"$f":"管理者入力!G49","v":"女子4X100mRK"},{"$f":"管理者入力!H49","v":"女子4X400mRK"}]
[null,null,{"$f":"管理者入力!G50","v":"女子4X100mRL"},{"$f":"管理者入力!H50","v":"女子4X400mRL"}]
[null,null,{"$f":"管理者入力!G51","v":"女子4X100mRM"},{"$f":"管理者入力!H51","v":"女子4X400mRM"}]
[null,null,{"$f":"管理者入力!G52","v":"女子4X100mRN"},{"$f":"管理者入力!H52","v":"女子4X400mRN"}]
[null,null,{"$f":"管理者入力!G53","v":"女子4X100mRO"},{"$f":"管理者入力!H53","v":"女子4X400mRO"}]
[null,null,{"$f":"管理者入力!G54","v":"女子4X100mRP"},{"$f":"管理者入力!H54","v":"女子4X400mRP"}]
[null,null,{"$f":"管理者入力!G55","v":"女子4X100mRQ"},{"$f":"管理者入力!H55","v":"女子4X400mRQ"}]
[null,null,{"$f":"管理者入力!G56","v":"女子4X100mRR"},{"$f":"管理者入力!H56","v":"女子4X400mRR"}]
[null,null,{"$f":"管理者入力!G57","v":"女子4X100mRS"},{"$f":"管理者入力!H57","v":"女子4X400mRS"}]
[null,null,{"$f":"管理者入力!G58","v":"女子4X100mRT"},{"$f":"管理者入力!H58","v":"女子4X400mRT"}]
[null,null,{"$f":"管理者入力!G59","v":"女子4X100mRU"},{"$f":"管理者入力!H59","v":"女子4X400mRU"}]
[null,null,{"$f":"管理者入力!G60","v":"女子4X100mRV"},{"$f":"管理者入力!H60","v":"女子4X400mRV"}]
[null,null,{"$f":"管理者入力!G61","v":"女子4X100mRW"},{"$f":"管理者入力!H61","v":"女子4X400mRW"}]
[null,null,{"$f":"管理者入力!G62","v":"女子4X100mRX"},{"$f":"管理者入力!H62","v":"女子4X400mRX"}]
[null,null,{"$f":"管理者入力!G63","v":"女子4X100mRY"},{"$f":"管理者入力!H63","v":"女子4X400mRY"}]
[null,null,{"$f":"管理者入力!G64","v":"女子4X100mRZ"},{"$f":"管理者入力!H64","v":"女子4X400mRZ"}]
[null,null,{"$f":"管理者入力!G65","v":0}]
[null,null,{"$f":"管理者入力!G66","v":0}]
[null,null,{"$f":"管理者入力!G67","v":0}]
[null,null,{"$f":"管理者入力!G68","v":0}]
[null,null,{"$f":"管理者入力!G69","v":0}]
[null,null,{"$f":"管理者入力!G70","v":0}]
[null,null,{"$f":"管理者入力!G71","v":0}]
[null,null,{"$f":"管理者入力!G72","v":0}]
[null,null,{"$f":"管理者入力!G73","v":0}]
[null,null,{"$f":"管理者入力!G74","v":0}]
[null,null,{"$f":"管理者入力!G75","v":0}]
[null,null,{"$f":"管理者入力!G76","v":0}]
[null,null,{"$f":"管理者入力!G77","v":0}]
[null,null,{"$f":"管理者入力!G78","v":0}]
[null,null,{"$f":"管理者入力!G79","v":0}]
[null,null,{"$f":"管理者入力!G80","v":0}]
[null,null,{"$f":"管理者入力!G81","v":0}]
[null,null,{"$f":"管理者入力!G82","v":0}]
[null,null,{"$f":"管理者入力!G83","v":0}]
[null,null,{"$f":"管理者入力!G84","v":0}]
[null,null,{"$f":"管理者入力!G85","v":0}]
[null,null,{"$f":"管理者入力!G86","v":0}]
[null,null,{"$f":"管理者入力!G87","v":0}]
[null,null,{"$f":"管理者入力!G88","v":0}]
[null,null,{"$f":"管理者入力!G89","v":0}]
[null,null,{"$f":"管理者入力!G90","v":0}]
[null,null,{"$f":"管理者入力!G91","v":0}]
[null,null,{"$f":"管理者入力!G92","v":0}]
[null,null,{"$f":"管理者入力!G93","v":0}]
[null,null,{"$f":"管理者入力!G94","v":0}]

{"sheet":"トレーナー誓約書(必要な大学のみ)","index":4,"n_rows":117,"n_cols":15,"rows_kept":117,"cut":false,"hidden":false,"merged":[[1,13,1,14],[6,1,6,4],[7,2,7,3],[11,5,11,9],[19,2,19,3],[19,4,19,12],[43,6,43,12],[22,2,22,3],[22,4,22,12],[29,5,29,8],[32,7,32,11],[35,7,35,11],[38,7,38,11],[42,2,42,3],[42,4,42,5],[42,6,42,7],[42,8,42,9],[42,10,42,12],[51,2,51,3],[51,4,51,5],[51,6,51,7],[51,8,51,9],[51,10,51,12],[56,6,56,12],[44,4,44,5],[44,6,44,12],[45,4,45,5],[45,6,45,12],[47,6,47,12],[52,6,52,12],[53,4,53,5],[53,6,53,12],[54,4,54,5],[54,6,54,12]]}
[]
[null,null,null,null,null,null,null,null,null,null,null,null,null,"（様式　Ⅵ）"]
[]
[]
[null,null,null,null,null,null,null,null,"平成",null,"年",null,"月",null,"日"]
[]
[null,"東海学生陸上競技連盟"]
[null,"会長","安藤　好郎",null,"殿"]
[]
[]
[]
[null,null,null,null,null,"トレーナー活動誓約書"]
[]
[]
[null,null,"下記大会において、トレーナー活動を行いたいと存じます。"]
[null,null,"つきましては、大会本部が指定する場所において、大会本部の指示に従って活動し、"]
[null,null,"これに反した場合は活動を停止することを誓約いたします。"]
[]
[]
[null,null,"大学名 ",null,{"$f":"基本情報!E8","v":""}]
[]
[]
[null,null,"大会名",null,{"$f":"基本情報!A1","v":"第８４回　東海学生陸上競技対校選手権大会"}]
[]
[]
[null,"期 日","平成",null,"年",null,"月",null,"日","～",null,"月",null,"日"]
[]
[]
[]
[null,null,null,null,null,"活動トレーナー数",null,null,null,null,null,null,"名"]
[]
[]
[null,null,null,null,null,"部長名",null,null,null,null,null,null,"㊞"]
[]
[]
[null,null,null,null,null,"監督名",null,{"$f":"基本情報!A24","v":0},null,null,null,null,"㊞"]
[]
[]
[null,null,null,null,null,"代表者名",null,{"$f":"基本情報!E34","v":0},null,null,null,null,"㊞"]
[]
[]
[]
[null,null,"第一連絡先",null,"住   所　〒"]
[]
[null,null,null,null,"フ　リ　ガ　ナ",null,{"$f":"PHONETIC(G46)","v":""}]
[null,null,null,null,"氏　　　名",null,{"$f":"基本情報!E34","v":0}]
[]
[null,null,null,null,"TEL／FAX",null,{"$f":"基本情報!I34","v":0}]
[]
[]
[]
[null,null,"第二連絡先",null,"住   所　〒"]
[]
[null,null,null,null,"フ　リ　ガ　ナ",null,{"$f":"PHONETIC(G55)","v":""}]
[null,null,null,null,"氏　　　名"]
[]
[null,null,null,null,"TEL／FAX"]
[]
[]
[]
[]
[]
[]
[]
[]
[]
[]
[]
[]
[null,"都道府県一覧"]
[null,"北海道"]
[null,"青森県"]
[null,"岩手県"]
[null,"宮城県"]
[null,"秋田県"]
[null,"山形県"]
[null,"福島県"]
[null,"茨城県"]
[null,"栃木県"]
[null,"群馬県"]
[null,"埼玉県"]
[null,"千葉県"]
[null,"東京都"]
[null,"神奈川県"]
[null,"新潟県"]
[null,"富山県"]
[null,"石川県"]
[null,"福井県"]
[null,"山梨県"]
[null,"長野県"]
[null,"岐阜県"]
[null,"静岡県"]
[null,"愛知県"]
[null,"三重県"]
[null,"滋賀県"]
[null,"京都府"]
[null,"大阪府"]
[null,"兵庫県"]
[null,"奈良県"]
[null,"和歌山県"]
[null,"鳥取県"]
[null,"島根県"]
[null,"岡山県"]
[null,"広島県"]
[null,"山口県"]
[null,"徳島県"]
[null,"香川県"]
[null,"愛媛県"]
[null,"高知県"]
[null,"福岡県"]
[null,"佐賀県"]
[null,"長崎県"]
[null,"熊本県"]
[null,"大分県"]
[null,"宮崎県"]
[null,"鹿児島県"]
[null,"沖縄県"]

{"sheet":"学校名","index":5,"n_rows":1418,"n_cols":19,"rows_kept":1418,"cut":false,"hidden":true,"merged":[]}
[null,{"$f":"男子名簿!A1","v":"第８４回　東海学生陸上競技対校選手権大会"}]
[]
[null,null,"都道府県名"]
[null,"　","学　連"]
[]
[null,"選手参加人数一覧表",null,null,null,null,null,null,null,null,null,null,null,22]
[null,"番号","チーム名称","チーム正式名称(賞状）","ﾌﾘｶﾞﾅ(電光掲示盤表示）","６文字略称","男 子","女 子","計",null,null,null,null,"北海道",1]
[1,1,"愛知医科大","愛知医科大学","ｱｲﾁｲｶﾀﾞｲｶﾞｸ","愛医大",{"$f":"IF(学校名!$C8=\"\",0,COUNTIF(男子名簿!$F$12:$F$520,学校名!$C8))","v":0},{"$f":"IF(学校名!$C8=\"\",0,COUNTIF(女子名簿!$F$12:$F$520,学校名!$C8))","v":0},{"$f":"G8+H8","v":0},{"$f":"COUNTIF(男子名簿!$Y$12:$Y$520,)","v":0},null,null,null,"青　森",2,null,"その他","その他",777777]
[1,2,"愛知学院大","愛知学院大学","ｱｲﾁｶﾞｸｲﾝﾀﾞｲｶﾞｸ","愛学大",{"$f":"IF(学校名!$C9=\"\",0,COUNTIF(男子名簿!$F$12:$F$520,学校名!$C9))","v":0},{"$f":"IF(学校名!$C9=\"\",0,COUNTIF(女子名簿!$F$12:$F$520,学校名!$C9))","v":0},{"$f":"G9+H9","v":0},null,null,null,null,"岩  手",3,null,"東海大学東海","東海大学東海",40]
[1,3,"愛知教育大","愛知教育大学","ｱｲﾁｷｮｳｲｸﾀﾞｲｶﾞｸ","愛教大",{"$f":"IF(学校名!$C10=\"\",0,COUNTIF(男子名簿!$F$12:$F$520,学校名!$C10))","v":0},{"$f":"IF(学校名!$C10=\"\",0,COUNTIF(女子名簿!$F$12:$F$520,学校名!$C10))","v":0},0,null,null,null,null,"宮　城",4,null,"愛知医科大学","愛知医科大学",2]
[1,4,"愛知県立大","愛知県立大学","ｱｲﾁｹﾝﾘﾂﾀﾞｲｶﾞｸ","愛県大",{"$f":"IF(学校名!$C11=\"\",0,COUNTIF(男子名簿!$F$12:$F$520,学校名!$C11))","v":0},{"$f":"IF(学校名!$C11=\"\",0,COUNTIF(女子名簿!$F$12:$F$520,学校名!$C11))","v":0},0,null,null,null,null,"秋　田",5,null,"愛知学院大学","愛知学院大学",3]
[0,5,"愛知工業大","愛知工業大学","ｱｲﾁｺｳｷﾞｮｳﾀﾞｲｶﾞｸ","愛工大",{"$f":"IF(学校名!$C12=\"\",0,COUNTIF(男子名簿!$F$12:$F$520,学校名!$C12))","v":0},{"$f":"IF(学校名!$C12=\"\",0,COUNTIF(女子名簿!$F$12:$F$520,学校名!$C12))","v":0},0,null,null,null,null,"山　形",6,null,"愛知教育大学","愛知教育大学",4]
[0,6,"愛知淑徳大","愛知淑徳大学","ｱｲﾁｼｭｸﾄｸﾀﾞｲｶﾞｸ","愛淑大",{"$f":"IF(学校名!$C13=\"\",0,COUNTIF(男子名簿!$F$12:$F$520,学校名!$C13))","v":0},{"$f":"IF(学校名!$C13=\"\",0,COUNTIF(女子名簿!$F$12:$F$520,学校名!$C13))","v":0},0,null,null,null,null,"福　島",7,null,"愛知県立大学","愛知県立大学",5]
[0,7,"愛知大","愛知大学","ｱｲﾁﾀﾞｲｶﾞｸ","愛知大",{"$f":"IF(学校名!$C14=\"\",0,COUNTIF(男子名簿!$F$12:$F$520,学校名!$C14))","v":0},{"$f":"IF(学校名!$C14=\"\",0,COUNTIF(女子名簿!$F$12:$F$520,学校名!$C14))","v":0},0,null,null,null,null,"茨　城",8,null,"愛知工業大学","愛知工業大学",6]
[0,8,"愛知東邦大","愛知東邦大学","ｱｲﾁﾄｳﾎｳﾀﾞｲｶﾞｸ","東邦大",{"$f":"IF(学校名!$C15=\"\",0,COUNTIF(男子名簿!$F$12:$F$520,学校名!$C15))","v":0},{"$f":"IF(学校名!$C15=\"\",0,COUNTIF(女子名簿!$F$12:$F$520,学校名!$C15))","v":0},0,null,null,null,null,"栃　木",9,null,"愛知淑徳大学","愛知淑徳大学",7]
[0,9,"岐阜経済大","岐阜経済大学","ｷﾞﾌｹｲｻﾞｲﾀﾞｲｶﾞｸ","岐経大",{"$f":"IF(学校名!$C16=\"\",0,COUNTIF(男子名簿!$F$12:$F$520,学校名!$C16))","v":0},{"$f":"IF(学校名!$C16=\"\",0,COUNTIF(女子名簿!$F$12:$F$520,学校名!$C16))","v":0},0,null,null,null,null,"群　馬",10,null,"愛知大学","愛知大学",1]
[0,10,"岐阜工業高等専門学校","岐阜工業高等専門学校","ｷﾞﾌｺｳｷﾞｮｳｺｳﾄｳｾﾝﾓﾝｶﾞｯｺｳ","岐阜高専",{"$f":"IF(学校名!$C17=\"\",0,COUNTIF(男子名簿!$F$12:$F$520,学校名!$C17))","v":0},{"$f":"IF(学校名!$C17=\"\",0,COUNTIF(女子名簿!$F$12:$F$520,学校名!$C17))","v":0},0,null,null,null,null,"埼　玉",11,null,"愛知東邦大学","愛知東邦大学",8]
[0,11,"岐阜聖徳学園大","岐阜聖徳学園大学","ｷﾞﾌｼｮｳﾄｸｶﾞｸｴﾝﾀﾞｲｶﾞｸ","岐聖大",{"$f":"IF(学校名!$C18=\"\",0,COUNTIF(男子名簿!$F$12:$F$520,学校名!$C18))","v":0},{"$f":"IF(学校名!$C18=\"\",0,COUNTIF(女子名簿!$F$12:$F$520,学校名!$C18))","v":0},0,null,null,null,null,"千　葉",12,null,"岐阜経済大学","岐阜経済大学",10]
[0,12,"岐阜大","岐阜大学","ｷﾞﾌﾀﾞｲｶﾞｸ","岐阜大",{"$f":"IF(学校名!$C19=\"\",0,COUNTIF(男子名簿!$F$12:$F$520,学校名!$C19))","v":0},{"$f":"IF(学校名!$C19=\"\",0,COUNTIF(女子名簿!$F$12:$F$520,学校名!$C19))","v":0},0,null,null,null,null,"東　京",13,null,"岐阜聖徳学園大学","岐阜聖徳学園大学",11]
[0,13,"岐阜薬科大","岐阜薬科大学","ｷﾞﾌﾔｯｶﾀﾞｲｶﾞｸ","岐薬大",{"$f":"IF(学校名!$C20=\"\",0,COUNTIF(男子名簿!$F$12:$F$520,学校名!$C20))","v":0},{"$f":"IF(学校名!$C20=\"\",0,COUNTIF(女子名簿!$F$12:$F$520,学校名!$C20))","v":0},0,null,null,null,null,"神奈川",14,null,"岐阜大学","岐阜大学",9]
[0,14,"近畿大工業高等専門学校","近畿大学工業高等専門学校","ｷﾝｷﾀﾞｲｶﾞｸｺｳｷﾞｮｳｺｳﾄｳｾﾝﾓﾝｶﾞｯｺｳ","近大高専",{"$f":"IF(学校名!$C21=\"\",0,COUNTIF(男子名簿!$F$12:$F$520,学校名!$C21))","v":0},{"$f":"IF(学校名!$C21=\"\",0,COUNTIF(女子名簿!$F$12:$F$520,学校名!$C21))","v":0},0,null,null,null,null,"山　梨",15,null,"岐阜薬科大学","岐阜薬科大学",12]
[0,15,"金城院大","金城学院大学","ｷﾝｼﾞｮｳｶﾞｸｲﾝﾀﾞｲｶﾞｸ","金城学大",{"$f":"IF(学校名!$C22=\"\",0,COUNTIF(男子名簿!$F$12:$F$520,学校名!$C22))","v":0},{"$f":"IF(学校名!$C22=\"\",0,COUNTIF(女子名簿!$F$12:$F$520,学校名!$C22))","v":0},0,null,null,null,null,"新　潟",16,null,"近畿大学工業高等専門学校","近畿大学工業高等専門学校",13]
[0,16,"皇學館大","皇學館大学","ｺｳｶﾞｸｶﾝﾀﾞｲｶﾞｸ","皇學館大",{"$f":"IF(学校名!$C23=\"\",0,COUNTIF(男子名簿!$F$12:$F$520,学校名!$C23))","v":0},{"$f":"IF(学校名!$C23=\"\",0,COUNTIF(女子名簿!$F$12:$F$520,学校名!$C23))","v":0},0,null,null,null,null,"富　山",17,null,"金城学院大学","金城学院大学",14]
[0,17,"至学館大","至学館大学","ｼｶﾞｯｶﾝﾀﾞｲｶﾞｸ","至学館大",{"$f":"IF(学校名!$C24=\"\",0,COUNTIF(男子名簿!$F$12:$F$520,学校名!$C24))","v":0},{"$f":"IF(学校名!$C24=\"\",0,COUNTIF(女子名簿!$F$12:$F$520,学校名!$C24))","v":0},0,null,null,null,null,"石　川",18,null,"皇學館大学","皇學館大学",15]
[0,18,"静岡県立大","静岡県立大学","ｼｽﾞｵｶｹﾝﾘﾂﾀﾞｲｶﾞｸ","静県大",{"$f":"IF(学校名!$C25=\"\",0,COUNTIF(男子名簿!$F$12:$F$520,学校名!$C25))","v":0},{"$f":"IF(学校名!$C25=\"\",0,COUNTIF(女子名簿!$F$12:$F$520,学校名!$C25))","v":0},0,null,null,null,null,"福　井",19,null,"三重大学","三重大学",38]
[0,19,"静岡産業大","静岡産業大学","ｼｽﾞｵｶｻﾝｷﾞｮｳﾀﾞｲｶﾞｸ","静産大",{"$f":"IF(学校名!$C26=\"\",0,COUNTIF(男子名簿!$F$12:$F$520,学校名!$C26))","v":0},{"$f":"IF(学校名!$C26=\"\",0,COUNTIF(女子名簿!$F$12:$F$520,学校名!$C26))","v":0},0,null,null,null,null,"長  野",20,null,"至学館大学","至学館大学",16]
[0,20,"静岡大","静岡大学","ｼｽﾞｵｶﾀﾞｲｶﾞｸ","静岡大",{"$f":"IF(学校名!$C27=\"\",0,COUNTIF(男子名簿!$F$12:$F$520,学校名!$C27))","v":0},{"$f":"IF(学校名!$C27=\"\",0,COUNTIF(女子名簿!$F$12:$F$520,学校名!$C27))","v":0},0,null,null,null,null,"静  岡",21,null,"常葉大学","常葉大学",28]
[0,21,"椙山女学園大","椙山女学園大学","ｽｷﾞﾔﾏｼﾞｮｶﾞｸｴﾝﾀﾞｲｶﾞｸ","椙女大",{"$f":"IF(学校名!$C28=\"\",0,COUNTIF(男子名簿!$F$12:$F$520,学校名!$C28))","v":0},{"$f":"IF(学校名!$C28=\"\",0,COUNTIF(女子名簿!$F$12:$F$520,学校名!$C28))","v":0},0,null,null,null,null,"愛  知",22,null,"椙山女学園大学","椙山女学園大学",20]
[0,22,"鈴鹿工業高等専門学校","鈴鹿工業高等専門学校","ｽｽﾞｶｺｳｷﾞｮｳｺｳﾄｳｾﾝﾓﾝｶﾞｯｺｳ","鈴鹿高専",{"$f":"IF(学校名!$C29=\"\",0,COUNTIF(男子名簿!$F$12:$F$520,学校名!$C29))","v":0},{"$f":"IF(学校名!$C29=\"\",0,COUNTIF(女子名簿!$F$12:$F$520,学校名!$C29))","v":0},0,null,null,null,null,"三  重",23,null,"静岡県立大学","静岡県立大学",18]
[0,23,"大同大","大同大学","ﾀﾞｲﾄﾞｳﾀﾞｲｶﾞｸ","大同大",{"$f":"IF(学校名!$C30=\"\",0,COUNTIF(男子名簿!$F$12:$F$520,学校名!$C30))","v":0},{"$f":"IF(学校名!$C30=\"\",0,COUNTIF(女子名簿!$F$12:$F$520,学校名!$C30))","v":0},0,null,null,null,null,"岐  阜",24,null,"静岡産業大学","静岡産業大学",19]
[0,24,"中京学院大","中京学院大学","ﾁｭｳｷｮｳｶﾞｸｲﾝﾀﾞｲｶﾞｸ","中京学大",{"$f":"IF(学校名!$C31=\"\",0,COUNTIF(男子名簿!$F$12:$F$520,学校名!$C31))","v":0},{"$f":"IF(学校名!$C31=\"\",0,COUNTIF(女子名簿!$F$12:$F$520,学校名!$C31))","v":0},0,null,null,null,null,"滋　賀",25,null,"静岡大学","静岡大学",17]
[0,25,"中京大","中京大学","ﾁｭｳｷｮｳﾀﾞｲｶﾞｸ","中京大",{"$f":"IF(学校名!$C32=\"\",0,COUNTIF(男子名簿!$F$12:$F$520,学校名!$C32))","v":0},{"$f":"IF(学校名!$C32=\"\",0,COUNTIF(女子名簿!$F$12:$F$520,学校名!$C32))","v":0},0,null,null,null,null,"京　都",26,null,"大同大学","大同大学",22]
[0,26,"中部学院大","中部学院大学","ﾁｭｳﾌﾞｶﾞｸｲﾝﾀﾞｲｶﾞｸ","中部学大",{"$f":"IF(学校名!$C33=\"\",0,COUNTIF(男子名簿!$F$12:$F$520,学校名!$C33))","v":0},{"$f":"IF(学校名!$C33=\"\",0,COUNTIF(女子名簿!$F$12:$F$520,学校名!$C33))","v":0},0,null,null,null,null,"大　阪",27,null,"中京学院大学","中京学院大学",24]
[0,27,"中部大","中部大学","ﾁｭｳﾌﾞﾀﾞｲｶﾞｸ","中部大",{"$f":"IF(学校名!$C34=\"\",0,COUNTIF(男子名簿!$F$12:$F$520,学校名!$C34))","v":0},{"$f":"IF(学校名!$C34=\"\",0,COUNTIF(女子名簿!$F$12:$F$520,学校名!$C34))","v":0},0,null,null,null,null,"兵　庫",28,null,"中京大学","中京大学",23]
[0,28,"東海学園大","東海学園大学","ﾄｳｶｲｶﾞｸｴﾝﾀﾞｲｶﾞｸ","東海学大",{"$f":"IF(学校名!$C35=\"\",0,COUNTIF(男子名簿!$F$12:$F$520,学校名!$C35))","v":0},{"$f":"IF(学校名!$C35=\"\",0,COUNTIF(女子名簿!$F$12:$F$520,学校名!$C35))","v":0},0,null,null,null,null,"奈　良",29,null,"中部学院大学","中部学院大学",26]
[0,29,"東海大東海","東海大学東海","ﾄｳｶｲﾀﾞｲｶﾞｸﾄｳｶｲ","東海大東海",{"$f":"IF(学校名!$C36=\"\",0,COUNTIF(男子名簿!$F$12:$F$520,学校名!$C36))","v":0},{"$f":"IF(学校名!$C36=\"\",0,COUNTIF(女子名簿!$F$12:$F$520,学校名!$C36))","v":0},0,null,null,null,null,"和歌山",30,null,"中部大学","中部大学",25]
[0,30,"常葉大","常葉大学","ﾄｺﾊﾀﾞｲｶﾞｸ","常葉大",{"$f":"IF(学校名!$C37=\"\",0,COUNTIF(男子名簿!$F$12:$F$520,学校名!$C37))","v":0},{"$f":"IF(学校名!$C37=\"\",0,COUNTIF(女子名簿!$F$12:$F$520,学校名!$C37))","v":0},0,null,null,null,null,"鳥　取",31,null,"鳥羽商船高等専門学校","鳥羽商船高等専門学校",29]
[0,31,"鳥羽商船高等専門学校","鳥羽商船高等専門学校","ﾄﾊﾞｼｮｳｾﾝｺｳﾄｳｾﾝﾓﾝｶﾞｯｺｳ","鳥羽商船高専",{"$f":"IF(学校名!$C38=\"\",0,COUNTIF(男子名簿!$F$12:$F$520,学校名!$C38))","v":0},{"$f":"IF(学校名!$C38=\"\",0,COUNTIF(女子名簿!$F$12:$F$520,学校名!$C38))","v":0},0,null,null,null,null,"島　根",32,null,"東海学園大学","東海学園大学",27]
[0,32,"豊田工業高等専門学校","豊田工業高等専門学校","ﾄﾖﾀｺｳｷﾞｮｳｺｳﾄｳｾﾝﾓﾝｶﾞｯｺｳ","豊田高専",{"$f":"IF(学校名!$C39=\"\",0,COUNTIF(男子名簿!$F$12:$F$520,学校名!$C39))","v":0},{"$f":"IF(学校名!$C39=\"\",0,COUNTIF(女子名簿!$F$12:$F$520,学校名!$C39))","v":0},0,null,null,null,null,"岡　山",33,null,"南山大学","南山大学",35]
[0,33,"豊橋技術科学大","豊橋技術科学大学","ﾄﾖﾊｼｷﾞｼﾞｭﾂｶｶﾞｸﾀﾞｲｶﾞｸ","豊橋技科大",{"$f":"IF(学校名!$C40=\"\",0,COUNTIF(男子名簿!$F$12:$F$520,学校名!$C40))","v":0},{"$f":"IF(学校名!$C40=\"\",0,COUNTIF(女子名簿!$F$12:$F$520,学校名!$C40))","v":0},0,null,null,null,null,"広　島",34,null,"日本福祉大学","日本福祉大学",36]
[0,34,"名古屋学院大","名古屋学院大学","ﾅｺﾞﾔｶﾞｸｲﾝﾀﾞｲｶﾞｸ","名学大",{"$f":"IF(学校名!$C41=\"\",0,COUNTIF(男子名簿!$F$12:$F$520,学校名!$C41))","v":0},{"$f":"IF(学校名!$C41=\"\",0,COUNTIF(女子名簿!$F$12:$F$520,学校名!$C41))","v":0},0,null,null,null,null,"山　口",35,null,"浜松医科大学","浜松医科大学",37]
[0,35,"名古屋工業大","名古屋工業大学","ﾅｺﾞﾔｺｳｷﾞｮｳﾀﾞｲｶﾞｸ","名工大",{"$f":"IF(学校名!$C42=\"\",0,COUNTIF(男子名簿!$F$12:$F$520,学校名!$C42))","v":0},{"$f":"IF(学校名!$C42=\"\",0,COUNTIF(女子名簿!$F$12:$F$520,学校名!$C42))","v":0},0,null,null,null,null,"徳  島",36,null,"豊田工業高等専門学校","豊田工業高等専門学校",30]
[0,36,"名古屋女子大","名古屋女子大学","ﾅｺﾞﾔジョシﾀﾞｲｶﾞｸ","名古屋女子大",{"$f":"IF(学校名!$C43=\"\",0,COUNTIF(男子名簿!$F$12:$F$520,学校名!$C43))","v":0},{"$f":"IF(学校名!$C43=\"\",0,COUNTIF(女子名簿!$F$12:$F$520,学校名!$C43))","v":0},0,null,null,null,null,"香  川",37,null,"名古屋学院大学","名古屋学院大学",32]
[0,37,"名古屋市立大","名古屋市立大学","ﾅｺﾞﾔｼﾘﾂﾀﾞｲｶﾞｸ","名市大",{"$f":"IF(学校名!$C44=\"\",0,COUNTIF(男子名簿!$F$12:$F$520,学校名!$C44))","v":0},{"$f":"IF(学校名!$C44=\"\",0,COUNTIF(女子名簿!$F$12:$F$520,学校名!$C44))","v":0},0,null,null,null,null,"愛　媛",38,null,"名古屋工業大学","名古屋工業大学",33]
[0,38,"名古屋大","名古屋大学","ﾅｺﾞﾔﾀﾞｲｶﾞｸ","名大",{"$f":"IF(学校名!$C45=\"\",0,COUNTIF(男子名簿!$F$12:$F$520,学校名!$C45))","v":0},{"$f":"IF(学校名!$C45=\"\",0,COUNTIF(女子名簿!$F$12:$F$520,学校名!$C45))","v":0},0,null,null,null,null,"高　知",39,null,"名古屋市立大学","名古屋市立大学",34]
[0,39,"南山大","南山大学","ﾅﾝｻﾞﾝﾀﾞｲｶﾞｸ","南山大",{"$f":"IF(学校名!$C46=\"\",0,COUNTIF(男子名簿!$F$12:$F$520,学校名!$C46))","v":0},{"$f":"IF(学校名!$C46=\"\",0,COUNTIF(女子名簿!$F$12:$F$520,学校名!$C46))","v":0},0,null,null,null,null,"福　岡",40,null,"名古屋大学","名古屋大学",31]
[0,40,"日本福祉大","日本福祉大学","ﾆﾎﾝﾌｸｼﾀﾞｲｶﾞｸ","日福大",{"$f":"IF(学校名!$C47=\"\",0,COUNTIF(男子名簿!$F$12:$F$520,学校名!$C47))","v":0},{"$f":"IF(学校名!$C47=\"\",0,COUNTIF(女子名簿!$F$12:$F$520,学校名!$C47))","v":0},0,null,null,null,null,"佐　賀",41,null,"名城大学","名城大学",39]
[0,41,"沼津工業高等専門学校","沼津工業高等専門学校","ﾇﾏﾂﾞｺｳｷﾞｮｳｺｳﾄｳｾﾝﾓﾝｶﾞｯｺｳ","沼津高専",{"$f":"IF(学校名!$C48=\"\",0,COUNTIF(男子名簿!$F$12:$F$520,学校名!$C48))","v":0},{"$f":"IF(学校名!$C48=\"\",0,COUNTIF(女子名簿!$F$12:$F$520,学校名!$C48))","v":0},0,null,null,null,null,"長　崎",42,null,"鈴鹿工業高等専門学校","鈴鹿工業高等専門学校",21]
[0,42,"浜松医科大","浜松医科大学","ﾊﾏﾏﾂｲｶﾀﾞｲｶﾞｸ","浜医大",{"$f":"IF(学校名!$C49=\"\",0,COUNTIF(男子名簿!$F$12:$F$520,学校名!$C49))","v":0},{"$f":"IF(学校名!$C49=\"\",0,COUNTIF(女子名簿!$F$12:$F$520,学校名!$C49))","v":0},0,null,null,null,null,"大　分",43]
[0,43,"藤田保健衛生大","藤田保健衛生大学","ﾌｼﾞﾀﾎｹﾝｴｲｾｲﾀﾞｲｶﾞｸ","藤田保衛大",{"$f":"IF(学校名!$C50=\"\",0,COUNTIF(男子名簿!$F$12:$F$520,学校名!$C50))","v":0},{"$f":"IF(学校名!$C50=\"\",0,COUNTIF(女子名簿!$F$12:$F$520,学校名!$C50))","v":0},0,null,null,null,null,"熊　本",44]
[0,44,"三重大","三重大学","ﾐｴﾀﾞｲｶﾞｸ","三重大",{"$f":"IF(学校名!$C51=\"\",0,COUNTIF(男子名簿!$F$12:$F$520,学校名!$C51))","v":0},{"$f":"IF(学校名!$C51=\"\",0,COUNTIF(女子名簿!$F$12:$F$520,学校名!$C51))","v":0},0,null,null,null,null,"宮　崎",45]
[0,45,"名城大","名城大学","ﾒｲｼﾞｮｳﾀﾞｲｶﾞｸ","名城大",{"$f":"IF(学校名!$C52=\"\",0,COUNTIF(男子名簿!$F$12:$F$520,学校名!$C52))","v":0},{"$f":"IF(学校名!$C52=\"\",0,COUNTIF(女子名簿!$F$12:$F$520,学校名!$C52))","v":0},0,null,null,null,null,"鹿児島",46]
[0,null,null,null,null,null,{"$f":"IF(学校名!$C53=\"\",0,COUNTIF(男子名簿!$F$12:$F$520,学校名!$C53))","v":0},{"$f":"IF(学校名!$C53=\"\",0,COUNTIF(女子名簿!$F$12:$F$520,学校名!$C53))","v":0},0,null,null,null,null,"沖　縄",47]
[0,null,null,null,null,null,{"$f":"IF(学校名!$C54=\"\",0,COUNTIF(男子名簿!$F$12:$F$520,学校名!$C54))","v":0},{"$f":"IF(学校名!$C54=\"\",0,COUNTIF(女子名簿!$F$12:$F$520,学校名!$C54))","v":0},0,null,null,null,null,"学　連",48]
[0,null,null,null,null,null,{"$f":"IF(学校名!$C55=\"\",0,COUNTIF(男子名簿!$F$12:$F$520,学校名!$C55))","v":0},{"$f":"IF(学校名!$C55=\"\",0,COUNTIF(女子名簿!$F$12:$F$520,学校名!$C55))","v":0},0]
[0,null,null,null,null,null,{"$f":"IF(学校名!$C56=\"\",0,COUNTIF(男子名簿!$F$12:$F$520,学校名!$C56))","v":0},{"$f":"IF(学校名!$C56=\"\",0,COUNTIF(女子名簿!$F$12:$F$520,学校名!$C56))","v":0},0]
[0,null,null,null,null,null,{"$f":"IF(学校名!$C57=\"\",0,COUNTIF(男子名簿!$F$12:$F$520,学校名!$C57))","v":0},{"$f":"IF(学校名!$C57=\"\",0,COUNTIF(女子名簿!$F$12:$F$520,学校名!$C57))","v":0},0]
[0,null,null,null,null,null,{"$f":"IF(学校名!$C58=\"\",0,COUNTIF(男子名簿!$F$12:$F$520,学校名!$C58))","v":0},{"$f":"IF(学校名!$C58=\"\",0,COUNTIF(女子名簿!$F$12:$F$520,学校名!$C58))","v":0},0]
[0,null,null,null,null,null,{"$f":"IF(学校名!$C59=\"\",0,COUNTIF(男子名簿!$F$12:$F$520,学校名!$C59))","v":0},{"$f":"IF(学校名!$C59=\"\",0,COUNTIF(女子名簿!$F$12:$F$520,学校名!$C59))","v":0},0]
[0,null,null,null,null,null,{"$f":"IF(学校名!$C60=\"\",0,COUNTIF(男子名簿!$F$12:$F$520,学校名!$C60))","v":0},{"$f":"IF(学校名!$C60=\"\",0,COUNTIF(女子名簿!$F$12:$F$520,学校名!$C60))","v":0},0]
[0,null,null,null,null,null,{"$f":"IF(学校名!$C61=\"\",0,COUNTIF(男子名簿!$F$12:$F$520,学校名!$C61))","v":0},{"$f":"IF(学校名!$C61=\"\",0,COUNTIF(女子名簿!$F$12:$F$520,学校名!$C61))","v":0},0]
[0,null,null,null,null,null,{"$f":"IF(学校名!$C62=\"\",0,COUNTIF(男子名簿!$F$12:$F$520,学校名!$C62))","v":0},{"$f":"IF(学校名!$C62=\"\",0,COUNTIF(女子名簿!$F$12:$F$520,学校名!$C62))","v":0},0]
[0,null,null,null,null,null,{"$f":"IF(学校名!$C63=\"\",0,COUNTIF(男子名簿!$F$12:$F$520,学校名!$C63))","v":0},{"$f":"IF(学校名!$C63=\"\",0,COUNTIF(女子名簿!$F$12:$F$520,学校名!$C63))","v":0},0]
[0,null,null,null,null,null,{"$f":"IF(学校名!$C64=\"\",0,COUNTIF(男子名簿!$F$12:$F$520,学校名!$C64))","v":0},{"$f":"IF(学校名!$C64=\"\",0,COUNTIF(女子名簿!$F$12:$F$520,学校名!$C64))","v":0},0]
[0,null,null,null,null,null,{"$f":"IF(学校名!$C65=\"\",0,COUNTIF(男子名簿!$F$12:$F$520,学校名!$C65))","v":0},{"$f":"IF(学校名!$C65=\"\",0,COUNTIF(女子名簿!$F$12:$F$520,学校名!$C65))","v":0},0]
[0,null,null,null,null,null,{"$f":"IF(学校名!$C66=\"\",0,COUNTIF(男子名簿!$F$12:$F$520,学校名!$C66))","v":0},{"$f":"IF(学校名!$C66=\"\",0,COUNTIF(女子名簿!$F$12:$F$520,学校名!$C66))","v":0},0]
[0,null,null,null,null,null,{"$f":"IF(学校名!$C67=\"\",0,COUNTIF(男子名簿!$F$12:$F$520,学校名!$C67))","v":0},{"$f":"IF(学校名!$C67=\"\",0,COUNTIF(女子名簿!$F$12:$F$520,学校名!$C67))","v":0},0]
[0,null,null,null,null,null,{"$f":"IF(学校名!$C68=\"\",0,COUNTIF(男子名簿!$F$12:$F$520,学校名!$C68))","v":0},{"$f":"IF(学校名!$C68=\"\",0,COUNTIF(女子名簿!$F$12:$F$520,学校名!$C68))","v":0},0]
[0,null,null,null,null,null,{"$f":"IF(学校名!$C69=\"\",0,COUNTIF(男子名簿!$F$12:$F$520,学校名!$C69))","v":0},{"$f":"IF(学校名!$C69=\"\",0,COUNTIF(女子名簿!$F$12:$F$520,学校名!$C69))","v":0},0]
[0,null,null,null,null,null,{"$f":"IF(学校名!$C70=\"\",0,COUNTIF(男子名簿!$F$12:$F$520,学校名!$C70))","v":0},{"$f":"IF(学校名!$C70=\"\",0,COUNTIF(女子名簿!$F$12:$F$520,学校名!$C70))","v":0},0]
[0,null,null,null,null,null,{"$f":"IF(学校名!$C71=\"\",0,COUNTIF(男子名簿!$F$12:$F$520,学校名!$C71))","v":0},{"$f":"IF(学校名!$C71=\"\",0,COUNTIF(女子名簿!$F$12:$F$520,学校名!$C71))","v":0},0]
[0,null,null,null,null,null,{"$f":"IF(学校名!$C72=\"\",0,COUNTIF(男子名簿!$F$12:$F$520,学校名!$C72))","v":0},{"$f":"IF(学校名!$C72=\"\",0,COUNTIF(女子名簿!$F$12:$F$520,学校名!$C72))","v":0},0]
[0,null,null,null,null,null,{"$f":"IF(学校名!$C73=\"\",0,COUNTIF(男子名簿!$F$12:$F$520,学校名!$C73))","v":0},{"$f":"IF(学校名!$C73=\"\",0,COUNTIF(女子名簿!$F$12:$F$520,学校名!$C73))","v":0},{"$f":"G73+H73","v":0}]
[0,null,null,null,null,null,{"$f":"IF(学校名!$C74=\"\",0,COUNTIF(男子名簿!$F$12:$F$520,学校名!$C74))","v":0},{"$f":"IF(学校名!$C74=\"\",0,COUNTIF(女子名簿!$F$12:$F$520,学校名!$C74))","v":0},0]
[0,null,null,null,null,null,{"$f":"IF(学校名!$C75=\"\",0,COUNTIF(男子名簿!$F$12:$F$520,学校名!$C75))","v":0},{"$f":"IF(学校名!$C75=\"\",0,COUNTIF(女子名簿!$F$12:$F$520,学校名!$C75))","v":0},0]
[0,null,null,null,null,null,{"$f":"IF(学校名!$C76=\"\",0,COUNTIF(男子名簿!$F$12:$F$520,学校名!$C76))","v":0},{"$f":"IF(学校名!$C76=\"\",0,COUNTIF(女子名簿!$F$12:$F$520,学校名!$C76))","v":0},0]
[0,null,null,null,null,null,{"$f":"IF(学校名!$C77=\"\",0,COUNTIF(男子名簿!$F$12:$F$520,学校名!$C77))","v":0},{"$f":"IF(学校名!$C77=\"\",0,COUNTIF(女子名簿!$F$12:$F$520,学校名!$C77))","v":0},0]
[0,null,null,null,null,null,{"$f":"IF(学校名!$C78=\"\",0,COUNTIF(男子名簿!$F$12:$F$520,学校名!$C78))","v":0},{"$f":"IF(学校名!$C78=\"\",0,COUNTIF(女子名簿!$F$12:$F$520,学校名!$C78))","v":0},0,null,null,null,null,"長　崎",42]
[0,null,null,null,null,null,{"$f":"IF(学校名!$C79=\"\",0,COUNTIF(男子名簿!$F$12:$F$520,学校名!$C79))","v":0},{"$f":"IF(学校名!$C79=\"\",0,COUNTIF(女子名簿!$F$12:$F$520,学校名!$C79))","v":0},0,null,null,null,null,"大　分",43]
[0,null,null,null,null,null,{"$f":"IF(学校名!$C80=\"\",0,COUNTIF(男子名簿!$F$12:$F$520,学校名!$C80))","v":0},{"$f":"IF(学校名!$C80=\"\",0,COUNTIF(女子名簿!$F$12:$F$520,学校名!$C80))","v":0},0,null,null,null,null,"熊　本",44]
[0,null,null,null,null,null,{"$f":"IF(学校名!$C81=\"\",0,COUNTIF(男子名簿!$F$12:$F$520,学校名!$C81))","v":0},{"$f":"IF(学校名!$C81=\"\",0,COUNTIF(女子名簿!$F$12:$F$520,学校名!$C81))","v":0},0,null,null,null,null,"宮　崎",45]
[0,null,null,null,null,null,{"$f":"IF(学校名!$C82=\"\",0,COUNTIF(男子名簿!$F$12:$F$520,学校名!$C82))","v":0},{"$f":"IF(学校名!$C82=\"\",0,COUNTIF(女子名簿!$F$12:$F$520,学校名!$C82))","v":0},0,null,null,null,null,"鹿児島",46]
[0,null,null,null,null,null,{"$f":"IF(学校名!$C83=\"\",0,COUNTIF(男子名簿!$F$12:$F$520,学校名!$C83))","v":0},{"$f":"IF(学校名!$C83=\"\",0,COUNTIF(女子名簿!$F$12:$F$520,学校名!$C83))","v":0},0,null,null,null,null,"沖　縄",47]
[0,null,null,null,null,null,{"$f":"IF(学校名!$C84=\"\",0,COUNTIF(男子名簿!$F$12:$F$520,学校名!$C84))","v":0},{"$f":"IF(学校名!$C84=\"\",0,COUNTIF(女子名簿!$F$12:$F$520,学校名!$C84))","v":0},0]
[0,null,null,null,null,null,{"$f":"IF(学校名!$C85=\"\",0,COUNTIF(男子名簿!$F$12:$F$520,学校名!$C85))","v":0},{"$f":"IF(学校名!$C85=\"\",0,COUNTIF(女子名簿!$F$12:$F$520,学校名!$C85))","v":0},0]
[0,null,null,null,null,null,{"$f":"IF(学校名!$C86=\"\",0,COUNTIF(男子名簿!$F$12:$F$520,学校名!$C86))","v":0},{"$f":"IF(学校名!$C86=\"\",0,COUNTIF(女子名簿!$F$12:$F$520,学校名!$C86))","v":0},0]
[0,null,null,null,null,null,{"$f":"IF(学校名!$C87=\"\",0,COUNTIF(男子名簿!$F$12:$F$520,学校名!$C87))","v":0},{"$f":"IF(学校名!$C87=\"\",0,COUNTIF(女子名簿!$F$12:$F$520,学校名!$C87))","v":0},0]
[0,null,null,null,null,null,{"$f":"IF(学校名!$C88=\"\",0,COUNTIF(男子名簿!$F$12:$F$520,学校名!$C88))","v":0},{"$f":"IF(学校名!$C88=\"\",0,COUNTIF(女子名簿!$F$12:$F$520,学校名!$C88))","v":0},0]
[0,null,null,null,null,null,{"$f":"IF(学校名!$C89=\"\",0,COUNTIF(男子名簿!$F$12:$F$520,学校名!$C89))","v":0},{"$f":"IF(学校名!$C89=\"\",0,COUNTIF(女子名簿!$F$12:$F$520,学校名!$C89))","v":0},0]
[0,null,null,null,null,null,{"$f":"IF(学校名!$C90=\"\",0,COUNTIF(男子名簿!$F$12:$F$520,学校名!$C90))","v":0},{"$f":"IF(学校名!$C90=\"\",0,COUNTIF(女子名簿!$F$12:$F$520,学校名!$C90))","v":0},0]
[0,null,null,null,null,null,{"$f":"IF(学校名!$C91=\"\",0,COUNTIF(男子名簿!$F$12:$F$520,学校名!$C91))","v":0},{"$f":"IF(学校名!$C91=\"\",0,COUNTIF(女子名簿!$F$12:$F$520,学校名!$C91))","v":0},0]
[0,null,null,null,null,null,{"$f":"IF(学校名!$C92=\"\",0,COUNTIF(男子名簿!$F$12:$F$520,学校名!$C92))","v":0},{"$f":"IF(学校名!$C92=\"\",0,COUNTIF(女子名簿!$F$12:$F$520,学校名!$C92))","v":0},0]
[0,null,null,null,null,null,{"$f":"IF(学校名!$C93=\"\",0,COUNTIF(男子名簿!$F$12:$F$520,学校名!$C93))","v":0},{"$f":"IF(学校名!$C93=\"\",0,COUNTIF(女子名簿!$F$12:$F$520,学校名!$C93))","v":0},0]
[0,null,null,null,null,null,{"$f":"IF(学校名!$C94=\"\",0,COUNTIF(男子名簿!$F$12:$F$520,学校名!$C94))","v":0},{"$f":"IF(学校名!$C94=\"\",0,COUNTIF(女子名簿!$F$12:$F$520,学校名!$C94))","v":0},0]
[0,null,null,null,null,null,{"$f":"IF(学校名!$C95=\"\",0,COUNTIF(男子名簿!$F$12:$F$520,学校名!$C95))","v":0},{"$f":"IF(学校名!$C95=\"\",0,COUNTIF(女子名簿!$F$12:$F$520,学校名!$C95))","v":0},0]
[0,null,null,null,null,null,{"$f":"IF(学校名!$C96=\"\",0,COUNTIF(男子名簿!$F$12:$F$520,学校名!$C96))","v":0},{"$f":"IF(学校名!$C96=\"\",0,COUNTIF(女子名簿!$F$12:$F$520,学校名!$C96))","v":0},0]
[0,null,null,null,null,null,{"$f":"IF(学校名!$C97=\"\",0,COUNTIF(男子名簿!$F$12:$F$520,学校名!$C97))","v":0},{"$f":"IF(学校名!$C97=\"\",0,COUNTIF(女子名簿!$F$12:$F$520,学校名!$C97))","v":0},0]
[0,null,null,null,null,null,{"$f":"IF(学校名!$C98=\"\",0,COUNTIF(男子名簿!$F$12:$F$520,学校名!$C98))","v":0},{"$f":"IF(学校名!$C98=\"\",0,COUNTIF(女子名簿!$F$12:$F$520,学校名!$C98))","v":0},0]
[0,null,null,null,null,null,{"$f":"IF(学校名!$C99=\"\",0,COUNTIF(男子名簿!$F$12:$F$520,学校名!$C99))","v":0},{"$f":"IF(学校名!$C99=\"\",0,COUNTIF(女子名簿!$F$12:$F$520,学校名!$C99))","v":0},0]
[0,null,null,null,null,null,{"$f":"IF(学校名!$C100=\"\",0,COUNTIF(男子名簿!$F$12:$F$520,学校名!$C100))","v":0},{"$f":"IF(学校名!$C100=\"\",0,COUNTIF(女子名簿!$F$12:$F$520,学校名!$C100))","v":0},0]
[0,null,null,null,null,null,{"$f":"IF(学校名!$C101=\"\",0,COUNTIF(男子名簿!$F$12:$F$520,学校名!$C101))","v":0},{"$f":"IF(学校名!$C101=\"\",0,COUNTIF(女子名簿!$F$12:$F$520,学校名!$C101))","v":0},0]
[0,null,null,null,null,null,{"$f":"IF(学校名!$C102=\"\",0,COUNTIF(男子名簿!$F$12:$F$520,学校名!$C102))","v":0},{"$f":"IF(学校名!$C102=\"\",0,COUNTIF(女子名簿!$F$12:$F$520,学校名!$C102))","v":0},0]
[0,null,null,null,null,null,{"$f":"IF(学校名!$C103=\"\",0,COUNTIF(男子名簿!$F$12:$F$520,学校名!$C103))","v":0},{"$f":"IF(学校名!$C103=\"\",0,COUNTIF(女子名簿!$F$12:$F$520,学校名!$C103))","v":0},{"$f":"G103+H103","v":0}]
[0,null,null,null,null,null,{"$f":"IF(学校名!$C104=\"\",0,COUNTIF(男子名簿!$F$12:$F$520,学校名!$C104))","v":0},{"$f":"IF(学校名!$C104=\"\",0,COUNTIF(女子名簿!$F$12:$F$520,学校名!$C104))","v":0},0]
[0,null,null,null,null,null,{"$f":"IF(学校名!$C105=\"\",0,COUNTIF(男子名簿!$F$12:$F$520,学校名!$C105))","v":0},{"$f":"IF(学校名!$C105=\"\",0,COUNTIF(女子名簿!$F$12:$F$520,学校名!$C105))","v":0},0]
[0,null,null,null,null,null,{"$f":"IF(学校名!$C106=\"\",0,COUNTIF(男子名簿!$F$12:$F$520,学校名!$C106))","v":0},{"$f":"IF(学校名!$C106=\"\",0,COUNTIF(女子名簿!$F$12:$F$520,学校名!$C106))","v":0},0]
[0,null,null,null,null,null,{"$f":"IF(学校名!$C107=\"\",0,COUNTIF(男子名簿!$F$12:$F$520,学校名!$C107))","v":0},{"$f":"IF(学校名!$C107=\"\",0,COUNTIF(女子名簿!$F$12:$F$520,学校名!$C107))","v":0},0]
[0,null,null,null,null,null,{"$f":"IF(学校名!$C108=\"\",0,COUNTIF(男子名簿!$F$12:$F$520,学校名!$C108))","v":0},{"$f":"IF(学校名!$C108=\"\",0,COUNTIF(女子名簿!$F$12:$F$520,学校名!$C108))","v":0},0]
[0,null,null,null,null,null,{"$f":"IF(学校名!$C109=\"\",0,COUNTIF(男子名簿!$F$12:$F$520,学校名!$C109))","v":0},{"$f":"IF(学校名!$C109=\"\",0,COUNTIF(女子名簿!$F$12:$F$520,学校名!$C109))","v":0},0]
[0,null,null,null,null,null,{"$f":"IF(学校名!$C110=\"\",0,COUNTIF(男子名簿!$F$12:$F$520,学校名!$C110))","v":0},{"$f":"IF(学校名!$C110=\"\",0,COUNTIF(女子名簿!$F$12:$F$520,学校名!$C110))","v":0},0]
[0,null,null,null,null,null,{"$f":"IF(学校名!$C111=\"\",0,COUNTIF(男子名簿!$F$12:$F$520,学校名!$C111))","v":0},{"$f":"IF(学校名!$C111=\"\",0,COUNTIF(女子名簿!$F$12:$F$520,学校名!$C111))","v":0},0]
[0,null,null,null,null,null,{"$f":"IF(学校名!$C112=\"\",0,COUNTIF(男子名簿!$F$12:$F$520,学校名!$C112))","v":0},{"$f":"IF(学校名!$C112=\"\",0,COUNTIF(女子名簿!$F$12:$F$520,学校名!$C112))","v":0},0]
[0,null,null,null,null,null,{"$f":"IF(学校名!$C113=\"\",0,COUNTIF(男子名簿!$F$12:$F$520,学校名!$C113))","v":0},{"$f":"IF(学校名!$C113=\"\",0,COUNTIF(女子名簿!$F$12:$F$520,学校名!$C113))","v":0},0]
[0,null,null,null,null,null,{"$f":"IF(学校名!$C114=\"\",0,COUNTIF(男子名簿!$F$12:$F$520,学校名!$C114))","v":0},{"$f":"IF(学校名!$C114=\"\",0,COUNTIF(女子名簿!$F$12:$F$520,学校名!$C114))","v":0},0]
[0,null,null,null,null,null,{"$f":"IF(学校名!$C115=\"\",0,COUNTIF(男子名簿!$F$12:$F$520,学校名!$C115))","v":0},{"$f":"IF(学校名!$C115=\"\",0,COUNTIF(女子名簿!$F$12:$F$520,学校名!$C115))","v":0},0]
[0,null,null,null,null,null,{"$f":"IF(学校名!$C116=\"\",0,COUNTIF(男子名簿!$F$12:$F$520,学校名!$C116))","v":0},{"$f":"IF(学校名!$C116=\"\",0,COUNTIF(女子名簿!$F$12:$F$520,学校名!$C116))","v":0},0]
[0,null,null,null,null,null,{"$f":"IF(学校名!$C117=\"\",0,COUNTIF(男子名簿!$F$12:$F$520,学校名!$C117))","v":0},{"$f":"IF(学校名!$C117=\"\",0,COUNTIF(女子名簿!$F$12:$F$520,学校名!$C117))","v":0},0]
[0,null,null,null,null,null,{"$f":"IF(学校名!$C118=\"\",0,COUNTIF(男子名簿!$F$12:$F$520,学校名!$C118))","v":0},{"$f":"IF(学校名!$C118=\"\",0,COUNTIF(女子名簿!$F$12:$F$520,学校名!$C118))","v":0},0]
[0,null,null,null,null,null,{"$f":"IF(学校名!$C119=\"\",0,COUNTIF(男子名簿!$F$12:$F$520,学校名!$C119))","v":0},{"$f":"IF(学校名!$C119=\"\",0,COUNTIF(女子名簿!$F$12:$F$520,学校名!$C119))","v":0},0]
[0,null,null,null,null,null,{"$f":"IF(学校名!$C120=\"\",0,COUNTIF(男子名簿!$F$12:$F$520,学校名!$C120))","v":0},{"$f":"IF(学校名!$C120=\"\",0,COUNTIF(女子名簿!$F$12:$F$520,学校名!$C120))","v":0},0]
[0,null,null,null,null,null,{"$f":"IF(学校名!$C121=\"\",0,COUNTIF(男子名簿!$F$12:$F$520,学校名!$C121))","v":0},{"$f":"IF(学校名!$C121=\"\",0,COUNTIF(女子名簿!$F$12:$F$520,学校名!$C121))","v":0},0]
[0,null,null,null,null,null,{"$f":"IF(学校名!$C122=\"\",0,COUNTIF(男子名簿!$F$12:$F$520,学校名!$C122))","v":0},{"$f":"IF(学校名!$C122=\"\",0,COUNTIF(女子名簿!$F$12:$F$520,学校名!$C122))","v":0},0]
[0,null,null,null,null,null,{"$f":"IF(学校名!$C123=\"\",0,COUNTIF(男子名簿!$F$12:$F$520,学校名!$C123))","v":0},{"$f":"IF(学校名!$C123=\"\",0,COUNTIF(女子名簿!$F$12:$F$520,学校名!$C123))","v":0},0]
[0,null,null,null,null,null,{"$f":"IF(学校名!$C124=\"\",0,COUNTIF(男子名簿!$F$12:$F$520,学校名!$C124))","v":0},{"$f":"IF(学校名!$C124=\"\",0,COUNTIF(女子名簿!$F$12:$F$520,学校名!$C124))","v":0},0]
[0,null,null,null,null,null,{"$f":"IF(学校名!$C125=\"\",0,COUNTIF(男子名簿!$F$12:$F$520,学校名!$C125))","v":0},{"$f":"IF(学校名!$C125=\"\",0,COUNTIF(女子名簿!$F$12:$F$520,学校名!$C125))","v":0},0]
[0,null,null,null,null,null,{"$f":"IF(学校名!$C126=\"\",0,COUNTIF(男子名簿!$F$12:$F$520,学校名!$C126))","v":0},{"$f":"IF(学校名!$C126=\"\",0,COUNTIF(女子名簿!$F$12:$F$520,学校名!$C126))","v":0},0]
[0,null,null,null,null,null,{"$f":"IF(学校名!$C127=\"\",0,COUNTIF(男子名簿!$F$12:$F$520,学校名!$C127))","v":0},{"$f":"IF(学校名!$C127=\"\",0,COUNTIF(女子名簿!$F$12:$F$520,学校名!$C127))","v":0},0]
[0,null,null,null,null,null,{"$f":"IF(学校名!$C128=\"\",0,COUNTIF(男子名簿!$F$12:$F$520,学校名!$C128))","v":0},{"$f":"IF(学校名!$C128=\"\",0,COUNTIF(女子名簿!$F$12:$F$520,学校名!$C128))","v":0},0]
[0,null,null,null,null,null,{"$f":"IF(学校名!$C129=\"\",0,COUNTIF(男子名簿!$F$12:$F$520,学校名!$C129))","v":0},{"$f":"IF(学校名!$C129=\"\",0,COUNTIF(女子名簿!$F$12:$F$520,学校名!$C129))","v":0},0]
[0,null,null,null,null,null,{"$f":"IF(学校名!$C130=\"\",0,COUNTIF(男子名簿!$F$12:$F$520,学校名!$C130))","v":0},{"$f":"IF(学校名!$C130=\"\",0,COUNTIF(女子名簿!$F$12:$F$520,学校名!$C130))","v":0},0]
[0,null,null,null,null,null,{"$f":"IF(学校名!$C131=\"\",0,COUNTIF(男子名簿!$F$12:$F$520,学校名!$C131))","v":0},{"$f":"IF(学校名!$C131=\"\",0,COUNTIF(女子名簿!$F$12:$F$520,学校名!$C131))","v":0},0]
[0,null,null,null,null,null,{"$f":"IF(学校名!$C132=\"\",0,COUNTIF(男子名簿!$F$12:$F$520,学校名!$C132))","v":0},{"$f":"IF(学校名!$C132=\"\",0,COUNTIF(女子名簿!$F$12:$F$520,学校名!$C132))","v":0},0]
[0,null,null,null,null,null,{"$f":"IF(学校名!$C133=\"\",0,COUNTIF(男子名簿!$F$12:$F$520,学校名!$C133))","v":0},{"$f":"IF(学校名!$C133=\"\",0,COUNTIF(女子名簿!$F$12:$F$520,学校名!$C133))","v":0},0]
[0,null,null,null,null,null,{"$f":"IF(学校名!$C134=\"\",0,COUNTIF(男子名簿!$F$12:$F$520,学校名!$C134))","v":0},{"$f":"IF(学校名!$C134=\"\",0,COUNTIF(女子名簿!$F$12:$F$520,学校名!$C134))","v":0},0]
[0,null,null,null,null,null,{"$f":"IF(学校名!$C135=\"\",0,COUNTIF(男子名簿!$F$12:$F$520,学校名!$C135))","v":0},{"$f":"IF(学校名!$C135=\"\",0,COUNTIF(女子名簿!$F$12:$F$520,学校名!$C135))","v":0},{"$f":"G135+H135","v":0}]
[0,null,null,null,null,null,{"$f":"IF(学校名!$C136=\"\",0,COUNTIF(男子名簿!$F$12:$F$520,学校名!$C136))","v":0},{"$f":"IF(学校名!$C136=\"\",0,COUNTIF(女子名簿!$F$12:$F$520,学校名!$C136))","v":0},0]
[0,null,null,null,null,null,{"$f":"IF(学校名!$C137=\"\",0,COUNTIF(男子名簿!$F$12:$F$520,学校名!$C137))","v":0},{"$f":"IF(学校名!$C137=\"\",0,COUNTIF(女子名簿!$F$12:$F$520,学校名!$C137))","v":0},0]
[0,null,null,null,null,null,null,{"$f":"IF(学校名!$C138=\"\",0,COUNTIF(女子名簿!$F$12:$F$520,学校名!$C138))","v":0},0]
[0,null,null,null,null,null,null,{"$f":"IF(学校名!$C139=\"\",0,COUNTIF(女子名簿!$F$12:$F$520,学校名!$C139))","v":0},0]
[0,null,null,null,null,null,null,{"$f":"IF(学校名!$C140=\"\",0,COUNTIF(女子名簿!$F$12:$F$520,学校名!$C140))","v":0},0]
[0,null,null,null,null,null,null,{"$f":"IF(学校名!$C141=\"\",0,COUNTIF(女子名簿!$F$12:$F$520,学校名!$C141))","v":0},0]
[0,null,null,null,null,null,null,{"$f":"IF(学校名!$C142=\"\",0,COUNTIF(女子名簿!$F$12:$F$520,学校名!$C142))","v":0},0]
[0,null,null,null,null,null,null,{"$f":"IF(学校名!$C143=\"\",0,COUNTIF(女子名簿!$F$12:$F$520,学校名!$C143))","v":0},0]
[0,null,null,null,null,null,null,{"$f":"IF(学校名!$C144=\"\",0,COUNTIF(女子名簿!$F$12:$F$520,学校名!$C144))","v":0},0]
[0,null,null,null,null,null,null,{"$f":"IF(学校名!$C145=\"\",0,COUNTIF(女子名簿!$F$12:$F$520,学校名!$C145))","v":0},0]
[0,null,null,null,null,null,null,{"$f":"IF(学校名!$C146=\"\",0,COUNTIF(女子名簿!$F$12:$F$520,学校名!$C146))","v":0},0]
[0,null,null,null,null,null,null,{"$f":"IF(学校名!$C147=\"\",0,COUNTIF(女子名簿!$F$12:$F$520,学校名!$C147))","v":0},0]
[0,null,null,null,null,null,null,{"$f":"IF(学校名!$C148=\"\",0,COUNTIF(女子名簿!$F$12:$F$520,学校名!$C148))","v":0},0]
[0,null,null,null,null,null,null,{"$f":"IF(学校名!$C149=\"\",0,COUNTIF(女子名簿!$F$12:$F$520,学校名!$C149))","v":0},0]
[0,null,null,null,null,null,null,{"$f":"IF(学校名!$C150=\"\",0,COUNTIF(女子名簿!$F$12:$F$520,学校名!$C150))","v":0},0]
[0,null,null,null,null,null,null,{"$f":"IF(学校名!$C151=\"\",0,COUNTIF(女子名簿!$F$12:$F$520,学校名!$C151))","v":0},0]
[0,null,null,null,null,null,null,{"$f":"IF(学校名!$C152=\"\",0,COUNTIF(女子名簿!$F$12:$F$520,学校名!$C152))","v":0},0]
[0,null,null,null,null,null,null,{"$f":"IF(学校名!$C153=\"\",0,COUNTIF(女子名簿!$F$12:$F$520,学校名!$C153))","v":0},0]
[0,null,null,null,null,null,null,{"$f":"IF(学校名!$C154=\"\",0,COUNTIF(女子名簿!$F$12:$F$520,学校名!$C154))","v":0},0]
[0,null,null,null,null,null,null,{"$f":"IF(学校名!$C155=\"\",0,COUNTIF(女子名簿!$F$12:$F$520,学校名!$C155))","v":0},0]
[0,null,null,null,null,null,null,{"$f":"IF(学校名!$C156=\"\",0,COUNTIF(女子名簿!$F$12:$F$520,学校名!$C156))","v":0},0]
[0,null,null,null,null,null,null,{"$f":"IF(学校名!$C157=\"\",0,COUNTIF(女子名簿!$F$12:$F$520,学校名!$C157))","v":0},0]
[0,null,null,null,null,null,null,{"$f":"IF(学校名!$C158=\"\",0,COUNTIF(女子名簿!$F$12:$F$520,学校名!$C158))","v":0},0]
[0,null,null,null,null,null,null,{"$f":"IF(学校名!$C159=\"\",0,COUNTIF(女子名簿!$F$12:$F$520,学校名!$C159))","v":0},0]
[0,null,null,null,null,null,null,{"$f":"IF(学校名!$C160=\"\",0,COUNTIF(女子名簿!$F$12:$F$520,学校名!$C160))","v":0},0]
[0,null,null,null,null,null,null,{"$f":"IF(学校名!$C161=\"\",0,COUNTIF(女子名簿!$F$12:$F$520,学校名!$C161))","v":0},0]
[0,null,null,null,null,null,null,{"$f":"IF(学校名!$C162=\"\",0,COUNTIF(女子名簿!$F$12:$F$520,学校名!$C162))","v":0},0]
[0,null,null,null,null,null,null,{"$f":"IF(学校名!$C163=\"\",0,COUNTIF(女子名簿!$F$12:$F$520,学校名!$C163))","v":0},0]
[0,null,null,null,null,null,null,{"$f":"IF(学校名!$C164=\"\",0,COUNTIF(女子名簿!$F$12:$F$520,学校名!$C164))","v":0},0]
[0,null,null,null,null,null,null,{"$f":"IF(学校名!$C165=\"\",0,COUNTIF(女子名簿!$F$12:$F$520,学校名!$C165))","v":0},0]
[0,null,null,null,null,null,null,{"$f":"IF(学校名!$C166=\"\",0,COUNTIF(女子名簿!$F$12:$F$520,学校名!$C166))","v":0},0]
[0,null,null,null,null,null,null,{"$f":"IF(学校名!$C167=\"\",0,COUNTIF(女子名簿!$F$12:$F$520,学校名!$C167))","v":0},{"$f":"G167+H167","v":0}]
[0,null,null,null,null,null,null,{"$f":"IF(学校名!$C168=\"\",0,COUNTIF(女子名簿!$F$12:$F$520,学校名!$C168))","v":0},0]
[0,null,null,null,null,null,null,{"$f":"IF(学校名!$C169=\"\",0,COUNTIF(女子名簿!$F$12:$F$520,学校名!$C169))","v":0},0]
[0,null,null,null,null,null,null,{"$f":"IF(学校名!$C170=\"\",0,COUNTIF(女子名簿!$F$12:$F$520,学校名!$C170))","v":0},0]
[0,null,null,null,null,null,null,{"$f":"IF(学校名!$C171=\"\",0,COUNTIF(女子名簿!$F$12:$F$520,学校名!$C171))","v":0},0]
[0,null,null,null,null,null,null,{"$f":"IF(学校名!$C172=\"\",0,COUNTIF(女子名簿!$F$12:$F$520,学校名!$C172))","v":0},0]
[0,null,null,null,null,null,null,{"$f":"IF(学校名!$C173=\"\",0,COUNTIF(女子名簿!$F$12:$F$520,学校名!$C173))","v":0},0]
[0,null,null,null,null,null,null,{"$f":"IF(学校名!$C174=\"\",0,COUNTIF(女子名簿!$F$12:$F$520,学校名!$C174))","v":0},0]
[0,null,null,null,null,null,null,{"$f":"IF(学校名!$C175=\"\",0,COUNTIF(女子名簿!$F$12:$F$520,学校名!$C175))","v":0},0]
[0,null,null,null,null,null,null,{"$f":"IF(学校名!$C176=\"\",0,COUNTIF(女子名簿!$F$12:$F$520,学校名!$C176))","v":0},0]
[0,null,null,null,null,null,null,{"$f":"IF(学校名!$C177=\"\",0,COUNTIF(女子名簿!$F$12:$F$520,学校名!$C177))","v":0},0]
[0,null,null,null,null,null,null,{"$f":"IF(学校名!$C178=\"\",0,COUNTIF(女子名簿!$F$12:$F$520,学校名!$C178))","v":0},0]
[0,null,null,null,null,null,null,{"$f":"IF(学校名!$C179=\"\",0,COUNTIF(女子名簿!$F$12:$F$520,学校名!$C179))","v":0},0]
[0,null,null,null,null,null,null,{"$f":"IF(学校名!$C180=\"\",0,COUNTIF(女子名簿!$F$12:$F$520,学校名!$C180))","v":0},0]
[0,null,null,null,null,null,null,{"$f":"IF(学校名!$C181=\"\",0,COUNTIF(女子名簿!$F$12:$F$520,学校名!$C181))","v":0},0]
[0,null,null,null,null,null,null,{"$f":"IF(学校名!$C182=\"\",0,COUNTIF(女子名簿!$F$12:$F$520,学校名!$C182))","v":0},0]
[0,null,null,null,null,null,null,{"$f":"IF(学校名!$C183=\"\",0,COUNTIF(女子名簿!$F$12:$F$520,学校名!$C183))","v":0},0]
[0,null,null,null,null,null,null,{"$f":"IF(学校名!$C184=\"\",0,COUNTIF(女子名簿!$F$12:$F$520,学校名!$C184))","v":0},0]
[0,null,null,null,null,null,null,{"$f":"IF(学校名!$C185=\"\",0,COUNTIF(女子名簿!$F$12:$F$520,学校名!$C185))","v":0},0]
[0,null,null,null,null,null,null,{"$f":"IF(学校名!$C186=\"\",0,COUNTIF(女子名簿!$F$12:$F$520,学校名!$C186))","v":0},0]
[0,null,null,null,null,null,null,{"$f":"IF(学校名!$C187=\"\",0,COUNTIF(女子名簿!$F$12:$F$520,学校名!$C187))","v":0},0]
[0,null,null,null,null,null,null,{"$f":"IF(学校名!$C188=\"\",0,COUNTIF(女子名簿!$F$12:$F$520,学校名!$C188))","v":0},0]
[0,null,null,null,null,null,null,{"$f":"IF(学校名!$C189=\"\",0,COUNTIF(女子名簿!$F$12:$F$520,学校名!$C189))","v":0},0]
[0,null,null,null,null,null,null,{"$f":"IF(学校名!$C190=\"\",0,COUNTIF(女子名簿!$F$12:$F$520,学校名!$C190))","v":0},0]
[0,null,null,null,null,null,null,{"$f":"IF(学校名!$C191=\"\",0,COUNTIF(女子名簿!$F$12:$F$520,学校名!$C191))","v":0},0]
[0,null,null,null,null,null,null,{"$f":"IF(学校名!$C192=\"\",0,COUNTIF(女子名簿!$F$12:$F$520,学校名!$C192))","v":0},0]
[0,null,null,null,null,null,null,{"$f":"IF(学校名!$C193=\"\",0,COUNTIF(女子名簿!$F$12:$F$520,学校名!$C193))","v":0},0]
[0,null,null,null,null,null,null,{"$f":"IF(学校名!$C194=\"\",0,COUNTIF(女子名簿!$F$12:$F$520,学校名!$C194))","v":0},0]
[0,null,null,null,null,null,null,{"$f":"IF(学校名!$C195=\"\",0,COUNTIF(女子名簿!$F$12:$F$520,学校名!$C195))","v":0},0]
[0,null,null,null,null,null,null,{"$f":"IF(学校名!$C196=\"\",0,COUNTIF(女子名簿!$F$12:$F$520,学校名!$C196))","v":0},0]
[0,null,null,null,null,null,null,{"$f":"IF(学校名!$C197=\"\",0,COUNTIF(女子名簿!$F$12:$F$520,学校名!$C197))","v":0},0]
[0,null,null,null,null,null,null,{"$f":"IF(学校名!$C198=\"\",0,COUNTIF(女子名簿!$F$12:$F$520,学校名!$C198))","v":0},0]
[0,null,null,null,null,null,null,{"$f":"IF(学校名!$C199=\"\",0,COUNTIF(女子名簿!$F$12:$F$520,学校名!$C199))","v":0},{"$f":"G199+H199","v":0}]
[0,null,null,null,null,null,null,{"$f":"IF(学校名!$C200=\"\",0,COUNTIF(女子名簿!$F$12:$F$520,学校名!$C200))","v":0},0]
[0,null,null,null,null,null,null,{"$f":"IF(学校名!$C201=\"\",0,COUNTIF(女子名簿!$F$12:$F$520,学校名!$C201))","v":0},0]
[0,null,null,null,null,null,null,{"$f":"IF(学校名!$C202=\"\",0,COUNTIF(女子名簿!$F$12:$F$520,学校名!$C202))","v":0},0]
[0,null,null,null,null,null,null,{"$f":"IF(学校名!$C203=\"\",0,COUNTIF(女子名簿!$F$12:$F$520,学校名!$C203))","v":0},0]
[0,null,null,null,null,null,null,{"$f":"IF(学校名!$C204=\"\",0,COUNTIF(女子名簿!$F$12:$F$520,学校名!$C204))","v":0},0]
[0,null,null,null,null,null,null,{"$f":"IF(学校名!$C205=\"\",0,COUNTIF(女子名簿!$F$12:$F$520,学校名!$C205))","v":0},0]
[0,null,null,null,null,null,null,{"$f":"IF(学校名!$C206=\"\",0,COUNTIF(女子名簿!$F$12:$F$520,学校名!$C206))","v":0},0]
[0,null,null,null,null,null,null,{"$f":"IF(学校名!$C207=\"\",0,COUNTIF(女子名簿!$F$12:$F$520,学校名!$C207))","v":0},0]
[0,null,null,null,null,null,null,{"$f":"IF(学校名!$C208=\"\",0,COUNTIF(女子名簿!$F$12:$F$520,学校名!$C208))","v":0},0]
[0,null,null,null,null,null,null,{"$f":"IF(学校名!$C209=\"\",0,COUNTIF(女子名簿!$F$12:$F$520,学校名!$C209))","v":0},0]
[0,null,null,null,null,null,null,{"$f":"IF(学校名!$C210=\"\",0,COUNTIF(女子名簿!$F$12:$F$520,学校名!$C210))","v":0},0]
[0,null,null,null,null,null,null,{"$f":"IF(学校名!$C211=\"\",0,COUNTIF(女子名簿!$F$12:$F$520,学校名!$C211))","v":0},0]
[0,null,null,null,null,null,null,{"$f":"IF(学校名!$C212=\"\",0,COUNTIF(女子名簿!$F$12:$F$520,学校名!$C212))","v":0},0]
[0,null,null,null,null,null,null,{"$f":"IF(学校名!$C213=\"\",0,COUNTIF(女子名簿!$F$12:$F$520,学校名!$C213))","v":0},0]
[0,null,null,null,null,null,null,{"$f":"IF(学校名!$C214=\"\",0,COUNTIF(女子名簿!$F$12:$F$520,学校名!$C214))","v":0},0]
[0,null,null,null,null,null,null,{"$f":"IF(学校名!$C215=\"\",0,COUNTIF(女子名簿!$F$12:$F$520,学校名!$C215))","v":0},0]
[0,null,null,null,null,null,null,{"$f":"IF(学校名!$C216=\"\",0,COUNTIF(女子名簿!$F$12:$F$520,学校名!$C216))","v":0},0]
[0,null,null,null,null,null,null,{"$f":"IF(学校名!$C217=\"\",0,COUNTIF(女子名簿!$F$12:$F$520,学校名!$C217))","v":0},0]
[0,null,null,null,null,null,null,{"$f":"IF(学校名!$C218=\"\",0,COUNTIF(女子名簿!$F$12:$F$520,学校名!$C218))","v":0},0]
[0,null,null,null,null,null,null,{"$f":"IF(学校名!$C219=\"\",0,COUNTIF(女子名簿!$F$12:$F$520,学校名!$C219))","v":0},0]
[0,null,null,null,null,null,null,{"$f":"IF(学校名!$C220=\"\",0,COUNTIF(女子名簿!$F$12:$F$520,学校名!$C220))","v":0},0]
[0,null,null,null,null,null,null,{"$f":"IF(学校名!$C221=\"\",0,COUNTIF(女子名簿!$F$12:$F$520,学校名!$C221))","v":0},0]
[0,null,null,null,null,null,null,{"$f":"IF(学校名!$C222=\"\",0,COUNTIF(女子名簿!$F$12:$F$520,学校名!$C222))","v":0},0]
[0,null,null,null,null,null,null,{"$f":"IF(学校名!$C223=\"\",0,COUNTIF(女子名簿!$F$12:$F$520,学校名!$C223))","v":0},0]
[0,null,null,null,null,null,null,{"$f":"IF(学校名!$C224=\"\",0,COUNTIF(女子名簿!$F$12:$F$520,学校名!$C224))","v":0},0]
[0,null,null,null,null,null,null,{"$f":"IF(学校名!$C225=\"\",0,COUNTIF(女子名簿!$F$12:$F$520,学校名!$C225))","v":0},0]
[0,null,null,null,null,null,null,{"$f":"IF(学校名!$C226=\"\",0,COUNTIF(女子名簿!$F$12:$F$520,学校名!$C226))","v":0},0]
[0,null,null,null,null,null,null,{"$f":"IF(学校名!$C227=\"\",0,COUNTIF(女子名簿!$F$12:$F$520,学校名!$C227))","v":0},0]
[0,null,null,null,null,null,null,{"$f":"IF(学校名!$C228=\"\",0,COUNTIF(女子名簿!$F$12:$F$520,学校名!$C228))","v":0},0]
[0,null,null,null,null,null,null,{"$f":"IF(学校名!$C229=\"\",0,COUNTIF(女子名簿!$F$12:$F$520,学校名!$C229))","v":0},0]
[0,null,null,null,null,null,null,{"$f":"IF(学校名!$C230=\"\",0,COUNTIF(女子名簿!$F$12:$F$520,学校名!$C230))","v":0},0]
[0,null,null,null,null,null,null,{"$f":"IF(学校名!$C231=\"\",0,COUNTIF(女子名簿!$F$12:$F$520,学校名!$C231))","v":0},{"$f":"G231+H231","v":0}]
[0,null,null,null,null,null,null,{"$f":"IF(学校名!$C232=\"\",0,COUNTIF(女子名簿!$F$12:$F$520,学校名!$C232))","v":0},0]
[0,null,null,null,null,null,null,{"$f":"IF(学校名!$C233=\"\",0,COUNTIF(女子名簿!$F$12:$F$520,学校名!$C233))","v":0},0]
[0,null,null,null,null,null,null,{"$f":"IF(学校名!$C234=\"\",0,COUNTIF(女子名簿!$F$12:$F$520,学校名!$C234))","v":0},0]
[0,null,null,null,null,null,null,{"$f":"IF(学校名!$C235=\"\",0,COUNTIF(女子名簿!$F$12:$F$520,学校名!$C235))","v":0},0]
[0,null,null,null,null,null,null,{"$f":"IF(学校名!$C236=\"\",0,COUNTIF(女子名簿!$F$12:$F$520,学校名!$C236))","v":0},0]
[0,null,null,null,null,null,null,{"$f":"IF(学校名!$C237=\"\",0,COUNTIF(女子名簿!$F$12:$F$520,学校名!$C237))","v":0},0]
[0,null,null,null,null,null,null,{"$f":"IF(学校名!$C238=\"\",0,COUNTIF(女子名簿!$F$12:$F$520,学校名!$C238))","v":0},0]
[0,null,null,null,null,null,null,{"$f":"IF(学校名!$C239=\"\",0,COUNTIF(女子名簿!$F$12:$F$520,学校名!$C239))","v":0},0]
[0,null,null,null,null,null,null,{"$f":"IF(学校名!$C240=\"\",0,COUNTIF(女子名簿!$F$12:$F$520,学校名!$C240))","v":0},0]
[0,null,null,null,null,null,null,{"$f":"IF(学校名!$C241=\"\",0,COUNTIF(女子名簿!$F$12:$F$520,学校名!$C241))","v":0},0]
[0,null,null,null,null,null,null,{"$f":"IF(学校名!$C242=\"\",0,COUNTIF(女子名簿!$F$12:$F$520,学校名!$C242))","v":0},0]
[0,null,null,null,null,null,null,{"$f":"IF(学校名!$C243=\"\",0,COUNTIF(女子名簿!$F$12:$F$520,学校名!$C243))","v":0},0]
[0,null,null,null,null,null,null,{"$f":"IF(学校名!$C244=\"\",0,COUNTIF(女子名簿!$F$12:$F$520,学校名!$C244))","v":0},0]
[0,null,null,null,null,null,null,{"$f":"IF(学校名!$C245=\"\",0,COUNTIF(女子名簿!$F$12:$F$520,学校名!$C245))","v":0},0]
[0,null,null,null,null,null,null,{"$f":"IF(学校名!$C246=\"\",0,COUNTIF(女子名簿!$F$12:$F$520,学校名!$C246))","v":0},0]
[0,null,null,null,null,null,null,{"$f":"IF(学校名!$C247=\"\",0,COUNTIF(女子名簿!$F$12:$F$520,学校名!$C247))","v":0},0]
[0,null,null,null,null,null,null,{"$f":"IF(学校名!$C248=\"\",0,COUNTIF(女子名簿!$F$12:$F$520,学校名!$C248))","v":0},0]
[0,null,null,null,null,null,null,{"$f":"IF(学校名!$C249=\"\",0,COUNTIF(女子名簿!$F$12:$F$520,学校名!$C249))","v":0},0]
[0,null,null,null,null,null,null,{"$f":"IF(学校名!$C250=\"\",0,COUNTIF(女子名簿!$F$12:$F$520,学校名!$C250))","v":0},0]
[0,null,null,null,null,null,null,{"$f":"IF(学校名!$C251=\"\",0,COUNTIF(女子名簿!$F$12:$F$520,学校名!$C251))","v":0},0]
[0,null,null,null,null,null,null,{"$f":"IF(学校名!$C252=\"\",0,COUNTIF(女子名簿!$F$12:$F$520,学校名!$C252))","v":0},{"$f":"G252+H252","v":0}]
[0,null,null,null,null,null,null,{"$f":"IF(学校名!$C253=\"\",0,COUNTIF(女子名簿!$F$12:$F$520,学校名!$C253))","v":0},0]
[0,null,null,null,null,null,null,{"$f":"IF(学校名!$C254=\"\",0,COUNTIF(女子名簿!$F$12:$F$520,学校名!$C254))","v":0},0]
[0,null,null,null,null,null,null,{"$f":"IF(学校名!$C255=\"\",0,COUNTIF(女子名簿!$F$12:$F$520,学校名!$C255))","v":0},0]
[0,null,null,null,null,null,null,{"$f":"IF(学校名!$C256=\"\",0,COUNTIF(女子名簿!$F$12:$F$520,学校名!$C256))","v":0},0]
[0,null,null,null,null,null,null,{"$f":"IF(学校名!$C257=\"\",0,COUNTIF(女子名簿!$F$12:$F$520,学校名!$C257))","v":0},0]
[0,null,null,null,null,null,null,{"$f":"IF(学校名!$C258=\"\",0,COUNTIF(女子名簿!$F$12:$F$520,学校名!$C258))","v":0},0]
[0,null,null,null,null,null,null,{"$f":"IF(学校名!$C259=\"\",0,COUNTIF(女子名簿!$F$12:$F$520,学校名!$C259))","v":0},0]
[0,null,null,null,null,null,null,{"$f":"IF(学校名!$C260=\"\",0,COUNTIF(女子名簿!$F$12:$F$520,学校名!$C260))","v":0},0]
[0,null,null,null,null,null,null,{"$f":"IF(学校名!$C261=\"\",0,COUNTIF(女子名簿!$F$12:$F$520,学校名!$C261))","v":0},0]
[0,null,null,null,null,null,null,{"$f":"IF(学校名!$C262=\"\",0,COUNTIF(女子名簿!$F$12:$F$520,学校名!$C262))","v":0},0]
[0,null,null,null,null,null,null,{"$f":"IF(学校名!$C263=\"\",0,COUNTIF(女子名簿!$F$12:$F$520,学校名!$C263))","v":0},0]
[0,null,null,null,null,null,null,{"$f":"IF(学校名!$C264=\"\",0,COUNTIF(女子名簿!$F$12:$F$520,学校名!$C264))","v":0},0]
[0,null,null,null,null,null,null,{"$f":"IF(学校名!$C265=\"\",0,COUNTIF(女子名簿!$F$12:$F$520,学校名!$C265))","v":0},0]
[0,null,null,null,null,null,null,{"$f":"IF(学校名!$C266=\"\",0,COUNTIF(女子名簿!$F$12:$F$520,学校名!$C266))","v":0},0]
[0,null,null,null,null,null,null,{"$f":"IF(学校名!$C267=\"\",0,COUNTIF(女子名簿!$F$12:$F$520,学校名!$C267))","v":0},0]
[0,null,null,null,null,null,null,{"$f":"IF(学校名!$C268=\"\",0,COUNTIF(女子名簿!$F$12:$F$520,学校名!$C268))","v":0},0]
[0,null,null,null,null,null,null,{"$f":"IF(学校名!$C269=\"\",0,COUNTIF(女子名簿!$F$12:$F$520,学校名!$C269))","v":0},0]
[0,null,null,null,null,null,null,{"$f":"IF(学校名!$C270=\"\",0,COUNTIF(女子名簿!$F$12:$F$520,学校名!$C270))","v":0},0]
[0,null,null,null,null,null,null,{"$f":"IF(学校名!$C271=\"\",0,COUNTIF(女子名簿!$F$12:$F$520,学校名!$C271))","v":0},0]
[0,null,null,null,null,null,null,{"$f":"IF(学校名!$C272=\"\",0,COUNTIF(女子名簿!$F$12:$F$520,学校名!$C272))","v":0},0]
[0,null,null,null,null,null,null,{"$f":"IF(学校名!$C273=\"\",0,COUNTIF(女子名簿!$F$12:$F$520,学校名!$C273))","v":0},0]
[0,null,null,null,null,null,null,{"$f":"IF(学校名!$C274=\"\",0,COUNTIF(女子名簿!$F$12:$F$520,学校名!$C274))","v":0},0]
[0,null,null,null,null,null,null,{"$f":"IF(学校名!$C275=\"\",0,COUNTIF(女子名簿!$F$12:$F$520,学校名!$C275))","v":0},0]
[0,null,null,null,null,null,null,{"$f":"IF(学校名!$C276=\"\",0,COUNTIF(女子名簿!$F$12:$F$520,学校名!$C276))","v":0},0]
[0,null,null,null,null,null,null,{"$f":"IF($C277=\"\",0,COUNTIF(女子名簿!$F$12:$F$520,$C277))","v":0},0]
[0,null,null,null,null,null,null,{"$f":"IF($C278=\"\",0,COUNTIF(女子名簿!$F$12:$F$520,$C278))","v":0},0]
[0,null,null,null,null,null,null,{"$f":"IF($C279=\"\",0,COUNTIF(女子名簿!$F$12:$F$520,$C279))","v":0},0]
[0,null,null,null,null,null,null,{"$f":"IF($C280=\"\",0,COUNTIF(女子名簿!$F$12:$F$520,$C280))","v":0},0]
[0,null,null,null,null,null,null,{"$f":"IF($C281=\"\",0,COUNTIF(女子名簿!$F$12:$F$520,$C281))","v":0},0]
[0,null,null,null,null,null,null,{"$f":"IF($C282=\"\",0,COUNTIF(女子名簿!$F$12:$F$520,$C282))","v":0},0]
[0,null,null,null,null,null,null,{"$f":"IF($C283=\"\",0,COUNTIF(女子名簿!$F$12:$F$520,$C283))","v":0},0]
[0,null,null,null,null,null,null,{"$f":"IF($C284=\"\",0,COUNTIF(女子名簿!$F$12:$F$520,$C284))","v":0},0]
[0,null,null,null,null,null,null,{"$f":"IF($C285=\"\",0,COUNTIF(女子名簿!$F$12:$F$520,$C285))","v":0},0]
[0,null,null,null,null,null,null,{"$f":"IF($C286=\"\",0,COUNTIF(女子名簿!$F$12:$F$520,$C286))","v":0},0]
[0,null,null,null,null,null,null,{"$f":"IF($C287=\"\",0,COUNTIF(女子名簿!$F$12:$F$520,$C287))","v":0},0]
[0,null,null,null,null,null,null,{"$f":"IF($C288=\"\",0,COUNTIF(女子名簿!$F$12:$F$520,$C288))","v":0},0]
[0,null,null,null,null,null,null,{"$f":"IF($C289=\"\",0,COUNTIF(女子名簿!$F$12:$F$520,$C289))","v":0},0]
[0,null,null,null,null,null,null,{"$f":"IF($C290=\"\",0,COUNTIF(女子名簿!$F$12:$F$520,$C290))","v":0},0]
[0,null,null,null,null,null,null,{"$f":"IF($C291=\"\",0,COUNTIF(女子名簿!$F$12:$F$520,$C291))","v":0},0]
[0,null,null,null,null,null,null,{"$f":"IF($C292=\"\",0,COUNTIF(女子名簿!$F$12:$F$520,$C292))","v":0},0]
[0,null,null,null,null,null,null,{"$f":"IF($C293=\"\",0,COUNTIF(女子名簿!$F$12:$F$520,$C293))","v":0},0]
[0,null,null,null,null,null,null,{"$f":"IF($C294=\"\",0,COUNTIF(女子名簿!$F$12:$F$520,$C294))","v":0},0]
[0,null,null,null,null,null,null,{"$f":"IF($C295=\"\",0,COUNTIF(女子名簿!$F$12:$F$520,$C295))","v":0},0]
[0,null,null,null,null,null,null,{"$f":"IF($C296=\"\",0,COUNTIF(女子名簿!$F$12:$F$520,$C296))","v":0},0]
[0,null,null,null,null,null,null,{"$f":"IF($C297=\"\",0,COUNTIF(女子名簿!$F$12:$F$520,$C297))","v":0},0]
[0,null,null,null,null,null,null,{"$f":"IF($C298=\"\",0,COUNTIF(女子名簿!$F$12:$F$520,$C298))","v":0},0]
[0,null,null,null,null,null,null,{"$f":"IF($C299=\"\",0,COUNTIF(女子名簿!$F$12:$F$520,$C299))","v":0},0]
[0,null,null,null,null,null,null,{"$f":"IF($C300=\"\",0,COUNTIF(女子名簿!$F$12:$F$520,$C300))","v":0},0]
[0,null,null,null,null,null,null,{"$f":"IF($C301=\"\",0,COUNTIF(女子名簿!$F$12:$F$520,$C301))","v":0},0]
[0,null,null,null,null,null,null,{"$f":"IF($C302=\"\",0,COUNTIF(女子名簿!$F$12:$F$520,$C302))","v":0},0]
[0,null,null,null,null,null,null,{"$f":"IF($C303=\"\",0,COUNTIF(女子名簿!$F$12:$F$520,$C303))","v":0},0]
[0,null,null,null,null,null,null,{"$f":"IF($C304=\"\",0,COUNTIF(女子名簿!$F$12:$F$520,$C304))","v":0},0]
[0,null,null,null,null,null,null,{"$f":"IF($C305=\"\",0,COUNTIF(女子名簿!$F$12:$F$520,$C305))","v":0},0]
[0,null,null,null,null,null,null,{"$f":"IF($C306=\"\",0,COUNTIF(女子名簿!$F$12:$F$520,$C306))","v":0},0]
[0,null,null,null,null,null,null,{"$f":"IF($C307=\"\",0,COUNTIF(女子名簿!$F$12:$F$520,$C307))","v":0},0]
[0,null,null,null,null,null,null,{"$f":"IF($C308=\"\",0,COUNTIF(女子名簿!$F$12:$F$520,$C308))","v":0},0]
[0,null,null,null,null,null,{"$f":"IF($C309=\"\",0,COUNTIF(男子名簿!$F$12:$F$520,$C309))","v":0},{"$f":"IF($C309=\"\",0,COUNTIF(女子名簿!$F$12:$F$520,$C309))","v":0},0]
[0,null,null,null,null,null,{"$f":"IF($C310=\"\",0,COUNTIF(男子名簿!$F$12:$F$520,$C310))","v":0},{"$f":"IF($C310=\"\",0,COUNTIF(女子名簿!$F$12:$F$520,$C310))","v":0},0]
[0,null,null,null,null,null,{"$f":"IF($C311=\"\",0,COUNTIF(男子名簿!$F$12:$F$520,$C311))","v":0},{"$f":"IF($C311=\"\",0,COUNTIF(女子名簿!$F$12:$F$520,$C311))","v":0},0]
[0,null,null,null,null,null,{"$f":"IF($C312=\"\",0,COUNTIF(男子名簿!$F$12:$F$520,$C312))","v":0},{"$f":"IF($C312=\"\",0,COUNTIF(女子名簿!$F$12:$F$520,$C312))","v":0},0]
[0,null,null,null,null,null,{"$f":"IF($C313=\"\",0,COUNTIF(男子名簿!$F$12:$F$520,$C313))","v":0},{"$f":"IF($C313=\"\",0,COUNTIF(女子名簿!$F$12:$F$520,$C313))","v":0},0]
[0,null,null,null,null,null,{"$f":"IF($C314=\"\",0,COUNTIF(男子名簿!$F$12:$F$520,$C314))","v":0},{"$f":"IF($C314=\"\",0,COUNTIF(女子名簿!$F$12:$F$520,$C314))","v":0},0]
[0,null,null,null,null,null,{"$f":"IF($C315=\"\",0,COUNTIF(男子名簿!$F$12:$F$520,$C315))","v":0},{"$f":"IF($C315=\"\",0,COUNTIF(女子名簿!$F$12:$F$520,$C315))","v":0},0]
[0,null,null,null,null,null,{"$f":"IF($C316=\"\",0,COUNTIF(男子名簿!$F$12:$F$520,$C316))","v":0},{"$f":"IF($C316=\"\",0,COUNTIF(女子名簿!$F$12:$F$520,$C316))","v":0},0]
[0,null,null,null,null,null,{"$f":"IF($C317=\"\",0,COUNTIF(男子名簿!$F$12:$F$520,$C317))","v":0},{"$f":"IF($C317=\"\",0,COUNTIF(女子名簿!$F$12:$F$520,$C317))","v":0},0]
[0,null,null,null,null,null,{"$f":"IF($C318=\"\",0,COUNTIF(男子名簿!$F$12:$F$520,$C318))","v":0},{"$f":"IF($C318=\"\",0,COUNTIF(女子名簿!$F$12:$F$520,$C318))","v":0},0]
[0,null,null,null,null,null,{"$f":"IF($C319=\"\",0,COUNTIF(男子名簿!$F$12:$F$520,$C319))","v":0},{"$f":"IF($C319=\"\",0,COUNTIF(女子名簿!$F$12:$F$520,$C319))","v":0},0]
[0,null,null,null,null,null,{"$f":"IF($C320=\"\",0,COUNTIF(男子名簿!$F$12:$F$520,$C320))","v":0},{"$f":"IF($C320=\"\",0,COUNTIF(女子名簿!$F$12:$F$520,$C320))","v":0},0]
[0,null,null,null,null,null,{"$f":"IF($C321=\"\",0,COUNTIF(男子名簿!$F$12:$F$520,$C321))","v":0},{"$f":"IF($C321=\"\",0,COUNTIF(女子名簿!$F$12:$F$520,$C321))","v":0},0]
[0,null,null,null,null,null,{"$f":"IF($C322=\"\",0,COUNTIF(男子名簿!$F$12:$F$520,$C322))","v":0},{"$f":"IF($C322=\"\",0,COUNTIF(女子名簿!$F$12:$F$520,$C322))","v":0},0]
[0,null,null,null,null,null,{"$f":"IF($C323=\"\",0,COUNTIF(男子名簿!$F$12:$F$520,$C323))","v":0},{"$f":"IF($C323=\"\",0,COUNTIF(女子名簿!$F$12:$F$520,$C323))","v":0},0]
[0,null,null,null,null,null,{"$f":"IF($C324=\"\",0,COUNTIF(男子名簿!$F$12:$F$520,$C324))","v":0},{"$f":"IF($C324=\"\",0,COUNTIF(女子名簿!$F$12:$F$520,$C324))","v":0},0]
[0,null,null,null,null,null,{"$f":"IF($C325=\"\",0,COUNTIF(男子名簿!$F$12:$F$520,$C325))","v":0},{"$f":"IF($C325=\"\",0,COUNTIF(女子名簿!$F$12:$F$520,$C325))","v":0},0]
[0,null,null,null,null,null,{"$f":"IF($C326=\"\",0,COUNTIF(男子名簿!$F$12:$F$520,$C326))","v":0},{"$f":"IF($C326=\"\",0,COUNTIF(女子名簿!$F$12:$F$520,$C326))","v":0},0]
[0,null,null,null,null,null,{"$f":"IF($C327=\"\",0,COUNTIF(男子名簿!$F$12:$F$520,$C327))","v":0},{"$f":"IF($C327=\"\",0,COUNTIF(女子名簿!$F$12:$F$520,$C327))","v":0},0]
[0,null,null,null,null,null,{"$f":"IF($C328=\"\",0,COUNTIF(男子名簿!$F$12:$F$520,$C328))","v":0},{"$f":"IF($C328=\"\",0,COUNTIF(女子名簿!$F$12:$F$520,$C328))","v":0},0]
[0,null,null,null,null,null,{"$f":"IF($C329=\"\",0,COUNTIF(男子名簿!$F$12:$F$520,$C329))","v":0},{"$f":"IF($C329=\"\",0,COUNTIF(女子名簿!$F$12:$F$520,$C329))","v":0},0]
[0,null,null,null,null,null,{"$f":"IF($C330=\"\",0,COUNTIF(男子名簿!$F$12:$F$520,$C330))","v":0},{"$f":"IF($C330=\"\",0,COUNTIF(女子名簿!$F$12:$F$520,$C330))","v":0},0]
[0,null,null,null,null,null,{"$f":"IF($C331=\"\",0,COUNTIF(男子名簿!$F$12:$F$520,$C331))","v":0},{"$f":"IF($C331=\"\",0,COUNTIF(女子名簿!$F$12:$F$520,$C331))","v":0},0]
[0,null,null,null,null,null,{"$f":"IF($C332=\"\",0,COUNTIF(男子名簿!$F$12:$F$520,$C332))","v":0},{"$f":"IF($C332=\"\",0,COUNTIF(女子名簿!$F$12:$F$520,$C332))","v":0},0]
[0,null,null,null,null,null,{"$f":"IF($C333=\"\",0,COUNTIF(男子名簿!$F$12:$F$520,$C333))","v":0},{"$f":"IF($C333=\"\",0,COUNTIF(女子名簿!$F$12:$F$520,$C333))","v":0},0]
[0,null,null,null,null,null,{"$f":"IF($C334=\"\",0,COUNTIF(男子名簿!$F$12:$F$520,$C334))","v":0},{"$f":"IF($C334=\"\",0,COUNTIF(女子名簿!$F$12:$F$520,$C334))","v":0},0]
[0,null,null,null,null,null,{"$f":"IF($C335=\"\",0,COUNTIF(男子名簿!$F$12:$F$520,$C335))","v":0},{"$f":"IF($C335=\"\",0,COUNTIF(女子名簿!$F$12:$F$520,$C335))","v":0},0]
[0,null,null,null,null,null,{"$f":"IF($C336=\"\",0,COUNTIF(男子名簿!$F$12:$F$520,$C336))","v":0},{"$f":"IF($C336=\"\",0,COUNTIF(女子名簿!$F$12:$F$520,$C336))","v":0},0]
[0,null,null,null,null,null,{"$f":"IF($C337=\"\",0,COUNTIF(男子名簿!$F$12:$F$520,$C337))","v":0},{"$f":"IF($C337=\"\",0,COUNTIF(女子名簿!$F$12:$F$520,$C337))","v":0},0]
[0,null,null,null,null,null,{"$f":"IF($C338=\"\",0,COUNTIF(男子名簿!$F$12:$F$520,$C338))","v":0},{"$f":"IF($C338=\"\",0,COUNTIF(女子名簿!$F$12:$F$520,$C338))","v":0},0]
[0,null,null,null,null,null,{"$f":"IF($C339=\"\",0,COUNTIF(男子名簿!$F$12:$F$520,$C339))","v":0},{"$f":"IF($C339=\"\",0,COUNTIF(女子名簿!$F$12:$F$520,$C339))","v":0},0]
[0,null,null,null,null,null,{"$f":"IF($C340=\"\",0,COUNTIF(男子名簿!$F$12:$F$520,$C340))","v":0},{"$f":"IF($C340=\"\",0,COUNTIF(女子名簿!$F$12:$F$520,$C340))","v":0},0]
[0,null,null,null,null,null,{"$f":"IF($C341=\"\",0,COUNTIF(男子名簿!$F$12:$F$520,$C341))","v":0},{"$f":"IF($C341=\"\",0,COUNTIF(女子名簿!$F$12:$F$520,$C341))","v":0},0]
[0,null,null,null,null,null,{"$f":"IF($C342=\"\",0,COUNTIF(男子名簿!$F$12:$F$520,$C342))","v":0},{"$f":"IF($C342=\"\",0,COUNTIF(女子名簿!$F$12:$F$520,$C342))","v":0},0]
[0,null,null,null,null,null,{"$f":"IF($C343=\"\",0,COUNTIF(男子名簿!$F$12:$F$520,$C343))","v":0},{"$f":"IF($C343=\"\",0,COUNTIF(女子名簿!$F$12:$F$520,$C343))","v":0},0]
[0,null,null,null,null,null,{"$f":"IF($C344=\"\",0,COUNTIF(男子名簿!$F$12:$F$520,$C344))","v":0},{"$f":"IF($C344=\"\",0,COUNTIF(女子名簿!$F$12:$F$520,$C344))","v":0},0]
[0,null,null,null,null,null,{"$f":"IF($C345=\"\",0,COUNTIF(男子名簿!$F$12:$F$520,$C345))","v":0},{"$f":"IF($C345=\"\",0,COUNTIF(女子名簿!$F$12:$F$520,$C345))","v":0},0]
[0,null,null,null,null,null,{"$f":"IF($C346=\"\",0,COUNTIF(男子名簿!$F$12:$F$520,$C346))","v":0},{"$f":"IF($C346=\"\",0,COUNTIF(女子名簿!$F$12:$F$520,$C346))","v":0},0]
[0,null,null,null,null,null,{"$f":"IF($C347=\"\",0,COUNTIF(男子名簿!$F$12:$F$520,$C347))","v":0},{"$f":"IF($C347=\"\",0,COUNTIF(女子名簿!$F$12:$F$520,$C347))","v":0},0]
[0,null,null,null,null,null,{"$f":"IF($C348=\"\",0,COUNTIF(男子名簿!$F$12:$F$520,$C348))","v":0},{"$f":"IF($C348=\"\",0,COUNTIF(女子名簿!$F$12:$F$520,$C348))","v":0},0]
[0,null,null,null,null,null,{"$f":"IF($C349=\"\",0,COUNTIF(男子名簿!$F$12:$F$520,$C349))","v":0},{"$f":"IF($C349=\"\",0,COUNTIF(女子名簿!$F$12:$F$520,$C349))","v":0},0]
[0,null,null,null,null,null,{"$f":"IF($C350=\"\",0,COUNTIF(男子名簿!$F$12:$F$520,$C350))","v":0},{"$f":"IF($C350=\"\",0,COUNTIF(女子名簿!$F$12:$F$520,$C350))","v":0},0]
[0,null,null,null,null,null,{"$f":"IF($C351=\"\",0,COUNTIF(男子名簿!$F$12:$F$520,$C351))","v":0},{"$f":"IF($C351=\"\",0,COUNTIF(女子名簿!$F$12:$F$520,$C351))","v":0},0]
[0,null,null,null,null,null,{"$f":"IF($C352=\"\",0,COUNTIF(男子名簿!$F$12:$F$520,$C352))","v":0},{"$f":"IF($C352=\"\",0,COUNTIF(女子名簿!$F$12:$F$520,$C352))","v":0},0]
[0,null,null,null,null,null,{"$f":"IF($C353=\"\",0,COUNTIF(男子名簿!$F$12:$F$520,$C353))","v":0},{"$f":"IF($C353=\"\",0,COUNTIF(女子名簿!$F$12:$F$520,$C353))","v":0},0]
[0,null,null,null,null,null,{"$f":"IF($C354=\"\",0,COUNTIF(男子名簿!$F$12:$F$520,$C354))","v":0},{"$f":"IF($C354=\"\",0,COUNTIF(女子名簿!$F$12:$F$520,$C354))","v":0},0]
[0,null,null,null,null,null,{"$f":"IF($C355=\"\",0,COUNTIF(男子名簿!$F$12:$F$520,$C355))","v":0},{"$f":"IF($C355=\"\",0,COUNTIF(女子名簿!$F$12:$F$520,$C355))","v":0},0]
[0,null,null,null,null,null,{"$f":"IF($C356=\"\",0,COUNTIF(男子名簿!$F$12:$F$520,$C356))","v":0},{"$f":"IF($C356=\"\",0,COUNTIF(女子名簿!$F$12:$F$520,$C356))","v":0},0]
[0,null,null,null,null,null,{"$f":"IF($C357=\"\",0,COUNTIF(男子名簿!$F$12:$F$520,$C357))","v":0},{"$f":"IF($C357=\"\",0,COUNTIF(女子名簿!$F$12:$F$520,$C357))","v":0},0]
[0,null,null,null,null,null,{"$f":"IF($C358=\"\",0,COUNTIF(男子名簿!$F$12:$F$520,$C358))","v":0},{"$f":"IF($C358=\"\",0,COUNTIF(女子名簿!$F$12:$F$520,$C358))","v":0},0]
[0,null,null,null,null,null,{"$f":"IF($C359=\"\",0,COUNTIF(男子名簿!$F$12:$F$520,$C359))","v":0},{"$f":"IF($C359=\"\",0,COUNTIF(女子名簿!$F$12:$F$520,$C359))","v":0},0]
[0,null,null,null,null,null,{"$f":"IF($C360=\"\",0,COUNTIF(男子名簿!$F$12:$F$520,$C360))","v":0},{"$f":"IF($C360=\"\",0,COUNTIF(女子名簿!$F$12:$F$520,$C360))","v":0},0]
[0,null,null,null,null,null,{"$f":"IF($C361=\"\",0,COUNTIF(男子名簿!$F$12:$F$520,$C361))","v":0},{"$f":"IF($C361=\"\",0,COUNTIF(女子名簿!$F$12:$F$520,$C361))","v":0},0]
[0,null,null,null,null,null,{"$f":"IF($C362=\"\",0,COUNTIF(男子名簿!$F$12:$F$520,$C362))","v":0},{"$f":"IF($C362=\"\",0,COUNTIF(女子名簿!$F$12:$F$520,$C362))","v":0},0]
[0,null,null,null,null,null,{"$f":"IF($C363=\"\",0,COUNTIF(男子名簿!$F$12:$F$520,$C363))","v":0},{"$f":"IF($C363=\"\",0,COUNTIF(女子名簿!$F$12:$F$520,$C363))","v":0},0]
[0,null,null,null,null,null,{"$f":"IF($C364=\"\",0,COUNTIF(男子名簿!$F$12:$F$520,$C364))","v":0},{"$f":"IF($C364=\"\",0,COUNTIF(女子名簿!$F$12:$F$520,$C364))","v":0},0]
[0,null,null,null,null,null,{"$f":"IF($C365=\"\",0,COUNTIF(男子名簿!$F$12:$F$520,$C365))","v":0},{"$f":"IF($C365=\"\",0,COUNTIF(女子名簿!$F$12:$F$520,$C365))","v":0},0]
[0,null,null,null,null,null,{"$f":"IF($C366=\"\",0,COUNTIF(男子名簿!$F$12:$F$520,$C366))","v":0},{"$f":"IF($C366=\"\",0,COUNTIF(女子名簿!$F$12:$F$520,$C366))","v":0},0]
[0,null,null,null,null,null,{"$f":"IF($C367=\"\",0,COUNTIF(男子名簿!$F$12:$F$520,$C367))","v":0},{"$f":"IF($C367=\"\",0,COUNTIF(女子名簿!$F$12:$F$520,$C367))","v":0},0]
[0,null,null,null,null,null,{"$f":"IF($C368=\"\",0,COUNTIF(男子名簿!$F$12:$F$520,$C368))","v":0},{"$f":"IF($C368=\"\",0,COUNTIF(女子名簿!$F$12:$F$520,$C368))","v":0},0]
[0,null,null,null,null,null,{"$f":"IF($C369=\"\",0,COUNTIF(男子名簿!$F$12:$F$520,$C369))","v":0},{"$f":"IF($C369=\"\",0,COUNTIF(女子名簿!$F$12:$F$520,$C369))","v":0},0]
[0,null,null,null,null,null,{"$f":"IF($C370=\"\",0,COUNTIF(男子名簿!$F$12:$F$520,$C370))","v":0},{"$f":"IF($C370=\"\",0,COUNTIF(女子名簿!$F$12:$F$520,$C370))","v":0},0]
[0,null,null,null,null,null,{"$f":"IF($C371=\"\",0,COUNTIF(男子名簿!$F$12:$F$520,$C371))","v":0},{"$f":"IF($C371=\"\",0,COUNTIF(女子名簿!$F$12:$F$520,$C371))","v":0},0]
[0,null,null,null,null,null,{"$f":"IF($C372=\"\",0,COUNTIF(男子名簿!$F$12:$F$520,$C372))","v":0},{"$f":"IF($C372=\"\",0,COUNTIF(女子名簿!$F$12:$F$520,$C372))","v":0},0]
[0,null,null,null,null,null,{"$f":"IF($C373=\"\",0,COUNTIF(男子名簿!$F$12:$F$520,$C373))","v":0},{"$f":"IF($C373=\"\",0,COUNTIF(女子名簿!$F$12:$F$520,$C373))","v":0},0]
[0,null,null,null,null,null,{"$f":"IF($C374=\"\",0,COUNTIF(男子名簿!$F$12:$F$520,$C374))","v":0},{"$f":"IF($C374=\"\",0,COUNTIF(女子名簿!$F$12:$F$520,$C374))","v":0},0]
[0,null,null,null,{"$f":"IF($C375=\"\",\"\",ASC(PHONETIC($C375)))","v":""},{"$f":"C375","v":0},{"$f":"IF($C375=\"\",0,COUNTIF(男子名簿!$F$12:$F$520,$C375))","v":0},{"$f":"IF($C375=\"\",0,COUNTIF(女子名簿!$F$12:$F$520,$C375))","v":0},0]
[0,null,null,null,{"$f":"IF($C376=\"\",\"\",ASC(PHONETIC($C376)))","v":""},{"$f":"C376","v":0},{"$f":"IF($C376=\"\",0,COUNTIF(男子名簿!$F$12:$F$520,$C376))","v":0},{"$f":"IF($C376=\"\",0,COUNTIF(女子名簿!$F$12:$F$520,$C376))","v":0},0]
[0,null,null,null,{"$f":"IF($C377=\"\",\"\",ASC(PHONETIC($C377)))","v":""},{"$f":"C377","v":0},{"$f":"IF($C377=\"\",0,COUNTIF(男子名簿!$F$12:$F$520,$C377))","v":0},{"$f":"IF($C377=\"\",0,COUNTIF(女子名簿!$F$12:$F$520,$C377))","v":0},0]
[0,null,null,null,null,null,{"$f":"IF($C378=\"\",0,COUNTIF(男子名簿!$F$12:$F$520,$C378))","v":0},{"$f":"IF($C378=\"\",0,COUNTIF(女子名簿!$F$12:$F$520,$C378))","v":0},0]
[0,null,null,null,{"$f":"IF($C379=\"\",\"\",ASC(PHONETIC($C379)))","v":""},{"$f":"C379","v":0},{"$f":"IF($C379=\"\",0,COUNTIF(男子名簿!$F$12:$F$520,$C379))","v":0},{"$f":"IF($C379=\"\",0,COUNTIF(女子名簿!$F$12:$F$520,$C379))","v":0},0]
[0,null,null,null,"",0,{"$f":"IF($C380=\"\",0,COUNTIF(男子名簿!$F$12:$F$520,$C380))","v":0},{"$f":"IF($C380=\"\",0,COUNTIF(女子名簿!$F$12:$F$520,$C380))","v":0},0]
[0,null,null,null,"",0,{"$f":"IF($C381=\"\",0,COUNTIF(男子名簿!$F$12:$F$520,$C381))","v":0},{"$f":"IF($C381=\"\",0,COUNTIF(女子名簿!$F$12:$F$520,$C381))","v":0},0]
[0,null,null,null,"",0,{"$f":"IF($C382=\"\",0,COUNTIF(男子名簿!$F$12:$F$520,$C382))","v":0},{"$f":"IF($C382=\"\",0,COUNTIF(女子名簿!$F$12:$F$520,$C382))","v":0},0]
[0,null,null,null,"",0,{"$f":"IF($C383=\"\",0,COUNTIF(男子名簿!$F$12:$F$520,$C383))","v":0},{"$f":"IF($C383=\"\",0,COUNTIF(女子名簿!$F$12:$F$520,$C383))","v":0},0]
[0,null,null,null,"",0,{"$f":"IF($C384=\"\",0,COUNTIF(男子名簿!$F$12:$F$520,$C384))","v":0},{"$f":"IF($C384=\"\",0,COUNTIF(女子名簿!$F$12:$F$520,$C384))","v":0},0]
[0,null,null,null,"",0,{"$f":"IF($C385=\"\",0,COUNTIF(男子名簿!$F$12:$F$520,$C385))","v":0},{"$f":"IF($C385=\"\",0,COUNTIF(女子名簿!$F$12:$F$520,$C385))","v":0},0]
[0,null,null,null,"",0,{"$f":"IF($C386=\"\",0,COUNTIF(男子名簿!$F$12:$F$520,$C386))","v":0},{"$f":"IF($C386=\"\",0,COUNTIF(女子名簿!$F$12:$F$520,$C386))","v":0},0]
[0,null,null,null,"",0,{"$f":"IF($C387=\"\",0,COUNTIF(男子名簿!$F$12:$F$520,$C387))","v":0},{"$f":"IF($C387=\"\",0,COUNTIF(女子名簿!$F$12:$F$520,$C387))","v":0},0]
[0,null,null,null,"",0,{"$f":"IF($C388=\"\",0,COUNTIF(男子名簿!$F$12:$F$520,$C388))","v":0},{"$f":"IF($C388=\"\",0,COUNTIF(女子名簿!$F$12:$F$520,$C388))","v":0},0]
[0,null,null,null,"",0,{"$f":"IF($C389=\"\",0,COUNTIF(男子名簿!$F$12:$F$520,$C389))","v":0},{"$f":"IF($C389=\"\",0,COUNTIF(女子名簿!$F$12:$F$520,$C389))","v":0},0]
[0,null,null,null,"",0,{"$f":"IF($C390=\"\",0,COUNTIF(男子名簿!$F$12:$F$520,$C390))","v":0},{"$f":"IF($C390=\"\",0,COUNTIF(女子名簿!$F$12:$F$520,$C390))","v":0},0]
[0,null,null,null,"",0,{"$f":"IF($C391=\"\",0,COUNTIF(男子名簿!$F$12:$F$520,$C391))","v":0},{"$f":"IF($C391=\"\",0,COUNTIF(女子名簿!$F$12:$F$520,$C391))","v":0},0]
[0,null,null,null,"",0,{"$f":"IF($C392=\"\",0,COUNTIF(男子名簿!$F$12:$F$520,$C392))","v":0},{"$f":"IF($C392=\"\",0,COUNTIF(女子名簿!$F$12:$F$520,$C392))","v":0},0]
[0,null,null,null,"",0,{"$f":"IF($C393=\"\",0,COUNTIF(男子名簿!$F$12:$F$520,$C393))","v":0},{"$f":"IF($C393=\"\",0,COUNTIF(女子名簿!$F$12:$F$520,$C393))","v":0},0]
[0,null,null,null,"",0,{"$f":"IF($C394=\"\",0,COUNTIF(男子名簿!$F$12:$F$520,$C394))","v":0},{"$f":"IF($C394=\"\",0,COUNTIF(女子名簿!$F$12:$F$520,$C394))","v":0},0]
[0,null,null,null,"",0,{"$f":"IF($C395=\"\",0,COUNTIF(男子名簿!$F$12:$F$520,$C395))","v":0},{"$f":"IF($C395=\"\",0,COUNTIF(女子名簿!$F$12:$F$520,$C395))","v":0},0]
[0,null,null,null,"",0,{"$f":"IF($C396=\"\",0,COUNTIF(男子名簿!$F$12:$F$520,$C396))","v":0},{"$f":"IF($C396=\"\",0,COUNTIF(女子名簿!$F$12:$F$520,$C396))","v":0},0]
[0,null,null,null,"",0,{"$f":"IF($C397=\"\",0,COUNTIF(男子名簿!$F$12:$F$520,$C397))","v":0},{"$f":"IF($C397=\"\",0,COUNTIF(女子名簿!$F$12:$F$520,$C397))","v":0},0]
[0,null,null,null,null,null,{"$f":"IF($C398=\"\",0,COUNTIF(男子名簿!$F$12:$F$520,$C398))","v":0},{"$f":"IF($C398=\"\",0,COUNTIF(女子名簿!$F$12:$F$520,$C398))","v":0},0]
[0,null,null,null,{"$f":"IF($C399=\"\",\"\",ASC(PHONETIC($C399)))","v":""},{"$f":"C399","v":0},{"$f":"IF($C399=\"\",0,COUNTIF(男子名簿!$F$12:$F$520,$C399))","v":0},{"$f":"IF($C399=\"\",0,COUNTIF(女子名簿!$F$12:$F$520,$C399))","v":0},0]
[0,null,null,null,"",0,{"$f":"IF($C400=\"\",0,COUNTIF(男子名簿!$F$12:$F$520,$C400))","v":0},{"$f":"IF($C400=\"\",0,COUNTIF(女子名簿!$F$12:$F$520,$C400))","v":0},0]
[0,null,null,null,"",0,{"$f":"IF($C401=\"\",0,COUNTIF(男子名簿!$F$12:$F$520,$C401))","v":0},{"$f":"IF($C401=\"\",0,COUNTIF(女子名簿!$F$12:$F$520,$C401))","v":0},0]
[0,null,null,null,"",0,{"$f":"IF($C402=\"\",0,COUNTIF(男子名簿!$F$12:$F$520,$C402))","v":0},{"$f":"IF($C402=\"\",0,COUNTIF(女子名簿!$F$12:$F$520,$C402))","v":0},0]
[0,null,null,null,"",0,{"$f":"IF($C403=\"\",0,COUNTIF(男子名簿!$F$12:$F$520,$C403))","v":0},{"$f":"IF($C403=\"\",0,COUNTIF(女子名簿!$F$12:$F$520,$C403))","v":0},0]
[0,null,null,null,"",0,{"$f":"IF($C404=\"\",0,COUNTIF(男子名簿!$F$12:$F$520,$C404))","v":0},{"$f":"IF($C404=\"\",0,COUNTIF(女子名簿!$F$12:$F$520,$C404))","v":0},0]
[0,null,null,null,"",0,{"$f":"IF($C405=\"\",0,COUNTIF(男子名簿!$F$12:$F$520,$C405))","v":0},{"$f":"IF($C405=\"\",0,COUNTIF(女子名簿!$F$12:$F$520,$C405))","v":0},0]
[0,null,null,null,"",0,{"$f":"IF($C406=\"\",0,COUNTIF(男子名簿!$F$12:$F$520,$C406))","v":0},{"$f":"IF($C406=\"\",0,COUNTIF(女子名簿!$F$12:$F$520,$C406))","v":0},0]
[0,null,null,null,"",0,{"$f":"IF($C407=\"\",0,COUNTIF(男子名簿!$F$12:$F$520,$C407))","v":0},{"$f":"IF($C407=\"\",0,COUNTIF(女子名簿!$F$12:$F$520,$C407))","v":0},0]
[0,null,null,null,"",0,{"$f":"IF($C408=\"\",0,COUNTIF(男子名簿!$F$12:$F$520,$C408))","v":0},{"$f":"IF($C408=\"\",0,COUNTIF(女子名簿!$F$12:$F$520,$C408))","v":0},0]
[0,null,null,null,"",0,{"$f":"IF($C409=\"\",0,COUNTIF(男子名簿!$F$12:$F$520,$C409))","v":0},{"$f":"IF($C409=\"\",0,COUNTIF(女子名簿!$F$12:$F$520,$C409))","v":0},0]
[0,null,null,null,"",0,{"$f":"IF($C410=\"\",0,COUNTIF(男子名簿!$F$12:$F$520,$C410))","v":0},{"$f":"IF($C410=\"\",0,COUNTIF(女子名簿!$F$12:$F$520,$C410))","v":0},0]
[0,null,null,null,"",0,{"$f":"IF($C411=\"\",0,COUNTIF(男子名簿!$F$12:$F$520,$C411))","v":0},{"$f":"IF($C411=\"\",0,COUNTIF(女子名簿!$F$12:$F$520,$C411))","v":0},0]
[0,null,null,null,"",0,{"$f":"IF($C412=\"\",0,COUNTIF(男子名簿!$F$12:$F$520,$C412))","v":0},{"$f":"IF($C412=\"\",0,COUNTIF(女子名簿!$F$12:$F$520,$C412))","v":0},0]
[0,null,null,null,"",0,{"$f":"IF($C413=\"\",0,COUNTIF(男子名簿!$F$12:$F$520,$C413))","v":0},{"$f":"IF($C413=\"\",0,COUNTIF(女子名簿!$F$12:$F$520,$C413))","v":0},0]
[0,null,null,null,"",0,{"$f":"IF($C414=\"\",0,COUNTIF(男子名簿!$F$12:$F$520,$C414))","v":0},{"$f":"IF($C414=\"\",0,COUNTIF(女子名簿!$F$12:$F$520,$C414))","v":0},0]
[0,null,null,null,"",0,{"$f":"IF($C415=\"\",0,COUNTIF(男子名簿!$F$12:$F$520,$C415))","v":0},{"$f":"IF($C415=\"\",0,COUNTIF(女子名簿!$F$12:$F$520,$C415))","v":0},0]
[0,null,null,null,"",0,{"$f":"IF($C416=\"\",0,COUNTIF(男子名簿!$F$12:$F$520,$C416))","v":0},{"$f":"IF($C416=\"\",0,COUNTIF(女子名簿!$F$12:$F$520,$C416))","v":0},0]
[0,null,null,null,"",0,{"$f":"IF($C417=\"\",0,COUNTIF(男子名簿!$F$12:$F$520,$C417))","v":0},{"$f":"IF($C417=\"\",0,COUNTIF(女子名簿!$F$12:$F$520,$C417))","v":0},0]
[0,null,null,null,null,null,{"$f":"IF($C418=\"\",0,COUNTIF(男子名簿!$F$12:$F$520,$C418))","v":0},{"$f":"IF($C418=\"\",0,COUNTIF(女子名簿!$F$12:$F$520,$C418))","v":0},0]
[0,null,null,null,{"$f":"IF($C419=\"\",\"\",ASC(PHONETIC($C419)))","v":""},{"$f":"C419","v":0},{"$f":"IF($C419=\"\",0,COUNTIF(男子名簿!$F$12:$F$520,$C419))","v":0},{"$f":"IF($C419=\"\",0,COUNTIF(女子名簿!$F$12:$F$520,$C419))","v":0},0]
[0,null,null,null,"",0,{"$f":"IF($C420=\"\",0,COUNTIF(男子名簿!$F$12:$F$520,$C420))","v":0},{"$f":"IF($C420=\"\",0,COUNTIF(女子名簿!$F$12:$F$520,$C420))","v":0},0]
[0,null,null,null,"",0,{"$f":"IF($C421=\"\",0,COUNTIF(男子名簿!$F$12:$F$520,$C421))","v":0},{"$f":"IF($C421=\"\",0,COUNTIF(女子名簿!$F$12:$F$520,$C421))","v":0},0]
[0,null,null,null,"",0,{"$f":"IF($C422=\"\",0,COUNTIF(男子名簿!$F$12:$F$520,$C422))","v":0},{"$f":"IF($C422=\"\",0,COUNTIF(女子名簿!$F$12:$F$520,$C422))","v":0},0]
[0,null,null,null,"",0,{"$f":"IF($C423=\"\",0,COUNTIF(男子名簿!$F$12:$F$520,$C423))","v":0},{"$f":"IF($C423=\"\",0,COUNTIF(女子名簿!$F$12:$F$520,$C423))","v":0},0]
[0,null,null,null,"",0,{"$f":"IF($C424=\"\",0,COUNTIF(男子名簿!$F$12:$F$520,$C424))","v":0},{"$f":"IF($C424=\"\",0,COUNTIF(女子名簿!$F$12:$F$520,$C424))","v":0},0]
[0,null,null,null,"",0,{"$f":"IF($C425=\"\",0,COUNTIF(男子名簿!$F$12:$F$520,$C425))","v":0},{"$f":"IF($C425=\"\",0,COUNTIF(女子名簿!$F$12:$F$520,$C425))","v":0},0]
[0,null,null,null,"",0,{"$f":"IF($C426=\"\",0,COUNTIF(男子名簿!$F$12:$F$520,$C426))","v":0},{"$f":"IF($C426=\"\",0,COUNTIF(女子名簿!$F$12:$F$520,$C426))","v":0},0]
[0,null,null,null,"",0,{"$f":"IF($C427=\"\",0,COUNTIF(男子名簿!$F$12:$F$520,$C427))","v":0},{"$f":"IF($C427=\"\",0,COUNTIF(女子名簿!$F$12:$F$520,$C427))","v":0},0]
[0,null,null,null,"",0,{"$f":"IF($C428=\"\",0,COUNTIF(男子名簿!$F$12:$F$520,$C428))","v":0},{"$f":"IF($C428=\"\",0,COUNTIF(女子名簿!$F$12:$F$520,$C428))","v":0},0]
[0,null,null,null,"",0,{"$f":"IF($C429=\"\",0,COUNTIF(男子名簿!$F$12:$F$520,$C429))","v":0},{"$f":"IF($C429=\"\",0,COUNTIF(女子名簿!$F$12:$F$520,$C429))","v":0},0]
[0,null,null,null,"",0,{"$f":"IF($C430=\"\",0,COUNTIF(男子名簿!$F$12:$F$520,$C430))","v":0},{"$f":"IF($C430=\"\",0,COUNTIF(女子名簿!$F$12:$F$520,$C430))","v":0},0]
[0,null,null,null,"",0,{"$f":"IF($C431=\"\",0,COUNTIF(男子名簿!$F$12:$F$520,$C431))","v":0},{"$f":"IF($C431=\"\",0,COUNTIF(女子名簿!$F$12:$F$520,$C431))","v":0},0]
[0,null,null,null,"",0,{"$f":"IF($C432=\"\",0,COUNTIF(男子名簿!$F$12:$F$520,$C432))","v":0},{"$f":"IF($C432=\"\",0,COUNTIF(女子名簿!$F$12:$F$520,$C432))","v":0},0]
[0,null,null,null,"",0,{"$f":"IF($C433=\"\",0,COUNTIF(男子名簿!$F$12:$F$520,$C433))","v":0},{"$f":"IF($C433=\"\",0,COUNTIF(女子名簿!$F$12:$F$520,$C433))","v":0},0]
[0,null,null,null,"",0,{"$f":"IF($C434=\"\",0,COUNTIF(男子名簿!$F$12:$F$520,$C434))","v":0},{"$f":"IF($C434=\"\",0,COUNTIF(女子名簿!$F$12:$F$520,$C434))","v":0},0]
[0,null,null,null,"",0,{"$f":"IF($C435=\"\",0,COUNTIF(男子名簿!$F$12:$F$520,$C435))","v":0},{"$f":"IF($C435=\"\",0,COUNTIF(女子名簿!$F$12:$F$520,$C435))","v":0},0]
[0,null,null,null,"",0,{"$f":"IF($C436=\"\",0,COUNTIF(男子名簿!$F$12:$F$520,$C436))","v":0},{"$f":"IF($C436=\"\",0,COUNTIF(女子名簿!$F$12:$F$520,$C436))","v":0},0]
[0,null,null,null,"",0,{"$f":"IF($C437=\"\",0,COUNTIF(男子名簿!$F$12:$F$520,$C437))","v":0},{"$f":"IF($C437=\"\",0,COUNTIF(女子名簿!$F$12:$F$520,$C437))","v":0},0]
[0,null,null,null,null,null,{"$f":"IF($C438=\"\",0,COUNTIF(男子名簿!$F$12:$F$520,$C438))","v":0},{"$f":"IF($C438=\"\",0,COUNTIF(女子名簿!$F$12:$F$520,$C438))","v":0},0]
[0,null,null,null,{"$f":"IF($C439=\"\",\"\",ASC(PHONETIC($C439)))","v":""},{"$f":"C439","v":0},{"$f":"IF($C439=\"\",0,COUNTIF(男子名簿!$F$12:$F$520,$C439))","v":0},{"$f":"IF($C439=\"\",0,COUNTIF(女子名簿!$F$12:$F$520,$C439))","v":0},0]
[0,null,null,null,"",0,{"$f":"IF($C440=\"\",0,COUNTIF(男子名簿!$F$12:$F$520,$C440))","v":0},{"$f":"IF($C440=\"\",0,COUNTIF(女子名簿!$F$12:$F$520,$C440))","v":0},0]
[0,null,null,null,"",0,{"$f":"IF($C441=\"\",0,COUNTIF(男子名簿!$F$12:$F$520,$C441))","v":0},{"$f":"IF($C441=\"\",0,COUNTIF(女子名簿!$F$12:$F$520,$C441))","v":0},0]
[0,null,null,null,"",0,{"$f":"IF($C442=\"\",0,COUNTIF(男子名簿!$F$12:$F$520,$C442))","v":0},{"$f":"IF($C442=\"\",0,COUNTIF(女子名簿!$F$12:$F$520,$C442))","v":0},0]
[0,null,null,null,"",0,{"$f":"IF($C443=\"\",0,COUNTIF(男子名簿!$F$12:$F$520,$C443))","v":0},{"$f":"IF($C443=\"\",0,COUNTIF(女子名簿!$F$12:$F$520,$C443))","v":0},0]
[0,null,null,null,"",0,{"$f":"IF($C444=\"\",0,COUNTIF(男子名簿!$F$12:$F$520,$C444))","v":0},{"$f":"IF($C444=\"\",0,COUNTIF(女子名簿!$F$12:$F$520,$C444))","v":0},0]
[0,null,null,null,"",0,{"$f":"IF($C445=\"\",0,COUNTIF(男子名簿!$F$12:$F$520,$C445))","v":0},{"$f":"IF($C445=\"\",0,COUNTIF(女子名簿!$F$12:$F$520,$C445))","v":0},0]
[0,null,null,null,"",0,{"$f":"IF($C446=\"\",0,COUNTIF(男子名簿!$F$12:$F$520,$C446))","v":0},{"$f":"IF($C446=\"\",0,COUNTIF(女子名簿!$F$12:$F$520,$C446))","v":0},0]
[0,null,null,null,"",0,{"$f":"IF($C447=\"\",0,COUNTIF(男子名簿!$F$12:$F$520,$C447))","v":0},{"$f":"IF($C447=\"\",0,COUNTIF(女子名簿!$F$12:$F$520,$C447))","v":0},0]
[0,null,null,null,"",0,{"$f":"IF($C448=\"\",0,COUNTIF(男子名簿!$F$12:$F$520,$C448))","v":0},{"$f":"IF($C448=\"\",0,COUNTIF(女子名簿!$F$12:$F$520,$C448))","v":0},0]
[0,null,null,null,"",0,{"$f":"IF($C449=\"\",0,COUNTIF(男子名簿!$F$12:$F$520,$C449))","v":0},{"$f":"IF($C449=\"\",0,COUNTIF(女子名簿!$F$12:$F$520,$C449))","v":0},0]
[0,null,null,null,"",0,{"$f":"IF($C450=\"\",0,COUNTIF(男子名簿!$F$12:$F$520,$C450))","v":0},{"$f":"IF($C450=\"\",0,COUNTIF(女子名簿!$F$12:$F$520,$C450))","v":0},0]
[0,null,null,null,"",0,{"$f":"IF($C451=\"\",0,COUNTIF(男子名簿!$F$12:$F$520,$C451))","v":0},{"$f":"IF($C451=\"\",0,COUNTIF(女子名簿!$F$12:$F$520,$C451))","v":0},0]
[0,null,null,null,"",0,{"$f":"IF($C452=\"\",0,COUNTIF(男子名簿!$F$12:$F$520,$C452))","v":0},{"$f":"IF($C452=\"\",0,COUNTIF(女子名簿!$F$12:$F$520,$C452))","v":0},0]
[0,null,null,null,"",0,{"$f":"IF($C453=\"\",0,COUNTIF(男子名簿!$F$12:$F$520,$C453))","v":0},{"$f":"IF($C453=\"\",0,COUNTIF(女子名簿!$F$12:$F$520,$C453))","v":0},0]
[0,null,null,null,"",0,{"$f":"IF($C454=\"\",0,COUNTIF(男子名簿!$F$12:$F$520,$C454))","v":0},{"$f":"IF($C454=\"\",0,COUNTIF(女子名簿!$F$12:$F$520,$C454))","v":0},0]
[0,null,null,null,"",0,{"$f":"IF($C455=\"\",0,COUNTIF(男子名簿!$F$12:$F$520,$C455))","v":0},{"$f":"IF($C455=\"\",0,COUNTIF(女子名簿!$F$12:$F$520,$C455))","v":0},0]
[0,null,null,null,"",0,{"$f":"IF($C456=\"\",0,COUNTIF(男子名簿!$F$12:$F$520,$C456))","v":0},{"$f":"IF($C456=\"\",0,COUNTIF(女子名簿!$F$12:$F$520,$C456))","v":0},0]
[0,null,null,null,"",0,{"$f":"IF($C457=\"\",0,COUNTIF(男子名簿!$F$12:$F$520,$C457))","v":0},{"$f":"IF($C457=\"\",0,COUNTIF(女子名簿!$F$12:$F$520,$C457))","v":0},0]
[0,null,null,null,null,null,{"$f":"IF($C458=\"\",0,COUNTIF(男子名簿!$F$12:$F$520,$C458))","v":0},{"$f":"IF($C458=\"\",0,COUNTIF(女子名簿!$F$12:$F$520,$C458))","v":0},0]
[0,null,null,null,{"$f":"IF($C459=\"\",\"\",ASC(PHONETIC($C459)))","v":""},{"$f":"C459","v":0},{"$f":"IF($C459=\"\",0,COUNTIF(男子名簿!$F$12:$F$520,$C459))","v":0},{"$f":"IF($C459=\"\",0,COUNTIF(女子名簿!$F$12:$F$520,$C459))","v":0},0]
[0,null,null,null,"",0,{"$f":"IF($C460=\"\",0,COUNTIF(男子名簿!$F$12:$F$520,$C460))","v":0},{"$f":"IF($C460=\"\",0,COUNTIF(女子名簿!$F$12:$F$520,$C460))","v":0},0]
[0,null,null,null,"",0,{"$f":"IF($C461=\"\",0,COUNTIF(男子名簿!$F$12:$F$520,$C461))","v":0},{"$f":"IF($C461=\"\",0,COUNTIF(女子名簿!$F$12:$F$520,$C461))","v":0},0]
[0,null,null,null,"",0,{"$f":"IF($C462=\"\",0,COUNTIF(男子名簿!$F$12:$F$520,$C462))","v":0},{"$f":"IF($C462=\"\",0,COUNTIF(女子名簿!$F$12:$F$520,$C462))","v":0},0]
[0,null,null,null,"",0,{"$f":"IF($C463=\"\",0,COUNTIF(男子名簿!$F$12:$F$520,$C463))","v":0},{"$f":"IF($C463=\"\",0,COUNTIF(女子名簿!$F$12:$F$520,$C463))","v":0},0]
[0,null,null,null,"",0,{"$f":"IF($C464=\"\",0,COUNTIF(男子名簿!$F$12:$F$520,$C464))","v":0},{"$f":"IF($C464=\"\",0,COUNTIF(女子名簿!$F$12:$F$520,$C464))","v":0},0]
[0,null,null,null,"",0,{"$f":"IF($C465=\"\",0,COUNTIF(男子名簿!$F$12:$F$520,$C465))","v":0},{"$f":"IF($C465=\"\",0,COUNTIF(女子名簿!$F$12:$F$520,$C465))","v":0},0]
[0,null,null,null,"",0,{"$f":"IF($C466=\"\",0,COUNTIF(男子名簿!$F$12:$F$520,$C466))","v":0},{"$f":"IF($C466=\"\",0,COUNTIF(女子名簿!$F$12:$F$520,$C466))","v":0},0]
[0,null,null,null,"",0,{"$f":"IF($C467=\"\",0,COUNTIF(男子名簿!$F$12:$F$520,$C467))","v":0},{"$f":"IF($C467=\"\",0,COUNTIF(女子名簿!$F$12:$F$520,$C467))","v":0},0]
[0,null,null,null,"",0,{"$f":"IF($C468=\"\",0,COUNTIF(男子名簿!$F$12:$F$520,$C468))","v":0},{"$f":"IF($C468=\"\",0,COUNTIF(女子名簿!$F$12:$F$520,$C468))","v":0},0]
[0,null,null,null,"",0,{"$f":"IF($C469=\"\",0,COUNTIF(男子名簿!$F$12:$F$520,$C469))","v":0},{"$f":"IF($C469=\"\",0,COUNTIF(女子名簿!$F$12:$F$520,$C469))","v":0},0]
[0,null,null,null,"",0,{"$f":"IF($C470=\"\",0,COUNTIF(男子名簿!$F$12:$F$520,$C470))","v":0},{"$f":"IF($C470=\"\",0,COUNTIF(女子名簿!$F$12:$F$520,$C470))","v":0},0]
[0,null,null,null,"",0,{"$f":"IF($C471=\"\",0,COUNTIF(男子名簿!$F$12:$F$520,$C471))","v":0},{"$f":"IF($C471=\"\",0,COUNTIF(女子名簿!$F$12:$F$520,$C471))","v":0},0]
[0,null,null,null,"",0,{"$f":"IF($C472=\"\",0,COUNTIF(男子名簿!$F$12:$F$520,$C472))","v":0},{"$f":"IF($C472=\"\",0,COUNTIF(女子名簿!$F$12:$F$520,$C472))","v":0},0]
[0,null,null,null,"",0,{"$f":"IF($C473=\"\",0,COUNTIF(男子名簿!$F$12:$F$520,$C473))","v":0},{"$f":"IF($C473=\"\",0,COUNTIF(女子名簿!$F$12:$F$520,$C473))","v":0},0]
[0,null,null,null,"",0,{"$f":"IF($C474=\"\",0,COUNTIF(男子名簿!$F$12:$F$520,$C474))","v":0},{"$f":"IF($C474=\"\",0,COUNTIF(女子名簿!$F$12:$F$520,$C474))","v":0},0]
[0,null,null,null,"",0,{"$f":"IF($C475=\"\",0,COUNTIF(男子名簿!$F$12:$F$520,$C475))","v":0},{"$f":"IF($C475=\"\",0,COUNTIF(女子名簿!$F$12:$F$520,$C475))","v":0},0]
[0,null,null,null,"",0,{"$f":"IF($C476=\"\",0,COUNTIF(男子名簿!$F$12:$F$520,$C476))","v":0},{"$f":"IF($C476=\"\",0,COUNTIF(女子名簿!$F$12:$F$520,$C476))","v":0},0]
[0,null,null,null,"",0,{"$f":"IF($C477=\"\",0,COUNTIF(男子名簿!$F$12:$F$520,$C477))","v":0},{"$f":"IF($C477=\"\",0,COUNTIF(女子名簿!$F$12:$F$520,$C477))","v":0},0]
[0,null,null,null,null,null,{"$f":"IF($C478=\"\",0,COUNTIF(男子名簿!$F$12:$F$520,$C478))","v":0},{"$f":"IF($C478=\"\",0,COUNTIF(女子名簿!$F$12:$F$520,$C478))","v":0},0]
[0,null,null,null,{"$f":"IF($C479=\"\",\"\",ASC(PHONETIC($C479)))","v":""},{"$f":"C479","v":0},{"$f":"IF($C479=\"\",0,COUNTIF(男子名簿!$F$12:$F$520,$C479))","v":0},{"$f":"IF($C479=\"\",0,COUNTIF(女子名簿!$F$12:$F$520,$C479))","v":0},0]
[0,null,null,null,"",0,{"$f":"IF($C480=\"\",0,COUNTIF(男子名簿!$F$12:$F$520,$C480))","v":0},{"$f":"IF($C480=\"\",0,COUNTIF(女子名簿!$F$12:$F$520,$C480))","v":0},0]
[0,null,null,null,"",0,{"$f":"IF($C481=\"\",0,COUNTIF(男子名簿!$F$12:$F$520,$C481))","v":0},{"$f":"IF($C481=\"\",0,COUNTIF(女子名簿!$F$12:$F$520,$C481))","v":0},0]
[0,null,null,null,"",0,{"$f":"IF($C482=\"\",0,COUNTIF(男子名簿!$F$12:$F$520,$C482))","v":0},{"$f":"IF($C482=\"\",0,COUNTIF(女子名簿!$F$12:$F$520,$C482))","v":0},0]
[0,null,null,null,"",0,{"$f":"IF($C483=\"\",0,COUNTIF(男子名簿!$F$12:$F$520,$C483))","v":0},{"$f":"IF($C483=\"\",0,COUNTIF(女子名簿!$F$12:$F$520,$C483))","v":0},0]
[0,null,null,null,"",0,{"$f":"IF($C484=\"\",0,COUNTIF(男子名簿!$F$12:$F$520,$C484))","v":0},{"$f":"IF($C484=\"\",0,COUNTIF(女子名簿!$F$12:$F$520,$C484))","v":0},0]
[0,null,null,null,"",0,{"$f":"IF($C485=\"\",0,COUNTIF(男子名簿!$F$12:$F$520,$C485))","v":0},{"$f":"IF($C485=\"\",0,COUNTIF(女子名簿!$F$12:$F$520,$C485))","v":0},0]
[0,null,null,null,"",0,{"$f":"IF($C486=\"\",0,COUNTIF(男子名簿!$F$12:$F$520,$C486))","v":0},{"$f":"IF($C486=\"\",0,COUNTIF(女子名簿!$F$12:$F$520,$C486))","v":0},0]
[0,null,null,null,"",0,{"$f":"IF($C487=\"\",0,COUNTIF(男子名簿!$F$12:$F$520,$C487))","v":0},{"$f":"IF($C487=\"\",0,COUNTIF(女子名簿!$F$12:$F$520,$C487))","v":0},0]
[0,null,null,null,"",0,{"$f":"IF($C488=\"\",0,COUNTIF(男子名簿!$F$12:$F$520,$C488))","v":0},{"$f":"IF($C488=\"\",0,COUNTIF(女子名簿!$F$12:$F$520,$C488))","v":0},0]
[0,null,null,null,"",0,{"$f":"IF($C489=\"\",0,COUNTIF(男子名簿!$F$12:$F$520,$C489))","v":0},{"$f":"IF($C489=\"\",0,COUNTIF(女子名簿!$F$12:$F$520,$C489))","v":0},0]
[0,null,null,null,"",0,{"$f":"IF($C490=\"\",0,COUNTIF(男子名簿!$F$12:$F$520,$C490))","v":0},{"$f":"IF($C490=\"\",0,COUNTIF(女子名簿!$F$12:$F$520,$C490))","v":0},0]
[0,null,null,null,"",0,{"$f":"IF($C491=\"\",0,COUNTIF(男子名簿!$F$12:$F$520,$C491))","v":0},{"$f":"IF($C491=\"\",0,COUNTIF(女子名簿!$F$12:$F$520,$C491))","v":0},0]
[0,null,null,null,"",0,{"$f":"IF($C492=\"\",0,COUNTIF(男子名簿!$F$12:$F$520,$C492))","v":0},{"$f":"IF($C492=\"\",0,COUNTIF(女子名簿!$F$12:$F$520,$C492))","v":0},0]
[0,null,null,null,"",0,{"$f":"IF($C493=\"\",0,COUNTIF(男子名簿!$F$12:$F$520,$C493))","v":0},{"$f":"IF($C493=\"\",0,COUNTIF(女子名簿!$F$12:$F$520,$C493))","v":0},0]
[0,null,null,null,"",0,{"$f":"IF($C494=\"\",0,COUNTIF(男子名簿!$F$12:$F$520,$C494))","v":0},{"$f":"IF($C494=\"\",0,COUNTIF(女子名簿!$F$12:$F$520,$C494))","v":0},0]
[0,null,null,null,"",0,{"$f":"IF($C495=\"\",0,COUNTIF(男子名簿!$F$12:$F$520,$C495))","v":0},{"$f":"IF($C495=\"\",0,COUNTIF(女子名簿!$F$12:$F$520,$C495))","v":0},0]
[0,null,null,null,"",0,{"$f":"IF($C496=\"\",0,COUNTIF(男子名簿!$F$12:$F$520,$C496))","v":0},{"$f":"IF($C496=\"\",0,COUNTIF(女子名簿!$F$12:$F$520,$C496))","v":0},0]
[0,null,null,null,"",0,{"$f":"IF($C497=\"\",0,COUNTIF(男子名簿!$F$12:$F$520,$C497))","v":0},{"$f":"IF($C497=\"\",0,COUNTIF(女子名簿!$F$12:$F$520,$C497))","v":0},0]
[0,null,null,null,null,null,{"$f":"IF($C498=\"\",0,COUNTIF(男子名簿!$F$12:$F$520,$C498))","v":0},{"$f":"IF($C498=\"\",0,COUNTIF(女子名簿!$F$12:$F$520,$C498))","v":0},0]
[0,null,null,null,{"$f":"IF($C499=\"\",\"\",ASC(PHONETIC($C499)))","v":""},{"$f":"C499","v":0},{"$f":"IF($C499=\"\",0,COUNTIF(男子名簿!$F$12:$F$520,$C499))","v":0},{"$f":"IF($C499=\"\",0,COUNTIF(女子名簿!$F$12:$F$520,$C499))","v":0},0]
[0,null,null,null,"",0,{"$f":"IF($C500=\"\",0,COUNTIF(男子名簿!$F$12:$F$520,$C500))","v":0},{"$f":"IF($C500=\"\",0,COUNTIF(女子名簿!$F$12:$F$520,$C500))","v":0},0]
[0,null,null,null,"",0,{"$f":"IF($C501=\"\",0,COUNTIF(男子名簿!$F$12:$F$520,$C501))","v":0},{"$f":"IF($C501=\"\",0,COUNTIF(女子名簿!$F$12:$F$520,$C501))","v":0},0]
[0,null,null,null,"",0,{"$f":"IF($C502=\"\",0,COUNTIF(男子名簿!$F$12:$F$520,$C502))","v":0},{"$f":"IF($C502=\"\",0,COUNTIF(女子名簿!$F$12:$F$520,$C502))","v":0},0]
[0,null,null,null,"",0,{"$f":"IF($C503=\"\",0,COUNTIF(男子名簿!$F$12:$F$520,$C503))","v":0},{"$f":"IF($C503=\"\",0,COUNTIF(女子名簿!$F$12:$F$520,$C503))","v":0},0]
[0,null,null,null,"",0,{"$f":"IF($C504=\"\",0,COUNTIF(男子名簿!$F$12:$F$520,$C504))","v":0},{"$f":"IF($C504=\"\",0,COUNTIF(女子名簿!$F$12:$F$520,$C504))","v":0},0]
[0,null,null,null,"",0,{"$f":"IF($C505=\"\",0,COUNTIF(男子名簿!$F$12:$F$520,$C505))","v":0},{"$f":"IF($C505=\"\",0,COUNTIF(女子名簿!$F$12:$F$520,$C505))","v":0},0]
[0,null,null,null,"",0,{"$f":"IF($C506=\"\",0,COUNTIF(男子名簿!$F$12:$F$520,$C506))","v":0},{"$f":"IF($C506=\"\",0,COUNTIF(女子名簿!$F$12:$F$520,$C506))","v":0},0]
[0,null,null,null,"",0,{"$f":"IF($C507=\"\",0,COUNTIF(男子名簿!$F$12:$F$520,$C507))","v":0},{"$f":"IF($C507=\"\",0,COUNTIF(女子名簿!$F$12:$F$520,$C507))","v":0},{"$f":"G507+H507","v":0}]
[0,null,null,null,"",0,{"$f":"IF($C508=\"\",0,COUNTIF(男子名簿!$F$12:$F$520,$C508))","v":0},{"$f":"IF($C508=\"\",0,COUNTIF(女子名簿!$F$12:$F$520,$C508))","v":0},0]
[0,null,null,null,"",0,{"$f":"IF($C509=\"\",0,COUNTIF(男子名簿!$F$12:$F$520,$C509))","v":0},{"$f":"IF($C509=\"\",0,COUNTIF(女子名簿!$F$12:$F$520,$C509))","v":0},0]
[0,null,null,null,"",0,{"$f":"IF($C510=\"\",0,COUNTIF(男子名簿!$F$12:$F$520,$C510))","v":0},{"$f":"IF($C510=\"\",0,COUNTIF(女子名簿!$F$12:$F$520,$C510))","v":0},0]
[0,null,null,null,"",0,{"$f":"IF($C511=\"\",0,COUNTIF(男子名簿!$F$12:$F$520,$C511))","v":0},{"$f":"IF($C511=\"\",0,COUNTIF(女子名簿!$F$12:$F$520,$C511))","v":0},0]
[0,null,null,null,"",0,{"$f":"IF($C512=\"\",0,COUNTIF(男子名簿!$F$12:$F$520,$C512))","v":0},{"$f":"IF($C512=\"\",0,COUNTIF(女子名簿!$F$12:$F$520,$C512))","v":0},0]
[0,null,null,null,"",0,{"$f":"IF($C513=\"\",0,COUNTIF(男子名簿!$F$12:$F$520,$C513))","v":0},{"$f":"IF($C513=\"\",0,COUNTIF(女子名簿!$F$12:$F$520,$C513))","v":0},0]
[0,null,null,null,"",0,{"$f":"IF($C514=\"\",0,COUNTIF(男子名簿!$F$12:$F$520,$C514))","v":0},{"$f":"IF($C514=\"\",0,COUNTIF(女子名簿!$F$12:$F$520,$C514))","v":0},0]
[0,null,null,null,"",0,{"$f":"IF($C515=\"\",0,COUNTIF(男子名簿!$F$12:$F$520,$C515))","v":0},{"$f":"IF($C515=\"\",0,COUNTIF(女子名簿!$F$12:$F$520,$C515))","v":0},0]
[0,null,null,null,"",0,{"$f":"IF($C516=\"\",0,COUNTIF(男子名簿!$F$12:$F$520,$C516))","v":0},{"$f":"IF($C516=\"\",0,COUNTIF(女子名簿!$F$12:$F$520,$C516))","v":0},0]
[0,null,null,null,"",0,{"$f":"IF($C517=\"\",0,COUNTIF(男子名簿!$F$12:$F$520,$C517))","v":0},{"$f":"IF($C517=\"\",0,COUNTIF(女子名簿!$F$12:$F$520,$C517))","v":0},0]
[0,null,null,null,null,null,{"$f":"IF($C518=\"\",0,COUNTIF(男子名簿!$F$12:$F$520,$C518))","v":0},{"$f":"IF($C518=\"\",0,COUNTIF(女子名簿!$F$12:$F$520,$C518))","v":0},0]
[0,null,null,null,{"$f":"IF($C519=\"\",\"\",ASC(PHONETIC($C519)))","v":""},{"$f":"C519","v":0},{"$f":"IF($C519=\"\",0,COUNTIF(男子名簿!$F$12:$F$520,$C519))","v":0},{"$f":"IF($C519=\"\",0,COUNTIF(女子名簿!$F$12:$F$520,$C519))","v":0},0]
[0,null,null,null,"",0,{"$f":"IF($C520=\"\",0,COUNTIF(男子名簿!$F$12:$F$520,$C520))","v":0},{"$f":"IF($C520=\"\",0,COUNTIF(女子名簿!$F$12:$F$520,$C520))","v":0},0]
[0,null,null,null,"",0,{"$f":"IF($C521=\"\",0,COUNTIF(男子名簿!$F$12:$F$520,$C521))","v":0},{"$f":"IF($C521=\"\",0,COUNTIF(女子名簿!$F$12:$F$520,$C521))","v":0},0]
[0,null,null,null,"",0,{"$f":"IF($C522=\"\",0,COUNTIF(男子名簿!$F$12:$F$520,$C522))","v":0},{"$f":"IF($C522=\"\",0,COUNTIF(女子名簿!$F$12:$F$520,$C522))","v":0},0]
[0,null,null,null,"",0,{"$f":"IF($C523=\"\",0,COUNTIF(男子名簿!$F$12:$F$520,$C523))","v":0},{"$f":"IF($C523=\"\",0,COUNTIF(女子名簿!$F$12:$F$520,$C523))","v":0},0]
[0,null,null,null,"",0,{"$f":"IF($C524=\"\",0,COUNTIF(男子名簿!$F$12:$F$520,$C524))","v":0},{"$f":"IF($C524=\"\",0,COUNTIF(女子名簿!$F$12:$F$520,$C524))","v":0},0]
[0,null,null,null,"",0,{"$f":"IF($C525=\"\",0,COUNTIF(男子名簿!$F$12:$F$520,$C525))","v":0},{"$f":"IF($C525=\"\",0,COUNTIF(女子名簿!$F$12:$F$520,$C525))","v":0},0]
[0,null,null,null,"",0,{"$f":"IF($C526=\"\",0,COUNTIF(男子名簿!$F$12:$F$520,$C526))","v":0},{"$f":"IF($C526=\"\",0,COUNTIF(女子名簿!$F$12:$F$520,$C526))","v":0},0]
[0,null,null,null,"",0,{"$f":"IF($C527=\"\",0,COUNTIF(男子名簿!$F$12:$F$520,$C527))","v":0},{"$f":"IF($C527=\"\",0,COUNTIF(女子名簿!$F$12:$F$520,$C527))","v":0},0]
[0,null,null,null,"",0,{"$f":"IF($C528=\"\",0,COUNTIF(男子名簿!$F$12:$F$520,$C528))","v":0},{"$f":"IF($C528=\"\",0,COUNTIF(女子名簿!$F$12:$F$520,$C528))","v":0},0]
[0,null,null,null,"",0,{"$f":"IF($C529=\"\",0,COUNTIF(男子名簿!$F$12:$F$520,$C529))","v":0},{"$f":"IF($C529=\"\",0,COUNTIF(女子名簿!$F$12:$F$520,$C529))","v":0},0]
[0,null,null,null,"",0,{"$f":"IF($C530=\"\",0,COUNTIF(男子名簿!$F$12:$F$520,$C530))","v":0},{"$f":"IF($C530=\"\",0,COUNTIF(女子名簿!$F$12:$F$520,$C530))","v":0},0]
[0,null,null,null,"",0,{"$f":"IF($C531=\"\",0,COUNTIF(男子名簿!$F$12:$F$520,$C531))","v":0},{"$f":"IF($C531=\"\",0,COUNTIF(女子名簿!$F$12:$F$520,$C531))","v":0},0]
[0,null,null,null,"",0,{"$f":"IF($C532=\"\",0,COUNTIF(男子名簿!$F$12:$F$520,$C532))","v":0},{"$f":"IF($C532=\"\",0,COUNTIF(女子名簿!$F$12:$F$520,$C532))","v":0},0]
[0,null,null,null,"",0,{"$f":"IF($C533=\"\",0,COUNTIF(男子名簿!$F$12:$F$520,$C533))","v":0},{"$f":"IF($C533=\"\",0,COUNTIF(女子名簿!$F$12:$F$520,$C533))","v":0},0]
[0,null,null,null,"",0,{"$f":"IF($C534=\"\",0,COUNTIF(男子名簿!$F$12:$F$520,$C534))","v":0},{"$f":"IF($C534=\"\",0,COUNTIF(女子名簿!$F$12:$F$520,$C534))","v":0},0]
[0,null,null,null,"",0,{"$f":"IF($C535=\"\",0,COUNTIF(男子名簿!$F$12:$F$520,$C535))","v":0},{"$f":"IF($C535=\"\",0,COUNTIF(女子名簿!$F$12:$F$520,$C535))","v":0},0]
[0,null,null,null,"",0,{"$f":"IF($C536=\"\",0,COUNTIF(男子名簿!$F$12:$F$520,$C536))","v":0},{"$f":"IF($C536=\"\",0,COUNTIF(女子名簿!$F$12:$F$520,$C536))","v":0},0]
[0,null,null,null,"",0,{"$f":"IF($C537=\"\",0,COUNTIF(男子名簿!$F$12:$F$520,$C537))","v":0},{"$f":"IF($C537=\"\",0,COUNTIF(女子名簿!$F$12:$F$520,$C537))","v":0},0]
[0,null,null,null,null,null,{"$f":"IF($C538=\"\",0,COUNTIF(男子名簿!$F$12:$F$520,$C538))","v":0},{"$f":"IF($C538=\"\",0,COUNTIF(女子名簿!$F$12:$F$520,$C538))","v":0},0]
[0,null,null,null,{"$f":"IF($C539=\"\",\"\",ASC(PHONETIC($C539)))","v":""},{"$f":"C539","v":0},{"$f":"IF($C539=\"\",0,COUNTIF(男子名簿!$F$12:$F$520,$C539))","v":0},{"$f":"IF($C539=\"\",0,COUNTIF(女子名簿!$F$12:$F$520,$C539))","v":0},0]
[0,null,null,null,"",0,{"$f":"IF($C540=\"\",0,COUNTIF(男子名簿!$F$12:$F$520,$C540))","v":0},{"$f":"IF($C540=\"\",0,COUNTIF(女子名簿!$F$12:$F$520,$C540))","v":0},0]
[0,null,null,null,"",0,{"$f":"IF($C541=\"\",0,COUNTIF(男子名簿!$F$12:$F$520,$C541))","v":0},{"$f":"IF($C541=\"\",0,COUNTIF(女子名簿!$F$12:$F$520,$C541))","v":0},0]
[0,null,null,null,"",0,{"$f":"IF($C542=\"\",0,COUNTIF(男子名簿!$F$12:$F$520,$C542))","v":0},{"$f":"IF($C542=\"\",0,COUNTIF(女子名簿!$F$12:$F$520,$C542))","v":0},0]
[0,null,null,null,"",0,{"$f":"IF($C543=\"\",0,COUNTIF(男子名簿!$F$12:$F$520,$C543))","v":0},{"$f":"IF($C543=\"\",0,COUNTIF(女子名簿!$F$12:$F$520,$C543))","v":0},0]
[0,null,null,null,"",0,{"$f":"IF($C544=\"\",0,COUNTIF(男子名簿!$F$12:$F$520,$C544))","v":0},{"$f":"IF($C544=\"\",0,COUNTIF(女子名簿!$F$12:$F$520,$C544))","v":0},0]
[0,null,null,null,"",0,{"$f":"IF($C545=\"\",0,COUNTIF(男子名簿!$F$12:$F$520,$C545))","v":0},{"$f":"IF($C545=\"\",0,COUNTIF(女子名簿!$F$12:$F$520,$C545))","v":0},0]
[0,null,null,null,"",0,{"$f":"IF($C546=\"\",0,COUNTIF(男子名簿!$F$12:$F$520,$C546))","v":0},{"$f":"IF($C546=\"\",0,COUNTIF(女子名簿!$F$12:$F$520,$C546))","v":0},0]
[0,null,null,null,"",0,{"$f":"IF($C547=\"\",0,COUNTIF(男子名簿!$F$12:$F$520,$C547))","v":0},{"$f":"IF($C547=\"\",0,COUNTIF(女子名簿!$F$12:$F$520,$C547))","v":0},0]
[0,null,null,null,"",0,{"$f":"IF($C548=\"\",0,COUNTIF(男子名簿!$F$12:$F$520,$C548))","v":0},{"$f":"IF($C548=\"\",0,COUNTIF(女子名簿!$F$12:$F$520,$C548))","v":0},0]
[0,null,null,null,"",0,{"$f":"IF($C549=\"\",0,COUNTIF(男子名簿!$F$12:$F$520,$C549))","v":0},{"$f":"IF($C549=\"\",0,COUNTIF(女子名簿!$F$12:$F$520,$C549))","v":0},0]
[0,null,null,null,"",0,{"$f":"IF($C550=\"\",0,COUNTIF(男子名簿!$F$12:$F$520,$C550))","v":0},{"$f":"IF($C550=\"\",0,COUNTIF(女子名簿!$F$12:$F$520,$C550))","v":0},0]
[0,null,null,null,"",0,{"$f":"IF($C551=\"\",0,COUNTIF(男子名簿!$F$12:$F$520,$C551))","v":0},{"$f":"IF($C551=\"\",0,COUNTIF(女子名簿!$F$12:$F$520,$C551))","v":0},0]
[0,null,null,null,"",0,{"$f":"IF($C552=\"\",0,COUNTIF(男子名簿!$F$12:$F$520,$C552))","v":0},{"$f":"IF($C552=\"\",0,COUNTIF(女子名簿!$F$12:$F$520,$C552))","v":0},0]
[0,null,null,null,"",0,{"$f":"IF($C553=\"\",0,COUNTIF(男子名簿!$F$12:$F$520,$C553))","v":0},{"$f":"IF($C553=\"\",0,COUNTIF(女子名簿!$F$12:$F$520,$C553))","v":0},0]
[0,null,null,null,"",0,{"$f":"IF($C554=\"\",0,COUNTIF(男子名簿!$F$12:$F$520,$C554))","v":0},{"$f":"IF($C554=\"\",0,COUNTIF(女子名簿!$F$12:$F$520,$C554))","v":0},0]
[0,null,null,null,"",0,{"$f":"IF($C555=\"\",0,COUNTIF(男子名簿!$F$12:$F$520,$C555))","v":0},{"$f":"IF($C555=\"\",0,COUNTIF(女子名簿!$F$12:$F$520,$C555))","v":0},0]
[0,null,null,null,"",0,{"$f":"IF($C556=\"\",0,COUNTIF(男子名簿!$F$12:$F$520,$C556))","v":0},{"$f":"IF($C556=\"\",0,COUNTIF(女子名簿!$F$12:$F$520,$C556))","v":0},0]
[0,null,null,null,"",0,{"$f":"IF($C557=\"\",0,COUNTIF(男子名簿!$F$12:$F$520,$C557))","v":0},{"$f":"IF($C557=\"\",0,COUNTIF(女子名簿!$F$12:$F$520,$C557))","v":0},0]
[0,null,null,null,null,null,{"$f":"IF($C558=\"\",0,COUNTIF(男子名簿!$F$12:$F$520,$C558))","v":0},{"$f":"IF($C558=\"\",0,COUNTIF(女子名簿!$F$12:$F$520,$C558))","v":0},0]
[0,null,null,null,{"$f":"IF($C559=\"\",\"\",ASC(PHONETIC($C559)))","v":""},{"$f":"C559","v":0},{"$f":"IF($C559=\"\",0,COUNTIF(男子名簿!$F$12:$F$520,$C559))","v":0},{"$f":"IF($C559=\"\",0,COUNTIF(女子名簿!$F$12:$F$520,$C559))","v":0},0]
[0,null,null,null,"",0,{"$f":"IF($C560=\"\",0,COUNTIF(男子名簿!$F$12:$F$520,$C560))","v":0},{"$f":"IF($C560=\"\",0,COUNTIF(女子名簿!$F$12:$F$520,$C560))","v":0},0]
[0,null,null,null,"",0,{"$f":"IF($C561=\"\",0,COUNTIF(男子名簿!$F$12:$F$520,$C561))","v":0},{"$f":"IF($C561=\"\",0,COUNTIF(女子名簿!$F$12:$F$520,$C561))","v":0},0]
[0,null,null,null,"",0,{"$f":"IF($C562=\"\",0,COUNTIF(男子名簿!$F$12:$F$520,$C562))","v":0},{"$f":"IF($C562=\"\",0,COUNTIF(女子名簿!$F$12:$F$520,$C562))","v":0},0]
[0,null,null,null,"",0,{"$f":"IF($C563=\"\",0,COUNTIF(男子名簿!$F$12:$F$520,$C563))","v":0},{"$f":"IF($C563=\"\",0,COUNTIF(女子名簿!$F$12:$F$520,$C563))","v":0},0]
[0,null,null,null,"",0,{"$f":"IF($C564=\"\",0,COUNTIF(男子名簿!$F$12:$F$520,$C564))","v":0},{"$f":"IF($C564=\"\",0,COUNTIF(女子名簿!$F$12:$F$520,$C564))","v":0},0]
[0,null,null,null,"",0,{"$f":"IF($C565=\"\",0,COUNTIF(男子名簿!$F$12:$F$520,$C565))","v":0},{"$f":"IF($C565=\"\",0,COUNTIF(女子名簿!$F$12:$F$520,$C565))","v":0},0]
[0,null,null,null,"",0,{"$f":"IF($C566=\"\",0,COUNTIF(男子名簿!$F$12:$F$520,$C566))","v":0},{"$f":"IF($C566=\"\",0,COUNTIF(女子名簿!$F$12:$F$520,$C566))","v":0},0]
[0,null,null,null,"",0,{"$f":"IF($C567=\"\",0,COUNTIF(男子名簿!$F$12:$F$520,$C567))","v":0},{"$f":"IF($C567=\"\",0,COUNTIF(女子名簿!$F$12:$F$520,$C567))","v":0},0]
[0,null,null,null,"",0,{"$f":"IF($C568=\"\",0,COUNTIF(男子名簿!$F$12:$F$520,$C568))","v":0},{"$f":"IF($C568=\"\",0,COUNTIF(女子名簿!$F$12:$F$520,$C568))","v":0},0]
[0,null,null,null,"",0,{"$f":"IF($C569=\"\",0,COUNTIF(男子名簿!$F$12:$F$520,$C569))","v":0},{"$f":"IF($C569=\"\",0,COUNTIF(女子名簿!$F$12:$F$520,$C569))","v":0},0]
[0,null,null,null,"",0,{"$f":"IF($C570=\"\",0,COUNTIF(男子名簿!$F$12:$F$520,$C570))","v":0},{"$f":"IF($C570=\"\",0,COUNTIF(女子名簿!$F$12:$F$520,$C570))","v":0},0]
[0,null,null,null,"",0,{"$f":"IF($C571=\"\",0,COUNTIF(男子名簿!$F$12:$F$520,$C571))","v":0},{"$f":"IF($C571=\"\",0,COUNTIF(女子名簿!$F$12:$F$520,$C571))","v":0},0]
[0,null,null,null,"",0,{"$f":"IF($C572=\"\",0,COUNTIF(男子名簿!$F$12:$F$520,$C572))","v":0},{"$f":"IF($C572=\"\",0,COUNTIF(女子名簿!$F$12:$F$520,$C572))","v":0},0]
[0,null,null,null,"",0,{"$f":"IF($C573=\"\",0,COUNTIF(男子名簿!$F$12:$F$520,$C573))","v":0},{"$f":"IF($C573=\"\",0,COUNTIF(女子名簿!$F$12:$F$520,$C573))","v":0},0]
[0,null,null,null,"",0,{"$f":"IF($C574=\"\",0,COUNTIF(男子名簿!$F$12:$F$520,$C574))","v":0},{"$f":"IF($C574=\"\",0,COUNTIF(女子名簿!$F$12:$F$520,$C574))","v":0},0]
[0,null,null,null,"",0,{"$f":"IF($C575=\"\",0,COUNTIF(男子名簿!$F$12:$F$520,$C575))","v":0},{"$f":"IF($C575=\"\",0,COUNTIF(女子名簿!$F$12:$F$520,$C575))","v":0},0]
[0,null,null,null,"",0,{"$f":"IF($C576=\"\",0,COUNTIF(男子名簿!$F$12:$F$520,$C576))","v":0},{"$f":"IF($C576=\"\",0,COUNTIF(女子名簿!$F$12:$F$520,$C576))","v":0},0]
[0,null,null,null,"",0,{"$f":"IF($C577=\"\",0,COUNTIF(男子名簿!$F$12:$F$520,$C577))","v":0},{"$f":"IF($C577=\"\",0,COUNTIF(女子名簿!$F$12:$F$520,$C577))","v":0},0]
[0,null,null,null,null,null,{"$f":"IF($C578=\"\",0,COUNTIF(男子名簿!$F$12:$F$520,$C578))","v":0},{"$f":"IF($C578=\"\",0,COUNTIF(女子名簿!$F$12:$F$520,$C578))","v":0},0]
[0,null,null,null,{"$f":"IF($C579=\"\",\"\",ASC(PHONETIC($C579)))","v":""},{"$f":"C579","v":0},{"$f":"IF($C579=\"\",0,COUNTIF(男子名簿!$F$12:$F$520,$C579))","v":0},{"$f":"IF($C579=\"\",0,COUNTIF(女子名簿!$F$12:$F$520,$C579))","v":0},0]
[0,null,null,null,"",0,{"$f":"IF($C580=\"\",0,COUNTIF(男子名簿!$F$12:$F$520,$C580))","v":0},{"$f":"IF($C580=\"\",0,COUNTIF(女子名簿!$F$12:$F$520,$C580))","v":0},0]
[0,null,null,null,"",0,{"$f":"IF($C581=\"\",0,COUNTIF(男子名簿!$F$12:$F$520,$C581))","v":0},{"$f":"IF($C581=\"\",0,COUNTIF(女子名簿!$F$12:$F$520,$C581))","v":0},0]
[0,null,null,null,"",0,{"$f":"IF($C582=\"\",0,COUNTIF(男子名簿!$F$12:$F$520,$C582))","v":0},{"$f":"IF($C582=\"\",0,COUNTIF(女子名簿!$F$12:$F$520,$C582))","v":0},0]
[0,null,null,null,"",0,{"$f":"IF($C583=\"\",0,COUNTIF(男子名簿!$F$12:$F$520,$C583))","v":0},{"$f":"IF($C583=\"\",0,COUNTIF(女子名簿!$F$12:$F$520,$C583))","v":0},0]
[0,null,null,null,"",0,{"$f":"IF($C584=\"\",0,COUNTIF(男子名簿!$F$12:$F$520,$C584))","v":0},{"$f":"IF($C584=\"\",0,COUNTIF(女子名簿!$F$12:$F$520,$C584))","v":0},0]
[0,null,null,null,"",0,{"$f":"IF($C585=\"\",0,COUNTIF(男子名簿!$F$12:$F$520,$C585))","v":0},{"$f":"IF($C585=\"\",0,COUNTIF(女子名簿!$F$12:$F$520,$C585))","v":0},0]
[0,null,null,null,"",0,{"$f":"IF($C586=\"\",0,COUNTIF(男子名簿!$F$12:$F$520,$C586))","v":0},{"$f":"IF($C586=\"\",0,COUNTIF(女子名簿!$F$12:$F$520,$C586))","v":0},0]
[0,null,null,null,"",0,{"$f":"IF($C587=\"\",0,COUNTIF(男子名簿!$F$12:$F$520,$C587))","v":0},{"$f":"IF($C587=\"\",0,COUNTIF(女子名簿!$F$12:$F$520,$C587))","v":0},0]
[0,null,null,null,"",0,{"$f":"IF($C588=\"\",0,COUNTIF(男子名簿!$F$12:$F$520,$C588))","v":0},{"$f":"IF($C588=\"\",0,COUNTIF(女子名簿!$F$12:$F$520,$C588))","v":0},0]
[0,null,null,null,"",0,{"$f":"IF($C589=\"\",0,COUNTIF(男子名簿!$F$12:$F$520,$C589))","v":0},{"$f":"IF($C589=\"\",0,COUNTIF(女子名簿!$F$12:$F$520,$C589))","v":0},0]
[0,null,null,null,"",0,{"$f":"IF($C590=\"\",0,COUNTIF(男子名簿!$F$12:$F$520,$C590))","v":0},{"$f":"IF($C590=\"\",0,COUNTIF(女子名簿!$F$12:$F$520,$C590))","v":0},0]
[0,null,null,null,"",0,{"$f":"IF($C591=\"\",0,COUNTIF(男子名簿!$F$12:$F$520,$C591))","v":0},{"$f":"IF($C591=\"\",0,COUNTIF(女子名簿!$F$12:$F$520,$C591))","v":0},0]
[0,null,null,null,"",0,{"$f":"IF($C592=\"\",0,COUNTIF(男子名簿!$F$12:$F$520,$C592))","v":0},{"$f":"IF($C592=\"\",0,COUNTIF(女子名簿!$F$12:$F$520,$C592))","v":0},0]
[0,null,null,null,"",0,{"$f":"IF($C593=\"\",0,COUNTIF(男子名簿!$F$12:$F$520,$C593))","v":0},{"$f":"IF($C593=\"\",0,COUNTIF(女子名簿!$F$12:$F$520,$C593))","v":0},0]
[0,null,null,null,"",0,{"$f":"IF($C594=\"\",0,COUNTIF(男子名簿!$F$12:$F$520,$C594))","v":0},{"$f":"IF($C594=\"\",0,COUNTIF(女子名簿!$F$12:$F$520,$C594))","v":0},0]
[0,null,null,null,"",0,{"$f":"IF($C595=\"\",0,COUNTIF(男子名簿!$F$12:$F$520,$C595))","v":0},{"$f":"IF($C595=\"\",0,COUNTIF(女子名簿!$F$12:$F$520,$C595))","v":0},0]
[0,null,null,null,"",0,{"$f":"IF($C596=\"\",0,COUNTIF(男子名簿!$F$12:$F$520,$C596))","v":0},{"$f":"IF($C596=\"\",0,COUNTIF(女子名簿!$F$12:$F$520,$C596))","v":0},0]
[0,null,null,null,"",0,{"$f":"IF($C597=\"\",0,COUNTIF(男子名簿!$F$12:$F$520,$C597))","v":0},{"$f":"IF($C597=\"\",0,COUNTIF(女子名簿!$F$12:$F$520,$C597))","v":0},0]
[0,null,null,null,null,null,{"$f":"IF($C598=\"\",0,COUNTIF(男子名簿!$F$12:$F$520,$C598))","v":0},{"$f":"IF($C598=\"\",0,COUNTIF(女子名簿!$F$12:$F$520,$C598))","v":0},0]
[0,null,null,null,{"$f":"IF($C599=\"\",\"\",ASC(PHONETIC($C599)))","v":""},{"$f":"C599","v":0},{"$f":"IF($C599=\"\",0,COUNTIF(男子名簿!$F$12:$F$520,$C599))","v":0},{"$f":"IF($C599=\"\",0,COUNTIF(女子名簿!$F$12:$F$520,$C599))","v":0},0]
[0,null,null,null,"",0,{"$f":"IF($C600=\"\",0,COUNTIF(男子名簿!$F$12:$F$520,$C600))","v":0},{"$f":"IF($C600=\"\",0,COUNTIF(女子名簿!$F$12:$F$520,$C600))","v":0},0]
[0,null,null,null,"",0,{"$f":"IF($C601=\"\",0,COUNTIF(男子名簿!$F$12:$F$520,$C601))","v":0},{"$f":"IF($C601=\"\",0,COUNTIF(女子名簿!$F$12:$F$520,$C601))","v":0},0]
[0,null,null,null,"",0,{"$f":"IF($C602=\"\",0,COUNTIF(男子名簿!$F$12:$F$520,$C602))","v":0},{"$f":"IF($C602=\"\",0,COUNTIF(女子名簿!$F$12:$F$520,$C602))","v":0},0]
[0,null,null,null,"",0,{"$f":"IF($C603=\"\",0,COUNTIF(男子名簿!$F$12:$F$520,$C603))","v":0},{"$f":"IF($C603=\"\",0,COUNTIF(女子名簿!$F$12:$F$520,$C603))","v":0},0]
[0,null,null,null,"",0,{"$f":"IF($C604=\"\",0,COUNTIF(男子名簿!$F$12:$F$520,$C604))","v":0},{"$f":"IF($C604=\"\",0,COUNTIF(女子名簿!$F$12:$F$520,$C604))","v":0},0]
[0,null,null,null,"",0,{"$f":"IF($C605=\"\",0,COUNTIF(男子名簿!$F$12:$F$520,$C605))","v":0},{"$f":"IF($C605=\"\",0,COUNTIF(女子名簿!$F$12:$F$520,$C605))","v":0},0]
[0,null,null,null,"",0,{"$f":"IF($C606=\"\",0,COUNTIF(男子名簿!$F$12:$F$520,$C606))","v":0},{"$f":"IF($C606=\"\",0,COUNTIF(女子名簿!$F$12:$F$520,$C606))","v":0},0]
[0,null,null,null,"",0,{"$f":"IF($C607=\"\",0,COUNTIF(男子名簿!$F$12:$F$520,$C607))","v":0},{"$f":"IF($C607=\"\",0,COUNTIF(女子名簿!$F$12:$F$520,$C607))","v":0},0]
[0,null,null,null,"",0,{"$f":"IF($C608=\"\",0,COUNTIF(男子名簿!$F$12:$F$520,$C608))","v":0},{"$f":"IF($C608=\"\",0,COUNTIF(女子名簿!$F$12:$F$520,$C608))","v":0},0]
[0,null,null,null,"",0,{"$f":"IF($C609=\"\",0,COUNTIF(男子名簿!$F$12:$F$520,$C609))","v":0},{"$f":"IF($C609=\"\",0,COUNTIF(女子名簿!$F$12:$F$520,$C609))","v":0},0]
[0,null,null,null,"",0,{"$f":"IF($C610=\"\",0,COUNTIF(男子名簿!$F$12:$F$520,$C610))","v":0},{"$f":"IF($C610=\"\",0,COUNTIF(女子名簿!$F$12:$F$520,$C610))","v":0},0]
[0,null,null,null,"",0,{"$f":"IF($C611=\"\",0,COUNTIF(男子名簿!$F$12:$F$520,$C611))","v":0},{"$f":"IF($C611=\"\",0,COUNTIF(女子名簿!$F$12:$F$520,$C611))","v":0},0]
[0,null,null,null,"",0,{"$f":"IF($C612=\"\",0,COUNTIF(男子名簿!$F$12:$F$520,$C612))","v":0},{"$f":"IF($C612=\"\",0,COUNTIF(女子名簿!$F$12:$F$520,$C612))","v":0},0]
[0,null,null,null,"",0,{"$f":"IF($C613=\"\",0,COUNTIF(男子名簿!$F$12:$F$520,$C613))","v":0},{"$f":"IF($C613=\"\",0,COUNTIF(女子名簿!$F$12:$F$520,$C613))","v":0},0]
[0,null,null,null,"",0,{"$f":"IF($C614=\"\",0,COUNTIF(男子名簿!$F$12:$F$520,$C614))","v":0},{"$f":"IF($C614=\"\",0,COUNTIF(女子名簿!$F$12:$F$520,$C614))","v":0},0]
[0,null,null,null,"",0,{"$f":"IF($C615=\"\",0,COUNTIF(男子名簿!$F$12:$F$520,$C615))","v":0},{"$f":"IF($C615=\"\",0,COUNTIF(女子名簿!$F$12:$F$520,$C615))","v":0},0]
[0,null,null,null,"",0,{"$f":"IF($C616=\"\",0,COUNTIF(男子名簿!$F$12:$F$520,$C616))","v":0},{"$f":"IF($C616=\"\",0,COUNTIF(女子名簿!$F$12:$F$520,$C616))","v":0},0]
[0,null,null,null,"",0,{"$f":"IF($C617=\"\",0,COUNTIF(男子名簿!$F$12:$F$520,$C617))","v":0},{"$f":"IF($C617=\"\",0,COUNTIF(女子名簿!$F$12:$F$520,$C617))","v":0},0]
[0,null,null,null,null,null,{"$f":"IF($C618=\"\",0,COUNTIF(男子名簿!$F$12:$F$520,$C618))","v":0},{"$f":"IF($C618=\"\",0,COUNTIF(女子名簿!$F$12:$F$520,$C618))","v":0},0]
[0,null,null,null,{"$f":"IF($C619=\"\",\"\",ASC(PHONETIC($C619)))","v":""},{"$f":"C619","v":0},{"$f":"IF($C619=\"\",0,COUNTIF(男子名簿!$F$12:$F$520,$C619))","v":0},{"$f":"IF($C619=\"\",0,COUNTIF(女子名簿!$F$12:$F$520,$C619))","v":0},0]
[0,null,null,null,"",0,{"$f":"IF($C620=\"\",0,COUNTIF(男子名簿!$F$12:$F$520,$C620))","v":0},{"$f":"IF($C620=\"\",0,COUNTIF(女子名簿!$F$12:$F$520,$C620))","v":0},0]
[0,null,null,null,"",0,{"$f":"IF($C621=\"\",0,COUNTIF(男子名簿!$F$12:$F$520,$C621))","v":0},{"$f":"IF($C621=\"\",0,COUNTIF(女子名簿!$F$12:$F$520,$C621))","v":0},0]
[0,null,null,null,"",0,{"$f":"IF($C622=\"\",0,COUNTIF(男子名簿!$F$12:$F$520,$C622))","v":0},{"$f":"IF($C622=\"\",0,COUNTIF(女子名簿!$F$12:$F$520,$C622))","v":0},0]
[0,null,null,null,"",0,{"$f":"IF($C623=\"\",0,COUNTIF(男子名簿!$F$12:$F$520,$C623))","v":0},{"$f":"IF($C623=\"\",0,COUNTIF(女子名簿!$F$12:$F$520,$C623))","v":0},0]
[0,null,null,null,"",0,{"$f":"IF($C624=\"\",0,COUNTIF(男子名簿!$F$12:$F$520,$C624))","v":0},{"$f":"IF($C624=\"\",0,COUNTIF(女子名簿!$F$12:$F$520,$C624))","v":0},0]
[0,null,null,null,"",0,{"$f":"IF($C625=\"\",0,COUNTIF(男子名簿!$F$12:$F$520,$C625))","v":0},{"$f":"IF($C625=\"\",0,COUNTIF(女子名簿!$F$12:$F$520,$C625))","v":0},0]
[0,null,null,null,"",0,{"$f":"IF($C626=\"\",0,COUNTIF(男子名簿!$F$12:$F$520,$C626))","v":0},{"$f":"IF($C626=\"\",0,COUNTIF(女子名簿!$F$12:$F$520,$C626))","v":0},0]
[0,null,null,null,"",0,{"$f":"IF($C627=\"\",0,COUNTIF(男子名簿!$F$12:$F$520,$C627))","v":0},{"$f":"IF($C627=\"\",0,COUNTIF(女子名簿!$F$12:$F$520,$C627))","v":0},0]
[0,null,null,null,"",0,{"$f":"IF($C628=\"\",0,COUNTIF(男子名簿!$F$12:$F$520,$C628))","v":0},{"$f":"IF($C628=\"\",0,COUNTIF(女子名簿!$F$12:$F$520,$C628))","v":0},0]
[0,null,null,null,"",0,{"$f":"IF($C629=\"\",0,COUNTIF(男子名簿!$F$12:$F$520,$C629))","v":0},{"$f":"IF($C629=\"\",0,COUNTIF(女子名簿!$F$12:$F$520,$C629))","v":0},0]
[0,null,null,null,"",0,{"$f":"IF($C630=\"\",0,COUNTIF(男子名簿!$F$12:$F$520,$C630))","v":0},{"$f":"IF($C630=\"\",0,COUNTIF(女子名簿!$F$12:$F$520,$C630))","v":0},0]
[0,null,null,null,"",0,{"$f":"IF($C631=\"\",0,COUNTIF(男子名簿!$F$12:$F$520,$C631))","v":0},{"$f":"IF($C631=\"\",0,COUNTIF(女子名簿!$F$12:$F$520,$C631))","v":0},0]
[0,null,null,null,"",0,{"$f":"IF($C632=\"\",0,COUNTIF(男子名簿!$F$12:$F$520,$C632))","v":0},{"$f":"IF($C632=\"\",0,COUNTIF(女子名簿!$F$12:$F$520,$C632))","v":0},0]
[0,null,null,null,"",0,{"$f":"IF($C633=\"\",0,COUNTIF(男子名簿!$F$12:$F$520,$C633))","v":0},{"$f":"IF($C633=\"\",0,COUNTIF(女子名簿!$F$12:$F$520,$C633))","v":0},0]
[0,null,null,null,"",0,{"$f":"IF($C634=\"\",0,COUNTIF(男子名簿!$F$12:$F$520,$C634))","v":0},{"$f":"IF($C634=\"\",0,COUNTIF(女子名簿!$F$12:$F$520,$C634))","v":0},0]
[0,null,null,null,"",0,{"$f":"IF($C635=\"\",0,COUNTIF(男子名簿!$F$12:$F$520,$C635))","v":0},{"$f":"IF($C635=\"\",0,COUNTIF(女子名簿!$F$12:$F$520,$C635))","v":0},0]
[0,null,null,null,"",0,{"$f":"IF($C636=\"\",0,COUNTIF(男子名簿!$F$12:$F$520,$C636))","v":0},{"$f":"IF($C636=\"\",0,COUNTIF(女子名簿!$F$12:$F$520,$C636))","v":0},0]
[0,null,null,null,"",0,{"$f":"IF($C637=\"\",0,COUNTIF(男子名簿!$F$12:$F$520,$C637))","v":0},{"$f":"IF($C637=\"\",0,COUNTIF(女子名簿!$F$12:$F$520,$C637))","v":0},0]
[0,null,null,null,null,null,{"$f":"IF($C638=\"\",0,COUNTIF(男子名簿!$F$12:$F$520,$C638))","v":0},{"$f":"IF($C638=\"\",0,COUNTIF(女子名簿!$F$12:$F$520,$C638))","v":0},0]
[0,null,null,null,{"$f":"IF($C639=\"\",\"\",ASC(PHONETIC($C639)))","v":""},{"$f":"C639","v":0},{"$f":"IF($C639=\"\",0,COUNTIF(男子名簿!$F$12:$F$520,$C639))","v":0},{"$f":"IF($C639=\"\",0,COUNTIF(女子名簿!$F$12:$F$520,$C639))","v":0},0]
[0,null,null,null,"",0,{"$f":"IF($C640=\"\",0,COUNTIF(男子名簿!$F$12:$F$520,$C640))","v":0},{"$f":"IF($C640=\"\",0,COUNTIF(女子名簿!$F$12:$F$520,$C640))","v":0},0]
[0,null,null,null,"",0,{"$f":"IF($C641=\"\",0,COUNTIF(男子名簿!$F$12:$F$520,$C641))","v":0},{"$f":"IF($C641=\"\",0,COUNTIF(女子名簿!$F$12:$F$520,$C641))","v":0},0]
[0,null,null,null,"",0,{"$f":"IF($C642=\"\",0,COUNTIF(男子名簿!$F$12:$F$520,$C642))","v":0},{"$f":"IF($C642=\"\",0,COUNTIF(女子名簿!$F$12:$F$520,$C642))","v":0},0]
[0,null,null,null,"",0,{"$f":"IF($C643=\"\",0,COUNTIF(男子名簿!$F$12:$F$520,$C643))","v":0},{"$f":"IF($C643=\"\",0,COUNTIF(女子名簿!$F$12:$F$520,$C643))","v":0},0]
[0,null,null,null,"",0,{"$f":"IF($C644=\"\",0,COUNTIF(男子名簿!$F$12:$F$520,$C644))","v":0},{"$f":"IF($C644=\"\",0,COUNTIF(女子名簿!$F$12:$F$520,$C644))","v":0},0]
[0,null,null,null,"",0,{"$f":"IF($C645=\"\",0,COUNTIF(男子名簿!$F$12:$F$520,$C645))","v":0},{"$f":"IF($C645=\"\",0,COUNTIF(女子名簿!$F$12:$F$520,$C645))","v":0},0]
[0,null,null,null,"",0,{"$f":"IF($C646=\"\",0,COUNTIF(男子名簿!$F$12:$F$520,$C646))","v":0},{"$f":"IF($C646=\"\",0,COUNTIF(女子名簿!$F$12:$F$520,$C646))","v":0},0]
[0,null,null,null,"",0,{"$f":"IF($C647=\"\",0,COUNTIF(男子名簿!$F$12:$F$520,$C647))","v":0},{"$f":"IF($C647=\"\",0,COUNTIF(女子名簿!$F$12:$F$520,$C647))","v":0},0]
[0,null,null,null,"",0,{"$f":"IF($C648=\"\",0,COUNTIF(男子名簿!$F$12:$F$520,$C648))","v":0},{"$f":"IF($C648=\"\",0,COUNTIF(女子名簿!$F$12:$F$520,$C648))","v":0},0]
[0,null,null,null,"",0,{"$f":"IF($C649=\"\",0,COUNTIF(男子名簿!$F$12:$F$520,$C649))","v":0},{"$f":"IF($C649=\"\",0,COUNTIF(女子名簿!$F$12:$F$520,$C649))","v":0},0]
[0,null,null,null,"",0,{"$f":"IF($C650=\"\",0,COUNTIF(男子名簿!$F$12:$F$520,$C650))","v":0},{"$f":"IF($C650=\"\",0,COUNTIF(女子名簿!$F$12:$F$520,$C650))","v":0},0]
[0,null,null,null,"",0,{"$f":"IF($C651=\"\",0,COUNTIF(男子名簿!$F$12:$F$520,$C651))","v":0},{"$f":"IF($C651=\"\",0,COUNTIF(女子名簿!$F$12:$F$520,$C651))","v":0},0]
[0,null,null,null,"",0,{"$f":"IF($C652=\"\",0,COUNTIF(男子名簿!$F$12:$F$520,$C652))","v":0},{"$f":"IF($C652=\"\",0,COUNTIF(女子名簿!$F$12:$F$520,$C652))","v":0},0]
[0,null,null,null,"",0,{"$f":"IF($C653=\"\",0,COUNTIF(男子名簿!$F$12:$F$520,$C653))","v":0},{"$f":"IF($C653=\"\",0,COUNTIF(女子名簿!$F$12:$F$520,$C653))","v":0},0]
[0,null,null,null,"",0,{"$f":"IF($C654=\"\",0,COUNTIF(男子名簿!$F$12:$F$520,$C654))","v":0},{"$f":"IF($C654=\"\",0,COUNTIF(女子名簿!$F$12:$F$520,$C654))","v":0},0]
[0,null,null,null,"",0,{"$f":"IF($C655=\"\",0,COUNTIF(男子名簿!$F$12:$F$520,$C655))","v":0},{"$f":"IF($C655=\"\",0,COUNTIF(女子名簿!$F$12:$F$520,$C655))","v":0},0]
[0,null,null,null,"",0,{"$f":"IF($C656=\"\",0,COUNTIF(男子名簿!$F$12:$F$520,$C656))","v":0},{"$f":"IF($C656=\"\",0,COUNTIF(女子名簿!$F$12:$F$520,$C656))","v":0},0]
[0,null,null,null,"",0,{"$f":"IF($C657=\"\",0,COUNTIF(男子名簿!$F$12:$F$520,$C657))","v":0},{"$f":"IF($C657=\"\",0,COUNTIF(女子名簿!$F$12:$F$520,$C657))","v":0},0]
[0,null,null,null,null,null,{"$f":"IF($C658=\"\",0,COUNTIF(男子名簿!$F$12:$F$520,$C658))","v":0},{"$f":"IF($C658=\"\",0,COUNTIF(女子名簿!$F$12:$F$520,$C658))","v":0},0]
[0,null,null,null,{"$f":"IF($C659=\"\",\"\",ASC(PHONETIC($C659)))","v":""},{"$f":"C659","v":0},{"$f":"IF($C659=\"\",0,COUNTIF(男子名簿!$F$12:$F$520,$C659))","v":0},{"$f":"IF($C659=\"\",0,COUNTIF(女子名簿!$F$12:$F$520,$C659))","v":0},0]
[0,null,null,null,"",0,{"$f":"IF($C660=\"\",0,COUNTIF(男子名簿!$F$12:$F$520,$C660))","v":0},{"$f":"IF($C660=\"\",0,COUNTIF(女子名簿!$F$12:$F$520,$C660))","v":0},0]
[0,null,null,null,"",0,{"$f":"IF($C661=\"\",0,COUNTIF(男子名簿!$F$12:$F$520,$C661))","v":0},{"$f":"IF($C661=\"\",0,COUNTIF(女子名簿!$F$12:$F$520,$C661))","v":0},0]
[0,null,null,null,"",0,{"$f":"IF($C662=\"\",0,COUNTIF(男子名簿!$F$12:$F$520,$C662))","v":0},{"$f":"IF($C662=\"\",0,COUNTIF(女子名簿!$F$12:$F$520,$C662))","v":0},0]
[0,null,null,null,"",0,{"$f":"IF($C663=\"\",0,COUNTIF(男子名簿!$F$12:$F$520,$C663))","v":0},{"$f":"IF($C663=\"\",0,COUNTIF(女子名簿!$F$12:$F$520,$C663))","v":0},0]
[0,null,null,null,"",0,{"$f":"IF($C664=\"\",0,COUNTIF(男子名簿!$F$12:$F$520,$C664))","v":0},{"$f":"IF($C664=\"\",0,COUNTIF(女子名簿!$F$12:$F$520,$C664))","v":0},0]
[0,null,null,null,"",0,{"$f":"IF($C665=\"\",0,COUNTIF(男子名簿!$F$12:$F$520,$C665))","v":0},{"$f":"IF($C665=\"\",0,COUNTIF(女子名簿!$F$12:$F$520,$C665))","v":0},0]
[0,null,null,null,"",0,{"$f":"IF($C666=\"\",0,COUNTIF(男子名簿!$F$12:$F$520,$C666))","v":0},{"$f":"IF($C666=\"\",0,COUNTIF(女子名簿!$F$12:$F$520,$C666))","v":0},0]
[0,null,null,null,"",0,{"$f":"IF($C667=\"\",0,COUNTIF(男子名簿!$F$12:$F$520,$C667))","v":0},{"$f":"IF($C667=\"\",0,COUNTIF(女子名簿!$F$12:$F$520,$C667))","v":0},0]
[0,null,null,null,"",0,{"$f":"IF($C668=\"\",0,COUNTIF(男子名簿!$F$12:$F$520,$C668))","v":0},{"$f":"IF($C668=\"\",0,COUNTIF(女子名簿!$F$12:$F$520,$C668))","v":0},0]
[0,null,null,null,"",0,{"$f":"IF($C669=\"\",0,COUNTIF(男子名簿!$F$12:$F$520,$C669))","v":0},{"$f":"IF($C669=\"\",0,COUNTIF(女子名簿!$F$12:$F$520,$C669))","v":0},0]
[0,null,null,null,"",0,{"$f":"IF($C670=\"\",0,COUNTIF(男子名簿!$F$12:$F$520,$C670))","v":0},{"$f":"IF($C670=\"\",0,COUNTIF(女子名簿!$F$12:$F$520,$C670))","v":0},0]
[0,null,null,null,"",0,{"$f":"IF($C671=\"\",0,COUNTIF(男子名簿!$F$12:$F$520,$C671))","v":0},{"$f":"IF($C671=\"\",0,COUNTIF(女子名簿!$F$12:$F$520,$C671))","v":0},0]
[0,null,null,null,"",0,{"$f":"IF($C672=\"\",0,COUNTIF(男子名簿!$F$12:$F$520,$C672))","v":0},{"$f":"IF($C672=\"\",0,COUNTIF(女子名簿!$F$12:$F$520,$C672))","v":0},0]
[0,null,null,null,"",0,{"$f":"IF($C673=\"\",0,COUNTIF(男子名簿!$F$12:$F$520,$C673))","v":0},{"$f":"IF($C673=\"\",0,COUNTIF(女子名簿!$F$12:$F$520,$C673))","v":0},0]
[0,null,null,null,"",0,{"$f":"IF($C674=\"\",0,COUNTIF(男子名簿!$F$12:$F$520,$C674))","v":0},{"$f":"IF($C674=\"\",0,COUNTIF(女子名簿!$F$12:$F$520,$C674))","v":0},0]
[0,null,null,null,"",0,{"$f":"IF($C675=\"\",0,COUNTIF(男子名簿!$F$12:$F$520,$C675))","v":0},{"$f":"IF($C675=\"\",0,COUNTIF(女子名簿!$F$12:$F$520,$C675))","v":0},0]
[0,null,null,null,"",0,{"$f":"IF($C676=\"\",0,COUNTIF(男子名簿!$F$12:$F$520,$C676))","v":0},{"$f":"IF($C676=\"\",0,COUNTIF(女子名簿!$F$12:$F$520,$C676))","v":0},0]
[0,null,null,null,"",0,{"$f":"IF($C677=\"\",0,COUNTIF(男子名簿!$F$12:$F$520,$C677))","v":0},{"$f":"IF($C677=\"\",0,COUNTIF(女子名簿!$F$12:$F$520,$C677))","v":0},0]
[0,null,null,null,null,null,{"$f":"IF($C678=\"\",0,COUNTIF(男子名簿!$F$12:$F$520,$C678))","v":0},{"$f":"IF($C678=\"\",0,COUNTIF(女子名簿!$F$12:$F$520,$C678))","v":0},0]
[0,null,null,null,{"$f":"IF($C679=\"\",\"\",ASC(PHONETIC($C679)))","v":""},{"$f":"C679","v":0},{"$f":"IF($C679=\"\",0,COUNTIF(男子名簿!$F$12:$F$520,$C679))","v":0},{"$f":"IF($C679=\"\",0,COUNTIF(女子名簿!$F$12:$F$520,$C679))","v":0},0]
[0,null,null,null,"",0,{"$f":"IF($C680=\"\",0,COUNTIF(男子名簿!$F$12:$F$520,$C680))","v":0},{"$f":"IF($C680=\"\",0,COUNTIF(女子名簿!$F$12:$F$520,$C680))","v":0},0]
[0,null,null,null,"",0,{"$f":"IF($C681=\"\",0,COUNTIF(男子名簿!$F$12:$F$520,$C681))","v":0},{"$f":"IF($C681=\"\",0,COUNTIF(女子名簿!$F$12:$F$520,$C681))","v":0},0]
[0,null,null,null,"",0,{"$f":"IF($C682=\"\",0,COUNTIF(男子名簿!$F$12:$F$520,$C682))","v":0},{"$f":"IF($C682=\"\",0,COUNTIF(女子名簿!$F$12:$F$520,$C682))","v":0},0]
[0,null,null,null,"",0,{"$f":"IF($C683=\"\",0,COUNTIF(男子名簿!$F$12:$F$520,$C683))","v":0},{"$f":"IF($C683=\"\",0,COUNTIF(女子名簿!$F$12:$F$520,$C683))","v":0},0]
[0,null,null,null,"",0,{"$f":"IF($C684=\"\",0,COUNTIF(男子名簿!$F$12:$F$520,$C684))","v":0},{"$f":"IF($C684=\"\",0,COUNTIF(女子名簿!$F$12:$F$520,$C684))","v":0},0]
[0,null,null,null,"",0,{"$f":"IF($C685=\"\",0,COUNTIF(男子名簿!$F$12:$F$520,$C685))","v":0},{"$f":"IF($C685=\"\",0,COUNTIF(女子名簿!$F$12:$F$520,$C685))","v":0},0]
[0,null,null,null,"",0,{"$f":"IF($C686=\"\",0,COUNTIF(男子名簿!$F$12:$F$520,$C686))","v":0},{"$f":"IF($C686=\"\",0,COUNTIF(女子名簿!$F$12:$F$520,$C686))","v":0},0]
[0,null,null,null,"",0,{"$f":"IF($C687=\"\",0,COUNTIF(男子名簿!$F$12:$F$520,$C687))","v":0},{"$f":"IF($C687=\"\",0,COUNTIF(女子名簿!$F$12:$F$520,$C687))","v":0},0]
[0,null,null,null,"",0,{"$f":"IF($C688=\"\",0,COUNTIF(男子名簿!$F$12:$F$520,$C688))","v":0},{"$f":"IF($C688=\"\",0,COUNTIF(女子名簿!$F$12:$F$520,$C688))","v":0},0]
[0,null,null,null,"",0,{"$f":"IF($C689=\"\",0,COUNTIF(男子名簿!$F$12:$F$520,$C689))","v":0},{"$f":"IF($C689=\"\",0,COUNTIF(女子名簿!$F$12:$F$520,$C689))","v":0},0]
[0,null,null,null,"",0,{"$f":"IF($C690=\"\",0,COUNTIF(男子名簿!$F$12:$F$520,$C690))","v":0},{"$f":"IF($C690=\"\",0,COUNTIF(女子名簿!$F$12:$F$520,$C690))","v":0},0]
[0,null,null,null,"",0,{"$f":"IF($C691=\"\",0,COUNTIF(男子名簿!$F$12:$F$520,$C691))","v":0},{"$f":"IF($C691=\"\",0,COUNTIF(女子名簿!$F$12:$F$520,$C691))","v":0},0]
[0,null,null,null,"",0,{"$f":"IF($C692=\"\",0,COUNTIF(男子名簿!$F$12:$F$520,$C692))","v":0},{"$f":"IF($C692=\"\",0,COUNTIF(女子名簿!$F$12:$F$520,$C692))","v":0},0]
[0,null,null,null,"",0,{"$f":"IF($C693=\"\",0,COUNTIF(男子名簿!$F$12:$F$520,$C693))","v":0},{"$f":"IF($C693=\"\",0,COUNTIF(女子名簿!$F$12:$F$520,$C693))","v":0},0]
[0,null,null,null,"",0,{"$f":"IF($C694=\"\",0,COUNTIF(男子名簿!$F$12:$F$520,$C694))","v":0},{"$f":"IF($C694=\"\",0,COUNTIF(女子名簿!$F$12:$F$520,$C694))","v":0},0]
[0,null,null,null,"",0,{"$f":"IF($C695=\"\",0,COUNTIF(男子名簿!$F$12:$F$520,$C695))","v":0},{"$f":"IF($C695=\"\",0,COUNTIF(女子名簿!$F$12:$F$520,$C695))","v":0},0]
[0,null,null,null,"",0,{"$f":"IF($C696=\"\",0,COUNTIF(男子名簿!$F$12:$F$520,$C696))","v":0},{"$f":"IF($C696=\"\",0,COUNTIF(女子名簿!$F$12:$F$520,$C696))","v":0},0]
[0,null,null,null,"",0,{"$f":"IF($C697=\"\",0,COUNTIF(男子名簿!$F$12:$F$520,$C697))","v":0},{"$f":"IF($C697=\"\",0,COUNTIF(女子名簿!$F$12:$F$520,$C697))","v":0},0]
[0,null,null,null,null,null,{"$f":"IF($C698=\"\",0,COUNTIF(男子名簿!$F$12:$F$520,$C698))","v":0},{"$f":"IF($C698=\"\",0,COUNTIF(女子名簿!$F$12:$F$520,$C698))","v":0},0]
[0,null,null,null,{"$f":"IF($C699=\"\",\"\",ASC(PHONETIC($C699)))","v":""},{"$f":"C699","v":0},{"$f":"IF($C699=\"\",0,COUNTIF(男子名簿!$F$12:$F$520,$C699))","v":0},{"$f":"IF($C699=\"\",0,COUNTIF(女子名簿!$F$12:$F$520,$C699))","v":0},0]
[0,null,null,null,"",0,{"$f":"IF($C700=\"\",0,COUNTIF(男子名簿!$F$12:$F$520,$C700))","v":0},{"$f":"IF($C700=\"\",0,COUNTIF(女子名簿!$F$12:$F$520,$C700))","v":0},0]
[0,null,null,null,"",0,{"$f":"IF($C701=\"\",0,COUNTIF(男子名簿!$F$12:$F$520,$C701))","v":0},{"$f":"IF($C701=\"\",0,COUNTIF(女子名簿!$F$12:$F$520,$C701))","v":0},0]
[0,null,null,null,"",0,{"$f":"IF($C702=\"\",0,COUNTIF(男子名簿!$F$12:$F$520,$C702))","v":0},{"$f":"IF($C702=\"\",0,COUNTIF(女子名簿!$F$12:$F$520,$C702))","v":0},0]
[0,null,null,null,"",0,{"$f":"IF($C703=\"\",0,COUNTIF(男子名簿!$F$12:$F$520,$C703))","v":0},{"$f":"IF($C703=\"\",0,COUNTIF(女子名簿!$F$12:$F$520,$C703))","v":0},0]
[0,null,null,null,"",0,{"$f":"IF($C704=\"\",0,COUNTIF(男子名簿!$F$12:$F$520,$C704))","v":0},{"$f":"IF($C704=\"\",0,COUNTIF(女子名簿!$F$12:$F$520,$C704))","v":0},0]
[0,null,null,null,"",0,{"$f":"IF($C705=\"\",0,COUNTIF(男子名簿!$F$12:$F$520,$C705))","v":0},{"$f":"IF($C705=\"\",0,COUNTIF(女子名簿!$F$12:$F$520,$C705))","v":0},0]
[0,null,null,null,"",0,{"$f":"IF($C706=\"\",0,COUNTIF(男子名簿!$F$12:$F$520,$C706))","v":0},{"$f":"IF($C706=\"\",0,COUNTIF(女子名簿!$F$12:$F$520,$C706))","v":0},0]
[0,null,null,null,"",0,{"$f":"IF($C707=\"\",0,COUNTIF(男子名簿!$F$12:$F$520,$C707))","v":0},{"$f":"IF($C707=\"\",0,COUNTIF(女子名簿!$F$12:$F$520,$C707))","v":0},0]
[0,null,null,null,"",0,{"$f":"IF($C708=\"\",0,COUNTIF(男子名簿!$F$12:$F$520,$C708))","v":0},{"$f":"IF($C708=\"\",0,COUNTIF(女子名簿!$F$12:$F$520,$C708))","v":0},0]
[0,null,null,null,"",0,{"$f":"IF($C709=\"\",0,COUNTIF(男子名簿!$F$12:$F$520,$C709))","v":0},{"$f":"IF($C709=\"\",0,COUNTIF(女子名簿!$F$12:$F$520,$C709))","v":0},0]
[0,null,null,null,"",0,{"$f":"IF($C710=\"\",0,COUNTIF(男子名簿!$F$12:$F$520,$C710))","v":0},{"$f":"IF($C710=\"\",0,COUNTIF(女子名簿!$F$12:$F$520,$C710))","v":0},0]
[0,null,null,null,"",0,{"$f":"IF($C711=\"\",0,COUNTIF(男子名簿!$F$12:$F$520,$C711))","v":0},{"$f":"IF($C711=\"\",0,COUNTIF(女子名簿!$F$12:$F$520,$C711))","v":0},0]
[0,null,null,null,"",0,{"$f":"IF($C712=\"\",0,COUNTIF(男子名簿!$F$12:$F$520,$C712))","v":0},{"$f":"IF($C712=\"\",0,COUNTIF(女子名簿!$F$12:$F$520,$C712))","v":0},0]
[0,null,null,null,"",0,{"$f":"IF($C713=\"\",0,COUNTIF(男子名簿!$F$12:$F$520,$C713))","v":0},{"$f":"IF($C713=\"\",0,COUNTIF(女子名簿!$F$12:$F$520,$C713))","v":0},0]
[0,null,null,null,"",0,{"$f":"IF($C714=\"\",0,COUNTIF(男子名簿!$F$12:$F$520,$C714))","v":0},{"$f":"IF($C714=\"\",0,COUNTIF(女子名簿!$F$12:$F$520,$C714))","v":0},0]
[0,null,null,null,"",0,{"$f":"IF($C715=\"\",0,COUNTIF(男子名簿!$F$12:$F$520,$C715))","v":0},{"$f":"IF($C715=\"\",0,COUNTIF(女子名簿!$F$12:$F$520,$C715))","v":0},0]
[0,null,null,null,"",0,{"$f":"IF($C716=\"\",0,COUNTIF(男子名簿!$F$12:$F$520,$C716))","v":0},{"$f":"IF($C716=\"\",0,COUNTIF(女子名簿!$F$12:$F$520,$C716))","v":0},0]
[0,null,null,null,"",0,{"$f":"IF($C717=\"\",0,COUNTIF(男子名簿!$F$12:$F$520,$C717))","v":0},{"$f":"IF($C717=\"\",0,COUNTIF(女子名簿!$F$12:$F$520,$C717))","v":0},0]
[0,null,null,null,null,null,{"$f":"IF($C718=\"\",0,COUNTIF(男子名簿!$F$12:$F$520,$C718))","v":0},{"$f":"IF($C718=\"\",0,COUNTIF(女子名簿!$F$12:$F$520,$C718))","v":0},0]
[0,null,null,null,{"$f":"IF($C719=\"\",\"\",ASC(PHONETIC($C719)))","v":""},{"$f":"C719","v":0},{"$f":"IF($C719=\"\",0,COUNTIF(男子名簿!$F$12:$F$520,$C719))","v":0},{"$f":"IF($C719=\"\",0,COUNTIF(女子名簿!$F$12:$F$520,$C719))","v":0},0]
[0,null,null,null,"",0,{"$f":"IF($C720=\"\",0,COUNTIF(男子名簿!$F$12:$F$520,$C720))","v":0},{"$f":"IF($C720=\"\",0,COUNTIF(女子名簿!$F$12:$F$520,$C720))","v":0},0]
[0,null,null,null,"",0,{"$f":"IF($C721=\"\",0,COUNTIF(男子名簿!$F$12:$F$520,$C721))","v":0},{"$f":"IF($C721=\"\",0,COUNTIF(女子名簿!$F$12:$F$520,$C721))","v":0},0]
[0,null,null,null,"",0,{"$f":"IF($C722=\"\",0,COUNTIF(男子名簿!$F$12:$F$520,$C722))","v":0},{"$f":"IF($C722=\"\",0,COUNTIF(女子名簿!$F$12:$F$520,$C722))","v":0},0]
[0,null,null,null,"",0,{"$f":"IF($C723=\"\",0,COUNTIF(男子名簿!$F$12:$F$520,$C723))","v":0},{"$f":"IF($C723=\"\",0,COUNTIF(女子名簿!$F$12:$F$520,$C723))","v":0},0]
[0,null,null,null,"",0,{"$f":"IF($C724=\"\",0,COUNTIF(男子名簿!$F$12:$F$520,$C724))","v":0},{"$f":"IF($C724=\"\",0,COUNTIF(女子名簿!$F$12:$F$520,$C724))","v":0},0]
[0,null,null,null,"",0,{"$f":"IF($C725=\"\",0,COUNTIF(男子名簿!$F$12:$F$520,$C725))","v":0},{"$f":"IF($C725=\"\",0,COUNTIF(女子名簿!$F$12:$F$520,$C725))","v":0},0]
[0,null,null,null,"",0,{"$f":"IF($C726=\"\",0,COUNTIF(男子名簿!$F$12:$F$520,$C726))","v":0},{"$f":"IF($C726=\"\",0,COUNTIF(女子名簿!$F$12:$F$520,$C726))","v":0},0]
[0,null,null,null,"",0,{"$f":"IF($C727=\"\",0,COUNTIF(男子名簿!$F$12:$F$520,$C727))","v":0},{"$f":"IF($C727=\"\",0,COUNTIF(女子名簿!$F$12:$F$520,$C727))","v":0},0]
[0,null,null,null,"",0,{"$f":"IF($C728=\"\",0,COUNTIF(男子名簿!$F$12:$F$520,$C728))","v":0},{"$f":"IF($C728=\"\",0,COUNTIF(女子名簿!$F$12:$F$520,$C728))","v":0},0]
[0,null,null,null,"",0,{"$f":"IF($C729=\"\",0,COUNTIF(男子名簿!$F$12:$F$520,$C729))","v":0},{"$f":"IF($C729=\"\",0,COUNTIF(女子名簿!$F$12:$F$520,$C729))","v":0},0]
[0,null,null,null,"",0,{"$f":"IF($C730=\"\",0,COUNTIF(男子名簿!$F$12:$F$520,$C730))","v":0},{"$f":"IF($C730=\"\",0,COUNTIF(女子名簿!$F$12:$F$520,$C730))","v":0},0]
[0,null,null,null,"",0,{"$f":"IF($C731=\"\",0,COUNTIF(男子名簿!$F$12:$F$520,$C731))","v":0},{"$f":"IF($C731=\"\",0,COUNTIF(女子名簿!$F$12:$F$520,$C731))","v":0},0]
[0,null,null,null,"",0,{"$f":"IF($C732=\"\",0,COUNTIF(男子名簿!$F$12:$F$520,$C732))","v":0},{"$f":"IF($C732=\"\",0,COUNTIF(女子名簿!$F$12:$F$520,$C732))","v":0},0]
[0,null,null,null,"",0,{"$f":"IF($C733=\"\",0,COUNTIF(男子名簿!$F$12:$F$520,$C733))","v":0},{"$f":"IF($C733=\"\",0,COUNTIF(女子名簿!$F$12:$F$520,$C733))","v":0},0]
[0,null,null,null,"",0,{"$f":"IF($C734=\"\",0,COUNTIF(男子名簿!$F$12:$F$520,$C734))","v":0},{"$f":"IF($C734=\"\",0,COUNTIF(女子名簿!$F$12:$F$520,$C734))","v":0},0]
[0,null,null,null,"",0,{"$f":"IF($C735=\"\",0,COUNTIF(男子名簿!$F$12:$F$520,$C735))","v":0},{"$f":"IF($C735=\"\",0,COUNTIF(女子名簿!$F$12:$F$520,$C735))","v":0},0]
[0,null,null,null,"",0,{"$f":"IF($C736=\"\",0,COUNTIF(男子名簿!$F$12:$F$520,$C736))","v":0},{"$f":"IF($C736=\"\",0,COUNTIF(女子名簿!$F$12:$F$520,$C736))","v":0},0]
[0,null,null,null,"",0,{"$f":"IF($C737=\"\",0,COUNTIF(男子名簿!$F$12:$F$520,$C737))","v":0},{"$f":"IF($C737=\"\",0,COUNTIF(女子名簿!$F$12:$F$520,$C737))","v":0},0]
[0,null,null,null,null,null,{"$f":"IF($C738=\"\",0,COUNTIF(男子名簿!$F$12:$F$520,$C738))","v":0},{"$f":"IF($C738=\"\",0,COUNTIF(女子名簿!$F$12:$F$520,$C738))","v":0},0]
[0,null,null,null,{"$f":"IF($C739=\"\",\"\",ASC(PHONETIC($C739)))","v":""},{"$f":"C739","v":0},{"$f":"IF($C739=\"\",0,COUNTIF(男子名簿!$F$12:$F$520,$C739))","v":0},{"$f":"IF($C739=\"\",0,COUNTIF(女子名簿!$F$12:$F$520,$C739))","v":0},0]
[0,null,null,null,"",0,{"$f":"IF($C740=\"\",0,COUNTIF(男子名簿!$F$12:$F$520,$C740))","v":0},{"$f":"IF($C740=\"\",0,COUNTIF(女子名簿!$F$12:$F$520,$C740))","v":0},0]
[0,null,null,null,"",0,{"$f":"IF($C741=\"\",0,COUNTIF(男子名簿!$F$12:$F$520,$C741))","v":0},{"$f":"IF($C741=\"\",0,COUNTIF(女子名簿!$F$12:$F$520,$C741))","v":0},0]
[0,null,null,null,"",0,{"$f":"IF($C742=\"\",0,COUNTIF(男子名簿!$F$12:$F$520,$C742))","v":0},{"$f":"IF($C742=\"\",0,COUNTIF(女子名簿!$F$12:$F$520,$C742))","v":0},0]
[0,null,null,null,"",0,{"$f":"IF($C743=\"\",0,COUNTIF(男子名簿!$F$12:$F$520,$C743))","v":0},{"$f":"IF($C743=\"\",0,COUNTIF(女子名簿!$F$12:$F$520,$C743))","v":0},0]
[0,null,null,null,"",0,{"$f":"IF($C744=\"\",0,COUNTIF(男子名簿!$F$12:$F$520,$C744))","v":0},{"$f":"IF($C744=\"\",0,COUNTIF(女子名簿!$F$12:$F$520,$C744))","v":0},0]
[0,null,null,null,"",0,{"$f":"IF($C745=\"\",0,COUNTIF(男子名簿!$F$12:$F$520,$C745))","v":0},{"$f":"IF($C745=\"\",0,COUNTIF(女子名簿!$F$12:$F$520,$C745))","v":0},0]
[0,null,null,null,"",0,{"$f":"IF($C746=\"\",0,COUNTIF(男子名簿!$F$12:$F$520,$C746))","v":0},{"$f":"IF($C746=\"\",0,COUNTIF(女子名簿!$F$12:$F$520,$C746))","v":0},0]
[0,null,null,null,"",0,{"$f":"IF($C747=\"\",0,COUNTIF(男子名簿!$F$12:$F$520,$C747))","v":0},{"$f":"IF($C747=\"\",0,COUNTIF(女子名簿!$F$12:$F$520,$C747))","v":0},0]
[0,null,null,null,"",0,{"$f":"IF($C748=\"\",0,COUNTIF(男子名簿!$F$12:$F$520,$C748))","v":0},{"$f":"IF($C748=\"\",0,COUNTIF(女子名簿!$F$12:$F$520,$C748))","v":0},0]
[0,null,null,null,"",0,{"$f":"IF($C749=\"\",0,COUNTIF(男子名簿!$F$12:$F$520,$C749))","v":0},{"$f":"IF($C749=\"\",0,COUNTIF(女子名簿!$F$12:$F$520,$C749))","v":0},0]
[0,null,null,null,"",0,{"$f":"IF($C750=\"\",0,COUNTIF(男子名簿!$F$12:$F$520,$C750))","v":0},{"$f":"IF($C750=\"\",0,COUNTIF(女子名簿!$F$12:$F$520,$C750))","v":0},0]
[0,null,null,null,"",0,{"$f":"IF($C751=\"\",0,COUNTIF(男子名簿!$F$12:$F$520,$C751))","v":0},{"$f":"IF($C751=\"\",0,COUNTIF(女子名簿!$F$12:$F$520,$C751))","v":0},0]
[0,null,null,null,"",0,{"$f":"IF($C752=\"\",0,COUNTIF(男子名簿!$F$12:$F$520,$C752))","v":0},{"$f":"IF($C752=\"\",0,COUNTIF(女子名簿!$F$12:$F$520,$C752))","v":0},0]
[0,null,null,null,"",0,{"$f":"IF($C753=\"\",0,COUNTIF(男子名簿!$F$12:$F$520,$C753))","v":0},{"$f":"IF($C753=\"\",0,COUNTIF(女子名簿!$F$12:$F$520,$C753))","v":0},0]
[0,null,null,null,"",0,{"$f":"IF($C754=\"\",0,COUNTIF(男子名簿!$F$12:$F$520,$C754))","v":0},{"$f":"IF($C754=\"\",0,COUNTIF(女子名簿!$F$12:$F$520,$C754))","v":0},0]
[0,null,null,null,"",0,{"$f":"IF($C755=\"\",0,COUNTIF(男子名簿!$F$12:$F$520,$C755))","v":0},{"$f":"IF($C755=\"\",0,COUNTIF(女子名簿!$F$12:$F$520,$C755))","v":0},0]
[0,null,null,null,"",0,{"$f":"IF($C756=\"\",0,COUNTIF(男子名簿!$F$12:$F$520,$C756))","v":0},{"$f":"IF($C756=\"\",0,COUNTIF(女子名簿!$F$12:$F$520,$C756))","v":0},0]
[0,null,null,null,"",0,{"$f":"IF($C757=\"\",0,COUNTIF(男子名簿!$F$12:$F$520,$C757))","v":0},{"$f":"IF($C757=\"\",0,COUNTIF(女子名簿!$F$12:$F$520,$C757))","v":0},0]
[0,null,null,null,null,null,{"$f":"IF($C758=\"\",0,COUNTIF(男子名簿!$F$12:$F$520,$C758))","v":0},{"$f":"IF($C758=\"\",0,COUNTIF(女子名簿!$F$12:$F$520,$C758))","v":0},0]
[0,null,null,null,{"$f":"IF($C759=\"\",\"\",ASC(PHONETIC($C759)))","v":""},{"$f":"C759","v":0},{"$f":"IF($C759=\"\",0,COUNTIF(男子名簿!$F$12:$F$520,$C759))","v":0},{"$f":"IF($C759=\"\",0,COUNTIF(女子名簿!$F$12:$F$520,$C759))","v":0},0]
[0,null,null,null,"",0,{"$f":"IF($C760=\"\",0,COUNTIF(男子名簿!$F$12:$F$520,$C760))","v":0},{"$f":"IF($C760=\"\",0,COUNTIF(女子名簿!$F$12:$F$520,$C760))","v":0},0]
[0,null,null,null,"",0,{"$f":"IF($C761=\"\",0,COUNTIF(男子名簿!$F$12:$F$520,$C761))","v":0},{"$f":"IF($C761=\"\",0,COUNTIF(女子名簿!$F$12:$F$520,$C761))","v":0},0]
[0,null,null,null,"",0,{"$f":"IF($C762=\"\",0,COUNTIF(男子名簿!$F$12:$F$520,$C762))","v":0},{"$f":"IF($C762=\"\",0,COUNTIF(女子名簿!$F$12:$F$520,$C762))","v":0},{"$f":"G762+H762","v":0}]
[0,null,null,null,"",0,{"$f":"IF($C763=\"\",0,COUNTIF(男子名簿!$F$12:$F$520,$C763))","v":0},{"$f":"IF($C763=\"\",0,COUNTIF(女子名簿!$F$12:$F$520,$C763))","v":0},0]
[0,null,null,null,"",0,{"$f":"IF($C764=\"\",0,COUNTIF(男子名簿!$F$12:$F$520,$C764))","v":0},{"$f":"IF($C764=\"\",0,COUNTIF(女子名簿!$F$12:$F$520,$C764))","v":0},0]
[0,null,null,null,"",0,{"$f":"IF($C765=\"\",0,COUNTIF(男子名簿!$F$12:$F$520,$C765))","v":0},{"$f":"IF($C765=\"\",0,COUNTIF(女子名簿!$F$12:$F$520,$C765))","v":0},0]
[0,null,null,null,"",0,{"$f":"IF($C766=\"\",0,COUNTIF(男子名簿!$F$12:$F$520,$C766))","v":0},{"$f":"IF($C766=\"\",0,COUNTIF(女子名簿!$F$12:$F$520,$C766))","v":0},0]
[0,null,null,null,"",0,{"$f":"IF($C767=\"\",0,COUNTIF(男子名簿!$F$12:$F$520,$C767))","v":0},{"$f":"IF($C767=\"\",0,COUNTIF(女子名簿!$F$12:$F$520,$C767))","v":0},0]
[0,null,null,null,"",0,{"$f":"IF($C768=\"\",0,COUNTIF(男子名簿!$F$12:$F$520,$C768))","v":0},{"$f":"IF($C768=\"\",0,COUNTIF(女子名簿!$F$12:$F$520,$C768))","v":0},0]
[0,null,null,null,"",0,{"$f":"IF($C769=\"\",0,COUNTIF(男子名簿!$F$12:$F$520,$C769))","v":0},{"$f":"IF($C769=\"\",0,COUNTIF(女子名簿!$F$12:$F$520,$C769))","v":0},0]
[0,null,null,null,"",0,{"$f":"IF($C770=\"\",0,COUNTIF(男子名簿!$F$12:$F$520,$C770))","v":0},{"$f":"IF($C770=\"\",0,COUNTIF(女子名簿!$F$12:$F$520,$C770))","v":0},0]
[0,null,null,null,"",0,{"$f":"IF($C771=\"\",0,COUNTIF(男子名簿!$F$12:$F$520,$C771))","v":0},{"$f":"IF($C771=\"\",0,COUNTIF(女子名簿!$F$12:$F$520,$C771))","v":0},0]
[0,null,null,null,"",0,{"$f":"IF($C772=\"\",0,COUNTIF(男子名簿!$F$12:$F$520,$C772))","v":0},{"$f":"IF($C772=\"\",0,COUNTIF(女子名簿!$F$12:$F$520,$C772))","v":0},0]
[0,null,null,null,"",0,{"$f":"IF($C773=\"\",0,COUNTIF(男子名簿!$F$12:$F$520,$C773))","v":0},{"$f":"IF($C773=\"\",0,COUNTIF(女子名簿!$F$12:$F$520,$C773))","v":0},0]
[0,null,null,null,"",0,{"$f":"IF($C774=\"\",0,COUNTIF(男子名簿!$F$12:$F$520,$C774))","v":0},{"$f":"IF($C774=\"\",0,COUNTIF(女子名簿!$F$12:$F$520,$C774))","v":0},0]
[0,null,null,null,"",0,{"$f":"IF($C775=\"\",0,COUNTIF(男子名簿!$F$12:$F$520,$C775))","v":0},{"$f":"IF($C775=\"\",0,COUNTIF(女子名簿!$F$12:$F$520,$C775))","v":0},0]
[0,null,null,null,"",0,{"$f":"IF($C776=\"\",0,COUNTIF(男子名簿!$F$12:$F$520,$C776))","v":0},{"$f":"IF($C776=\"\",0,COUNTIF(女子名簿!$F$12:$F$520,$C776))","v":0},0]
[0,null,null,null,"",0,{"$f":"IF($C777=\"\",0,COUNTIF(男子名簿!$F$12:$F$520,$C777))","v":0},{"$f":"IF($C777=\"\",0,COUNTIF(女子名簿!$F$12:$F$520,$C777))","v":0},0]
[0,null,null,null,null,null,{"$f":"IF($C778=\"\",0,COUNTIF(男子名簿!$F$12:$F$520,$C778))","v":0},{"$f":"IF($C778=\"\",0,COUNTIF(女子名簿!$F$12:$F$520,$C778))","v":0},{"$f":"G778+H778","v":0}]
[0,null,null,null,{"$f":"IF($C779=\"\",\"\",ASC(PHONETIC($C779)))","v":""},{"$f":"C779","v":0},{"$f":"IF($C779=\"\",0,COUNTIF(男子名簿!$F$12:$F$520,$C779))","v":0},{"$f":"IF($C779=\"\",0,COUNTIF(女子名簿!$F$12:$F$520,$C779))","v":0},0]
[0,null,null,null,"",0,{"$f":"IF($C780=\"\",0,COUNTIF(男子名簿!$F$12:$F$520,$C780))","v":0},{"$f":"IF($C780=\"\",0,COUNTIF(女子名簿!$F$12:$F$520,$C780))","v":0},0]
[0,null,null,null,"",0,{"$f":"IF($C781=\"\",0,COUNTIF(男子名簿!$F$12:$F$520,$C781))","v":0},{"$f":"IF($C781=\"\",0,COUNTIF(女子名簿!$F$12:$F$520,$C781))","v":0},0]
[0,null,null,null,"",0,{"$f":"IF($C782=\"\",0,COUNTIF(男子名簿!$F$12:$F$520,$C782))","v":0},{"$f":"IF($C782=\"\",0,COUNTIF(女子名簿!$F$12:$F$520,$C782))","v":0},0]
[0,null,null,null,"",0,{"$f":"IF($C783=\"\",0,COUNTIF(男子名簿!$F$12:$F$520,$C783))","v":0},{"$f":"IF($C783=\"\",0,COUNTIF(女子名簿!$F$12:$F$520,$C783))","v":0},0]
[0,null,null,null,"",0,{"$f":"IF($C784=\"\",0,COUNTIF(男子名簿!$F$12:$F$520,$C784))","v":0},{"$f":"IF($C784=\"\",0,COUNTIF(女子名簿!$F$12:$F$520,$C784))","v":0},0]
[0,null,null,null,"",0,{"$f":"IF($C785=\"\",0,COUNTIF(男子名簿!$F$12:$F$520,$C785))","v":0},{"$f":"IF($C785=\"\",0,COUNTIF(女子名簿!$F$12:$F$520,$C785))","v":0},0]
[0,null,null,null,"",0,{"$f":"IF($C786=\"\",0,COUNTIF(男子名簿!$F$12:$F$520,$C786))","v":0},{"$f":"IF($C786=\"\",0,COUNTIF(女子名簿!$F$12:$F$520,$C786))","v":0},0]
[0,null,null,null,"",0,{"$f":"IF($C787=\"\",0,COUNTIF(男子名簿!$F$12:$F$520,$C787))","v":0},{"$f":"IF($C787=\"\",0,COUNTIF(女子名簿!$F$12:$F$520,$C787))","v":0},0]
[0,null,null,null,"",0,{"$f":"IF($C788=\"\",0,COUNTIF(男子名簿!$F$12:$F$520,$C788))","v":0},{"$f":"IF($C788=\"\",0,COUNTIF(女子名簿!$F$12:$F$520,$C788))","v":0},0]
[0,null,null,null,"",0,{"$f":"IF($C789=\"\",0,COUNTIF(男子名簿!$F$12:$F$520,$C789))","v":0},{"$f":"IF($C789=\"\",0,COUNTIF(女子名簿!$F$12:$F$520,$C789))","v":0},0]
[0,null,null,null,"",0,{"$f":"IF($C790=\"\",0,COUNTIF(男子名簿!$F$12:$F$520,$C790))","v":0},{"$f":"IF($C790=\"\",0,COUNTIF(女子名簿!$F$12:$F$520,$C790))","v":0},0]
[0,null,null,null,"",0,{"$f":"IF($C791=\"\",0,COUNTIF(男子名簿!$F$12:$F$520,$C791))","v":0},{"$f":"IF($C791=\"\",0,COUNTIF(女子名簿!$F$12:$F$520,$C791))","v":0},0]
[0,null,null,null,"",0,{"$f":"IF($C792=\"\",0,COUNTIF(男子名簿!$F$12:$F$520,$C792))","v":0},{"$f":"IF($C792=\"\",0,COUNTIF(女子名簿!$F$12:$F$520,$C792))","v":0},0]
[0,null,null,null,"",0,{"$f":"IF($C793=\"\",0,COUNTIF(男子名簿!$F$12:$F$520,$C793))","v":0},{"$f":"IF($C793=\"\",0,COUNTIF(女子名簿!$F$12:$F$520,$C793))","v":0},0]
[0,null,null,null,"",0,{"$f":"IF($C794=\"\",0,COUNTIF(男子名簿!$F$12:$F$520,$C794))","v":0},{"$f":"IF($C794=\"\",0,COUNTIF(女子名簿!$F$12:$F$520,$C794))","v":0},0]
[0,null,null,null,"",0,{"$f":"IF($C795=\"\",0,COUNTIF(男子名簿!$F$12:$F$520,$C795))","v":0},{"$f":"IF($C795=\"\",0,COUNTIF(女子名簿!$F$12:$F$520,$C795))","v":0},0]
[0,null,null,null,"",0,{"$f":"IF($C796=\"\",0,COUNTIF(男子名簿!$F$12:$F$520,$C796))","v":0},{"$f":"IF($C796=\"\",0,COUNTIF(女子名簿!$F$12:$F$520,$C796))","v":0},0]
[0,null,null,null,"",0,{"$f":"IF($C797=\"\",0,COUNTIF(男子名簿!$F$12:$F$520,$C797))","v":0},{"$f":"IF($C797=\"\",0,COUNTIF(女子名簿!$F$12:$F$520,$C797))","v":0},0]
[0,null,null,null,null,null,{"$f":"IF($C798=\"\",0,COUNTIF(男子名簿!$F$12:$F$520,$C798))","v":0},{"$f":"IF($C798=\"\",0,COUNTIF(女子名簿!$F$12:$F$520,$C798))","v":0},0]
[0,null,null,null,{"$f":"IF($C799=\"\",\"\",ASC(PHONETIC($C799)))","v":""},{"$f":"C799","v":0},{"$f":"IF($C799=\"\",0,COUNTIF(男子名簿!$F$12:$F$520,$C799))","v":0},{"$f":"IF($C799=\"\",0,COUNTIF(女子名簿!$F$12:$F$520,$C799))","v":0},0]
[0,null,null,null,"",0,{"$f":"IF($C800=\"\",0,COUNTIF(男子名簿!$F$12:$F$520,$C800))","v":0},{"$f":"IF($C800=\"\",0,COUNTIF(女子名簿!$F$12:$F$520,$C800))","v":0},0]
[0,null,null,null,"",0,{"$f":"IF($C801=\"\",0,COUNTIF(男子名簿!$F$12:$F$520,$C801))","v":0},{"$f":"IF($C801=\"\",0,COUNTIF(女子名簿!$F$12:$F$520,$C801))","v":0},0]
[0,null,null,null,"",0,{"$f":"IF($C802=\"\",0,COUNTIF(男子名簿!$F$12:$F$520,$C802))","v":0},{"$f":"IF($C802=\"\",0,COUNTIF(女子名簿!$F$12:$F$520,$C802))","v":0},0]
[0,null,null,null,"",0,{"$f":"IF($C803=\"\",0,COUNTIF(男子名簿!$F$12:$F$520,$C803))","v":0},{"$f":"IF($C803=\"\",0,COUNTIF(女子名簿!$F$12:$F$520,$C803))","v":0},0]
[0,null,null,null,"",0,{"$f":"IF($C804=\"\",0,COUNTIF(男子名簿!$F$12:$F$520,$C804))","v":0},{"$f":"IF($C804=\"\",0,COUNTIF(女子名簿!$F$12:$F$520,$C804))","v":0},0]
[0,null,null,null,"",0,{"$f":"IF($C805=\"\",0,COUNTIF(男子名簿!$F$12:$F$520,$C805))","v":0},{"$f":"IF($C805=\"\",0,COUNTIF(女子名簿!$F$12:$F$520,$C805))","v":0},0]
[0,null,null,null,"",0,{"$f":"IF($C806=\"\",0,COUNTIF(男子名簿!$F$12:$F$520,$C806))","v":0},{"$f":"IF($C806=\"\",0,COUNTIF(女子名簿!$F$12:$F$520,$C806))","v":0},0]
[0,null,null,null,"",0,{"$f":"IF($C807=\"\",0,COUNTIF(男子名簿!$F$12:$F$520,$C807))","v":0},{"$f":"IF($C807=\"\",0,COUNTIF(女子名簿!$F$12:$F$520,$C807))","v":0},0]
[0,null,null,null,"",0,{"$f":"IF($C808=\"\",0,COUNTIF(男子名簿!$F$12:$F$520,$C808))","v":0},{"$f":"IF($C808=\"\",0,COUNTIF(女子名簿!$F$12:$F$520,$C808))","v":0},0]
[0,null,null,null,"",0,{"$f":"IF($C809=\"\",0,COUNTIF(男子名簿!$F$12:$F$520,$C809))","v":0},{"$f":"IF($C809=\"\",0,COUNTIF(女子名簿!$F$12:$F$520,$C809))","v":0},0]
[0,null,null,null,"",0,{"$f":"IF($C810=\"\",0,COUNTIF(男子名簿!$F$12:$F$520,$C810))","v":0},{"$f":"IF($C810=\"\",0,COUNTIF(女子名簿!$F$12:$F$520,$C810))","v":0},0]
[0,null,null,null,"",0,{"$f":"IF($C811=\"\",0,COUNTIF(男子名簿!$F$12:$F$520,$C811))","v":0},{"$f":"IF($C811=\"\",0,COUNTIF(女子名簿!$F$12:$F$520,$C811))","v":0},0]
[0,null,null,null,"",0,{"$f":"IF($C812=\"\",0,COUNTIF(男子名簿!$F$12:$F$520,$C812))","v":0},{"$f":"IF($C812=\"\",0,COUNTIF(女子名簿!$F$12:$F$520,$C812))","v":0},0]
[0,null,null,null,"",0,{"$f":"IF($C813=\"\",0,COUNTIF(男子名簿!$F$12:$F$520,$C813))","v":0},{"$f":"IF($C813=\"\",0,COUNTIF(女子名簿!$F$12:$F$520,$C813))","v":0},0]
[0,null,null,null,"",0,{"$f":"IF($C814=\"\",0,COUNTIF(男子名簿!$F$12:$F$520,$C814))","v":0},{"$f":"IF($C814=\"\",0,COUNTIF(女子名簿!$F$12:$F$520,$C814))","v":0},0]
[0,null,null,null,"",0,{"$f":"IF($C815=\"\",0,COUNTIF(男子名簿!$F$12:$F$520,$C815))","v":0},{"$f":"IF($C815=\"\",0,COUNTIF(女子名簿!$F$12:$F$520,$C815))","v":0},0]
[0,null,null,null,"",0,{"$f":"IF($C816=\"\",0,COUNTIF(男子名簿!$F$12:$F$520,$C816))","v":0},{"$f":"IF($C816=\"\",0,COUNTIF(女子名簿!$F$12:$F$520,$C816))","v":0},0]
[0,null,null,null,"",0,{"$f":"IF($C817=\"\",0,COUNTIF(男子名簿!$F$12:$F$520,$C817))","v":0},{"$f":"IF($C817=\"\",0,COUNTIF(女子名簿!$F$12:$F$520,$C817))","v":0},0]
[0,null,null,null,null,null,{"$f":"IF($C818=\"\",0,COUNTIF(男子名簿!$F$12:$F$520,$C818))","v":0},{"$f":"IF($C818=\"\",0,COUNTIF(女子名簿!$F$12:$F$520,$C818))","v":0},0]
[0,null,null,null,{"$f":"IF($C819=\"\",\"\",ASC(PHONETIC($C819)))","v":""},{"$f":"C819","v":0},{"$f":"IF($C819=\"\",0,COUNTIF(男子名簿!$F$12:$F$520,$C819))","v":0},{"$f":"IF($C819=\"\",0,COUNTIF(女子名簿!$F$12:$F$520,$C819))","v":0},0]
[0,null,null,null,"",0,{"$f":"IF($C820=\"\",0,COUNTIF(男子名簿!$F$12:$F$520,$C820))","v":0},{"$f":"IF($C820=\"\",0,COUNTIF(女子名簿!$F$12:$F$520,$C820))","v":0},0]
[0,null,null,null,"",0,{"$f":"IF($C821=\"\",0,COUNTIF(男子名簿!$F$12:$F$520,$C821))","v":0},{"$f":"IF($C821=\"\",0,COUNTIF(女子名簿!$F$12:$F$520,$C821))","v":0},0]
[0,null,null,null,"",0,{"$f":"IF($C822=\"\",0,COUNTIF(男子名簿!$F$12:$F$520,$C822))","v":0},{"$f":"IF($C822=\"\",0,COUNTIF(女子名簿!$F$12:$F$520,$C822))","v":0},0]
[0,null,null,null,"",0,{"$f":"IF($C823=\"\",0,COUNTIF(男子名簿!$F$12:$F$520,$C823))","v":0},{"$f":"IF($C823=\"\",0,COUNTIF(女子名簿!$F$12:$F$520,$C823))","v":0},0]
[0,null,null,null,"",0,{"$f":"IF($C824=\"\",0,COUNTIF(男子名簿!$F$12:$F$520,$C824))","v":0},{"$f":"IF($C824=\"\",0,COUNTIF(女子名簿!$F$12:$F$520,$C824))","v":0},0]
[0,null,null,null,"",0,{"$f":"IF($C825=\"\",0,COUNTIF(男子名簿!$F$12:$F$520,$C825))","v":0},{"$f":"IF($C825=\"\",0,COUNTIF(女子名簿!$F$12:$F$520,$C825))","v":0},0]
[0,null,null,null,"",0,{"$f":"IF($C826=\"\",0,COUNTIF(男子名簿!$F$12:$F$520,$C826))","v":0},{"$f":"IF($C826=\"\",0,COUNTIF(女子名簿!$F$12:$F$520,$C826))","v":0},0]
[0,null,null,null,"",0,{"$f":"IF($C827=\"\",0,COUNTIF(男子名簿!$F$12:$F$520,$C827))","v":0},{"$f":"IF($C827=\"\",0,COUNTIF(女子名簿!$F$12:$F$520,$C827))","v":0},0]
[0,null,null,null,"",0,{"$f":"IF($C828=\"\",0,COUNTIF(男子名簿!$F$12:$F$520,$C828))","v":0},{"$f":"IF($C828=\"\",0,COUNTIF(女子名簿!$F$12:$F$520,$C828))","v":0},0]
[0,null,null,null,"",0,{"$f":"IF($C829=\"\",0,COUNTIF(男子名簿!$F$12:$F$520,$C829))","v":0},{"$f":"IF($C829=\"\",0,COUNTIF(女子名簿!$F$12:$F$520,$C829))","v":0},0]
[0,null,null,null,"",0,{"$f":"IF($C830=\"\",0,COUNTIF(男子名簿!$F$12:$F$520,$C830))","v":0},{"$f":"IF($C830=\"\",0,COUNTIF(女子名簿!$F$12:$F$520,$C830))","v":0},0]
[0,null,null,null,"",0,{"$f":"IF($C831=\"\",0,COUNTIF(男子名簿!$F$12:$F$520,$C831))","v":0},{"$f":"IF($C831=\"\",0,COUNTIF(女子名簿!$F$12:$F$520,$C831))","v":0},0]
[0,null,null,null,"",0,{"$f":"IF($C832=\"\",0,COUNTIF(男子名簿!$F$12:$F$520,$C832))","v":0},{"$f":"IF($C832=\"\",0,COUNTIF(女子名簿!$F$12:$F$520,$C832))","v":0},0]
[0,null,null,null,"",0,{"$f":"IF($C833=\"\",0,COUNTIF(男子名簿!$F$12:$F$520,$C833))","v":0},{"$f":"IF($C833=\"\",0,COUNTIF(女子名簿!$F$12:$F$520,$C833))","v":0},0]
[0,null,null,null,"",0,{"$f":"IF($C834=\"\",0,COUNTIF(男子名簿!$F$12:$F$520,$C834))","v":0},{"$f":"IF($C834=\"\",0,COUNTIF(女子名簿!$F$12:$F$520,$C834))","v":0},0]
[0,null,null,null,"",0,{"$f":"IF($C835=\"\",0,COUNTIF(男子名簿!$F$12:$F$520,$C835))","v":0},{"$f":"IF($C835=\"\",0,COUNTIF(女子名簿!$F$12:$F$520,$C835))","v":0},0]
[0,null,null,null,"",0,{"$f":"IF($C836=\"\",0,COUNTIF(男子名簿!$F$12:$F$520,$C836))","v":0},{"$f":"IF($C836=\"\",0,COUNTIF(女子名簿!$F$12:$F$520,$C836))","v":0},0]
[0,null,null,null,"",0,{"$f":"IF($C837=\"\",0,COUNTIF(男子名簿!$F$12:$F$520,$C837))","v":0},{"$f":"IF($C837=\"\",0,COUNTIF(女子名簿!$F$12:$F$520,$C837))","v":0},0]
[0,null,null,null,null,null,{"$f":"IF($C838=\"\",0,COUNTIF(男子名簿!$F$12:$F$520,$C838))","v":0},{"$f":"IF($C838=\"\",0,COUNTIF(女子名簿!$F$12:$F$520,$C838))","v":0},0]
[0,null,null,null,{"$f":"IF($C839=\"\",\"\",ASC(PHONETIC($C839)))","v":""},{"$f":"C839","v":0},{"$f":"IF($C839=\"\",0,COUNTIF(男子名簿!$F$12:$F$520,$C839))","v":0},{"$f":"IF($C839=\"\",0,COUNTIF(女子名簿!$F$12:$F$520,$C839))","v":0},0]
[0,null,null,null,"",0,{"$f":"IF($C840=\"\",0,COUNTIF(男子名簿!$F$12:$F$520,$C840))","v":0},{"$f":"IF($C840=\"\",0,COUNTIF(女子名簿!$F$12:$F$520,$C840))","v":0},0]
[0,null,null,null,"",0,{"$f":"IF($C841=\"\",0,COUNTIF(男子名簿!$F$12:$F$520,$C841))","v":0},{"$f":"IF($C841=\"\",0,COUNTIF(女子名簿!$F$12:$F$520,$C841))","v":0},0]
[0,null,null,null,"",0,{"$f":"IF($C842=\"\",0,COUNTIF(男子名簿!$F$12:$F$520,$C842))","v":0},{"$f":"IF($C842=\"\",0,COUNTIF(女子名簿!$F$12:$F$520,$C842))","v":0},0]
[0,null,null,null,"",0,{"$f":"IF($C843=\"\",0,COUNTIF(男子名簿!$F$12:$F$520,$C843))","v":0},{"$f":"IF($C843=\"\",0,COUNTIF(女子名簿!$F$12:$F$520,$C843))","v":0},0]
[0,null,null,null,"",0,{"$f":"IF($C844=\"\",0,COUNTIF(男子名簿!$F$12:$F$520,$C844))","v":0},{"$f":"IF($C844=\"\",0,COUNTIF(女子名簿!$F$12:$F$520,$C844))","v":0},0]
[0,null,null,null,"",0,{"$f":"IF($C845=\"\",0,COUNTIF(男子名簿!$F$12:$F$520,$C845))","v":0},{"$f":"IF($C845=\"\",0,COUNTIF(女子名簿!$F$12:$F$520,$C845))","v":0},0]
[0,null,null,null,"",0,{"$f":"IF($C846=\"\",0,COUNTIF(男子名簿!$F$12:$F$520,$C846))","v":0},{"$f":"IF($C846=\"\",0,COUNTIF(女子名簿!$F$12:$F$520,$C846))","v":0},0]
[0,null,null,null,"",0,{"$f":"IF($C847=\"\",0,COUNTIF(男子名簿!$F$12:$F$520,$C847))","v":0},{"$f":"IF($C847=\"\",0,COUNTIF(女子名簿!$F$12:$F$520,$C847))","v":0},0]
[0,null,null,null,"",0,{"$f":"IF($C848=\"\",0,COUNTIF(男子名簿!$F$12:$F$520,$C848))","v":0},{"$f":"IF($C848=\"\",0,COUNTIF(女子名簿!$F$12:$F$520,$C848))","v":0},0]
[0,null,null,null,"",0,{"$f":"IF($C849=\"\",0,COUNTIF(男子名簿!$F$12:$F$520,$C849))","v":0},{"$f":"IF($C849=\"\",0,COUNTIF(女子名簿!$F$12:$F$520,$C849))","v":0},0]
[0,null,null,null,"",0,{"$f":"IF($C850=\"\",0,COUNTIF(男子名簿!$F$12:$F$520,$C850))","v":0},{"$f":"IF($C850=\"\",0,COUNTIF(女子名簿!$F$12:$F$520,$C850))","v":0},0]
[0,null,null,null,"",0,{"$f":"IF($C851=\"\",0,COUNTIF(男子名簿!$F$12:$F$520,$C851))","v":0},{"$f":"IF($C851=\"\",0,COUNTIF(女子名簿!$F$12:$F$520,$C851))","v":0},0]
[0,null,null,null,"",0,{"$f":"IF($C852=\"\",0,COUNTIF(男子名簿!$F$12:$F$520,$C852))","v":0},{"$f":"IF($C852=\"\",0,COUNTIF(女子名簿!$F$12:$F$520,$C852))","v":0},0]
[0,null,null,null,"",0,{"$f":"IF($C853=\"\",0,COUNTIF(男子名簿!$F$12:$F$520,$C853))","v":0},{"$f":"IF($C853=\"\",0,COUNTIF(女子名簿!$F$12:$F$520,$C853))","v":0},0]
[0,null,null,null,"",0,{"$f":"IF($C854=\"\",0,COUNTIF(男子名簿!$F$12:$F$520,$C854))","v":0},{"$f":"IF($C854=\"\",0,COUNTIF(女子名簿!$F$12:$F$520,$C854))","v":0},0]
[0,null,null,null,"",0,{"$f":"IF($C855=\"\",0,COUNTIF(男子名簿!$F$12:$F$520,$C855))","v":0},{"$f":"IF($C855=\"\",0,COUNTIF(女子名簿!$F$12:$F$520,$C855))","v":0},0]
[0,null,null,null,"",0,{"$f":"IF($C856=\"\",0,COUNTIF(男子名簿!$F$12:$F$520,$C856))","v":0},{"$f":"IF($C856=\"\",0,COUNTIF(女子名簿!$F$12:$F$520,$C856))","v":0},0]
[0,null,null,null,"",0,{"$f":"IF($C857=\"\",0,COUNTIF(男子名簿!$F$12:$F$520,$C857))","v":0},{"$f":"IF($C857=\"\",0,COUNTIF(女子名簿!$F$12:$F$520,$C857))","v":0},0]
[0,null,null,null,null,null,{"$f":"IF($C858=\"\",0,COUNTIF(男子名簿!$F$12:$F$520,$C858))","v":0},{"$f":"IF($C858=\"\",0,COUNTIF(女子名簿!$F$12:$F$520,$C858))","v":0},0]
[0,null,null,null,{"$f":"IF($C859=\"\",\"\",ASC(PHONETIC($C859)))","v":""},{"$f":"C859","v":0},{"$f":"IF($C859=\"\",0,COUNTIF(男子名簿!$F$12:$F$520,$C859))","v":0},{"$f":"IF($C859=\"\",0,COUNTIF(女子名簿!$F$12:$F$520,$C859))","v":0},0]
[0,null,null,null,"",0,{"$f":"IF($C860=\"\",0,COUNTIF(男子名簿!$F$12:$F$520,$C860))","v":0},{"$f":"IF($C860=\"\",0,COUNTIF(女子名簿!$F$12:$F$520,$C860))","v":0},0]
[0,null,null,null,"",0,{"$f":"IF($C861=\"\",0,COUNTIF(男子名簿!$F$12:$F$520,$C861))","v":0},{"$f":"IF($C861=\"\",0,COUNTIF(女子名簿!$F$12:$F$520,$C861))","v":0},0]
[0,null,null,null,"",0,{"$f":"IF($C862=\"\",0,COUNTIF(男子名簿!$F$12:$F$520,$C862))","v":0},{"$f":"IF($C862=\"\",0,COUNTIF(女子名簿!$F$12:$F$520,$C862))","v":0},0]
[0,null,null,null,"",0,{"$f":"IF($C863=\"\",0,COUNTIF(男子名簿!$F$12:$F$520,$C863))","v":0},{"$f":"IF($C863=\"\",0,COUNTIF(女子名簿!$F$12:$F$520,$C863))","v":0},0]
[0,null,null,null,"",0,{"$f":"IF($C864=\"\",0,COUNTIF(男子名簿!$F$12:$F$520,$C864))","v":0},{"$f":"IF($C864=\"\",0,COUNTIF(女子名簿!$F$12:$F$520,$C864))","v":0},0]
[0,null,null,null,"",0,{"$f":"IF($C865=\"\",0,COUNTIF(男子名簿!$F$12:$F$520,$C865))","v":0},{"$f":"IF($C865=\"\",0,COUNTIF(女子名簿!$F$12:$F$520,$C865))","v":0},0]
[0,null,null,null,"",0,{"$f":"IF($C866=\"\",0,COUNTIF(男子名簿!$F$12:$F$520,$C866))","v":0},{"$f":"IF($C866=\"\",0,COUNTIF(女子名簿!$F$12:$F$520,$C866))","v":0},0]
[0,null,null,null,"",0,{"$f":"IF($C867=\"\",0,COUNTIF(男子名簿!$F$12:$F$520,$C867))","v":0},{"$f":"IF($C867=\"\",0,COUNTIF(女子名簿!$F$12:$F$520,$C867))","v":0},0]
[0,null,null,null,"",0,{"$f":"IF($C868=\"\",0,COUNTIF(男子名簿!$F$12:$F$520,$C868))","v":0},{"$f":"IF($C868=\"\",0,COUNTIF(女子名簿!$F$12:$F$520,$C868))","v":0},0]
[0,null,null,null,"",0,{"$f":"IF($C869=\"\",0,COUNTIF(男子名簿!$F$12:$F$520,$C869))","v":0},{"$f":"IF($C869=\"\",0,COUNTIF(女子名簿!$F$12:$F$520,$C869))","v":0},0]
[0,null,null,null,"",0,{"$f":"IF($C870=\"\",0,COUNTIF(男子名簿!$F$12:$F$520,$C870))","v":0},{"$f":"IF($C870=\"\",0,COUNTIF(女子名簿!$F$12:$F$520,$C870))","v":0},0]
[0,null,null,null,"",0,{"$f":"IF($C871=\"\",0,COUNTIF(男子名簿!$F$12:$F$520,$C871))","v":0},{"$f":"IF($C871=\"\",0,COUNTIF(女子名簿!$F$12:$F$520,$C871))","v":0},0]
[0,null,null,null,"",0,{"$f":"IF($C872=\"\",0,COUNTIF(男子名簿!$F$12:$F$520,$C872))","v":0},{"$f":"IF($C872=\"\",0,COUNTIF(女子名簿!$F$12:$F$520,$C872))","v":0},0]
[0,null,null,null,"",0,{"$f":"IF($C873=\"\",0,COUNTIF(男子名簿!$F$12:$F$520,$C873))","v":0},{"$f":"IF($C873=\"\",0,COUNTIF(女子名簿!$F$12:$F$520,$C873))","v":0},0]
[0,null,null,null,"",0,{"$f":"IF($C874=\"\",0,COUNTIF(男子名簿!$F$12:$F$520,$C874))","v":0},{"$f":"IF($C874=\"\",0,COUNTIF(女子名簿!$F$12:$F$520,$C874))","v":0},0]
[0,null,null,null,"",0,{"$f":"IF($C875=\"\",0,COUNTIF(男子名簿!$F$12:$F$520,$C875))","v":0},{"$f":"IF($C875=\"\",0,COUNTIF(女子名簿!$F$12:$F$520,$C875))","v":0},0]
[0,null,null,null,"",0,{"$f":"IF($C876=\"\",0,COUNTIF(男子名簿!$F$12:$F$520,$C876))","v":0},{"$f":"IF($C876=\"\",0,COUNTIF(女子名簿!$F$12:$F$520,$C876))","v":0},0]
[0,null,null,null,"",0,{"$f":"IF($C877=\"\",0,COUNTIF(男子名簿!$F$12:$F$520,$C877))","v":0},{"$f":"IF($C877=\"\",0,COUNTIF(女子名簿!$F$12:$F$520,$C877))","v":0},0]
[0,null,null,null,null,null,{"$f":"IF($C878=\"\",0,COUNTIF(男子名簿!$F$12:$F$520,$C878))","v":0},{"$f":"IF($C878=\"\",0,COUNTIF(女子名簿!$F$12:$F$520,$C878))","v":0},0]
[0,null,null,null,{"$f":"IF($C879=\"\",\"\",ASC(PHONETIC($C879)))","v":""},{"$f":"C879","v":0},{"$f":"IF($C879=\"\",0,COUNTIF(男子名簿!$F$12:$F$520,$C879))","v":0},{"$f":"IF($C879=\"\",0,COUNTIF(女子名簿!$F$12:$F$520,$C879))","v":0},0]
[0,null,null,null,"",0,{"$f":"IF($C880=\"\",0,COUNTIF(男子名簿!$F$12:$F$520,$C880))","v":0},{"$f":"IF($C880=\"\",0,COUNTIF(女子名簿!$F$12:$F$520,$C880))","v":0},0]
[0,null,null,null,"",0,{"$f":"IF($C881=\"\",0,COUNTIF(男子名簿!$F$12:$F$520,$C881))","v":0},{"$f":"IF($C881=\"\",0,COUNTIF(女子名簿!$F$12:$F$520,$C881))","v":0},0]
[0,null,null,null,"",0,{"$f":"IF($C882=\"\",0,COUNTIF(男子名簿!$F$12:$F$520,$C882))","v":0},{"$f":"IF($C882=\"\",0,COUNTIF(女子名簿!$F$12:$F$520,$C882))","v":0},0]
[0,null,null,null,"",0,{"$f":"IF($C883=\"\",0,COUNTIF(男子名簿!$F$12:$F$520,$C883))","v":0},{"$f":"IF($C883=\"\",0,COUNTIF(女子名簿!$F$12:$F$520,$C883))","v":0},0]
[0,null,null,null,"",0,{"$f":"IF($C884=\"\",0,COUNTIF(男子名簿!$F$12:$F$520,$C884))","v":0},{"$f":"IF($C884=\"\",0,COUNTIF(女子名簿!$F$12:$F$520,$C884))","v":0},0]
[0,null,null,null,"",0,{"$f":"IF($C885=\"\",0,COUNTIF(男子名簿!$F$12:$F$520,$C885))","v":0},{"$f":"IF($C885=\"\",0,COUNTIF(女子名簿!$F$12:$F$520,$C885))","v":0},0]
[0,null,null,null,"",0,{"$f":"IF($C886=\"\",0,COUNTIF(男子名簿!$F$12:$F$520,$C886))","v":0},{"$f":"IF($C886=\"\",0,COUNTIF(女子名簿!$F$12:$F$520,$C886))","v":0},0]
[0,null,null,null,"",0,{"$f":"IF($C887=\"\",0,COUNTIF(男子名簿!$F$12:$F$520,$C887))","v":0},{"$f":"IF($C887=\"\",0,COUNTIF(女子名簿!$F$12:$F$520,$C887))","v":0},0]
[0,null,null,null,"",0,{"$f":"IF($C888=\"\",0,COUNTIF(男子名簿!$F$12:$F$520,$C888))","v":0},{"$f":"IF($C888=\"\",0,COUNTIF(女子名簿!$F$12:$F$520,$C888))","v":0},0]
[0,null,null,null,"",0,{"$f":"IF($C889=\"\",0,COUNTIF(男子名簿!$F$12:$F$520,$C889))","v":0},{"$f":"IF($C889=\"\",0,COUNTIF(女子名簿!$F$12:$F$520,$C889))","v":0},0]
[0,null,null,null,"",0,{"$f":"IF($C890=\"\",0,COUNTIF(男子名簿!$F$12:$F$520,$C890))","v":0},{"$f":"IF($C890=\"\",0,COUNTIF(女子名簿!$F$12:$F$520,$C890))","v":0},0]
[0,null,null,null,"",0,{"$f":"IF($C891=\"\",0,COUNTIF(男子名簿!$F$12:$F$520,$C891))","v":0},{"$f":"IF($C891=\"\",0,COUNTIF(女子名簿!$F$12:$F$520,$C891))","v":0},0]
[0,null,null,null,"",0,{"$f":"IF($C892=\"\",0,COUNTIF(男子名簿!$F$12:$F$520,$C892))","v":0},{"$f":"IF($C892=\"\",0,COUNTIF(女子名簿!$F$12:$F$520,$C892))","v":0},0]
[0,null,null,null,"",0,{"$f":"IF($C893=\"\",0,COUNTIF(男子名簿!$F$12:$F$520,$C893))","v":0},{"$f":"IF($C893=\"\",0,COUNTIF(女子名簿!$F$12:$F$520,$C893))","v":0},0]
[0,null,null,null,"",0,{"$f":"IF($C894=\"\",0,COUNTIF(男子名簿!$F$12:$F$520,$C894))","v":0},{"$f":"IF($C894=\"\",0,COUNTIF(女子名簿!$F$12:$F$520,$C894))","v":0},0]
[0,null,null,null,"",0,{"$f":"IF($C895=\"\",0,COUNTIF(男子名簿!$F$12:$F$520,$C895))","v":0},{"$f":"IF($C895=\"\",0,COUNTIF(女子名簿!$F$12:$F$520,$C895))","v":0},0]
[0,null,null,null,"",0,{"$f":"IF($C896=\"\",0,COUNTIF(男子名簿!$F$12:$F$520,$C896))","v":0},{"$f":"IF($C896=\"\",0,COUNTIF(女子名簿!$F$12:$F$520,$C896))","v":0},0]
[0,null,null,null,"",0,{"$f":"IF($C897=\"\",0,COUNTIF(男子名簿!$F$12:$F$520,$C897))","v":0},{"$f":"IF($C897=\"\",0,COUNTIF(女子名簿!$F$12:$F$520,$C897))","v":0},0]
[0,null,null,null,null,null,{"$f":"IF($C898=\"\",0,COUNTIF(男子名簿!$F$12:$F$520,$C898))","v":0},{"$f":"IF($C898=\"\",0,COUNTIF(女子名簿!$F$12:$F$520,$C898))","v":0},0]
[0,null,null,null,{"$f":"IF($C899=\"\",\"\",ASC(PHONETIC($C899)))","v":""},{"$f":"C899","v":0},{"$f":"IF($C899=\"\",0,COUNTIF(男子名簿!$F$12:$F$520,$C899))","v":0},{"$f":"IF($C899=\"\",0,COUNTIF(女子名簿!$F$12:$F$520,$C899))","v":0},0]
[0,null,null,null,"",0,{"$f":"IF($C900=\"\",0,COUNTIF(男子名簿!$F$12:$F$520,$C900))","v":0},{"$f":"IF($C900=\"\",0,COUNTIF(女子名簿!$F$12:$F$520,$C900))","v":0},0]
[0,null,null,null,"",0,{"$f":"IF($C901=\"\",0,COUNTIF(男子名簿!$F$12:$F$520,$C901))","v":0},{"$f":"IF($C901=\"\",0,COUNTIF(女子名簿!$F$12:$F$520,$C901))","v":0},0]
[0,null,null,null,"",0,{"$f":"IF($C902=\"\",0,COUNTIF(男子名簿!$F$12:$F$520,$C902))","v":0},{"$f":"IF($C902=\"\",0,COUNTIF(女子名簿!$F$12:$F$520,$C902))","v":0},0]
[0,null,null,null,"",0,{"$f":"IF($C903=\"\",0,COUNTIF(男子名簿!$F$12:$F$520,$C903))","v":0},{"$f":"IF($C903=\"\",0,COUNTIF(女子名簿!$F$12:$F$520,$C903))","v":0},0]
[0,null,null,null,"",0,{"$f":"IF($C904=\"\",0,COUNTIF(男子名簿!$F$12:$F$520,$C904))","v":0},{"$f":"IF($C904=\"\",0,COUNTIF(女子名簿!$F$12:$F$520,$C904))","v":0},0]
[0,null,null,null,"",0,{"$f":"IF($C905=\"\",0,COUNTIF(男子名簿!$F$12:$F$520,$C905))","v":0},{"$f":"IF($C905=\"\",0,COUNTIF(女子名簿!$F$12:$F$520,$C905))","v":0},0]
[0,null,null,null,"",0,{"$f":"IF($C906=\"\",0,COUNTIF(男子名簿!$F$12:$F$520,$C906))","v":0},{"$f":"IF($C906=\"\",0,COUNTIF(女子名簿!$F$12:$F$520,$C906))","v":0},0]
[0,null,null,null,"",0,{"$f":"IF($C907=\"\",0,COUNTIF(男子名簿!$F$12:$F$520,$C907))","v":0},{"$f":"IF($C907=\"\",0,COUNTIF(女子名簿!$F$12:$F$520,$C907))","v":0},0]
[0,null,null,null,"",0,{"$f":"IF($C908=\"\",0,COUNTIF(男子名簿!$F$12:$F$520,$C908))","v":0},{"$f":"IF($C908=\"\",0,COUNTIF(女子名簿!$F$12:$F$520,$C908))","v":0},0]
[0,null,null,null,"",0,{"$f":"IF($C909=\"\",0,COUNTIF(男子名簿!$F$12:$F$520,$C909))","v":0},{"$f":"IF($C909=\"\",0,COUNTIF(女子名簿!$F$12:$F$520,$C909))","v":0},0]
[0,null,null,null,"",0,{"$f":"IF($C910=\"\",0,COUNTIF(男子名簿!$F$12:$F$520,$C910))","v":0},{"$f":"IF($C910=\"\",0,COUNTIF(女子名簿!$F$12:$F$520,$C910))","v":0},0]
[0,null,null,null,"",0,{"$f":"IF($C911=\"\",0,COUNTIF(男子名簿!$F$12:$F$520,$C911))","v":0},{"$f":"IF($C911=\"\",0,COUNTIF(女子名簿!$F$12:$F$520,$C911))","v":0},0]
[0,null,null,null,"",0,{"$f":"IF($C912=\"\",0,COUNTIF(男子名簿!$F$12:$F$520,$C912))","v":0},{"$f":"IF($C912=\"\",0,COUNTIF(女子名簿!$F$12:$F$520,$C912))","v":0},0]
[0,null,null,null,"",0,{"$f":"IF($C913=\"\",0,COUNTIF(男子名簿!$F$12:$F$520,$C913))","v":0},{"$f":"IF($C913=\"\",0,COUNTIF(女子名簿!$F$12:$F$520,$C913))","v":0},0]
[0,null,null,null,"",0,{"$f":"IF($C914=\"\",0,COUNTIF(男子名簿!$F$12:$F$520,$C914))","v":0},{"$f":"IF($C914=\"\",0,COUNTIF(女子名簿!$F$12:$F$520,$C914))","v":0},0]
[0,null,null,null,"",0,{"$f":"IF($C915=\"\",0,COUNTIF(男子名簿!$F$12:$F$520,$C915))","v":0},{"$f":"IF($C915=\"\",0,COUNTIF(女子名簿!$F$12:$F$520,$C915))","v":0},0]
[0,null,null,null,"",0,{"$f":"IF($C916=\"\",0,COUNTIF(男子名簿!$F$12:$F$520,$C916))","v":0},{"$f":"IF($C916=\"\",0,COUNTIF(女子名簿!$F$12:$F$520,$C916))","v":0},0]
[0,null,null,null,"",0,{"$f":"IF($C917=\"\",0,COUNTIF(男子名簿!$F$12:$F$520,$C917))","v":0},{"$f":"IF($C917=\"\",0,COUNTIF(女子名簿!$F$12:$F$520,$C917))","v":0},0]
[0,null,null,null,null,null,{"$f":"IF($C918=\"\",0,COUNTIF(男子名簿!$F$12:$F$520,$C918))","v":0},{"$f":"IF($C918=\"\",0,COUNTIF(女子名簿!$F$12:$F$520,$C918))","v":0},0]
[0,null,null,null,{"$f":"IF($C919=\"\",\"\",ASC(PHONETIC($C919)))","v":""},{"$f":"C919","v":0},{"$f":"IF($C919=\"\",0,COUNTIF(男子名簿!$F$12:$F$520,$C919))","v":0},{"$f":"IF($C919=\"\",0,COUNTIF(女子名簿!$F$12:$F$520,$C919))","v":0},0]
[0,null,null,null,"",0,{"$f":"IF($C920=\"\",0,COUNTIF(男子名簿!$F$12:$F$520,$C920))","v":0},{"$f":"IF($C920=\"\",0,COUNTIF(女子名簿!$F$12:$F$520,$C920))","v":0},0]
[0,null,null,null,"",0,{"$f":"IF($C921=\"\",0,COUNTIF(男子名簿!$F$12:$F$520,$C921))","v":0},{"$f":"IF($C921=\"\",0,COUNTIF(女子名簿!$F$12:$F$520,$C921))","v":0},0]
[0,null,null,null,"",0,{"$f":"IF($C922=\"\",0,COUNTIF(男子名簿!$F$12:$F$520,$C922))","v":0},{"$f":"IF($C922=\"\",0,COUNTIF(女子名簿!$F$12:$F$520,$C922))","v":0},0]
[0,null,null,null,"",0,{"$f":"IF($C923=\"\",0,COUNTIF(男子名簿!$F$12:$F$520,$C923))","v":0},{"$f":"IF($C923=\"\",0,COUNTIF(女子名簿!$F$12:$F$520,$C923))","v":0},0]
[0,null,null,null,"",0,{"$f":"IF($C924=\"\",0,COUNTIF(男子名簿!$F$12:$F$520,$C924))","v":0},{"$f":"IF($C924=\"\",0,COUNTIF(女子名簿!$F$12:$F$520,$C924))","v":0},0]
[0,null,null,null,"",0,{"$f":"IF($C925=\"\",0,COUNTIF(男子名簿!$F$12:$F$520,$C925))","v":0},{"$f":"IF($C925=\"\",0,COUNTIF(女子名簿!$F$12:$F$520,$C925))","v":0},0]
[0,null,null,null,"",0,{"$f":"IF($C926=\"\",0,COUNTIF(男子名簿!$F$12:$F$520,$C926))","v":0},{"$f":"IF($C926=\"\",0,COUNTIF(女子名簿!$F$12:$F$520,$C926))","v":0},0]
[0,null,null,null,"",0,{"$f":"IF($C927=\"\",0,COUNTIF(男子名簿!$F$12:$F$520,$C927))","v":0},{"$f":"IF($C927=\"\",0,COUNTIF(女子名簿!$F$12:$F$520,$C927))","v":0},0]
[0,null,null,null,"",0,{"$f":"IF($C928=\"\",0,COUNTIF(男子名簿!$F$12:$F$520,$C928))","v":0},{"$f":"IF($C928=\"\",0,COUNTIF(女子名簿!$F$12:$F$520,$C928))","v":0},0]
[0,null,null,null,"",0,{"$f":"IF($C929=\"\",0,COUNTIF(男子名簿!$F$12:$F$520,$C929))","v":0},{"$f":"IF($C929=\"\",0,COUNTIF(女子名簿!$F$12:$F$520,$C929))","v":0},0]
[0,null,null,null,"",0,{"$f":"IF($C930=\"\",0,COUNTIF(男子名簿!$F$12:$F$520,$C930))","v":0},{"$f":"IF($C930=\"\",0,COUNTIF(女子名簿!$F$12:$F$520,$C930))","v":0},0]
[0,null,null,null,"",0,{"$f":"IF($C931=\"\",0,COUNTIF(男子名簿!$F$12:$F$520,$C931))","v":0},{"$f":"IF($C931=\"\",0,COUNTIF(女子名簿!$F$12:$F$520,$C931))","v":0},0]
[0,null,null,null,"",0,{"$f":"IF($C932=\"\",0,COUNTIF(男子名簿!$F$12:$F$520,$C932))","v":0},{"$f":"IF($C932=\"\",0,COUNTIF(女子名簿!$F$12:$F$520,$C932))","v":0},0]
[0,null,null,null,"",0,{"$f":"IF($C933=\"\",0,COUNTIF(男子名簿!$F$12:$F$520,$C933))","v":0},{"$f":"IF($C933=\"\",0,COUNTIF(女子名簿!$F$12:$F$520,$C933))","v":0},0]
[0,null,null,null,"",0,{"$f":"IF($C934=\"\",0,COUNTIF(男子名簿!$F$12:$F$520,$C934))","v":0},{"$f":"IF($C934=\"\",0,COUNTIF(女子名簿!$F$12:$F$520,$C934))","v":0},0]
[0,null,null,null,"",0,{"$f":"IF($C935=\"\",0,COUNTIF(男子名簿!$F$12:$F$520,$C935))","v":0},{"$f":"IF($C935=\"\",0,COUNTIF(女子名簿!$F$12:$F$520,$C935))","v":0},0]
[0,null,null,null,"",0,{"$f":"IF($C936=\"\",0,COUNTIF(男子名簿!$F$12:$F$520,$C936))","v":0},{"$f":"IF($C936=\"\",0,COUNTIF(女子名簿!$F$12:$F$520,$C936))","v":0},0]
[0,null,null,null,"",0,{"$f":"IF($C937=\"\",0,COUNTIF(男子名簿!$F$12:$F$520,$C937))","v":0},{"$f":"IF($C937=\"\",0,COUNTIF(女子名簿!$F$12:$F$520,$C937))","v":0},0]
[0,null,null,null,null,null,{"$f":"IF($C938=\"\",0,COUNTIF(男子名簿!$F$12:$F$520,$C938))","v":0},{"$f":"IF($C938=\"\",0,COUNTIF(女子名簿!$F$12:$F$520,$C938))","v":0},0]
[0,null,null,null,{"$f":"IF($C939=\"\",\"\",ASC(PHONETIC($C939)))","v":""},{"$f":"C939","v":0},{"$f":"IF($C939=\"\",0,COUNTIF(男子名簿!$F$12:$F$520,$C939))","v":0},{"$f":"IF($C939=\"\",0,COUNTIF(女子名簿!$F$12:$F$520,$C939))","v":0},0]
[0,null,null,null,"",0,{"$f":"IF($C940=\"\",0,COUNTIF(男子名簿!$F$12:$F$520,$C940))","v":0},{"$f":"IF($C940=\"\",0,COUNTIF(女子名簿!$F$12:$F$520,$C940))","v":0},0]
[0,null,null,null,"",0,{"$f":"IF($C941=\"\",0,COUNTIF(男子名簿!$F$12:$F$520,$C941))","v":0},{"$f":"IF($C941=\"\",0,COUNTIF(女子名簿!$F$12:$F$520,$C941))","v":0},0]
[0,null,null,null,"",0,{"$f":"IF($C942=\"\",0,COUNTIF(男子名簿!$F$12:$F$520,$C942))","v":0},{"$f":"IF($C942=\"\",0,COUNTIF(女子名簿!$F$12:$F$520,$C942))","v":0},0]
[0,null,null,null,"",0,{"$f":"IF($C943=\"\",0,COUNTIF(男子名簿!$F$12:$F$520,$C943))","v":0},{"$f":"IF($C943=\"\",0,COUNTIF(女子名簿!$F$12:$F$520,$C943))","v":0},0]
[0,null,null,null,"",0,{"$f":"IF($C944=\"\",0,COUNTIF(男子名簿!$F$12:$F$520,$C944))","v":0},{"$f":"IF($C944=\"\",0,COUNTIF(女子名簿!$F$12:$F$520,$C944))","v":0},0]
[0,null,null,null,"",0,{"$f":"IF($C945=\"\",0,COUNTIF(男子名簿!$F$12:$F$520,$C945))","v":0},{"$f":"IF($C945=\"\",0,COUNTIF(女子名簿!$F$12:$F$520,$C945))","v":0},0]
[0,null,null,null,"",0,{"$f":"IF($C946=\"\",0,COUNTIF(男子名簿!$F$12:$F$520,$C946))","v":0},{"$f":"IF($C946=\"\",0,COUNTIF(女子名簿!$F$12:$F$520,$C946))","v":0},0]
[0,null,null,null,"",0,{"$f":"IF($C947=\"\",0,COUNTIF(男子名簿!$F$12:$F$520,$C947))","v":0},{"$f":"IF($C947=\"\",0,COUNTIF(女子名簿!$F$12:$F$520,$C947))","v":0},0]
[0,null,null,null,"",0,{"$f":"IF($C948=\"\",0,COUNTIF(男子名簿!$F$12:$F$520,$C948))","v":0},{"$f":"IF($C948=\"\",0,COUNTIF(女子名簿!$F$12:$F$520,$C948))","v":0},0]
[0,null,null,null,"",0,{"$f":"IF($C949=\"\",0,COUNTIF(男子名簿!$F$12:$F$520,$C949))","v":0},{"$f":"IF($C949=\"\",0,COUNTIF(女子名簿!$F$12:$F$520,$C949))","v":0},0]
[0,null,null,null,"",0,{"$f":"IF($C950=\"\",0,COUNTIF(男子名簿!$F$12:$F$520,$C950))","v":0},{"$f":"IF($C950=\"\",0,COUNTIF(女子名簿!$F$12:$F$520,$C950))","v":0},0]
[0,null,null,null,"",0,{"$f":"IF($C951=\"\",0,COUNTIF(男子名簿!$F$12:$F$520,$C951))","v":0},{"$f":"IF($C951=\"\",0,COUNTIF(女子名簿!$F$12:$F$520,$C951))","v":0},0]
[0,null,null,null,"",0,{"$f":"IF($C952=\"\",0,COUNTIF(男子名簿!$F$12:$F$520,$C952))","v":0},{"$f":"IF($C952=\"\",0,COUNTIF(女子名簿!$F$12:$F$520,$C952))","v":0},0]
[0,null,null,null,"",0,{"$f":"IF($C953=\"\",0,COUNTIF(男子名簿!$F$12:$F$520,$C953))","v":0},{"$f":"IF($C953=\"\",0,COUNTIF(女子名簿!$F$12:$F$520,$C953))","v":0},0]
[0,null,null,null,"",0,{"$f":"IF($C954=\"\",0,COUNTIF(男子名簿!$F$12:$F$520,$C954))","v":0},{"$f":"IF($C954=\"\",0,COUNTIF(女子名簿!$F$12:$F$520,$C954))","v":0},0]
[0,null,null,null,"",0,{"$f":"IF($C955=\"\",0,COUNTIF(男子名簿!$F$12:$F$520,$C955))","v":0},{"$f":"IF($C955=\"\",0,COUNTIF(女子名簿!$F$12:$F$520,$C955))","v":0},0]
[0,null,null,null,"",0,{"$f":"IF($C956=\"\",0,COUNTIF(男子名簿!$F$12:$F$520,$C956))","v":0},{"$f":"IF($C956=\"\",0,COUNTIF(女子名簿!$F$12:$F$520,$C956))","v":0},0]
[0,null,null,null,"",0,{"$f":"IF($C957=\"\",0,COUNTIF(男子名簿!$F$12:$F$520,$C957))","v":0},{"$f":"IF($C957=\"\",0,COUNTIF(女子名簿!$F$12:$F$520,$C957))","v":0},0]
[0,null,null,null,null,null,{"$f":"IF($C958=\"\",0,COUNTIF(男子名簿!$F$12:$F$520,$C958))","v":0},{"$f":"IF($C958=\"\",0,COUNTIF(女子名簿!$F$12:$F$520,$C958))","v":0},0]
[0,null,null,null,{"$f":"IF($C959=\"\",\"\",ASC(PHONETIC($C959)))","v":""},{"$f":"C959","v":0},{"$f":"IF($C959=\"\",0,COUNTIF(男子名簿!$F$12:$F$520,$C959))","v":0},{"$f":"IF($C959=\"\",0,COUNTIF(女子名簿!$F$12:$F$520,$C959))","v":0},0]
[0,null,null,null,"",0,{"$f":"IF($C960=\"\",0,COUNTIF(男子名簿!$F$12:$F$520,$C960))","v":0},{"$f":"IF($C960=\"\",0,COUNTIF(女子名簿!$F$12:$F$520,$C960))","v":0},0]
[0,null,null,null,"",0,{"$f":"IF($C961=\"\",0,COUNTIF(男子名簿!$F$12:$F$520,$C961))","v":0},{"$f":"IF($C961=\"\",0,COUNTIF(女子名簿!$F$12:$F$520,$C961))","v":0},0]
[0,null,null,null,"",0,{"$f":"IF($C962=\"\",0,COUNTIF(男子名簿!$F$12:$F$520,$C962))","v":0},{"$f":"IF($C962=\"\",0,COUNTIF(女子名簿!$F$12:$F$520,$C962))","v":0},0]
[0,null,null,null,"",0,{"$f":"IF($C963=\"\",0,COUNTIF(男子名簿!$F$12:$F$520,$C963))","v":0},{"$f":"IF($C963=\"\",0,COUNTIF(女子名簿!$F$12:$F$520,$C963))","v":0},0]
[0,null,null,null,"",0,{"$f":"IF($C964=\"\",0,COUNTIF(男子名簿!$F$12:$F$520,$C964))","v":0},{"$f":"IF($C964=\"\",0,COUNTIF(女子名簿!$F$12:$F$520,$C964))","v":0},0]
[0,null,null,null,"",0,{"$f":"IF($C965=\"\",0,COUNTIF(男子名簿!$F$12:$F$520,$C965))","v":0},{"$f":"IF($C965=\"\",0,COUNTIF(女子名簿!$F$12:$F$520,$C965))","v":0},0]
[0,null,null,null,"",0,{"$f":"IF($C966=\"\",0,COUNTIF(男子名簿!$F$12:$F$520,$C966))","v":0},{"$f":"IF($C966=\"\",0,COUNTIF(女子名簿!$F$12:$F$520,$C966))","v":0},0]
[0,null,null,null,"",0,{"$f":"IF($C967=\"\",0,COUNTIF(男子名簿!$F$12:$F$520,$C967))","v":0},{"$f":"IF($C967=\"\",0,COUNTIF(女子名簿!$F$12:$F$520,$C967))","v":0},0]
[0,null,null,null,"",0,{"$f":"IF($C968=\"\",0,COUNTIF(男子名簿!$F$12:$F$520,$C968))","v":0},{"$f":"IF($C968=\"\",0,COUNTIF(女子名簿!$F$12:$F$520,$C968))","v":0},0]
[0,null,null,null,"",0,{"$f":"IF($C969=\"\",0,COUNTIF(男子名簿!$F$12:$F$520,$C969))","v":0},{"$f":"IF($C969=\"\",0,COUNTIF(女子名簿!$F$12:$F$520,$C969))","v":0},0]
[0,null,null,null,"",0,{"$f":"IF($C970=\"\",0,COUNTIF(男子名簿!$F$12:$F$520,$C970))","v":0},{"$f":"IF($C970=\"\",0,COUNTIF(女子名簿!$F$12:$F$520,$C970))","v":0},0]
[0,null,null,null,"",0,{"$f":"IF($C971=\"\",0,COUNTIF(男子名簿!$F$12:$F$520,$C971))","v":0},{"$f":"IF($C971=\"\",0,COUNTIF(女子名簿!$F$12:$F$520,$C971))","v":0},0]
[0,null,null,null,"",0,{"$f":"IF($C972=\"\",0,COUNTIF(男子名簿!$F$12:$F$520,$C972))","v":0},{"$f":"IF($C972=\"\",0,COUNTIF(女子名簿!$F$12:$F$520,$C972))","v":0},0]
[0,null,null,null,"",0,{"$f":"IF($C973=\"\",0,COUNTIF(男子名簿!$F$12:$F$520,$C973))","v":0},{"$f":"IF($C973=\"\",0,COUNTIF(女子名簿!$F$12:$F$520,$C973))","v":0},0]
[0,null,null,null,"",0,{"$f":"IF($C974=\"\",0,COUNTIF(男子名簿!$F$12:$F$520,$C974))","v":0},{"$f":"IF($C974=\"\",0,COUNTIF(女子名簿!$F$12:$F$520,$C974))","v":0},0]
[0,null,null,null,"",0,{"$f":"IF($C975=\"\",0,COUNTIF(男子名簿!$F$12:$F$520,$C975))","v":0},{"$f":"IF($C975=\"\",0,COUNTIF(女子名簿!$F$12:$F$520,$C975))","v":0},0]
[0,null,null,null,"",0,{"$f":"IF($C976=\"\",0,COUNTIF(男子名簿!$F$12:$F$520,$C976))","v":0},{"$f":"IF($C976=\"\",0,COUNTIF(女子名簿!$F$12:$F$520,$C976))","v":0},0]
[0,null,null,null,"",0,{"$f":"IF($C977=\"\",0,COUNTIF(男子名簿!$F$12:$F$520,$C977))","v":0},{"$f":"IF($C977=\"\",0,COUNTIF(女子名簿!$F$12:$F$520,$C977))","v":0},0]
[0,null,null,null,null,null,{"$f":"IF($C978=\"\",0,COUNTIF(男子名簿!$F$12:$F$520,$C978))","v":0},{"$f":"IF($C978=\"\",0,COUNTIF(女子名簿!$F$12:$F$520,$C978))","v":0},0]
[0,null,null,null,{"$f":"IF($C979=\"\",\"\",ASC(PHONETIC($C979)))","v":""},{"$f":"C979","v":0},{"$f":"IF($C979=\"\",0,COUNTIF(男子名簿!$F$12:$F$520,$C979))","v":0},{"$f":"IF($C979=\"\",0,COUNTIF(女子名簿!$F$12:$F$520,$C979))","v":0},0]
[0,null,null,null,"",0,{"$f":"IF($C980=\"\",0,COUNTIF(男子名簿!$F$12:$F$520,$C980))","v":0},{"$f":"IF($C980=\"\",0,COUNTIF(女子名簿!$F$12:$F$520,$C980))","v":0},0]
[0,null,null,null,"",0,{"$f":"IF($C981=\"\",0,COUNTIF(男子名簿!$F$12:$F$520,$C981))","v":0},{"$f":"IF($C981=\"\",0,COUNTIF(女子名簿!$F$12:$F$520,$C981))","v":0},0]
[0,null,null,null,"",0,{"$f":"IF($C982=\"\",0,COUNTIF(男子名簿!$F$12:$F$520,$C982))","v":0},{"$f":"IF($C982=\"\",0,COUNTIF(女子名簿!$F$12:$F$520,$C982))","v":0},0]
[0,null,null,null,"",0,{"$f":"IF($C983=\"\",0,COUNTIF(男子名簿!$F$12:$F$520,$C983))","v":0},{"$f":"IF($C983=\"\",0,COUNTIF(女子名簿!$F$12:$F$520,$C983))","v":0},0]
[0,null,null,null,"",0,{"$f":"IF($C984=\"\",0,COUNTIF(男子名簿!$F$12:$F$520,$C984))","v":0},{"$f":"IF($C984=\"\",0,COUNTIF(女子名簿!$F$12:$F$520,$C984))","v":0},0]
[0,null,null,null,"",0,{"$f":"IF($C985=\"\",0,COUNTIF(男子名簿!$F$12:$F$520,$C985))","v":0},{"$f":"IF($C985=\"\",0,COUNTIF(女子名簿!$F$12:$F$520,$C985))","v":0},0]
[0,null,null,null,"",0,{"$f":"IF($C986=\"\",0,COUNTIF(男子名簿!$F$12:$F$520,$C986))","v":0},{"$f":"IF($C986=\"\",0,COUNTIF(女子名簿!$F$12:$F$520,$C986))","v":0},0]
[0,null,null,null,"",0,{"$f":"IF($C987=\"\",0,COUNTIF(男子名簿!$F$12:$F$520,$C987))","v":0},{"$f":"IF($C987=\"\",0,COUNTIF(女子名簿!$F$12:$F$520,$C987))","v":0},0]
[0,null,null,null,"",0,{"$f":"IF($C988=\"\",0,COUNTIF(男子名簿!$F$12:$F$520,$C988))","v":0},{"$f":"IF($C988=\"\",0,COUNTIF(女子名簿!$F$12:$F$520,$C988))","v":0},0]
[0,null,null,null,"",0,{"$f":"IF($C989=\"\",0,COUNTIF(男子名簿!$F$12:$F$520,$C989))","v":0},{"$f":"IF($C989=\"\",0,COUNTIF(女子名簿!$F$12:$F$520,$C989))","v":0},0]
[0,null,null,null,"",0,{"$f":"IF($C990=\"\",0,COUNTIF(男子名簿!$F$12:$F$520,$C990))","v":0},{"$f":"IF($C990=\"\",0,COUNTIF(女子名簿!$F$12:$F$520,$C990))","v":0},0]
[0,null,null,null,"",0,{"$f":"IF($C991=\"\",0,COUNTIF(男子名簿!$F$12:$F$520,$C991))","v":0},{"$f":"IF($C991=\"\",0,COUNTIF(女子名簿!$F$12:$F$520,$C991))","v":0},0]
[0,null,null,null,"",0,{"$f":"IF($C992=\"\",0,COUNTIF(男子名簿!$F$12:$F$520,$C992))","v":0},{"$f":"IF($C992=\"\",0,COUNTIF(女子名簿!$F$12:$F$520,$C992))","v":0},0]
[0,null,null,null,"",0,{"$f":"IF($C993=\"\",0,COUNTIF(男子名簿!$F$12:$F$520,$C993))","v":0},{"$f":"IF($C993=\"\",0,COUNTIF(女子名簿!$F$12:$F$520,$C993))","v":0},0]
[0,null,null,null,"",0,{"$f":"IF($C994=\"\",0,COUNTIF(男子名簿!$F$12:$F$520,$C994))","v":0},{"$f":"IF($C994=\"\",0,COUNTIF(女子名簿!$F$12:$F$520,$C994))","v":0},0]
[0,null,null,null,"",0,{"$f":"IF($C995=\"\",0,COUNTIF(男子名簿!$F$12:$F$520,$C995))","v":0},{"$f":"IF($C995=\"\",0,COUNTIF(女子名簿!$F$12:$F$520,$C995))","v":0},0]
[0,null,null,null,"",0,{"$f":"IF($C996=\"\",0,COUNTIF(男子名簿!$F$12:$F$520,$C996))","v":0},{"$f":"IF($C996=\"\",0,COUNTIF(女子名簿!$F$12:$F$520,$C996))","v":0},0]
[0,null,null,null,"",0,{"$f":"IF($C997=\"\",0,COUNTIF(男子名簿!$F$12:$F$520,$C997))","v":0},{"$f":"IF($C997=\"\",0,COUNTIF(女子名簿!$F$12:$F$520,$C997))","v":0},0]
[0,null,null,null,null,null,{"$f":"IF($C998=\"\",0,COUNTIF(男子名簿!$F$12:$F$520,$C998))","v":0},{"$f":"IF($C998=\"\",0,COUNTIF(女子名簿!$F$12:$F$520,$C998))","v":0},0]
[0,null,null,null,{"$f":"IF($C999=\"\",\"\",ASC(PHONETIC($C999)))","v":""},{"$f":"C999","v":0},{"$f":"IF($C999=\"\",0,COUNTIF(男子名簿!$F$12:$F$520,$C999))","v":0},{"$f":"IF($C999=\"\",0,COUNTIF(女子名簿!$F$12:$F$520,$C999))","v":0},0]
[0,null,null,null,"",0,{"$f":"IF($C1000=\"\",0,COUNTIF(男子名簿!$F$12:$F$520,$C1000))","v":0},{"$f":"IF($C1000=\"\",0,COUNTIF(女子名簿!$F$12:$F$520,$C1000))","v":0},0]
[0,null,null,null,"",0,{"$f":"IF($C1001=\"\",0,COUNTIF(男子名簿!$F$12:$F$520,$C1001))","v":0},{"$f":"IF($C1001=\"\",0,COUNTIF(女子名簿!$F$12:$F$520,$C1001))","v":0},0]
[0,null,null,null,"",0,{"$f":"IF($C1002=\"\",0,COUNTIF(男子名簿!$F$12:$F$520,$C1002))","v":0},{"$f":"IF($C1002=\"\",0,COUNTIF(女子名簿!$F$12:$F$520,$C1002))","v":0},0]
[0,null,null,null,"",0,{"$f":"IF($C1003=\"\",0,COUNTIF(男子名簿!$F$12:$F$520,$C1003))","v":0},{"$f":"IF($C1003=\"\",0,COUNTIF(女子名簿!$F$12:$F$520,$C1003))","v":0},0]
[0,null,null,null,"",0,{"$f":"IF($C1004=\"\",0,COUNTIF(男子名簿!$F$12:$F$520,$C1004))","v":0},{"$f":"IF($C1004=\"\",0,COUNTIF(女子名簿!$F$12:$F$520,$C1004))","v":0},0]
[0,null,null,null,"",0,{"$f":"IF($C1005=\"\",0,COUNTIF(男子名簿!$F$12:$F$520,$C1005))","v":0},{"$f":"IF($C1005=\"\",0,COUNTIF(女子名簿!$F$12:$F$520,$C1005))","v":0},0]
[0,null,null,null,"",0,{"$f":"IF($C1006=\"\",0,COUNTIF(男子名簿!$F$12:$F$520,$C1006))","v":0},{"$f":"IF($C1006=\"\",0,COUNTIF(女子名簿!$F$12:$F$520,$C1006))","v":0},0]
[0,null,null,null,"",0,{"$f":"IF($C1007=\"\",0,COUNTIF(男子名簿!$F$12:$F$520,$C1007))","v":0},{"$f":"IF($C1007=\"\",0,COUNTIF(女子名簿!$F$12:$F$520,$C1007))","v":0},0]
[0,null,null,null,"",0,{"$f":"IF($C1008=\"\",0,COUNTIF(男子名簿!$F$12:$F$520,$C1008))","v":0},{"$f":"IF($C1008=\"\",0,COUNTIF(女子名簿!$F$12:$F$520,$C1008))","v":0},0]
[0,null,null,null,"",0,{"$f":"IF($C1009=\"\",0,COUNTIF(男子名簿!$F$12:$F$520,$C1009))","v":0},{"$f":"IF($C1009=\"\",0,COUNTIF(女子名簿!$F$12:$F$520,$C1009))","v":0},0]
[0,null,null,null,"",0,{"$f":"IF($C1010=\"\",0,COUNTIF(男子名簿!$F$12:$F$520,$C1010))","v":0},{"$f":"IF($C1010=\"\",0,COUNTIF(女子名簿!$F$12:$F$520,$C1010))","v":0},0]
[0,null,null,null,"",0,{"$f":"IF($C1011=\"\",0,COUNTIF(男子名簿!$F$12:$F$520,$C1011))","v":0},{"$f":"IF($C1011=\"\",0,COUNTIF(女子名簿!$F$12:$F$520,$C1011))","v":0},0]
[0,null,null,null,"",0,{"$f":"IF($C1012=\"\",0,COUNTIF(男子名簿!$F$12:$F$520,$C1012))","v":0},{"$f":"IF($C1012=\"\",0,COUNTIF(女子名簿!$F$12:$F$520,$C1012))","v":0},0]
[0,null,null,null,"",0,{"$f":"IF($C1013=\"\",0,COUNTIF(男子名簿!$F$12:$F$520,$C1013))","v":0},{"$f":"IF($C1013=\"\",0,COUNTIF(女子名簿!$F$12:$F$520,$C1013))","v":0},0]
[0,null,null,null,"",0,{"$f":"IF($C1014=\"\",0,COUNTIF(男子名簿!$F$12:$F$520,$C1014))","v":0},{"$f":"IF($C1014=\"\",0,COUNTIF(女子名簿!$F$12:$F$520,$C1014))","v":0},0]
[0,null,null,null,"",0,{"$f":"IF($C1015=\"\",0,COUNTIF(男子名簿!$F$12:$F$520,$C1015))","v":0},{"$f":"IF($C1015=\"\",0,COUNTIF(女子名簿!$F$12:$F$520,$C1015))","v":0},0]
[0,null,null,null,"",0,{"$f":"IF($C1016=\"\",0,COUNTIF(男子名簿!$F$12:$F$520,$C1016))","v":0},{"$f":"IF($C1016=\"\",0,COUNTIF(女子名簿!$F$12:$F$520,$C1016))","v":0},0]
[0,null,null,null,"",0,{"$f":"IF($C1017=\"\",0,COUNTIF(男子名簿!$F$12:$F$520,$C1017))","v":0},{"$f":"IF($C1017=\"\",0,COUNTIF(女子名簿!$F$12:$F$520,$C1017))","v":0},0]
[0,null,null,null,null,null,{"$f":"IF($C1018=\"\",0,COUNTIF(男子名簿!$F$12:$F$520,$C1018))","v":0},{"$f":"IF($C1018=\"\",0,COUNTIF(女子名簿!$F$12:$F$520,$C1018))","v":0},0]
[0,null,null,null,{"$f":"IF($C1019=\"\",\"\",ASC(PHONETIC($C1019)))","v":""},{"$f":"C1019","v":0},{"$f":"IF($C1019=\"\",0,COUNTIF(男子名簿!$F$12:$F$520,$C1019))","v":0},{"$f":"IF($C1019=\"\",0,COUNTIF(女子名簿!$F$12:$F$520,$C1019))","v":0},0]
[0,null,null,null,"",0,{"$f":"IF($C1020=\"\",0,COUNTIF(男子名簿!$F$12:$F$520,$C1020))","v":0},{"$f":"IF($C1020=\"\",0,COUNTIF(女子名簿!$F$12:$F$520,$C1020))","v":0},0]
[0,null,null,null,"",0,{"$f":"IF($C1021=\"\",0,COUNTIF(男子名簿!$F$12:$F$520,$C1021))","v":0},{"$f":"IF($C1021=\"\",0,COUNTIF(女子名簿!$F$12:$F$520,$C1021))","v":0},0]
[0,null,null,null,"",0,{"$f":"IF($C1022=\"\",0,COUNTIF(男子名簿!$F$12:$F$520,$C1022))","v":0},{"$f":"IF($C1022=\"\",0,COUNTIF(女子名簿!$F$12:$F$520,$C1022))","v":0},0]
[0,null,null,null,"",0,{"$f":"IF($C1023=\"\",0,COUNTIF(男子名簿!$F$12:$F$520,$C1023))","v":0},{"$f":"IF($C1023=\"\",0,COUNTIF(女子名簿!$F$12:$F$520,$C1023))","v":0},0]
[0,null,null,null,"",0,{"$f":"IF($C1024=\"\",0,COUNTIF(男子名簿!$F$12:$F$520,$C1024))","v":0},{"$f":"IF($C1024=\"\",0,COUNTIF(女子名簿!$F$12:$F$520,$C1024))","v":0},0]
[0,null,null,null,"",0,{"$f":"IF($C1025=\"\",0,COUNTIF(男子名簿!$F$12:$F$520,$C1025))","v":0},{"$f":"IF($C1025=\"\",0,COUNTIF(女子名簿!$F$12:$F$520,$C1025))","v":0},0]
[0,null,null,null,"",0,{"$f":"IF($C1026=\"\",0,COUNTIF(男子名簿!$F$12:$F$520,$C1026))","v":0},{"$f":"IF($C1026=\"\",0,COUNTIF(女子名簿!$F$12:$F$520,$C1026))","v":0},0]
[0,null,null,null,"",0,{"$f":"IF($C1027=\"\",0,COUNTIF(男子名簿!$F$12:$F$520,$C1027))","v":0},{"$f":"IF($C1027=\"\",0,COUNTIF(女子名簿!$F$12:$F$520,$C1027))","v":0},0]
[0,null,null,null,"",0,{"$f":"IF($C1028=\"\",0,COUNTIF(男子名簿!$F$12:$F$520,$C1028))","v":0},{"$f":"IF($C1028=\"\",0,COUNTIF(女子名簿!$F$12:$F$520,$C1028))","v":0},0]
[0,null,null,null,"",0,{"$f":"IF($C1029=\"\",0,COUNTIF(男子名簿!$F$12:$F$520,$C1029))","v":0},{"$f":"IF($C1029=\"\",0,COUNTIF(女子名簿!$F$12:$F$520,$C1029))","v":0},0]
[0,null,null,null,"",0,{"$f":"IF($C1030=\"\",0,COUNTIF(男子名簿!$F$12:$F$520,$C1030))","v":0},{"$f":"IF($C1030=\"\",0,COUNTIF(女子名簿!$F$12:$F$520,$C1030))","v":0},0]
[0,null,null,null,"",0,{"$f":"IF($C1031=\"\",0,COUNTIF(男子名簿!$F$12:$F$520,$C1031))","v":0},{"$f":"IF($C1031=\"\",0,COUNTIF(女子名簿!$F$12:$F$520,$C1031))","v":0},0]
[0,null,null,null,"",0,{"$f":"IF($C1032=\"\",0,COUNTIF(男子名簿!$F$12:$F$520,$C1032))","v":0},{"$f":"IF($C1032=\"\",0,COUNTIF(女子名簿!$F$12:$F$520,$C1032))","v":0},0]
[0,null,null,null,"",0,{"$f":"IF($C1033=\"\",0,COUNTIF(男子名簿!$F$12:$F$520,$C1033))","v":0},{"$f":"IF($C1033=\"\",0,COUNTIF(女子名簿!$F$12:$F$520,$C1033))","v":0},{"$f":"G1033+H1033","v":0}]
[0,null,null,null,"",0,{"$f":"IF($C1034=\"\",0,COUNTIF(男子名簿!$F$12:$F$520,$C1034))","v":0},{"$f":"IF($C1034=\"\",0,COUNTIF(女子名簿!$F$12:$F$520,$C1034))","v":0},0]
[0,null,null,null,"",0,{"$f":"IF($C1035=\"\",0,COUNTIF(男子名簿!$F$12:$F$520,$C1035))","v":0},{"$f":"IF($C1035=\"\",0,COUNTIF(女子名簿!$F$12:$F$520,$C1035))","v":0},0]
[0,null,null,null,"",0,{"$f":"IF($C1036=\"\",0,COUNTIF(男子名簿!$F$12:$F$520,$C1036))","v":0},{"$f":"IF($C1036=\"\",0,COUNTIF(女子名簿!$F$12:$F$520,$C1036))","v":0},0]
[0,null,null,null,"",0,{"$f":"IF($C1037=\"\",0,COUNTIF(男子名簿!$F$12:$F$520,$C1037))","v":0},{"$f":"IF($C1037=\"\",0,COUNTIF(女子名簿!$F$12:$F$520,$C1037))","v":0},0]
[0,null,null,null,null,null,{"$f":"IF($C1038=\"\",0,COUNTIF(男子名簿!$F$12:$F$520,$C1038))","v":0},{"$f":"IF($C1038=\"\",0,COUNTIF(女子名簿!$F$12:$F$520,$C1038))","v":0},0]
[0,null,null,null,{"$f":"IF($C1039=\"\",\"\",ASC(PHONETIC($C1039)))","v":""},{"$f":"C1039","v":0},{"$f":"IF($C1039=\"\",0,COUNTIF(男子名簿!$F$12:$F$520,$C1039))","v":0},{"$f":"IF($C1039=\"\",0,COUNTIF(女子名簿!$F$12:$F$520,$C1039))","v":0},0]
[0,null,null,null,"",0,{"$f":"IF($C1040=\"\",0,COUNTIF(男子名簿!$F$12:$F$520,$C1040))","v":0},{"$f":"IF($C1040=\"\",0,COUNTIF(女子名簿!$F$12:$F$520,$C1040))","v":0},0]
[0,null,null,null,"",0,{"$f":"IF($C1041=\"\",0,COUNTIF(男子名簿!$F$12:$F$520,$C1041))","v":0},{"$f":"IF($C1041=\"\",0,COUNTIF(女子名簿!$F$12:$F$520,$C1041))","v":0},0]
[0,null,null,null,"",0,{"$f":"IF($C1042=\"\",0,COUNTIF(男子名簿!$F$12:$F$520,$C1042))","v":0},{"$f":"IF($C1042=\"\",0,COUNTIF(女子名簿!$F$12:$F$520,$C1042))","v":0},0]
[0,null,null,null,"",0,{"$f":"IF($C1043=\"\",0,COUNTIF(男子名簿!$F$12:$F$520,$C1043))","v":0},{"$f":"IF($C1043=\"\",0,COUNTIF(女子名簿!$F$12:$F$520,$C1043))","v":0},0]
[0,null,null,null,"",0,{"$f":"IF($C1044=\"\",0,COUNTIF(男子名簿!$F$12:$F$520,$C1044))","v":0},{"$f":"IF($C1044=\"\",0,COUNTIF(女子名簿!$F$12:$F$520,$C1044))","v":0},0]
[0,null,null,null,"",0,{"$f":"IF($C1045=\"\",0,COUNTIF(男子名簿!$F$12:$F$520,$C1045))","v":0},{"$f":"IF($C1045=\"\",0,COUNTIF(女子名簿!$F$12:$F$520,$C1045))","v":0},0]
[0,null,null,null,"",0,{"$f":"IF($C1046=\"\",0,COUNTIF(男子名簿!$F$12:$F$520,$C1046))","v":0},{"$f":"IF($C1046=\"\",0,COUNTIF(女子名簿!$F$12:$F$520,$C1046))","v":0},0]
[0,null,null,null,"",0,{"$f":"IF($C1047=\"\",0,COUNTIF(男子名簿!$F$12:$F$520,$C1047))","v":0},{"$f":"IF($C1047=\"\",0,COUNTIF(女子名簿!$F$12:$F$520,$C1047))","v":0},0]
[0,null,null,null,"",0,{"$f":"IF($C1048=\"\",0,COUNTIF(男子名簿!$F$12:$F$520,$C1048))","v":0},{"$f":"IF($C1048=\"\",0,COUNTIF(女子名簿!$F$12:$F$520,$C1048))","v":0},0]
[0,null,null,null,"",0,{"$f":"IF($C1049=\"\",0,COUNTIF(男子名簿!$F$12:$F$520,$C1049))","v":0},{"$f":"IF($C1049=\"\",0,COUNTIF(女子名簿!$F$12:$F$520,$C1049))","v":0},0]
[0,null,null,null,"",0,{"$f":"IF($C1050=\"\",0,COUNTIF(男子名簿!$F$12:$F$520,$C1050))","v":0},{"$f":"IF($C1050=\"\",0,COUNTIF(女子名簿!$F$12:$F$520,$C1050))","v":0},0]
[0,null,null,null,"",0,{"$f":"IF($C1051=\"\",0,COUNTIF(男子名簿!$F$12:$F$520,$C1051))","v":0},{"$f":"IF($C1051=\"\",0,COUNTIF(女子名簿!$F$12:$F$520,$C1051))","v":0},0]
[0,null,null,null,"",0,{"$f":"IF($C1052=\"\",0,COUNTIF(男子名簿!$F$12:$F$520,$C1052))","v":0},{"$f":"IF($C1052=\"\",0,COUNTIF(女子名簿!$F$12:$F$520,$C1052))","v":0},0]
[0,null,null,null,"",0,{"$f":"IF($C1053=\"\",0,COUNTIF(男子名簿!$F$12:$F$520,$C1053))","v":0},{"$f":"IF($C1053=\"\",0,COUNTIF(女子名簿!$F$12:$F$520,$C1053))","v":0},0]
[0,null,null,null,"",0,{"$f":"IF($C1054=\"\",0,COUNTIF(男子名簿!$F$12:$F$520,$C1054))","v":0},{"$f":"IF($C1054=\"\",0,COUNTIF(女子名簿!$F$12:$F$520,$C1054))","v":0},0]
[0,null,null,null,"",0,{"$f":"IF($C1055=\"\",0,COUNTIF(男子名簿!$F$12:$F$520,$C1055))","v":0},{"$f":"IF($C1055=\"\",0,COUNTIF(女子名簿!$F$12:$F$520,$C1055))","v":0},0]
[0,null,null,null,"",0,{"$f":"IF($C1056=\"\",0,COUNTIF(男子名簿!$F$12:$F$520,$C1056))","v":0},{"$f":"IF($C1056=\"\",0,COUNTIF(女子名簿!$F$12:$F$520,$C1056))","v":0},0]
[0,null,null,null,"",0,{"$f":"IF($C1057=\"\",0,COUNTIF(男子名簿!$F$12:$F$520,$C1057))","v":0},{"$f":"IF($C1057=\"\",0,COUNTIF(女子名簿!$F$12:$F$520,$C1057))","v":0},0]
[0,null,null,null,null,null,{"$f":"IF($C1058=\"\",0,COUNTIF(男子名簿!$F$12:$F$520,$C1058))","v":0},{"$f":"IF($C1058=\"\",0,COUNTIF(女子名簿!$F$12:$F$520,$C1058))","v":0},0]
[0,null,null,null,{"$f":"IF($C1059=\"\",\"\",ASC(PHONETIC($C1059)))","v":""},{"$f":"C1059","v":0},{"$f":"IF($C1059=\"\",0,COUNTIF(男子名簿!$F$12:$F$520,$C1059))","v":0},{"$f":"IF($C1059=\"\",0,COUNTIF(女子名簿!$F$12:$F$520,$C1059))","v":0},0]
[0,null,null,null,"",0,{"$f":"IF($C1060=\"\",0,COUNTIF(男子名簿!$F$12:$F$520,$C1060))","v":0},{"$f":"IF($C1060=\"\",0,COUNTIF(女子名簿!$F$12:$F$520,$C1060))","v":0},0]
[0,null,null,null,"",0,{"$f":"IF($C1061=\"\",0,COUNTIF(男子名簿!$F$12:$F$520,$C1061))","v":0},{"$f":"IF($C1061=\"\",0,COUNTIF(女子名簿!$F$12:$F$520,$C1061))","v":0},0]
[0,null,null,null,"",0,{"$f":"IF($C1062=\"\",0,COUNTIF(男子名簿!$F$12:$F$520,$C1062))","v":0},{"$f":"IF($C1062=\"\",0,COUNTIF(女子名簿!$F$12:$F$520,$C1062))","v":0},0]
[0,null,null,null,"",0,{"$f":"IF($C1063=\"\",0,COUNTIF(男子名簿!$F$12:$F$520,$C1063))","v":0},{"$f":"IF($C1063=\"\",0,COUNTIF(女子名簿!$F$12:$F$520,$C1063))","v":0},0]
[0,null,null,null,"",0,{"$f":"IF($C1064=\"\",0,COUNTIF(男子名簿!$F$12:$F$520,$C1064))","v":0},{"$f":"IF($C1064=\"\",0,COUNTIF(女子名簿!$F$12:$F$520,$C1064))","v":0},0]
[0,null,null,null,"",0,{"$f":"IF($C1065=\"\",0,COUNTIF(男子名簿!$F$12:$F$520,$C1065))","v":0},{"$f":"IF($C1065=\"\",0,COUNTIF(女子名簿!$F$12:$F$520,$C1065))","v":0},0]
[0,null,null,null,"",0,{"$f":"IF($C1066=\"\",0,COUNTIF(男子名簿!$F$12:$F$520,$C1066))","v":0},{"$f":"IF($C1066=\"\",0,COUNTIF(女子名簿!$F$12:$F$520,$C1066))","v":0},0]
[0,null,null,null,"",0,{"$f":"IF($C1067=\"\",0,COUNTIF(男子名簿!$F$12:$F$520,$C1067))","v":0},{"$f":"IF($C1067=\"\",0,COUNTIF(女子名簿!$F$12:$F$520,$C1067))","v":0},0]
[0,null,null,null,"",0,{"$f":"IF($C1068=\"\",0,COUNTIF(男子名簿!$F$12:$F$520,$C1068))","v":0},{"$f":"IF($C1068=\"\",0,COUNTIF(女子名簿!$F$12:$F$520,$C1068))","v":0},0]
[0,null,null,null,"",0,{"$f":"IF($C1069=\"\",0,COUNTIF(男子名簿!$F$12:$F$520,$C1069))","v":0},{"$f":"IF($C1069=\"\",0,COUNTIF(女子名簿!$F$12:$F$520,$C1069))","v":0},0]
[0,null,null,null,"",0,{"$f":"IF($C1070=\"\",0,COUNTIF(男子名簿!$F$12:$F$520,$C1070))","v":0},{"$f":"IF($C1070=\"\",0,COUNTIF(女子名簿!$F$12:$F$520,$C1070))","v":0},0]
[0,null,null,null,"",0,{"$f":"IF($C1071=\"\",0,COUNTIF(男子名簿!$F$12:$F$520,$C1071))","v":0},{"$f":"IF($C1071=\"\",0,COUNTIF(女子名簿!$F$12:$F$520,$C1071))","v":0},0]
[0,null,null,null,"",0,{"$f":"IF($C1072=\"\",0,COUNTIF(男子名簿!$F$12:$F$520,$C1072))","v":0},{"$f":"IF($C1072=\"\",0,COUNTIF(女子名簿!$F$12:$F$520,$C1072))","v":0},0]
[0,null,null,null,"",0,{"$f":"IF($C1073=\"\",0,COUNTIF(男子名簿!$F$12:$F$520,$C1073))","v":0},{"$f":"IF($C1073=\"\",0,COUNTIF(女子名簿!$F$12:$F$520,$C1073))","v":0},0]
[0,null,null,null,"",0,{"$f":"IF($C1074=\"\",0,COUNTIF(男子名簿!$F$12:$F$520,$C1074))","v":0},{"$f":"IF($C1074=\"\",0,COUNTIF(女子名簿!$F$12:$F$520,$C1074))","v":0},0]
[0,null,null,null,"",0,{"$f":"IF($C1075=\"\",0,COUNTIF(男子名簿!$F$12:$F$520,$C1075))","v":0},{"$f":"IF($C1075=\"\",0,COUNTIF(女子名簿!$F$12:$F$520,$C1075))","v":0},0]
[0,null,null,null,"",0,{"$f":"IF($C1076=\"\",0,COUNTIF(男子名簿!$F$12:$F$520,$C1076))","v":0},{"$f":"IF($C1076=\"\",0,COUNTIF(女子名簿!$F$12:$F$520,$C1076))","v":0},0]
[0,null,null,null,"",0,{"$f":"IF($C1077=\"\",0,COUNTIF(男子名簿!$F$12:$F$520,$C1077))","v":0},{"$f":"IF($C1077=\"\",0,COUNTIF(女子名簿!$F$12:$F$520,$C1077))","v":0},0]
[0,null,null,null,null,null,{"$f":"IF($C1078=\"\",0,COUNTIF(男子名簿!$F$12:$F$520,$C1078))","v":0},{"$f":"IF($C1078=\"\",0,COUNTIF(女子名簿!$F$12:$F$520,$C1078))","v":0},0]
[0,null,null,null,{"$f":"IF($C1079=\"\",\"\",ASC(PHONETIC($C1079)))","v":""},{"$f":"C1079","v":0},{"$f":"IF($C1079=\"\",0,COUNTIF(男子名簿!$F$12:$F$520,$C1079))","v":0},{"$f":"IF($C1079=\"\",0,COUNTIF(女子名簿!$F$12:$F$520,$C1079))","v":0},0]
[0,null,null,null,"",0,{"$f":"IF($C1080=\"\",0,COUNTIF(男子名簿!$F$12:$F$520,$C1080))","v":0},{"$f":"IF($C1080=\"\",0,COUNTIF(女子名簿!$F$12:$F$520,$C1080))","v":0},0]
[0,null,null,null,"",0,{"$f":"IF($C1081=\"\",0,COUNTIF(男子名簿!$F$12:$F$520,$C1081))","v":0},{"$f":"IF($C1081=\"\",0,COUNTIF(女子名簿!$F$12:$F$520,$C1081))","v":0},0]
[0,null,null,null,"",0,{"$f":"IF($C1082=\"\",0,COUNTIF(男子名簿!$F$12:$F$520,$C1082))","v":0},{"$f":"IF($C1082=\"\",0,COUNTIF(女子名簿!$F$12:$F$520,$C1082))","v":0},0]
[0,null,null,null,"",0,{"$f":"IF($C1083=\"\",0,COUNTIF(男子名簿!$F$12:$F$520,$C1083))","v":0},{"$f":"IF($C1083=\"\",0,COUNTIF(女子名簿!$F$12:$F$520,$C1083))","v":0},0]
[0,null,null,null,"",0,{"$f":"IF($C1084=\"\",0,COUNTIF(男子名簿!$F$12:$F$520,$C1084))","v":0},{"$f":"IF($C1084=\"\",0,COUNTIF(女子名簿!$F$12:$F$520,$C1084))","v":0},0]
[0,null,null,null,"",0,{"$f":"IF($C1085=\"\",0,COUNTIF(男子名簿!$F$12:$F$520,$C1085))","v":0},{"$f":"IF($C1085=\"\",0,COUNTIF(女子名簿!$F$12:$F$520,$C1085))","v":0},0]
[0,null,null,null,"",0,{"$f":"IF($C1086=\"\",0,COUNTIF(男子名簿!$F$12:$F$520,$C1086))","v":0},{"$f":"IF($C1086=\"\",0,COUNTIF(女子名簿!$F$12:$F$520,$C1086))","v":0},0]
[0,null,null,null,"",0,{"$f":"IF($C1087=\"\",0,COUNTIF(男子名簿!$F$12:$F$520,$C1087))","v":0},{"$f":"IF($C1087=\"\",0,COUNTIF(女子名簿!$F$12:$F$520,$C1087))","v":0},0]
[0,null,null,null,"",0,{"$f":"IF($C1088=\"\",0,COUNTIF(男子名簿!$F$12:$F$520,$C1088))","v":0},{"$f":"IF($C1088=\"\",0,COUNTIF(女子名簿!$F$12:$F$520,$C1088))","v":0},0]
[0,null,null,null,"",0,{"$f":"IF($C1089=\"\",0,COUNTIF(男子名簿!$F$12:$F$520,$C1089))","v":0},{"$f":"IF($C1089=\"\",0,COUNTIF(女子名簿!$F$12:$F$520,$C1089))","v":0},0]
[0,null,null,null,"",0,{"$f":"IF($C1090=\"\",0,COUNTIF(男子名簿!$F$12:$F$520,$C1090))","v":0},{"$f":"IF($C1090=\"\",0,COUNTIF(女子名簿!$F$12:$F$520,$C1090))","v":0},0]
[0,null,null,null,"",0,{"$f":"IF($C1091=\"\",0,COUNTIF(男子名簿!$F$12:$F$520,$C1091))","v":0},{"$f":"IF($C1091=\"\",0,COUNTIF(女子名簿!$F$12:$F$520,$C1091))","v":0},0]
[0,null,null,null,"",0,{"$f":"IF($C1092=\"\",0,COUNTIF(男子名簿!$F$12:$F$520,$C1092))","v":0},{"$f":"IF($C1092=\"\",0,COUNTIF(女子名簿!$F$12:$F$520,$C1092))","v":0},0]
[0,null,null,null,"",0,{"$f":"IF($C1093=\"\",0,COUNTIF(男子名簿!$F$12:$F$520,$C1093))","v":0},{"$f":"IF($C1093=\"\",0,COUNTIF(女子名簿!$F$12:$F$520,$C1093))","v":0},0]
[0,null,null,null,"",0,{"$f":"IF($C1094=\"\",0,COUNTIF(男子名簿!$F$12:$F$520,$C1094))","v":0},{"$f":"IF($C1094=\"\",0,COUNTIF(女子名簿!$F$12:$F$520,$C1094))","v":0},0]
[0,null,null,null,"",0,{"$f":"IF($C1095=\"\",0,COUNTIF(男子名簿!$F$12:$F$520,$C1095))","v":0},{"$f":"IF($C1095=\"\",0,COUNTIF(女子名簿!$F$12:$F$520,$C1095))","v":0},0]
[0,null,null,null,"",0,{"$f":"IF($C1096=\"\",0,COUNTIF(男子名簿!$F$12:$F$520,$C1096))","v":0},{"$f":"IF($C1096=\"\",0,COUNTIF(女子名簿!$F$12:$F$520,$C1096))","v":0},0]
[0,null,null,null,"",0,{"$f":"IF($C1097=\"\",0,COUNTIF(男子名簿!$F$12:$F$520,$C1097))","v":0},{"$f":"IF($C1097=\"\",0,COUNTIF(女子名簿!$F$12:$F$520,$C1097))","v":0},0]
[0,null,null,null,null,null,{"$f":"IF($C1098=\"\",0,COUNTIF(男子名簿!$F$12:$F$520,$C1098))","v":0},{"$f":"IF($C1098=\"\",0,COUNTIF(女子名簿!$F$12:$F$520,$C1098))","v":0},{"$f":"G1098+H1098","v":0}]
[0,null,null,null,{"$f":"IF($C1099=\"\",\"\",ASC(PHONETIC($C1099)))","v":""},{"$f":"C1099","v":0},{"$f":"IF($C1099=\"\",0,COUNTIF(男子名簿!$F$12:$F$520,$C1099))","v":0},{"$f":"IF($C1099=\"\",0,COUNTIF(女子名簿!$F$12:$F$520,$C1099))","v":0},0]
[0,null,null,null,"",0,{"$f":"IF($C1100=\"\",0,COUNTIF(男子名簿!$F$12:$F$520,$C1100))","v":0},{"$f":"IF($C1100=\"\",0,COUNTIF(女子名簿!$F$12:$F$520,$C1100))","v":0},0]
[0,null,null,null,"",0,{"$f":"IF($C1101=\"\",0,COUNTIF(男子名簿!$F$12:$F$520,$C1101))","v":0},{"$f":"IF($C1101=\"\",0,COUNTIF(女子名簿!$F$12:$F$520,$C1101))","v":0},0]
[0,null,null,null,"",0,{"$f":"IF($C1102=\"\",0,COUNTIF(男子名簿!$F$12:$F$520,$C1102))","v":0},{"$f":"IF($C1102=\"\",0,COUNTIF(女子名簿!$F$12:$F$520,$C1102))","v":0},0]
[0,null,null,null,"",0,{"$f":"IF($C1103=\"\",0,COUNTIF(男子名簿!$F$12:$F$520,$C1103))","v":0},{"$f":"IF($C1103=\"\",0,COUNTIF(女子名簿!$F$12:$F$520,$C1103))","v":0},0]
[0,null,null,null,"",0,{"$f":"IF($C1104=\"\",0,COUNTIF(男子名簿!$F$12:$F$520,$C1104))","v":0},{"$f":"IF($C1104=\"\",0,COUNTIF(女子名簿!$F$12:$F$520,$C1104))","v":0},0]
[0,null,null,null,"",0,{"$f":"IF($C1105=\"\",0,COUNTIF(男子名簿!$F$12:$F$520,$C1105))","v":0},{"$f":"IF($C1105=\"\",0,COUNTIF(女子名簿!$F$12:$F$520,$C1105))","v":0},0]
[0,null,null,null,"",0,{"$f":"IF($C1106=\"\",0,COUNTIF(男子名簿!$F$12:$F$520,$C1106))","v":0},{"$f":"IF($C1106=\"\",0,COUNTIF(女子名簿!$F$12:$F$520,$C1106))","v":0},0]
[0,null,null,null,"",0,{"$f":"IF($C1107=\"\",0,COUNTIF(男子名簿!$F$12:$F$520,$C1107))","v":0},{"$f":"IF($C1107=\"\",0,COUNTIF(女子名簿!$F$12:$F$520,$C1107))","v":0},0]
[0,null,null,null,"",0,{"$f":"IF($C1108=\"\",0,COUNTIF(男子名簿!$F$12:$F$520,$C1108))","v":0},{"$f":"IF($C1108=\"\",0,COUNTIF(女子名簿!$F$12:$F$520,$C1108))","v":0},0]
[0,null,null,null,"",0,{"$f":"IF($C1109=\"\",0,COUNTIF(男子名簿!$F$12:$F$520,$C1109))","v":0},{"$f":"IF($C1109=\"\",0,COUNTIF(女子名簿!$F$12:$F$520,$C1109))","v":0},0]
[0,null,null,null,"",0,{"$f":"IF($C1110=\"\",0,COUNTIF(男子名簿!$F$12:$F$520,$C1110))","v":0},{"$f":"IF($C1110=\"\",0,COUNTIF(女子名簿!$F$12:$F$520,$C1110))","v":0},0]
[0,null,null,null,"",0,{"$f":"IF($C1111=\"\",0,COUNTIF(男子名簿!$F$12:$F$520,$C1111))","v":0},{"$f":"IF($C1111=\"\",0,COUNTIF(女子名簿!$F$12:$F$520,$C1111))","v":0},0]
[0,null,null,null,"",0,{"$f":"IF($C1112=\"\",0,COUNTIF(男子名簿!$F$12:$F$520,$C1112))","v":0},{"$f":"IF($C1112=\"\",0,COUNTIF(女子名簿!$F$12:$F$520,$C1112))","v":0},0]
[0,null,null,null,"",0,{"$f":"IF($C1113=\"\",0,COUNTIF(男子名簿!$F$12:$F$520,$C1113))","v":0},{"$f":"IF($C1113=\"\",0,COUNTIF(女子名簿!$F$12:$F$520,$C1113))","v":0},0]
[0,null,null,null,"",0,{"$f":"IF($C1114=\"\",0,COUNTIF(男子名簿!$F$12:$F$520,$C1114))","v":0},{"$f":"IF($C1114=\"\",0,COUNTIF(女子名簿!$F$12:$F$520,$C1114))","v":0},0]
[0,null,null,null,"",0,{"$f":"IF($C1115=\"\",0,COUNTIF(男子名簿!$F$12:$F$520,$C1115))","v":0},{"$f":"IF($C1115=\"\",0,COUNTIF(女子名簿!$F$12:$F$520,$C1115))","v":0},0]
[0,null,null,null,"",0,{"$f":"IF($C1116=\"\",0,COUNTIF(男子名簿!$F$12:$F$520,$C1116))","v":0},{"$f":"IF($C1116=\"\",0,COUNTIF(女子名簿!$F$12:$F$520,$C1116))","v":0},0]
[0,null,null,null,"",0,{"$f":"IF($C1117=\"\",0,COUNTIF(男子名簿!$F$12:$F$520,$C1117))","v":0},{"$f":"IF($C1117=\"\",0,COUNTIF(女子名簿!$F$12:$F$520,$C1117))","v":0},0]
[0,null,null,null,null,null,{"$f":"IF($C1118=\"\",0,COUNTIF(男子名簿!$F$12:$F$520,$C1118))","v":0},{"$f":"IF($C1118=\"\",0,COUNTIF(女子名簿!$F$12:$F$520,$C1118))","v":0},0]
[0,null,null,null,{"$f":"IF($C1119=\"\",\"\",ASC(PHONETIC($C1119)))","v":""},{"$f":"C1119","v":0},{"$f":"IF($C1119=\"\",0,COUNTIF(男子名簿!$F$12:$F$520,$C1119))","v":0},{"$f":"IF($C1119=\"\",0,COUNTIF(女子名簿!$F$12:$F$520,$C1119))","v":0},0]
[0,null,null,null,"",0,{"$f":"IF($C1120=\"\",0,COUNTIF(男子名簿!$F$12:$F$520,$C1120))","v":0},{"$f":"IF($C1120=\"\",0,COUNTIF(女子名簿!$F$12:$F$520,$C1120))","v":0},0]
[0,null,null,null,"",0,{"$f":"IF($C1121=\"\",0,COUNTIF(男子名簿!$F$12:$F$520,$C1121))","v":0},{"$f":"IF($C1121=\"\",0,COUNTIF(女子名簿!$F$12:$F$520,$C1121))","v":0},0]
[0,null,null,null,"",0,{"$f":"IF($C1122=\"\",0,COUNTIF(男子名簿!$F$12:$F$520,$C1122))","v":0},{"$f":"IF($C1122=\"\",0,COUNTIF(女子名簿!$F$12:$F$520,$C1122))","v":0},0]
[0,null,null,null,"",0,{"$f":"IF($C1123=\"\",0,COUNTIF(男子名簿!$F$12:$F$520,$C1123))","v":0},{"$f":"IF($C1123=\"\",0,COUNTIF(女子名簿!$F$12:$F$520,$C1123))","v":0},0]
[0,null,null,null,"",0,{"$f":"IF($C1124=\"\",0,COUNTIF(男子名簿!$F$12:$F$520,$C1124))","v":0},{"$f":"IF($C1124=\"\",0,COUNTIF(女子名簿!$F$12:$F$520,$C1124))","v":0},0]
[0,null,null,null,"",0,{"$f":"IF($C1125=\"\",0,COUNTIF(男子名簿!$F$12:$F$520,$C1125))","v":0},{"$f":"IF($C1125=\"\",0,COUNTIF(女子名簿!$F$12:$F$520,$C1125))","v":0},0]
[0,null,null,null,"",0,{"$f":"IF($C1126=\"\",0,COUNTIF(男子名簿!$F$12:$F$520,$C1126))","v":0},{"$f":"IF($C1126=\"\",0,COUNTIF(女子名簿!$F$12:$F$520,$C1126))","v":0},0]
[0,null,null,null,"",0,{"$f":"IF($C1127=\"\",0,COUNTIF(男子名簿!$F$12:$F$520,$C1127))","v":0},{"$f":"IF($C1127=\"\",0,COUNTIF(女子名簿!$F$12:$F$520,$C1127))","v":0},0]
[0,null,null,null,"",0,{"$f":"IF($C1128=\"\",0,COUNTIF(男子名簿!$F$12:$F$520,$C1128))","v":0},{"$f":"IF($C1128=\"\",0,COUNTIF(女子名簿!$F$12:$F$520,$C1128))","v":0},0]
[0,null,null,null,"",0,{"$f":"IF($C1129=\"\",0,COUNTIF(男子名簿!$F$12:$F$520,$C1129))","v":0},{"$f":"IF($C1129=\"\",0,COUNTIF(女子名簿!$F$12:$F$520,$C1129))","v":0},0]
[0,null,null,null,"",0,{"$f":"IF($C1130=\"\",0,COUNTIF(男子名簿!$F$12:$F$520,$C1130))","v":0},{"$f":"IF($C1130=\"\",0,COUNTIF(女子名簿!$F$12:$F$520,$C1130))","v":0},{"$f":"G1130+H1130","v":0}]
[0,null,null,null,"",0,{"$f":"IF($C1131=\"\",0,COUNTIF(男子名簿!$F$12:$F$520,$C1131))","v":0},{"$f":"IF($C1131=\"\",0,COUNTIF(女子名簿!$F$12:$F$520,$C1131))","v":0},0]
[0,null,null,null,"",0,{"$f":"IF($C1132=\"\",0,COUNTIF(男子名簿!$F$12:$F$520,$C1132))","v":0},{"$f":"IF($C1132=\"\",0,COUNTIF(女子名簿!$F$12:$F$520,$C1132))","v":0},0]
[0,null,null,null,"",0,{"$f":"IF($C1133=\"\",0,COUNTIF(男子名簿!$F$12:$F$520,$C1133))","v":0},{"$f":"IF($C1133=\"\",0,COUNTIF(女子名簿!$F$12:$F$520,$C1133))","v":0},0]
[0,null,null,null,"",0,{"$f":"IF($C1134=\"\",0,COUNTIF(男子名簿!$F$12:$F$520,$C1134))","v":0},{"$f":"IF($C1134=\"\",0,COUNTIF(女子名簿!$F$12:$F$520,$C1134))","v":0},0]
[0,null,null,null,"",0,{"$f":"IF($C1135=\"\",0,COUNTIF(男子名簿!$F$12:$F$520,$C1135))","v":0},{"$f":"IF($C1135=\"\",0,COUNTIF(女子名簿!$F$12:$F$520,$C1135))","v":0},0]
[0,null,null,null,"",0,{"$f":"IF($C1136=\"\",0,COUNTIF(男子名簿!$F$12:$F$520,$C1136))","v":0},{"$f":"IF($C1136=\"\",0,COUNTIF(女子名簿!$F$12:$F$520,$C1136))","v":0},0]
[0,null,null,null,"",0,{"$f":"IF($C1137=\"\",0,COUNTIF(男子名簿!$F$12:$F$520,$C1137))","v":0},{"$f":"IF($C1137=\"\",0,COUNTIF(女子名簿!$F$12:$F$520,$C1137))","v":0},0]
[0,null,null,null,null,null,{"$f":"IF($C1138=\"\",0,COUNTIF(男子名簿!$F$12:$F$520,$C1138))","v":0},{"$f":"IF($C1138=\"\",0,COUNTIF(女子名簿!$F$12:$F$520,$C1138))","v":0},0]
[0,null,null,null,{"$f":"IF($C1139=\"\",\"\",ASC(PHONETIC($C1139)))","v":""},{"$f":"C1139","v":0},{"$f":"IF($C1139=\"\",0,COUNTIF(男子名簿!$F$12:$F$520,$C1139))","v":0},{"$f":"IF($C1139=\"\",0,COUNTIF(女子名簿!$F$12:$F$520,$C1139))","v":0},0]
[0,null,null,null,"",0,{"$f":"IF($C1140=\"\",0,COUNTIF(男子名簿!$F$12:$F$520,$C1140))","v":0},{"$f":"IF($C1140=\"\",0,COUNTIF(女子名簿!$F$12:$F$520,$C1140))","v":0},0]
[0,null,null,null,"",0,{"$f":"IF($C1141=\"\",0,COUNTIF(男子名簿!$F$12:$F$520,$C1141))","v":0},{"$f":"IF($C1141=\"\",0,COUNTIF(女子名簿!$F$12:$F$520,$C1141))","v":0},0]
[0,null,null,null,"",0,{"$f":"IF($C1142=\"\",0,COUNTIF(男子名簿!$F$12:$F$520,$C1142))","v":0},{"$f":"IF($C1142=\"\",0,COUNTIF(女子名簿!$F$12:$F$520,$C1142))","v":0},0]
[0,null,null,null,"",0,{"$f":"IF($C1143=\"\",0,COUNTIF(男子名簿!$F$12:$F$520,$C1143))","v":0},{"$f":"IF($C1143=\"\",0,COUNTIF(女子名簿!$F$12:$F$520,$C1143))","v":0},0]
[0,null,null,null,"",0,{"$f":"IF($C1144=\"\",0,COUNTIF(男子名簿!$F$12:$F$520,$C1144))","v":0},{"$f":"IF($C1144=\"\",0,COUNTIF(女子名簿!$F$12:$F$520,$C1144))","v":0},0]
[0,null,null,null,"",0,{"$f":"IF($C1145=\"\",0,COUNTIF(男子名簿!$F$12:$F$520,$C1145))","v":0},{"$f":"IF($C1145=\"\",0,COUNTIF(女子名簿!$F$12:$F$520,$C1145))","v":0},0]
[0,null,null,null,"",0,{"$f":"IF($C1146=\"\",0,COUNTIF(男子名簿!$F$12:$F$520,$C1146))","v":0},{"$f":"IF($C1146=\"\",0,COUNTIF(女子名簿!$F$12:$F$520,$C1146))","v":0},0]
[0,null,null,null,"",0,{"$f":"IF($C1147=\"\",0,COUNTIF(男子名簿!$F$12:$F$520,$C1147))","v":0},{"$f":"IF($C1147=\"\",0,COUNTIF(女子名簿!$F$12:$F$520,$C1147))","v":0},0]
[0,null,null,null,"",0,{"$f":"IF($C1148=\"\",0,COUNTIF(男子名簿!$F$12:$F$520,$C1148))","v":0},{"$f":"IF($C1148=\"\",0,COUNTIF(女子名簿!$F$12:$F$520,$C1148))","v":0},0]
[0,null,null,null,"",0,{"$f":"IF($C1149=\"\",0,COUNTIF(男子名簿!$F$12:$F$520,$C1149))","v":0},{"$f":"IF($C1149=\"\",0,COUNTIF(女子名簿!$F$12:$F$520,$C1149))","v":0},0]
[0,null,null,null,"",0,{"$f":"IF($C1150=\"\",0,COUNTIF(男子名簿!$F$12:$F$520,$C1150))","v":0},{"$f":"IF($C1150=\"\",0,COUNTIF(女子名簿!$F$12:$F$520,$C1150))","v":0},0]
[0,null,null,null,"",0,{"$f":"IF($C1151=\"\",0,COUNTIF(男子名簿!$F$12:$F$520,$C1151))","v":0},{"$f":"IF($C1151=\"\",0,COUNTIF(女子名簿!$F$12:$F$520,$C1151))","v":0},0]
[0,null,null,null,"",0,{"$f":"IF($C1152=\"\",0,COUNTIF(男子名簿!$F$12:$F$520,$C1152))","v":0},{"$f":"IF($C1152=\"\",0,COUNTIF(女子名簿!$F$12:$F$520,$C1152))","v":0},0]
[0,null,null,null,"",0,{"$f":"IF($C1153=\"\",0,COUNTIF(男子名簿!$F$12:$F$520,$C1153))","v":0},{"$f":"IF($C1153=\"\",0,COUNTIF(女子名簿!$F$12:$F$520,$C1153))","v":0},0]
[0,null,null,null,"",0,{"$f":"IF($C1154=\"\",0,COUNTIF(男子名簿!$F$12:$F$520,$C1154))","v":0},{"$f":"IF($C1154=\"\",0,COUNTIF(女子名簿!$F$12:$F$520,$C1154))","v":0},0]
[0,null,null,null,"",0,{"$f":"IF($C1155=\"\",0,COUNTIF(男子名簿!$F$12:$F$520,$C1155))","v":0},{"$f":"IF($C1155=\"\",0,COUNTIF(女子名簿!$F$12:$F$520,$C1155))","v":0},0]
[0,null,null,null,"",0,{"$f":"IF($C1156=\"\",0,COUNTIF(男子名簿!$F$12:$F$520,$C1156))","v":0},{"$f":"IF($C1156=\"\",0,COUNTIF(女子名簿!$F$12:$F$520,$C1156))","v":0},0]
[0,null,null,null,"",0,{"$f":"IF($C1157=\"\",0,COUNTIF(男子名簿!$F$12:$F$520,$C1157))","v":0},{"$f":"IF($C1157=\"\",0,COUNTIF(女子名簿!$F$12:$F$520,$C1157))","v":0},0]
[0,null,null,null,null,null,{"$f":"IF($C1158=\"\",0,COUNTIF(男子名簿!$F$12:$F$520,$C1158))","v":0},{"$f":"IF($C1158=\"\",0,COUNTIF(女子名簿!$F$12:$F$520,$C1158))","v":0},0]
[0,null,null,null,{"$f":"IF($C1159=\"\",\"\",ASC(PHONETIC($C1159)))","v":""},{"$f":"C1159","v":0},{"$f":"IF($C1159=\"\",0,COUNTIF(男子名簿!$F$12:$F$520,$C1159))","v":0},{"$f":"IF($C1159=\"\",0,COUNTIF(女子名簿!$F$12:$F$520,$C1159))","v":0},0]
[0,null,null,null,"",0,{"$f":"IF($C1160=\"\",0,COUNTIF(男子名簿!$F$12:$F$520,$C1160))","v":0},{"$f":"IF($C1160=\"\",0,COUNTIF(女子名簿!$F$12:$F$520,$C1160))","v":0},0]
[0,null,null,null,"",0,{"$f":"IF($C1161=\"\",0,COUNTIF(男子名簿!$F$12:$F$520,$C1161))","v":0},{"$f":"IF($C1161=\"\",0,COUNTIF(女子名簿!$F$12:$F$520,$C1161))","v":0},0]
[0,null,null,null,"",0,{"$f":"IF($C1162=\"\",0,COUNTIF(男子名簿!$F$12:$F$520,$C1162))","v":0},{"$f":"IF($C1162=\"\",0,COUNTIF(女子名簿!$F$12:$F$520,$C1162))","v":0},{"$f":"G1162+H1162","v":0}]
[0,null,null,null,"",0,{"$f":"IF($C1163=\"\",0,COUNTIF(男子名簿!$F$12:$F$520,$C1163))","v":0},{"$f":"IF($C1163=\"\",0,COUNTIF(女子名簿!$F$12:$F$520,$C1163))","v":0},0]
[0,null,null,null,"",0,{"$f":"IF($C1164=\"\",0,COUNTIF(男子名簿!$F$12:$F$520,$C1164))","v":0},{"$f":"IF($C1164=\"\",0,COUNTIF(女子名簿!$F$12:$F$520,$C1164))","v":0},0]
[0,null,null,null,"",0,{"$f":"IF($C1165=\"\",0,COUNTIF(男子名簿!$F$12:$F$520,$C1165))","v":0},{"$f":"IF($C1165=\"\",0,COUNTIF(女子名簿!$F$12:$F$520,$C1165))","v":0},0]
[0,null,null,null,"",0,{"$f":"IF($C1166=\"\",0,COUNTIF(男子名簿!$F$12:$F$520,$C1166))","v":0},{"$f":"IF($C1166=\"\",0,COUNTIF(女子名簿!$F$12:$F$520,$C1166))","v":0},0]
[0,null,null,null,"",0,{"$f":"IF($C1167=\"\",0,COUNTIF(男子名簿!$F$12:$F$520,$C1167))","v":0},{"$f":"IF($C1167=\"\",0,COUNTIF(女子名簿!$F$12:$F$520,$C1167))","v":0},0]
[0,null,null,null,"",0,{"$f":"IF($C1168=\"\",0,COUNTIF(男子名簿!$F$12:$F$520,$C1168))","v":0},{"$f":"IF($C1168=\"\",0,COUNTIF(女子名簿!$F$12:$F$520,$C1168))","v":0},0]
[0,null,null,null,"",0,{"$f":"IF($C1169=\"\",0,COUNTIF(男子名簿!$F$12:$F$520,$C1169))","v":0},{"$f":"IF($C1169=\"\",0,COUNTIF(女子名簿!$F$12:$F$520,$C1169))","v":0},0]
[0,null,null,null,"",0,{"$f":"IF($C1170=\"\",0,COUNTIF(男子名簿!$F$12:$F$520,$C1170))","v":0},{"$f":"IF($C1170=\"\",0,COUNTIF(女子名簿!$F$12:$F$520,$C1170))","v":0},0]
[0,null,null,null,"",0,{"$f":"IF($C1171=\"\",0,COUNTIF(男子名簿!$F$12:$F$520,$C1171))","v":0},{"$f":"IF($C1171=\"\",0,COUNTIF(女子名簿!$F$12:$F$520,$C1171))","v":0},0]
[0,null,null,null,"",0,{"$f":"IF($C1172=\"\",0,COUNTIF(男子名簿!$F$12:$F$520,$C1172))","v":0},{"$f":"IF($C1172=\"\",0,COUNTIF(女子名簿!$F$12:$F$520,$C1172))","v":0},0]
[0,null,null,null,"",0,{"$f":"IF($C1173=\"\",0,COUNTIF(男子名簿!$F$12:$F$520,$C1173))","v":0},{"$f":"IF($C1173=\"\",0,COUNTIF(女子名簿!$F$12:$F$520,$C1173))","v":0},0]
[0,null,null,null,"",0,{"$f":"IF($C1174=\"\",0,COUNTIF(男子名簿!$F$12:$F$520,$C1174))","v":0},{"$f":"IF($C1174=\"\",0,COUNTIF(女子名簿!$F$12:$F$520,$C1174))","v":0},0]
[0,null,null,null,"",0,{"$f":"IF($C1175=\"\",0,COUNTIF(男子名簿!$F$12:$F$520,$C1175))","v":0},{"$f":"IF($C1175=\"\",0,COUNTIF(女子名簿!$F$12:$F$520,$C1175))","v":0},0]
[0,null,null,null,"",0,{"$f":"IF($C1176=\"\",0,COUNTIF(男子名簿!$F$12:$F$520,$C1176))","v":0},{"$f":"IF($C1176=\"\",0,COUNTIF(女子名簿!$F$12:$F$520,$C1176))","v":0},0]
[0,null,null,null,"",0,{"$f":"IF($C1177=\"\",0,COUNTIF(男子名簿!$F$12:$F$520,$C1177))","v":0},{"$f":"IF($C1177=\"\",0,COUNTIF(女子名簿!$F$12:$F$520,$C1177))","v":0},0]
[0,null,null,null,null,null,{"$f":"IF($C1178=\"\",0,COUNTIF(男子名簿!$F$12:$F$520,$C1178))","v":0},{"$f":"IF($C1178=\"\",0,COUNTIF(女子名簿!$F$12:$F$520,$C1178))","v":0},{"$f":"G1178+H1178","v":0}]
[0,null,null,null,{"$f":"IF($C1179=\"\",\"\",ASC(PHONETIC($C1179)))","v":""},{"$f":"C1179","v":0},{"$f":"IF($C1179=\"\",0,COUNTIF(男子名簿!$F$12:$F$520,$C1179))","v":0},{"$f":"IF($C1179=\"\",0,COUNTIF(女子名簿!$F$12:$F$520,$C1179))","v":0},0]
[0,null,null,null,"",0,{"$f":"IF($C1180=\"\",0,COUNTIF(男子名簿!$F$12:$F$520,$C1180))","v":0},{"$f":"IF($C1180=\"\",0,COUNTIF(女子名簿!$F$12:$F$520,$C1180))","v":0},0]
[0,null,null,null,"",0,{"$f":"IF($C1181=\"\",0,COUNTIF(男子名簿!$F$12:$F$520,$C1181))","v":0},{"$f":"IF($C1181=\"\",0,COUNTIF(女子名簿!$F$12:$F$520,$C1181))","v":0},0]
[0,null,null,null,"",0,{"$f":"IF($C1182=\"\",0,COUNTIF(男子名簿!$F$12:$F$520,$C1182))","v":0},{"$f":"IF($C1182=\"\",0,COUNTIF(女子名簿!$F$12:$F$520,$C1182))","v":0},0]
[0,null,null,null,"",0,{"$f":"IF($C1183=\"\",0,COUNTIF(男子名簿!$F$12:$F$520,$C1183))","v":0},{"$f":"IF($C1183=\"\",0,COUNTIF(女子名簿!$F$12:$F$520,$C1183))","v":0},0]
[0,null,null,null,"",0,{"$f":"IF($C1184=\"\",0,COUNTIF(男子名簿!$F$12:$F$520,$C1184))","v":0},{"$f":"IF($C1184=\"\",0,COUNTIF(女子名簿!$F$12:$F$520,$C1184))","v":0},0]
[0,null,null,null,"",0,{"$f":"IF($C1185=\"\",0,COUNTIF(男子名簿!$F$12:$F$520,$C1185))","v":0},{"$f":"IF($C1185=\"\",0,COUNTIF(女子名簿!$F$12:$F$520,$C1185))","v":0},0]
[0,null,null,null,"",0,{"$f":"IF($C1186=\"\",0,COUNTIF(男子名簿!$F$12:$F$520,$C1186))","v":0},{"$f":"IF($C1186=\"\",0,COUNTIF(女子名簿!$F$12:$F$520,$C1186))","v":0},0]
[0,null,null,null,"",0,{"$f":"IF($C1187=\"\",0,COUNTIF(男子名簿!$F$12:$F$520,$C1187))","v":0},{"$f":"IF($C1187=\"\",0,COUNTIF(女子名簿!$F$12:$F$520,$C1187))","v":0},0]
[0,null,null,null,"",0,{"$f":"IF($C1188=\"\",0,COUNTIF(男子名簿!$F$12:$F$520,$C1188))","v":0},{"$f":"IF($C1188=\"\",0,COUNTIF(女子名簿!$F$12:$F$520,$C1188))","v":0},0]
[0,null,null,null,"",0,{"$f":"IF($C1189=\"\",0,COUNTIF(男子名簿!$F$12:$F$520,$C1189))","v":0},{"$f":"IF($C1189=\"\",0,COUNTIF(女子名簿!$F$12:$F$520,$C1189))","v":0},0]
[0,null,null,null,"",0,{"$f":"IF($C1190=\"\",0,COUNTIF(男子名簿!$F$12:$F$520,$C1190))","v":0},{"$f":"IF($C1190=\"\",0,COUNTIF(女子名簿!$F$12:$F$520,$C1190))","v":0},0]
[0,null,null,null,"",0,{"$f":"IF($C1191=\"\",0,COUNTIF(男子名簿!$F$12:$F$520,$C1191))","v":0},{"$f":"IF($C1191=\"\",0,COUNTIF(女子名簿!$F$12:$F$520,$C1191))","v":0},0]
[0,null,null,null,"",0,{"$f":"IF($C1192=\"\",0,COUNTIF(男子名簿!$F$12:$F$520,$C1192))","v":0},{"$f":"IF($C1192=\"\",0,COUNTIF(女子名簿!$F$12:$F$520,$C1192))","v":0},0]
[0,null,null,null,"",0,{"$f":"IF($C1193=\"\",0,COUNTIF(男子名簿!$F$12:$F$520,$C1193))","v":0},{"$f":"IF($C1193=\"\",0,COUNTIF(女子名簿!$F$12:$F$520,$C1193))","v":0},0]
[0,null,null,null,"",0,{"$f":"IF($C1194=\"\",0,COUNTIF(男子名簿!$F$12:$F$520,$C1194))","v":0},{"$f":"IF($C1194=\"\",0,COUNTIF(女子名簿!$F$12:$F$520,$C1194))","v":0},0]
[0,null,null,null,"",0,{"$f":"IF($C1195=\"\",0,COUNTIF(男子名簿!$F$12:$F$520,$C1195))","v":0},{"$f":"IF($C1195=\"\",0,COUNTIF(女子名簿!$F$12:$F$520,$C1195))","v":0},0]
[0,null,null,null,"",0,{"$f":"IF($C1196=\"\",0,COUNTIF(男子名簿!$F$12:$F$520,$C1196))","v":0},{"$f":"IF($C1196=\"\",0,COUNTIF(女子名簿!$F$12:$F$520,$C1196))","v":0},0]
[0,null,null,null,"",0,{"$f":"IF($C1197=\"\",0,COUNTIF(男子名簿!$F$12:$F$520,$C1197))","v":0},{"$f":"IF($C1197=\"\",0,COUNTIF(女子名簿!$F$12:$F$520,$C1197))","v":0},0]
[0,null,null,null,null,null,{"$f":"IF($C1198=\"\",0,COUNTIF(男子名簿!$F$12:$F$520,$C1198))","v":0},{"$f":"IF($C1198=\"\",0,COUNTIF(女子名簿!$F$12:$F$520,$C1198))","v":0},0]
[0,null,null,null,{"$f":"IF($C1199=\"\",\"\",ASC(PHONETIC($C1199)))","v":""},{"$f":"C1199","v":0},{"$f":"IF($C1199=\"\",0,COUNTIF(男子名簿!$F$12:$F$520,$C1199))","v":0},{"$f":"IF($C1199=\"\",0,COUNTIF(女子名簿!$F$12:$F$520,$C1199))","v":0},0]
[0,null,null,null,"",0,{"$f":"IF($C1200=\"\",0,COUNTIF(男子名簿!$F$12:$F$520,$C1200))","v":0},{"$f":"IF($C1200=\"\",0,COUNTIF(女子名簿!$F$12:$F$520,$C1200))","v":0},0]
[0,null,null,null,"",0,{"$f":"IF($C1201=\"\",0,COUNTIF(男子名簿!$F$12:$F$520,$C1201))","v":0},{"$f":"IF($C1201=\"\",0,COUNTIF(女子名簿!$F$12:$F$520,$C1201))","v":0},0]
[0,null,null,null,"",0,{"$f":"IF($C1202=\"\",0,COUNTIF(男子名簿!$F$12:$F$520,$C1202))","v":0},{"$f":"IF($C1202=\"\",0,COUNTIF(女子名簿!$F$12:$F$520,$C1202))","v":0},0]
[0,null,null,null,"",0,{"$f":"IF($C1203=\"\",0,COUNTIF(男子名簿!$F$12:$F$520,$C1203))","v":0},{"$f":"IF($C1203=\"\",0,COUNTIF(女子名簿!$F$12:$F$520,$C1203))","v":0},0]
[0,null,null,null,"",0,{"$f":"IF($C1204=\"\",0,COUNTIF(男子名簿!$F$12:$F$520,$C1204))","v":0},{"$f":"IF($C1204=\"\",0,COUNTIF(女子名簿!$F$12:$F$520,$C1204))","v":0},0]
[0,null,null,null,"",0,{"$f":"IF($C1205=\"\",0,COUNTIF(男子名簿!$F$12:$F$520,$C1205))","v":0},{"$f":"IF($C1205=\"\",0,COUNTIF(女子名簿!$F$12:$F$520,$C1205))","v":0},0]
[0,null,null,null,"",0,{"$f":"IF($C1206=\"\",0,COUNTIF(男子名簿!$F$12:$F$520,$C1206))","v":0},{"$f":"IF($C1206=\"\",0,COUNTIF(女子名簿!$F$12:$F$520,$C1206))","v":0},0]
[0,null,null,null,"",0,{"$f":"IF($C1207=\"\",0,COUNTIF(男子名簿!$F$12:$F$520,$C1207))","v":0},{"$f":"IF($C1207=\"\",0,COUNTIF(女子名簿!$F$12:$F$520,$C1207))","v":0},0]
[0,null,null,null,"",0,{"$f":"IF($C1208=\"\",0,COUNTIF(男子名簿!$F$12:$F$520,$C1208))","v":0},{"$f":"IF($C1208=\"\",0,COUNTIF(女子名簿!$F$12:$F$520,$C1208))","v":0},0]
[0,null,null,null,"",0,{"$f":"IF($C1209=\"\",0,COUNTIF(男子名簿!$F$12:$F$520,$C1209))","v":0},{"$f":"IF($C1209=\"\",0,COUNTIF(女子名簿!$F$12:$F$520,$C1209))","v":0},0]
[0,null,null,null,"",0,{"$f":"IF($C1210=\"\",0,COUNTIF(男子名簿!$F$12:$F$520,$C1210))","v":0},{"$f":"IF($C1210=\"\",0,COUNTIF(女子名簿!$F$12:$F$520,$C1210))","v":0},0]
[0,null,null,null,"",0,{"$f":"IF($C1211=\"\",0,COUNTIF(男子名簿!$F$12:$F$520,$C1211))","v":0},{"$f":"IF($C1211=\"\",0,COUNTIF(女子名簿!$F$12:$F$520,$C1211))","v":0},0]
[0,null,null,null,"",0,{"$f":"IF($C1212=\"\",0,COUNTIF(男子名簿!$F$12:$F$520,$C1212))","v":0},{"$f":"IF($C1212=\"\",0,COUNTIF(女子名簿!$F$12:$F$520,$C1212))","v":0},0]
[0,null,null,null,"",0,{"$f":"IF($C1213=\"\",0,COUNTIF(男子名簿!$F$12:$F$520,$C1213))","v":0},{"$f":"IF($C1213=\"\",0,COUNTIF(女子名簿!$F$12:$F$520,$C1213))","v":0},0]
[0,null,null,null,"",0,{"$f":"IF($C1214=\"\",0,COUNTIF(男子名簿!$F$12:$F$520,$C1214))","v":0},{"$f":"IF($C1214=\"\",0,COUNTIF(女子名簿!$F$12:$F$520,$C1214))","v":0},0]
[0,null,null,null,"",0,{"$f":"IF($C1215=\"\",0,COUNTIF(男子名簿!$F$12:$F$520,$C1215))","v":0},{"$f":"IF($C1215=\"\",0,COUNTIF(女子名簿!$F$12:$F$520,$C1215))","v":0},0]
[0,null,null,null,"",0,{"$f":"IF($C1216=\"\",0,COUNTIF(男子名簿!$F$12:$F$520,$C1216))","v":0},{"$f":"IF($C1216=\"\",0,COUNTIF(女子名簿!$F$12:$F$520,$C1216))","v":0},0]
[0,null,null,null,"",0,{"$f":"IF($C1217=\"\",0,COUNTIF(男子名簿!$F$12:$F$520,$C1217))","v":0},{"$f":"IF($C1217=\"\",0,COUNTIF(女子名簿!$F$12:$F$520,$C1217))","v":0},0]
[0,null,null,null,null,null,{"$f":"IF($C1218=\"\",0,COUNTIF(男子名簿!$F$12:$F$520,$C1218))","v":0},{"$f":"IF($C1218=\"\",0,COUNTIF(女子名簿!$F$12:$F$520,$C1218))","v":0},0]
[0,null,null,null,{"$f":"IF($C1219=\"\",\"\",ASC(PHONETIC($C1219)))","v":""},{"$f":"C1219","v":0},{"$f":"IF($C1219=\"\",0,COUNTIF(男子名簿!$F$12:$F$520,$C1219))","v":0},{"$f":"IF($C1219=\"\",0,COUNTIF(女子名簿!$F$12:$F$520,$C1219))","v":0},0]
[0,null,null,null,"",0,{"$f":"IF($C1220=\"\",0,COUNTIF(男子名簿!$F$12:$F$520,$C1220))","v":0},{"$f":"IF($C1220=\"\",0,COUNTIF(女子名簿!$F$12:$F$520,$C1220))","v":0},0]
[0,null,null,null,"",0,{"$f":"IF($C1221=\"\",0,COUNTIF(男子名簿!$F$12:$F$520,$C1221))","v":0},{"$f":"IF($C1221=\"\",0,COUNTIF(女子名簿!$F$12:$F$520,$C1221))","v":0},0]
[0,null,null,null,"",0,{"$f":"IF($C1222=\"\",0,COUNTIF(男子名簿!$F$12:$F$520,$C1222))","v":0},{"$f":"IF($C1222=\"\",0,COUNTIF(女子名簿!$F$12:$F$520,$C1222))","v":0},0]
[0,null,null,null,"",0,{"$f":"IF($C1223=\"\",0,COUNTIF(男子名簿!$F$12:$F$520,$C1223))","v":0},{"$f":"IF($C1223=\"\",0,COUNTIF(女子名簿!$F$12:$F$520,$C1223))","v":0},0]
[0,null,null,null,"",0,{"$f":"IF($C1224=\"\",0,COUNTIF(男子名簿!$F$12:$F$520,$C1224))","v":0},{"$f":"IF($C1224=\"\",0,COUNTIF(女子名簿!$F$12:$F$520,$C1224))","v":0},0]
[0,null,null,null,"",0,{"$f":"IF($C1225=\"\",0,COUNTIF(男子名簿!$F$12:$F$520,$C1225))","v":0},{"$f":"IF($C1225=\"\",0,COUNTIF(女子名簿!$F$12:$F$520,$C1225))","v":0},0]
[0,null,null,null,"",0,{"$f":"IF($C1226=\"\",0,COUNTIF(男子名簿!$F$12:$F$520,$C1226))","v":0},{"$f":"IF($C1226=\"\",0,COUNTIF(女子名簿!$F$12:$F$520,$C1226))","v":0},0]
[0,null,null,null,"",0,{"$f":"IF($C1227=\"\",0,COUNTIF(男子名簿!$F$12:$F$520,$C1227))","v":0},{"$f":"IF($C1227=\"\",0,COUNTIF(女子名簿!$F$12:$F$520,$C1227))","v":0},0]
[0,null,null,null,"",0,{"$f":"IF($C1228=\"\",0,COUNTIF(男子名簿!$F$12:$F$520,$C1228))","v":0},{"$f":"IF($C1228=\"\",0,COUNTIF(女子名簿!$F$12:$F$520,$C1228))","v":0},0]
[0,null,null,null,"",0,{"$f":"IF($C1229=\"\",0,COUNTIF(男子名簿!$F$12:$F$520,$C1229))","v":0},{"$f":"IF($C1229=\"\",0,COUNTIF(女子名簿!$F$12:$F$520,$C1229))","v":0},0]
[0,null,null,null,"",0,{"$f":"IF($C1230=\"\",0,COUNTIF(男子名簿!$F$12:$F$520,$C1230))","v":0},{"$f":"IF($C1230=\"\",0,COUNTIF(女子名簿!$F$12:$F$520,$C1230))","v":0},0]
[0,null,null,null,"",0,{"$f":"IF($C1231=\"\",0,COUNTIF(男子名簿!$F$12:$F$520,$C1231))","v":0},{"$f":"IF($C1231=\"\",0,COUNTIF(女子名簿!$F$12:$F$520,$C1231))","v":0},0]
[0,null,null,null,"",0,{"$f":"IF($C1232=\"\",0,COUNTIF(男子名簿!$F$12:$F$520,$C1232))","v":0},{"$f":"IF($C1232=\"\",0,COUNTIF(女子名簿!$F$12:$F$520,$C1232))","v":0},0]
[0,null,null,null,"",0,{"$f":"IF($C1233=\"\",0,COUNTIF(男子名簿!$F$12:$F$520,$C1233))","v":0},{"$f":"IF($C1233=\"\",0,COUNTIF(女子名簿!$F$12:$F$520,$C1233))","v":0},0]
[0,null,null,null,"",0,{"$f":"IF($C1234=\"\",0,COUNTIF(男子名簿!$F$12:$F$520,$C1234))","v":0},{"$f":"IF($C1234=\"\",0,COUNTIF(女子名簿!$F$12:$F$520,$C1234))","v":0},0]
[0,null,null,null,"",0,{"$f":"IF($C1235=\"\",0,COUNTIF(男子名簿!$F$12:$F$520,$C1235))","v":0},{"$f":"IF($C1235=\"\",0,COUNTIF(女子名簿!$F$12:$F$520,$C1235))","v":0},0]
[0,null,null,null,"",0,{"$f":"IF($C1236=\"\",0,COUNTIF(男子名簿!$F$12:$F$520,$C1236))","v":0},{"$f":"IF($C1236=\"\",0,COUNTIF(女子名簿!$F$12:$F$520,$C1236))","v":0},0]
[0,null,null,null,"",0,{"$f":"IF($C1237=\"\",0,COUNTIF(男子名簿!$F$12:$F$520,$C1237))","v":0},{"$f":"IF($C1237=\"\",0,COUNTIF(女子名簿!$F$12:$F$520,$C1237))","v":0},0]
[0,null,null,null,null,null,{"$f":"IF($C1238=\"\",0,COUNTIF(男子名簿!$F$12:$F$520,$C1238))","v":0},{"$f":"IF($C1238=\"\",0,COUNTIF(女子名簿!$F$12:$F$520,$C1238))","v":0},0]
[0,null,null,null,{"$f":"IF($C1239=\"\",\"\",ASC(PHONETIC($C1239)))","v":""},{"$f":"C1239","v":0},{"$f":"IF($C1239=\"\",0,COUNTIF(男子名簿!$F$12:$F$520,$C1239))","v":0},{"$f":"IF($C1239=\"\",0,COUNTIF(女子名簿!$F$12:$F$520,$C1239))","v":0},0]
[0,null,null,null,"",0,{"$f":"IF($C1240=\"\",0,COUNTIF(男子名簿!$F$12:$F$520,$C1240))","v":0},{"$f":"IF($C1240=\"\",0,COUNTIF(女子名簿!$F$12:$F$520,$C1240))","v":0},0]
[0,null,null,null,"",0,{"$f":"IF($C1241=\"\",0,COUNTIF(男子名簿!$F$12:$F$520,$C1241))","v":0},{"$f":"IF($C1241=\"\",0,COUNTIF(女子名簿!$F$12:$F$520,$C1241))","v":0},0]
[0,null,null,null,"",0,{"$f":"IF($C1242=\"\",0,COUNTIF(男子名簿!$F$12:$F$520,$C1242))","v":0},{"$f":"IF($C1242=\"\",0,COUNTIF(女子名簿!$F$12:$F$520,$C1242))","v":0},0]
[0,null,null,null,"",0,{"$f":"IF($C1243=\"\",0,COUNTIF(男子名簿!$F$12:$F$520,$C1243))","v":0},{"$f":"IF($C1243=\"\",0,COUNTIF(女子名簿!$F$12:$F$520,$C1243))","v":0},0]
[0,null,null,null,"",0,{"$f":"IF($C1244=\"\",0,COUNTIF(男子名簿!$F$12:$F$520,$C1244))","v":0},{"$f":"IF($C1244=\"\",0,COUNTIF(女子名簿!$F$12:$F$520,$C1244))","v":0},0]
[0,null,null,null,"",0,{"$f":"IF($C1245=\"\",0,COUNTIF(男子名簿!$F$12:$F$520,$C1245))","v":0},{"$f":"IF($C1245=\"\",0,COUNTIF(女子名簿!$F$12:$F$520,$C1245))","v":0},0]
[0,null,null,null,"",0,{"$f":"IF($C1246=\"\",0,COUNTIF(男子名簿!$F$12:$F$520,$C1246))","v":0},{"$f":"IF($C1246=\"\",0,COUNTIF(女子名簿!$F$12:$F$520,$C1246))","v":0},0]
[0,null,null,null,"",0,{"$f":"IF($C1247=\"\",0,COUNTIF(男子名簿!$F$12:$F$520,$C1247))","v":0},{"$f":"IF($C1247=\"\",0,COUNTIF(女子名簿!$F$12:$F$520,$C1247))","v":0},0]
[0,null,null,null,"",0,{"$f":"IF($C1248=\"\",0,COUNTIF(男子名簿!$F$12:$F$520,$C1248))","v":0},{"$f":"IF($C1248=\"\",0,COUNTIF(女子名簿!$F$12:$F$520,$C1248))","v":0},0]
[0,null,null,null,"",0,{"$f":"IF($C1249=\"\",0,COUNTIF(男子名簿!$F$12:$F$520,$C1249))","v":0},{"$f":"IF($C1249=\"\",0,COUNTIF(女子名簿!$F$12:$F$520,$C1249))","v":0},0]
[0,null,null,null,"",0,{"$f":"IF($C1250=\"\",0,COUNTIF(男子名簿!$F$12:$F$520,$C1250))","v":0},{"$f":"IF($C1250=\"\",0,COUNTIF(女子名簿!$F$12:$F$520,$C1250))","v":0},0]
[0,null,null,null,"",0,{"$f":"IF($C1251=\"\",0,COUNTIF(男子名簿!$F$12:$F$520,$C1251))","v":0},{"$f":"IF($C1251=\"\",0,COUNTIF(女子名簿!$F$12:$F$520,$C1251))","v":0},0]
[0,null,null,null,"",0,{"$f":"IF($C1252=\"\",0,COUNTIF(男子名簿!$F$12:$F$520,$C1252))","v":0},{"$f":"IF($C1252=\"\",0,COUNTIF(女子名簿!$F$12:$F$520,$C1252))","v":0},0]
[0,null,null,null,"",0,{"$f":"IF($C1253=\"\",0,COUNTIF(男子名簿!$F$12:$F$520,$C1253))","v":0},{"$f":"IF($C1253=\"\",0,COUNTIF(女子名簿!$F$12:$F$520,$C1253))","v":0},0]
[0,null,null,null,"",0,{"$f":"IF($C1254=\"\",0,COUNTIF(男子名簿!$F$12:$F$520,$C1254))","v":0},{"$f":"IF($C1254=\"\",0,COUNTIF(女子名簿!$F$12:$F$520,$C1254))","v":0},0]
[0,null,null,null,"",0,{"$f":"IF($C1255=\"\",0,COUNTIF(男子名簿!$F$12:$F$520,$C1255))","v":0},{"$f":"IF($C1255=\"\",0,COUNTIF(女子名簿!$F$12:$F$520,$C1255))","v":0},0]
[0,null,null,null,"",0,{"$f":"IF($C1256=\"\",0,COUNTIF(男子名簿!$F$12:$F$520,$C1256))","v":0},{"$f":"IF($C1256=\"\",0,COUNTIF(女子名簿!$F$12:$F$520,$C1256))","v":0},0]
[0,null,null,null,"",0,{"$f":"IF($C1257=\"\",0,COUNTIF(男子名簿!$F$12:$F$520,$C1257))","v":0},{"$f":"IF($C1257=\"\",0,COUNTIF(女子名簿!$F$12:$F$520,$C1257))","v":0},0]
[0,null,null,null,null,null,{"$f":"IF($C1258=\"\",0,COUNTIF(男子名簿!$F$12:$F$520,$C1258))","v":0},{"$f":"IF($C1258=\"\",0,COUNTIF(女子名簿!$F$12:$F$520,$C1258))","v":0},{"$f":"G1258+H1258","v":0}]
[0,null,null,null,{"$f":"IF($C1259=\"\",\"\",ASC(PHONETIC($C1259)))","v":""},{"$f":"C1259","v":0},{"$f":"IF($C1259=\"\",0,COUNTIF(男子名簿!$F$12:$F$520,$C1259))","v":0},{"$f":"IF($C1259=\"\",0,COUNTIF(女子名簿!$F$12:$F$520,$C1259))","v":0},0]
[0,null,null,null,"",0,{"$f":"IF($C1260=\"\",0,COUNTIF(男子名簿!$F$12:$F$520,$C1260))","v":0},{"$f":"IF($C1260=\"\",0,COUNTIF(女子名簿!$F$12:$F$520,$C1260))","v":0},0]
[0,null,null,null,"",0,{"$f":"IF($C1261=\"\",0,COUNTIF(男子名簿!$F$12:$F$520,$C1261))","v":0},{"$f":"IF($C1261=\"\",0,COUNTIF(女子名簿!$F$12:$F$520,$C1261))","v":0},0]
[0,null,null,null,"",0,{"$f":"IF($C1262=\"\",0,COUNTIF(男子名簿!$F$12:$F$520,$C1262))","v":0},{"$f":"IF($C1262=\"\",0,COUNTIF(女子名簿!$F$12:$F$520,$C1262))","v":0},0]
[0,null,null,null,"",0,{"$f":"IF($C1263=\"\",0,COUNTIF(男子名簿!$F$12:$F$520,$C1263))","v":0},{"$f":"IF($C1263=\"\",0,COUNTIF(女子名簿!$F$12:$F$520,$C1263))","v":0},0]
[0,null,null,null,"",0,{"$f":"IF($C1264=\"\",0,COUNTIF(男子名簿!$F$12:$F$520,$C1264))","v":0},{"$f":"IF($C1264=\"\",0,COUNTIF(女子名簿!$F$12:$F$520,$C1264))","v":0},0]
[0,null,null,null,"",0,{"$f":"IF($C1265=\"\",0,COUNTIF(男子名簿!$F$12:$F$520,$C1265))","v":0},{"$f":"IF($C1265=\"\",0,COUNTIF(女子名簿!$F$12:$F$520,$C1265))","v":0},0]
[0,null,null,null,"",0,{"$f":"IF($C1266=\"\",0,COUNTIF(男子名簿!$F$12:$F$520,$C1266))","v":0},{"$f":"IF($C1266=\"\",0,COUNTIF(女子名簿!$F$12:$F$520,$C1266))","v":0},0]
[0,null,null,null,"",0,{"$f":"IF($C1267=\"\",0,COUNTIF(男子名簿!$F$12:$F$520,$C1267))","v":0},{"$f":"IF($C1267=\"\",0,COUNTIF(女子名簿!$F$12:$F$520,$C1267))","v":0},0]
[0,null,null,null,"",0,{"$f":"IF($C1268=\"\",0,COUNTIF(男子名簿!$F$12:$F$520,$C1268))","v":0},{"$f":"IF($C1268=\"\",0,COUNTIF(女子名簿!$F$12:$F$520,$C1268))","v":0},0]
[0,null,null,null,"",0,{"$f":"IF($C1269=\"\",0,COUNTIF(男子名簿!$F$12:$F$520,$C1269))","v":0},{"$f":"IF($C1269=\"\",0,COUNTIF(女子名簿!$F$12:$F$520,$C1269))","v":0},0]
[0,null,null,null,"",0,{"$f":"IF($C1270=\"\",0,COUNTIF(男子名簿!$F$12:$F$520,$C1270))","v":0},{"$f":"IF($C1270=\"\",0,COUNTIF(女子名簿!$F$12:$F$520,$C1270))","v":0},0]
[0,null,null,null,"",0,{"$f":"IF($C1271=\"\",0,COUNTIF(男子名簿!$F$12:$F$520,$C1271))","v":0},{"$f":"IF($C1271=\"\",0,COUNTIF(女子名簿!$F$12:$F$520,$C1271))","v":0},0]
[0,null,null,null,"",0,{"$f":"IF($C1272=\"\",0,COUNTIF(男子名簿!$F$12:$F$520,$C1272))","v":0},{"$f":"IF($C1272=\"\",0,COUNTIF(女子名簿!$F$12:$F$520,$C1272))","v":0},0]
[0,null,null,null,"",0,{"$f":"IF($C1273=\"\",0,COUNTIF(男子名簿!$F$12:$F$520,$C1273))","v":0},{"$f":"IF($C1273=\"\",0,COUNTIF(女子名簿!$F$12:$F$520,$C1273))","v":0},0]
[0,null,null,null,"",0,{"$f":"IF($C1274=\"\",0,COUNTIF(男子名簿!$F$12:$F$520,$C1274))","v":0},{"$f":"IF($C1274=\"\",0,COUNTIF(女子名簿!$F$12:$F$520,$C1274))","v":0},0]
[0,null,null,null,"",0,{"$f":"IF($C1275=\"\",0,COUNTIF(男子名簿!$F$12:$F$520,$C1275))","v":0},{"$f":"IF($C1275=\"\",0,COUNTIF(女子名簿!$F$12:$F$520,$C1275))","v":0},0]
[0,null,null,null,"",0,{"$f":"IF($C1276=\"\",0,COUNTIF(男子名簿!$F$12:$F$520,$C1276))","v":0},{"$f":"IF($C1276=\"\",0,COUNTIF(女子名簿!$F$12:$F$520,$C1276))","v":0},0]
[0,null,null,null,"",0,{"$f":"IF($C1277=\"\",0,COUNTIF(男子名簿!$F$12:$F$520,$C1277))","v":0},{"$f":"IF($C1277=\"\",0,COUNTIF(女子名簿!$F$12:$F$520,$C1277))","v":0},0]
[0,null,null,null,null,null,{"$f":"IF($C1278=\"\",0,COUNTIF(男子名簿!$F$12:$F$520,$C1278))","v":0},{"$f":"IF($C1278=\"\",0,COUNTIF(女子名簿!$F$12:$F$520,$C1278))","v":0},0]
[0,null,null,null,{"$f":"IF($C1279=\"\",\"\",ASC(PHONETIC($C1279)))","v":""},{"$f":"C1279","v":0},{"$f":"IF($C1279=\"\",0,COUNTIF(男子名簿!$F$12:$F$520,$C1279))","v":0},{"$f":"IF($C1279=\"\",0,COUNTIF(女子名簿!$F$12:$F$520,$C1279))","v":0},0]
[0,null,null,null,"",0,{"$f":"IF($C1280=\"\",0,COUNTIF(男子名簿!$F$12:$F$520,$C1280))","v":0},{"$f":"IF($C1280=\"\",0,COUNTIF(女子名簿!$F$12:$F$520,$C1280))","v":0},0]
[0,null,null,null,"",0,{"$f":"IF($C1281=\"\",0,COUNTIF(男子名簿!$F$12:$F$520,$C1281))","v":0},{"$f":"IF($C1281=\"\",0,COUNTIF(女子名簿!$F$12:$F$520,$C1281))","v":0},0]
[0,null,null,null,"",0,{"$f":"IF($C1282=\"\",0,COUNTIF(男子名簿!$F$12:$F$520,$C1282))","v":0},{"$f":"IF($C1282=\"\",0,COUNTIF(女子名簿!$F$12:$F$520,$C1282))","v":0},0]
[0,null,null,null,"",0,{"$f":"IF($C1283=\"\",0,COUNTIF(男子名簿!$F$12:$F$520,$C1283))","v":0},{"$f":"IF($C1283=\"\",0,COUNTIF(女子名簿!$F$12:$F$520,$C1283))","v":0},0]
[0,null,null,null,"",0,{"$f":"IF($C1284=\"\",0,COUNTIF(男子名簿!$F$12:$F$520,$C1284))","v":0},{"$f":"IF($C1284=\"\",0,COUNTIF(女子名簿!$F$12:$F$520,$C1284))","v":0},0]
[0,null,null,null,"",0,{"$f":"IF($C1285=\"\",0,COUNTIF(男子名簿!$F$12:$F$520,$C1285))","v":0},{"$f":"IF($C1285=\"\",0,COUNTIF(女子名簿!$F$12:$F$520,$C1285))","v":0},0]
[0,null,null,null,"",0,{"$f":"IF($C1286=\"\",0,COUNTIF(男子名簿!$F$12:$F$520,$C1286))","v":0},{"$f":"IF($C1286=\"\",0,COUNTIF(女子名簿!$F$12:$F$520,$C1286))","v":0},0]
[0,null,null,null,"",0,{"$f":"IF($C1287=\"\",0,COUNTIF(男子名簿!$F$12:$F$520,$C1287))","v":0},{"$f":"IF($C1287=\"\",0,COUNTIF(女子名簿!$F$12:$F$520,$C1287))","v":0},0]
[0,null,null,null,"",0,{"$f":"IF($C1288=\"\",0,COUNTIF(男子名簿!$F$12:$F$520,$C1288))","v":0},{"$f":"IF($C1288=\"\",0,COUNTIF(女子名簿!$F$12:$F$520,$C1288))","v":0},0]
[0,null,null,null,"",0,{"$f":"IF($C1289=\"\",0,COUNTIF(男子名簿!$F$12:$F$520,$C1289))","v":0},{"$f":"IF($C1289=\"\",0,COUNTIF(女子名簿!$F$12:$F$520,$C1289))","v":0},0]
[0,null,null,null,"",0,{"$f":"IF($C1290=\"\",0,COUNTIF(男子名簿!$F$12:$F$520,$C1290))","v":0},{"$f":"IF($C1290=\"\",0,COUNTIF(女子名簿!$F$12:$F$520,$C1290))","v":0},0]
[0,null,null,null,"",0,{"$f":"IF($C1291=\"\",0,COUNTIF(男子名簿!$F$12:$F$520,$C1291))","v":0},{"$f":"IF($C1291=\"\",0,COUNTIF(女子名簿!$F$12:$F$520,$C1291))","v":0},0]
[0,null,null,null,"",0,{"$f":"IF($C1292=\"\",0,COUNTIF(男子名簿!$F$12:$F$520,$C1292))","v":0},{"$f":"IF($C1292=\"\",0,COUNTIF(女子名簿!$F$12:$F$520,$C1292))","v":0},0]
[0,null,null,null,"",0,{"$f":"IF($C1293=\"\",0,COUNTIF(男子名簿!$F$12:$F$520,$C1293))","v":0},{"$f":"IF($C1293=\"\",0,COUNTIF(女子名簿!$F$12:$F$520,$C1293))","v":0},0]
[0,null,null,null,"",0,{"$f":"IF($C1294=\"\",0,COUNTIF(男子名簿!$F$12:$F$520,$C1294))","v":0},{"$f":"IF($C1294=\"\",0,COUNTIF(女子名簿!$F$12:$F$520,$C1294))","v":0},0]
[0,null,null,null,"",0,{"$f":"IF($C1295=\"\",0,COUNTIF(男子名簿!$F$12:$F$520,$C1295))","v":0},{"$f":"IF($C1295=\"\",0,COUNTIF(女子名簿!$F$12:$F$520,$C1295))","v":0},0]
[0,null,null,null,"",0,{"$f":"IF($C1296=\"\",0,COUNTIF(男子名簿!$F$12:$F$520,$C1296))","v":0},{"$f":"IF($C1296=\"\",0,COUNTIF(女子名簿!$F$12:$F$520,$C1296))","v":0},0]
[0,null,null,null,"",0,{"$f":"IF($C1297=\"\",0,COUNTIF(男子名簿!$F$12:$F$520,$C1297))","v":0},{"$f":"IF($C1297=\"\",0,COUNTIF(女子名簿!$F$12:$F$520,$C1297))","v":0},0]
[0,null,null,null,null,null,{"$f":"IF($C1298=\"\",0,COUNTIF(男子名簿!$F$12:$F$520,$C1298))","v":0},{"$f":"IF($C1298=\"\",0,COUNTIF(女子名簿!$F$12:$F$520,$C1298))","v":0},0]
[0,null,null,null,{"$f":"IF($C1299=\"\",\"\",ASC(PHONETIC($C1299)))","v":""},{"$f":"C1299","v":0},{"$f":"IF($C1299=\"\",0,COUNTIF(男子名簿!$F$12:$F$520,$C1299))","v":0},{"$f":"IF($C1299=\"\",0,COUNTIF(女子名簿!$F$12:$F$520,$C1299))","v":0},0]
[0,null,null,null,"",0,{"$f":"IF($C1300=\"\",0,COUNTIF(男子名簿!$F$12:$F$520,$C1300))","v":0},{"$f":"IF($C1300=\"\",0,COUNTIF(女子名簿!$F$12:$F$520,$C1300))","v":0},0]
[0,null,null,null,"",0,{"$f":"IF($C1301=\"\",0,COUNTIF(男子名簿!$F$12:$F$520,$C1301))","v":0},{"$f":"IF($C1301=\"\",0,COUNTIF(女子名簿!$F$12:$F$520,$C1301))","v":0},0]
[0,null,null,null,"",0,{"$f":"IF($C1302=\"\",0,COUNTIF(男子名簿!$F$12:$F$520,$C1302))","v":0},{"$f":"IF($C1302=\"\",0,COUNTIF(女子名簿!$F$12:$F$520,$C1302))","v":0},0]
[0,null,null,null,"",0,{"$f":"IF($C1303=\"\",0,COUNTIF(男子名簿!$F$12:$F$520,$C1303))","v":0},{"$f":"IF($C1303=\"\",0,COUNTIF(女子名簿!$F$12:$F$520,$C1303))","v":0},0]
[0,null,null,null,"",0,{"$f":"IF($C1304=\"\",0,COUNTIF(男子名簿!$F$12:$F$520,$C1304))","v":0},{"$f":"IF($C1304=\"\",0,COUNTIF(女子名簿!$F$12:$F$520,$C1304))","v":0},0]
[0,null,null,null,"",0,{"$f":"IF($C1305=\"\",0,COUNTIF(男子名簿!$F$12:$F$520,$C1305))","v":0},{"$f":"IF($C1305=\"\",0,COUNTIF(女子名簿!$F$12:$F$520,$C1305))","v":0},0]
[0,null,null,null,"",0,{"$f":"IF($C1306=\"\",0,COUNTIF(男子名簿!$F$12:$F$520,$C1306))","v":0},{"$f":"IF($C1306=\"\",0,COUNTIF(女子名簿!$F$12:$F$520,$C1306))","v":0},0]
[0,null,null,null,"",0,{"$f":"IF($C1307=\"\",0,COUNTIF(男子名簿!$F$12:$F$520,$C1307))","v":0},{"$f":"IF($C1307=\"\",0,COUNTIF(女子名簿!$F$12:$F$520,$C1307))","v":0},0]
[0,null,null,null,"",0,{"$f":"IF($C1308=\"\",0,COUNTIF(男子名簿!$F$12:$F$520,$C1308))","v":0},{"$f":"IF($C1308=\"\",0,COUNTIF(女子名簿!$F$12:$F$520,$C1308))","v":0},0]
[0,null,null,null,"",0,{"$f":"IF($C1309=\"\",0,COUNTIF(男子名簿!$F$12:$F$520,$C1309))","v":0},{"$f":"IF($C1309=\"\",0,COUNTIF(女子名簿!$F$12:$F$520,$C1309))","v":0},0]
[0,null,null,null,"",0,{"$f":"IF($C1310=\"\",0,COUNTIF(男子名簿!$F$12:$F$520,$C1310))","v":0},{"$f":"IF($C1310=\"\",0,COUNTIF(女子名簿!$F$12:$F$520,$C1310))","v":0},0]
[0,null,null,null,"",0,{"$f":"IF($C1311=\"\",0,COUNTIF(男子名簿!$F$12:$F$520,$C1311))","v":0},{"$f":"IF($C1311=\"\",0,COUNTIF(女子名簿!$F$12:$F$520,$C1311))","v":0},0]
[0,null,null,null,"",0,{"$f":"IF($C1312=\"\",0,COUNTIF(男子名簿!$F$12:$F$520,$C1312))","v":0},{"$f":"IF($C1312=\"\",0,COUNTIF(女子名簿!$F$12:$F$520,$C1312))","v":0},0]
[0,null,null,null,"",0,{"$f":"IF($C1313=\"\",0,COUNTIF(男子名簿!$F$12:$F$520,$C1313))","v":0},{"$f":"IF($C1313=\"\",0,COUNTIF(女子名簿!$F$12:$F$520,$C1313))","v":0},0]
[0,null,null,null,"",0,{"$f":"IF($C1314=\"\",0,COUNTIF(男子名簿!$F$12:$F$520,$C1314))","v":0},{"$f":"IF($C1314=\"\",0,COUNTIF(女子名簿!$F$12:$F$520,$C1314))","v":0},0]
[0,null,null,null,"",0,{"$f":"IF($C1315=\"\",0,COUNTIF(男子名簿!$F$12:$F$520,$C1315))","v":0},{"$f":"IF($C1315=\"\",0,COUNTIF(女子名簿!$F$12:$F$520,$C1315))","v":0},0]
[0,null,null,null,"",0,{"$f":"IF($C1316=\"\",0,COUNTIF(男子名簿!$F$12:$F$520,$C1316))","v":0},{"$f":"IF($C1316=\"\",0,COUNTIF(女子名簿!$F$12:$F$520,$C1316))","v":0},0]
[0,null,null,null,"",0,{"$f":"IF($C1317=\"\",0,COUNTIF(男子名簿!$F$12:$F$520,$C1317))","v":0},{"$f":"IF($C1317=\"\",0,COUNTIF(女子名簿!$F$12:$F$520,$C1317))","v":0},0]
[0,null,null,null,null,null,{"$f":"IF($C1318=\"\",0,COUNTIF(男子名簿!$F$12:$F$520,$C1318))","v":0},{"$f":"IF($C1318=\"\",0,COUNTIF(女子名簿!$F$12:$F$520,$C1318))","v":0},0]
[0,null,null,null,{"$f":"IF($C1319=\"\",\"\",ASC(PHONETIC($C1319)))","v":""},{"$f":"C1319","v":0},{"$f":"IF($C1319=\"\",0,COUNTIF(男子名簿!$F$12:$F$520,$C1319))","v":0},{"$f":"IF($C1319=\"\",0,COUNTIF(女子名簿!$F$12:$F$520,$C1319))","v":0},0]
[0,null,null,null,"",0,{"$f":"IF($C1320=\"\",0,COUNTIF(男子名簿!$F$12:$F$520,$C1320))","v":0},{"$f":"IF($C1320=\"\",0,COUNTIF(女子名簿!$F$12:$F$520,$C1320))","v":0},0]
[0,null,null,null,"",0,{"$f":"IF($C1321=\"\",0,COUNTIF(男子名簿!$F$12:$F$520,$C1321))","v":0},{"$f":"IF($C1321=\"\",0,COUNTIF(女子名簿!$F$12:$F$520,$C1321))","v":0},0]
[0,null,null,null,"",0,{"$f":"IF($C1322=\"\",0,COUNTIF(男子名簿!$F$12:$F$520,$C1322))","v":0},{"$f":"IF($C1322=\"\",0,COUNTIF(女子名簿!$F$12:$F$520,$C1322))","v":0},0]
[0,null,null,null,"",0,{"$f":"IF($C1323=\"\",0,COUNTIF(男子名簿!$F$12:$F$520,$C1323))","v":0},{"$f":"IF($C1323=\"\",0,COUNTIF(女子名簿!$F$12:$F$520,$C1323))","v":0},0]
[0,null,null,null,"",0,{"$f":"IF($C1324=\"\",0,COUNTIF(男子名簿!$F$12:$F$520,$C1324))","v":0},{"$f":"IF($C1324=\"\",0,COUNTIF(女子名簿!$F$12:$F$520,$C1324))","v":0},0]
[0,null,null,null,"",0,{"$f":"IF($C1325=\"\",0,COUNTIF(男子名簿!$F$12:$F$520,$C1325))","v":0},{"$f":"IF($C1325=\"\",0,COUNTIF(女子名簿!$F$12:$F$520,$C1325))","v":0},0]
[0,null,null,null,"",0,{"$f":"IF($C1326=\"\",0,COUNTIF(男子名簿!$F$12:$F$520,$C1326))","v":0},{"$f":"IF($C1326=\"\",0,COUNTIF(女子名簿!$F$12:$F$520,$C1326))","v":0},0]
[0,null,null,null,"",0,{"$f":"IF($C1327=\"\",0,COUNTIF(男子名簿!$F$12:$F$520,$C1327))","v":0},{"$f":"IF($C1327=\"\",0,COUNTIF(女子名簿!$F$12:$F$520,$C1327))","v":0},0]
[0,null,null,null,"",0,{"$f":"IF($C1328=\"\",0,COUNTIF(男子名簿!$F$12:$F$520,$C1328))","v":0},{"$f":"IF($C1328=\"\",0,COUNTIF(女子名簿!$F$12:$F$520,$C1328))","v":0},0]
[0,null,null,null,"",0,{"$f":"IF($C1329=\"\",0,COUNTIF(男子名簿!$F$12:$F$520,$C1329))","v":0},{"$f":"IF($C1329=\"\",0,COUNTIF(女子名簿!$F$12:$F$520,$C1329))","v":0},0]
[0,null,null,null,"",0,{"$f":"IF($C1330=\"\",0,COUNTIF(男子名簿!$F$12:$F$520,$C1330))","v":0},{"$f":"IF($C1330=\"\",0,COUNTIF(女子名簿!$F$12:$F$520,$C1330))","v":0},0]
[0,null,null,null,"",0,{"$f":"IF($C1331=\"\",0,COUNTIF(男子名簿!$F$12:$F$520,$C1331))","v":0},{"$f":"IF($C1331=\"\",0,COUNTIF(女子名簿!$F$12:$F$520,$C1331))","v":0},0]
[0,null,null,null,"",0,{"$f":"IF($C1332=\"\",0,COUNTIF(男子名簿!$F$12:$F$520,$C1332))","v":0},{"$f":"IF($C1332=\"\",0,COUNTIF(女子名簿!$F$12:$F$520,$C1332))","v":0},0]
[0,null,null,null,"",0,{"$f":"IF($C1333=\"\",0,COUNTIF(男子名簿!$F$12:$F$520,$C1333))","v":0},{"$f":"IF($C1333=\"\",0,COUNTIF(女子名簿!$F$12:$F$520,$C1333))","v":0},0]
[0,null,null,null,"",0,{"$f":"IF($C1334=\"\",0,COUNTIF(男子名簿!$F$12:$F$520,$C1334))","v":0},{"$f":"IF($C1334=\"\",0,COUNTIF(女子名簿!$F$12:$F$520,$C1334))","v":0},0]
[0,null,null,null,"",0,{"$f":"IF($C1335=\"\",0,COUNTIF(男子名簿!$F$12:$F$520,$C1335))","v":0},{"$f":"IF($C1335=\"\",0,COUNTIF(女子名簿!$F$12:$F$520,$C1335))","v":0},0]
[0,null,null,null,"",0,{"$f":"IF($C1336=\"\",0,COUNTIF(男子名簿!$F$12:$F$520,$C1336))","v":0},{"$f":"IF($C1336=\"\",0,COUNTIF(女子名簿!$F$12:$F$520,$C1336))","v":0},0]
[0,null,null,null,"",0,{"$f":"IF($C1337=\"\",0,COUNTIF(男子名簿!$F$12:$F$520,$C1337))","v":0},{"$f":"IF($C1337=\"\",0,COUNTIF(女子名簿!$F$12:$F$520,$C1337))","v":0},0]
[0,null,null,null,null,null,{"$f":"IF($C1338=\"\",0,COUNTIF(男子名簿!$F$12:$F$520,$C1338))","v":0},{"$f":"IF($C1338=\"\",0,COUNTIF(女子名簿!$F$12:$F$520,$C1338))","v":0},{"$f":"G1338+H1338","v":0}]
[0,null,null,null,{"$f":"IF($C1339=\"\",\"\",ASC(PHONETIC($C1339)))","v":""},{"$f":"C1339","v":0},{"$f":"IF($C1339=\"\",0,COUNTIF(男子名簿!$F$12:$F$520,$C1339))","v":0},{"$f":"IF($C1339=\"\",0,COUNTIF(女子名簿!$F$12:$F$520,$C1339))","v":0},0]
[0,null,null,null,"",0,{"$f":"IF($C1340=\"\",0,COUNTIF(男子名簿!$F$12:$F$520,$C1340))","v":0},{"$f":"IF($C1340=\"\",0,COUNTIF(女子名簿!$F$12:$F$520,$C1340))","v":0},0]
[0,null,null,null,"",0,{"$f":"IF($C1341=\"\",0,COUNTIF(男子名簿!$F$12:$F$520,$C1341))","v":0},{"$f":"IF($C1341=\"\",0,COUNTIF(女子名簿!$F$12:$F$520,$C1341))","v":0},0]
[0,null,null,null,"",0,{"$f":"IF($C1342=\"\",0,COUNTIF(男子名簿!$F$12:$F$520,$C1342))","v":0},{"$f":"IF($C1342=\"\",0,COUNTIF(女子名簿!$F$12:$F$520,$C1342))","v":0},0]
[0,null,null,null,"",0,{"$f":"IF($C1343=\"\",0,COUNTIF(男子名簿!$F$12:$F$520,$C1343))","v":0},{"$f":"IF($C1343=\"\",0,COUNTIF(女子名簿!$F$12:$F$520,$C1343))","v":0},0]
[0,null,null,null,"",0,{"$f":"IF($C1344=\"\",0,COUNTIF(男子名簿!$F$12:$F$520,$C1344))","v":0},{"$f":"IF($C1344=\"\",0,COUNTIF(女子名簿!$F$12:$F$520,$C1344))","v":0},0]
[0,null,null,null,"",0,{"$f":"IF($C1345=\"\",0,COUNTIF(男子名簿!$F$12:$F$520,$C1345))","v":0},{"$f":"IF($C1345=\"\",0,COUNTIF(女子名簿!$F$12:$F$520,$C1345))","v":0},0]
[0,null,null,null,"",0,{"$f":"IF($C1346=\"\",0,COUNTIF(男子名簿!$F$12:$F$520,$C1346))","v":0},{"$f":"IF($C1346=\"\",0,COUNTIF(女子名簿!$F$12:$F$520,$C1346))","v":0},0]
[0,null,null,null,"",0,{"$f":"IF($C1347=\"\",0,COUNTIF(男子名簿!$F$12:$F$520,$C1347))","v":0},{"$f":"IF($C1347=\"\",0,COUNTIF(女子名簿!$F$12:$F$520,$C1347))","v":0},0]
[0,null,null,null,"",0,{"$f":"IF($C1348=\"\",0,COUNTIF(男子名簿!$F$12:$F$520,$C1348))","v":0},{"$f":"IF($C1348=\"\",0,COUNTIF(女子名簿!$F$12:$F$520,$C1348))","v":0},0]
[0,null,null,null,"",0,{"$f":"IF($C1349=\"\",0,COUNTIF(男子名簿!$F$12:$F$520,$C1349))","v":0},{"$f":"IF($C1349=\"\",0,COUNTIF(女子名簿!$F$12:$F$520,$C1349))","v":0},0]
[0,null,null,null,"",0,{"$f":"IF($C1350=\"\",0,COUNTIF(男子名簿!$F$12:$F$520,$C1350))","v":0},{"$f":"IF($C1350=\"\",0,COUNTIF(女子名簿!$F$12:$F$520,$C1350))","v":0},0]
[0,null,null,null,"",0,{"$f":"IF($C1351=\"\",0,COUNTIF(男子名簿!$F$12:$F$520,$C1351))","v":0},{"$f":"IF($C1351=\"\",0,COUNTIF(女子名簿!$F$12:$F$520,$C1351))","v":0},0]
[0,null,null,null,"",0,{"$f":"IF($C1352=\"\",0,COUNTIF(男子名簿!$F$12:$F$520,$C1352))","v":0},{"$f":"IF($C1352=\"\",0,COUNTIF(女子名簿!$F$12:$F$520,$C1352))","v":0},0]
[0,null,null,null,"",0,{"$f":"IF($C1353=\"\",0,COUNTIF(男子名簿!$F$12:$F$520,$C1353))","v":0},{"$f":"IF($C1353=\"\",0,COUNTIF(女子名簿!$F$12:$F$520,$C1353))","v":0},0]
[0,null,null,null,"",0,{"$f":"IF($C1354=\"\",0,COUNTIF(男子名簿!$F$12:$F$520,$C1354))","v":0},{"$f":"IF($C1354=\"\",0,COUNTIF(女子名簿!$F$12:$F$520,$C1354))","v":0},0]
[0,null,null,null,"",0,{"$f":"IF($C1355=\"\",0,COUNTIF(男子名簿!$F$12:$F$520,$C1355))","v":0},{"$f":"IF($C1355=\"\",0,COUNTIF(女子名簿!$F$12:$F$520,$C1355))","v":0},0]
[0,null,null,null,"",0,{"$f":"IF($C1356=\"\",0,COUNTIF(男子名簿!$F$12:$F$520,$C1356))","v":0},{"$f":"IF($C1356=\"\",0,COUNTIF(女子名簿!$F$12:$F$520,$C1356))","v":0},0]
[0,null,null,null,"",0,{"$f":"IF($C1357=\"\",0,COUNTIF(男子名簿!$F$12:$F$520,$C1357))","v":0},{"$f":"IF($C1357=\"\",0,COUNTIF(女子名簿!$F$12:$F$520,$C1357))","v":0},0]
[0,null,null,null,null,null,{"$f":"IF($C1358=\"\",0,COUNTIF(男子名簿!$F$12:$F$520,$C1358))","v":0},{"$f":"IF($C1358=\"\",0,COUNTIF(女子名簿!$F$12:$F$520,$C1358))","v":0},{"$f":"G1358+H1358","v":0}]
[0,null,null,null,{"$f":"IF($C1359=\"\",\"\",ASC(PHONETIC($C1359)))","v":""},{"$f":"C1359","v":0},{"$f":"IF($C1359=\"\",0,COUNTIF(男子名簿!$F$12:$F$520,$C1359))","v":0},{"$f":"IF($C1359=\"\",0,COUNTIF(女子名簿!$F$12:$F$520,$C1359))","v":0},0]
[0,null,null,null,"",0,{"$f":"IF($C1360=\"\",0,COUNTIF(男子名簿!$F$12:$F$520,$C1360))","v":0},{"$f":"IF($C1360=\"\",0,COUNTIF(女子名簿!$F$12:$F$520,$C1360))","v":0},0]
[0,null,null,null,"",0,{"$f":"IF($C1361=\"\",0,COUNTIF(男子名簿!$F$12:$F$520,$C1361))","v":0},{"$f":"IF($C1361=\"\",0,COUNTIF(女子名簿!$F$12:$F$520,$C1361))","v":0},0]
[0,null,null,null,"",0,{"$f":"IF($C1362=\"\",0,COUNTIF(男子名簿!$F$12:$F$520,$C1362))","v":0},{"$f":"IF($C1362=\"\",0,COUNTIF(女子名簿!$F$12:$F$520,$C1362))","v":0},0]
[0,null,null,null,"",0,{"$f":"IF($C1363=\"\",0,COUNTIF(男子名簿!$F$12:$F$520,$C1363))","v":0},{"$f":"IF($C1363=\"\",0,COUNTIF(女子名簿!$F$12:$F$520,$C1363))","v":0},0]
[0,null,null,null,"",0,{"$f":"IF($C1364=\"\",0,COUNTIF(男子名簿!$F$12:$F$520,$C1364))","v":0},{"$f":"IF($C1364=\"\",0,COUNTIF(女子名簿!$F$12:$F$520,$C1364))","v":0},0]
[0,null,null,null,"",0,{"$f":"IF($C1365=\"\",0,COUNTIF(男子名簿!$F$12:$F$520,$C1365))","v":0},{"$f":"IF($C1365=\"\",0,COUNTIF(女子名簿!$F$12:$F$520,$C1365))","v":0},0]
[0,null,null,null,"",0,{"$f":"IF($C1366=\"\",0,COUNTIF(男子名簿!$F$12:$F$520,$C1366))","v":0},{"$f":"IF($C1366=\"\",0,COUNTIF(女子名簿!$F$12:$F$520,$C1366))","v":0},0]
[0,null,null,null,"",0,{"$f":"IF($C1367=\"\",0,COUNTIF(男子名簿!$F$12:$F$520,$C1367))","v":0},{"$f":"IF($C1367=\"\",0,COUNTIF(女子名簿!$F$12:$F$520,$C1367))","v":0},0]
[0,null,null,null,"",0,{"$f":"IF($C1368=\"\",0,COUNTIF(男子名簿!$F$12:$F$520,$C1368))","v":0},{"$f":"IF($C1368=\"\",0,COUNTIF(女子名簿!$F$12:$F$520,$C1368))","v":0},0]
[0,null,null,null,"",0,{"$f":"IF($C1369=\"\",0,COUNTIF(男子名簿!$F$12:$F$520,$C1369))","v":0},{"$f":"IF($C1369=\"\",0,COUNTIF(女子名簿!$F$12:$F$520,$C1369))","v":0},0]
[0,null,null,null,"",0,{"$f":"IF($C1370=\"\",0,COUNTIF(男子名簿!$F$12:$F$520,$C1370))","v":0},{"$f":"IF($C1370=\"\",0,COUNTIF(女子名簿!$F$12:$F$520,$C1370))","v":0},0]
[0,null,null,null,"",0,{"$f":"IF($C1371=\"\",0,COUNTIF(男子名簿!$F$12:$F$520,$C1371))","v":0},{"$f":"IF($C1371=\"\",0,COUNTIF(女子名簿!$F$12:$F$520,$C1371))","v":0},0]
[0,null,null,null,"",0,{"$f":"IF($C1372=\"\",0,COUNTIF(男子名簿!$F$12:$F$520,$C1372))","v":0},{"$f":"IF($C1372=\"\",0,COUNTIF(女子名簿!$F$12:$F$520,$C1372))","v":0},0]
[0,null,null,null,"",0,{"$f":"IF($C1373=\"\",0,COUNTIF(男子名簿!$F$12:$F$520,$C1373))","v":0},{"$f":"IF($C1373=\"\",0,COUNTIF(女子名簿!$F$12:$F$520,$C1373))","v":0},0]
[0,null,null,null,"",0,{"$f":"IF($C1374=\"\",0,COUNTIF(男子名簿!$F$12:$F$520,$C1374))","v":0},{"$f":"IF($C1374=\"\",0,COUNTIF(女子名簿!$F$12:$F$520,$C1374))","v":0},0]
[0,null,null,null,"",0,{"$f":"IF($C1375=\"\",0,COUNTIF(男子名簿!$F$12:$F$520,$C1375))","v":0},{"$f":"IF($C1375=\"\",0,COUNTIF(女子名簿!$F$12:$F$520,$C1375))","v":0},0]
[0,null,null,null,"",0,{"$f":"IF($C1376=\"\",0,COUNTIF(男子名簿!$F$12:$F$520,$C1376))","v":0},{"$f":"IF($C1376=\"\",0,COUNTIF(女子名簿!$F$12:$F$520,$C1376))","v":0},0]
[0,null,null,null,"",0,{"$f":"IF($C1377=\"\",0,COUNTIF(男子名簿!$F$12:$F$520,$C1377))","v":0},{"$f":"IF($C1377=\"\",0,COUNTIF(女子名簿!$F$12:$F$520,$C1377))","v":0},0]
[0,null,null,null,null,null,{"$f":"IF($C1378=\"\",0,COUNTIF(男子名簿!$F$12:$F$520,$C1378))","v":0},{"$f":"IF($C1378=\"\",0,COUNTIF(女子名簿!$F$12:$F$520,$C1378))","v":0},{"$f":"G1378+H1378","v":0}]
[0,null,null,null,{"$f":"IF($C1379=\"\",\"\",ASC(PHONETIC($C1379)))","v":""},{"$f":"C1379","v":0},{"$f":"IF($C1379=\"\",0,COUNTIF(男子名簿!$F$12:$F$520,$C1379))","v":0},{"$f":"IF($C1379=\"\",0,COUNTIF(女子名簿!$F$12:$F$520,$C1379))","v":0},0]
[0,null,null,null,"",0,{"$f":"IF($C1380=\"\",0,COUNTIF(男子名簿!$F$12:$F$520,$C1380))","v":0},{"$f":"IF($C1380=\"\",0,COUNTIF(女子名簿!$F$12:$F$520,$C1380))","v":0},0]
[0,null,null,null,"",0,{"$f":"IF($C1381=\"\",0,COUNTIF(男子名簿!$F$12:$F$520,$C1381))","v":0},{"$f":"IF($C1381=\"\",0,COUNTIF(女子名簿!$F$12:$F$520,$C1381))","v":0},0]
[0,null,null,null,"",0,{"$f":"IF($C1382=\"\",0,COUNTIF(男子名簿!$F$12:$F$520,$C1382))","v":0},{"$f":"IF($C1382=\"\",0,COUNTIF(女子名簿!$F$12:$F$520,$C1382))","v":0},0]
[0,null,null,null,"",0,{"$f":"IF($C1383=\"\",0,COUNTIF(男子名簿!$F$12:$F$520,$C1383))","v":0},{"$f":"IF($C1383=\"\",0,COUNTIF(女子名簿!$F$12:$F$520,$C1383))","v":0},0]
[0,null,null,null,"",0,{"$f":"IF($C1384=\"\",0,COUNTIF(男子名簿!$F$12:$F$520,$C1384))","v":0},{"$f":"IF($C1384=\"\",0,COUNTIF(女子名簿!$F$12:$F$520,$C1384))","v":0},0]
[0,null,null,null,"",0,{"$f":"IF($C1385=\"\",0,COUNTIF(男子名簿!$F$12:$F$520,$C1385))","v":0},{"$f":"IF($C1385=\"\",0,COUNTIF(女子名簿!$F$12:$F$520,$C1385))","v":0},0]
[0,null,null,null,"",0,{"$f":"IF($C1386=\"\",0,COUNTIF(男子名簿!$F$12:$F$520,$C1386))","v":0},{"$f":"IF($C1386=\"\",0,COUNTIF(女子名簿!$F$12:$F$520,$C1386))","v":0},0]
[0,null,null,null,"",0,{"$f":"IF($C1387=\"\",0,COUNTIF(男子名簿!$F$12:$F$520,$C1387))","v":0},{"$f":"IF($C1387=\"\",0,COUNTIF(女子名簿!$F$12:$F$520,$C1387))","v":0},0]
[0,null,null,null,"",0,{"$f":"IF($C1388=\"\",0,COUNTIF(男子名簿!$F$12:$F$520,$C1388))","v":0},{"$f":"IF($C1388=\"\",0,COUNTIF(女子名簿!$F$12:$F$520,$C1388))","v":0},0]
[0,null,null,null,"",0,{"$f":"IF($C1389=\"\",0,COUNTIF(男子名簿!$F$12:$F$520,$C1389))","v":0},{"$f":"IF($C1389=\"\",0,COUNTIF(女子名簿!$F$12:$F$520,$C1389))","v":0},0]
[0,null,null,null,"",0,{"$f":"IF($C1390=\"\",0,COUNTIF(男子名簿!$F$12:$F$520,$C1390))","v":0},{"$f":"IF($C1390=\"\",0,COUNTIF(女子名簿!$F$12:$F$520,$C1390))","v":0},0]
[0,null,null,null,"",0,{"$f":"IF($C1391=\"\",0,COUNTIF(男子名簿!$F$12:$F$520,$C1391))","v":0},{"$f":"IF($C1391=\"\",0,COUNTIF(女子名簿!$F$12:$F$520,$C1391))","v":0},0]
[0,null,null,null,"",0,{"$f":"IF($C1392=\"\",0,COUNTIF(男子名簿!$F$12:$F$520,$C1392))","v":0},{"$f":"IF($C1392=\"\",0,COUNTIF(女子名簿!$F$12:$F$520,$C1392))","v":0},0]
[0,null,null,null,"",0,{"$f":"IF($C1393=\"\",0,COUNTIF(男子名簿!$F$12:$F$520,$C1393))","v":0},{"$f":"IF($C1393=\"\",0,COUNTIF(女子名簿!$F$12:$F$520,$C1393))","v":0},0]
[0,null,null,null,"",0,{"$f":"IF($C1394=\"\",0,COUNTIF(男子名簿!$F$12:$F$520,$C1394))","v":0},{"$f":"IF($C1394=\"\",0,COUNTIF(女子名簿!$F$12:$F$520,$C1394))","v":0},0]
[0,null,null,null,"",0,{"$f":"IF($C1395=\"\",0,COUNTIF(男子名簿!$F$12:$F$520,$C1395))","v":0},{"$f":"IF($C1395=\"\",0,COUNTIF(女子名簿!$F$12:$F$520,$C1395))","v":0},0]
[0,null,null,null,"",0,{"$f":"IF($C1396=\"\",0,COUNTIF(男子名簿!$F$12:$F$520,$C1396))","v":0},{"$f":"IF($C1396=\"\",0,COUNTIF(女子名簿!$F$12:$F$520,$C1396))","v":0},0]
[0,null,null,null,"",0,{"$f":"IF($C1397=\"\",0,COUNTIF(男子名簿!$F$12:$F$520,$C1397))","v":0},{"$f":"IF($C1397=\"\",0,COUNTIF(女子名簿!$F$12:$F$520,$C1397))","v":0},0]
[0,null,null,null,null,null,{"$f":"IF($C1398=\"\",0,COUNTIF(男子名簿!$F$12:$F$520,$C1398))","v":0},{"$f":"IF($C1398=\"\",0,COUNTIF(女子名簿!$F$12:$F$520,$C1398))","v":0},{"$f":"G1398+H1398","v":0}]
[0,null,null,null,{"$f":"IF($C1399=\"\",\"\",ASC(PHONETIC($C1399)))","v":""},{"$f":"C1399","v":0},{"$f":"IF($C1399=\"\",0,COUNTIF(男子名簿!$F$12:$F$520,$C1399))","v":0},{"$f":"IF($C1399=\"\",0,COUNTIF(女子名簿!$F$12:$F$520,$C1399))","v":0},0]
[0,null,null,null,"",0,{"$f":"IF($C1400=\"\",0,COUNTIF(男子名簿!$F$12:$F$520,$C1400))","v":0},{"$f":"IF($C1400=\"\",0,COUNTIF(女子名簿!$F$12:$F$520,$C1400))","v":0},0]
[0,null,null,null,"",0,{"$f":"IF($C1401=\"\",0,COUNTIF(男子名簿!$F$12:$F$520,$C1401))","v":0},{"$f":"IF($C1401=\"\",0,COUNTIF(女子名簿!$F$12:$F$520,$C1401))","v":0},0]
[0,null,null,null,"",0,{"$f":"IF($C1402=\"\",0,COUNTIF(男子名簿!$F$12:$F$520,$C1402))","v":0},{"$f":"IF($C1402=\"\",0,COUNTIF(女子名簿!$F$12:$F$520,$C1402))","v":0},0]
[0,null,null,null,"",0,{"$f":"IF($C1403=\"\",0,COUNTIF(男子名簿!$F$12:$F$520,$C1403))","v":0},{"$f":"IF($C1403=\"\",0,COUNTIF(女子名簿!$F$12:$F$520,$C1403))","v":0},0]
[0,null,null,null,"",0,{"$f":"IF($C1404=\"\",0,COUNTIF(男子名簿!$F$12:$F$520,$C1404))","v":0},{"$f":"IF($C1404=\"\",0,COUNTIF(女子名簿!$F$12:$F$520,$C1404))","v":0},0]
[0,null,null,null,"",0,{"$f":"IF($C1405=\"\",0,COUNTIF(男子名簿!$F$12:$F$520,$C1405))","v":0},{"$f":"IF($C1405=\"\",0,COUNTIF(女子名簿!$F$12:$F$520,$C1405))","v":0},0]
[0,null,null,null,"",0,{"$f":"IF($C1406=\"\",0,COUNTIF(男子名簿!$F$12:$F$520,$C1406))","v":0},{"$f":"IF($C1406=\"\",0,COUNTIF(女子名簿!$F$12:$F$520,$C1406))","v":0},0]
[0,null,null,null,"",0,{"$f":"IF($C1407=\"\",0,COUNTIF(男子名簿!$F$12:$F$520,$C1407))","v":0},{"$f":"IF($C1407=\"\",0,COUNTIF(女子名簿!$F$12:$F$520,$C1407))","v":0},0]
[0,null,null,null,"",0,{"$f":"IF($C1408=\"\",0,COUNTIF(男子名簿!$F$12:$F$520,$C1408))","v":0},{"$f":"IF($C1408=\"\",0,COUNTIF(女子名簿!$F$12:$F$520,$C1408))","v":0},0]
[0,null,null,null,"",{"$f":"C1409","v":0},{"$f":"IF($C1409=\"\",0,COUNTIF(男子名簿!$F$12:$F$520,$C1409))","v":0},{"$f":"IF($C1409=\"\",0,COUNTIF(女子名簿!$F$12:$F$520,$C1409))","v":0},{"$f":"G1409+H1409","v":0}]
[0,null,null,null,"",0,{"$f":"IF($C1410=\"\",0,COUNTIF(男子名簿!$F$12:$F$520,$C1410))","v":0},{"$f":"IF($C1410=\"\",0,COUNTIF(女子名簿!$F$12:$F$520,$C1410))","v":0},0]
[0,null,null,null,"",0,{"$f":"IF($C1411=\"\",0,COUNTIF(男子名簿!$F$12:$F$520,$C1411))","v":0},{"$f":"IF($C1411=\"\",0,COUNTIF(女子名簿!$F$12:$F$520,$C1411))","v":0},0]
[0,null,null,null,"",0,{"$f":"IF($C1412=\"\",0,COUNTIF(男子名簿!$F$12:$F$520,$C1412))","v":0},{"$f":"IF($C1412=\"\",0,COUNTIF(女子名簿!$F$12:$F$520,$C1412))","v":0},0]
[0,null,null,null,"",0,{"$f":"IF($C1413=\"\",0,COUNTIF(男子名簿!$F$12:$F$520,$C1413))","v":0},{"$f":"IF($C1413=\"\",0,COUNTIF(女子名簿!$F$12:$F$520,$C1413))","v":0},0]
[0,null,null,null,"",0,{"$f":"IF($C1414=\"\",0,COUNTIF(男子名簿!$F$12:$F$520,$C1414))","v":0},{"$f":"IF($C1414=\"\",0,COUNTIF(女子名簿!$F$12:$F$520,$C1414))","v":0},0]
[0,null,null,null,"",0,{"$f":"IF($C1415=\"\",0,COUNTIF(男子名簿!$F$12:$F$520,$C1415))","v":0},{"$f":"IF($C1415=\"\",0,COUNTIF(女子名簿!$F$12:$F$520,$C1415))","v":0},0]
[0,null,null,null,"",0,{"$f":"IF($C1416=\"\",0,COUNTIF(男子名簿!$F$12:$F$520,$C1416))","v":0},{"$f":"IF($C1416=\"\",0,COUNTIF(女子名簿!$F$12:$F$520,$C1416))","v":0},0]
[0,null,null,null,"",0,{"$f":"IF($C1417=\"\",0,COUNTIF(男子名簿!$F$12:$F$520,$C1417))","v":0},{"$f":"IF($C1417=\"\",0,COUNTIF(女子名簿!$F$12:$F$520,$C1417))","v":0},0]
[null,null,null,null,null,"総　合　計",{"$f":"SUM(G8:G107)","v":0},{"$f":"SUM(H8:H107)","v":0},{"$f":"SUM(I8:I107)","v":0}]

{"sheet":"入力見本","index":6,"n_rows":42,"n_cols":12,"rows_kept":42,"cut":false,"hidden":false,"merged":[]}
[]
[null,null,null,null,null,null,null,null,null,null,null,"基本情報入力画面で入力が終わると自動で"]
[null,null,null,null,null,null,null,null,null,null,null,"入力されます。"]
[]
[]
[]
[]
[]
[]
[]
[]
[]
[]
[]
[]
[]
[]
[]
[]
[]
[]
[]
[]
[]
[]
["　　・データを貼り付ける場合は値の貼付をしてください。",null,null,null,null,null,null,null,"データ入力方法"]
["　　貼付方法",null,null,null,null,null,null,null,"①ナンバーを入力",null,"　　最大4桁で入力してください。"]
["　　　①各自作成してあるシートのデータをコピーする",null,null,null,null,null,null,null,"②選手名の入力",null,"　　ナンバーを入力すると自動で入ります"]
["　　　②貼付たい場所を選択する",null,null,null,null,null,null,null,"③フリガナの入力",null,"　　ナンバーを入力すると自動で入ります"]
["　　　③マウスを右クリックする",null,null,null,null,null,null,null,"④学年の入力",null,"　　ナンバーを入力すると自動で入ります"]
["　　　④形式を選択して貼り付けするを選択する",null,null,null,null,null,null,null,"⑤種目の入力",null,"　　セルのリストから選択してください。"]
["　　　⑤『値』を選択してOKを押す",null,null,null,null,null,null,null,"⑥記録の入力",null,"　　半角数字で入力し、１’１５”５０→1.15.50　１２”３５→12.35"]
[null,null,null,null,null,null,null,null,null,null,"   　　                        ３ｍ５０→3m50と入力する。"]
[null,null,null,null,null,null,null,null,"⑦リレー種目の入力",null,"　　セルのリストから選択して入力してください。"]
[null,null,null,null,null,null,null,null,"⑧登録陸協の入力",null,"　　ナンバーを入力すると自動で入ります"]
[]
[]
[]
[]
[]
[]
[null,null,null,null,null,null,null,"　　各ページのボタンはページの移動、ファイルの保存、印刷などができるようになっています。"]

{"sheet":"学校コード","index":7,"n_rows":19,"n_cols":8,"rows_kept":19,"cut":false,"hidden":false,"merged":[[0,0,0,2],[0,3,0,5],[1,0,2,7]]}
["学校コード一覧",null,null,"基本情報画面に戻ります。こちらをクリックしてください。"]
["大学コード　一覧"]
[]
["団体コード","団体名","団体コード","団体名","団体コード","団体名","団体コード","団体名"]
[1,"愛知医科大学",16,"皇學館大学",31,"鳥羽商船高等専門学校"]
[2,"愛知学院大学",17,"至学館大学",32,"豊田工業高等専門学校"]
[3,"愛知教育大学",18,"静岡県立大学",33,"豊橋技術科学大学"]
[4,"愛知県立大学",19,"静岡産業大学",34,"名古屋学院大学"]
[5,"愛知工業大学",20,"静岡大学",35,"名古屋工業大学"]
[6,"愛知淑徳大学",21,"椙山女学園大学",36,"名古屋女子大学"]
[7,"愛知大学",22,"鈴鹿工業高等専門学校",37,"名古屋市立大学"]
[8,"愛知東邦大学",23,"大同大学",38,"名古屋大学"]
[9,"岐阜経済大学",24,"中京学院大学",39,"南山大学"]
[10,"岐阜工業高等専門学校",25,"中京大学",40,"日本福祉大学"]
[11,"岐阜聖徳学園大学",26,"中部学院大学",41,"沼津工業高等専門学校"]
[12,"岐阜大学",27,"中部大学",42,"浜松医科大学"]
[13,"岐阜薬科大学",28,"東海学園大学",43,"藤田保健衛生大学"]
[14,"近畿大学工業高等専門学校",29,"東海大学東海",44,"三重大学"]
[15,"金城学院大学",30,"常葉大学",45,"名城大学",777777,"その他"]

{"sheet":"種目名","index":8,"n_rows":152,"n_cols":20,"rows_kept":152,"cut":false,"hidden":true,"merged":[[3,6,3,9]]}
[null,{"$f":"基本情報!A1","v":"第８４回　東海学生陸上競技対校選手権大会"}]
[]
[null,"【男子】",null,null,"【女子】"]
[null,"競技コード","種　　　目",null,"競技コード","種　　　目","↑の「ソート」は押さないで！！",null,null,null,null,null,null,null,"種目","番号","競技コード","種目","番号","競技コード"]
[1,1,"男子100m",1,24,"女子100m",null,null,null,null,null,null,null,null,"男子100m",1,1,"女子100m",1,24]
[2,2,"男子200m",2,25,"女子200m",null,null,null,null,null,null,null,null,"男子200m",2,2,"女子200m",2,25]
[3,3,"男子400m",3,26,"女子400m",null,null,null,null,null,null,null,null,"男子400m",3,3,"女子400m",3,26]
[4,4,"男子800m",4,27,"女子800m",null,null,null,null,null,null,null,null,"男子800m",4,4,"女子800m",4,27]
[5,5,"男子1500m",5,28,"女子1500m",null,null,null,null,null,null,null,null,"男子1500m",5,5,"女子1500m",5,28]
[6,6,"男子5000m",6,29,"女子5000m",null,null,null,null,null,null,null,null,"男子5000m",6,6,"女子5000m",6,29]
[7,7,"男子10000m",7,30,"女子10000m",null,null,null,null,null,null,null,null,"男子10000m",7,7,"女子10000m",7,30]
[8,8,"男子110mH(1.067m)",8,31,"女子100mH(0.838m)",null,null,null,null,null,null,null,null,"男子110mH(1.067m)",8,8,"女子100mH(0.838m)",8,31]
[9,9,"男子400mH(0.914m)",9,32,"女子400mH(0.762m)",null,null,null,null,null,null,null,null,"男子400mH(0.914m)",9,9,"女子400mH(0.762m)",9,32]
[10,10,"男子3000mSC",10,33,"女子3000mSC",null,null,null,null,null,null,null,null,"男子3000mSC",10,10,"女子3000mSC",10,33]
[11,11,"男子10000mW",11,34,"女子10000mW",null,null,null,null,null,null,null,null,"男子10000mW",11,11,"女子10000mW",11,34]
[12,12,"男子4X100mR",12,35,"女子4X100mR",null,null,null,null,null,null,null,null,"男子4X100mR",12,12,"女子4X100mR",12,35]
[13,13,"男子4X400mR",13,36,"女子4X400mR",null,null,null,null,null,null,null,null,"男子4X400mR",13,13,"女子4X400mR",13,36]
[14,14,"男子走高跳",14,37,"女子走高跳",null,null,null,null,null,null,null,null,"男子走高跳",14,14,"女子走高跳",14,37]
[15,15,"男子棒高跳",15,38,"女子棒高跳",null,null,null,null,null,null,null,null,"男子棒高跳",15,15,"女子棒高跳",15,38]
[16,16,"男子走幅跳",16,39,"女子走幅跳",null,null,null,null,null,null,null,null,"男子走幅跳",16,16,"女子走幅跳",16,39]
[17,17,"男子三段跳",17,40,"女子三段跳",null,null,null,null,null,null,null,null,"男子三段跳",17,17,"女子三段跳",17,40]
[18,18,"男子砲丸投(7.260kg)",18,41,"女子砲丸投(4.000kg)",null,null,null,null,null,null,null,null,"男子砲丸投(7.260kg)",18,18,"女子砲丸投(4.000kg)",18,41]
[19,19,"男子円盤投(2.000kg)",19,42,"女子円盤投(1.000kg)",null,null,null,null,null,null,null,null,"男子円盤投(2.000kg)",19,19,"女子円盤投(1.000kg)",19,42]
[20,20,"男子ハンマー投(7.260kg)",20,43,"女子ハンマー投(4.000kg)",null,null,null,null,null,null,null,null,"男子ハンマー投(7.260kg)",20,20,"女子ハンマー投(4.000kg)",20,43]
[21,21,"男子やり投(800g)",21,44,"女子やり投(600g)",null,null,null,null,null,null,null,null,"男子やり投(800g)",21,21,"女子やり投(600g)",21,44]
[22,22,"男子十種競技",22,45,"女子七種競技",null,null,null,null,null,null,null,null,"男子十種競技",22,22,"女子七種競技",22,45]
[23,23,"男子5000mOP",23,46,"女子5000mOP",null,null,null,null,null,null,null,null,"男子5000mOP",23,23,"女子5000mOP",23,46]
[24,null,null,24]
[25,null,null,25]
[26,null,null,26]
[27,null,null,27]
[28,null,null,28]
[29,null,null,29]
[30,null,null,30]
[31,null,null,31]
[32,null,null,32]
[33,null,null,33]
[34,null,null,34]
[35,null,null,35]
[36,null,null,36]
[37,null,null,37]
[38,null,null,38]
[39,null,null,39]
[40,null,null,40]
[41,null,null,41]
[42,null,null,42]
[43,null,null,43]
[44,null,null,44]
[45,null,null,45]
[46,null,null,46]
[47,null,null,47]
[48,null,null,48]
[49,null,null,49]
[50,null,null,50]
[51,null,null,51]
[52,null,null,52]
[53,null,null,53]
[54,null,null,54]
[55,null,null,55]
[56,null,null,56]
[57,null,null,57]
[58,null,null,58]
[59,null,null,59]
[60,null,null,60]
[61,null,null,61]
[62,null,null,62]
[63,null,null,63]
[64,null,null,64]
[65,null,null,65]
[66,null,null,66]
[67,null,null,67]
[68,null,null,68]
[69,null,null,69]
[70,null,null,70]
[71,null,null,71]
[72,null,null,72]
[73,null,null,73]
[74,null,null,74]
[75,null,null,75]
[76,null,null,76]
[77,null,null,77]
[78,null,null,78]
[79,null,null,79]
[80,null,null,80]
[81,null,null,81]
[82,null,null,82]
[83,null,null,83]
[84,null,null,84]
[85,null,null,85]
[86,null,null,86]
[87,null,null,87]
[88,null,null,88]
[89,null,null,89]
[90,null,null,90]
[91,null,null,91]
[92,null,null,92]
[93,null,null,93]
[94,null,null,94]
[95,null,null,95]
[96,null,null,96]
[97,null,null,97]
[98,null,null,98]
[99,null,null,99]
[100,null,null,100]
[]
[]
[]
[]
[]
[]
[]
[]
[]
[]
[]
[]
[]
[]
[]
[]
[]
[]
[]
[]
[]
[]
[]
[]
[]
[]
[]
[]
[]
[]
[]
[null,102,"女子100m"]
[null,103,"女子200m"]
[null,104,"女子400m"]
[null,105,"女子800m"]
[null,107,"女子1500m"]
[null,108,"女子3000m"]
[null,113,"女子100mH"]
[null,120,"女子400mH"]
[null,127,"女子3000mW"]
[null,130,"女子4X100mR"]
[null,132,"女子4X400mR"]
[null,134,"女子走高跳"]
[null,136,"女子走幅跳"]
[null,138,"女子砲丸投"]
[null,144,"女子円盤投"]
[null,155,"女子やり投(600g)"]
[null,161,"女子七種競技"]

{"sheet":"管理者入力","index":9,"n_rows":64,"n_cols":12,"rows_kept":64,"cut":false,"hidden":true,"merged":[[3,1,3,3],[3,6,3,8],[36,1,36,3],[36,6,36,8],[32,1,32,3],[32,6,32,8]]}
[]
[]
[]
[null,"男　子　競　技　種　目",null,null,"参加制限",null,"女　子競　技　種　目",null,null,"参加制限"]
[null,"男子100m",null,null,2,null,"女子100m",null,null,2,null,"※種目の空白セルにはスペースを入れること"]
[null,"男子200m",null,null,2,null,"女子200m",null,null,2]
[null,"男子400m",null,null,2,null,"女子400m",null,null,2,null,"※参加制限は４人なら３と入力する。"]
[null,"男子800m",null,null,2,null,"女子800m",null,null,2]
[null,"男子1500m",null,null,2,null,"女子1500m",null,null,2]
[null,"男子5000m",null,null,2,null,"女子5000m",null,null,2]
[null,"男子10000m",null,null,2,null,"女子10000m",null,null,2]
[null,"男子110mH(1.067m)",null,null,2,null,"女子100mH(0.838m)",null,null,2]
[null,"男子400mH(0.914m)",null,null,2,null,"女子400mH(0.762m)",null,null,2]
[null,"男子3000mSC",null,null,2,null,"女子3000mSC",null,null,2]
[null,"男子10000mW",null,null,2,null,"女子10000mW",null,null,2]
[null,"男子走高跳",null,null,2,null,"女子走高跳",null,null,2]
[null,"男子棒高跳",null,null,2,null,"女子棒高跳",null,null,2]
[null,"男子走幅跳",null,null,2,null,"女子走幅跳",null,null,2]
[null,"男子三段跳",null,null,2,null,"女子三段跳",null,null,2]
[null,"男子砲丸投(7.260kg)",null,null,2,null,"女子砲丸投(4.000kg)",null,null,2]
[null,"男子円盤投(2.000kg)",null,null,2,null,"女子円盤投(1.000kg)",null,null,2]
[null,"男子ハンマー投(7.260kg)",null,null,2,null,"女子ハンマー投(4.000kg)",null,null,2]
[null,"男子やり投(800g)",null,null,2,null,"女子やり投(600g)",null,null,2]
[null,"男子十種競技",null,null,2,null,"女子七種競技",null,null,2]
[null,"男子5000mOP",null,null,99,null,"女子5000mOP",null,null,99]
[null," ",null,null,null,null," "]
[null," ",null,null,null,null," ",null,null," "]
[null," ",null,null,null,null," "]
[null," ",null,null,null,null," "]
[null," ",null,null,null,null," "]
[null," ",null,null,99,null," ",null,null,99]
[null," ",null,null,99,null," ",null,null,99]
[null,"種　目　合　計",null,null,null,null,"種　目　合　計"]
[null,"男子4X100mR",null,null,0,null,"女子4X100mR",null,null,0]
[null,"男子4X400mR",null,null,0,null,"女子4X400mR",null,null,0]
[null,"　",null,null,null,null,"　"]
[null,"リレー合計",null,null,null,null,"リレー合計"]
[]
["A",{"$f":"$B$34&A39","v":"男子4X100mRA"},{"$f":"$B$35&A39","v":"男子4X400mRA"},null,null,null,{"$f":"$G$34&A39","v":"女子4X100mRA"},{"$f":"$G$35&A39","v":"女子4X400mRA"}]
["B",{"$f":"$B$34&A40","v":"男子4X100mRB"},{"$f":"$B$35&A40","v":"男子4X400mRB"},null,null,null,"女子4X100mRB","女子4X400mRB"]
["C","男子4X100mRC","男子4X400mRC",null,null,null,"女子4X100mRC","女子4X400mRC"]
["D","男子4X100mRD","男子4X400mRD",null,null,null,"女子4X100mRD","女子4X400mRD"]
["E","男子4X100mRE","男子4X400mRE",null,null,null,"女子4X100mRE","女子4X400mRE"]
["F","男子4X100mRF","男子4X400mRF",null,null,null,"女子4X100mRF","女子4X400mRF"]
["G","男子4X100mRG","男子4X400mRG",null,null,null,"女子4X100mRG","女子4X400mRG"]
["H","男子4X100mRH","男子4X400mRH",null,null,null,"女子4X100mRH","女子4X400mRH"]
["I","男子4X100mRI","男子4X400mRI",null,null,null,"女子4X100mRI","女子4X400mRI"]
["J","男子4X100mRJ","男子4X400mRJ",null,null,null,"女子4X100mRJ","女子4X400mRJ"]
["K","男子4X100mRK","男子4X400mRK",null,null,null,"女子4X100mRK","女子4X400mRK"]
["L","男子4X100mRL","男子4X400mRL",null,null,null,"女子4X100mRL","女子4X400mRL"]
["M","男子4X100mRM","男子4X400mRM",null,null,null,"女子4X100mRM","女子4X400mRM"]
["N","男子4X100mRN","男子4X400mRN",null,null,null,"女子4X100mRN","女子4X400mRN"]
["O","男子4X100mRO","男子4X400mRO",null,null,null,"女子4X100mRO","女子4X400mRO"]
["P","男子4X100mRP","男子4X400mRP",null,null,null,"女子4X100mRP","女子4X400mRP"]
["Q","男子4X100mRQ","男子4X400mRQ",null,null,null,"女子4X100mRQ","女子4X400mRQ"]
["R","男子4X100mRR","男子4X400mRR",null,null,null,"女子4X100mRR","女子4X400mRR"]
["S","男子4X100mRS","男子4X400mRS",null,null,null,"女子4X100mRS","女子4X400mRS"]
["T","男子4X100mRT","男子4X400mRT",null,null,null,"女子4X100mRT","女子4X400mRT"]
["U","男子4X100mRU","男子4X400mRU",null,null,null,"女子4X100mRU","女子4X400mRU"]
["V","男子4X100mRV","男子4X400mRV",null,null,null,"女子4X100mRV","女子4X400mRV"]
["W","男子4X100mRW","男子4X400mRW",null,null,null,"女子4X100mRW","女子4X400mRW"]
["X","男子4X100mRX","男子4X400mRX",null,null,null,"女子4X100mRX","女子4X400mRX"]
["Y","男子4X100mRY","男子4X400mRY",null,null,null,"女子4X100mRY","女子4X400mRY"]
["Z","男子4X100mRZ","男子4X400mRZ",null,null,null,"女子4X100mRZ","女子4X400mRZ"]

{"sheet":"Sheet1","index":10,"n_rows":69,"n_cols":30,"rows_kept":69,"cut":false,"hidden":true,"merged":[]}
["種目",null,null,"種別",null,"性別",null,"競技コード","種目コード","種別コード","性別コード","競技名","競技名カナ","競技名正式名称","標準記録A","標準記録B","記録FLGA","記録FLGB"]
[1,"60m","60m",1,"　",1,"男子",1,2,2,1,"男子100m","ﾀﾞﾝｼ100m","男子100m",null,null,0,0]
[2,"100m","100m",2,"一般",2,"女子",2,3,2,1,"男子200m","ﾀﾞﾝｼ200m","男子200m",null,null,0,0]
[3,"200m","200m",3,"小学",null,null,3,4,2,1,"男子400m","ﾀﾞﾝｼ400m","男子400m",null,null,0,0]
[4,"400m","400m",4,"中学",null,null,4,5,2,1,"男子800m","ﾀﾞﾝｼ800m","男子800m",null,null,0,0]
[5,"800m","800m",5,"高校",null,null,5,7,2,1,"男子1500m","ﾀﾞﾝｼ1500m","男子1500m",null,null,0,0]
[6,"1000m","1000m",6,"少年",null,null,6,9,2,1,"男子5000m","ﾀﾞﾝｼ5000m","男子5000m",null,null,0,0]
[7,"1500m","1500m",7,"成年",null,null,7,10,2,1,"男子10000m","ﾀﾞﾝｼ10000m","男子10000m",null,null,0,0]
[8,"3000m","3000m",8,"１年",null,null,8,19,2,1,"男子110mH(1.067m)","ﾀﾞﾝｼ110mH(1.067m)","男子110mH(1.067m/9.14m)",null,null,0,0]
[9,"5000m","5000m",9,"2年",null,null,9,23,2,1,"男子400mH(0.914m)","ﾀﾞﾝｼ400mH(0.914m)","男子400mH(0.914m)",null,null,0,0]
[10,"10000m","10000m",10,"3年",null,null,10,24,2,1,"男子3000mSC","ﾀﾞﾝｼ3000mSC","男子3000mSC",null,null,0,0]
[11,"60mH","60mH",11,"4年",null,null,11,29,2,1,"男子10000mW","ﾀﾞﾝｼ10000mW","男子10000mW",null,null,0,0]
[12,"80mH","80mH",12,"5年",null,null,12,30,2,1,"男子4X100mR","ﾀﾞﾝｼ4X100mR","男子4X100mR",null,null,0,0]
[13,"100mH","100mH",13,"6年",null,null,13,32,2,1,"男子4X400mR","ﾀﾞﾝｼ4X400mR","男子4X400mR",null,null,0,0]
[14,"100mH(0.762m)","100mH(0.762m)",14,"低学年",null,null,14,34,2,1,"男子走高跳","ﾀﾞﾝｼﾊｼﾘﾀｶﾄﾋﾞ","男子走高跳",null,null,0,0]
[15,"100mH(0.840m)","100mH(0.840m)",15,"中学年",null,null,15,35,2,1,"男子棒高跳","ﾀﾞﾝｼﾎﾞｳﾀｶﾄﾋﾞ","男子棒高跳",null,null,0,0]
[16,"110mH","110mH",16,"高学年",null,null,16,36,2,1,"男子走幅跳","ﾀﾞﾝｼﾊｼﾘﾊﾊﾞﾄﾋﾞ","男子走幅跳",null,null,0,0]
[17,"110mH(0.914m)","110mH(0.914m)",17,"A",null,null,17,37,2,1,"男子三段跳","ﾀﾞﾝｼｻﾝﾀﾞﾝﾄﾋﾞ","男子三段跳",null,null,0,0]
[18,"110mH(0.990m)","110mH(0.990m)",18,"B",null,null,18,43,2,1,"男子砲丸投(7.260kg)","ﾀﾞﾝｼﾎｳｶﾞﾝﾅｹﾞ(7.260kg)","男子砲丸投(7.260kg)",null,null,0,0]
[19,"110mH(1.067m)","110mH(1.067m)",19,"C",null,null,19,48,2,1,"男子円盤投(2.000kg)","ﾀﾞﾝｼｴﾝﾊﾞﾝﾅｹﾞ(2.000kg)","男子円盤投(2.000kg)",null,null,0,0]
[20,"400mH","400mH",null,null,null,null,20,53,2,1,"男子ハンマー投(7.260kg)","ﾀﾞﾝｼﾊﾝﾏｰﾅｹﾞ(7.260kg)","男子ハンマー投(7.260kg)",null,null,0,0]
[21,"400mH(0.762m)","400mH(0.762m)",null,null,null,null,21,57,2,1,"男子やり投(800g)","ﾀﾞﾝｼﾔﾘﾅｹﾞ(800g)","男子やり投(800g)",null,null,0,0]
[22,"400mH(0.840m)","400mH(0.840m)",null,null,null,null,22,58,2,1,"男子十種競技","ﾀﾞﾝｼ10ｼｭ","男子十種競技",null,null,0,0]
[23,"400mH(0.914m)","400mH(0.914m)",null,null,null,null,23,2,2,2,"女子100m","ｼﾞｮｼ100m","女子100m",null,null,0,0]
[24,"3000mSC","3000mSC",null,null,null,null,24,3,2,2,"女子200m","ｼﾞｮｼ200m","女子200m",null,null,0,0]
[25,"3000mSC(0.762m)","3000mSC(0.762m)",null,null,null,null,25,4,2,2,"女子400m","ｼﾞｮｼ400m","女子400m",null,null,0,0]
[26,"3000mSC(0.914m)","3000mSC(0.914m)",null,null,null,null,26,5,2,2,"女子800m","ｼﾞｮｼ800m","女子800m",null,null,0,0]
[27,"3000mW","3000mW",null,null,null,null,27,7,2,2,"女子1500m","ｼﾞｮｼ1500m","女子1500m",null,null,0,0]
[28,"5000mW","50000mW",null,null,null,null,28,9,2,2,"女子5000m","ｼﾞｮｼ5000m","女子5000m",null,null,0,0]
[29,"10000mW","10000mW",null,null,null,null,29,10,2,2,"女子10000m","ｼﾞｮｼ10000m","女子10000m",null,null,0,0]
[30,"4X100mR","4X100mR",null,null,null,null,30,15,2,2,"女子100mH(0.838m)","ｼﾞｮｼ100mH(0.838m)","女子100mH(0.838m/8.50m)",null,null,0,0]
[31,"4X200mR","4X200mR",null,null,null,null,31,21,2,2,"女子400mH(0.762m)","ｼﾞｮｼ400mH(0.762m)","女子400mH(0.762m)",null,null,0,0]
[32,"4X400mR","4X400mR",null,null,null,null,32,24,2,2,"女子3000mSC","ｼﾞｮｼ3000mSC","女子3000mSC",null,null,0,0]
[33,"100m+200m+300m+400m","100m+200m+300m+400m",null,null,null,null,33,29,2,2,"女子10000mW","ｼﾞｮｼ10000mW","女子10000mW",null,null,0,0]
[34,"走高跳","ﾊｼﾘﾀｶﾄﾋﾞ",null,null,null,null,34,30,2,2,"女子4X100mR","ｼﾞｮｼ4X100mR","女子4X100mR",null,null,0,0]
[35,"棒高跳","ﾎﾞｳﾀｶﾄﾋﾞ",null,null,null,null,35,32,2,2,"女子4X400mR","ｼﾞｮｼ4X400mR","女子4X400mR",null,null,0,0]
[36,"走幅跳","ﾊｼﾘﾊﾊﾞﾄﾋﾞ",null,null,null,null,36,34,2,2,"女子走高跳","ｼﾞｮｼﾊｼﾘﾀｶﾄﾋﾞ","女子走高跳",null,null,0,0]
[37,"三段跳","ｻﾝﾀﾞﾝﾄﾋﾞ",null,null,null,null,37,35,2,2,"女子棒高跳","ｼﾞｮｼﾎﾞｳﾀｶﾄﾋﾞ","女子棒高跳",null,null,0,0]
[38,"砲丸投","ﾎｳｶﾞﾝﾅｹﾞ",null,null,null,null,38,36,2,2,"女子走幅跳","ｼﾞｮｼﾊｼﾘﾊﾊﾞﾄﾋﾞ","女子走幅跳",null,null,0,0]
[39,"砲丸投(2.721kg)","ﾎｳｶﾞﾝﾅｹﾞ(2.721kg)",null,null,null,null,39,37,2,2,"女子三段跳","ｼﾞｮｼｻﾝﾀﾞﾝﾄﾋﾞ","女子三段跳",null,null,0,0]
[40,"砲丸投(4.000kg)","ﾎｳｶﾞﾝﾅｹﾞ(4.000kg)",null,null,null,null,40,40,2,2,"女子砲丸投(4.000kg)","ｼﾞｮｼﾎｳｶﾞﾝﾅｹﾞ(4.000kg)","女子砲丸投(4.000kg)",null,null,0,0]
[41,"砲丸投(5.000kg)","ﾎｳｶﾞﾝﾅｹﾞ(5.000kg)",null,null,null,null,41,45,2,2,"女子円盤投(1.000kg)","ｼﾞｮｼｴﾝﾊﾞﾝﾅｹﾞ(1.000kg)","女子円盤投(1.000kg)",null,null,0,0]
[42,"砲丸投(6.000kg)","ﾎｳｶﾞﾝﾅｹﾞ(6.000kg)",null,null,null,null,42,50,2,2,"女子ハンマー投(4.000kg)","ｼﾞｮｼﾊﾝﾏｰﾅｹﾞ(4.000kg)","女子ハンマー投(4.000kg)",null,null,0,0]
[43,"砲丸投(7.260kg)","ﾎｳｶﾞﾝﾅｹﾞ(7.260kg)",null,null,null,null,43,55,2,2,"女子やり投(600g)","ｼﾞｮｼﾔﾘﾅｹﾞ(600g)","女子やり投(600g)",null,null,0,0]
[44,"円盤投","ｴﾝﾊﾞﾝﾅｹﾞ",null,null,null,null,44,61,2,2,"女子七種競技","ｼﾞｮｼ7ｼｭ","女子七種競技",null,null,0,0]
[45,"円盤投(1.000kg)","ｴﾝﾊﾞﾝﾅｹﾞ(1.000kg)",null,null,null,null,45,69,2,2,"男子5000mOP","ﾀﾞﾝｼ5000mOP","男子5000mOP",null,null,0,0]
[46,"円盤投(1.500kg)","ｴﾝﾊﾞﾝﾅｹﾞ(1.500kg)",null,null,null,null,46,69,2,2,"女子5000mOP","ｼﾞｮｼ5000mOP","女子5000mOP",null,null,0,0]
[47,"円盤投(1.750kg)","ｴﾝﾊﾞﾝﾅｹﾞ(1.750kg)",null,null,null,null,null,null,null,null,null,null,null,null,null,null,null,null,null,null,null,null,null,null,null,null,null,0,0]
[48,"円盤投(2.000kg)","ｴﾝﾊﾞﾝﾅｹﾞ(2.000kg)",null,null,null,null,null,null,null,null,null,null,null,null,null,null,null,null,null,null,null,null,null,null,null,null,null,0,0]
[49,"ハンマー投","ﾊﾝﾏｰﾅｹﾞ",null,null,null,null,null,null,null,null,null,null,null,null,null,null,null,null,null,null,null,null,null,null,null,null,null,0,0]
[50,"ハンマー投(4.000kg)","ﾊﾝﾏｰﾅｹﾞ(4.000kg)",null,null,null,null,null,null,null,null,null,null,null,null,null,null,null,null,null,null,null,null,null,null,null,null,null,0,0]
[51,"ハンマー投(5.000kg)","ﾊﾝﾏｰﾅｹﾞ(5.000kg)",null,null,null,null,null,null,null,null,null,null,null,null,null,null,null,null,null,null,null,null,null,null,null,null,null,0,0]
[52,"ハンマー投(6.000kg)","ﾊﾝﾏｰﾅｹﾞ(6.000kg)",null,null,null,null,null,null,null,null,null,null,null,null,null,null,null,null,null,null,null,null,null,null,null,null,null,0,0]
[53,"ハンマー投(7.260kg)","ﾊﾝﾏｰﾅｹﾞ(7.260kg)",null,null,null,null,null,null,null,null,null,null,null,null,null,null,null,null,null,null,null,null,null,null,null,null,null,0,0]
[54,"やり投","ﾔﾘﾅｹﾞ",null,null,null,null,null,null,null,null,null,null,null,null,null,null,null,null,null,null,null,null,null,null,null,null,null,0,0]
[55,"やり投(600g)","ﾔﾘﾅｹﾞ(600g)",null,null,null,null,null,null,null,null,null,null,null,null,null,null,null,null,null,null,null,null,null,null,null,null,null,0,0]
[56,"やり投(700g)","ﾔﾘﾅｹﾞ(700g)",null,null,null,null,null,null,null,null,null,null,null,null,null,null,null,null,null,null,null,null,null,null,null,null,null,0,0]
[57,"やり投(800g)","ﾔﾘﾅｹﾞ(800g)"]
[58,"十種競技","10ｼｭｷｮｳｷﾞ"]
[59,"十種競技(女子)","10ｼｭｷｮｳｷﾞ"]
[60,"八種競技","8ｼｭｷｮｳｷﾞ"]
[61,"七種競技","7ｼｭｷｮｳｷﾞ"]
[62,"七種競技(室内)","7ｼｭｷｮｳｷﾞ"]
[63,"五種競技(室内男子)","5ｼｭｷｮｳｷﾞ"]
[64,"五種競技(室内女子)","5ｼｭｷｮｳｷﾞ"]
[65,"四種競技(男子)","4ｼｭｷｮｳｷﾞ"]
[66,"四種競技(女子)","4ｼｭｷｮｳｷﾞ"]
[67,"マラソン","ﾏﾗｿﾝ"]
[68,"駅伝","ｴｷﾃﾞﾝ"]

{"sheet":"Sheet2","index":11,"n_rows":64,"n_cols":2,"rows_kept":64,"cut":false,"hidden":true,"merged":[]}
[]
[1," 1年男子100m"]
[2," 男子100m"]
[3," 男子400m"]
[4," 男子1500m"]
[5," 男子棒高跳"]
[6," 男子走幅跳"]
[7," 男子砲丸投(5.000kg)"]
[8," 男子円盤投(1.500kg)"]
[9," 1年女子100m"]
[10," 女子100m"]
[11," 女子200m"]
[12," 女子1500m"]
[13," 女子走高跳"]
[14," 女子棒高跳"]
[15," 女子砲丸投(2.721kg)"]
[16," 女子円盤投(1.000kg)"]
[17," 男子200m"]
[18," 男子800m"]
[19," 男子3000m"]
[20," 男子110mH"]
[21," 男子4X100mR"]
[22," 男子走高跳"]
[23," 男子ジャベリックスロー"]
[24," 女子800m"]
[25," 女子3000m"]
[26," 女子100mH"]
[27," 女子4X100mR"]
[28," 女子走幅跳"]
[29," 女子ジャベリックスロー"]
[30,"小学3年以下男子50ｍ"]
[31,"小学3年以下女子50ｍ"]
[32,"小学3年以下男子走幅跳"]
[33,"小学3年以下女子走幅跳"]
[34,"小学4年男子50ｍ"]
[35,"小学4年女子50ｍ"]
[36,"小学4年男子走高跳"]
[37,"小学4年女子走高跳"]
[38,"小学4年男子走幅跳"]
[39,"小学4年女子走幅跳"]
[40,"小学5年男子100m"]
[41,"小学5年女子100m"]
[42,"小学5年男子80mH"]
[43,"小学5年女子80mH"]
[44,"小学5年男子走高跳"]
[45,"小学5年女子走高跳"]
[46,"小学5年男子走幅跳"]
[47,"小学5年女子走幅跳"]
[48,"小学5年男子ボール投"]
[49,"小学5年女子ボール投"]
[50,"小学6年男子100m"]
[51,"小学6年女子100m"]
[52,"小学6年男子80mH"]
[53,"小学6年女子80mH"]
[54,"小学6年男子走高跳"]
[55,"小学6年女子走高跳"]
[56,"小学6年男子走幅跳"]
[57,"小学6年女子走幅跳"]
[58,"小学6年男子ボール投"]
[59,"小学6年女子ボール投"]
[60,"小学4年混合4X100mR"]
[61,"小学5年混合4X100mR"]
[62,"小学6年男子4X100mR"]
[63,"小学6年女子4X100mR"]

{"sheet":"Sheet3","index":12,"n_rows":473,"n_cols":27,"rows_kept":473,"cut":false,"hidden":true,"merged":[]}
["競技コード","種目コード","種別コード","性別コード","競技名","競技名カナ","競技名正式名称","標準記録A","標準記録B","記録FLGA","記録FLGB"]
[1,2,1,1," 1年男子100m"," ﾀﾞﾝｼ100m"," 1年男子100m",null,null,0,0,null," 1年男子100m",null,"半田市立","半田","中学校",{"$f":"O2&P2&Q2","v":"半田市立半田中学校"},"はんだ",null,"ﾊﾝﾀﾞｼﾘﾂ",{"$f":"ASC(PHONETIC(S2))","v":"ﾊﾝﾀﾞ"},"ﾁｭｳｶﾞｯｺｳ",{"$f":"V2&W2","v":"ﾊﾝﾀﾞﾁｭｳｶﾞｯｺｳ"}]
[2,2,1,1," 男子100m"," ﾀﾞﾝｼ100m"," 男子100m",null,null,0,0,null," 男子100m",null,"半田市立","乙川","中学校",{"$f":"O3&P3&Q3","v":"半田市立乙川中学校"},"おつかわ",null,"ﾊﾝﾀﾞｼﾘﾂ",{"$f":"ASC(PHONETIC(S3))","v":"ｵﾂｶﾜ"},"ﾁｭｳｶﾞｯｺｳ",{"$f":"V3&W3","v":"ｵﾂｶﾜﾁｭｳｶﾞｯｺｳ"}]
[3,4,1,1," 男子400m"," ﾀﾞﾝｼ400m"," 男子400m",null,null,0,0,null," 男子200m",null,"半田市立","亀崎","中学校","半田市立亀崎中学校","かめさき",null,"ﾊﾝﾀﾞｼﾘﾂ","ｶﾒｻｷ","ﾁｭｳｶﾞｯｺｳ","ｶﾒｻｷﾁｭｳｶﾞｯｺｳ"]
[4,7,1,1," 男子1500m"," ﾀﾞﾝｼ1500m"," 男子1500m",null,null,0,0,null," 男子400m",null,"半田市立","成岩","中学校","半田市立成岩中学校","ならわ",null,"ﾊﾝﾀﾞｼﾘﾂ","ﾅﾗﾜ","ﾁｭｳｶﾞｯｺｳ","ﾅﾗﾜﾁｭｳｶﾞｯｺｳ"]
[5,35,1,1," 男子棒高跳"," ﾀﾞﾝｼﾎﾞｳﾀｶﾄﾋﾞ"," 男子棒高跳",null,null,0,0,null," 男子800m",null,"半田市立","青山","中学校","半田市立青山中学校","あおやま",null,"ﾊﾝﾀﾞｼﾘﾂ","ｱｵﾔﾏ","ﾁｭｳｶﾞｯｺｳ","ｱｵﾔﾏﾁｭｳｶﾞｯｺｳ"]
[6,36,1,1," 男子走幅跳"," ﾀﾞﾝｼﾊｼﾘﾊﾊﾞﾄﾋﾞ"," 男子走幅跳",null,null,0,0,null," 男子1500m",null,"常滑市立","青海","中学校","常滑市立青海中学校","おうみ",null,"ﾄｺﾅﾒｼﾘﾂ","ｵｳﾐ","ﾁｭｳｶﾞｯｺｳ","ｵｳﾐﾁｭｳｶﾞｯｺｳ"]
[7,41,1,1," 男子砲丸投(5.000kg)"," ﾀﾞﾝｼﾎｳｶﾞﾝﾅｹﾞ(5.000kg)"," 男子砲丸投(5.000kg)",null,null,0,0,null," 男子3000m",null,"常滑市立","鬼崎","中学校","常滑市立鬼崎中学校","おにざき",null,"ﾄｺﾅﾒｼﾘﾂ","ｵﾆｻﾞｷ","ﾁｭｳｶﾞｯｺｳ","ｵﾆｻﾞｷﾁｭｳｶﾞｯｺｳ"]
[8,46,1,1," 男子円盤投(1.500kg)"," ﾀﾞﾝｼｴﾝﾊﾞﾝﾅｹﾞ(1.500kg)"," 男子円盤投(1.500kg)",null,null,0,0,null," 男子110mH",null,"常滑市立","常滑","中学校","常滑市立常滑中学校","とこなめ",null,"ﾄｺﾅﾒｼﾘﾂ","ﾄｺﾅﾒ","ﾁｭｳｶﾞｯｺｳ","ﾄｺﾅﾒﾁｭｳｶﾞｯｺｳ"]
[9,2,1,2," 1年女子100m"," ｼﾞｮｼ100m"," 1年女子100m",null,null,0,0,null," 男子走高跳",null,"常滑市立","常滑南陵","中学校","常滑市立常滑南陵中学校","とこなめみなみみささぎ",null,"ﾄｺﾅﾒｼﾘﾂ","ﾄｺﾅﾒﾅﾝﾘｮｳ","ﾁｭｳｶﾞｯｺｳ","ﾄｺﾅﾒﾅﾝﾘｮｳﾁｭｳｶﾞｯｺｳ"]
[10,2,1,2," 女子100m"," ｼﾞｮｼ100m"," 女子100m",null,null,0,0,null," 男子棒高跳",null,"常滑市立","上野","中学校","常滑市立上野中学校","うえの",null,"ﾄｺﾅﾒｼﾘﾂ","ｳｴﾉ","ﾁｭｳｶﾞｯｺｳ","ｳｴﾉﾁｭｳｶﾞｯｺｳ"]
[11,3,1,2," 女子200m"," ｼﾞｮｼ200m"," 女子200m",null,null,0,0,null," 男子走幅跳",null,"常滑市立","富木島","中学校","常滑市立富木島中学校","とみきじま",null,"ﾄｺﾅﾒｼﾘﾂ","ﾌｷｼﾏ","ﾁｭｳｶﾞｯｺｳ","ﾌｷｼﾏﾁｭｳｶﾞｯｺｳ"]
[12,7,1,2," 女子1500m"," ｼﾞｮｼ1500m"," 女子1500m",null,null,0,0,null," 男子砲丸投(5.000kg)",null,"常滑市立","横須賀","中学校","常滑市立横須賀中学校","よこすか",null,"ﾄｺﾅﾒｼﾘﾂ","ﾖｺｽｶ","ﾁｭｳｶﾞｯｺｳ","ﾖｺｽｶﾁｭｳｶﾞｯｺｳ"]
[13,34,1,2," 女子走高跳"," ｼﾞｮｼﾊｼﾘﾀｶﾄﾋﾞ"," 女子走高跳",null,null,0,0,null," 男子円盤投(1.500kg)",null,"常滑市立","加木屋","中学校","常滑市立加木屋中学校","かぎや",null,"ﾄｺﾅﾒｼﾘﾂ","ｶｷﾞﾔ","ﾁｭｳｶﾞｯｺｳ","ｶｷﾞﾔﾁｭｳｶﾞｯｺｳ"]
[14,35,1,2," 女子棒高跳"," ｼﾞｮｼﾎﾞｳﾀｶﾄﾋﾞ"," 女子棒高跳",null,null,0,0,null," 男子ジャベリックスロー",null,"常滑市立","名和","中学校","常滑市立名和中学校","なわ",null,"ﾄｺﾅﾒｼﾘﾂ","ﾅﾜ","ﾁｭｳｶﾞｯｺｳ","ﾅﾜﾁｭｳｶﾞｯｺｳ"]
[15,39,1,2," 女子砲丸投(2.721kg)"," ｼﾞｮｼﾎｳｶﾞﾝﾅｹﾞ(2.721kg)"," 女子砲丸投(2.721kg)",null,null,0,0,null,null,null,"常滑市立","平洲","中学校","常滑市立平洲中学校","たいらしま",null,"ﾄｺﾅﾒｼﾘﾂ","ﾍｲｼｭｳ","ﾁｭｳｶﾞｯｺｳ","ﾍｲｼｭｳﾁｭｳｶﾞｯｺｳ"]
[16,45,1,2," 女子円盤投(1.000kg)"," ｼﾞｮｼｴﾝﾊﾞﾝﾅｹﾞ(1.000kg)"," 女子円盤投(1.000kg)",null,null,0,0,null,null,null,"大府市立","大府","中学校","大府市立大府中学校","おおぶ",null,"ｵｵﾌﾞｼﾘﾂ","ｵｵﾌﾞ","ﾁｭｳｶﾞｯｺｳ","ｵｵﾌﾞﾁｭｳｶﾞｯｺｳ"]
[17,3,1,1," 男子200m"," ﾀﾞﾝｼ200m"," 男子200m",null,null,0,0,null," 男子4X100mR",null,"大府市立","大府西","中学校","大府市立大府西中学校","おおぶにし",null,"ｵｵﾌﾞｼﾘﾂ","ｵｵﾌﾞﾆｼ","ﾁｭｳｶﾞｯｺｳ","ｵｵﾌﾞﾆｼﾁｭｳｶﾞｯｺｳ"]
[18,5,1,1," 男子800m"," ﾀﾞﾝｼ800m"," 男子800m",null,null,0,0,null,null,null,"大府市立","大府北","中学校","大府市立大府北中学校","おおぶきた",null,"ｵｵﾌﾞｼﾘﾂ","ｵｵﾌﾞｷﾀ","ﾁｭｳｶﾞｯｺｳ","ｵｵﾌﾞｷﾀﾁｭｳｶﾞｯｺｳ"]
[19,8,1,1," 男子3000m"," ﾀﾞﾝｼ3000m"," 男子3000m",null,null,0,0,null,null,null,"大府市立","大府南","中学校","大府市立大府南中学校","おおぶみなみ",null,"ｵｵﾌﾞｼﾘﾂ","ｵｵﾌﾞﾐﾅﾐ","ﾁｭｳｶﾞｯｺｳ","ｵｵﾌﾞﾐﾅﾐﾁｭｳｶﾞｯｺｳ"]
[20,16,1,1," 男子110mH"," ﾀﾞﾝｼ110mH"," 男子110mH",null,null,0,0,null,null,null,"知多市立","知多八幡","中学校","知多市立知多八幡中学校","ちたやわた",null,"ﾁﾀｼﾘﾂ","ﾁﾀﾔﾜﾀ","ﾁｭｳｶﾞｯｺｳ","ﾁﾀﾔﾜﾀﾁｭｳｶﾞｯｺｳ"]
[21,30,1,1," 男子4X100mR"," ﾀﾞﾝｼ4X100mR"," 男子4X100mR",null,null,0,0,null,null,null,"知多市立","知多","中学校","知多市立知多中学校","ちた",null,"ﾁﾀｼﾘﾂ","ﾁﾀ","ﾁｭｳｶﾞｯｺｳ","ﾁﾀﾁｭｳｶﾞｯｺｳ"]
[22,34,1,1," 男子走高跳"," ﾀﾞﾝｼﾊｼﾘﾀｶﾄﾋﾞ"," 男子走高跳",null,null,0,0,null,null,null,"知多市立","旭南","中学校","知多市立旭南中学校","きょくなん",null,"ﾁﾀｼﾘﾂ","ｷｮｸﾅﾝ","ﾁｭｳｶﾞｯｺｳ","ｷｮｸﾅﾝﾁｭｳｶﾞｯｺｳ"]
[23,54,1,1," 男子ジャベリックスロー"," ﾀﾞﾝｼｼﾞｬﾍﾞﾘｯｸｽﾛｰ"," 男子ジャベリックスロー",null,null,0,0,null,null,null,"知多市立","知多東部","中学校","知多市立知多東部中学校","ちたとうぶ",null,"ﾁﾀｼﾘﾂ","ﾁﾀﾄｳﾌﾞ","ﾁｭｳｶﾞｯｺｳ","ﾁﾀﾄｳﾌﾞﾁｭｳｶﾞｯｺｳ",null,null,1]
[24,5,1,2," 女子800m"," ｼﾞｮｼ800m"," 女子800m",null,null,0,0,null,null,null,"知多市立","知多中部","中学校","知多市立知多中部中学校","ちたちゅうぶ",null,"ﾁﾀｼﾘﾂ","ﾁﾀﾁｭｳﾌﾞ","ﾁｭｳｶﾞｯｺｳ","ﾁﾀﾁｭｳﾌﾞﾁｭｳｶﾞｯｺｳ",null,null,2]
[25,8,1,2," 女子3000m"," ｼﾞｮｼ3000m"," 女子3000m",null,null,0,0,null,null,null,"阿久比町立","阿久比","中学校","阿久比町立阿久比中学校","あぐい",null,"ｱｸﾞｲﾁｮｳﾘﾂ","ｱｸﾞｲ","ﾁｭｳｶﾞｯｺｳ","ｱｸﾞｲﾁｭｳｶﾞｯｺｳ",null,null,3]
[26,13,1,2," 女子100mH"," ｼﾞｮｼ100mH"," 女子100mH",null,null,0,0,null,null,null,"東浦町立","東浦","中学校","東浦町立東浦中学校","ひがしうら",null,"ﾋｶﾞｼｳﾗﾁｮｳﾘﾂ","ﾋｶﾞｼｳﾗ","ﾁｭｳｶﾞｯｺｳ","ﾋｶﾞｼｳﾗﾁｭｳｶﾞｯｺｳ",null,null,4]
[27,30,1,2," 女子4X100mR"," ｼﾞｮｼ4X100mR"," 女子4X100mR",null,null,0,0,null,null,null,"東浦町立","東浦北部","中学校","東浦町立東浦北部中学校","ひがしうらほくぶ",null,"ﾋｶﾞｼｳﾗﾁｮｳﾘﾂ","ﾋｶﾞｼｳﾗﾎｸﾌﾞ","ﾁｭｳｶﾞｯｺｳ","ﾋｶﾞｼｳﾗﾎｸﾌﾞﾁｭｳｶﾞｯｺｳ",null,null,5]
[28,36,1,2," 女子走幅跳"," ｼﾞｮｼﾊｼﾘﾊﾊﾞﾄﾋﾞ"," 女子走幅跳",null,null,0,0,null,null,null,"東浦町立","東浦西部","中学校","東浦町立東浦西部中学校","ひがしうらせいぶ",null,"ﾋｶﾞｼｳﾗﾁｮｳﾘﾂ","ﾋｶﾞｼｳﾗｾｲﾌﾞ","ﾁｭｳｶﾞｯｺｳ","ﾋｶﾞｼｳﾗｾｲﾌﾞﾁｭｳｶﾞｯｺｳ",null,null,6]
[29,54,1,2," 女子ジャベリックスロー"," ｼﾞｮｼｼﾞｬﾍﾞﾘｯｸｽﾛｰ"," 女子ジャベリックスロー",null,null,0,0,null,null,null,"南知多町立","内海","中学校","南知多町立内海中学校","うちうみ",null,"ﾐﾅﾐﾁﾀﾁｮｳﾘﾂ","ｳﾂﾐ","ﾁｭｳｶﾞｯｺｳ","ｳﾂﾐﾁｭｳｶﾞｯｺｳ",null,null,7]
[30,100,3,1,"小学3年以下男子50ｍ","ｼｮｳｶﾞｸﾀﾞﾝｼ50m","小学3年以下男子50ｍ",null,null,0,0,null,null,null,"南知多町立","豊浜","中学校","南知多町立豊浜中学校","とよはま",null,"ﾐﾅﾐﾁﾀﾁｮｳﾘﾂ","ﾄﾖﾊﾏ","ﾁｭｳｶﾞｯｺｳ","ﾄﾖﾊﾏﾁｭｳｶﾞｯｺｳ",null,null,8]
[31,100,3,2,"小学3年以下女子50ｍ","ｼｮｳｶﾞｸｼﾞｮｼ50m","小学3年以下女子50ｍ",null,null,0,0,null,null,null,"南知多町立","師崎","中学校","南知多町立師崎中学校","もろざき",null,"ﾐﾅﾐﾁﾀﾁｮｳﾘﾂ","ﾓﾛｻﾞｷ","ﾁｭｳｶﾞｯｺｳ","ﾓﾛｻﾞｷﾁｭｳｶﾞｯｺｳ",null,null,9]
[32,36,3,1,"小学3年以下男子走幅跳","ｼｮｳｶﾞｸﾀﾞﾝｼﾊｼﾘﾊﾊﾞﾄﾋﾞ","小学3年以下男子走幅跳",null,null,0,0,1," 1年女子100m",null,"南知多町立","篠島","中学校","南知多町立篠島中学校","しのしま",null,"ﾐﾅﾐﾁﾀﾁｮｳﾘﾂ","ｼﾉｼﾏ","ﾁｭｳｶﾞｯｺｳ","ｼﾉｼﾏﾁｭｳｶﾞｯｺｳ",null,null,10]
[33,36,3,2,"小学3年以下女子走幅跳","ｼｮｳｶﾞｸｼﾞｮｼﾊｼﾘﾊﾊﾞﾄﾋﾞ","小学3年以下女子走幅跳",null,null,0,0,2," 女子100m",null,"南知多町立","日間賀","中学校","南知多町立日間賀中学校","にちかんが",null,"ﾐﾅﾐﾁﾀﾁｮｳﾘﾂ","ﾋﾏｶ","ﾁｭｳｶﾞｯｺｳ","ﾋﾏｶﾁｭｳｶﾞｯｺｳ",null,null,11]
[34,100,3,1,"小学4年男子50ｍ","ｼｮｳｶﾞｸﾀﾞﾝｼ50m","小学4年男子50ｍ",null,null,0,0,3," 女子200m",null,"美浜町立","野間","中学校","美浜町立野間中学校","のま",null,"ﾐﾊﾏﾁｮｳﾘﾂ","ﾉﾏ","ﾁｭｳｶﾞｯｺｳ","ﾉﾏﾁｭｳｶﾞｯｺｳ",null,null,12]
[35,100,3,2,"小学4年女子50ｍ","ｼｮｳｶﾞｸｼﾞｮｼ50m","小学4年女子50ｍ",null,null,0,0,4," 女子800m",null,"美浜町立","河和","中学校","美浜町立河和中学校","かわわ",null,"ﾐﾊﾏﾁｮｳﾘﾂ","ｺｳﾜ","ﾁｭｳｶﾞｯｺｳ","ｺｳﾜﾁｭｳｶﾞｯｺｳ",null,null,13]
[36,34,3,1,"小学4年男子走高跳","ｼｮｳｶﾞｸﾀﾞﾝｼﾊｼﾘﾀｶﾄﾋﾞ","小学4年男子走高跳",null,null,0,0,5," 女子1500m",null,"武豊町立","武豊","中学校","武豊町立武豊中学校","たけとよ",null,"ﾀｹﾄﾖﾁｮｳﾘﾂ","ﾀｹﾄﾖ","ﾁｭｳｶﾞｯｺｳ","ﾀｹﾄﾖﾁｭｳｶﾞｯｺｳ",null,null,14]
[37,34,3,2,"小学4年女子走高跳","ｼｮｳｶﾞｸｼﾞｮｼﾊｼﾘﾀｶﾄﾋﾞ","小学4年女子走高跳",null,null,0,0,6," 女子3000m",null,"武豊町立","富貴","中学校","武豊町立富貴中学校","ふうき",null,"ﾀｹﾄﾖﾁｮｳﾘﾂ","ﾌｷ","ﾁｭｳｶﾞｯｺｳ","ﾌｷﾁｭｳｶﾞｯｺｳ",null,null,15]
[38,36,3,1,"小学4年男子走幅跳","ｼｮｳｶﾞｸﾀﾞﾝｼﾊｼﾘﾊﾊﾞﾄﾋﾞ","小学4年男子走幅跳",null,null,0,0,7," 女子100mH",null,null,null,null,null,null,null,null,null,null,null,null,null,16]
[39,36,3,2,"小学4年女子走幅跳","ｼｮｳｶﾞｸｼﾞｮｼﾊｼﾘﾊﾊﾞﾄﾋﾞ","小学4年女子走幅跳",null,null,0,0,8," 女子走高跳",null,null,null,null,null,null,null,null,null,null,null,null,null,17]
[40,2,3,1,"小学5年男子100m","ｼｮｳｶﾞｸﾀﾞﾝｼ100m","小学5年男子100m",null,null,0,0,9," 女子棒高跳",null,null,null,null,null,null,null,null,null,null,null,null,null,18]
[41,2,3,2,"小学5年女子100m","ｼｮｳｶﾞｸｼﾞｮｼ100m","小学5年女子100m",null,null,0,0,10," 女子走幅跳",null,null,null,null,null,null,null,null,null,null,null,null,null,19]
[42,12,3,1,"小学5年男子80mH","ｼｮｳｶﾞｸﾀﾞﾝｼ80mH","小学5年男子80mH",null,null,0,0,11," 女子砲丸投(2.721kg)",null,null,null,null,null,null,null,null,null,null,null,null,null,20]
[43,12,3,2,"小学5年女子80mH","ｼｮｳｶﾞｸｼﾞｮｼ80mH","小学5年女子80mH",null,null,0,0,12," 女子円盤投(1.000kg)",null,null,null,null,null,null,null,null,null,null,null,null,null,21]
[44,34,3,1,"小学5年男子走高跳","ｼｮｳｶﾞｸﾀﾞﾝｼﾊｼﾘﾀｶﾄﾋﾞ","小学5年男子走高跳",null,null,0,0,13," 女子4X100mR",null,null,null,null,null,null,null,null,null,null,null,null,null,22]
[45,34,3,2,"小学5年女子走高跳","ｼｮｳｶﾞｸｼﾞｮｼﾊｼﾘﾀｶﾄﾋﾞ","小学5年女子走高跳",null,null,0,0,null,null,null,null,null,null,null,null,null,null,null,null,null,null,null,23]
[46,36,3,1,"小学5年男子走幅跳","ｼｮｳｶﾞｸﾀﾞﾝｼﾊｼﾘﾊﾊﾞﾄﾋﾞ","小学5年男子走幅跳",null,null,0,0,null,null,null,null,null,null,null,null,null,null,null,null,null,null,null,24]
[47,36,3,2,"小学5年女子走幅跳","ｼｮｳｶﾞｸｼﾞｮｼﾊｼﾘﾊﾊﾞﾄﾋﾞ","小学5年女子走幅跳",null,null,0,0,null,null,null,null,null,null,null,null,null,null,null,null,null,null,null,25]
[48,54,3,1,"小学5年男子ボール投","ｼｮｳｶﾞｸﾀﾞﾝｼﾎﾞｰﾙﾅｹﾞ","小学5年男子ボール投",null,null,0,0,null,null,null,null,null,null,null,null,null,null,null,null,null,null,null,26]
[49,54,3,2,"小学5年女子ボール投","ｼｮｳｶﾞｸｼﾞｮｼﾎﾞｰﾙﾅｹﾞ","小学5年女子ボール投",null,null,0,0,null,null,null,null,null,null,null,null,null,null,null,null,null,null,null,27]
[50,2,3,1,"小学6年男子100m","ｼｮｳｶﾞｸﾀﾞﾝｼ100m","小学6年男子100m",null,null,0,0,null,null,null,null,null,null,null,null,null,null,null,null,null,null,null,28]
[51,2,3,2,"小学6年女子100m","ｼｮｳｶﾞｸｼﾞｮｼ100m","小学6年女子100m",null,null,0,0,null,null,null,null,null,null,null,null,null,null,null,null,null,null,null,29]
[52,12,3,1,"小学6年男子80mH","ｼｮｳｶﾞｸﾀﾞﾝｼ80mH","小学6年男子80mH",null,null,0,0,null,null,null,null,null,null,null,null,null,null,null,null,null,null,null,30]
[53,12,3,2,"小学6年女子80mH","ｼｮｳｶﾞｸｼﾞｮｼ80mH","小学6年女子80mH",null,null,0,0,null,null,null,null,null,null,null,null,null,null,null,null,null,null,null,31]
[54,34,3,1,"小学6年男子走高跳","ｼｮｳｶﾞｸﾀﾞﾝｼﾊｼﾘﾀｶﾄﾋﾞ","小学6年男子走高跳",null,null,0,0,null,null,null,null,null,null,null,null,null,null,null,null,null,null,null,32]
[55,34,3,2,"小学6年女子走高跳","ｼｮｳｶﾞｸｼﾞｮｼﾊｼﾘﾀｶﾄﾋﾞ","小学6年女子走高跳",null,null,0,0,null,null,null,null,null,null,null,null,null,null,null,null,null,null,null,33]
[56,36,3,1,"小学6年男子走幅跳","ｼｮｳｶﾞｸﾀﾞﾝｼﾊｼﾘﾊﾊﾞﾄﾋﾞ","小学6年男子走幅跳",null,null,0,0,null,null,null,null,null,null,null,null,null,null,null,null,null,null,null,34]
[57,36,3,2,"小学6年女子走幅跳","ｼｮｳｶﾞｸｼﾞｮｼﾊｼﾘﾊﾊﾞﾄﾋﾞ","小学6年女子走幅跳",null,null,0,0,null,null,null,null,null,null,null,null,null,null,null,null,null,null,null,35]
[58,54,3,1,"小学6年男子ボール投","ｼｮｳｶﾞｸﾀﾞﾝｼﾎﾞｰﾙﾅｹﾞ","小学6年男子ボール投",null,null,0,0,null,null,null,null,null,null,null,null,null,null,null,null,null,null,null,36]
[59,54,3,2,"小学6年女子ボール投","ｼｮｳｶﾞｸｼﾞｮｼﾎﾞｰﾙﾅｹﾞ","小学6年女子ボール投",null,null,0,0,null,null,null,null,null,null,null,null,null,null,null,null,null,null,null,37]
[60,30,3,3,"小学4年混合4X100mR","ｼｮｳｶﾞｸｺﾝｺﾞｳ4X100mR","小学4年混合4X100mR",null,null,0,0,null,null,null,null,null,null,null,null,null,null,null,null,null,null,null,38]
[61,30,3,3,"小学5年混合4X100mR","ｼｮｳｶﾞｸｺﾝｺﾞｳ4X100mR","小学5年混合4X100mR",null,null,0,0,null,null,null,null,null,null,null,null,null,null,null,null,null,null,null,39]
[62,30,3,1,"小学6年男子4X100mR","ｼｮｳｶﾞｸﾀﾞﾝｼ4X100mR","小学6年男子4X100mR",null,null,0,0,null,null,null,null,null,null,null,null,null,null,null,null,null,null,null,40]
[63,30,3,2,"小学6年女子4X100mR","ｼｮｳｶﾞｸｼﾞｮｼ4X100mR","小学6年女子4X100mR",null,null,0,0,null,null,null,null,null,null,null,null,null,null,null,null,null,null,null,41]
[null,null,null,null,null,null,null,null,null,null,null,null,null,null,null,null,null,null,null,null,null,null,null,null,null,null,42]
[null,null,null,null,null,null,null,null,null,null,null,null,null,null,null,null,null,null,null,null,null,null,null,null,null,null,43]
[null,null,null,null,null,null,null,null,null,null,null,null,null,null,null,null,null,null,null,null,null,null,null,null,null,null,44]
[null,null,null,null,null,null,null,null,null,null,null,null,null,null,null,null,null,null,null,null,null,null,null,null,null,null,45]
[null,null,null,null,null,null,null,null,null,null,null,null,null,null,null,null,null,null,null,null,null,null,null,null,null,null,46]
[null,null,null,null,null,null,null,null,null,null,null,null,null,null,null,null,null,null,null,null,null,null,null,null,null,null,47]
[null,null,null,null,null,null,null,null,null,null,null,null,null,null,null,null,null,null,null,null,null,null,null,null,null,null,48]
[null,null,null,null,null,null,null,null,null,null,null,null,null,null,null,null,null,null,null,null,null,null,null,null,null,null,49]
[null,null,null,null,null,null,null,null,null,null,null,null,null,null,null,null,null,null,null,null,null,null,null,null,null,null,50]
[null,null,null,null,null,null,null,null,null,null,null,null,null,null,null,null,null,null,null,null,null,null,null,null,null,null,51]
[null,null,null,null,null,null,null,null,null,null,null,null,null,null,null,null,null,null,null,null,null,null,null,null,null,null,52]
[null,null,null,null,null,null,null,null,null,null,null,null,null,null,null,null,null,null,null,null,null,null,null,null,null,null,53]
[null,null,null,null,null,null,null,null,null,null,null,null,null,null,null,null,null,null,null,null,null,null,null,null,null,null,54]
[null,null,null,null,null,null,null,null,null,null,null,null,null,null,null,null,null,null,null,null,null,null,null,null,null,null,55]
[null,null,null,null,null,null,null,null,null,null,null,null,null,null,null,null,null,null,null,null,null,null,null,null,null,null,56]
[null,null,null,null,null,null,null,null,null,null,null,null,null,null,null,null,null,null,null,null,null,null,null,null,null,null,57]
[null,null,null,null,null,null,null,null,null,null,null,null,null,null,null,null,null,null,null,null,null,null,null,null,null,null,58]
[null,null,null,null,null,null,null,null,null,null,null,null,null,null,null,null,null,null,null,null,null,null,null,null,null,null,59]
[null,null,null,null,null,null,null,null,null,null,null,null,null,null,null,null,null,null,null,null,null,null,null,null,null,null,60]
[null,null,null,null,null,null,null,null,null,null,null,null,null,null,null,null,null,null,null,null,null,null,null,null,null,null,61]
[null,null,null,null,null,null,null,null,null,null,null,null,null,null,null,null,null,null,null,null,null,null,null,null,null,null,62]
[null,null,null,null,null,null,null,null,null,null,null,null,null,null,null,null,null,null,null,null,null,null,null,null,null,null,63]
[null,null,null,null,null,null,null,null,null,null,null,null,null,null,null,null,null,null,null,null,null,null,null,null,null,null,64]
[null,null,null,null,null,null,null,null,null,null,null,null,null,null,null,null,null,null,null,null,null,null,null,null,null,null,65]
[null,null,null,null,null,null,null,null,null,null,null,null,null,null,null,null,null,null,null,null,null,null,null,null,null,null,66]
[null,null,null,null,null,null,null,null,null,null,null,null,null,null,null,null,null,null,null,null,null,null,null,null,null,null,67]
[null,null,null,null,null,null,null,null,null,null,null,null,null,null,null,null,null,null,null,null,null,null,null,null,null,null,68]
[null,null,null,null,null,null,null,null,null,null,null,null,null,null,null,null,null,null,null,null,null,null,null,null,null,null,69]
[null,null,null,null,null,null,null,null,null,null,null,null,null,null,null,null,null,null,null,null,null,null,null,null,null,null,70]
[null,null,null,null,null,null,null,null,null,null,null,null,null,null,null,null,null,null,null,null,null,null,null,null,null,null,71]
[null,null,null,null,null,null,null,null,null,null,null,null,null,null,null,null,null,null,null,null,null,null,null,null,null,null,72]
[null,null,null,null,null,null,null,null,null,null,null,null,null,null,null,null,null,null,null,null,null,null,null,null,null,null,73]
[null,null,null,null,null,null,null,null,null,null,null,null,null,null,null,null,null,null,null,null,null,null,null,null,null,null,74]
[null,null,null,null,null,null,null,null,null,null,null,null,null,null,null,null,null,null,null,null,null,null,null,null,null,null,75]
[null,null,null,null,null,null,null,null,null,null,null,null,null,null,null,null,null,null,null,null,null,null,null,null,null,null,76]
[null,null,null,null,null,null,null,null,null,null,null,null,null,null,null,null,null,null,null,null,null,null,null,null,null,null,77]
[null,null,null,null,null,null,null,null,null,null,null,null,null,null,null,null,null,null,null,null,null,null,null,null,null,null,78]
[null,null,null,null,null,null,null,null,null,null,null,null,null,null,null,null,null,null,null,null,null,null,null,null,null,null,79]
[null,null,null,null,null,null,null,null,null,null,null,null,null,null,null,null,null,null,null,null,null,null,null,null,null,null,80]
[null,null,null,null,null,null,null,null,null,null,null,null,null,null,null,null,null,null,null,null,null,null,null,null,null,null,81]
[null,null,null,null,null,null,null,null,null,null,null,null,null,null,null,null,null,null,null,null,null,null,null,null,null,null,82]
[null,null,null,null,null,null,null,null,null,null,null,null,null,null,null,null,null,null,null,null,null,null,null,null,null,null,83]
[null,null,null,null,null,null,null,null,null,null,null,null,null,null,null,null,null,null,null,null,null,null,null,null,null,null,84]
[null,null,null,null,null,null,null,null,null,null,null,null,null,null,null,null,null,null,null,null,null,null,null,null,null,null,85]
[null,null,null,null,null,null,null,null,null,null,null,null,null,null,null,null,null,null,null,null,null,null,null,null,null,null,86]
[null,null,null,null,null,null,null,null,null,null,null,null,null,null,null,null,null,null,null,null,null,null,null,null,null,null,87]
[null,null,null,null,null,null,null,null,null,null,null,null,null,null,null,null,null,null,null,null,null,null,null,null,null,null,88]
[null,null,null,null,null,null,null,null,null,null,null,null,null,null,null,null,null,null,null,null,null,null,null,null,null,null,89]
[null,null,null,null,null,null,null,null,null,null,null,null,null,null,null,null,null,null,null,null,null,null,null,null,null,null,90]
[null,null,null,null,null,null,null,null,null,null,null,null,null,null,null,null,null,null,null,null,null,null,null,null,null,null,91]
[null,null,null,null,null,null,null,null,null,null,null,null,null,null,null,null,null,null,null,null,null,null,null,null,null,null,92]
[null,null,null,null,null,null,null,null,null,null,null,null,null,null,null,null,null,null,null,null,null,null,null,null,null,null,93]
[null,null,null,null,null,null,null,null,null,null,null,null,null,null,null,null,null,null,null,null,null,null,null,null,null,null,94]
[null,null,null,null,null,null,null,null,null,null,null,null,null,null,null,null,null,null,null,null,null,null,null,null,null,null,95]
[null,null,null,null,null,null,null,null,null,null,null,null,null,null,null,null,null,null,null,null,null,null,null,null,null,null,96]
[null,null,null,null,null,null,null,null,null,null,null,null,null,null,null,null,null,null,null,null,null,null,null,null,null,null,97]
[null,null,null,null,null,null,null,null,null,null,null,null,null,null,null,null,null,null,null,null,null,null,null,null,null,null,98]
[null,null,null,null,null,null,null,null,null,null,null,null,null,null,null,null,null,null,null,null,null,null,null,null,null,null,99]
[null,null,null,null,null,null,null,null,null,null,null,null,null,null,null,null,null,null,null,null,null,null,null,null,null,null,100]
[null,null,null,null,null,null,null,null,null,null,null,null,null,null,null,null,null,null,null,null,null,null,null,null,null,null,101]
[null,null,null,null,null,null,null,null,null,null,null,null,null,null,null,null,null,null,null,null,null,null,null,null,null,null,102]
[null,null,null,null,null,null,null,null,null,null,null,null,null,null,null,null,null,null,null,null,null,null,null,null,null,null,103]
[null,null,null,null,null,null,null,null,null,null,null,null,null,null,null,null,null,null,null,null,null,null,null,null,null,null,104]
[null,null,null,null,null,null,null,null,null,null,null,null,null,null,null,null,null,null,null,null,null,null,null,null,null,null,105]
[null,null,null,null,null,null,null,null,null,null,null,null,null,null,null,null,null,null,null,null,null,null,null,null,null,null,106]
[null,null,null,null,null,null,null,null,null,null,null,null,null,null,null,null,null,null,null,null,null,null,null,null,null,null,107]
[null,null,null,null,null,null,null,null,null,null,null,null,null,null,null,null,null,null,null,null,null,null,null,null,null,null,108]
[null,null,null,null,null,null,null,null,null,null,null,null,null,null,null,null,null,null,null,null,null,null,null,null,null,null,109]
[null,null,null,null,null,null,null,null,null,null,null,null,null,null,null,null,null,null,null,null,null,null,null,null,null,null,110]
[null,null,null,null,null,null,null,null,null,null,null,null,null,null,null,null,null,null,null,null,null,null,null,null,null,null,111]
[null,null,null,null,null,null,null,null,null,null,null,null,null,null,null,null,null,null,null,null,null,null,null,null,null,null,112]
[null,null,null,null,null,null,null,null,null,null,null,null,null,null,null,null,null,null,null,null,null,null,null,null,null,null,113]
[null,null,null,null,null,null,null,null,null,null,null,null,null,null,null,null,null,null,null,null,null,null,null,null,null,null,114]
[null,null,null,null,null,null,null,null,null,null,null,null,null,null,null,null,null,null,null,null,null,null,null,null,null,null,115]
[null,null,null,null,null,null,null,null,null,null,null,null,null,null,null,null,null,null,null,null,null,null,null,null,null,null,116]
[null,null,null,null,null,null,null,null,null,null,null,null,null,null,null,null,null,null,null,null,null,null,null,null,null,null,117]
[null,null,null,null,null,null,null,null,null,null,null,null,null,null,null,null,null,null,null,null,null,null,null,null,null,null,118]
[null,null,null,null,null,null,null,null,null,null,null,null,null,null,null,null,null,null,null,null,null,null,null,null,null,null,119]
[null,null,null,null,null,null,null,null,null,null,null,null,null,null,null,null,null,null,null,null,null,null,null,null,null,null,120]
[null,null,null,null,null,null,null,null,null,null,null,null,null,null,null,null,null,null,null,null,null,null,null,null,null,null,121]
[null,null,null,null,null,null,null,null,null,null,null,null,null,null,null,null,null,null,null,null,null,null,null,null,null,null,122]
[null,null,null,null,null,null,null,null,null,null,null,null,null,null,null,null,null,null,null,null,null,null,null,null,null,null,123]
[null,null,null,null,null,null,null,null,null,null,null,null,null,null,null,null,null,null,null,null,null,null,null,null,null,null,124]
[null,null,null,null,null,null,null,null,null,null,null,null,null,null,null,null,null,null,null,null,null,null,null,null,null,null,125]
[null,null,null,null,null,null,null,null,null,null,null,null,null,null,null,null,null,null,null,null,null,null,null,null,null,null,126]
[null,null,null,null,null,null,null,null,null,null,null,null,null,null,null,null,null,null,null,null,null,null,null,null,null,null,127]
[null,null,null,null,null,null,null,null,null,null,null,null,null,null,null,null,null,null,null,null,null,null,null,null,null,null,128]
[null,null,null,null,null,null,null,null,null,null,null,null,null,null,null,null,null,null,null,null,null,null,null,null,null,null,129]
[null,null,null,null,null,null,null,null,null,null,null,null,null,null,null,null,null,null,null,null,null,null,null,null,null,null,130]
[null,null,null,null,null,null,null,null,null,null,null,null,null,null,null,null,null,null,null,null,null,null,null,null,null,null,131]
[null,null,null,null,null,null,null,null,null,null,null,null,null,null,null,null,null,null,null,null,null,null,null,null,null,null,132]
[null,null,null,null,null,null,null,null,null,null,null,null,null,null,null,null,null,null,null,null,null,null,null,null,null,null,133]
[null,null,null,null,null,null,null,null,null,null,null,null,null,null,null,null,null,null,null,null,null,null,null,null,null,null,134]
[null,null,null,null,null,null,null,null,null,null,null,null,null,null,null,null,null,null,null,null,null,null,null,null,null,null,135]
[null,null,null,null,null,null,null,null,null,null,null,null,null,null,null,null,null,null,null,null,null,null,null,null,null,null,136]
[null,null,null,null,null,null,null,null,null,null,null,null,null,null,null,null,null,null,null,null,null,null,null,null,null,null,137]
[null,null,null,null,null,null,null,null,null,null,null,null,null,null,null,null,null,null,null,null,null,null,null,null,null,null,138]
[null,null,null,null,null,null,null,null,null,null,null,null,null,null,null,null,null,null,null,null,null,null,null,null,null,null,139]
[null,null,null,null,null,null,null,null,null,null,null,null,null,null,null,null,null,null,null,null,null,null,null,null,null,null,140]
[null,null,null,null,null,null,null,null,null,null,null,null,null,null,null,null,null,null,null,null,null,null,null,null,null,null,141]
[null,null,null,null,null,null,null,null,null,null,null,null,null,null,null,null,null,null,null,null,null,null,null,null,null,null,142]
[null,null,null,null,null,null,null,null,null,null,null,null,null,null,null,null,null,null,null,null,null,null,null,null,null,null,143]
[null,null,null,null,null,null,null,null,null,null,null,null,null,null,null,null,null,null,null,null,null,null,null,null,null,null,144]
[null,null,null,null,null,null,null,null,null,null,null,null,null,null,null,null,null,null,null,null,null,null,null,null,null,null,145]
[null,null,null,null,null,null,null,null,null,null,null,null,null,null,null,null,null,null,null,null,null,null,null,null,null,null,146]
[null,null,null,null,null,null,null,null,null,null,null,null,null,null,null,null,null,null,null,null,null,null,null,null,null,null,147]
[null,null,null,null,null,null,null,null,null,null,null,null,null,null,null,null,null,null,null,null,null,null,null,null,null,null,148]
[null,null,null,null,null,null,null,null,null,null,null,null,null,null,null,null,null,null,null,null,null,null,null,null,null,null,149]
[null,null,null,null,null,null,null,null,null,null,null,null,null,null,null,null,null,null,null,null,null,null,null,null,null,null,150]
[null,null,null,null,null,null,null,null,null,null,null,null,null,null,null,null,null,null,null,null,null,null,null,null,null,null,151]
[null,null,null,null,null,null,null,null,null,null,null,null,null,null,null,null,null,null,null,null,null,null,null,null,null,null,152]
[null,null,null,null,null,null,null,null,null,null,null,null,null,null,null,null,null,null,null,null,null,null,null,null,null,null,153]
[null,null,null,null,null,null,null,null,null,null,null,null,null,null,null,null,null,null,null,null,null,null,null,null,null,null,154]
[null,null,null,null,null,null,null,null,null,null,null,null,null,null,null,null,null,null,null,null,null,null,null,null,null,null,155]
[null,null,null,null,null,null,null,null,null,null,null,null,null,null,null,null,null,null,null,null,null,null,null,null,null,null,156]
[null,null,null,null,null,null,null,null,null,null,null,null,null,null,null,null,null,null,null,null,null,null,null,null,null,null,157]
[null,null,null,null,null,null,null,null,null,null,null,null,null,null,null,null,null,null,null,null,null,null,null,null,null,null,158]
[null,null,null,null,null,null,null,null,null,null,null,null,null,null,null,null,null,null,null,null,null,null,null,null,null,null,159]
[null,null,null,null,null,null,null,null,null,null,null,null,null,null,null,null,null,null,null,null,null,null,null,null,null,null,160]
[null,null,null,null,null,null,null,null,null,null,null,null,null,null,null,null,null,null,null,null,null,null,null,null,null,null,161]
[null,null,null,null,null,null,null,null,null,null,null,null,null,null,null,null,null,null,null,null,null,null,null,null,null,null,162]
[null,null,null,null,null,null,null,null,null,null,null,null,null,null,null,null,null,null,null,null,null,null,null,null,null,null,163]
[null,null,null,null,null,null,null,null,null,null,null,null,null,null,null,null,null,null,null,null,null,null,null,null,null,null,164]
[null,null,null,null,null,null,null,null,null,null,null,null,null,null,null,null,null,null,null,null,null,null,null,null,null,null,165]
[null,null,null,null,null,null,null,null,null,null,null,null,null,null,null,null,null,null,null,null,null,null,null,null,null,null,166]
[null,null,null,null,null,null,null,null,null,null,null,null,null,null,null,null,null,null,null,null,null,null,null,null,null,null,167]
[null,null,null,null,null,null,null,null,null,null,null,null,null,null,null,null,null,null,null,null,null,null,null,null,null,null,168]
[null,null,null,null,null,null,null,null,null,null,null,null,null,null,null,null,null,null,null,null,null,null,null,null,null,null,169]
[null,null,null,null,null,null,null,null,null,null,null,null,null,null,null,null,null,null,null,null,null,null,null,null,null,null,170]
[null,null,null,null,null,null,null,null,null,null,null,null,null,null,null,null,null,null,null,null,null,null,null,null,null,null,171]
[null,null,null,null,null,null,null,null,null,null,null,null,null,null,null,null,null,null,null,null,null,null,null,null,null,null,172]
[null,null,null,null,null,null,null,null,null,null,null,null,null,null,null,null,null,null,null,null,null,null,null,null,null,null,173]
[null,null,null,null,null,null,null,null,null,null,null,null,null,null,null,null,null,null,null,null,null,null,null,null,null,null,174]
[null,null,null,null,null,null,null,null,null,null,null,null,null,null,null,null,null,null,null,null,null,null,null,null,null,null,175]
[null,null,null,null,null,null,null,null,null,null,null,null,null,null,null,null,null,null,null,null,null,null,null,null,null,null,176]
[null,null,null,null,null,null,null,null,null,null,null,null,null,null,null,null,null,null,null,null,null,null,null,null,null,null,177]
[null,null,null,null,null,null,null,null,null,null,null,null,null,null,null,null,null,null,null,null,null,null,null,null,null,null,178]
[null,null,null,null,null,null,null,null,null,null,null,null,null,null,null,null,null,null,null,null,null,null,null,null,null,null,179]
[null,null,null,null,null,null,null,null,null,null,null,null,null,null,null,null,null,null,null,null,null,null,null,null,null,null,180]
[null,null,null,null,null,null,null,null,null,null,null,null,null,null,null,null,null,null,null,null,null,null,null,null,null,null,181]
[null,null,null,null,null,null,null,null,null,null,null,null,null,null,null,null,null,null,null,null,null,null,null,null,null,null,182]
[null,null,null,null,null,null,null,null,null,null,null,null,null,null,null,null,null,null,null,null,null,null,null,null,null,null,183]
[null,null,null,null,null,null,null,null,null,null,null,null,null,null,null,null,null,null,null,null,null,null,null,null,null,null,184]
[null,null,null,null,null,null,null,null,null,null,null,null,null,null,null,null,null,null,null,null,null,null,null,null,null,null,185]
[null,null,null,null,null,null,null,null,null,null,null,null,null,null,null,null,null,null,null,null,null,null,null,null,null,null,186]
[null,null,null,null,null,null,null,null,null,null,null,null,null,null,null,null,null,null,null,null,null,null,null,null,null,null,187]
[null,null,null,null,null,null,null,null,null,null,null,null,null,null,null,null,null,null,null,null,null,null,null,null,null,null,188]
[null,null,null,null,null,null,null,null,null,null,null,null,null,null,null,null,null,null,null,null,null,null,null,null,null,null,189]
[null,null,null,null,null,null,null,null,null,null,null,null,null,null,null,null,null,null,null,null,null,null,null,null,null,null,190]
[null,null,null,null,null,null,null,null,null,null,null,null,null,null,null,null,null,null,null,null,null,null,null,null,null,null,191]
[null,null,null,null,null,null,null,null,null,null,null,null,null,null,null,null,null,null,null,null,null,null,null,null,null,null,192]
[null,null,null,null,null,null,null,null,null,null,null,null,null,null,null,null,null,null,null,null,null,null,null,null,null,null,193]
[null,null,null,null,null,null,null,null,null,null,null,null,null,null,null,null,null,null,null,null,null,null,null,null,null,null,194]
[null,null,null,null,null,null,null,null,null,null,null,null,null,null,null,null,null,null,null,null,null,null,null,null,null,null,195]
[null,null,null,null,null,null,null,null,null,null,null,null,null,null,null,null,null,null,null,null,null,null,null,null,null,null,196]
[null,null,null,null,null,null,null,null,null,null,null,null,null,null,null,null,null,null,null,null,null,null,null,null,null,null,197]
[null,null,null,null,null,null,null,null,null,null,null,null,null,null,null,null,null,null,null,null,null,null,null,null,null,null,198]
[null,null,null,null,null,null,null,null,null,null,null,null,null,null,null,null,null,null,null,null,null,null,null,null,null,null,199]
[null,null,null,null,null,null,null,null,null,null,null,null,null,null,null,null,null,null,null,null,null,null,null,null,null,null,200]
[null,null,null,null,null,null,null,null,null,null,null,null,null,null,null,null,null,null,null,null,null,null,null,null,null,null,201]
[null,null,null,null,null,null,null,null,null,null,null,null,null,null,null,null,null,null,null,null,null,null,null,null,null,null,202]
[null,null,null,null,null,null,null,null,null,null,null,null,null,null,null,null,null,null,null,null,null,null,null,null,null,null,203]
[null,null,null,null,null,null,null,null,null,null,null,null,null,null,null,null,null,null,null,null,null,null,null,null,null,null,204]
[null,null,null,null,null,null,null,null,null,null,null,null,null,null,null,null,null,null,null,null,null,null,null,null,null,null,205]
[null,null,null,null,null,null,null,null,null,null,null,null,null,null,null,null,null,null,null,null,null,null,null,null,null,null,206]
[null,null,null,null,null,null,null,null,null,null,null,null,null,null,null,null,null,null,null,null,null,null,null,null,null,null,207]
[null,null,null,null,null,null,null,null,null,null,null,null,null,null,null,null,null,null,null,null,null,null,null,null,null,null,208]
[null,null,null,null,null,null,null,null,null,null,null,null,null,null,null,null,null,null,null,null,null,null,null,null,null,null,209]
[null,null,null,null,null,null,null,null,null,null,null,null,null,null,null,null,null,null,null,null,null,null,null,null,null,null,210]
[null,null,null,null,null,null,null,null,null,null,null,null,null,null,null,null,null,null,null,null,null,null,null,null,null,null,211]
[null,null,null,null,null,null,null,null,null,null,null,null,null,null,null,null,null,null,null,null,null,null,null,null,null,null,212]
[null,null,null,null,null,null,null,null,null,null,null,null,null,null,null,null,null,null,null,null,null,null,null,null,null,null,213]
[null,null,null,null,null,null,null,null,null,null,null,null,null,null,null,null,null,null,null,null,null,null,null,null,null,null,214]
[null,null,null,null,null,null,null,null,null,null,null,null,null,null,null,null,null,null,null,null,null,null,null,null,null,null,215]
[null,null,null,null,null,null,null,null,null,null,null,null,null,null,null,null,null,null,null,null,null,null,null,null,null,null,216]
[null,null,null,null,null,null,null,null,null,null,null,null,null,null,null,null,null,null,null,null,null,null,null,null,null,null,217]
[null,null,null,null,null,null,null,null,null,null,null,null,null,null,null,null,null,null,null,null,null,null,null,null,null,null,218]
[null,null,null,null,null,null,null,null,null,null,null,null,null,null,null,null,null,null,null,null,null,null,null,null,null,null,219]
[null,null,null,null,null,null,null,null,null,null,null,null,null,null,null,null,null,null,null,null,null,null,null,null,null,null,220]
[null,null,null,null,null,null,null,null,null,null,null,null,null,null,null,null,null,null,null,null,null,null,null,null,null,null,221]
[null,null,null,null,null,null,null,null,null,null,null,null,null,null,null,null,null,null,null,null,null,null,null,null,null,null,222]
[null,null,null,null,null,null,null,null,null,null,null,null,null,null,null,null,null,null,null,null,null,null,null,null,null,null,223]
[null,null,null,null,null,null,null,null,null,null,null,null,null,null,null,null,null,null,null,null,null,null,null,null,null,null,224]
[null,null,null,null,null,null,null,null,null,null,null,null,null,null,null,null,null,null,null,null,null,null,null,null,null,null,225]
[null,null,null,null,null,null,null,null,null,null,null,null,null,null,null,null,null,null,null,null,null,null,null,null,null,null,226]
[null,null,null,null,null,null,null,null,null,null,null,null,null,null,null,null,null,null,null,null,null,null,null,null,null,null,227]
[null,null,null,null,null,null,null,null,null,null,null,null,null,null,null,null,null,null,null,null,null,null,null,null,null,null,228]
[null,null,null,null,null,null,null,null,null,null,null,null,null,null,null,null,null,null,null,null,null,null,null,null,null,null,229]
[null,null,null,null,null,null,null,null,null,null,null,null,null,null,null,null,null,null,null,null,null,null,null,null,null,null,230]
[null,null,null,null,null,null,null,null,null,null,null,null,null,null,null,null,null,null,null,null,null,null,null,null,null,null,231]
[null,null,null,null,null,null,null,null,null,null,null,null,null,null,null,null,null,null,null,null,null,null,null,null,null,null,232]
[null,null,null,null,null,null,null,null,null,null,null,null,null,null,null,null,null,null,null,null,null,null,null,null,null,null,233]
[null,null,null,null,null,null,null,null,null,null,null,null,null,null,null,null,null,null,null,null,null,null,null,null,null,null,234]
[null,null,null,null,null,null,null,null,null,null,null,null,null,null,null,null,null,null,null,null,null,null,null,null,null,null,235]
[null,null,null,null,null,null,null,null,null,null,null,null,null,null,null,null,null,null,null,null,null,null,null,null,null,null,236]
[null,null,null,null,null,null,null,null,null,null,null,null,null,null,null,null,null,null,null,null,null,null,null,null,null,null,237]
[null,null,null,null,null,null,null,null,null,null,null,null,null,null,null,null,null,null,null,null,null,null,null,null,null,null,238]
[null,null,null,null,null,null,null,null,null,null,null,null,null,null,null,null,null,null,null,null,null,null,null,null,null,null,239]
[null,null,null,null,null,null,null,null,null,null,null,null,null,null,null,null,null,null,null,null,null,null,null,null,null,null,240]
[null,null,null,null,null,null,null,null,null,null,null,null,null,null,null,null,null,null,null,null,null,null,null,null,null,null,241]
[null,null,null,null,null,null,null,null,null,null,null,null,null,null,null,null,null,null,null,null,null,null,null,null,null,null,242]
[null,null,null,null,null,null,null,null,null,null,null,null,null,null,null,null,null,null,null,null,null,null,null,null,null,null,243]
[null,null,null,null,null,null,null,null,null,null,null,null,null,null,null,null,null,null,null,null,null,null,null,null,null,null,244]
[null,null,null,null,null,null,null,null,null,null,null,null,null,null,null,null,null,null,null,null,null,null,null,null,null,null,245]
[null,null,null,null,null,null,null,null,null,null,null,null,null,null,null,null,null,null,null,null,null,null,null,null,null,null,246]
[null,null,null,null,null,null,null,null,null,null,null,null,null,null,null,null,null,null,null,null,null,null,null,null,null,null,247]
[null,null,null,null,null,null,null,null,null,null,null,null,null,null,null,null,null,null,null,null,null,null,null,null,null,null,248]
[null,null,null,null,null,null,null,null,null,null,null,null,null,null,null,null,null,null,null,null,null,null,null,null,null,null,249]
[null,null,null,null,null,null,null,null,null,null,null,null,null,null,null,null,null,null,null,null,null,null,null,null,null,null,250]
[null,null,null,null,null,null,null,null,null,null,null,null,null,null,null,null,null,null,null,null,null,null,null,null,null,null,251]
[null,null,null,null,null,null,null,null,null,null,null,null,null,null,null,null,null,null,null,null,null,null,null,null,null,null,252]
[null,null,null,null,null,null,null,null,null,null,null,null,null,null,null,null,null,null,null,null,null,null,null,null,null,null,253]
[null,null,null,null,null,null,null,null,null,null,null,null,null,null,null,null,null,null,null,null,null,null,null,null,null,null,254]
[null,null,null,null,null,null,null,null,null,null,null,null,null,null,null,null,null,null,null,null,null,null,null,null,null,null,255]
[null,null,null,null,null,null,null,null,null,null,null,null,null,null,null,null,null,null,null,null,null,null,null,null,null,null,256]
[null,null,null,null,null,null,null,null,null,null,null,null,null,null,null,null,null,null,null,null,null,null,null,null,null,null,257]
[null,null,null,null,null,null,null,null,null,null,null,null,null,null,null,null,null,null,null,null,null,null,null,null,null,null,258]
[null,null,null,null,null,null,null,null,null,null,null,null,null,null,null,null,null,null,null,null,null,null,null,null,null,null,259]
[null,null,null,null,null,null,null,null,null,null,null,null,null,null,null,null,null,null,null,null,null,null,null,null,null,null,260]
[null,null,null,null,null,null,null,null,null,null,null,null,null,null,null,null,null,null,null,null,null,null,null,null,null,null,261]
[null,null,null,null,null,null,null,null,null,null,null,null,null,null,null,null,null,null,null,null,null,null,null,null,null,null,262]
[null,null,null,null,null,null,null,null,null,null,null,null,null,null,null,null,null,null,null,null,null,null,null,null,null,null,263]
[null,null,null,null,null,null,null,null,null,null,null,null,null,null,null,null,null,null,null,null,null,null,null,null,null,null,264]
[null,null,null,null,null,null,null,null,null,null,null,null,null,null,null,null,null,null,null,null,null,null,null,null,null,null,265]
[null,null,null,null,null,null,null,null,null,null,null,null,null,null,null,null,null,null,null,null,null,null,null,null,null,null,266]
[null,null,null,null,null,null,null,null,null,null,null,null,null,null,null,null,null,null,null,null,null,null,null,null,null,null,267]
[null,null,null,null,null,null,null,null,null,null,null,null,null,null,null,null,null,null,null,null,null,null,null,null,null,null,268]
[null,null,null,null,null,null,null,null,null,null,null,null,null,null,null,null,null,null,null,null,null,null,null,null,null,null,269]
[null,null,null,null,null,null,null,null,null,null,null,null,null,null,null,null,null,null,null,null,null,null,null,null,null,null,270]
[null,null,null,null,null,null,null,null,null,null,null,null,null,null,null,null,null,null,null,null,null,null,null,null,null,null,271]
[null,null,null,null,null,null,null,null,null,null,null,null,null,null,null,null,null,null,null,null,null,null,null,null,null,null,272]
[null,null,null,null,null,null,null,null,null,null,null,null,null,null,null,null,null,null,null,null,null,null,null,null,null,null,273]
[null,null,null,null,null,null,null,null,null,null,null,null,null,null,null,null,null,null,null,null,null,null,null,null,null,null,274]
[null,null,null,null,null,null,null,null,null,null,null,null,null,null,null,null,null,null,null,null,null,null,null,null,null,null,275]
[null,null,null,null,null,null,null,null,null,null,null,null,null,null,null,null,null,null,null,null,null,null,null,null,null,null,276]
[null,null,null,null,null,null,null,null,null,null,null,null,null,null,null,null,null,null,null,null,null,null,null,null,null,null,277]
[null,null,null,null,null,null,null,null,null,null,null,null,null,null,null,null,null,null,null,null,null,null,null,null,null,null,278]
[null,null,null,null,null,null,null,null,null,null,null,null,null,null,null,null,null,null,null,null,null,null,null,null,null,null,279]
[null,null,null,null,null,null,null,null,null,null,null,null,null,null,null,null,null,null,null,null,null,null,null,null,null,null,280]
[null,null,null,null,null,null,null,null,null,null,null,null,null,null,null,null,null,null,null,null,null,null,null,null,null,null,281]
[null,null,null,null,null,null,null,null,null,null,null,null,null,null,null,null,null,null,null,null,null,null,null,null,null,null,282]
[null,null,null,null,null,null,null,null,null,null,null,null,null,null,null,null,null,null,null,null,null,null,null,null,null,null,283]
[null,null,null,null,null,null,null,null,null,null,null,null,null,null,null,null,null,null,null,null,null,null,null,null,null,null,284]
[null,null,null,null,null,null,null,null,null,null,null,null,null,null,null,null,null,null,null,null,null,null,null,null,null,null,285]
[null,null,null,null,null,null,null,null,null,null,null,null,null,null,null,null,null,null,null,null,null,null,null,null,null,null,286]
[null,null,null,null,null,null,null,null,null,null,null,null,null,null,null,null,null,null,null,null,null,null,null,null,null,null,287]
[null,null,null,null,null,null,null,null,null,null,null,null,null,null,null,null,null,null,null,null,null,null,null,null,null,null,288]
[null,null,null,null,null,null,null,null,null,null,null,null,null,null,null,null,null,null,null,null,null,null,null,null,null,null,289]
[null,null,null,null,null,null,null,null,null,null,null,null,null,null,null,null,null,null,null,null,null,null,null,null,null,null,290]
[null,null,null,null,null,null,null,null,null,null,null,null,null,null,null,null,null,null,null,null,null,null,null,null,null,null,291]
[null,null,null,null,null,null,null,null,null,null,null,null,null,null,null,null,null,null,null,null,null,null,null,null,null,null,292]
[null,null,null,null,null,null,null,null,null,null,null,null,null,null,null,null,null,null,null,null,null,null,null,null,null,null,293]
[null,null,null,null,null,null,null,null,null,null,null,null,null,null,null,null,null,null,null,null,null,null,null,null,null,null,294]
[null,null,null,null,null,null,null,null,null,null,null,null,null,null,null,null,null,null,null,null,null,null,null,null,null,null,295]
[null,null,null,null,null,null,null,null,null,null,null,null,null,null,null,null,null,null,null,null,null,null,null,null,null,null,296]
[null,null,null,null,null,null,null,null,null,null,null,null,null,null,null,null,null,null,null,null,null,null,null,null,null,null,297]
[null,null,null,null,null,null,null,null,null,null,null,null,null,null,null,null,null,null,null,null,null,null,null,null,null,null,298]
[null,null,null,null,null,null,null,null,null,null,null,null,null,null,null,null,null,null,null,null,null,null,null,null,null,null,299]
[null,null,null,null,null,null,null,null,null,null,null,null,null,null,null,null,null,null,null,null,null,null,null,null,null,null,300]
[null,null,null,null,null,null,null,null,null,null,null,null,null,null,null,null,null,null,null,null,null,null,null,null,null,null,301]
[null,null,null,null,null,null,null,null,null,null,null,null,null,null,null,null,null,null,null,null,null,null,null,null,null,null,302]
[null,null,null,null,null,null,null,null,null,null,null,null,null,null,null,null,null,null,null,null,null,null,null,null,null,null,303]
[null,null,null,null,null,null,null,null,null,null,null,null,null,null,null,null,null,null,null,null,null,null,null,null,null,null,304]
[null,null,null,null,null,null,null,null,null,null,null,null,null,null,null,null,null,null,null,null,null,null,null,null,null,null,305]
[null,null,null,null,null,null,null,null,null,null,null,null,null,null,null,null,null,null,null,null,null,null,null,null,null,null,306]
[null,null,null,null,null,null,null,null,null,null,null,null,null,null,null,null,null,null,null,null,null,null,null,null,null,null,307]
[null,null,null,null,null,null,null,null,null,null,null,null,null,null,null,null,null,null,null,null,null,null,null,null,null,null,308]
[null,null,null,null,null,null,null,null,null,null,null,null,null,null,null,null,null,null,null,null,null,null,null,null,null,null,309]
[null,null,null,null,null,null,null,null,null,null,null,null,null,null,null,null,null,null,null,null,null,null,null,null,null,null,310]
[null,null,null,null,null,null,null,null,null,null,null,null,null,null,null,null,null,null,null,null,null,null,null,null,null,null,311]
[null,null,null,null,null,null,null,null,null,null,null,null,null,null,null,null,null,null,null,null,null,null,null,null,null,null,312]
[null,null,null,null,null,null,null,null,null,null,null,null,null,null,null,null,null,null,null,null,null,null,null,null,null,null,313]
[null,null,null,null,null,null,null,null,null,null,null,null,null,null,null,null,null,null,null,null,null,null,null,null,null,null,314]
[null,null,null,null,null,null,null,null,null,null,null,null,null,null,null,null,null,null,null,null,null,null,null,null,null,null,315]
[null,null,null,null,null,null,null,null,null,null,null,null,null,null,null,null,null,null,null,null,null,null,null,null,null,null,316]
[null,null,null,null,null,null,null,null,null,null,null,null,null,null,null,null,null,null,null,null,null,null,null,null,null,null,317]
[null,null,null,null,null,null,null,null,null,null,null,null,null,null,null,null,null,null,null,null,null,null,null,null,null,null,318]
[null,null,null,null,null,null,null,null,null,null,null,null,null,null,null,null,null,null,null,null,null,null,null,null,null,null,319]
[null,null,null,null,null,null,null,null,null,null,null,null,null,null,null,null,null,null,null,null,null,null,null,null,null,null,320]
[null,null,null,null,null,null,null,null,null,null,null,null,null,null,null,null,null,null,null,null,null,null,null,null,null,null,321]
[null,null,null,null,null,null,null,null,null,null,null,null,null,null,null,null,null,null,null,null,null,null,null,null,null,null,322]
[null,null,null,null,null,null,null,null,null,null,null,null,null,null,null,null,null,null,null,null,null,null,null,null,null,null,323]
[null,null,null,null,null,null,null,null,null,null,null,null,null,null,null,null,null,null,null,null,null,null,null,null,null,null,324]
[null,null,null,null,null,null,null,null,null,null,null,null,null,null,null,null,null,null,null,null,null,null,null,null,null,null,325]
[null,null,null,null,null,null,null,null,null,null,null,null,null,null,null,null,null,null,null,null,null,null,null,null,null,null,326]
[null,null,null,null,null,null,null,null,null,null,null,null,null,null,null,null,null,null,null,null,null,null,null,null,null,null,327]
[null,null,null,null,null,null,null,null,null,null,null,null,null,null,null,null,null,null,null,null,null,null,null,null,null,null,328]
[null,null,null,null,null,null,null,null,null,null,null,null,null,null,null,null,null,null,null,null,null,null,null,null,null,null,329]
[null,null,null,null,null,null,null,null,null,null,null,null,null,null,null,null,null,null,null,null,null,null,null,null,null,null,330]
[null,null,null,null,null,null,null,null,null,null,null,null,null,null,null,null,null,null,null,null,null,null,null,null,null,null,331]
[null,null,null,null,null,null,null,null,null,null,null,null,null,null,null,null,null,null,null,null,null,null,null,null,null,null,332]
[null,null,null,null,null,null,null,null,null,null,null,null,null,null,null,null,null,null,null,null,null,null,null,null,null,null,333]
[null,null,null,null,null,null,null,null,null,null,null,null,null,null,null,null,null,null,null,null,null,null,null,null,null,null,334]
[null,null,null,null,null,null,null,null,null,null,null,null,null,null,null,null,null,null,null,null,null,null,null,null,null,null,335]
[null,null,null,null,null,null,null,null,null,null,null,null,null,null,null,null,null,null,null,null,null,null,null,null,null,null,336]
[null,null,null,null,null,null,null,null,null,null,null,null,null,null,null,null,null,null,null,null,null,null,null,null,null,null,337]
[null,null,null,null,null,null,null,null,null,null,null,null,null,null,null,null,null,null,null,null,null,null,null,null,null,null,338]
[null,null,null,null,null,null,null,null,null,null,null,null,null,null,null,null,null,null,null,null,null,null,null,null,null,null,339]
[null,null,null,null,null,null,null,null,null,null,null,null,null,null,null,null,null,null,null,null,null,null,null,null,null,null,340]
[null,null,null,null,null,null,null,null,null,null,null,null,null,null,null,null,null,null,null,null,null,null,null,null,null,null,341]
[null,null,null,null,null,null,null,null,null,null,null,null,null,null,null,null,null,null,null,null,null,null,null,null,null,null,342]
[null,null,null,null,null,null,null,null,null,null,null,null,null,null,null,null,null,null,null,null,null,null,null,null,null,null,343]
[null,null,null,null,null,null,null,null,null,null,null,null,null,null,null,null,null,null,null,null,null,null,null,null,null,null,344]
[null,null,null,null,null,null,null,null,null,null,null,null,null,null,null,null,null,null,null,null,null,null,null,null,null,null,345]
[null,null,null,null,null,null,null,null,null,null,null,null,null,null,null,null,null,null,null,null,null,null,null,null,null,null,346]
[null,null,null,null,null,null,null,null,null,null,null,null,null,null,null,null,null,null,null,null,null,null,null,null,null,null,347]
[null,null,null,null,null,null,null,null,null,null,null,null,null,null,null,null,null,null,null,null,null,null,null,null,null,null,348]
[null,null,null,null,null,null,null,null,null,null,null,null,null,null,null,null,null,null,null,null,null,null,null,null,null,null,349]
[null,null,null,null,null,null,null,null,null,null,null,null,null,null,null,null,null,null,null,null,null,null,null,null,null,null,350]
[null,null,null,null,null,null,null,null,null,null,null,null,null,null,null,null,null,null,null,null,null,null,null,null,null,null,351]
[null,null,null,null,null,null,null,null,null,null,null,null,null,null,null,null,null,null,null,null,null,null,null,null,null,null,352]
[null,null,null,null,null,null,null,null,null,null,null,null,null,null,null,null,null,null,null,null,null,null,null,null,null,null,353]
[null,null,null,null,null,null,null,null,null,null,null,null,null,null,null,null,null,null,null,null,null,null,null,null,null,null,354]
[null,null,null,null,null,null,null,null,null,null,null,null,null,null,null,null,null,null,null,null,null,null,null,null,null,null,355]
[null,null,null,null,null,null,null,null,null,null,null,null,null,null,null,null,null,null,null,null,null,null,null,null,null,null,356]
[null,null,null,null,null,null,null,null,null,null,null,null,null,null,null,null,null,null,null,null,null,null,null,null,null,null,357]
[null,null,null,null,null,null,null,null,null,null,null,null,null,null,null,null,null,null,null,null,null,null,null,null,null,null,358]
[null,null,null,null,null,null,null,null,null,null,null,null,null,null,null,null,null,null,null,null,null,null,null,null,null,null,359]
[null,null,null,null,null,null,null,null,null,null,null,null,null,null,null,null,null,null,null,null,null,null,null,null,null,null,360]
[null,null,null,null,null,null,null,null,null,null,null,null,null,null,null,null,null,null,null,null,null,null,null,null,null,null,361]
[null,null,null,null,null,null,null,null,null,null,null,null,null,null,null,null,null,null,null,null,null,null,null,null,null,null,362]
[null,null,null,null,null,null,null,null,null,null,null,null,null,null,null,null,null,null,null,null,null,null,null,null,null,null,363]
[null,null,null,null,null,null,null,null,null,null,null,null,null,null,null,null,null,null,null,null,null,null,null,null,null,null,364]
[null,null,null,null,null,null,null,null,null,null,null,null,null,null,null,null,null,null,null,null,null,null,null,null,null,null,365]
[null,null,null,null,null,null,null,null,null,null,null,null,null,null,null,null,null,null,null,null,null,null,null,null,null,null,366]
[null,null,null,null,null,null,null,null,null,null,null,null,null,null,null,null,null,null,null,null,null,null,null,null,null,null,367]
[null,null,null,null,null,null,null,null,null,null,null,null,null,null,null,null,null,null,null,null,null,null,null,null,null,null,368]
[null,null,null,null,null,null,null,null,null,null,null,null,null,null,null,null,null,null,null,null,null,null,null,null,null,null,369]
[null,null,null,null,null,null,null,null,null,null,null,null,null,null,null,null,null,null,null,null,null,null,null,null,null,null,370]
[null,null,null,null,null,null,null,null,null,null,null,null,null,null,null,null,null,null,null,null,null,null,null,null,null,null,371]
[null,null,null,null,null,null,null,null,null,null,null,null,null,null,null,null,null,null,null,null,null,null,null,null,null,null,372]
[null,null,null,null,null,null,null,null,null,null,null,null,null,null,null,null,null,null,null,null,null,null,null,null,null,null,373]
[null,null,null,null,null,null,null,null,null,null,null,null,null,null,null,null,null,null,null,null,null,null,null,null,null,null,374]
[null,null,null,null,null,null,null,null,null,null,null,null,null,null,null,null,null,null,null,null,null,null,null,null,null,null,375]
[null,null,null,null,null,null,null,null,null,null,null,null,null,null,null,null,null,null,null,null,null,null,null,null,null,null,376]
[null,null,null,null,null,null,null,null,null,null,null,null,null,null,null,null,null,null,null,null,null,null,null,null,null,null,377]
[null,null,null,null,null,null,null,null,null,null,null,null,null,null,null,null,null,null,null,null,null,null,null,null,null,null,378]
[null,null,null,null,null,null,null,null,null,null,null,null,null,null,null,null,null,null,null,null,null,null,null,null,null,null,379]
[null,null,null,null,null,null,null,null,null,null,null,null,null,null,null,null,null,null,null,null,null,null,null,null,null,null,380]
[null,null,null,null,null,null,null,null,null,null,null,null,null,null,null,null,null,null,null,null,null,null,null,null,null,null,381]
[null,null,null,null,null,null,null,null,null,null,null,null,null,null,null,null,null,null,null,null,null,null,null,null,null,null,382]
[null,null,null,null,null,null,null,null,null,null,null,null,null,null,null,null,null,null,null,null,null,null,null,null,null,null,383]
[null,null,null,null,null,null,null,null,null,null,null,null,null,null,null,null,null,null,null,null,null,null,null,null,null,null,384]
[null,null,null,null,null,null,null,null,null,null,null,null,null,null,null,null,null,null,null,null,null,null,null,null,null,null,385]
[null,null,null,null,null,null,null,null,null,null,null,null,null,null,null,null,null,null,null,null,null,null,null,null,null,null,386]
[null,null,null,null,null,null,null,null,null,null,null,null,null,null,null,null,null,null,null,null,null,null,null,null,null,null,387]
[null,null,null,null,null,null,null,null,null,null,null,null,null,null,null,null,null,null,null,null,null,null,null,null,null,null,388]
[null,null,null,null,null,null,null,null,null,null,null,null,null,null,null,null,null,null,null,null,null,null,null,null,null,null,389]
[null,null,null,null,null,null,null,null,null,null,null,null,null,null,null,null,null,null,null,null,null,null,null,null,null,null,390]
[null,null,null,null,null,null,null,null,null,null,null,null,null,null,null,null,null,null,null,null,null,null,null,null,null,null,391]
[null,null,null,null,null,null,null,null,null,null,null,null,null,null,null,null,null,null,null,null,null,null,null,null,null,null,392]
[null,null,null,null,null,null,null,null,null,null,null,null,null,null,null,null,null,null,null,null,null,null,null,null,null,null,393]
[null,null,null,null,null,null,null,null,null,null,null,null,null,null,null,null,null,null,null,null,null,null,null,null,null,null,394]
[null,null,null,null,null,null,null,null,null,null,null,null,null,null,null,null,null,null,null,null,null,null,null,null,null,null,395]
[null,null,null,null,null,null,null,null,null,null,null,null,null,null,null,null,null,null,null,null,null,null,null,null,null,null,396]
[null,null,null,null,null,null,null,null,null,null,null,null,null,null,null,null,null,null,null,null,null,null,null,null,null,null,397]
[null,null,null,null,null,null,null,null,null,null,null,null,null,null,null,null,null,null,null,null,null,null,null,null,null,null,398]
[null,null,null,null,null,null,null,null,null,null,null,null,null,null,null,null,null,null,null,null,null,null,null,null,null,null,399]
[null,null,null,null,null,null,null,null,null,null,null,null,null,null,null,null,null,null,null,null,null,null,null,null,null,null,400]
[null,null,null,null,null,null,null,null,null,null,null,null,null,null,null,null,null,null,null,null,null,null,null,null,null,null,401]
[null,null,null,null,null,null,null,null,null,null,null,null,null,null,null,null,null,null,null,null,null,null,null,null,null,null,402]
[null,null,null,null,null,null,null,null,null,null,null,null,null,null,null,null,null,null,null,null,null,null,null,null,null,null,403]
[null,null,null,null,null,null,null,null,null,null,null,null,null,null,null,null,null,null,null,null,null,null,null,null,null,null,404]
[null,null,null,null,null,null,null,null,null,null,null,null,null,null,null,null,null,null,null,null,null,null,null,null,null,null,405]
[null,null,null,null,null,null,null,null,null,null,null,null,null,null,null,null,null,null,null,null,null,null,null,null,null,null,406]
[null,null,null,null,null,null,null,null,null,null,null,null,null,null,null,null,null,null,null,null,null,null,null,null,null,null,407]
[null,null,null,null,null,null,null,null,null,null,null,null,null,null,null,null,null,null,null,null,null,null,null,null,null,null,408]
[null,null,null,null,null,null,null,null,null,null,null,null,null,null,null,null,null,null,null,null,null,null,null,null,null,null,409]
[null,null,null,null,null,null,null,null,null,null,null,null,null,null,null,null,null,null,null,null,null,null,null,null,null,null,410]
[null,null,null,null,null,null,null,null,null,null,null,null,null,null,null,null,null,null,null,null,null,null,null,null,null,null,411]
[null,null,null,null,null,null,null,null,null,null,null,null,null,null,null,null,null,null,null,null,null,null,null,null,null,null,412]
[null,null,null,null,null,null,null,null,null,null,null,null,null,null,null,null,null,null,null,null,null,null,null,null,null,null,413]
[null,null,null,null,null,null,null,null,null,null,null,null,null,null,null,null,null,null,null,null,null,null,null,null,null,null,414]
[null,null,null,null,null,null,null,null,null,null,null,null,null,null,null,null,null,null,null,null,null,null,null,null,null,null,415]
[null,null,null,null,null,null,null,null,null,null,null,null,null,null,null,null,null,null,null,null,null,null,null,null,null,null,416]
[null,null,null,null,null,null,null,null,null,null,null,null,null,null,null,null,null,null,null,null,null,null,null,null,null,null,417]
[null,null,null,null,null,null,null,null,null,null,null,null,null,null,null,null,null,null,null,null,null,null,null,null,null,null,418]
[null,null,null,null,null,null,null,null,null,null,null,null,null,null,null,null,null,null,null,null,null,null,null,null,null,null,419]
[null,null,null,null,null,null,null,null,null,null,null,null,null,null,null,null,null,null,null,null,null,null,null,null,null,null,420]
[null,null,null,null,null,null,null,null,null,null,null,null,null,null,null,null,null,null,null,null,null,null,null,null,null,null,421]
[null,null,null,null,null,null,null,null,null,null,null,null,null,null,null,null,null,null,null,null,null,null,null,null,null,null,422]
[null,null,null,null,null,null,null,null,null,null,null,null,null,null,null,null,null,null,null,null,null,null,null,null,null,null,423]
[null,null,null,null,null,null,null,null,null,null,null,null,null,null,null,null,null,null,null,null,null,null,null,null,null,null,424]
[null,null,null,null,null,null,null,null,null,null,null,null,null,null,null,null,null,null,null,null,null,null,null,null,null,null,425]
[null,null,null,null,null,null,null,null,null,null,null,null,null,null,null,null,null,null,null,null,null,null,null,null,null,null,426]
[null,null,null,null,null,null,null,null,null,null,null,null,null,null,null,null,null,null,null,null,null,null,null,null,null,null,427]
[null,null,null,null,null,null,null,null,null,null,null,null,null,null,null,null,null,null,null,null,null,null,null,null,null,null,428]
[null,null,null,null,null,null,null,null,null,null,null,null,null,null,null,null,null,null,null,null,null,null,null,null,null,null,429]
[null,null,null,null,null,null,null,null,null,null,null,null,null,null,null,null,null,null,null,null,null,null,null,null,null,null,430]
[null,null,null,null,null,null,null,null,null,null,null,null,null,null,null,null,null,null,null,null,null,null,null,null,null,null,431]
[null,null,null,null,null,null,null,null,null,null,null,null,null,null,null,null,null,null,null,null,null,null,null,null,null,null,432]
[null,null,null,null,null,null,null,null,null,null,null,null,null,null,null,null,null,null,null,null,null,null,null,null,null,null,433]
[null,null,null,null,null,null,null,null,null,null,null,null,null,null,null,null,null,null,null,null,null,null,null,null,null,null,434]
[null,null,null,null,null,null,null,null,null,null,null,null,null,null,null,null,null,null,null,null,null,null,null,null,null,null,435]
[null,null,null,null,null,null,null,null,null,null,null,null,null,null,null,null,null,null,null,null,null,null,null,null,null,null,436]
[null,null,null,null,null,null,null,null,null,null,null,null,null,null,null,null,null,null,null,null,null,null,null,null,null,null,437]
[null,null,null,null,null,null,null,null,null,null,null,null,null,null,null,null,null,null,null,null,null,null,null,null,null,null,438]
[null,null,null,null,null,null,null,null,null,null,null,null,null,null,null,null,null,null,null,null,null,null,null,null,null,null,439]
[null,null,null,null,null,null,null,null,null,null,null,null,null,null,null,null,null,null,null,null,null,null,null,null,null,null,440]
[null,null,null,null,null,null,null,null,null,null,null,null,null,null,null,null,null,null,null,null,null,null,null,null,null,null,441]
[null,null,null,null,null,null,null,null,null,null,null,null,null,null,null,null,null,null,null,null,null,null,null,null,null,null,442]
[null,null,null,null,null,null,null,null,null,null,null,null,null,null,null,null,null,null,null,null,null,null,null,null,null,null,443]
[null,null,null,null,null,null,null,null,null,null,null,null,null,null,null,null,null,null,null,null,null,null,null,null,null,null,444]
[null,null,null,null,null,null,null,null,null,null,null,null,null,null,null,null,null,null,null,null,null,null,null,null,null,null,445]
[null,null,null,null,null,null,null,null,null,null,null,null,null,null,null,null,null,null,null,null,null,null,null,null,null,null,446]
[null,null,null,null,null,null,null,null,null,null,null,null,null,null,null,null,null,null,null,null,null,null,null,null,null,null,447]
[null,null,null,null,null,null,null,null,null,null,null,null,null,null,null,null,null,null,null,null,null,null,null,null,null,null,448]
[null,null,null,null,null,null,null,null,null,null,null,null,null,null,null,null,null,null,null,null,null,null,null,null,null,null,449]
[null,null,null,null,null,null,null,null,null,null,null,null,null,null,null,null,null,null,null,null,null,null,null,null,null,null,450]

{"sheet":"県名","index":13,"n_rows":78,"n_cols":3,"rows_kept":78,"cut":false,"hidden":true,"merged":[]}
["県コード","都道府県名","略名"]
[1,"北海道","北海道"]
[2,"青森県","青　森"]
[3,"岩手県","岩  手"]
[4,"宮城県","宮　城"]
[5,"秋田県","秋　田"]
[6,"山形県","山　形"]
[7,"福島県","福　島"]
[8,"茨城県","茨　城"]
[9,"栃木県","栃　木"]
[10,"群馬県","群　馬"]
[11,"埼玉県","埼　玉"]
[12,"千葉県","千　葉"]
[13,"東京都","東　京"]
[14,"神奈川県","神奈川"]
[15,"山梨県","山　梨"]
[16,"新潟県","新　潟"]
[17,"富山県","富　山"]
[18,"石川県","石　川"]
[19,"福井県","福　井"]
[20,"長野県","長  野"]
[21,"静岡県","静  岡"]
[22,"愛知県","愛  知"]
[23,"三重県","三  重"]
[24,"岐阜県","岐  阜"]
[25,"滋賀県","滋　賀"]
[26,"京都府","京　都"]
[27,"大阪府","大　阪"]
[28,"兵庫県","兵　庫"]
[29,"奈良県","奈　良"]
[30,"和歌山県","和歌山"]
[31,"鳥取県","鳥　取"]
[32,"島根県","島　根"]
[33,"岡山県","岡　山"]
[34,"広島県","広　島"]
[35,"山口県","山　口"]
[36,"徳島県","徳  島"]
[37,"香川県","香  川"]
[38,"愛媛県","愛　媛"]
[39,"高知県","高　知"]
[40,"福岡県","福　岡"]
[41,"佐賀県","佐　賀"]
[42,"長崎県","長　崎"]
[43,"大分県","大　分"]
[44,"熊本県","熊　本"]
[45,"宮崎県","宮　崎"]
[46,"鹿児島県","鹿児島"]
[47,"沖縄県","沖　縄"]
[48,"学連","学　連"]
[]
[]
[]
[]
[]
[]
[]
[]
[]
[]
[]
[]
[]
[]
[]
[]
[]
[]
[]
[]
[]
[]
[]
[42,null,"長　崎"]
[43,null,"大　分"]
[44,null,"熊　本"]
[45,null,"宮　崎"]
[46,null,"鹿児島"]
[47,null,"沖　縄"]

{"sheet":"学連登録","index":14,"n_rows":2490,"n_cols":8,"rows_kept":2490,"cut":false,"hidden":true,"merged":[]}
[null,"団体名","登録番号","氏名","カナ氏名","学年","登録陸協","登録陸協2(関数組んであるので不用意に触らない！！)"]
[null,"愛知教育大学",1,"山本　雄大","ﾔﾏﾓﾄ ﾕｳﾀ",4,"愛知県",{"$f":"VLOOKUP($G2,県名!$B$1:$C$49,2,FALSE)","v":"愛  知"}]
[null,"愛知教育大学",2,"犬塚　貴久","ｲﾇﾂﾞｶ ﾀｶﾋｻ","M2","愛知県",{"$f":"VLOOKUP($G3,県名!$B$1:$C$49,2,FALSE)","v":"愛  知"}]
[null,"愛知教育大学",3,"二宮　聡史","ﾆﾉﾐﾔ ｻﾄｼ","M2","愛知県",{"$f":"VLOOKUP($G4,県名!$B$1:$C$49,2,FALSE)","v":"愛  知"}]
[null,"愛知教育大学",4,"曽我　直崇","ｿｶﾞ ﾅｵﾀｶ","M2","愛知県",{"$f":"VLOOKUP($G5,県名!$B$1:$C$49,2,FALSE)","v":"愛  知"}]
[null,"愛知教育大学",5,"江口　京弥","ｴｸﾞﾁ ｷｮｳﾔ","M2","愛知県",{"$f":"VLOOKUP($G6,県名!$B$1:$C$49,2,FALSE)","v":"愛  知"}]
[null,"愛知教育大学",6,"舟橋　祐哉","ﾌﾅﾊｼ ﾕｳﾔ",4,"愛知県",{"$f":"VLOOKUP($G7,県名!$B$1:$C$49,2,FALSE)","v":"愛  知"}]
[null,"愛知教育大学",7,"名倉　望","ﾅｸﾞﾗ ﾉｿﾞﾐ",4,"愛知県",{"$f":"VLOOKUP($G8,県名!$B$1:$C$49,2,FALSE)","v":"愛  知"}]
[null,"愛知教育大学",8,"東　直樹","ｱｽﾞﾏ ﾅｵｷ","M1","愛知県",{"$f":"VLOOKUP($G9,県名!$B$1:$C$49,2,FALSE)","v":"愛  知"}]
[null,"愛知教育大学",9,"中山　聖","ﾅｶﾔﾏ ﾋｼﾞﾘ","M1","愛知県",{"$f":"VLOOKUP($G10,県名!$B$1:$C$49,2,FALSE)","v":"愛  知"}]
[null,"愛知教育大学",10,"長坂　顕澄","ﾅｶﾞｻｶ ｱｷｽﾐ",4,"愛知県",{"$f":"VLOOKUP($G11,県名!$B$1:$C$49,2,FALSE)","v":"愛  知"}]
[null,"愛知教育大学",11,"桑原　元","ｸﾜﾊﾗ ﾊｼﾞﾒ",4,"愛知県",{"$f":"VLOOKUP($G12,県名!$B$1:$C$49,2,FALSE)","v":"愛  知"}]
[null,"愛知教育大学",12,"冨山　洸二郎","ﾄﾐﾔﾏ ｺｳｼﾞﾛｳ",4,"愛知県",{"$f":"VLOOKUP($G13,県名!$B$1:$C$49,2,FALSE)","v":"愛  知"}]
[null,"愛知教育大学",13,"近藤　拓真","ｺﾝﾄﾞｳ ﾀｸﾏ",4,"愛知県",{"$f":"VLOOKUP($G14,県名!$B$1:$C$49,2,FALSE)","v":"愛  知"}]
[null,"愛知教育大学",14,"出口　裕希","ﾃﾞｸﾞﾁ ﾕｳｷ",4,"愛知県",{"$f":"VLOOKUP($G15,県名!$B$1:$C$49,2,FALSE)","v":"愛  知"}]
[null,"愛知教育大学",15,"坂入　慶一","ｻｶｲﾘ ｹｲｲﾁ",3,"愛知県",{"$f":"VLOOKUP($G16,県名!$B$1:$C$49,2,FALSE)","v":"愛  知"}]
[null,"愛知教育大学",16,"下地　健介","ｼﾓｼﾞ ｹﾝｽｹ",4,"愛知県",{"$f":"VLOOKUP($G17,県名!$B$1:$C$49,2,FALSE)","v":"愛  知"}]
[null,"愛知教育大学",17,"安藤　大成","ｱﾝﾄﾞｳ ﾀｲｾｲ",4,"愛知県",{"$f":"VLOOKUP($G18,県名!$B$1:$C$49,2,FALSE)","v":"愛  知"}]
[null,"愛知教育大学",18,"近藤　雅哉","ｺﾝﾄﾞｳ ﾏｻﾔ",4,"愛知県",{"$f":"VLOOKUP($G19,県名!$B$1:$C$49,2,FALSE)","v":"愛  知"}]
[null,"愛知教育大学",19,"浅野　真弥","ｱｻﾉ ﾏｻﾔ",4,"愛知県",{"$f":"VLOOKUP($G20,県名!$B$1:$C$49,2,FALSE)","v":"愛  知"}]
[null,"愛知教育大学",20,"坂野　公亮","ﾊﾞﾝﾉ ｺｳｽｹ",4,"愛知県",{"$f":"VLOOKUP($G21,県名!$B$1:$C$49,2,FALSE)","v":"愛  知"}]
[null,"愛知教育大学",21,"木村　颯","ｷﾑﾗ ﾊﾔﾃ",4,"愛知県",{"$f":"VLOOKUP($G22,県名!$B$1:$C$49,2,FALSE)","v":"愛  知"}]
[null,"愛知教育大学",22,"跡見　俊明","ｱﾄﾐ ﾄｼｱｷ",4,"愛知県",{"$f":"VLOOKUP($G23,県名!$B$1:$C$49,2,FALSE)","v":"愛  知"}]
[null,"愛知教育大学",23,"牧野　圭佑","ﾏｷﾉ ｹｲｽｹ",2,"愛知県",{"$f":"VLOOKUP($G24,県名!$B$1:$C$49,2,FALSE)","v":"愛  知"}]
[null,"愛知教育大学",24,"樋口　智一","ﾋｸﾞﾁ ﾄﾓｶｽﾞ",3,"愛知県",{"$f":"VLOOKUP($G25,県名!$B$1:$C$49,2,FALSE)","v":"愛  知"}]
[null,"愛知教育大学",25,"天野　知哉","ｱﾏﾉ ﾄﾓﾔ",3,"愛知県",{"$f":"VLOOKUP($G26,県名!$B$1:$C$49,2,FALSE)","v":"愛  知"}]
[null,"愛知教育大学",26,"高須　翔生","ﾀｶｽ ｼｮｳｲ",3,"愛知県",{"$f":"VLOOKUP($G27,県名!$B$1:$C$49,2,FALSE)","v":"愛  知"}]
[null,"愛知教育大学",27,"山田　崇義","ﾔﾏﾀﾞ ﾀｶﾖｼ",3,"愛知県",{"$f":"VLOOKUP($G28,県名!$B$1:$C$49,2,FALSE)","v":"愛  知"}]
[null,"愛知教育大学",28,"野村　隆太郎","ﾉﾑﾗ ﾘｭｳﾀﾛｳ",2,"愛知県",{"$f":"VLOOKUP($G29,県名!$B$1:$C$49,2,FALSE)","v":"愛  知"}]
[null,"愛知教育大学",29,"牧　幹也","ﾏｷ ﾐｷﾔ",3,"愛知県",{"$f":"VLOOKUP($G30,県名!$B$1:$C$49,2,FALSE)","v":"愛  知"}]
[null,"愛知教育大学",30,"近藤　佑樹","ｺﾝﾄﾞｳ ﾕｳｷ",3,"愛知県",{"$f":"VLOOKUP($G31,県名!$B$1:$C$49,2,FALSE)","v":"愛  知"}]
[null,"愛知教育大学",31,"中本　雄大","ﾅｶﾓﾄ ﾕｳﾀ",2,"愛知県",{"$f":"VLOOKUP($G32,県名!$B$1:$C$49,2,FALSE)","v":"愛  知"}]
[null,"愛知教育大学",32,"中村　壮志","ﾅｶﾑﾗ ｿｳｼ",3,"愛知県",{"$f":"VLOOKUP($G33,県名!$B$1:$C$49,2,FALSE)","v":"愛  知"}]
[null,"愛知教育大学",33,"堀口　景祐","ﾎﾘｸﾞﾁ ｹｲｽｹ",3,"愛知県",{"$f":"VLOOKUP($G34,県名!$B$1:$C$49,2,FALSE)","v":"愛  知"}]
[null,"愛知教育大学",34,"吉岡　優希","ﾖｼｵｶ ﾕｳｷ",2,"兵庫県",{"$f":"VLOOKUP($G35,県名!$B$1:$C$49,2,FALSE)","v":"兵　庫"}]
[null,"愛知教育大学",35,"三橋　亮介","ﾐﾊｼ ﾘｮｳｽｹ",3,"愛知県",{"$f":"VLOOKUP($G36,県名!$B$1:$C$49,2,FALSE)","v":"愛  知"}]
[null,"愛知教育大学",36,"森下　諒","ﾓﾘｼﾀ ﾘｮｳ",3,"愛知県",{"$f":"VLOOKUP($G37,県名!$B$1:$C$49,2,FALSE)","v":"愛  知"}]
[null,"愛知教育大学",37,"福西　恵大","ﾌｸﾆｼ ｹｲﾀ",3,"愛知県",{"$f":"VLOOKUP($G38,県名!$B$1:$C$49,2,FALSE)","v":"愛  知"}]
[null,"愛知教育大学",38,"山本　武","ﾔﾏﾓﾄ ﾀｹｼ",2,"山梨県",{"$f":"VLOOKUP($G39,県名!$B$1:$C$49,2,FALSE)","v":"山　梨"}]
[null,"愛知教育大学",39,"澤井　奎志","ｻﾜｲ ｹｲｼ",2,"愛知県",{"$f":"VLOOKUP($G40,県名!$B$1:$C$49,2,FALSE)","v":"愛  知"}]
[null,"愛知教育大学",40,"東　大吉","ｱｽﾞﾏ ﾀﾞｲｷﾁ",2,"愛知県",{"$f":"VLOOKUP($G41,県名!$B$1:$C$49,2,FALSE)","v":"愛  知"}]
[null,"愛知教育大学",41,"三栖　勇輝","ﾐｽ ﾕｳｷ",2,"徳島県",{"$f":"VLOOKUP($G42,県名!$B$1:$C$49,2,FALSE)","v":"徳  島"}]
[null,"愛知教育大学",42,"松下　陸","ﾏﾂｼﾀ ﾘｸ",2,"愛知県",{"$f":"VLOOKUP($G43,県名!$B$1:$C$49,2,FALSE)","v":"愛  知"}]
[null,"愛知教育大学",43,"山田　祥真","ﾔﾏﾀﾞ ｼｮｳﾏ",2,"愛知県",{"$f":"VLOOKUP($G44,県名!$B$1:$C$49,2,FALSE)","v":"愛  知"}]
[null,"愛知教育大学",44,"李　如來","ｲ ﾖﾚ",2,"愛知県",{"$f":"VLOOKUP($G45,県名!$B$1:$C$49,2,FALSE)","v":"愛  知"}]
[null,"愛知教育大学",45,"山田　祐輔","ﾔﾏﾀﾞ ﾕｳｽｹ",2,"愛知県",{"$f":"VLOOKUP($G46,県名!$B$1:$C$49,2,FALSE)","v":"愛  知"}]
[null,"愛知教育大学",46,"西山　皓基","ﾆｼﾔﾏ ｺｳｷ",2,"愛知県",{"$f":"VLOOKUP($G47,県名!$B$1:$C$49,2,FALSE)","v":"愛  知"}]
[null,"愛知教育大学",47,"落合　惇寛","ｵﾁｱｲ ｱﾂﾉﾘ",1,"愛知県",{"$f":"VLOOKUP($G48,県名!$B$1:$C$49,2,FALSE)","v":"愛  知"}]
[null,"愛知大学",48,"吉川　順也","ﾖｼｶﾜ ｼﾞｭﾝﾔ",4,"愛知県",{"$f":"VLOOKUP($G49,県名!$B$1:$C$49,2,FALSE)","v":"愛  知"}]
[null,"愛知大学",49,"堀川　貴哉","ﾎﾘｶﾜ ﾀｶﾔ",4,"愛知県",{"$f":"VLOOKUP($G50,県名!$B$1:$C$49,2,FALSE)","v":"愛  知"}]
[null,"愛知大学",50,"藤井　慧輔","ﾌｼﾞｲ ｹｲｽｹ",3,"愛知県",{"$f":"VLOOKUP($G51,県名!$B$1:$C$49,2,FALSE)","v":"愛  知"}]
[null,"愛知大学",51,"岡田　将旭","ｵｶﾀﾞ ﾏｻｱｷ",3,"愛知県",{"$f":"VLOOKUP($G52,県名!$B$1:$C$49,2,FALSE)","v":"愛  知"}]
[null,"愛知大学",52,"井賀　輝仁","ｲｶﾞ ﾃﾙﾋﾄ",3,"愛知県",{"$f":"VLOOKUP($G53,県名!$B$1:$C$49,2,FALSE)","v":"愛  知"}]
[null,"愛知大学",53,"塚本　陵太","ﾂｶﾓﾄ ﾘｮｳﾀ",3,"愛知県",{"$f":"VLOOKUP($G54,県名!$B$1:$C$49,2,FALSE)","v":"愛  知"}]
[null,"愛知大学",54,"田中　康介","ﾀﾅｶ ｺｳｽｹ",3,"愛知県",{"$f":"VLOOKUP($G55,県名!$B$1:$C$49,2,FALSE)","v":"愛  知"}]
[null,"愛知大学",55,"萩野　智久","ﾊｷﾞﾉ ﾄﾓﾋｻ",3,"愛知県",{"$f":"VLOOKUP($G56,県名!$B$1:$C$49,2,FALSE)","v":"愛  知"}]
[null,"愛知大学",56,"石井　啓典","ｲｼｲ ﾋﾛﾉﾘ",3,"愛知県",{"$f":"VLOOKUP($G57,県名!$B$1:$C$49,2,FALSE)","v":"愛  知"}]
[null,"愛知大学",57,"志治　嘉崇","ｼｼﾞ ﾖｼﾀｶ",3,"愛知県",{"$f":"VLOOKUP($G58,県名!$B$1:$C$49,2,FALSE)","v":"愛  知"}]
[null,"愛知大学",58,"佐村　香橘","ｻﾑﾗ ｶｷﾂ",3,"愛知県",{"$f":"VLOOKUP($G59,県名!$B$1:$C$49,2,FALSE)","v":"愛  知"}]
[null,"愛知大学",59,"久野　眞弥","ｸﾉ ｼﾝﾔ",3,"愛知県",{"$f":"VLOOKUP($G60,県名!$B$1:$C$49,2,FALSE)","v":"愛  知"}]
[null,"愛知大学",60,"粥川　景梧","ｶﾕｶﾜ ｹｲｺﾞ",3,"愛知県",{"$f":"VLOOKUP($G61,県名!$B$1:$C$49,2,FALSE)","v":"愛  知"}]
[null,"愛知大学",61,"山田　貴璃斗","ﾔﾏﾀﾞ ｷﾘﾄ",3,"愛知県",{"$f":"VLOOKUP($G62,県名!$B$1:$C$49,2,FALSE)","v":"愛  知"}]
[null,"愛知大学",62,"青山　尚生","ｱｵﾔﾏ ﾅｵｷ",2,"愛知県",{"$f":"VLOOKUP($G63,県名!$B$1:$C$49,2,FALSE)","v":"愛  知"}]
[null,"愛知大学",63,"廣田　幹大","ﾋﾛﾀ ｶﾝﾀﾞｲ",2,"愛知県",{"$f":"VLOOKUP($G64,県名!$B$1:$C$49,2,FALSE)","v":"愛  知"}]
[null,"愛知大学",64,"石川　陽一","ｲｼｶﾜ ﾖｳｲﾁ",2,"愛知県",{"$f":"VLOOKUP($G65,県名!$B$1:$C$49,2,FALSE)","v":"愛  知"}]
[null,"愛知大学",65,"早川　幸冶","ﾊﾔｶﾜ ﾕｷﾔ",2,"愛知県",{"$f":"VLOOKUP($G66,県名!$B$1:$C$49,2,FALSE)","v":"愛  知"}]
[null,"愛知大学",66,"円藤　良樹","ｴﾝﾄﾞｳ ﾖｼｷ",2,"愛知県",{"$f":"VLOOKUP($G67,県名!$B$1:$C$49,2,FALSE)","v":"愛  知"}]
[null,"愛知大学",67,"佐藤　大悟","ｻﾄｳ ﾀﾞｲｺﾞ",2,"愛知県",{"$f":"VLOOKUP($G68,県名!$B$1:$C$49,2,FALSE)","v":"愛  知"}]
[null,"愛知大学",68,"原塚　錬","ﾊﾗﾂｶ ﾚﾝ",2,"愛知県",{"$f":"VLOOKUP($G69,県名!$B$1:$C$49,2,FALSE)","v":"愛  知"}]
[null,"愛知大学",69,"橋本　知弥","ﾊｼﾓﾄ ﾄﾓﾔ",2,"愛知県",{"$f":"VLOOKUP($G70,県名!$B$1:$C$49,2,FALSE)","v":"愛  知"}]
[null,"愛知大学",70,"三浦　颯士","ﾐｳﾗ ｿｳｼ",2,"愛知県",{"$f":"VLOOKUP($G71,県名!$B$1:$C$49,2,FALSE)","v":"愛  知"}]
[null,"愛知大学",71,"中根　僚孝","ﾅｶﾈ ﾄﾓﾀｶ",2,"愛知県",{"$f":"VLOOKUP($G72,県名!$B$1:$C$49,2,FALSE)","v":"愛  知"}]
[null,"愛知大学",72,"中河　正登","ﾅｶｶﾞﾜ ﾏｻﾄ",2,"愛知県",{"$f":"VLOOKUP($G73,県名!$B$1:$C$49,2,FALSE)","v":"愛  知"}]
[null,"愛知大学",73,"間瀬　智哉","ﾏｾ ﾄﾓﾔ",2,"愛知県",{"$f":"VLOOKUP($G74,県名!$B$1:$C$49,2,FALSE)","v":"愛  知"}]
[null,"愛知大学",74,"三輪　賢治","ﾐﾜ ｹﾝｼﾞ",2,"愛知県",{"$f":"VLOOKUP($G75,県名!$B$1:$C$49,2,FALSE)","v":"愛  知"}]
[null,"愛知大学",75,"瀬川　駿","ｾｶﾞﾜ ｼｭﾝ",4,"岐阜県",{"$f":"VLOOKUP($G76,県名!$B$1:$C$49,2,FALSE)","v":"岐  阜"}]
[null,"愛知大学",76,"吉村　仁汰","ﾖｼﾑﾗ ｼﾞﾝﾀ",2,"岐阜県",{"$f":"VLOOKUP($G77,県名!$B$1:$C$49,2,FALSE)","v":"岐  阜"}]
[null,"愛知大学",77,"三好　達也","ﾐﾖｼ ﾀﾂﾔ",3,"岐阜県",{"$f":"VLOOKUP($G78,県名!$B$1:$C$49,2,FALSE)","v":"岐  阜"}]
[null,"愛知大学",78,"清水　健斗","ｼﾐｽﾞ ｹﾝﾄ",3,"静岡県",{"$f":"VLOOKUP($G79,県名!$B$1:$C$49,2,FALSE)","v":"静  岡"}]
[null,"愛知大学",79,"大杉　享平","ｵｵｽｷﾞ ｷｮｳﾍｲ",3,"静岡県",{"$f":"VLOOKUP($G80,県名!$B$1:$C$49,2,FALSE)","v":"静  岡"}]
[null,"愛知大学",80,"岩城　淳之介","ｲﾜｷ ｼﾞｭﾝﾉｽｹ",2,"富山県",{"$f":"VLOOKUP($G81,県名!$B$1:$C$49,2,FALSE)","v":"富　山"}]
[null,"愛知医科大学",81,"大石　紘之","ｵｵｲｼ ﾋﾛﾕｷ",4,"愛知県",{"$f":"VLOOKUP($G82,県名!$B$1:$C$49,2,FALSE)","v":"愛  知"}]
[null,"愛知医科大学",82,"高橋　周治","ﾀｶﾊｼ ｼｭｳｼﾞ",5,"愛知県",{"$f":"VLOOKUP($G83,県名!$B$1:$C$49,2,FALSE)","v":"愛  知"}]
[null,"愛知医科大学",83,"藤澤　健一","ﾌｼﾞｻﾜ ｹﾝｲﾁ",2,"福井県",{"$f":"VLOOKUP($G84,県名!$B$1:$C$49,2,FALSE)","v":"福　井"}]
[null,"愛知学院大学",84,"吉田　遥樹","ﾖｼﾀﾞ ﾊﾙｷ",4,"愛知県",{"$f":"VLOOKUP($G85,県名!$B$1:$C$49,2,FALSE)","v":"愛  知"}]
[null,"愛知学院大学",85,"太田　敦","ｵｵﾀ ｱﾂｼ",4,"愛知県",{"$f":"VLOOKUP($G86,県名!$B$1:$C$49,2,FALSE)","v":"愛  知"}]
[null,"愛知学院大学",86,"伊藤　諒","ｲﾄｳ ﾘｮｳ",4,"愛知県",{"$f":"VLOOKUP($G87,県名!$B$1:$C$49,2,FALSE)","v":"愛  知"}]
[null,"愛知学院大学",87,"浪崎　駿","ﾅﾐｻﾞｷ ｼｭﾝ",4,"愛知県",{"$f":"VLOOKUP($G88,県名!$B$1:$C$49,2,FALSE)","v":"愛  知"}]
[null,"愛知学院大学",88,"三浦　亘暉","ﾐｳﾗ ｺｳｷ",3,"愛知県",{"$f":"VLOOKUP($G89,県名!$B$1:$C$49,2,FALSE)","v":"愛  知"}]
[null,"愛知学院大学",89,"福嶋　佑太","ﾌｸｼﾏ ﾕｳﾀ",3,"愛知県",{"$f":"VLOOKUP($G90,県名!$B$1:$C$49,2,FALSE)","v":"愛  知"}]
[null,"愛知学院大学",90,"長谷川　貴大","ﾊｾｶﾞﾜ ﾀｶﾋﾛ",3,"愛知県",{"$f":"VLOOKUP($G91,県名!$B$1:$C$49,2,FALSE)","v":"愛  知"}]
[null,"愛知学院大学",91,"岡本　一純","ｵｶﾓﾄ ｲｽﾞﾐ",3,"三重県",{"$f":"VLOOKUP($G92,県名!$B$1:$C$49,2,FALSE)","v":"三  重"}]
[null,"愛知学院大学",92,"後藤　夏輝","ｺﾞﾄｳ ﾅﾂｷ",3,"愛知県",{"$f":"VLOOKUP($G93,県名!$B$1:$C$49,2,FALSE)","v":"愛  知"}]
[null,"愛知学院大学",93,"髙田　滉平","ﾀｶﾀﾞ ｺｳﾍｲ",3,"岐阜県",{"$f":"VLOOKUP($G94,県名!$B$1:$C$49,2,FALSE)","v":"岐  阜"}]
[null,"愛知学院大学",94,"河合　完治","ｶﾜｲ ｶﾝｼﾞ",3,"愛知県",{"$f":"VLOOKUP($G95,県名!$B$1:$C$49,2,FALSE)","v":"愛  知"}]
[null,"愛知学院大学",95,"森本　辰徳","ﾓﾘﾓﾄ ﾀﾂﾉﾘ",3,"愛知県",{"$f":"VLOOKUP($G96,県名!$B$1:$C$49,2,FALSE)","v":"愛  知"}]
[null,"愛知学院大学",96,"湯浅　友貴","ﾕｱｻ ﾄﾓﾀｶ",3,"愛知県",{"$f":"VLOOKUP($G97,県名!$B$1:$C$49,2,FALSE)","v":"愛  知"}]
[null,"愛知学院大学",97,"松下　慧五","ﾏﾂｼﾀ ｹｲｺﾞ",3,"愛知県",{"$f":"VLOOKUP($G98,県名!$B$1:$C$49,2,FALSE)","v":"愛  知"}]
[null,"愛知学院大学",98,"深谷　隼斗","ﾌｶﾔ ﾊﾔﾄ",3,"愛知県",{"$f":"VLOOKUP($G99,県名!$B$1:$C$49,2,FALSE)","v":"愛  知"}]
[null,"愛知学院大学",99,"西尾　勇祐","ﾆｼｵ ﾕｳｽｹ",3,"愛知県",{"$f":"VLOOKUP($G100,県名!$B$1:$C$49,2,FALSE)","v":"愛  知"}]
[null,"愛知学院大学",100,"櫻本　貴己","ｻｸﾗﾓﾄ ﾀｶｷ",3,"愛知県",{"$f":"VLOOKUP($G101,県名!$B$1:$C$49,2,FALSE)","v":"愛  知"}]
[null,"愛知学院大学",101,"堀内　裕太","ﾎﾘｳﾁ ﾕｳﾀ",2,"愛知県",{"$f":"VLOOKUP($G102,県名!$B$1:$C$49,2,FALSE)","v":"愛  知"}]
[null,"愛知学院大学",102,"三口　宗武","ﾐｸﾞﾁ ﾑﾈﾀｹ",2,"愛知県",{"$f":"VLOOKUP($G103,県名!$B$1:$C$49,2,FALSE)","v":"愛  知"}]
[null,"愛知学院大学",103,"林　利紀","ﾊﾔｼ ﾄｼｷ",2,"岐阜県",{"$f":"VLOOKUP($G104,県名!$B$1:$C$49,2,FALSE)","v":"岐  阜"}]
[null,"愛知学院大学",104,"後藤　瑞輝","ｺﾞﾄｳ ﾐｽﾞｷ",2,"愛知県",{"$f":"VLOOKUP($G105,県名!$B$1:$C$49,2,FALSE)","v":"愛  知"}]
[null,"愛知学院大学",105,"窪田　雅大","ｸﾎﾞﾀ ﾏｻﾋﾛ",2,"三重県",{"$f":"VLOOKUP($G106,県名!$B$1:$C$49,2,FALSE)","v":"三  重"}]
[null,"愛知学院大学",106,"谷川　友希","ﾀﾆｶﾜ ﾄﾓｷ",2,"愛知県",{"$f":"VLOOKUP($G107,県名!$B$1:$C$49,2,FALSE)","v":"愛  知"}]
[null,"愛知学院大学",107,"古田　久尚","ﾌﾙﾀ ﾋｻﾅｵ",3,"岐阜県",{"$f":"VLOOKUP($G108,県名!$B$1:$C$49,2,FALSE)","v":"岐  阜"}]
[null,"愛知学院大学",108,"小島　安滋","ｺｼﾞﾏ ｱﾝｼﾞ",2,"愛知県",{"$f":"VLOOKUP($G109,県名!$B$1:$C$49,2,FALSE)","v":"愛  知"}]
[null,"愛知学院大学",109,"江塚　拓人","ｴﾂﾞｶ ﾋﾛﾄ",2,"愛知県",{"$f":"VLOOKUP($G110,県名!$B$1:$C$49,2,FALSE)","v":"愛  知"}]
[null,"愛知学院大学",110,"岡村　泰青","ｵｶﾑﾗ ﾀｲｾｲ",2,"愛知県",{"$f":"VLOOKUP($G111,県名!$B$1:$C$49,2,FALSE)","v":"愛  知"}]
[null,"愛知学院大学",111,"児玉　一","ｺﾀﾞﾏ ｶｽﾞ",2,"愛知県",{"$f":"VLOOKUP($G112,県名!$B$1:$C$49,2,FALSE)","v":"愛  知"}]
[null,"愛知学院大学",112,"米津　央也","ﾖﾈﾂﾞ ﾅｶﾔ",2,"愛知県",{"$f":"VLOOKUP($G113,県名!$B$1:$C$49,2,FALSE)","v":"愛  知"}]
[null,"愛知学院大学",113,"伊藤　優","ｲﾄｳ ﾏｻﾙ",2,"岐阜県",{"$f":"VLOOKUP($G114,県名!$B$1:$C$49,2,FALSE)","v":"岐  阜"}]
[null,"愛知学院大学",114,"山本　真光人","ﾔﾏﾓﾄ ﾏｺﾄ",2,"長野県",{"$f":"VLOOKUP($G115,県名!$B$1:$C$49,2,FALSE)","v":"長  野"}]
[null,"愛知学院大学",115,"山本　渓秋","ﾔﾏﾓﾄ ｹｲｼｭｳ",2,"愛知県",{"$f":"VLOOKUP($G116,県名!$B$1:$C$49,2,FALSE)","v":"愛  知"}]
[null,"愛知学院大学",116,"森　昂之","ﾓﾘ ﾀｶﾕｷ",2,"愛知県",{"$f":"VLOOKUP($G117,県名!$B$1:$C$49,2,FALSE)","v":"愛  知"}]
[null,"愛知学院大学",117,"青木　健史郎","ｱｵｷ ｹﾝｼﾛｳ",1,"愛知県",{"$f":"VLOOKUP($G118,県名!$B$1:$C$49,2,FALSE)","v":"愛  知"}]
[null,"愛知学院大学",118,"牧田　祐太朗","ﾏｷﾀﾞ ﾕｳﾀﾛｳ",1,"愛知県",{"$f":"VLOOKUP($G119,県名!$B$1:$C$49,2,FALSE)","v":"愛  知"}]
[null,"愛知学院大学",119,"石田　駆","ｲｼﾀﾞ ｶｹﾙ",1,"岐阜県",{"$f":"VLOOKUP($G120,県名!$B$1:$C$49,2,FALSE)","v":"岐  阜"}]
[null,"愛知工業大学",120,"今徳　直輝","ｲﾏﾄｸ ﾅｵｷ",4,"愛知県",{"$f":"VLOOKUP($G121,県名!$B$1:$C$49,2,FALSE)","v":"愛  知"}]
[null,"愛知工業大学",121,"岡本　優樹","ｵｶﾓﾄ ﾕｳｷ",4,"愛知県",{"$f":"VLOOKUP($G122,県名!$B$1:$C$49,2,FALSE)","v":"愛  知"}]
[null,"愛知工業大学",122,"南部　幸裕","ﾅﾝﾌﾞ ﾕｷﾋﾛ",4,"三重県",{"$f":"VLOOKUP($G123,県名!$B$1:$C$49,2,FALSE)","v":"三  重"}]
[null,"愛知工業大学",123,"植松　達也","ｳｴﾏﾂ ﾀﾂﾔ",3,"愛知県",{"$f":"VLOOKUP($G124,県名!$B$1:$C$49,2,FALSE)","v":"愛  知"}]
[null,"愛知工業大学",124,"大野　誠士","ｵｵﾉ ｾｲｼﾞ",3,"愛知県",{"$f":"VLOOKUP($G125,県名!$B$1:$C$49,2,FALSE)","v":"愛  知"}]
[null,"愛知工業大学",125,"児玉　勘太","ｺﾀﾞﾏ ｶﾝﾀ",3,"三重県",{"$f":"VLOOKUP($G126,県名!$B$1:$C$49,2,FALSE)","v":"三  重"}]
[null,"愛知工業大学",126,"高橋　創太郎","ﾀｶﾊｼ ｿｳﾀﾛｳ",3,"愛知県",{"$f":"VLOOKUP($G127,県名!$B$1:$C$49,2,FALSE)","v":"愛  知"}]
[null,"愛知工業大学",127,"水野　賢作","ﾐｽﾞﾉ ｹﾝｻｸ",3,"愛知県",{"$f":"VLOOKUP($G128,県名!$B$1:$C$49,2,FALSE)","v":"愛  知"}]
[null,"愛知工業大学",128,"山中　創介","ﾔﾏﾅｶ ｿｳｽｹ",3,"愛知県",{"$f":"VLOOKUP($G129,県名!$B$1:$C$49,2,FALSE)","v":"愛  知"}]
[null,"愛知工業大学",129,"小林　宏輔","ｺﾊﾞﾔｼ ｺｳｽｹ",2,"愛知県",{"$f":"VLOOKUP($G130,県名!$B$1:$C$49,2,FALSE)","v":"愛  知"}]
[null,"愛知工業大学",130,"鈴木　高虎","ｽｽﾞｷ ﾀｶﾄﾗ",2,"愛知県",{"$f":"VLOOKUP($G131,県名!$B$1:$C$49,2,FALSE)","v":"愛  知"}]
[null,"愛知工業大学",131,"田口　裕芽","ﾀｸﾞﾁ ﾕｳｶﾞ",2,"愛知県",{"$f":"VLOOKUP($G132,県名!$B$1:$C$49,2,FALSE)","v":"愛  知"}]
[null,"愛知工業大学",132,"中村　正明","ﾅｶﾑﾗ ﾏｻｱｷ",2,"愛知県",{"$f":"VLOOKUP($G133,県名!$B$1:$C$49,2,FALSE)","v":"愛  知"}]
[null,"愛知工業大学",133,"服部　大暉","ﾊｯﾄﾘ ﾀﾞｲｷ",2,"愛知県",{"$f":"VLOOKUP($G134,県名!$B$1:$C$49,2,FALSE)","v":"愛  知"}]
[null,"愛知工業大学",134,"三浦　舜","ﾐｳﾗ ｼｭﾝ",2,"愛知県",{"$f":"VLOOKUP($G135,県名!$B$1:$C$49,2,FALSE)","v":"愛  知"}]
[null,"愛知工業大学",135,"黒野　敬斗","ｸﾛﾉ ｹｲﾄ",1,"愛知県",{"$f":"VLOOKUP($G136,県名!$B$1:$C$49,2,FALSE)","v":"愛  知"}]
[null,"愛知工業大学",136,"堀田　翔紀","ﾎｯﾀ ｼｮｳｷ",1,"愛知県",{"$f":"VLOOKUP($G137,県名!$B$1:$C$49,2,FALSE)","v":"愛  知"}]
[null,"愛知工業大学",137,"天野　快聖","ｱﾏﾉ ｶｲｾｲ",2,"愛知県",{"$f":"VLOOKUP($G138,県名!$B$1:$C$49,2,FALSE)","v":"愛  知"}]
[null,"愛知工業大学",138,"塚本　拳史","ﾂｶﾓﾄ ｹﾝｼ",2,"愛知県",{"$f":"VLOOKUP($G139,県名!$B$1:$C$49,2,FALSE)","v":"愛  知"}]
[null,"愛知工業大学",139,"野瀬　優太","ﾉｾ ﾕｳﾀ",2,"愛知県",{"$f":"VLOOKUP($G140,県名!$B$1:$C$49,2,FALSE)","v":"愛  知"}]
[null,"愛知工業大学",140,"穂満　司","ﾎﾏﾝ ﾂｶｻ",2,"三重県",{"$f":"VLOOKUP($G141,県名!$B$1:$C$49,2,FALSE)","v":"三  重"}]
[null,"愛知工業大学",141,"渡辺　素己","ﾜﾀﾅﾍﾞ ﾓﾄｷ",2,"長野県",{"$f":"VLOOKUP($G142,県名!$B$1:$C$49,2,FALSE)","v":"長  野"}]
[null,"愛知淑徳大学",142,"谷口　泰史","ﾀﾆｸﾞﾁ ﾀｲｼ",3,"愛知県",{"$f":"VLOOKUP($G143,県名!$B$1:$C$49,2,FALSE)","v":"愛  知"}]
[null,"愛知淑徳大学",143,"遠藤　聡","ｴﾝﾄﾞｳ ｻﾄｼ",4,"愛知県",{"$f":"VLOOKUP($G144,県名!$B$1:$C$49,2,FALSE)","v":"愛  知"}]
[null,"愛知淑徳大学",144,"山口　淳","ﾔﾏｸﾞﾁ ｼﾞｭﾝ",3,"愛知県",{"$f":"VLOOKUP($G145,県名!$B$1:$C$49,2,FALSE)","v":"愛  知"}]
[null,"愛知東邦大学",145,"伊藤　慎悟","ｲﾄｳ ｼﾝｺﾞ",3,"愛知県",{"$f":"VLOOKUP($G146,県名!$B$1:$C$49,2,FALSE)","v":"愛  知"}]
[null,"愛知東邦大学",146,"門野　敬介","ｶﾄﾞﾉ ｹｲｽｹ",2,"愛知県",{"$f":"VLOOKUP($G147,県名!$B$1:$C$49,2,FALSE)","v":"愛  知"}]
[null,"愛知東邦大学",147,"服部　奨世","ﾊｯﾄﾘ ｼｮｳｾｲ",2,"愛知県",{"$f":"VLOOKUP($G148,県名!$B$1:$C$49,2,FALSE)","v":"愛  知"}]
[null,"愛知東邦大学",148,"角野　翼","ｶｸﾉ ﾂﾊﾞｻ",2,"愛知県",{"$f":"VLOOKUP($G149,県名!$B$1:$C$49,2,FALSE)","v":"愛  知"}]
[null,"岐阜聖徳学園大学",149,"篠田　健","ｼﾉﾀﾞ ｹﾝ",4,"岐阜県",{"$f":"VLOOKUP($G150,県名!$B$1:$C$49,2,FALSE)","v":"岐  阜"}]
[null,"岐阜聖徳学園大学",150,"友添　佑哉","ﾄﾓｿﾞｴ ﾕｳﾔ",4,"岐阜県",{"$f":"VLOOKUP($G151,県名!$B$1:$C$49,2,FALSE)","v":"岐  阜"}]
[null,"岐阜聖徳学園大学",151,"小谷　謙斗","ｺﾀﾆ ｹﾝﾄ",3,"岐阜県",{"$f":"VLOOKUP($G152,県名!$B$1:$C$49,2,FALSE)","v":"岐  阜"}]
[null,"岐阜聖徳学園大学",152,"横地　翼","ﾖｺﾁ ﾂﾊﾞｻ",3,"岐阜県",{"$f":"VLOOKUP($G153,県名!$B$1:$C$49,2,FALSE)","v":"岐  阜"}]
[null,"岐阜聖徳学園大学",153,"川島　大輝","ｶﾜｼﾏ ﾀｲｷ",2,"岐阜県",{"$f":"VLOOKUP($G154,県名!$B$1:$C$49,2,FALSE)","v":"岐  阜"}]
[null,"岐阜聖徳学園大学",154,"西村　智之","ﾆｼﾑﾗ ﾄﾓﾕｷ",2,"岐阜県",{"$f":"VLOOKUP($G155,県名!$B$1:$C$49,2,FALSE)","v":"岐  阜"}]
[null,"岐阜聖徳学園大学",155,"和田　祥吾","ﾜﾀﾞ ｼｮｳｺﾞ",2,"岐阜県",{"$f":"VLOOKUP($G156,県名!$B$1:$C$49,2,FALSE)","v":"岐  阜"}]
[null,"岐阜聖徳学園大学",156,"稻福　煕","ｲﾅﾌｸ ﾋｶﾙ",3,"岐阜県",{"$f":"VLOOKUP($G157,県名!$B$1:$C$49,2,FALSE)","v":"岐  阜"}]
[null,"岐阜聖徳学園大学",157,"杉本　光","ｽｷﾞﾓﾄ ﾋｶﾙ",2,"岐阜県",{"$f":"VLOOKUP($G158,県名!$B$1:$C$49,2,FALSE)","v":"岐  阜"}]
[null,"岐阜聖徳学園大学",158,"安井　優昇","ﾔｽｲ ﾏｻﾉﾘ",4,"岐阜県",{"$f":"VLOOKUP($G159,県名!$B$1:$C$49,2,FALSE)","v":"岐  阜"}]
[null,"岐阜大学",159,"笹田　康弘","ｻｻﾀﾞ ﾔｽﾋﾛ",6,"岐阜県",{"$f":"VLOOKUP($G160,県名!$B$1:$C$49,2,FALSE)","v":"岐  阜"}]
[null,"岐阜大学",160,"赤松　諒一","ｱｶﾏﾂ ﾘｮｳｲﾁ","M1","岐阜県",{"$f":"VLOOKUP($G161,県名!$B$1:$C$49,2,FALSE)","v":"岐  阜"}]
[null,"岐阜大学",161,"日置　佑輔","ﾋｵｷ ﾕｳｽｹ",4,"岐阜県",{"$f":"VLOOKUP($G162,県名!$B$1:$C$49,2,FALSE)","v":"岐  阜"}]
[null,"岐阜大学",162,"髙橋　勇樹","ﾀｶﾊｼ ﾕｳｷ",4,"岐阜県",{"$f":"VLOOKUP($G163,県名!$B$1:$C$49,2,FALSE)","v":"岐  阜"}]
[null,"岐阜大学",163,"太田　智基","ｵｵﾀ ﾄﾓｷ",4,"岐阜県",{"$f":"VLOOKUP($G164,県名!$B$1:$C$49,2,FALSE)","v":"岐  阜"}]
[null,"岐阜大学",164,"笠井　裕司","ｶｻｲ ﾕｳｼﾞ",4,"岐阜県",{"$f":"VLOOKUP($G165,県名!$B$1:$C$49,2,FALSE)","v":"岐  阜"}]
[null,"岐阜大学",165,"山本　幹也","ﾔﾏﾓﾄ ﾐｷﾔ",3,"岐阜県",{"$f":"VLOOKUP($G166,県名!$B$1:$C$49,2,FALSE)","v":"岐  阜"}]
[null,"岐阜大学",166,"赤羽　勇哉","ｱｶﾊﾈ ﾕｳﾔ",3,"岐阜県",{"$f":"VLOOKUP($G167,県名!$B$1:$C$49,2,FALSE)","v":"岐  阜"}]
[null,"岐阜大学",167,"齋藤　健一","ｻｲﾄｳ ｹﾝｲﾁ",3,"岐阜県",{"$f":"VLOOKUP($G168,県名!$B$1:$C$49,2,FALSE)","v":"岐  阜"}]
[null,"岐阜大学",168,"吉本　昇平","ﾖｼﾓﾄ ｼｮｳﾍｲ",3,"岐阜県",{"$f":"VLOOKUP($G169,県名!$B$1:$C$49,2,FALSE)","v":"岐  阜"}]
[null,"岐阜大学",169,"磯部　貴弘","ｲｿﾍﾞ ﾀｶﾋﾛ",3,"岐阜県",{"$f":"VLOOKUP($G170,県名!$B$1:$C$49,2,FALSE)","v":"岐  阜"}]
[null,"岐阜大学",170,"古橋　侑季","ﾌﾙﾊｼ ﾕｳｷ",3,"岐阜県",{"$f":"VLOOKUP($G171,県名!$B$1:$C$49,2,FALSE)","v":"岐  阜"}]
[null,"岐阜大学",171,"橋本　雄輔","ﾊｼﾓﾄ ﾕｳｽｹ",2,"岐阜県",{"$f":"VLOOKUP($G172,県名!$B$1:$C$49,2,FALSE)","v":"岐  阜"}]
[null,"岐阜大学",172,"小川　善也","ｵｶﾞﾜ ﾖｼﾅﾘ",2,"岐阜県",{"$f":"VLOOKUP($G173,県名!$B$1:$C$49,2,FALSE)","v":"岐  阜"}]
[null,"岐阜大学",173,"和田　達希","ﾜﾀﾞ ﾀﾂｷ",2,"岐阜県",{"$f":"VLOOKUP($G174,県名!$B$1:$C$49,2,FALSE)","v":"岐  阜"}]
[null,"岐阜大学",174,"浅野　智成","ｱｻﾉ ﾄﾓﾅﾘ",2,"岐阜県",{"$f":"VLOOKUP($G175,県名!$B$1:$C$49,2,FALSE)","v":"岐  阜"}]
[null,"岐阜大学",175,"奥原　颯馬","ｵｸﾊﾗ ｿｳﾏ",2,"岐阜県",{"$f":"VLOOKUP($G176,県名!$B$1:$C$49,2,FALSE)","v":"岐  阜"}]
[null,"岐阜大学",176,"松井　利晃","ﾏﾂｲ ﾄｼｱｷ",2,"岐阜県",{"$f":"VLOOKUP($G177,県名!$B$1:$C$49,2,FALSE)","v":"岐  阜"}]
[null,"岐阜大学",177,"谷川原　龍之介","ﾀﾆｶﾞﾜﾗ ﾘｭｳﾉｽｹ",2,"岐阜県",{"$f":"VLOOKUP($G178,県名!$B$1:$C$49,2,FALSE)","v":"岐  阜"}]
[null,"岐阜大学",178,"深松　佳範","ﾌｶﾏﾂ ﾖｼﾉﾘ",2,"長崎県",{"$f":"VLOOKUP($G179,県名!$B$1:$C$49,2,FALSE)","v":"長　崎"}]
[null,"岐阜大学",179,"上田　良樹","ｳｴﾀﾞ ﾖｼｷ",2,"岐阜県",{"$f":"VLOOKUP($G180,県名!$B$1:$C$49,2,FALSE)","v":"岐  阜"}]
[null,"近畿大学工業高等専門学校",180,"小林　俊介","ｺﾊﾞﾔｼ ｼｭﾝｽｹ",5,"三重県",{"$f":"VLOOKUP($G181,県名!$B$1:$C$49,2,FALSE)","v":"三  重"}]
[null,"近畿大学工業高等専門学校",181,"田原　隼輝","ﾀﾊﾗ ｼﾞｭﾝｷ",5,"三重県",{"$f":"VLOOKUP($G182,県名!$B$1:$C$49,2,FALSE)","v":"三  重"}]
[null,"近畿大学工業高等専門学校",182,"田中　遼河","ﾀﾅｶ ﾊﾙｶ",4,"三重県",{"$f":"VLOOKUP($G183,県名!$B$1:$C$49,2,FALSE)","v":"三  重"}]
[null,"近畿大学工業高等専門学校",183,"上地　海斗","ｳｴｼﾞ ｶｲﾄ",4,"三重県",{"$f":"VLOOKUP($G184,県名!$B$1:$C$49,2,FALSE)","v":"三  重"}]
[null,"近畿大学工業高等専門学校",184,"神林　優太郎","ｶﾝﾊﾞﾔｼ ﾕｳﾀﾛｳ",4,"三重県",{"$f":"VLOOKUP($G185,県名!$B$1:$C$49,2,FALSE)","v":"三  重"}]
[null,"近畿大学工業高等専門学校",185,"中川　学","ﾅｶｶﾞﾜ ﾏﾅﾌﾞ",5,"三重県",{"$f":"VLOOKUP($G186,県名!$B$1:$C$49,2,FALSE)","v":"三  重"}]
[null,"近畿大学工業高等専門学校",186,"小倉　健吾","ｵｸﾞﾗ ｹﾝｺﾞ",5,"三重県",{"$f":"VLOOKUP($G187,県名!$B$1:$C$49,2,FALSE)","v":"三  重"}]
[null,"近畿大学工業高等専門学校",187,"山田　恭平","ﾔﾏﾀﾞ ｷｮｳﾍｲ",4,"三重県",{"$f":"VLOOKUP($G188,県名!$B$1:$C$49,2,FALSE)","v":"三  重"}]
[null,"近畿大学工業高等専門学校",188,"梶原　柾希","ｶｼﾞﾜﾗ ﾏｻｷ",4,"三重県",{"$f":"VLOOKUP($G189,県名!$B$1:$C$49,2,FALSE)","v":"三  重"}]
[null,"近畿大学工業高等専門学校",189,"川畑　涼","ｶﾜﾊﾀ ﾘｮｳ",4,"三重県",{"$f":"VLOOKUP($G190,県名!$B$1:$C$49,2,FALSE)","v":"三  重"}]
[null,"皇學館大学",190,"水野　将志","ﾐｽﾞﾉ ﾏｻｼ",2,"三重県",{"$f":"VLOOKUP($G191,県名!$B$1:$C$49,2,FALSE)","v":"三  重"}]
[null,"皇學館大学",191,"池田　周樹","ｲｹﾀﾞ ｼｭｳｷ",2,"三重県",{"$f":"VLOOKUP($G192,県名!$B$1:$C$49,2,FALSE)","v":"三  重"}]
[null,"皇學館大学",192,"成瀬　雅哉","ﾅﾙｾ ﾏｻﾔ",2,"三重県",{"$f":"VLOOKUP($G193,県名!$B$1:$C$49,2,FALSE)","v":"三  重"}]
[null,"皇學館大学",193,"三谷　大河","ﾐﾀﾆ ﾀｲｶﾞ",2,"三重県",{"$f":"VLOOKUP($G194,県名!$B$1:$C$49,2,FALSE)","v":"三  重"}]
[null,"皇學館大学",194,"中西　壮登","ﾅｶﾆｼ ﾏｻﾄ",2,"三重県",{"$f":"VLOOKUP($G195,県名!$B$1:$C$49,2,FALSE)","v":"三  重"}]
[null,"皇學館大学",195,"山下　遼真","ﾔﾏｼﾀ ﾘｮｳﾏ",2,"三重県",{"$f":"VLOOKUP($G196,県名!$B$1:$C$49,2,FALSE)","v":"三  重"}]
[null,"皇學館大学",196,"加藤　謙太","ｶﾄｳ ｹﾝﾀ",2,"三重県",{"$f":"VLOOKUP($G197,県名!$B$1:$C$49,2,FALSE)","v":"三  重"}]
[null,"皇學館大学",197,"宮﨑　翔","ﾐﾔｻﾞｷ ｶｹﾙ",2,"三重県",{"$f":"VLOOKUP($G198,県名!$B$1:$C$49,2,FALSE)","v":"三  重"}]
[null,"皇學館大学",198,"三村　憲史","ﾐﾑﾗ ｹﾝｼ",2,"三重県",{"$f":"VLOOKUP($G199,県名!$B$1:$C$49,2,FALSE)","v":"三  重"}]
[null,"皇學館大学",199,"宮口　航太","ﾐﾔｸﾞﾁ ｺｳﾀ",2,"三重県",{"$f":"VLOOKUP($G200,県名!$B$1:$C$49,2,FALSE)","v":"三  重"}]
[null,"皇學館大学",200,"山下　晟弥","ﾔﾏｼﾀ ｱｷﾔ",3,"三重県",{"$f":"VLOOKUP($G201,県名!$B$1:$C$49,2,FALSE)","v":"三  重"}]
[null,"皇學館大学",201,"井川　智嗣","ｲｶﾜ ｻﾄｼ",3,"三重県",{"$f":"VLOOKUP($G202,県名!$B$1:$C$49,2,FALSE)","v":"三  重"}]
[null,"皇學館大学",202,"安立　渉吾","ｱﾀﾞﾁ ｼｮｳｺﾞ",3,"三重県",{"$f":"VLOOKUP($G203,県名!$B$1:$C$49,2,FALSE)","v":"三  重"}]
[null,"皇學館大学",203,"谷口　史弥","ﾀﾆｸﾞﾁ ﾌﾐﾔ",3,"三重県",{"$f":"VLOOKUP($G204,県名!$B$1:$C$49,2,FALSE)","v":"三  重"}]
[null,"皇學館大学",204,"中谷　僚汰","ﾅｶﾔ ﾘｮｳﾀ",4,"三重県",{"$f":"VLOOKUP($G205,県名!$B$1:$C$49,2,FALSE)","v":"三  重"}]
[null,"皇學館大学",205,"中谷　寛汰","ﾅｶﾔ ｶﾝﾀ",4,"三重県",{"$f":"VLOOKUP($G206,県名!$B$1:$C$49,2,FALSE)","v":"三  重"}]
[null,"皇學館大学",206,"藤川　駿","ﾌｼﾞｶﾜ ｼｭﾝ",3,"三重県",{"$f":"VLOOKUP($G207,県名!$B$1:$C$49,2,FALSE)","v":"三  重"}]
[null,"皇學館大学",207,"林　大登","ﾊﾔｼ ﾋﾛﾄ",3,"三重県",{"$f":"VLOOKUP($G208,県名!$B$1:$C$49,2,FALSE)","v":"三  重"}]
[null,"皇學館大学",208,"矢野　浩丈","ﾔﾉ ﾋﾛﾀｹ",3,"三重県",{"$f":"VLOOKUP($G209,県名!$B$1:$C$49,2,FALSE)","v":"三  重"}]
[null,"皇學館大学",209,"濱﨑　優紀","ﾊﾏｻﾞｷ ﾕｳｷ",3,"三重県",{"$f":"VLOOKUP($G210,県名!$B$1:$C$49,2,FALSE)","v":"三  重"}]
[null,"皇學館大学",210,"井豫　規人","ｲﾖ ﾉﾘﾄ",3,"三重県",{"$f":"VLOOKUP($G211,県名!$B$1:$C$49,2,FALSE)","v":"三  重"}]
[null,"皇學館大学",211,"荊木　佑介","ｲﾊﾞﾗｷ ﾕｳｽｹ",4,"三重県",{"$f":"VLOOKUP($G212,県名!$B$1:$C$49,2,FALSE)","v":"三  重"}]
[null,"皇學館大学",212,"丹羽　良彰","ﾆﾜ ﾖｼｱｷ",4,"三重県",{"$f":"VLOOKUP($G213,県名!$B$1:$C$49,2,FALSE)","v":"三  重"}]
[null,"皇學館大学",213,"江口　観世","ｴｸﾞﾁ ｱｷﾖ",4,"三重県",{"$f":"VLOOKUP($G214,県名!$B$1:$C$49,2,FALSE)","v":"三  重"}]
[null,"皇學館大学",214,"吉澤　亮我","ﾖｼｻﾞﾜ ﾘｮｳｶﾞ",4,"三重県",{"$f":"VLOOKUP($G215,県名!$B$1:$C$49,2,FALSE)","v":"三  重"}]
[null,"皇學館大学",215,"森内　泰洋","ﾓﾘｳﾁ ﾔｽﾋﾛ",4,"三重県",{"$f":"VLOOKUP($G216,県名!$B$1:$C$49,2,FALSE)","v":"三  重"}]
[null,"皇學館大学",216,"松村　知哉","ﾏﾂﾑﾗ ﾄﾓﾔ",4,"三重県",{"$f":"VLOOKUP($G217,県名!$B$1:$C$49,2,FALSE)","v":"三  重"}]
[null,"皇學館大学",217,"乾　颯人","ｲﾇｲ ﾊﾔﾄ",4,"三重県",{"$f":"VLOOKUP($G218,県名!$B$1:$C$49,2,FALSE)","v":"三  重"}]
[null,"皇學館大学",218,"才戸　雄貴","ｻｲﾄﾞ ﾕｳｷ",4,"三重県",{"$f":"VLOOKUP($G219,県名!$B$1:$C$49,2,FALSE)","v":"三  重"}]
[null,"皇學館大学",219,"原　啓祐","ﾊﾗ ｹｲｽｹ","M1","三重県",{"$f":"VLOOKUP($G220,県名!$B$1:$C$49,2,FALSE)","v":"三  重"}]
[null,"皇學館大学",220,"松葉　大和","ﾏﾂﾊﾞ ﾔﾏﾄ","M1","三重県",{"$f":"VLOOKUP($G221,県名!$B$1:$C$49,2,FALSE)","v":"三  重"}]
[null,"皇學館大学",221,"大谷　大介","ｵｵﾀﾆ ﾀﾞｲｽｹ","M2","三重県",{"$f":"VLOOKUP($G222,県名!$B$1:$C$49,2,FALSE)","v":"三  重"}]
[null,"皇學館大学",222,"上村　一真","ｶﾐﾑﾗ ｶｽﾞﾏ",4,"三重県",{"$f":"VLOOKUP($G223,県名!$B$1:$C$49,2,FALSE)","v":"三  重"}]
[null,"皇學館大学",223,"山下　大地","ﾔﾏｼﾀ ﾀﾞｲﾁ",4,"愛知県",{"$f":"VLOOKUP($G224,県名!$B$1:$C$49,2,FALSE)","v":"愛  知"}]
[null,"皇學館大学",224,"大河内　雄登","ｵｵｺｳﾁ ﾕｳﾄ",3,"三重県",{"$f":"VLOOKUP($G225,県名!$B$1:$C$49,2,FALSE)","v":"三  重"}]
[null,"皇學館大学",225,"奥野　夏希","ｵｸﾉ ﾅﾂｷ",3,"三重県",{"$f":"VLOOKUP($G226,県名!$B$1:$C$49,2,FALSE)","v":"三  重"}]
[null,"皇學館大学",226,"金谷　智顕","ｶﾅﾔ ﾄﾓｱｷ",3,"愛知県",{"$f":"VLOOKUP($G227,県名!$B$1:$C$49,2,FALSE)","v":"愛  知"}]
[null,"皇學館大学",227,"新美　健","ﾆｲﾐ ｹﾝ",3,"三重県",{"$f":"VLOOKUP($G228,県名!$B$1:$C$49,2,FALSE)","v":"三  重"}]
[null,"皇學館大学",228,"平野　恵大","ﾋﾗﾉ ｼｹﾞﾋﾛ",3,"奈良県",{"$f":"VLOOKUP($G229,県名!$B$1:$C$49,2,FALSE)","v":"奈　良"}]
[null,"皇學館大学",229,"山下　慧士","ﾔﾏｼﾀ ｹｲｼ",3,"愛知県",{"$f":"VLOOKUP($G230,県名!$B$1:$C$49,2,FALSE)","v":"愛  知"}]
[null,"皇學館大学",230,"金森　拳之介","ｶﾅﾓﾘ ｹﾝﾉｽｹ",2,"滋賀県",{"$f":"VLOOKUP($G231,県名!$B$1:$C$49,2,FALSE)","v":"滋　賀"}]
[null,"皇學館大学",231,"上村　直也","ｶﾐﾑﾗ ﾅｵﾔ",2,"三重県",{"$f":"VLOOKUP($G232,県名!$B$1:$C$49,2,FALSE)","v":"三  重"}]
[null,"皇學館大学",232,"川瀬　翔矢","ｶﾜｾ ｼｮｳﾔ",2,"三重県",{"$f":"VLOOKUP($G233,県名!$B$1:$C$49,2,FALSE)","v":"三  重"}]
[null,"皇學館大学",233,"桑山　楓矢","ｸﾜﾔﾏ ﾌｳﾔ",2,"三重県",{"$f":"VLOOKUP($G234,県名!$B$1:$C$49,2,FALSE)","v":"三  重"}]
[null,"皇學館大学",234,"田邊　隼都","ﾀﾅﾍﾞ ﾊﾔﾄ",2,"愛知県",{"$f":"VLOOKUP($G235,県名!$B$1:$C$49,2,FALSE)","v":"愛  知"}]
[null,"皇學館大学",235,"平山　寛人","ﾋﾗﾔﾏ ﾋﾛﾄ",2,"長崎県",{"$f":"VLOOKUP($G236,県名!$B$1:$C$49,2,FALSE)","v":"長　崎"}]
[null,"皇學館大学",236,"宮城　響","ﾐﾔｷﾞ ﾋﾋﾞｷ",2,"沖縄県",{"$f":"VLOOKUP($G237,県名!$B$1:$C$49,2,FALSE)","v":"沖　縄"}]
[null,"皇學館大学",237,"安岡　里哉","ﾔｽｵｶ ｻﾄﾔ",2,"高知県",{"$f":"VLOOKUP($G238,県名!$B$1:$C$49,2,FALSE)","v":"高　知"}]
[null,"三重大学",238,"石松　凜平","ｲｼﾏﾂ ﾘﾝﾍﾟｲ",2,"三重県",{"$f":"VLOOKUP($G239,県名!$B$1:$C$49,2,FALSE)","v":"三  重"}]
[null,"三重大学",239,"岩田　京樹","ｲﾜﾀ ｹｲｼﾞｭ",2,"三重県",{"$f":"VLOOKUP($G240,県名!$B$1:$C$49,2,FALSE)","v":"三  重"}]
[null,"三重大学",240,"浦野　健次","ｳﾗﾉ ｹﾝｼﾞ",2,"三重県",{"$f":"VLOOKUP($G241,県名!$B$1:$C$49,2,FALSE)","v":"三  重"}]
[null,"三重大学",241,"大崎　修汰","ｵｵｻｷ ｼｭｳﾀ",2,"三重県",{"$f":"VLOOKUP($G242,県名!$B$1:$C$49,2,FALSE)","v":"三  重"}]
[null,"三重大学",242,"片山　雄登","ｶﾀﾔﾏ ﾕｳﾄ",2,"三重県",{"$f":"VLOOKUP($G243,県名!$B$1:$C$49,2,FALSE)","v":"三  重"}]
[null,"三重大学",243,"佐藤　俊介","ｻﾄｳ ｼｭﾝｽｹ",2,"三重県",{"$f":"VLOOKUP($G244,県名!$B$1:$C$49,2,FALSE)","v":"三  重"}]
[null,"三重大学",244,"澤村　健斗","ｻﾜﾑﾗ ｹﾝﾄ",2,"三重県",{"$f":"VLOOKUP($G245,県名!$B$1:$C$49,2,FALSE)","v":"三  重"}]
[null,"三重大学",245,"竹村　颯真","ﾀｹﾑﾗ ｿｳﾏ",2,"三重県",{"$f":"VLOOKUP($G246,県名!$B$1:$C$49,2,FALSE)","v":"三  重"}]
[null,"三重大学",246,"出島　典斗","ﾃﾞｼﾞﾏ ﾃﾝﾄ",2,"三重県",{"$f":"VLOOKUP($G247,県名!$B$1:$C$49,2,FALSE)","v":"三  重"}]
[null,"三重大学",247,"永戸　悠太郎","ﾅｶﾞﾄ ﾕｳﾀﾛｳ",2,"三重県",{"$f":"VLOOKUP($G248,県名!$B$1:$C$49,2,FALSE)","v":"三  重"}]
[null,"三重大学",248,"中山　雄大","ﾅｶﾔﾏ ﾕｳﾀ",2,"三重県",{"$f":"VLOOKUP($G249,県名!$B$1:$C$49,2,FALSE)","v":"三  重"}]
[null,"三重大学",249,"平山　貴大","ﾋﾗﾔﾏ ﾀｶｵ",2,"三重県",{"$f":"VLOOKUP($G250,県名!$B$1:$C$49,2,FALSE)","v":"三  重"}]
[null,"三重大学",250,"伊藤　可捺汰","ｲﾄｳ ｶﾅﾀ",3,"三重県",{"$f":"VLOOKUP($G251,県名!$B$1:$C$49,2,FALSE)","v":"三  重"}]
[null,"三重大学",251,"岡野　将成","ｵｶﾉ ﾏｻﾅﾘ",3,"三重県",{"$f":"VLOOKUP($G252,県名!$B$1:$C$49,2,FALSE)","v":"三  重"}]
[null,"三重大学",252,"小田　千喜","ｵﾀﾞ ｶｽﾞｷ",3,"三重県",{"$f":"VLOOKUP($G253,県名!$B$1:$C$49,2,FALSE)","v":"三  重"}]
[null,"三重大学",253,"近藤　大智","ｺﾝﾄﾞｳ ﾀﾞｲﾁ",3,"愛知県",{"$f":"VLOOKUP($G254,県名!$B$1:$C$49,2,FALSE)","v":"愛  知"}]
[null,"三重大学",254,"鈴木　康平","ｽｽﾞｷ ｺｳﾍｲ",3,"三重県",{"$f":"VLOOKUP($G255,県名!$B$1:$C$49,2,FALSE)","v":"三  重"}]
[null,"三重大学",255,"鈴木　拓郎","ｽｽﾞｷ ﾀｸﾛｳ",3,"三重県",{"$f":"VLOOKUP($G256,県名!$B$1:$C$49,2,FALSE)","v":"三  重"}]
[null,"三重大学",256,"竹内　喜紀","ﾀｹｳﾁ ﾖｼｷ",3,"三重県",{"$f":"VLOOKUP($G257,県名!$B$1:$C$49,2,FALSE)","v":"三  重"}]
[null,"三重大学",257,"中西　和也","ﾅｶﾆｼ ｶｽﾞﾔ",3,"三重県",{"$f":"VLOOKUP($G258,県名!$B$1:$C$49,2,FALSE)","v":"三  重"}]
[null,"三重大学",258,"由川　琢也","ﾖｼｶﾜ ﾀｸﾔ",3,"三重県",{"$f":"VLOOKUP($G259,県名!$B$1:$C$49,2,FALSE)","v":"三  重"}]
[null,"三重大学",259,"小澤　俊仁","ｺｻﾞﾜ ﾄｼﾋﾄ",4,"三重県",{"$f":"VLOOKUP($G260,県名!$B$1:$C$49,2,FALSE)","v":"三  重"}]
[null,"三重大学",260,"齋藤　駿","ｻｲﾄｳ ｼｭﾝ",4,"三重県",{"$f":"VLOOKUP($G261,県名!$B$1:$C$49,2,FALSE)","v":"三  重"}]
[null,"三重大学",261,"佐野　祐太","ｻﾉ ﾕｳﾀ",4,"三重県",{"$f":"VLOOKUP($G262,県名!$B$1:$C$49,2,FALSE)","v":"三  重"}]
[null,"三重大学",262,"野田　多聞","ﾉﾀﾞ ﾀﾓﾝ",4,"三重県",{"$f":"VLOOKUP($G263,県名!$B$1:$C$49,2,FALSE)","v":"三  重"}]
[null,"三重大学",263,"森　瑛志","ﾓﾘ ｴｲｼﾞ",4,"三重県",{"$f":"VLOOKUP($G264,県名!$B$1:$C$49,2,FALSE)","v":"三  重"}]
[null,"三重大学",264,"由川　晃大","ﾖｼｶﾜ ｺｳﾀﾞｲ",4,"三重県",{"$f":"VLOOKUP($G265,県名!$B$1:$C$49,2,FALSE)","v":"三  重"}]
[null,"三重大学",265,"細澤　幸輝","ﾎｿｻﾞﾜ ｺｳｷ",6,"三重県",{"$f":"VLOOKUP($G266,県名!$B$1:$C$49,2,FALSE)","v":"三  重"}]
[null,"三重大学",266,"稲垣　慎一","ｲﾅｶﾞｷ ｼﾝｲﾁ","M1","三重県",{"$f":"VLOOKUP($G267,県名!$B$1:$C$49,2,FALSE)","v":"三  重"}]
[null,"三重大学",267,"中村　亮太","ﾅｶﾑﾗ ﾘｮｳﾀ","M1","三重県",{"$f":"VLOOKUP($G268,県名!$B$1:$C$49,2,FALSE)","v":"三  重"}]
[null,"至学館大学",268,"山本　有人","ﾔﾏﾓﾄ ﾕｳﾄ",2,"三重県",{"$f":"VLOOKUP($G269,県名!$B$1:$C$49,2,FALSE)","v":"三  重"}]
[null,"至学館大学",269,"伊藤　優","ｲﾄｳ ﾕｳ","M2","愛知県",{"$f":"VLOOKUP($G270,県名!$B$1:$C$49,2,FALSE)","v":"愛  知"}]
[null,"至学館大学",270,"安藤　佑馬","ｱﾝﾄﾞｳ ﾕｳﾏ","M1","愛知県",{"$f":"VLOOKUP($G271,県名!$B$1:$C$49,2,FALSE)","v":"愛  知"}]
[null,"至学館大学",271,"藤垣　諒","ﾌｼﾞｶﾞｷ ﾘｮｳ","M1","愛知県",{"$f":"VLOOKUP($G272,県名!$B$1:$C$49,2,FALSE)","v":"愛  知"}]
[null,"至学館大学",272,"池田　悠城","ｲｹﾀﾞ ﾕｳｷ",4,"愛知県",{"$f":"VLOOKUP($G273,県名!$B$1:$C$49,2,FALSE)","v":"愛  知"}]
[null,"至学館大学",273,"石川　憲幸","ｲｼｶﾜ ﾉﾘﾕｷ",4,"愛知県",{"$f":"VLOOKUP($G274,県名!$B$1:$C$49,2,FALSE)","v":"愛  知"}]
[null,"至学館大学",274,"岩野　祐希","ｲﾜﾉ ﾕｳｷ",4,"愛知県",{"$f":"VLOOKUP($G275,県名!$B$1:$C$49,2,FALSE)","v":"愛  知"}]
[null,"至学館大学",275,"及川　優輝","ｵｲｶﾜ ﾕｳｷ",4,"愛知県",{"$f":"VLOOKUP($G276,県名!$B$1:$C$49,2,FALSE)","v":"愛  知"}]
[null,"至学館大学",276,"纐纈　健太郎","ｺｳｹﾂ ｹﾝﾀﾛｳ",4,"岐阜県",{"$f":"VLOOKUP($G277,県名!$B$1:$C$49,2,FALSE)","v":"岐  阜"}]
[null,"至学館大学",277,"是永　達哉","ｺﾚﾅｶﾞ ﾀﾂﾔ",4,"愛知県",{"$f":"VLOOKUP($G278,県名!$B$1:$C$49,2,FALSE)","v":"愛  知"}]
[null,"至学館大学",278,"近藤　将崇","ｺﾝﾄﾞｳ ﾏｻﾀｶ",4,"岐阜県",{"$f":"VLOOKUP($G279,県名!$B$1:$C$49,2,FALSE)","v":"岐  阜"}]
[null,"至学館大学",279,"立川　裕太","ﾀﾁｶﾜ ﾕｳﾀ",4,"岐阜県",{"$f":"VLOOKUP($G280,県名!$B$1:$C$49,2,FALSE)","v":"岐  阜"}]
[null,"至学館大学",280,"立山　雄大","ﾀﾃﾔﾏ ﾕｳﾀ",4,"愛知県",{"$f":"VLOOKUP($G281,県名!$B$1:$C$49,2,FALSE)","v":"愛  知"}]
[null,"至学館大学",281,"辻尾　直史","ﾂｼﾞｵ ﾅｵﾌﾐ",4,"福井県",{"$f":"VLOOKUP($G282,県名!$B$1:$C$49,2,FALSE)","v":"福　井"}]
[null,"至学館大学",282,"恒川　翔","ﾂﾈｶﾜ ｼｮｳ",4,"愛知県",{"$f":"VLOOKUP($G283,県名!$B$1:$C$49,2,FALSE)","v":"愛  知"}]
[null,"至学館大学",283,"土岐　優太","ﾄｷ ﾕｳﾀ",4,"愛知県",{"$f":"VLOOKUP($G284,県名!$B$1:$C$49,2,FALSE)","v":"愛  知"}]
[null,"至学館大学",284,"中村　郁羽","ﾅｶﾑﾗ ｲｸﾊﾞ",4,"三重県",{"$f":"VLOOKUP($G285,県名!$B$1:$C$49,2,FALSE)","v":"三  重"}]
[null,"至学館大学",285,"比嘉　大悟","ﾋｶﾞ ﾀﾞｲｺﾞ",4,"沖縄県",{"$f":"VLOOKUP($G286,県名!$B$1:$C$49,2,FALSE)","v":"沖　縄"}]
[null,"至学館大学",286,"山本　将平","ﾔﾏﾓﾄ ｼｮｳﾍｲ",4,"愛知県",{"$f":"VLOOKUP($G287,県名!$B$1:$C$49,2,FALSE)","v":"愛  知"}]
[null,"至学館大学",287,"山﨑　優太","ﾔﾏｻﾞｷ ﾕｳﾀ",4,"愛知県",{"$f":"VLOOKUP($G288,県名!$B$1:$C$49,2,FALSE)","v":"愛  知"}]
[null,"至学館大学",288,"赤坂　裕二郎","ｱｶｻｶ ﾕｳｼﾞﾛｳ",3,"愛知県",{"$f":"VLOOKUP($G289,県名!$B$1:$C$49,2,FALSE)","v":"愛  知"}]
[null,"至学館大学",289,"伊藤　海月","ｲﾄｳ ﾐﾂﾞｷ",3,"静岡県",{"$f":"VLOOKUP($G290,県名!$B$1:$C$49,2,FALSE)","v":"静  岡"}]
[null,"至学館大学",290,"柏木　光彦","ｶｼﾜｷﾞ ﾐﾂﾋｺ",3,"岐阜県",{"$f":"VLOOKUP($G291,県名!$B$1:$C$49,2,FALSE)","v":"岐  阜"}]
[null,"至学館大学",291,"河合　宏哉","ｶﾜｲ ﾋﾛﾔ",3,"愛知県",{"$f":"VLOOKUP($G292,県名!$B$1:$C$49,2,FALSE)","v":"愛  知"}]
[null,"至学館大学",292,"熊澤　一誠","ｸﾏｻﾞﾜ ｲｯｾｲ",3,"山形県",{"$f":"VLOOKUP($G293,県名!$B$1:$C$49,2,FALSE)","v":"山　形"}]
[null,"至学館大学",293,"黒田　玲央","ｸﾛﾀﾞ ﾚｵ",3,"愛知県",{"$f":"VLOOKUP($G294,県名!$B$1:$C$49,2,FALSE)","v":"愛  知"}]
[null,"至学館大学",294,"鈴木　航樹","ｽｽﾞｷ ｺｳｷ",3,"愛知県",{"$f":"VLOOKUP($G295,県名!$B$1:$C$49,2,FALSE)","v":"愛  知"}]
[null,"至学館大学",295,"鈴木　雅貴","ｽｽﾞｷ ﾏｻｷ",3,"愛知県",{"$f":"VLOOKUP($G296,県名!$B$1:$C$49,2,FALSE)","v":"愛  知"}]
[null,"至学館大学",296,"長濱　朋哉","ﾅｶﾞﾊﾏ ﾄﾓﾔ",3,"愛知県",{"$f":"VLOOKUP($G297,県名!$B$1:$C$49,2,FALSE)","v":"愛  知"}]
[null,"至学館大学",297,"永見　崚一郎","ﾅｶﾞﾐ ﾘｮｳｲﾁﾛｳ",3,"愛知県",{"$f":"VLOOKUP($G298,県名!$B$1:$C$49,2,FALSE)","v":"愛  知"}]
[null,"至学館大学",298,"中村　圭志","ﾅｶﾑﾗ ｹｲｼ",3,"愛知県",{"$f":"VLOOKUP($G299,県名!$B$1:$C$49,2,FALSE)","v":"愛  知"}]
[null,"至学館大学",299,"西村　望","ﾆｼﾑﾗ ﾉｿﾞﾐ",3,"愛知県",{"$f":"VLOOKUP($G300,県名!$B$1:$C$49,2,FALSE)","v":"愛  知"}]
[null,"至学館大学",300,"東　直輝","ﾋｶﾞｼ ﾅｵｷ",3,"三重県",{"$f":"VLOOKUP($G301,県名!$B$1:$C$49,2,FALSE)","v":"三  重"}]
[null,"至学館大学",301,"日比　友耶","ﾋﾋﾞ ﾄﾓﾔ",3,"岐阜県",{"$f":"VLOOKUP($G302,県名!$B$1:$C$49,2,FALSE)","v":"岐  阜"}]
[null,"至学館大学",302,"山川　嵐","ﾔﾏｶﾜ ｱﾗｼ",3,"三重県",{"$f":"VLOOKUP($G303,県名!$B$1:$C$49,2,FALSE)","v":"三  重"}]
[null,"至学館大学",303,"和田　卓也","ﾜﾀﾞ ﾀｸﾔ",3,"三重県",{"$f":"VLOOKUP($G304,県名!$B$1:$C$49,2,FALSE)","v":"三  重"}]
[null,"至学館大学",304,"石黒　堅大","ｲｼｸﾞﾛ ｹﾝﾀ",2,"愛知県",{"$f":"VLOOKUP($G305,県名!$B$1:$C$49,2,FALSE)","v":"愛  知"}]
[null,"至学館大学",305,"石田　瑞樹","ｲｼﾀﾞ ﾐｽﾞｷ",2,"愛知県",{"$f":"VLOOKUP($G306,県名!$B$1:$C$49,2,FALSE)","v":"愛  知"}]
[null,"至学館大学",306,"伊藤　弘大","ｲﾄｳ ｺｳﾀ",2,"愛知県",{"$f":"VLOOKUP($G307,県名!$B$1:$C$49,2,FALSE)","v":"愛  知"}]
[null,"至学館大学",307,"稲生　裕文","ｲﾉｳ ﾋﾛﾌﾐ",2,"愛知県",{"$f":"VLOOKUP($G308,県名!$B$1:$C$49,2,FALSE)","v":"愛  知"}]
[null,"至学館大学",308,"梅田　孝哉","ｳﾒﾀﾞ ﾀｶﾔ",2,"岐阜県",{"$f":"VLOOKUP($G309,県名!$B$1:$C$49,2,FALSE)","v":"岐  阜"}]
[null,"至学館大学",309,"江藤　慎改","ｴﾄｳ ｼﾝｶｲ",2,"愛知県",{"$f":"VLOOKUP($G310,県名!$B$1:$C$49,2,FALSE)","v":"愛  知"}]
[null,"至学館大学",310,"榎本　智哉","ｴﾉﾓﾄ ﾄﾓﾔ",2,"愛知県",{"$f":"VLOOKUP($G311,県名!$B$1:$C$49,2,FALSE)","v":"愛  知"}]
[null,"至学館大学",311,"太田　黎生","ｵｵﾀ ﾚｵ",2,"愛知県",{"$f":"VLOOKUP($G312,県名!$B$1:$C$49,2,FALSE)","v":"愛  知"}]
[null,"至学館大学",312,"大参　祐輝","ｵｵﾐ ﾕｳｷ",2,"愛知県",{"$f":"VLOOKUP($G313,県名!$B$1:$C$49,2,FALSE)","v":"愛  知"}]
[null,"至学館大学",313,"尾関　拓実","ｵｾﾞｷ ﾀｸﾐ",2,"岐阜県",{"$f":"VLOOKUP($G314,県名!$B$1:$C$49,2,FALSE)","v":"岐  阜"}]
[null,"至学館大学",314,"可児　泰新","ｶﾆ ﾀｲｼﾝ",2,"岐阜県",{"$f":"VLOOKUP($G315,県名!$B$1:$C$49,2,FALSE)","v":"岐  阜"}]
[null,"至学館大学",315,"椛澤　俊哉","ｶﾊﾞｻﾜ ﾄｼﾔ",2,"岐阜県",{"$f":"VLOOKUP($G316,県名!$B$1:$C$49,2,FALSE)","v":"岐  阜"}]
[null,"至学館大学",316,"川島　颯太","ｶﾜｼﾏ ｿｳﾀ",2,"愛知県",{"$f":"VLOOKUP($G317,県名!$B$1:$C$49,2,FALSE)","v":"愛  知"}]
[null,"至学館大学",317,"劒物　太一","ｹﾝﾓﾂ ﾀｲﾁ",2,"兵庫県",{"$f":"VLOOKUP($G318,県名!$B$1:$C$49,2,FALSE)","v":"兵　庫"}]
[null,"至学館大学",318,"光崎　剛史","ｺｳｻﾞｷ ﾀｹｼ",2,"愛知県",{"$f":"VLOOKUP($G319,県名!$B$1:$C$49,2,FALSE)","v":"愛  知"}]
[null,"至学館大学",319,"近藤　大嗣","ｺﾝﾄﾞｳ ﾋﾛﾂｸﾞ",2,"愛知県",{"$f":"VLOOKUP($G320,県名!$B$1:$C$49,2,FALSE)","v":"愛  知"}]
[null,"至学館大学",320,"榊間　隆晃","ｻｶｷﾏ ﾀｶｱｷ",2,"愛知県",{"$f":"VLOOKUP($G321,県名!$B$1:$C$49,2,FALSE)","v":"愛  知"}]
[null,"至学館大学",321,"佐野　斗和","ｻﾉ ﾄﾜ",2,"愛知県",{"$f":"VLOOKUP($G322,県名!$B$1:$C$49,2,FALSE)","v":"愛  知"}]
[null,"至学館大学",322,"杉本　康拓","ｽｷﾞﾓﾄ ﾔｽﾋﾛ",2,"愛知県",{"$f":"VLOOKUP($G323,県名!$B$1:$C$49,2,FALSE)","v":"愛  知"}]
[null,"至学館大学",323,"鈴木　良太","ｽｽﾞｷ ﾘｮｳﾀ",2,"愛知県",{"$f":"VLOOKUP($G324,県名!$B$1:$C$49,2,FALSE)","v":"愛  知"}]
[null,"至学館大学",324,"辻村　駿介","ﾂｼﾞﾑﾗ ｼｭﾝｽｹ",2,"愛知県",{"$f":"VLOOKUP($G325,県名!$B$1:$C$49,2,FALSE)","v":"愛  知"}]
[null,"至学館大学",325,"時光　修平","ﾄｷﾐﾂ ｼｭｳﾍｲ",2,"高知県",{"$f":"VLOOKUP($G326,県名!$B$1:$C$49,2,FALSE)","v":"高　知"}]
[null,"至学館大学",326,"中川　基史","ﾅｶｶﾞﾜ ﾓﾄｼ",2,"愛知県",{"$f":"VLOOKUP($G327,県名!$B$1:$C$49,2,FALSE)","v":"愛  知"}]
[null,"至学館大学",327,"中澤　悠哉","ﾅｶｻﾞﾜ ﾕｳﾔ",2,"愛知県",{"$f":"VLOOKUP($G328,県名!$B$1:$C$49,2,FALSE)","v":"愛  知"}]
[null,"至学館大学",328,"中島　大我","ﾅｶｼﾏ ﾀｲｶﾞ",2,"愛知県",{"$f":"VLOOKUP($G329,県名!$B$1:$C$49,2,FALSE)","v":"愛  知"}]
[null,"至学館大学",329,"舟橋　透志","ﾌﾅﾊｼ ﾄｳｼ",2,"愛知県",{"$f":"VLOOKUP($G330,県名!$B$1:$C$49,2,FALSE)","v":"愛  知"}]
[null,"至学館大学",330,"向田　椋哉","ﾑｶｲﾀﾞ ﾘｮｳﾔ",2,"広島県",{"$f":"VLOOKUP($G331,県名!$B$1:$C$49,2,FALSE)","v":"広　島"}]
[null,"至学館大学",331,"村瀬　巧夕","ﾑﾗｾ ｺｳﾕｳ",2,"愛知県",{"$f":"VLOOKUP($G332,県名!$B$1:$C$49,2,FALSE)","v":"愛  知"}]
[null,"至学館大学",332,"森澤　航","ﾓﾘｻﾞﾜ ｺｳ",2,"愛知県",{"$f":"VLOOKUP($G333,県名!$B$1:$C$49,2,FALSE)","v":"愛  知"}]
[null,"至学館大学",333,"山﨑　和生","ﾔﾏｻｷ ｶｽﾞｷ",2,"高知県",{"$f":"VLOOKUP($G334,県名!$B$1:$C$49,2,FALSE)","v":"高　知"}]
[null,"至学館大学",334,"山﨑　拓武","ﾔﾏｻﾞｷ ﾋﾛﾑ",2,"静岡県",{"$f":"VLOOKUP($G335,県名!$B$1:$C$49,2,FALSE)","v":"静  岡"}]
[null,"至学館大学",335,"依田　祥吾","ﾖﾀﾞ ｼｮｳｺﾞ",2,"広島県",{"$f":"VLOOKUP($G336,県名!$B$1:$C$49,2,FALSE)","v":"広　島"}]
[null,"至学館大学",336,"渡邉　稔元","ﾜﾀﾅﾍﾞ ﾄｼﾊﾙ",2,"愛知県",{"$f":"VLOOKUP($G337,県名!$B$1:$C$49,2,FALSE)","v":"愛  知"}]
[null,"至学館大学",337,"菅谷　弥史","ｽｶﾞﾔ ﾋﾛｼ",1,"愛知県",{"$f":"VLOOKUP($G338,県名!$B$1:$C$49,2,FALSE)","v":"愛  知"}]
[null,"至学館大学",338,"津田　大輝","ﾂﾀﾞ ﾀﾞｲｷ",1,"愛知県",{"$f":"VLOOKUP($G339,県名!$B$1:$C$49,2,FALSE)","v":"愛  知"}]
[null,"至学館大学",339,"野田　晴樹","ﾉﾀﾞ ﾊﾙｷ",1,"愛知県",{"$f":"VLOOKUP($G340,県名!$B$1:$C$49,2,FALSE)","v":"愛  知"}]
[null,"至学館大学",340,"増田　神斗","ﾏｽﾀﾞ ｼﾞﾝﾄ",1,"静岡県",{"$f":"VLOOKUP($G341,県名!$B$1:$C$49,2,FALSE)","v":"静  岡"}]
[null,"静岡県立大学",341,"安部　友涼","ｱﾍﾞ ﾕｳｽｹ",5,"静岡県",{"$f":"VLOOKUP($G342,県名!$B$1:$C$49,2,FALSE)","v":"静  岡"}]
[null,"静岡県立大学",342,"中村　文哉","ﾅｶﾑﾗ ﾌﾐﾔ",2,"静岡県",{"$f":"VLOOKUP($G343,県名!$B$1:$C$49,2,FALSE)","v":"静  岡"}]
[null,"静岡県立大学",343,"林　泉樹","ﾊﾔｼ ﾐｽﾞｷ",2,"静岡県",{"$f":"VLOOKUP($G344,県名!$B$1:$C$49,2,FALSE)","v":"静  岡"}]
[null,"静岡県立大学",344,"宮武　誉","ﾐﾔﾀｹ ﾀｶ",2,"静岡県",{"$f":"VLOOKUP($G345,県名!$B$1:$C$49,2,FALSE)","v":"静  岡"}]
[null,"静岡県立大学",345,"桝田　和哉","ﾏｽﾀﾞ ｶｽﾞﾔ",2,"静岡県",{"$f":"VLOOKUP($G346,県名!$B$1:$C$49,2,FALSE)","v":"静  岡"}]
[null,"静岡県立大学",346,"村松　諒哉","ﾑﾗﾏﾂ ﾘｮｳﾔ",2,"静岡県",{"$f":"VLOOKUP($G347,県名!$B$1:$C$49,2,FALSE)","v":"静  岡"}]
[null,"静岡産業大学",347,"伊藤　俊輝","ｲﾄｳ ﾄｼｷ",2,"静岡県",{"$f":"VLOOKUP($G348,県名!$B$1:$C$49,2,FALSE)","v":"静  岡"}]
[null,"静岡産業大学",348,"土屋　大輝","ﾂﾁﾔ ﾀﾞｲｷ",4,"静岡県",{"$f":"VLOOKUP($G349,県名!$B$1:$C$49,2,FALSE)","v":"静  岡"}]
[null,"静岡産業大学",349,"山下　隼人","ﾔﾏｼﾀ ﾊﾔﾄ",4,"静岡県",{"$f":"VLOOKUP($G350,県名!$B$1:$C$49,2,FALSE)","v":"静  岡"}]
[null,"静岡産業大学",350,"松田　裕太","ﾏﾂﾀﾞ ﾕｳﾀ",4,"静岡県",{"$f":"VLOOKUP($G351,県名!$B$1:$C$49,2,FALSE)","v":"静  岡"}]
[null,"静岡産業大学",351,"金子　瑛穂","ｶﾈｺ ｱｷﾎ",4,"静岡県",{"$f":"VLOOKUP($G352,県名!$B$1:$C$49,2,FALSE)","v":"静  岡"}]
[null,"静岡産業大学",352,"安池　和希","ﾔｽｲｹ ｶｽﾞｷ",4,"静岡県",{"$f":"VLOOKUP($G353,県名!$B$1:$C$49,2,FALSE)","v":"静  岡"}]
[null,"静岡産業大学",353,"中井　慧悟","ﾅｶｲ ｹｲｺﾞ",2,"静岡県",{"$f":"VLOOKUP($G354,県名!$B$1:$C$49,2,FALSE)","v":"静  岡"}]
[null,"静岡産業大学",354,"幸塚　一晃","ｺｳﾂﾞｶ ｶｽﾞｱｷ",2,"静岡県",{"$f":"VLOOKUP($G355,県名!$B$1:$C$49,2,FALSE)","v":"静  岡"}]
[null,"静岡産業大学",355,"小松　勁太","ｺﾏﾂ ｹｲﾀ",2,"静岡県",{"$f":"VLOOKUP($G356,県名!$B$1:$C$49,2,FALSE)","v":"静  岡"}]
[null,"静岡大学",356,"栗田　航希","ｸﾘﾀ ｺｳｷ",2,"静岡県",{"$f":"VLOOKUP($G357,県名!$B$1:$C$49,2,FALSE)","v":"静  岡"}]
[null,"静岡大学",357,"迫　尚登","ｻｺ ﾅｵﾄ",2,"静岡県",{"$f":"VLOOKUP($G358,県名!$B$1:$C$49,2,FALSE)","v":"静  岡"}]
[null,"静岡大学",358,"功刀　啓太郎","ｸﾇｷﾞ ｹｲﾀﾛｳ",2,"静岡県",{"$f":"VLOOKUP($G359,県名!$B$1:$C$49,2,FALSE)","v":"静  岡"}]
[null,"静岡大学",359,"長屋　暁大","ﾅｶﾞﾔ ｱｷﾋﾛ",2,"静岡県",{"$f":"VLOOKUP($G360,県名!$B$1:$C$49,2,FALSE)","v":"静  岡"}]
[null,"静岡大学",360,"吉川　千尋","ﾖｼｶﾜ ﾁﾋﾛ",2,"静岡県",{"$f":"VLOOKUP($G361,県名!$B$1:$C$49,2,FALSE)","v":"静  岡"}]
[null,"静岡大学",361,"菊池　昌太郎","ｷｸﾁ ｼｮｳﾀﾛｳ",2,"静岡県",{"$f":"VLOOKUP($G362,県名!$B$1:$C$49,2,FALSE)","v":"静  岡"}]
[null,"静岡大学",362,"千野　雅人","ﾁﾉ ﾏｻﾄ",2,"静岡県",{"$f":"VLOOKUP($G363,県名!$B$1:$C$49,2,FALSE)","v":"静  岡"}]
[null,"静岡大学",363,"平野　和弥","ﾋﾗﾉ ｶｽﾞﾔ",2,"静岡県",{"$f":"VLOOKUP($G364,県名!$B$1:$C$49,2,FALSE)","v":"静  岡"}]
[null,"静岡大学",364,"村松　祐志","ﾑﾗﾏﾂ ﾕｳｼ",2,"静岡県",{"$f":"VLOOKUP($G365,県名!$B$1:$C$49,2,FALSE)","v":"静  岡"}]
[null,"静岡大学",365,"鈴木　麻央","ｽｽﾞｷ ﾏｵ",2,"静岡県",{"$f":"VLOOKUP($G366,県名!$B$1:$C$49,2,FALSE)","v":"静  岡"}]
[null,"静岡大学",366,"和田　友祐","ﾜﾀﾞ ﾕｳｽｹ",3,"静岡県",{"$f":"VLOOKUP($G367,県名!$B$1:$C$49,2,FALSE)","v":"静  岡"}]
[null,"静岡大学",367,"桜木　隆伍","ｻｸﾗｷﾞ ﾘｭｳｺﾞ",3,"静岡県",{"$f":"VLOOKUP($G368,県名!$B$1:$C$49,2,FALSE)","v":"静  岡"}]
[null,"静岡大学",368,"村田　貴紀","ﾑﾗﾀ ﾀｶﾉﾘ",3,"静岡県",{"$f":"VLOOKUP($G369,県名!$B$1:$C$49,2,FALSE)","v":"静  岡"}]
[null,"静岡大学",369,"朝日　喜紀","ｱｻﾋ ﾖｼｷ",3,"静岡県",{"$f":"VLOOKUP($G370,県名!$B$1:$C$49,2,FALSE)","v":"静  岡"}]
[null,"静岡大学",370,"鈴木　拓朗","ｽｽﾞｷ ﾀｸﾛｳ",3,"静岡県",{"$f":"VLOOKUP($G371,県名!$B$1:$C$49,2,FALSE)","v":"静  岡"}]
[null,"静岡大学",371,"平山　悠太","ﾋﾗﾔﾏ ﾕｳﾀ",3,"静岡県",{"$f":"VLOOKUP($G372,県名!$B$1:$C$49,2,FALSE)","v":"静  岡"}]
[null,"静岡大学",372,"大前　貴裕","ｵｵﾏｴ ﾀｶﾋﾛ",3,"静岡県",{"$f":"VLOOKUP($G373,県名!$B$1:$C$49,2,FALSE)","v":"静  岡"}]
[null,"静岡大学",373,"中山　峻弥","ﾅｶﾔﾏ ｼｭﾝﾔ",3,"静岡県",{"$f":"VLOOKUP($G374,県名!$B$1:$C$49,2,FALSE)","v":"静  岡"}]
[null,"静岡大学",374,"増田　大河","ﾏｽﾀﾞ ﾀｲｶﾞ",3,"静岡県",{"$f":"VLOOKUP($G375,県名!$B$1:$C$49,2,FALSE)","v":"静  岡"}]
[null,"静岡大学",375,"安田　壮太","ﾔｽﾀﾞ ｿｳﾀ",3,"静岡県",{"$f":"VLOOKUP($G376,県名!$B$1:$C$49,2,FALSE)","v":"静  岡"}]
[null,"静岡大学",376,"鈴木　崇真","ｽｽﾞｷ ｿｳﾏ",3,"静岡県",{"$f":"VLOOKUP($G377,県名!$B$1:$C$49,2,FALSE)","v":"静  岡"}]
[null,"静岡大学",377,"金井　瑛志","ｶﾅｲ ｴｲｼ",3,"静岡県",{"$f":"VLOOKUP($G378,県名!$B$1:$C$49,2,FALSE)","v":"静  岡"}]
[null,"静岡大学",378,"渡邊　直希","ﾜﾀﾅﾍﾞ ﾅｵｷ",3,"静岡県",{"$f":"VLOOKUP($G379,県名!$B$1:$C$49,2,FALSE)","v":"静  岡"}]
[null,"静岡大学",379,"安藤　駿汰","ｱﾝﾄﾞｳ ｼｭﾝﾀ",3,"静岡県",{"$f":"VLOOKUP($G380,県名!$B$1:$C$49,2,FALSE)","v":"静  岡"}]
[null,"静岡大学",380,"嶋崎　利紀","ｼﾏｻﾞｷ ﾄｼﾉﾘ",3,"静岡県",{"$f":"VLOOKUP($G381,県名!$B$1:$C$49,2,FALSE)","v":"静  岡"}]
[null,"静岡大学",381,"上野　想","ｳｴﾉ ｿｳ",4,"静岡県",{"$f":"VLOOKUP($G382,県名!$B$1:$C$49,2,FALSE)","v":"静  岡"}]
[null,"静岡大学",382,"織原　海人","ｵﾘﾊﾗ ｶｲﾄ",4,"静岡県",{"$f":"VLOOKUP($G383,県名!$B$1:$C$49,2,FALSE)","v":"静  岡"}]
[null,"静岡大学",383,"立木　晶","ﾂｲｷ ｱｷﾗ",4,"静岡県",{"$f":"VLOOKUP($G384,県名!$B$1:$C$49,2,FALSE)","v":"静  岡"}]
[null,"静岡大学",384,"後藤　慎治","ｺﾞﾄｳ ｼﾝｼﾞ",4,"静岡県",{"$f":"VLOOKUP($G385,県名!$B$1:$C$49,2,FALSE)","v":"静  岡"}]
[null,"静岡大学",385,"野上　直人","ﾉｶﾞﾐ ﾅｵﾄ",4,"静岡県",{"$f":"VLOOKUP($G386,県名!$B$1:$C$49,2,FALSE)","v":"静  岡"}]
[null,"静岡大学",386,"山川　惇生","ﾔﾏｶﾜ ｱﾂｷ",4,"静岡県",{"$f":"VLOOKUP($G387,県名!$B$1:$C$49,2,FALSE)","v":"静  岡"}]
[null,"静岡大学",387,"橋本　瞭","ﾊｼﾓﾄ ﾘｮｳ",4,"静岡県",{"$f":"VLOOKUP($G388,県名!$B$1:$C$49,2,FALSE)","v":"静  岡"}]
[null,"静岡大学",388,"金子　雅也","ｶﾈｺ ﾏｻﾔ","M1","静岡県",{"$f":"VLOOKUP($G389,県名!$B$1:$C$49,2,FALSE)","v":"静  岡"}]
[null,"静岡大学",389,"露口　陽平","ﾂﾕｸﾞﾁ ﾖｳﾍｲ","M1","静岡県",{"$f":"VLOOKUP($G390,県名!$B$1:$C$49,2,FALSE)","v":"静  岡"}]
[null,"静岡大学",390,"原　秀輔","ﾊﾗ ｼｭｳｽｹ","M1","静岡県",{"$f":"VLOOKUP($G391,県名!$B$1:$C$49,2,FALSE)","v":"静  岡"}]
[null,"静岡大学",391,"中嶋　陸","ﾅｶｼﾞﾏ ﾘｸ","M1","静岡県",{"$f":"VLOOKUP($G392,県名!$B$1:$C$49,2,FALSE)","v":"静  岡"}]
[null,"静岡大学",392,"坂﨑　功太郎","ｻｶｻﾞｷ ｺｳﾀﾛｳ","M1","静岡県",{"$f":"VLOOKUP($G393,県名!$B$1:$C$49,2,FALSE)","v":"静  岡"}]
[null,"静岡大学",393,"割田　圭祐","ﾜﾘﾀ ｹｲｽｹ","M1","静岡県",{"$f":"VLOOKUP($G394,県名!$B$1:$C$49,2,FALSE)","v":"静  岡"}]
[null,"静岡大学",394,"田畑　論太郎","ﾀﾊﾞﾀ ﾛﾝﾀﾛｳ",2,"静岡県",{"$f":"VLOOKUP($G395,県名!$B$1:$C$49,2,FALSE)","v":"静  岡"}]
[null,"静岡大学",395,"杉山　喜紀","ｽｷﾞﾔﾏ ﾖｼｷ",2,"静岡県",{"$f":"VLOOKUP($G396,県名!$B$1:$C$49,2,FALSE)","v":"静  岡"}]
[null,"静岡大学",396,"茂木　篤","ﾓｷﾞ ｱﾂｼ",4,"静岡県",{"$f":"VLOOKUP($G397,県名!$B$1:$C$49,2,FALSE)","v":"静  岡"}]
[null,"大同大学",397,"橋本　隆一","ﾊｼﾓﾄ ﾘｭｳｲﾁ",3,"愛知県",{"$f":"VLOOKUP($G398,県名!$B$1:$C$49,2,FALSE)","v":"愛  知"}]
[null,"大同大学",398,"吉川　輝宜","ﾖｼｶﾜ ｱｷﾉﾘ",2,"愛知県",{"$f":"VLOOKUP($G399,県名!$B$1:$C$49,2,FALSE)","v":"愛  知"}]
[null,"大同大学",399,"都築　卓馬","ﾂﾂﾞｷ ﾀｸﾏ",2,"愛知県",{"$f":"VLOOKUP($G400,県名!$B$1:$C$49,2,FALSE)","v":"愛  知"}]
[null,"大同大学",400,"小林　雅輝","ｺﾊﾞﾔｼ ﾏｻｷ",2,"愛知県",{"$f":"VLOOKUP($G401,県名!$B$1:$C$49,2,FALSE)","v":"愛  知"}]
[null,"大同大学",401,"松岡　良一","ﾏﾂｵｶ ﾘｮｳｲﾁ",2,"愛知県",{"$f":"VLOOKUP($G402,県名!$B$1:$C$49,2,FALSE)","v":"愛  知"}]
[null,"大同大学",402,"石井　勇介","ｲｼｲ ﾕｳｽｹ",2,"愛知県",{"$f":"VLOOKUP($G403,県名!$B$1:$C$49,2,FALSE)","v":"愛  知"}]
[null,"大同大学",403,"鈴木　賢太","ｽｽﾞｷ ｹﾝﾀ",4,"愛知県",{"$f":"VLOOKUP($G404,県名!$B$1:$C$49,2,FALSE)","v":"愛  知"}]
[null,"大同大学",404,"鈴木　翔吾","ｽｽﾞｷ ｼｮｳｺﾞ",4,"愛知県",{"$f":"VLOOKUP($G405,県名!$B$1:$C$49,2,FALSE)","v":"愛  知"}]
[null,"大同大学",405,"黒川　洋人","ｸﾛｶﾜ ﾋﾛﾄ",4,"愛知県",{"$f":"VLOOKUP($G406,県名!$B$1:$C$49,2,FALSE)","v":"愛  知"}]
[null,"中京大学",406,"六鹿　蓮","ﾑｼｶ ﾚﾝ",3,"愛知県",{"$f":"VLOOKUP($G407,県名!$B$1:$C$49,2,FALSE)","v":"愛  知"}]
[null,"中京大学",407,"宇野　智希","ｳﾉ ﾄﾓｷ",2,"愛知県",{"$f":"VLOOKUP($G408,県名!$B$1:$C$49,2,FALSE)","v":"愛  知"}]
[null,"中京大学",408,"山本　健太","ﾔﾏﾓﾄ ｹﾝﾀ","M1","愛知県",{"$f":"VLOOKUP($G409,県名!$B$1:$C$49,2,FALSE)","v":"愛  知"}]
[null,"中京大学",409,"横地　秀春","ﾖｺﾁ ﾋﾃﾞﾊﾙ","M1","愛知県",{"$f":"VLOOKUP($G410,県名!$B$1:$C$49,2,FALSE)","v":"愛  知"}]
[null,"中京大学",410,"池田　樹生","ｲｹﾀﾞ ﾐｷｵ",4,"愛知県",{"$f":"VLOOKUP($G411,県名!$B$1:$C$49,2,FALSE)","v":"愛  知"}]
[null,"中京大学",411,"内村　颯太","ｳﾁﾑﾗ ｿｳﾀ",4,"宮崎県",{"$f":"VLOOKUP($G412,県名!$B$1:$C$49,2,FALSE)","v":"宮　崎"}]
[null,"中京大学",412,"浦井　崚自","ｳﾗｲ ﾘｮｳｼﾞ",4,"三重県",{"$f":"VLOOKUP($G413,県名!$B$1:$C$49,2,FALSE)","v":"三  重"}]
[null,"中京大学",413,"遠藤　侑汰","ｴﾝﾄﾞｳ ﾕｳﾀ",4,"愛知県",{"$f":"VLOOKUP($G414,県名!$B$1:$C$49,2,FALSE)","v":"愛  知"}]
[null,"中京大学",414,"太田　雅文","ｵｵﾀ ﾏｻﾌﾐ",4,"岡山県",{"$f":"VLOOKUP($G415,県名!$B$1:$C$49,2,FALSE)","v":"岡　山"}]
[null,"中京大学",415,"岡田　直也","ｵｶﾀﾞ ﾅｵﾔ",4,"愛知県",{"$f":"VLOOKUP($G416,県名!$B$1:$C$49,2,FALSE)","v":"愛  知"}]
[null,"中京大学",416,"岡村　幸哉","ｵｶﾑﾗ ﾕｷﾔ",4,"高知県",{"$f":"VLOOKUP($G417,県名!$B$1:$C$49,2,FALSE)","v":"高　知"}]
[null,"中京大学",417,"河野　凌太","ｶﾜﾉ ﾘｮｳﾀ",4,"宮崎県",{"$f":"VLOOKUP($G418,県名!$B$1:$C$49,2,FALSE)","v":"宮　崎"}]
[null,"中京大学",418,"木村　遼太","ｷﾑﾗ ﾘｮｳﾀ",4,"愛知県",{"$f":"VLOOKUP($G419,県名!$B$1:$C$49,2,FALSE)","v":"愛  知"}]
[null,"中京大学",419,"清遠　隆介","ｷﾖﾄｳ ﾘｭｳｽｹ",4,"高知県",{"$f":"VLOOKUP($G420,県名!$B$1:$C$49,2,FALSE)","v":"高　知"}]
[null,"中京大学",420,"倉川　鷹斗","ｸﾗｶﾜ ﾀｶﾄ",4,"富山県",{"$f":"VLOOKUP($G421,県名!$B$1:$C$49,2,FALSE)","v":"富　山"}]
[null,"中京大学",421,"黒木　省悟","ｸﾛｷﾞ ｼｮｳｺﾞ",4,"愛知県",{"$f":"VLOOKUP($G422,県名!$B$1:$C$49,2,FALSE)","v":"愛  知"}]
[null,"中京大学",422,"小泉　潤","ｺｲｽﾞﾐ ｼﾞｭﾝ",4,"静岡県",{"$f":"VLOOKUP($G423,県名!$B$1:$C$49,2,FALSE)","v":"静  岡"}]
[null,"中京大学",423,"神　高希","ｼﾞﾝ ｺｳｷ",4,"兵庫県",{"$f":"VLOOKUP($G424,県名!$B$1:$C$49,2,FALSE)","v":"兵　庫"}]
[null,"中京大学",424,"髙松　知史","ﾀｶﾏﾂ ｻﾄｼ",4,"和歌山県",{"$f":"VLOOKUP($G425,県名!$B$1:$C$49,2,FALSE)","v":"和歌山"}]
[null,"中京大学",425,"竹田　京輔","ﾀｹﾀﾞ ｹｲｽｹ",4,"静岡県",{"$f":"VLOOKUP($G426,県名!$B$1:$C$49,2,FALSE)","v":"静  岡"}]
[null,"中京大学",426,"谷口　祥太郎","ﾀﾆｸﾞﾁ ｼｮｳﾀﾛｳ",4,"石川県",{"$f":"VLOOKUP($G427,県名!$B$1:$C$49,2,FALSE)","v":"石　川"}]
[null,"中京大学",427,"寺島　航汰","ﾃﾗｼﾏ ｺｳﾀ",4,"愛知県",{"$f":"VLOOKUP($G428,県名!$B$1:$C$49,2,FALSE)","v":"愛  知"}]
[null,"中京大学",428,"水野　照太","ﾐｽﾞﾉ ｼｮｳﾀ",4,"愛知県",{"$f":"VLOOKUP($G429,県名!$B$1:$C$49,2,FALSE)","v":"愛  知"}]
[null,"中京大学",429,"矢橋　寛明","ﾔﾊﾞｼ ﾋﾛｱｷ",4,"岐阜県",{"$f":"VLOOKUP($G430,県名!$B$1:$C$49,2,FALSE)","v":"岐  阜"}]
[null,"中京大学",430,"山﨑　巧巳","ﾔﾏｻｷ ﾀｸﾐ",4,"和歌山県",{"$f":"VLOOKUP($G431,県名!$B$1:$C$49,2,FALSE)","v":"和歌山"}]
[null,"中京大学",431,"米村　竜星","ﾖﾈﾑﾗ ﾘｭｳｾｲ",4,"熊本県",{"$f":"VLOOKUP($G432,県名!$B$1:$C$49,2,FALSE)","v":"熊　本"}]
[null,"中京大学",432,"渡邊　麻仁","ﾜﾀﾅﾍﾞ ｱｻﾄ",4,"愛知県",{"$f":"VLOOKUP($G433,県名!$B$1:$C$49,2,FALSE)","v":"愛  知"}]
[null,"中京大学",433,"海沼　和孝","ｶｲﾇﾏ ｶｽﾞﾀｶ",4,"新潟県",{"$f":"VLOOKUP($G434,県名!$B$1:$C$49,2,FALSE)","v":"新　潟"}]
[null,"中京大学",434,"曾我　篤暉","ｿｶﾞ ｼｹﾞｷ",4,"静岡県",{"$f":"VLOOKUP($G435,県名!$B$1:$C$49,2,FALSE)","v":"静  岡"}]
[null,"中京大学",435,"福澤　弘樹","ﾌｸｻﾞﾜ ﾋﾛｷ",4,"長野県",{"$f":"VLOOKUP($G436,県名!$B$1:$C$49,2,FALSE)","v":"長  野"}]
[null,"中京大学",436,"榎　将太","ｴﾉｷ ｼｮｳﾀ","D1","愛知県",{"$f":"VLOOKUP($G437,県名!$B$1:$C$49,2,FALSE)","v":"愛  知"}]
[null,"中京大学",437,"中山　昂平","ﾅｶﾔﾏ ｺｳﾍｲ","M2","長野県",{"$f":"VLOOKUP($G438,県名!$B$1:$C$49,2,FALSE)","v":"長  野"}]
[null,"中京大学",438,"本山　遼","ﾓﾄﾔﾏ ﾘｮｳ","M2","佐賀県",{"$f":"VLOOKUP($G439,県名!$B$1:$C$49,2,FALSE)","v":"佐　賀"}]
[null,"中京大学",439,"伊藤　元貴","ｲﾄｳ ﾓﾄｷ",4,"新潟県",{"$f":"VLOOKUP($G440,県名!$B$1:$C$49,2,FALSE)","v":"新　潟"}]
[null,"中京大学",440,"蛭子屋　雄一","ｴﾋﾞｽﾔ ﾕｳｲﾁ",4,"福岡県",{"$f":"VLOOKUP($G441,県名!$B$1:$C$49,2,FALSE)","v":"福　岡"}]
[null,"中京大学",441,"織田　海斗","ｵﾘﾀ ｶｲﾄ",4,"京都府",{"$f":"VLOOKUP($G442,県名!$B$1:$C$49,2,FALSE)","v":"京　都"}]
[null,"中京大学",442,"川西　良典","ｶﾜﾆｼ ﾘｮｳｽｹ",4,"大阪府",{"$f":"VLOOKUP($G443,県名!$B$1:$C$49,2,FALSE)","v":"大　阪"}]
[null,"中京大学",443,"高橋　幸大","ﾀｶﾊｼ ｺｳﾀﾞｲ",4,"愛知県",{"$f":"VLOOKUP($G444,県名!$B$1:$C$49,2,FALSE)","v":"愛  知"}]
[null,"中京大学",444,"松橋　亮太","ﾏﾂﾊｼ ﾘｮｳﾀ",4,"青森県",{"$f":"VLOOKUP($G445,県名!$B$1:$C$49,2,FALSE)","v":"青　森"}]
[null,"中京大学",445,"水谷　來","ﾐｽﾞﾀﾆ ﾗｲ",4,"愛知県",{"$f":"VLOOKUP($G446,県名!$B$1:$C$49,2,FALSE)","v":"愛  知"}]
[null,"中京大学",446,"森山　大成","ﾓﾘﾔﾏ ﾀｲｾｲ",4,"鳥取県",{"$f":"VLOOKUP($G447,県名!$B$1:$C$49,2,FALSE)","v":"鳥　取"}]
[null,"中京大学",447,"山添　琢郎","ﾔﾏｿﾞｴ ﾀｸﾛｳ",4,"愛知県",{"$f":"VLOOKUP($G448,県名!$B$1:$C$49,2,FALSE)","v":"愛  知"}]
[null,"中京大学",448,"石山　歩","ｲｼﾔﾏ ｱﾕﾑ",4,"京都府",{"$f":"VLOOKUP($G449,県名!$B$1:$C$49,2,FALSE)","v":"京　都"}]
[null,"中京大学",449,"古旗　崇裕","ｺﾊﾞﾀ ﾀｶﾋﾛ",4,"愛知県",{"$f":"VLOOKUP($G450,県名!$B$1:$C$49,2,FALSE)","v":"愛  知"}]
[null,"中京大学",450,"杉山　裕太","ｽｷﾞﾔﾏ ﾕｳﾀ",4,"静岡県",{"$f":"VLOOKUP($G451,県名!$B$1:$C$49,2,FALSE)","v":"静  岡"}]
[null,"中京大学",451,"早川　匠海","ﾊﾔｶﾜ ﾀｸﾐ",4,"岐阜県",{"$f":"VLOOKUP($G452,県名!$B$1:$C$49,2,FALSE)","v":"岐  阜"}]
[null,"中京大学",452,"東浦　貫太","ﾋｶﾞｼｳﾗ ｶﾝﾀ",4,"三重県",{"$f":"VLOOKUP($G453,県名!$B$1:$C$49,2,FALSE)","v":"三  重"}]
[null,"中京大学",453,"藤原　俊也","ﾌｼﾞﾜﾗ ｼｭﾝﾔ",4,"愛知県",{"$f":"VLOOKUP($G454,県名!$B$1:$C$49,2,FALSE)","v":"愛  知"}]
[null,"中京大学",454,"浅岡　駿佑","ｱｻｵｶ ｼｭﾝｽｹ",4,"愛知県",{"$f":"VLOOKUP($G455,県名!$B$1:$C$49,2,FALSE)","v":"愛  知"}]
[null,"中京大学",455,"中山　滉一","ﾅｶﾔﾏ ｺｳｲﾁ",4,"神奈川県",{"$f":"VLOOKUP($G456,県名!$B$1:$C$49,2,FALSE)","v":"神奈川"}]
[null,"中京大学",456,"石松　荘樹","ｲｼﾏﾂ ｿｳｼﾞｭ",4,"三重県",{"$f":"VLOOKUP($G457,県名!$B$1:$C$49,2,FALSE)","v":"三  重"}]
[null,"中京大学",457,"天野　広大","ｱﾏﾉ ｺｳﾀﾞｲ",3,"愛知県",{"$f":"VLOOKUP($G458,県名!$B$1:$C$49,2,FALSE)","v":"愛  知"}]
[null,"中京大学",458,"五十嵐　雅記","ｲｶﾞﾗｼ ﾏｻｷ",3,"福島県",{"$f":"VLOOKUP($G459,県名!$B$1:$C$49,2,FALSE)","v":"福　島"}]
[null,"中京大学",459,"井出　拓見","ｲﾃﾞ ﾀｸﾐ",3,"愛知県",{"$f":"VLOOKUP($G460,県名!$B$1:$C$49,2,FALSE)","v":"愛  知"}]
[null,"中京大学",460,"大澤　京介","ｵｵｻﾜ ｷｮｳｽｹ",3,"愛知県",{"$f":"VLOOKUP($G461,県名!$B$1:$C$49,2,FALSE)","v":"愛  知"}]
[null,"中京大学",461,"岡本　真太朗","ｵｶﾓﾄ ｼﾝﾀﾛｳ",3,"奈良県",{"$f":"VLOOKUP($G462,県名!$B$1:$C$49,2,FALSE)","v":"奈　良"}]
[null,"中京大学",462,"川村　建勝","ｶﾜﾑﾗ ｹﾝｼｮｳ",3,"三重県",{"$f":"VLOOKUP($G463,県名!$B$1:$C$49,2,FALSE)","v":"三  重"}]
[null,"中京大学",463,"小山　拓也","ｺﾔﾏ ﾀｸﾔ",3,"愛知県",{"$f":"VLOOKUP($G464,県名!$B$1:$C$49,2,FALSE)","v":"愛  知"}]
[null,"中京大学",464,"佐藤　亘","ｻﾄｳ ﾜﾀﾙ",3,"愛知県",{"$f":"VLOOKUP($G465,県名!$B$1:$C$49,2,FALSE)","v":"愛  知"}]
[null,"中京大学",465,"祖父江　巧","ｿﾌｴ ﾀｸﾐ",3,"愛知県",{"$f":"VLOOKUP($G466,県名!$B$1:$C$49,2,FALSE)","v":"愛  知"}]
[null,"中京大学",466,"田嶋　駿太","ﾀｼﾞﾏ ｼｭﾝﾀ",3,"富山県",{"$f":"VLOOKUP($G467,県名!$B$1:$C$49,2,FALSE)","v":"富　山"}]
[null,"中京大学",467,"中嶋　一登","ﾅｶｼﾏ ｶｽﾞﾄ",3,"和歌山県",{"$f":"VLOOKUP($G468,県名!$B$1:$C$49,2,FALSE)","v":"和歌山"}]
[null,"中京大学",468,"西山　大生","ﾆｼﾔﾏ ﾀｲｾｲ",3,"静岡県",{"$f":"VLOOKUP($G469,県名!$B$1:$C$49,2,FALSE)","v":"静  岡"}]
[null,"中京大学",469,"畑野　佑太","ﾊﾀﾉ ﾕｳﾀ",3,"愛知県",{"$f":"VLOOKUP($G470,県名!$B$1:$C$49,2,FALSE)","v":"愛  知"}]
[null,"中京大学",470,"政岡　薫","ﾏｻｵｶ ｶｵﾙ",3,"愛知県",{"$f":"VLOOKUP($G471,県名!$B$1:$C$49,2,FALSE)","v":"愛  知"}]
[null,"中京大学",471,"間宮　大介","ﾏﾐﾔ ﾀﾞｲｽｹ",3,"和歌山県",{"$f":"VLOOKUP($G472,県名!$B$1:$C$49,2,FALSE)","v":"和歌山"}]
[null,"中京大学",472,"山崎　尚信","ﾔﾏｻｷ ﾋｻﾉﾌﾞ",3,"愛知県",{"$f":"VLOOKUP($G473,県名!$B$1:$C$49,2,FALSE)","v":"愛  知"}]
[null,"中京大学",473,"若杉　俊佑","ﾜｶｽｷﾞ ｼｭﾝｽｹ",3,"愛知県",{"$f":"VLOOKUP($G474,県名!$B$1:$C$49,2,FALSE)","v":"愛  知"}]
[null,"中京大学",474,"和久井　亮二","ﾜｸｲ ﾘｮｳｼﾞ",3,"新潟県",{"$f":"VLOOKUP($G475,県名!$B$1:$C$49,2,FALSE)","v":"新　潟"}]
[null,"中京大学",475,"渡邉　智哉","ﾜﾀﾅﾍﾞ ﾄﾓﾔ",3,"岡山県",{"$f":"VLOOKUP($G476,県名!$B$1:$C$49,2,FALSE)","v":"岡　山"}]
[null,"中京大学",476,"寺澤　怜央","ﾃﾗｻﾜ ﾚｵ",3,"愛知県",{"$f":"VLOOKUP($G477,県名!$B$1:$C$49,2,FALSE)","v":"愛  知"}]
[null,"中京大学",477,"戸村　将","ﾄﾑﾗ ｼｮｳ",3,"愛知県",{"$f":"VLOOKUP($G478,県名!$B$1:$C$49,2,FALSE)","v":"愛  知"}]
[null,"中京大学",478,"武藤　広樹","ﾑﾄｳ ﾋﾛｷ",3,"三重県",{"$f":"VLOOKUP($G479,県名!$B$1:$C$49,2,FALSE)","v":"三  重"}]
[null,"中京大学",479,"朝居　拓麻","ｱｻｲ ﾀｸﾏ",3,"岐阜県",{"$f":"VLOOKUP($G480,県名!$B$1:$C$49,2,FALSE)","v":"岐  阜"}]
[null,"中京大学",480,"阿曽　彩登","ｱｿ ｱﾔﾄ",3,"岡山県",{"$f":"VLOOKUP($G481,県名!$B$1:$C$49,2,FALSE)","v":"岡　山"}]
[null,"中京大学",481,"石川　拓磨","ｲｼｶﾜ ﾀｸﾏ",3,"愛知県",{"$f":"VLOOKUP($G482,県名!$B$1:$C$49,2,FALSE)","v":"愛  知"}]
[null,"中京大学",482,"井戸田　魁","ｲﾄﾞﾀ ｶｲ",3,"岐阜県",{"$f":"VLOOKUP($G483,県名!$B$1:$C$49,2,FALSE)","v":"岐  阜"}]
[null,"中京大学",483,"小木曽　光","ｺｷﾞｿ ｺｳ",3,"愛知県",{"$f":"VLOOKUP($G484,県名!$B$1:$C$49,2,FALSE)","v":"愛  知"}]
[null,"中京大学",484,"瀬古　優斗","ｾｺ ﾕｳﾄ",3,"滋賀県",{"$f":"VLOOKUP($G485,県名!$B$1:$C$49,2,FALSE)","v":"滋　賀"}]
[null,"中京大学",485,"溝上　瑠伊","ﾐｿﾞｶﾐ ﾙｲ",3,"大阪府",{"$f":"VLOOKUP($G486,県名!$B$1:$C$49,2,FALSE)","v":"大　阪"}]
[null,"中京大学",486,"浅野　克弥","ｱｻﾉ ｶﾂﾔ",3,"岐阜県",{"$f":"VLOOKUP($G487,県名!$B$1:$C$49,2,FALSE)","v":"岐  阜"}]
[null,"中京大学",487,"杉本　仁","ｽｷﾞﾓﾄ ｼﾞﾝ",3,"滋賀県",{"$f":"VLOOKUP($G488,県名!$B$1:$C$49,2,FALSE)","v":"滋　賀"}]
[null,"中京大学",488,"戸澤　廣哉","ﾄｻﾞﾜ ｺｳﾔ",3,"愛知県",{"$f":"VLOOKUP($G489,県名!$B$1:$C$49,2,FALSE)","v":"愛  知"}]
[null,"中京大学",489,"大浦　優汰","ｵｵｳﾗ ﾕｳﾀ",3,"愛知県",{"$f":"VLOOKUP($G490,県名!$B$1:$C$49,2,FALSE)","v":"愛  知"}]
[null,"中京大学",490,"荻野　龍斗","ｵｷﾞﾉ ﾘｭｳﾄ",3,"静岡県",{"$f":"VLOOKUP($G491,県名!$B$1:$C$49,2,FALSE)","v":"静  岡"}]
[null,"中京大学",491,"土屋　真宏","ﾂﾁﾔ ﾏｻﾋﾛ",3,"静岡県",{"$f":"VLOOKUP($G492,県名!$B$1:$C$49,2,FALSE)","v":"静  岡"}]
[null,"中京大学",492,"西尾　拓巳","ﾆｼｵ ﾀｸﾐ",3,"岐阜県",{"$f":"VLOOKUP($G493,県名!$B$1:$C$49,2,FALSE)","v":"岐  阜"}]
[null,"中京大学",493,"福島　龍二","ﾌｸｼﾏ ﾘｭｳｼﾞ",3,"富山県",{"$f":"VLOOKUP($G494,県名!$B$1:$C$49,2,FALSE)","v":"富　山"}]
[null,"中京大学",494,"伊藤　大輝","ｲﾄｳ ﾀﾞｲｷ",3,"愛知県",{"$f":"VLOOKUP($G495,県名!$B$1:$C$49,2,FALSE)","v":"愛  知"}]
[null,"中京大学",495,"黒川　静哉","ｸﾛｶﾜ ｼｽﾞﾔ",2,"愛知県",{"$f":"VLOOKUP($G496,県名!$B$1:$C$49,2,FALSE)","v":"愛  知"}]
[null,"中京大学",496,"清水　翔太","ｼﾐｽﾞ ｼｮｳﾀ",3,"愛知県",{"$f":"VLOOKUP($G497,県名!$B$1:$C$49,2,FALSE)","v":"愛  知"}]
[null,"中京大学",497,"森田　瑛也","ﾓﾘﾀ ｴｲﾔ",3,"岐阜県",{"$f":"VLOOKUP($G498,県名!$B$1:$C$49,2,FALSE)","v":"岐  阜"}]
[null,"中京大学",498,"渡邉　嵩貴","ﾜﾀﾅﾍﾞ ﾀｶｷ",3,"愛知県",{"$f":"VLOOKUP($G499,県名!$B$1:$C$49,2,FALSE)","v":"愛  知"}]
[null,"中京大学",499,"市橋　直也","ｲﾁﾊｼ ﾅｵﾔ",2,"愛知県",{"$f":"VLOOKUP($G500,県名!$B$1:$C$49,2,FALSE)","v":"愛  知"}]
[null,"中京大学",500,"伊藤　壮太","ｲﾄｳ ｿｳﾀ",2,"愛知県",{"$f":"VLOOKUP($G501,県名!$B$1:$C$49,2,FALSE)","v":"愛  知"}]
[null,"中京大学",501,"伊藤　泰治","ｲﾄｳ ﾔｽﾊﾙ",2,"静岡県",{"$f":"VLOOKUP($G502,県名!$B$1:$C$49,2,FALSE)","v":"静  岡"}]
[null,"中京大学",502,"井上　隼","ｲﾉｳｴ ﾊﾔ",2,"富山県",{"$f":"VLOOKUP($G503,県名!$B$1:$C$49,2,FALSE)","v":"富　山"}]
[null,"中京大学",503,"大畑　伸太郎","ｵｵﾊﾀ ｼﾝﾀﾛｳ",2,"愛知県",{"$f":"VLOOKUP($G504,県名!$B$1:$C$49,2,FALSE)","v":"愛  知"}]
[null,"中京大学",504,"川端　魁人","ｶﾜﾊﾞﾀ ｶｲﾄ",2,"三重県",{"$f":"VLOOKUP($G505,県名!$B$1:$C$49,2,FALSE)","v":"三  重"}]
[null,"中京大学",505,"久次米　悠雅","ｸｼﾞﾒ ﾕｳｶﾞ",2,"徳島県",{"$f":"VLOOKUP($G506,県名!$B$1:$C$49,2,FALSE)","v":"徳  島"}]
[null,"中京大学",506,"児玉　粹","ｺﾀﾞﾏ ｲｷ",2,"鹿児島県",{"$f":"VLOOKUP($G507,県名!$B$1:$C$49,2,FALSE)","v":"鹿児島"}]
[null,"中京大学",507,"西尾　勇佑","ﾆｼｵ ﾕｳｽｹ",2,"愛知県",{"$f":"VLOOKUP($G508,県名!$B$1:$C$49,2,FALSE)","v":"愛  知"}]
[null,"中京大学",508,"野村　勇輝","ﾉﾑﾗ ﾕｳｷ",2,"宮崎県",{"$f":"VLOOKUP($G509,県名!$B$1:$C$49,2,FALSE)","v":"宮　崎"}]
[null,"中京大学",509,"彦坂　陽平","ﾋｺｻｶ ﾖｳﾍｲ",2,"愛知県",{"$f":"VLOOKUP($G510,県名!$B$1:$C$49,2,FALSE)","v":"愛  知"}]
[null,"中京大学",510,"藤原　将司","ﾌｼﾞﾜﾗ ﾏｻｼ",2,"岡山県",{"$f":"VLOOKUP($G511,県名!$B$1:$C$49,2,FALSE)","v":"岡　山"}]
[null,"中京大学",511,"水野　駿佑","ﾐｽﾞﾉ ｼｭﾝｽｹ",2,"愛知県",{"$f":"VLOOKUP($G512,県名!$B$1:$C$49,2,FALSE)","v":"愛  知"}]
[null,"中京大学",512,"三宅　浩生","ﾐﾔｹ ﾋﾛｷ",2,"長野県",{"$f":"VLOOKUP($G513,県名!$B$1:$C$49,2,FALSE)","v":"長  野"}]
[null,"中京大学",513,"渡邉　駿風","ﾜﾀﾅﾍﾞ ﾊﾔﾃ",2,"愛知県",{"$f":"VLOOKUP($G514,県名!$B$1:$C$49,2,FALSE)","v":"愛  知"}]
[null,"中京大学",514,"稲子　光太郎","ｲﾅｺ ｺｳﾀﾛｳ",2,"福井県",{"$f":"VLOOKUP($G515,県名!$B$1:$C$49,2,FALSE)","v":"福　井"}]
[null,"中京大学",515,"川田　敦斗","ｶﾜﾀ ｱﾂﾄ",2,"滋賀県",{"$f":"VLOOKUP($G516,県名!$B$1:$C$49,2,FALSE)","v":"滋　賀"}]
[null,"中京大学",516,"西辻　和暉","ﾆｼﾂｼﾞ ｶｽﾞｷ",2,"愛知県",{"$f":"VLOOKUP($G517,県名!$B$1:$C$49,2,FALSE)","v":"愛  知"}]
[null,"中京大学",517,"川久保　友博","ｶﾜｸﾎﾞ ﾄﾓﾋﾛ",2,"京都府",{"$f":"VLOOKUP($G518,県名!$B$1:$C$49,2,FALSE)","v":"京　都"}]
[null,"中京大学",518,"久住　恵太","ｸｽﾐ ｹｲﾀ",2,"新潟県",{"$f":"VLOOKUP($G519,県名!$B$1:$C$49,2,FALSE)","v":"新　潟"}]
[null,"中京大学",519,"津曲　章太","ﾂﾏｶﾞﾘ ｼｮｳﾀ",2,"愛知県",{"$f":"VLOOKUP($G520,県名!$B$1:$C$49,2,FALSE)","v":"愛  知"}]
[null,"中京大学",520,"中島　由来","ﾅｶｼﾞﾏ ﾕﾗ",2,"東京都",{"$f":"VLOOKUP($G521,県名!$B$1:$C$49,2,FALSE)","v":"東　京"}]
[null,"中京大学",521,"成宮　壮","ﾅﾙﾐﾔ ﾀｹｼ",2,"滋賀県",{"$f":"VLOOKUP($G522,県名!$B$1:$C$49,2,FALSE)","v":"滋　賀"}]
[null,"中京大学",522,"長谷川　遥貴","ﾊｾｶﾞﾜ ﾊﾙｷ",2,"三重県",{"$f":"VLOOKUP($G523,県名!$B$1:$C$49,2,FALSE)","v":"三  重"}]
[null,"中京大学",523,"福岡　秀太","ﾌｸｵｶ ｼｭｳﾀ",2,"愛知県",{"$f":"VLOOKUP($G524,県名!$B$1:$C$49,2,FALSE)","v":"愛  知"}]
[null,"中京大学",524,"増子　良平","ﾏｽｺ ﾘｮｳﾍｲ",2,"長野県",{"$f":"VLOOKUP($G525,県名!$B$1:$C$49,2,FALSE)","v":"長  野"}]
[null,"中京大学",525,"吉留　涼太","ﾖｼﾄﾒ ﾘｮｳﾀ",2,"京都府",{"$f":"VLOOKUP($G526,県名!$B$1:$C$49,2,FALSE)","v":"京　都"}]
[null,"中京大学",526,"相澤　潤一郎","ｱｲｻﾞﾜ ｼﾞｭﾝｲﾁﾛｳ",2,"埼玉県",{"$f":"VLOOKUP($G527,県名!$B$1:$C$49,2,FALSE)","v":"埼　玉"}]
[null,"中京大学",527,"岩田　朋也","ｲﾜﾀ ﾄﾓﾔ",2,"愛知県",{"$f":"VLOOKUP($G528,県名!$B$1:$C$49,2,FALSE)","v":"愛  知"}]
[null,"中京大学",528,"髙田　浩道","ﾀｶﾀﾞ ﾋﾛﾐﾁ",2,"長崎県",{"$f":"VLOOKUP($G529,県名!$B$1:$C$49,2,FALSE)","v":"長　崎"}]
[null,"中京大学",529,"中井　康二","ﾅｶｲ ｺｳｼﾞ",2,"愛知県",{"$f":"VLOOKUP($G530,県名!$B$1:$C$49,2,FALSE)","v":"愛  知"}]
[null,"中京大学",530,"服部　優允","ﾊｯﾄﾘ ﾏｻﾉﾌﾞ",2,"兵庫県",{"$f":"VLOOKUP($G531,県名!$B$1:$C$49,2,FALSE)","v":"兵　庫"}]
[null,"中京大学",531,"目時　崚","ﾒﾄｷ ﾘｮｳ",2,"岩手県",{"$f":"VLOOKUP($G532,県名!$B$1:$C$49,2,FALSE)","v":"岩  手"}]
[null,"中京大学",532,"荻原　勇吹","ｵｷﾞﾊﾗ ｲﾌﾞｷ",2,"長野県",{"$f":"VLOOKUP($G533,県名!$B$1:$C$49,2,FALSE)","v":"長  野"}]
[null,"中京大学",533,"福永　凌太","ﾌｸﾅｶﾞ ﾘｮｳﾀ",2,"滋賀県",{"$f":"VLOOKUP($G534,県名!$B$1:$C$49,2,FALSE)","v":"滋　賀"}]
[null,"中京大学",534,"泉　主馬","ｲｽﾞﾐ ｶｽﾞﾏ",2,"愛媛県",{"$f":"VLOOKUP($G535,県名!$B$1:$C$49,2,FALSE)","v":"愛　媛"}]
[null,"中京大学",535,"井上　晧太","ｲﾉｳｴ ｺｳﾀ",2,"愛知県",{"$f":"VLOOKUP($G536,県名!$B$1:$C$49,2,FALSE)","v":"愛  知"}]
[null,"中京大学",536,"織田　大輝","ｵﾀﾞ ﾋﾛｷ",2,"愛知県",{"$f":"VLOOKUP($G537,県名!$B$1:$C$49,2,FALSE)","v":"愛  知"}]
[null,"中京大学",537,"金井　駿賢","ｶﾅｲ ﾄｼﾀｶ",1,"愛知県",{"$f":"VLOOKUP($G538,県名!$B$1:$C$49,2,FALSE)","v":"愛  知"}]
[null,"中京大学",538,"杉本　大騎","ｽｷﾞﾓﾄ ﾀﾞｲｷ",1,"愛知県",{"$f":"VLOOKUP($G539,県名!$B$1:$C$49,2,FALSE)","v":"愛  知"}]
[null,"中京大学",539,"木下　博貴","ｷﾉｼﾀ ﾋﾛｷ",1,"愛知県",{"$f":"VLOOKUP($G540,県名!$B$1:$C$49,2,FALSE)","v":"愛  知"}]
[null,"中京大学",540,"須﨑　雅也","ｽｻﾞｷ ﾏｻﾔ",1,"三重県",{"$f":"VLOOKUP($G541,県名!$B$1:$C$49,2,FALSE)","v":"三  重"}]
[null,"中京大学",541,"大原　康平","ｵｵﾊﾗ ｺｳﾍｲ",1,"愛知県",{"$f":"VLOOKUP($G542,県名!$B$1:$C$49,2,FALSE)","v":"愛  知"}]
[null,"中京大学",542,"高木　健太","ﾀｶｷ ｹﾝﾀ",1,"福島県",{"$f":"VLOOKUP($G543,県名!$B$1:$C$49,2,FALSE)","v":"福　島"}]
[null,"中京大学",543,"遠藤　慶人","ｴﾝﾄﾞｳ ｹｲﾄ",1,"岐阜県",{"$f":"VLOOKUP($G544,県名!$B$1:$C$49,2,FALSE)","v":"岐  阜"}]
[null,"中京大学",544,"岡井　大靖","ｵｶｲ ﾀｲｾｲ",1,"愛知県",{"$f":"VLOOKUP($G545,県名!$B$1:$C$49,2,FALSE)","v":"愛  知"}]
[null,"中京大学",545,"佐藤　智博","ｻﾄｳ ﾁﾋﾛ",1,"愛知県",{"$f":"VLOOKUP($G546,県名!$B$1:$C$49,2,FALSE)","v":"愛  知"}]
[null,"中京大学",546,"小出　郁弥","ｺｲﾃﾞ ﾌﾐﾔ",1,"長野県",{"$f":"VLOOKUP($G547,県名!$B$1:$C$49,2,FALSE)","v":"長  野"}]
[null,"中京大学",547,"堀田　侑冶","ﾎｯﾀ ﾕｳﾔ",1,"愛知県",{"$f":"VLOOKUP($G548,県名!$B$1:$C$49,2,FALSE)","v":"愛  知"}]
[null,"中京大学",548,"前川　斉幸","ﾏｴｶﾞﾜ ﾏｻﾕｷ",1,"三重県",{"$f":"VLOOKUP($G549,県名!$B$1:$C$49,2,FALSE)","v":"三  重"}]
[null,"中京大学",549,"杉田　光","ｽｷﾞﾀ ﾋｶﾙ",1,"愛知県",{"$f":"VLOOKUP($G550,県名!$B$1:$C$49,2,FALSE)","v":"愛  知"}]
[null,"中京大学",550,"宮﨑　達也","ﾐﾔｻﾞｷ ﾀﾂﾔ",1,"埼玉県",{"$f":"VLOOKUP($G551,県名!$B$1:$C$49,2,FALSE)","v":"埼　玉"}]
[null,"中京大学",551,"髙橋　舞羽","ﾀｶﾊｼ ﾏｲﾔ",1,"愛知県",{"$f":"VLOOKUP($G552,県名!$B$1:$C$49,2,FALSE)","v":"愛  知"}]
[null,"中京大学",552,"日野　龍希","ﾋﾉ ﾘｭｳｷ",1,"愛知県",{"$f":"VLOOKUP($G553,県名!$B$1:$C$49,2,FALSE)","v":"愛  知"}]
[null,"中京大学",553,"杉野　蒼太","ｽｷﾞﾉ ｿｳﾀ",1,"愛知県",{"$f":"VLOOKUP($G554,県名!$B$1:$C$49,2,FALSE)","v":"愛  知"}]
[null,"中京大学",554,"横田　佳介","ﾖｺﾀ ｹｲｽｹ",1,"東京都",{"$f":"VLOOKUP($G555,県名!$B$1:$C$49,2,FALSE)","v":"東　京"}]
[null,"中京大学",555,"田村　陸","ﾀﾑﾗ ﾘｸ",1,"愛知県",{"$f":"VLOOKUP($G556,県名!$B$1:$C$49,2,FALSE)","v":"愛  知"}]
[null,"中京大学",556,"中村　美史","ﾅｶﾑﾗ ﾖｼﾌﾐ",1,"兵庫県",{"$f":"VLOOKUP($G557,県名!$B$1:$C$49,2,FALSE)","v":"兵　庫"}]
[null,"中京大学",557,"遠山　亮太","ﾄｵﾔﾏ ﾘｮｳﾀ",1,"静岡県",{"$f":"VLOOKUP($G558,県名!$B$1:$C$49,2,FALSE)","v":"静  岡"}]
[null,"中京大学",558,"鷲尾　優太","ﾜｼｵ ﾕｳﾀ",1,"兵庫県",{"$f":"VLOOKUP($G559,県名!$B$1:$C$49,2,FALSE)","v":"兵　庫"}]
[null,"中京大学",559,"川内　秀哉","ｶﾜﾁ ｼｭｳﾔ",1,"宮崎県",{"$f":"VLOOKUP($G560,県名!$B$1:$C$49,2,FALSE)","v":"宮　崎"}]
[null,"中京大学",560,"長谷川　傑","ﾊｾｶﾞﾜ ﾀｶｼ",1,"岐阜県",{"$f":"VLOOKUP($G561,県名!$B$1:$C$49,2,FALSE)","v":"岐  阜"}]
[null,"中京大学",561,"佐々木　陸","ｻｻｷ ﾘｸ",1,"富山県",{"$f":"VLOOKUP($G562,県名!$B$1:$C$49,2,FALSE)","v":"富　山"}]
[null,"中京大学",562,"波多野　晃大","ﾊﾀﾉ ｺｳﾀﾞｲ",1,"岐阜県",{"$f":"VLOOKUP($G563,県名!$B$1:$C$49,2,FALSE)","v":"岐  阜"}]
[null,"中京大学",563,"藤井　ﾙｰｶｽ","ﾌｼﾞｲ ﾙｰｶｽ",1,"静岡県",{"$f":"VLOOKUP($G564,県名!$B$1:$C$49,2,FALSE)","v":"静  岡"}]
[null,"中京大学",564,"佐原　五月","ｻﾊﾗ ｻﾂｷ",1,"静岡県",{"$f":"VLOOKUP($G565,県名!$B$1:$C$49,2,FALSE)","v":"静  岡"}]
[null,"中部大学",565,"丹羽　祥也","ﾆﾜ ｼｮｳﾔ","M2","愛知県",{"$f":"VLOOKUP($G566,県名!$B$1:$C$49,2,FALSE)","v":"愛  知"}]
[null,"中部大学",566,"鵜藤　茂仁","ｳﾄｳ ｼｹﾞﾋﾄ",4,"愛知県",{"$f":"VLOOKUP($G567,県名!$B$1:$C$49,2,FALSE)","v":"愛  知"}]
[null,"中部大学",567,"太田　智基","ｵｵﾀ ﾄﾓｷ",4,"愛知県",{"$f":"VLOOKUP($G568,県名!$B$1:$C$49,2,FALSE)","v":"愛  知"}]
[null,"中部大学",568,"中島　啓輔","ﾅｶｼﾞﾏ ｹｲｽｹ",4,"愛知県",{"$f":"VLOOKUP($G569,県名!$B$1:$C$49,2,FALSE)","v":"愛  知"}]
[null,"中部大学",569,"林　哲生","ﾊﾔｼ ﾃｯｾｲ",4,"愛知県",{"$f":"VLOOKUP($G570,県名!$B$1:$C$49,2,FALSE)","v":"愛  知"}]
[null,"中部大学",570,"安江　悠真","ﾔｽｴ ﾕｳﾏ",4,"愛知県",{"$f":"VLOOKUP($G571,県名!$B$1:$C$49,2,FALSE)","v":"愛  知"}]
[null,"中部大学",571,"岡戸　祐太","ｵｶﾄﾞ ﾕｳﾀ",3,"愛知県",{"$f":"VLOOKUP($G572,県名!$B$1:$C$49,2,FALSE)","v":"愛  知"}]
[null,"中部大学",572,"坂本　拓磨","ｻｶﾓﾄ ﾀｸﾏ",3,"愛知県",{"$f":"VLOOKUP($G573,県名!$B$1:$C$49,2,FALSE)","v":"愛  知"}]
[null,"中部大学",573,"佐藤　良樹","ｻﾄｳ ﾖｼｷ",3,"岐阜県",{"$f":"VLOOKUP($G574,県名!$B$1:$C$49,2,FALSE)","v":"岐  阜"}]
[null,"中部大学",574,"長谷川　文哉","ﾊｾｶﾞﾜ ﾌﾐﾔ",3,"愛知県",{"$f":"VLOOKUP($G575,県名!$B$1:$C$49,2,FALSE)","v":"愛  知"}]
[null,"中部大学",575,"小林　義典","ｺﾊﾞﾔｼ ﾖｼﾉﾘ",2,"愛知県",{"$f":"VLOOKUP($G576,県名!$B$1:$C$49,2,FALSE)","v":"愛  知"}]
[null,"中部大学",576,"玉木　愛稀洋","ﾀﾏｷ ｱｷﾋﾛ",2,"岐阜県",{"$f":"VLOOKUP($G577,県名!$B$1:$C$49,2,FALSE)","v":"岐  阜"}]
[null,"中部大学",577,"松石　直樹","ﾏﾂｲｼ ﾅｵｷ",2,"三重県",{"$f":"VLOOKUP($G578,県名!$B$1:$C$49,2,FALSE)","v":"三  重"}]
[null,"中部大学",578,"水谷　亮太","ﾐｽﾞﾀﾆ ﾘｮｳﾀ",2,"愛知県",{"$f":"VLOOKUP($G579,県名!$B$1:$C$49,2,FALSE)","v":"愛  知"}]
[null,"中部大学",579,"草崎　総一朗","ｸｻｻﾞｷ ｿｳｲﾁﾛｳ",2,"愛知県",{"$f":"VLOOKUP($G580,県名!$B$1:$C$49,2,FALSE)","v":"愛  知"}]
[null,"中部大学",580,"林　拓実","ﾊﾔｼ ﾀｸﾐ",2,"愛知県",{"$f":"VLOOKUP($G581,県名!$B$1:$C$49,2,FALSE)","v":"愛  知"}]
[null,"中部大学",581,"鵜飼　涼矢","ｳｶｲ ﾘｮｳﾔ",1,"愛知県",{"$f":"VLOOKUP($G582,県名!$B$1:$C$49,2,FALSE)","v":"愛  知"}]
[null,"中部大学",582,"成瀬　太一","ﾅﾙｾ ﾀｲﾁ",1,"愛知県",{"$f":"VLOOKUP($G583,県名!$B$1:$C$49,2,FALSE)","v":"愛  知"}]
[null,"鳥羽商船高等専門学校",583,"真弓　昇也","ﾏﾕﾐ ｼｮｳﾔ",4,"三重県",{"$f":"VLOOKUP($G584,県名!$B$1:$C$49,2,FALSE)","v":"三  重"}]
[null,"東海学園大学",584,"塩原　雅人","ｼｵﾊﾗ ﾏｻﾄ",4,"静岡県",{"$f":"VLOOKUP($G585,県名!$B$1:$C$49,2,FALSE)","v":"静  岡"}]
[null,"東海学園大学",585,"山澤　遼大","ﾔﾏｻﾞﾜ ﾘｮｳﾀ",4,"愛知県",{"$f":"VLOOKUP($G586,県名!$B$1:$C$49,2,FALSE)","v":"愛  知"}]
[null,"東海学園大学",586,"横尾　武尊","ﾖｺｵ ﾀｹﾙ",4,"愛知県",{"$f":"VLOOKUP($G587,県名!$B$1:$C$49,2,FALSE)","v":"愛  知"}]
[null,"東海学園大学",587,"重田　真稔","ｼｹﾞﾀ ﾏｻﾄｼ",4,"愛知県",{"$f":"VLOOKUP($G588,県名!$B$1:$C$49,2,FALSE)","v":"愛  知"}]
[null,"東海学園大学",588,"佐久間　光平","ｻｸﾏ ｺｳﾍｲ",4,"愛知県",{"$f":"VLOOKUP($G589,県名!$B$1:$C$49,2,FALSE)","v":"愛  知"}]
[null,"東海学園大学",589,"畑添　翔太","ﾊﾀｿﾞｴ ｼｮｳﾀ",4,"愛知県",{"$f":"VLOOKUP($G590,県名!$B$1:$C$49,2,FALSE)","v":"愛  知"}]
[null,"東海学園大学",590,"円尾　翔吾","ﾏﾙｵ ｼｮｳｺﾞ",4,"愛知県",{"$f":"VLOOKUP($G591,県名!$B$1:$C$49,2,FALSE)","v":"愛  知"}]
[null,"東海学園大学",591,"野嶋　大晃","ﾉｼﾞﾏ ﾋﾛｱｷ",4,"静岡県",{"$f":"VLOOKUP($G592,県名!$B$1:$C$49,2,FALSE)","v":"静  岡"}]
[null,"東海学園大学",592,"高山　琢磨","ﾀｶﾔﾏ ﾀｸﾏ",4,"愛知県",{"$f":"VLOOKUP($G593,県名!$B$1:$C$49,2,FALSE)","v":"愛  知"}]
[null,"東海学園大学",593,"若山　弘幸","ﾜｶﾔﾏ ﾋﾛﾕｷ",4,"愛知県",{"$f":"VLOOKUP($G594,県名!$B$1:$C$49,2,FALSE)","v":"愛  知"}]
[null,"東海学園大学",594,"杉村　拓哉","ｽｷﾞﾑﾗ ﾀｸﾔ",4,"三重県",{"$f":"VLOOKUP($G595,県名!$B$1:$C$49,2,FALSE)","v":"三  重"}]
[null,"東海学園大学",595,"西村　一真","ﾆｼﾑﾗ ｶｽﾞﾏ",4,"愛知県",{"$f":"VLOOKUP($G596,県名!$B$1:$C$49,2,FALSE)","v":"愛  知"}]
[null,"東海学園大学",596,"宮川　新","ﾐﾔｶﾞﾜ ｱﾗﾀ",4,"愛知県",{"$f":"VLOOKUP($G597,県名!$B$1:$C$49,2,FALSE)","v":"愛  知"}]
[null,"東海学園大学",597,"山下　徹","ﾔﾏｼﾀ ﾄｵﾙ",3,"愛知県",{"$f":"VLOOKUP($G598,県名!$B$1:$C$49,2,FALSE)","v":"愛  知"}]
[null,"東海学園大学",598,"村松　悠斗","ﾑﾗﾏﾂ ﾕｳﾄ",3,"愛知県",{"$f":"VLOOKUP($G599,県名!$B$1:$C$49,2,FALSE)","v":"愛  知"}]
[null,"東海学園大学",599,"水谷　俊貴","ﾐｽﾞﾀﾆ ﾖｼﾀｶ",3,"愛知県",{"$f":"VLOOKUP($G600,県名!$B$1:$C$49,2,FALSE)","v":"愛  知"}]
[null,"東海学園大学",600,"平野　成","ﾋﾗﾉ ﾅﾙ",3,"愛知県",{"$f":"VLOOKUP($G601,県名!$B$1:$C$49,2,FALSE)","v":"愛  知"}]
[null,"東海学園大学",601,"土谷　智仁","ﾂﾁﾔ ﾄﾓﾋﾄ",3,"愛知県",{"$f":"VLOOKUP($G602,県名!$B$1:$C$49,2,FALSE)","v":"愛  知"}]
[null,"東海学園大学",602,"吉本　優馬","ﾖｼﾓﾄ ﾕｳﾏ",3,"愛知県",{"$f":"VLOOKUP($G603,県名!$B$1:$C$49,2,FALSE)","v":"愛  知"}]
[null,"東海学園大学",603,"林　佑哉","ﾊﾔｼ ﾕｳﾔ",3,"愛知県",{"$f":"VLOOKUP($G604,県名!$B$1:$C$49,2,FALSE)","v":"愛  知"}]
[null,"東海学園大学",604,"加藤　晶大","ｶﾄｳ ｼｮｳﾀ",3,"三重県",{"$f":"VLOOKUP($G605,県名!$B$1:$C$49,2,FALSE)","v":"三  重"}]
[null,"東海学園大学",605,"佐藤　陸人","ｻﾄｳ ﾘｸﾄ",3,"三重県",{"$f":"VLOOKUP($G606,県名!$B$1:$C$49,2,FALSE)","v":"三  重"}]
[null,"東海学園大学",606,"遠藤　光","ｴﾝﾄﾞｳ ﾋｶﾙ",3,"愛知県",{"$f":"VLOOKUP($G607,県名!$B$1:$C$49,2,FALSE)","v":"愛  知"}]
[null,"東海学園大学",607,"佐藤　広幸","ｻﾄｳ ﾋﾛﾕｷ",3,"愛知県",{"$f":"VLOOKUP($G608,県名!$B$1:$C$49,2,FALSE)","v":"愛  知"}]
[null,"東海学園大学",608,"田中　雄也","ﾀﾅｶ ﾕｳﾔ",3,"愛知県",{"$f":"VLOOKUP($G609,県名!$B$1:$C$49,2,FALSE)","v":"愛  知"}]
[null,"東海学園大学",609,"川瀨　勝寛","ｶﾜｾ ﾖｼﾑﾈ",3,"愛知県",{"$f":"VLOOKUP($G610,県名!$B$1:$C$49,2,FALSE)","v":"愛  知"}]
[null,"東海学園大学",610,"中村　圭佑","ﾅｶﾑﾗ ｹｲｽｹ",3,"愛知県",{"$f":"VLOOKUP($G611,県名!$B$1:$C$49,2,FALSE)","v":"愛  知"}]
[null,"東海学園大学",611,"松久　裕稀","ﾏﾂﾋｻ ﾕｳｷ",3,"愛知県",{"$f":"VLOOKUP($G612,県名!$B$1:$C$49,2,FALSE)","v":"愛  知"}]
[null,"東海学園大学",612,"鈴木　悠太","ｽｽﾞｷ ﾕｳﾀ",3,"愛知県",{"$f":"VLOOKUP($G613,県名!$B$1:$C$49,2,FALSE)","v":"愛  知"}]
[null,"東海学園大学",613,"横山　皓己","ﾖｺﾔﾏ ｺｳｷ",3,"愛知県",{"$f":"VLOOKUP($G614,県名!$B$1:$C$49,2,FALSE)","v":"愛  知"}]
[null,"東海学園大学",614,"大久保　光祐","ｵｵｸﾎﾞ ｺｳｽｹ",2,"愛知県",{"$f":"VLOOKUP($G615,県名!$B$1:$C$49,2,FALSE)","v":"愛  知"}]
[null,"東海学園大学",615,"東松　賢也","ﾄｳﾏﾂ ｹﾝﾔ",2,"三重県",{"$f":"VLOOKUP($G616,県名!$B$1:$C$49,2,FALSE)","v":"三  重"}]
[null,"東海学園大学",616,"村上　裕貴","ﾑﾗｶﾐ ﾕﾀｶ",2,"愛知県",{"$f":"VLOOKUP($G617,県名!$B$1:$C$49,2,FALSE)","v":"愛  知"}]
[null,"東海学園大学",617,"天野　智貴","ｱﾏﾉ ﾄﾓｷ",2,"愛知県",{"$f":"VLOOKUP($G618,県名!$B$1:$C$49,2,FALSE)","v":"愛  知"}]
[null,"東海学園大学",618,"福田　敦大","ﾌｸﾀﾞ ｱﾂﾋﾛ",2,"愛知県",{"$f":"VLOOKUP($G619,県名!$B$1:$C$49,2,FALSE)","v":"愛  知"}]
[null,"東海学園大学",619,"福岡　崚生","ﾌｸｵｶ ﾘｮｳｾｲ",2,"愛知県",{"$f":"VLOOKUP($G620,県名!$B$1:$C$49,2,FALSE)","v":"愛  知"}]
[null,"東海学園大学",620,"豊田　将司","ﾄﾖﾀﾞ ﾏｻｼ",2,"愛知県",{"$f":"VLOOKUP($G621,県名!$B$1:$C$49,2,FALSE)","v":"愛  知"}]
[null,"東海学園大学",621,"野田　将弘","ﾉﾀﾞ ﾏｻﾋﾛ",2,"愛知県",{"$f":"VLOOKUP($G622,県名!$B$1:$C$49,2,FALSE)","v":"愛  知"}]
[null,"東海学園大学",622,"前畑　有輝","ﾏｴﾊﾀ ﾕｳｷ",2,"愛知県",{"$f":"VLOOKUP($G623,県名!$B$1:$C$49,2,FALSE)","v":"愛  知"}]
[null,"東海学園大学",623,"山田　佑輔","ﾔﾏﾀﾞ ﾕｳｽｹ",2,"愛知県",{"$f":"VLOOKUP($G624,県名!$B$1:$C$49,2,FALSE)","v":"愛  知"}]
[null,"東海学園大学",624,"和仁　滉我","ﾜﾆ ｺｳｶﾞ",2,"岐阜県",{"$f":"VLOOKUP($G625,県名!$B$1:$C$49,2,FALSE)","v":"岐  阜"}]
[null,"東海学園大学",625,"西川　悠斗","ﾆｼｶﾜ ﾕｳﾄ",2,"愛知県",{"$f":"VLOOKUP($G626,県名!$B$1:$C$49,2,FALSE)","v":"愛  知"}]
[null,"東海学園大学",626,"前田　能宜","ﾏｴﾀﾞ ﾄｳｷ",2,"愛知県",{"$f":"VLOOKUP($G627,県名!$B$1:$C$49,2,FALSE)","v":"愛  知"}]
[null,"東海学園大学",627,"林　誉大","ﾊﾔｼ ﾀｶﾋﾛ",2,"愛知県",{"$f":"VLOOKUP($G628,県名!$B$1:$C$49,2,FALSE)","v":"愛  知"}]
[null,"南山大学",628,"仙田　拓摩","ｾﾝﾀﾞ ﾀｸﾏ",4,"愛知県",{"$f":"VLOOKUP($G629,県名!$B$1:$C$49,2,FALSE)","v":"愛  知"}]
[null,"南山大学",629,"高橋　克成","ﾀｶﾊｼ ｶﾂﾅﾘ",4,"愛知県",{"$f":"VLOOKUP($G630,県名!$B$1:$C$49,2,FALSE)","v":"愛  知"}]
[null,"南山大学",630,"加藤　寛隆","ｶﾄｳ ﾋﾛﾀｶ",4,"愛知県",{"$f":"VLOOKUP($G631,県名!$B$1:$C$49,2,FALSE)","v":"愛  知"}]
[null,"南山大学",631,"吉田　悠人","ﾖｼﾀﾞ ﾕｳﾄ",4,"愛知県",{"$f":"VLOOKUP($G632,県名!$B$1:$C$49,2,FALSE)","v":"愛  知"}]
[null,"南山大学",632,"葭川　睦望","ﾖｼｶﾜ ﾑﾂﾐ",3,"愛知県",{"$f":"VLOOKUP($G633,県名!$B$1:$C$49,2,FALSE)","v":"愛  知"}]
[null,"南山大学",633,"兵藤　亘","ﾋｮｳﾄﾞｳ ﾜﾀﾙ",3,"愛知県",{"$f":"VLOOKUP($G634,県名!$B$1:$C$49,2,FALSE)","v":"愛  知"}]
[null,"南山大学",634,"川口　稜太","ｶﾜｸﾞﾁ ﾘｮｳﾀ",3,"愛知県",{"$f":"VLOOKUP($G635,県名!$B$1:$C$49,2,FALSE)","v":"愛  知"}]
[null,"南山大学",635,"鈴木　皓翔","ｽｽﾞｷ ﾋﾛﾄ",3,"愛知県",{"$f":"VLOOKUP($G636,県名!$B$1:$C$49,2,FALSE)","v":"愛  知"}]
[null,"南山大学",636,"石黒　泰成","ｲｼｸﾞﾛ ﾀｲｾｲ",3,"愛知県",{"$f":"VLOOKUP($G637,県名!$B$1:$C$49,2,FALSE)","v":"愛  知"}]
[null,"南山大学",637,"青木　穂高","ｱｵｷ ﾎﾀﾞｶ",3,"愛知県",{"$f":"VLOOKUP($G638,県名!$B$1:$C$49,2,FALSE)","v":"愛  知"}]
[null,"南山大学",638,"稲福　天馬","ｲﾅﾌｸ ﾃﾝﾏ",3,"愛知県",{"$f":"VLOOKUP($G639,県名!$B$1:$C$49,2,FALSE)","v":"愛  知"}]
[null,"南山大学",639,"越野　将志","ｺｼﾉ ﾏｻｼ",4,"愛知県",{"$f":"VLOOKUP($G640,県名!$B$1:$C$49,2,FALSE)","v":"愛  知"}]
[null,"南山大学",640,"野末　佳成","ﾉｽﾞｴ ﾖｼﾅﾘ",4,"愛知県",{"$f":"VLOOKUP($G641,県名!$B$1:$C$49,2,FALSE)","v":"愛  知"}]
[null,"南山大学",641,"片山　陽介","ｶﾀﾔﾏ ﾖｳｽｹ",4,"愛知県",{"$f":"VLOOKUP($G642,県名!$B$1:$C$49,2,FALSE)","v":"愛  知"}]
[null,"南山大学",642,"白石　涼太","ｼﾗｲｼ ﾘｮｳﾀ",4,"愛知県",{"$f":"VLOOKUP($G643,県名!$B$1:$C$49,2,FALSE)","v":"愛  知"}]
[null,"南山大学",643,"伊藤　主真","ｲﾄｳ ｶｽﾞﾏ",4,"愛知県",{"$f":"VLOOKUP($G644,県名!$B$1:$C$49,2,FALSE)","v":"愛  知"}]
[null,"南山大学",644,"上田　拓哉","ｳｴﾀﾞ ﾀｸﾔ",4,"愛知県",{"$f":"VLOOKUP($G645,県名!$B$1:$C$49,2,FALSE)","v":"愛  知"}]
[null,"南山大学",645,"梶川　凌平","ｶｼﾞｶﾜ ﾘｮｳﾍｲ",3,"愛知県",{"$f":"VLOOKUP($G646,県名!$B$1:$C$49,2,FALSE)","v":"愛  知"}]
[null,"南山大学",646,"樋口　元汰","ﾋｸﾞﾁ ｹﾞﾝﾀ",2,"富山県",{"$f":"VLOOKUP($G647,県名!$B$1:$C$49,2,FALSE)","v":"富　山"}]
[null,"南山大学",647,"中島　樹","ﾅｶｼﾏ ｲﾂｷ",2,"愛知県",{"$f":"VLOOKUP($G648,県名!$B$1:$C$49,2,FALSE)","v":"愛  知"}]
[null,"南山大学",648,"徳江　航己","ﾄｸｴ ｺｳｷ",2,"愛知県",{"$f":"VLOOKUP($G649,県名!$B$1:$C$49,2,FALSE)","v":"愛  知"}]
[null,"南山大学",649,"山口　輝","ﾔﾏｸﾞﾁ ｱｷﾗ",3,"愛知県",{"$f":"VLOOKUP($G650,県名!$B$1:$C$49,2,FALSE)","v":"愛  知"}]
[null,"南山大学",650,"新美　秀悟","ﾆｲﾐ ｼｭｳｺﾞ",2,"愛知県",{"$f":"VLOOKUP($G651,県名!$B$1:$C$49,2,FALSE)","v":"愛  知"}]
[null,"南山大学",651,"水野　佑亮","ﾐｽﾞﾉ ﾕｳｽｹ",2,"岐阜県",{"$f":"VLOOKUP($G652,県名!$B$1:$C$49,2,FALSE)","v":"岐  阜"}]
[null,"南山大学",652,"大地　陽斗","ｵｵｼﾞ ｱｷﾄ",2,"三重県",{"$f":"VLOOKUP($G653,県名!$B$1:$C$49,2,FALSE)","v":"三  重"}]
[null,"南山大学",653,"田中　樹生","ﾀﾅｶ ﾐｷｵ",2,"愛知県",{"$f":"VLOOKUP($G654,県名!$B$1:$C$49,2,FALSE)","v":"愛  知"}]
[null,"南山大学",654,"山田　華生","ﾔﾏﾀﾞ ｶｾｲ",2,"愛知県",{"$f":"VLOOKUP($G655,県名!$B$1:$C$49,2,FALSE)","v":"愛  知"}]
[null,"南山大学",655,"山本　晃暉","ﾔﾏﾓﾄ ｺｳｷ",3,"愛知県",{"$f":"VLOOKUP($G656,県名!$B$1:$C$49,2,FALSE)","v":"愛  知"}]
[null,"南山大学",656,"鳥井　量平","ﾄﾘｲ ﾘｮｳﾍｲ",3,"愛知県",{"$f":"VLOOKUP($G657,県名!$B$1:$C$49,2,FALSE)","v":"愛  知"}]
[null,"浜松医科大学",657,"磯部　貴之","ｲｿﾍﾞ ﾀｶﾕｷ",6,"静岡県",{"$f":"VLOOKUP($G658,県名!$B$1:$C$49,2,FALSE)","v":"静  岡"}]
[null,"浜松医科大学",658,"渡邊　晴貴","ﾜﾀﾅﾍﾞ ﾊﾙｷ",3,"静岡県",{"$f":"VLOOKUP($G659,県名!$B$1:$C$49,2,FALSE)","v":"静  岡"}]
[null,"浜松医科大学",659,"山藤　洋典","ﾔﾏﾄｳ ﾋﾛﾉﾘ",3,"静岡県",{"$f":"VLOOKUP($G660,県名!$B$1:$C$49,2,FALSE)","v":"静  岡"}]
[null,"豊橋技術科学大学",660,"山下　達也","ﾔﾏｼﾀ ﾀﾂﾔ",4,"愛知県",{"$f":"VLOOKUP($G661,県名!$B$1:$C$49,2,FALSE)","v":"愛  知"}]
[null,"豊橋技術科学大学",661,"板橋　悠人","ｲﾀﾊﾞｼ ﾕｳﾄ","M1","愛知県",{"$f":"VLOOKUP($G662,県名!$B$1:$C$49,2,FALSE)","v":"愛  知"}]
[null,"豊田工業高等専門学校",662,"吉村　泰希","ﾖｼﾑﾗ ﾀｲｷ",5,"愛知県",{"$f":"VLOOKUP($G663,県名!$B$1:$C$49,2,FALSE)","v":"愛  知"}]
[null,"豊田工業高等専門学校",663,"久田　淳司","ﾋｻﾀﾞ ｱﾂｼ",5,"愛知県",{"$f":"VLOOKUP($G664,県名!$B$1:$C$49,2,FALSE)","v":"愛  知"}]
[null,"豊田工業高等専門学校",664,"加藤　悠基","ｶﾄｳ ﾕｳｷ",5,"愛知県",{"$f":"VLOOKUP($G665,県名!$B$1:$C$49,2,FALSE)","v":"愛  知"}]
[null,"豊田工業高等専門学校",665,"越野　豪留","ｺｼﾉ ﾀｹﾙ",5,"愛知県",{"$f":"VLOOKUP($G666,県名!$B$1:$C$49,2,FALSE)","v":"愛  知"}]
[null,"豊田工業高等専門学校",666,"松原　大悟","ﾏﾂﾊﾞﾗ ﾀﾞｲｺﾞ",5,"愛知県",{"$f":"VLOOKUP($G667,県名!$B$1:$C$49,2,FALSE)","v":"愛  知"}]
[null,"豊田工業高等専門学校",667,"柴田　悟","ｼﾊﾞﾀ ｻﾄﾙ",4,"愛知県",{"$f":"VLOOKUP($G668,県名!$B$1:$C$49,2,FALSE)","v":"愛  知"}]
[null,"豊田工業高等専門学校",668,"鈴木　琉世","ｽｽﾞｷ ﾘｭｳｾｲ",4,"愛知県",{"$f":"VLOOKUP($G669,県名!$B$1:$C$49,2,FALSE)","v":"愛  知"}]
[null,"豊田工業高等専門学校",669,"山根　大輝","ﾔﾏﾈ ﾀﾞｲｷ",4,"愛知県",{"$f":"VLOOKUP($G670,県名!$B$1:$C$49,2,FALSE)","v":"愛  知"}]
[null,"豊田工業高等専門学校",670,"小久保　祐哉","ｺｸﾎﾞ ﾕｳﾔ",4,"愛知県",{"$f":"VLOOKUP($G671,県名!$B$1:$C$49,2,FALSE)","v":"愛  知"}]
[null,"豊田工業高等専門学校",671,"磯谷　光","ｲｿｶﾞｲ ﾋｶﾙ",4,"愛知県",{"$f":"VLOOKUP($G672,県名!$B$1:$C$49,2,FALSE)","v":"愛  知"}]
[null,"豊田工業高等専門学校",672,"村山　治希","ﾑﾗﾔﾏ ﾊﾙｷ",4,"愛知県",{"$f":"VLOOKUP($G673,県名!$B$1:$C$49,2,FALSE)","v":"愛  知"}]
[null,"豊田工業高等専門学校",673,"稲熊　健太","ｲﾅｸﾞﾏ ｹﾝﾀ",4,"愛知県",{"$f":"VLOOKUP($G674,県名!$B$1:$C$49,2,FALSE)","v":"愛  知"}]
[null,"名古屋学院大学",674,"髙栁　育矢","ﾀｶﾔﾅｷﾞ ｲｸﾔ",4,"静岡県",{"$f":"VLOOKUP($G675,県名!$B$1:$C$49,2,FALSE)","v":"静  岡"}]
[null,"名古屋学院大学",675,"那須　広基","ﾅｽ ﾋﾛｷ",4,"愛知県",{"$f":"VLOOKUP($G676,県名!$B$1:$C$49,2,FALSE)","v":"愛  知"}]
[null,"名古屋学院大学",676,"鵜飼　孝一","ｳｶｲ ｺｳｲﾁ",3,"静岡県",{"$f":"VLOOKUP($G677,県名!$B$1:$C$49,2,FALSE)","v":"静  岡"}]
[null,"名古屋学院大学",677,"岡本　宏基","ｵｶﾓﾄ ｺｳｷ",3,"愛知県",{"$f":"VLOOKUP($G678,県名!$B$1:$C$49,2,FALSE)","v":"愛  知"}]
[null,"名古屋学院大学",678,"奥山　大河","ｵｸﾔﾏ ﾀｲｶﾞ",3,"三重県",{"$f":"VLOOKUP($G679,県名!$B$1:$C$49,2,FALSE)","v":"三  重"}]
[null,"名古屋学院大学",679,"加藤　駿","ｶﾄｳ ｼｭﾝ",3,"愛知県",{"$f":"VLOOKUP($G680,県名!$B$1:$C$49,2,FALSE)","v":"愛  知"}]
[null,"名古屋学院大学",680,"谷口　稀依也","ﾀﾆｸﾞﾁ ﾏｲﾔ",3,"三重県",{"$f":"VLOOKUP($G681,県名!$B$1:$C$49,2,FALSE)","v":"三  重"}]
[null,"名古屋学院大学",681,"愛澤　太規","ｱｲｻﾞﾜ ﾀｲｷ",2,"愛知県",{"$f":"VLOOKUP($G682,県名!$B$1:$C$49,2,FALSE)","v":"愛  知"}]
[null,"名古屋学院大学",682,"市原　僚太","ｲﾁﾊﾗ ﾘｮｳﾀ",2,"岐阜県",{"$f":"VLOOKUP($G683,県名!$B$1:$C$49,2,FALSE)","v":"岐  阜"}]
[null,"名古屋学院大学",683,"岩本　恭平","ｲﾜﾓﾄ ｷｮｳﾍｲ",2,"鳥取県",{"$f":"VLOOKUP($G684,県名!$B$1:$C$49,2,FALSE)","v":"鳥　取"}]
[null,"名古屋学院大学",684,"小泉　登","ｺｲｽﾞﾐ ﾉﾎﾞﾙ",2,"愛知県",{"$f":"VLOOKUP($G685,県名!$B$1:$C$49,2,FALSE)","v":"愛  知"}]
[null,"名古屋学院大学",685,"中山　貴登","ﾅｶﾔﾏ ﾀｶﾄ",2,"愛知県",{"$f":"VLOOKUP($G686,県名!$B$1:$C$49,2,FALSE)","v":"愛  知"}]
[null,"名古屋学院大学",686,"舟橋　宏祐","ﾌﾅﾊｼ ｺｳｽｹ",2,"三重県",{"$f":"VLOOKUP($G687,県名!$B$1:$C$49,2,FALSE)","v":"三  重"}]
[null,"名古屋学院大学",687,"山本　成輝","ﾔﾏﾓﾄ ｾｲｷ",2,"三重県",{"$f":"VLOOKUP($G688,県名!$B$1:$C$49,2,FALSE)","v":"三  重"}]
[null,"名古屋工業大学",688,"中村　瑛","ﾅｶﾑﾗ ｱｷﾗ","M2","愛知県",{"$f":"VLOOKUP($G689,県名!$B$1:$C$49,2,FALSE)","v":"愛  知"}]
[null,"名古屋工業大学",689,"小川　卓也","ｵｶﾞﾜ ﾀｸﾔ","M2","愛知県",{"$f":"VLOOKUP($G690,県名!$B$1:$C$49,2,FALSE)","v":"愛  知"}]
[null,"名古屋工業大学",690,"高橋　宏介","ﾀｶﾊｼ ｺｳｽｹ","M1","愛知県",{"$f":"VLOOKUP($G691,県名!$B$1:$C$49,2,FALSE)","v":"愛  知"}]
[null,"名古屋工業大学",691,"大脇　将史","ｵｵﾜｷ ﾏｻｼ",4,"愛知県",{"$f":"VLOOKUP($G692,県名!$B$1:$C$49,2,FALSE)","v":"愛  知"}]
[null,"名古屋工業大学",692,"斎藤　弘樹","ｻｲﾄｳ ﾋﾛｷ",4,"愛知県",{"$f":"VLOOKUP($G693,県名!$B$1:$C$49,2,FALSE)","v":"愛  知"}]
[null,"名古屋工業大学",693,"萩原　誠","ﾊｷﾞﾜﾗ ﾏｺﾄ",4,"愛知県",{"$f":"VLOOKUP($G694,県名!$B$1:$C$49,2,FALSE)","v":"愛  知"}]
[null,"名古屋工業大学",694,"長谷川　孝輔","ﾊｾｶﾞﾜ ｺｳｽｹ",4,"愛知県",{"$f":"VLOOKUP($G695,県名!$B$1:$C$49,2,FALSE)","v":"愛  知"}]
[null,"名古屋工業大学",695,"杉山　諒太","ｽｷﾞﾔﾏ ﾘｮｳﾀ",3,"愛知県",{"$f":"VLOOKUP($G696,県名!$B$1:$C$49,2,FALSE)","v":"愛  知"}]
[null,"名古屋工業大学",696,"林　和弥","ﾊﾔｼ ｶｽﾞﾔ",3,"愛知県",{"$f":"VLOOKUP($G697,県名!$B$1:$C$49,2,FALSE)","v":"愛  知"}]
[null,"名古屋工業大学",697,"藤井　駿","ﾌｼﾞｲ ｼｭﾝ",3,"愛知県",{"$f":"VLOOKUP($G698,県名!$B$1:$C$49,2,FALSE)","v":"愛  知"}]
[null,"名古屋工業大学",698,"石川　直希","ｲｼｶﾜ ﾅｵｷ",3,"愛知県",{"$f":"VLOOKUP($G699,県名!$B$1:$C$49,2,FALSE)","v":"愛  知"}]
[null,"名古屋工業大学",699,"笠井　謙一朗","ｶｻｲ ｹﾝｲﾁﾛｳ",3,"愛知県",{"$f":"VLOOKUP($G700,県名!$B$1:$C$49,2,FALSE)","v":"愛  知"}]
[null,"名古屋工業大学",700,"長谷　一輝","ﾊｾ ｶｽﾞｷ",3,"愛知県",{"$f":"VLOOKUP($G701,県名!$B$1:$C$49,2,FALSE)","v":"愛  知"}]
[null,"名古屋工業大学",701,"西野　和歩","ﾆｼﾉ ｶｽﾞﾎ",3,"愛知県",{"$f":"VLOOKUP($G702,県名!$B$1:$C$49,2,FALSE)","v":"愛  知"}]
[null,"名古屋工業大学",702,"新宮　良啓","ｼﾝｸﾞｳ ﾖｼﾋﾛ",3,"愛知県",{"$f":"VLOOKUP($G703,県名!$B$1:$C$49,2,FALSE)","v":"愛  知"}]
[null,"名古屋工業大学",703,"安齋　隼","ｱﾝｻﾞｲ ｼｭﾝ",3,"愛知県",{"$f":"VLOOKUP($G704,県名!$B$1:$C$49,2,FALSE)","v":"愛  知"}]
[null,"名古屋工業大学",704,"入船　僚太","ｲﾘﾌﾈ ﾘｮｳﾀ",3,"愛知県",{"$f":"VLOOKUP($G705,県名!$B$1:$C$49,2,FALSE)","v":"愛  知"}]
[null,"名古屋工業大学",705,"後藤　敦哉","ｺﾞﾄｳ ｱﾂﾔ",3,"愛知県",{"$f":"VLOOKUP($G706,県名!$B$1:$C$49,2,FALSE)","v":"愛  知"}]
[null,"名古屋工業大学",706,"柴山　昌之","ｼﾊﾞﾔﾏ ﾏｻﾕｷ",3,"愛知県",{"$f":"VLOOKUP($G707,県名!$B$1:$C$49,2,FALSE)","v":"愛  知"}]
[null,"名古屋工業大学",707,"福岡　泰地","ﾌｸｵｶ ﾀｲﾁ",2,"愛知県",{"$f":"VLOOKUP($G708,県名!$B$1:$C$49,2,FALSE)","v":"愛  知"}]
[null,"名古屋工業大学",708,"野村　昂生","ﾉﾑﾗ ﾀｶｷ",2,"愛知県",{"$f":"VLOOKUP($G709,県名!$B$1:$C$49,2,FALSE)","v":"愛  知"}]
[null,"名古屋工業大学",709,"武井　悠朔","ﾀｹｲ ﾕｳｻｸ",2,"愛知県",{"$f":"VLOOKUP($G710,県名!$B$1:$C$49,2,FALSE)","v":"愛  知"}]
[null,"名古屋工業大学",710,"林　裕人","ﾊﾔｼ ﾋﾛﾄ",2,"愛知県",{"$f":"VLOOKUP($G711,県名!$B$1:$C$49,2,FALSE)","v":"愛  知"}]
[null,"名古屋工業大学",711,"田中　理人","ﾀﾅｶ ﾘﾋﾄ",2,"愛知県",{"$f":"VLOOKUP($G712,県名!$B$1:$C$49,2,FALSE)","v":"愛  知"}]
[null,"名古屋工業大学",712,"橋爪　悠太朗","ﾊｼﾂﾞﾒ ﾕｳﾀﾛｳ",2,"愛知県",{"$f":"VLOOKUP($G713,県名!$B$1:$C$49,2,FALSE)","v":"愛  知"}]
[null,"名古屋工業大学",713,"森岡　隆文","ﾓﾘｵｶ ﾀｶﾌﾐ",2,"愛知県",{"$f":"VLOOKUP($G714,県名!$B$1:$C$49,2,FALSE)","v":"愛  知"}]
[null,"名古屋工業大学",714,"大原　拓人","ｵｵﾊﾗ ﾀｸﾄ",2,"愛知県",{"$f":"VLOOKUP($G715,県名!$B$1:$C$49,2,FALSE)","v":"愛  知"}]
[null,"名古屋工業大学",715,"藤田　悠真","ﾌｼﾞﾀ ﾕｳﾏ",2,"愛知県",{"$f":"VLOOKUP($G716,県名!$B$1:$C$49,2,FALSE)","v":"愛  知"}]
[null,"名古屋工業大学",716,"永田　雄也","ﾅｶﾞﾀ ﾕｳﾔ",2,"愛知県",{"$f":"VLOOKUP($G717,県名!$B$1:$C$49,2,FALSE)","v":"愛  知"}]
[null,"名古屋工業大学",717,"池田　大希","ｲｹﾀﾞ ﾀﾞｲｷ",2,"愛知県",{"$f":"VLOOKUP($G718,県名!$B$1:$C$49,2,FALSE)","v":"愛  知"}]
[null,"名古屋工業大学",718,"平井　悠喜","ﾋﾗｲ ﾊﾙｷ",2,"愛知県",{"$f":"VLOOKUP($G719,県名!$B$1:$C$49,2,FALSE)","v":"愛  知"}]
[null,"名古屋市立大学",719,"朝井　瞭","ｱｻｲ ﾘｮｳ",4,"愛知県",{"$f":"VLOOKUP($G720,県名!$B$1:$C$49,2,FALSE)","v":"愛  知"}]
[null,"名古屋市立大学",720,"谷　亮成","ﾀﾆ ﾘｮｳｾｲ",3,"愛知県",{"$f":"VLOOKUP($G721,県名!$B$1:$C$49,2,FALSE)","v":"愛  知"}]
[null,"名古屋市立大学",721,"佐藤　晃平","ｻﾄｳ ｺｳﾍｲ",3,"愛知県",{"$f":"VLOOKUP($G722,県名!$B$1:$C$49,2,FALSE)","v":"愛  知"}]
[null,"名古屋市立大学",722,"森　大和","ﾓﾘ ﾔﾏﾄ",3,"愛知県",{"$f":"VLOOKUP($G723,県名!$B$1:$C$49,2,FALSE)","v":"愛  知"}]
[null,"名古屋市立大学",723,"成瀬　貴文","ﾅﾙｾ ﾀｶﾌﾐ",2,"愛知県",{"$f":"VLOOKUP($G724,県名!$B$1:$C$49,2,FALSE)","v":"愛  知"}]
[null,"名古屋市立大学",724,"谷口　唯都","ﾀﾆｸﾞﾁ ﾕｲﾄ",2,"愛知県",{"$f":"VLOOKUP($G725,県名!$B$1:$C$49,2,FALSE)","v":"愛  知"}]
[null,"名古屋市立大学",725,"岩田　侑樹","ｲﾜﾀ ﾕｳｷ",2,"愛知県",{"$f":"VLOOKUP($G726,県名!$B$1:$C$49,2,FALSE)","v":"愛  知"}]
[null,"名古屋市立大学",726,"小島　康暉","ｺｼﾞﾏ ﾔｽｱｷ",2,"愛知県",{"$f":"VLOOKUP($G727,県名!$B$1:$C$49,2,FALSE)","v":"愛  知"}]
[null,"名古屋市立大学",727,"足立　洋人","ｱﾀﾞﾁ ﾋﾛﾄ",2,"愛知県",{"$f":"VLOOKUP($G728,県名!$B$1:$C$49,2,FALSE)","v":"愛  知"}]
[null,"名古屋市立大学",728,"山田　剛大","ﾔﾏﾀﾞ ﾀｹﾋﾛ",3,"愛知県",{"$f":"VLOOKUP($G729,県名!$B$1:$C$49,2,FALSE)","v":"愛  知"}]
[null,"名古屋大学",729,"伊藤　裕也","ｲﾄｳ ﾕｳﾔ",4,"愛知県",{"$f":"VLOOKUP($G730,県名!$B$1:$C$49,2,FALSE)","v":"愛  知"}]
[null,"名古屋大学",730,"河上　匠","ｶﾜｶﾐ ﾀｸﾐ",4,"愛知県",{"$f":"VLOOKUP($G731,県名!$B$1:$C$49,2,FALSE)","v":"愛  知"}]
[null,"名古屋大学",731,"松田　克洋","ﾏﾂﾀﾞ ﾖｼﾋﾛ",3,"愛知県",{"$f":"VLOOKUP($G732,県名!$B$1:$C$49,2,FALSE)","v":"愛  知"}]
[null,"名古屋大学",732,"河辺　悦太郎","ｶﾜﾍﾞ ｴﾂﾀﾛｳ","M2","愛知県",{"$f":"VLOOKUP($G733,県名!$B$1:$C$49,2,FALSE)","v":"愛  知"}]
[null,"名古屋大学",733,"西田　亮也","ﾆｼﾀﾞ ﾘｮｳﾔ","M1","滋賀県",{"$f":"VLOOKUP($G734,県名!$B$1:$C$49,2,FALSE)","v":"滋　賀"}]
[null,"名古屋大学",734,"内田　朋秀","ｳﾁﾀﾞ ﾄﾓﾋﾃﾞ",2,"群馬県",{"$f":"VLOOKUP($G735,県名!$B$1:$C$49,2,FALSE)","v":"群　馬"}]
[null,"名古屋大学",735,"昔農　侑大","ｾｷﾉｳ ﾕｳﾀﾞｲ",2,"北海道",{"$f":"VLOOKUP($G736,県名!$B$1:$C$49,2,FALSE)","v":"北海道"}]
[null,"名古屋大学",736,"池亀　透","ｲｹｶﾞﾒ ﾄｵﾙ","D3","愛知県",{"$f":"VLOOKUP($G737,県名!$B$1:$C$49,2,FALSE)","v":"愛  知"}]
[null,"名古屋大学",737,"國司　寛人","ｸﾆｼ ﾋﾛﾄ","D1","愛知県",{"$f":"VLOOKUP($G738,県名!$B$1:$C$49,2,FALSE)","v":"愛  知"}]
[null,"名古屋大学",738,"西尾　文吾","ﾆｼｵ ﾌﾞﾝｺﾞ","M2","岐阜県",{"$f":"VLOOKUP($G739,県名!$B$1:$C$49,2,FALSE)","v":"岐  阜"}]
[null,"名古屋大学",739,"上寺　啓太","ｳｴﾃﾞﾗ ｹｲﾀ","M2","愛知県",{"$f":"VLOOKUP($G740,県名!$B$1:$C$49,2,FALSE)","v":"愛  知"}]
[null,"名古屋大学",740,"藤原　昌平","ﾌｼﾞﾜﾗ ｼｮｳﾍｲ","M2","愛知県",{"$f":"VLOOKUP($G741,県名!$B$1:$C$49,2,FALSE)","v":"愛  知"}]
[null,"名古屋大学",741,"小田　将矢","ｵﾀﾞ ﾏｻﾔ","M1","愛知県",{"$f":"VLOOKUP($G742,県名!$B$1:$C$49,2,FALSE)","v":"愛  知"}]
[null,"名古屋大学",742,"岸田　裕也","ｷｼﾀﾞ ﾕｳﾔ","M2","三重県",{"$f":"VLOOKUP($G743,県名!$B$1:$C$49,2,FALSE)","v":"三  重"}]
[null,"名古屋大学",743,"千葉　俊季","ﾁﾊﾞ ﾄｼｷ","M1","愛知県",{"$f":"VLOOKUP($G744,県名!$B$1:$C$49,2,FALSE)","v":"愛  知"}]
[null,"名古屋大学",744,"角田　涼","ﾂﾉﾀﾞ ﾘｮｳ","M1","愛知県",{"$f":"VLOOKUP($G745,県名!$B$1:$C$49,2,FALSE)","v":"愛  知"}]
[null,"名古屋大学",745,"手石　雅人","ﾃｲｼ ﾏｻﾄ","M1","愛知県",{"$f":"VLOOKUP($G746,県名!$B$1:$C$49,2,FALSE)","v":"愛  知"}]
[null,"名古屋大学",746,"降籏　賢人","ﾌﾙﾊﾀ ｹﾝﾄ","M1","長野県",{"$f":"VLOOKUP($G747,県名!$B$1:$C$49,2,FALSE)","v":"長  野"}]
[null,"名古屋大学",747,"松永　幸大","ﾏﾂﾅｶﾞ ﾕｷﾋﾛ","M1","愛知県",{"$f":"VLOOKUP($G748,県名!$B$1:$C$49,2,FALSE)","v":"愛  知"}]
[null,"名古屋大学",748,"飯田　康平","ｲｲﾀﾞ ｺｳﾍｲ",4,"三重県",{"$f":"VLOOKUP($G749,県名!$B$1:$C$49,2,FALSE)","v":"三  重"}]
[null,"名古屋大学",749,"一林　諒","ｲﾁﾊﾞﾔｼ ﾘｮｳ",4,"愛知県",{"$f":"VLOOKUP($G750,県名!$B$1:$C$49,2,FALSE)","v":"愛  知"}]
[null,"名古屋大学",750,"稲見　英和","ｲﾅﾐ ﾋﾃﾞｶｽﾞ",4,"愛知県",{"$f":"VLOOKUP($G751,県名!$B$1:$C$49,2,FALSE)","v":"愛  知"}]
[null,"名古屋大学",751,"岩井　宏樹","ｲﾜｲ ﾋﾛｷ",4,"愛知県",{"$f":"VLOOKUP($G752,県名!$B$1:$C$49,2,FALSE)","v":"愛  知"}]
[null,"名古屋大学",752,"浮津　照也","ｳｷﾂ ﾃﾙﾔ",4,"愛知県",{"$f":"VLOOKUP($G753,県名!$B$1:$C$49,2,FALSE)","v":"愛  知"}]
[null,"名古屋大学",753,"加藤　敦貴","ｶﾄｳ ｱﾂｷ",4,"岐阜県",{"$f":"VLOOKUP($G754,県名!$B$1:$C$49,2,FALSE)","v":"岐  阜"}]
[null,"名古屋大学",754,"木村　健太郎","ｷﾑﾗ ｹﾝﾀﾛｳ",4,"愛知県",{"$f":"VLOOKUP($G755,県名!$B$1:$C$49,2,FALSE)","v":"愛  知"}]
[null,"名古屋大学",755,"栗林　篤","ｸﾘﾊﾞﾔｼ ｱﾂｼ",4,"長野県",{"$f":"VLOOKUP($G756,県名!$B$1:$C$49,2,FALSE)","v":"長  野"}]
[null,"名古屋大学",756,"柴田　雄斗","ｼﾊﾞﾀ ﾕｳﾄ",4,"愛知県",{"$f":"VLOOKUP($G757,県名!$B$1:$C$49,2,FALSE)","v":"愛  知"}]
[null,"名古屋大学",757,"鈴木　健弘","ｽｽﾞｷ ﾀｹﾋﾛ",4,"愛知県",{"$f":"VLOOKUP($G758,県名!$B$1:$C$49,2,FALSE)","v":"愛  知"}]
[null,"名古屋大学",758,"角屋　喜基","ｽﾐﾔ ﾖｼｷ",4,"愛知県",{"$f":"VLOOKUP($G759,県名!$B$1:$C$49,2,FALSE)","v":"愛  知"}]
[null,"名古屋大学",759,"多賀　駿介","ﾀｶﾞ ｼｭﾝｽｹ",4,"岡山県",{"$f":"VLOOKUP($G760,県名!$B$1:$C$49,2,FALSE)","v":"岡　山"}]
[null,"名古屋大学",760,"竹原　佑亮","ﾀｹﾊﾗ ﾕｳｽｹ",4,"愛知県",{"$f":"VLOOKUP($G761,県名!$B$1:$C$49,2,FALSE)","v":"愛  知"}]
[null,"名古屋大学",761,"戸叶　貴也","ﾄｶﾉ ﾀｶﾔ",4,"静岡県",{"$f":"VLOOKUP($G762,県名!$B$1:$C$49,2,FALSE)","v":"静  岡"}]
[null,"名古屋大学",762,"中野　圭","ﾅｶﾉ ｹｲ",4,"群馬県",{"$f":"VLOOKUP($G763,県名!$B$1:$C$49,2,FALSE)","v":"群　馬"}]
[null,"名古屋大学",763,"長谷川　奨","ﾊｾｶﾞﾜ ｼｮｳ",4,"愛知県",{"$f":"VLOOKUP($G764,県名!$B$1:$C$49,2,FALSE)","v":"愛  知"}]
[null,"名古屋大学",764,"浜島　裕亮","ﾊﾏｼﾞﾏ ﾕｳｽｹ",4,"愛知県",{"$f":"VLOOKUP($G765,県名!$B$1:$C$49,2,FALSE)","v":"愛  知"}]
[null,"名古屋大学",765,"深谷　侑生","ﾌｶﾔ ﾕｳｷ",4,"愛知県",{"$f":"VLOOKUP($G766,県名!$B$1:$C$49,2,FALSE)","v":"愛  知"}]
[null,"名古屋大学",766,"真野　悠太郎","ﾏﾉ ﾕｳﾀﾛｳ",4,"愛知県",{"$f":"VLOOKUP($G767,県名!$B$1:$C$49,2,FALSE)","v":"愛  知"}]
[null,"名古屋大学",767,"山﨑　大輝","ﾔﾏｻﾞｷ ﾀﾞｲｷ",4,"長野県",{"$f":"VLOOKUP($G768,県名!$B$1:$C$49,2,FALSE)","v":"長  野"}]
[null,"名古屋大学",768,"五十嵐　早登","ｲｶﾞﾗｼ ﾊﾔﾄ",3,"福井県",{"$f":"VLOOKUP($G769,県名!$B$1:$C$49,2,FALSE)","v":"福　井"}]
[null,"名古屋大学",769,"幾田　勇希","ｲｸﾀ ﾕｳｷ",3,"愛知県",{"$f":"VLOOKUP($G770,県名!$B$1:$C$49,2,FALSE)","v":"愛  知"}]
[null,"名古屋大学",770,"伊藤　駿一郎","ｲﾄｳ ｼｭﾝｲﾁﾛｳ",3,"愛知県",{"$f":"VLOOKUP($G771,県名!$B$1:$C$49,2,FALSE)","v":"愛  知"}]
[null,"名古屋大学",771,"大内　慎也","ｵｵｳﾁ ｼﾝﾔ",3,"愛知県",{"$f":"VLOOKUP($G772,県名!$B$1:$C$49,2,FALSE)","v":"愛  知"}]
[null,"名古屋大学",772,"小川　瑞貴","ｵｶﾞﾜ ﾐｽﾞｷ",3,"愛知県",{"$f":"VLOOKUP($G773,県名!$B$1:$C$49,2,FALSE)","v":"愛  知"}]
[null,"名古屋大学",773,"小林　陽介","ｺﾊﾞﾔｼ ﾖｳｽｹ",3,"愛知県",{"$f":"VLOOKUP($G774,県名!$B$1:$C$49,2,FALSE)","v":"愛  知"}]
[null,"名古屋大学",774,"小松　遼矢","ｺﾏﾂ ﾘｮｳﾔ",3,"愛知県",{"$f":"VLOOKUP($G775,県名!$B$1:$C$49,2,FALSE)","v":"愛  知"}]
[null,"名古屋大学",775,"小山　航","ｺﾔﾏ ﾜﾀﾙ",3,"愛知県",{"$f":"VLOOKUP($G776,県名!$B$1:$C$49,2,FALSE)","v":"愛  知"}]
[null,"名古屋大学",776,"近藤　利哉","ｺﾝﾄﾞｳ ﾄｼﾔ",3,"愛知県",{"$f":"VLOOKUP($G777,県名!$B$1:$C$49,2,FALSE)","v":"愛  知"}]
[null,"名古屋大学",777,"サーカー　慎悟","ｻｰｶｰ ｼﾝｺﾞ",3,"愛知県",{"$f":"VLOOKUP($G778,県名!$B$1:$C$49,2,FALSE)","v":"愛  知"}]
[null,"名古屋大学",778,"齋藤　俊介","ｻｲﾄｳ ｼｭﾝｽｹ",3,"愛知県",{"$f":"VLOOKUP($G779,県名!$B$1:$C$49,2,FALSE)","v":"愛  知"}]
[null,"名古屋大学",779,"齋藤　幹峻","ｻｲﾄｳ ﾐｷﾄｼ",3,"愛知県",{"$f":"VLOOKUP($G780,県名!$B$1:$C$49,2,FALSE)","v":"愛  知"}]
[null,"名古屋大学",780,"清水　貴也","ｼﾐｽﾞ ﾀｶﾔ",3,"愛知県",{"$f":"VLOOKUP($G781,県名!$B$1:$C$49,2,FALSE)","v":"愛  知"}]
[null,"名古屋大学",781,"新海　涼司","ｼﾝｶｲ ﾘｮｳｼﾞ",3,"愛知県",{"$f":"VLOOKUP($G782,県名!$B$1:$C$49,2,FALSE)","v":"愛  知"}]
[null,"名古屋大学",782,"塚本　亮司","ﾂｶﾓﾄ ﾘｮｳｼﾞ",3,"愛知県",{"$f":"VLOOKUP($G783,県名!$B$1:$C$49,2,FALSE)","v":"愛  知"}]
[null,"名古屋大学",783,"丸地　正人","ﾏﾙﾁ ﾏｻﾄ",3,"愛知県",{"$f":"VLOOKUP($G784,県名!$B$1:$C$49,2,FALSE)","v":"愛  知"}]
[null,"名古屋大学",784,"茂田　孝弘","ﾓﾀﾞ ﾀｶﾋﾛ",3,"愛知県",{"$f":"VLOOKUP($G785,県名!$B$1:$C$49,2,FALSE)","v":"愛  知"}]
[null,"名古屋大学",785,"森　信人","ﾓﾘ ﾉﾌﾞﾋﾄ",3,"岐阜県",{"$f":"VLOOKUP($G786,県名!$B$1:$C$49,2,FALSE)","v":"岐  阜"}]
[null,"名古屋大学",786,"安達　晴哉","ｱﾀﾞﾁ ｾｲﾔ",2,"岐阜県",{"$f":"VLOOKUP($G787,県名!$B$1:$C$49,2,FALSE)","v":"岐  阜"}]
[null,"名古屋大学",787,"伊ヶ崎　一哉","ｲｶﾞｻｷ ｶｽﾞﾔ",2,"愛知県",{"$f":"VLOOKUP($G788,県名!$B$1:$C$49,2,FALSE)","v":"愛  知"}]
[null,"名古屋大学",788,"大江　崇","ｵｵｴ ﾀｶｼ",2,"愛知県",{"$f":"VLOOKUP($G789,県名!$B$1:$C$49,2,FALSE)","v":"愛  知"}]
[null,"名古屋大学",789,"沖島　祐輝","ｵｷｼﾞﾏ ﾕｳｷ",2,"愛知県",{"$f":"VLOOKUP($G790,県名!$B$1:$C$49,2,FALSE)","v":"愛  知"}]
[null,"名古屋大学",790,"勝田　哲史","ｶｯﾀ ﾃﾂﾌﾐ",2,"広島県",{"$f":"VLOOKUP($G791,県名!$B$1:$C$49,2,FALSE)","v":"広　島"}]
[null,"名古屋大学",791,"河上　知良","ｶﾜｶﾐ ﾁｶﾗ",2,"愛知県",{"$f":"VLOOKUP($G792,県名!$B$1:$C$49,2,FALSE)","v":"愛  知"}]
[null,"名古屋大学",792,"清原　和真","ｷﾖﾊﾗ ｶｽﾞﾏ",2,"愛知県",{"$f":"VLOOKUP($G793,県名!$B$1:$C$49,2,FALSE)","v":"愛  知"}]
[null,"名古屋大学",793,"小林　篤生","ｺﾊﾞﾔｼ ｱﾂｷ",2,"福井県",{"$f":"VLOOKUP($G794,県名!$B$1:$C$49,2,FALSE)","v":"福　井"}]
[null,"名古屋大学",794,"中村　光志","ﾅｶﾑﾗ ｺｳｼ",2,"愛知県",{"$f":"VLOOKUP($G795,県名!$B$1:$C$49,2,FALSE)","v":"愛  知"}]
[null,"名古屋大学",795,"長谷川　和紀","ﾊｾｶﾞﾜ ｶｽﾞｷ",2,"三重県",{"$f":"VLOOKUP($G796,県名!$B$1:$C$49,2,FALSE)","v":"三  重"}]
[null,"名古屋大学",796,"馬場口　博誉","ﾊﾞﾊﾞｸﾞﾁ ﾋﾛﾀｶ",2,"愛知県",{"$f":"VLOOKUP($G797,県名!$B$1:$C$49,2,FALSE)","v":"愛  知"}]
[null,"名古屋大学",797,"福本　慎吾","ﾌｸﾓﾄ ｼﾝｺﾞ",2,"愛知県",{"$f":"VLOOKUP($G798,県名!$B$1:$C$49,2,FALSE)","v":"愛  知"}]
[null,"名古屋大学",798,"町田　弦","ﾏﾁﾀﾞ ｹﾞﾝ",2,"三重県",{"$f":"VLOOKUP($G799,県名!$B$1:$C$49,2,FALSE)","v":"三  重"}]
[null,"名古屋大学",799,"山原　光太朗","ﾔﾏﾊﾗ ｺｳﾀﾛｳ",2,"千葉県",{"$f":"VLOOKUP($G800,県名!$B$1:$C$49,2,FALSE)","v":"千　葉"}]
[null,"名古屋大学",800,"和田　慎太郎","ﾜﾀﾞ ｼﾝﾀﾛｳ",2,"三重県",{"$f":"VLOOKUP($G801,県名!$B$1:$C$49,2,FALSE)","v":"三  重"}]
[null,"名古屋大学",801,"鈴木　智大","ｽｽｷﾞ ﾄﾓﾋﾛ",1,"愛知県",{"$f":"VLOOKUP($G802,県名!$B$1:$C$49,2,FALSE)","v":"愛  知"}]
[null,"名古屋大学",802,"冨田　諒","ﾄﾐﾀﾞ ﾘｮｳ",2,"愛知県",{"$f":"VLOOKUP($G803,県名!$B$1:$C$49,2,FALSE)","v":"愛  知"}]
[null,"名城大学",803,"北本　隼","ｷﾀﾓﾄ ﾊﾔﾄ",4,"愛知県",{"$f":"VLOOKUP($G804,県名!$B$1:$C$49,2,FALSE)","v":"愛  知"}]
[null,"名城大学",804,"秋月　隼斗","ｱｷﾂｷ ﾊﾔﾄ",4,"愛知県",{"$f":"VLOOKUP($G805,県名!$B$1:$C$49,2,FALSE)","v":"愛  知"}]
[null,"名城大学",805,"市川　航大","ｲﾁｶﾜ ｺｳﾀﾞｲ",4,"三重県",{"$f":"VLOOKUP($G806,県名!$B$1:$C$49,2,FALSE)","v":"三  重"}]
[null,"名城大学",806,"伊藤　優希","ｲﾄｳ ﾕｳｷ",4,"愛知県",{"$f":"VLOOKUP($G807,県名!$B$1:$C$49,2,FALSE)","v":"愛  知"}]
[null,"名城大学",807,"今枝　慎一郎","ｲﾏｴﾀﾞ ｼﾝｲﾁﾛｳ",4,"愛知県",{"$f":"VLOOKUP($G808,県名!$B$1:$C$49,2,FALSE)","v":"愛  知"}]
[null,"名城大学",808,"鵜飼　浩大","ｳｶｲ ｺｳﾀﾞｲ",4,"愛知県",{"$f":"VLOOKUP($G809,県名!$B$1:$C$49,2,FALSE)","v":"愛  知"}]
[null,"名城大学",809,"遠藤　和也","ｴﾝﾄﾞｳ ｶｽﾞﾔ",4,"長野県",{"$f":"VLOOKUP($G810,県名!$B$1:$C$49,2,FALSE)","v":"長  野"}]
[null,"名城大学",810,"大西　陽文","ｵｵﾆｼ ｱｷﾌﾐ",4,"愛知県",{"$f":"VLOOKUP($G811,県名!$B$1:$C$49,2,FALSE)","v":"愛  知"}]
[null,"名城大学",811,"加藤　良輝","ｶﾄｳ ﾖｼｷ",4,"岐阜県",{"$f":"VLOOKUP($G812,県名!$B$1:$C$49,2,FALSE)","v":"岐  阜"}]
[null,"名城大学",812,"熊崎　文紀","ｸﾏｻﾞｷ ﾌﾐﾉﾘ",4,"愛知県",{"$f":"VLOOKUP($G813,県名!$B$1:$C$49,2,FALSE)","v":"愛  知"}]
[null,"名城大学",813,"後藤　祐貴","ｺﾞﾄｳ ﾕｳｷ",4,"愛知県",{"$f":"VLOOKUP($G814,県名!$B$1:$C$49,2,FALSE)","v":"愛  知"}]
[null,"名城大学",814,"芝野　宏","ｼﾊﾞﾉ ﾋﾛｼ",4,"愛知県",{"$f":"VLOOKUP($G815,県名!$B$1:$C$49,2,FALSE)","v":"愛  知"}]
[null,"名城大学",815,"曽我　晃久","ｿｶﾞ ｱｷﾋｻ",4,"愛知県",{"$f":"VLOOKUP($G816,県名!$B$1:$C$49,2,FALSE)","v":"愛  知"}]
[null,"名城大学",816,"高瀬　光太","ﾀｶｾ ｺｳﾀ",4,"愛知県",{"$f":"VLOOKUP($G817,県名!$B$1:$C$49,2,FALSE)","v":"愛  知"}]
[null,"名城大学",817,"長江　圭徒","ﾅｶﾞｴ ｹｲﾄ",4,"愛知県",{"$f":"VLOOKUP($G818,県名!$B$1:$C$49,2,FALSE)","v":"愛  知"}]
[null,"名城大学",818,"藤井　直希","ﾌｼﾞｲ ﾅｵｷ",4,"愛知県",{"$f":"VLOOKUP($G819,県名!$B$1:$C$49,2,FALSE)","v":"愛  知"}]
[null,"名城大学",819,"古部　大地","ﾌﾙﾍﾞ ﾀﾞｲﾁ",4,"岐阜県",{"$f":"VLOOKUP($G820,県名!$B$1:$C$49,2,FALSE)","v":"岐  阜"}]
[null,"名城大学",820,"石黒　亘","ｲｼｸﾞﾛ ﾜﾀﾙ",3,"愛知県",{"$f":"VLOOKUP($G821,県名!$B$1:$C$49,2,FALSE)","v":"愛  知"}]
[null,"名城大学",821,"大市　啓矢","ｵｵｲﾁ ｹｲﾔ",3,"愛知県",{"$f":"VLOOKUP($G822,県名!$B$1:$C$49,2,FALSE)","v":"愛  知"}]
[null,"名城大学",822,"太田　海","ｵｵﾀ ｶｲ",3,"愛知県",{"$f":"VLOOKUP($G823,県名!$B$1:$C$49,2,FALSE)","v":"愛  知"}]
[null,"名城大学",823,"奥田　周治","ｵｸﾀﾞ ｼｭｳｼﾞ",3,"愛知県",{"$f":"VLOOKUP($G824,県名!$B$1:$C$49,2,FALSE)","v":"愛  知"}]
[null,"名城大学",824,"楠見　和志","ｸｽﾐ ｶｽﾞｼ",3,"愛知県",{"$f":"VLOOKUP($G825,県名!$B$1:$C$49,2,FALSE)","v":"愛  知"}]
[null,"名城大学",825,"西田　彪人","ﾆｼﾀﾞ ｱﾔﾄ",3,"愛知県",{"$f":"VLOOKUP($G826,県名!$B$1:$C$49,2,FALSE)","v":"愛  知"}]
[null,"名城大学",826,"早川　和輝","ﾊﾔｶﾜ ｶｽﾞｷ",3,"愛知県",{"$f":"VLOOKUP($G827,県名!$B$1:$C$49,2,FALSE)","v":"愛  知"}]
[null,"名城大学",827,"元尾　海渡","ﾓﾄｵ ｶｲﾄ",3,"愛知県",{"$f":"VLOOKUP($G828,県名!$B$1:$C$49,2,FALSE)","v":"愛  知"}]
[null,"名城大学",828,"森　賢太郎","ﾓﾘ ｹﾝﾀﾛｳ",3,"愛知県",{"$f":"VLOOKUP($G829,県名!$B$1:$C$49,2,FALSE)","v":"愛  知"}]
[null,"名城大学",829,"山守　拓巳","ﾔﾏﾓﾘ ﾀｸﾐ",3,"愛知県",{"$f":"VLOOKUP($G830,県名!$B$1:$C$49,2,FALSE)","v":"愛  知"}]
[null,"名城大学",830,"磯部　裕斗","ｲｿﾍﾞ ﾕｳﾄ",2,"愛知県",{"$f":"VLOOKUP($G831,県名!$B$1:$C$49,2,FALSE)","v":"愛  知"}]
[null,"名城大学",831,"北川　翔悟","ｷﾀｶﾞﾜ ｼｮｳｺﾞ",2,"岐阜県",{"$f":"VLOOKUP($G832,県名!$B$1:$C$49,2,FALSE)","v":"岐  阜"}]
[null,"名城大学",832,"阪口　日向","ｻｶｸﾞﾁ ﾋﾅﾀ",2,"三重県",{"$f":"VLOOKUP($G833,県名!$B$1:$C$49,2,FALSE)","v":"三  重"}]
[null,"名城大学",833,"三摩　恭平","ｻﾝﾏ ｷｮｳﾍｲ",2,"岐阜県",{"$f":"VLOOKUP($G834,県名!$B$1:$C$49,2,FALSE)","v":"岐  阜"}]
[null,"名城大学",834,"曽我　司","ｿｶﾞ ﾂｶｻ",2,"愛知県",{"$f":"VLOOKUP($G835,県名!$B$1:$C$49,2,FALSE)","v":"愛  知"}]
[null,"名城大学",835,"田中　翔也","ﾀﾅｶ ｼｮｳﾔ",2,"愛知県",{"$f":"VLOOKUP($G836,県名!$B$1:$C$49,2,FALSE)","v":"愛  知"}]
[null,"名城大学",836,"簗瀬　友希","ﾔﾅｾ ﾕｳｷ",2,"愛知県",{"$f":"VLOOKUP($G837,県名!$B$1:$C$49,2,FALSE)","v":"愛  知"}]
[null,"名城大学",837,"二宮　涼佑","ﾆﾉﾐﾔ ﾘｮｳｽｹ",1,"岐阜県",{"$f":"VLOOKUP($G838,県名!$B$1:$C$49,2,FALSE)","v":"岐  阜"}]
[null,"鈴鹿工業高等専門学校",838,"保坂　翔也","ﾎｻｶ ｼｮｳﾔ","S2","三重県",{"$f":"VLOOKUP($G839,県名!$B$1:$C$49,2,FALSE)","v":"三  重"}]
[null,"鈴鹿工業高等専門学校",839,"近藤　啓太","ｺﾝﾄﾞｳ ｹｲﾀ","S1","三重県",{"$f":"VLOOKUP($G840,県名!$B$1:$C$49,2,FALSE)","v":"三  重"}]
[null,"鈴鹿工業高等専門学校",840,"中脇　裕也","ﾅｶﾜｷ ﾕｳﾔ",5,"三重県",{"$f":"VLOOKUP($G841,県名!$B$1:$C$49,2,FALSE)","v":"三  重"}]
[null,"鈴鹿工業高等専門学校",841,"藤谷　雄紀","ﾌｼﾞﾔ ﾕｳｷ",5,"三重県",{"$f":"VLOOKUP($G842,県名!$B$1:$C$49,2,FALSE)","v":"三  重"}]
[null,"鈴鹿工業高等専門学校",842,"藤田　亮太","ﾌｼﾞﾀ ﾘｮｳﾀ",5,"三重県",{"$f":"VLOOKUP($G843,県名!$B$1:$C$49,2,FALSE)","v":"三  重"}]
[null,"鈴鹿工業高等専門学校",843,"中村　郁仁","ﾅｶﾑﾗ ｲｸﾄ",4,"三重県",{"$f":"VLOOKUP($G844,県名!$B$1:$C$49,2,FALSE)","v":"三  重"}]
[null,"鈴鹿工業高等専門学校",844,"笹川　雄飛","ｻｻｶﾜ ﾕｳﾋ",4,"三重県",{"$f":"VLOOKUP($G845,県名!$B$1:$C$49,2,FALSE)","v":"三  重"}]
[null,"日本福祉大学",845,"乾　勝悟","ｲﾇｲ ｼｮｳｺﾞ",4,"愛知県",{"$f":"VLOOKUP($G846,県名!$B$1:$C$49,2,FALSE)","v":"愛  知"}]
[null,"日本福祉大学",846,"依田　明大","ﾖﾘﾀ ｱｷﾋﾛ",4,"愛知県",{"$f":"VLOOKUP($G847,県名!$B$1:$C$49,2,FALSE)","v":"愛  知"}]
[null,"日本福祉大学",847,"森重　一真","ﾓﾘｼｹﾞ ｶｽﾞﾏ",3,"愛知県",{"$f":"VLOOKUP($G848,県名!$B$1:$C$49,2,FALSE)","v":"愛  知"}]
[null,"日本福祉大学",848,"岡安　達也","ｵｶﾔｽ ﾀﾂﾔ",2,"愛知県",{"$f":"VLOOKUP($G849,県名!$B$1:$C$49,2,FALSE)","v":"愛  知"}]
[null,"日本福祉大学",849,"榊原　章人","ｻｶｷﾊﾞﾗ ｱｷﾋﾄ",2,"愛知県",{"$f":"VLOOKUP($G850,県名!$B$1:$C$49,2,FALSE)","v":"愛  知"}]
[null,"日本福祉大学",850,"須崎　剛","ｽｻｷ ｺﾞｳ",2,"愛知県",{"$f":"VLOOKUP($G851,県名!$B$1:$C$49,2,FALSE)","v":"愛  知"}]
[null,"日本福祉大学",851,"須田　達司","ｽﾀﾞ ﾀﾂｼﾞ",2,"愛知県",{"$f":"VLOOKUP($G852,県名!$B$1:$C$49,2,FALSE)","v":"愛  知"}]
[null,"日本福祉大学",852,"高辻　雅也","ﾀｶﾂｼﾞ ﾏｻﾔ",2,"愛知県",{"$f":"VLOOKUP($G853,県名!$B$1:$C$49,2,FALSE)","v":"愛  知"}]
[null,"日本福祉大学",853,"高橋　峻也","ﾀｶﾊｼ ｼｭﾝﾔ",2,"鳥取県",{"$f":"VLOOKUP($G854,県名!$B$1:$C$49,2,FALSE)","v":"鳥　取"}]
[null,"日本福祉大学",854,"宮嵜　侑登","ﾐﾔｻﾞｷ ﾕｳﾄ",2,"愛知県",{"$f":"VLOOKUP($G855,県名!$B$1:$C$49,2,FALSE)","v":"愛  知"}]
[null,"日本福祉大学",855,"乾　将勝","ｲﾇｲ ﾏｻｶﾂ",1,"愛知県",{"$f":"VLOOKUP($G856,県名!$B$1:$C$49,2,FALSE)","v":"愛  知"}]
[null,"岐阜経済大学",856,"篠田　大貴","ｼﾉﾀﾞ ﾋﾛｷ","M2","岐阜県",{"$f":"VLOOKUP($G857,県名!$B$1:$C$49,2,FALSE)","v":"岐  阜"}]
[null,"岐阜経済大学",857,"石倉　南斗","ｲｼｸﾗ ﾐﾅﾄ",4,"新潟県",{"$f":"VLOOKUP($G858,県名!$B$1:$C$49,2,FALSE)","v":"新　潟"}]
[null,"岐阜経済大学",858,"石野　竜成","ｲｼﾉ ﾘｭｳｾｲ",4,"愛知県",{"$f":"VLOOKUP($G859,県名!$B$1:$C$49,2,FALSE)","v":"愛  知"}]
[null,"岐阜経済大学",859,"伊髙　良介","ｲﾀｶ ﾘｮｳｽｹ",4,"三重県",{"$f":"VLOOKUP($G860,県名!$B$1:$C$49,2,FALSE)","v":"三  重"}]
[null,"岐阜経済大学",860,"内久保　貴人","ｳﾁｸﾎﾞ ﾀｶﾄ",4,"岐阜県",{"$f":"VLOOKUP($G861,県名!$B$1:$C$49,2,FALSE)","v":"岐  阜"}]
[null,"岐阜経済大学",861,"大栗　光源","ｵｵｸﾞﾘ ﾃﾙﾓﾄ",4,"愛知県",{"$f":"VLOOKUP($G862,県名!$B$1:$C$49,2,FALSE)","v":"愛  知"}]
[null,"岐阜経済大学",862,"小田　直弥","ｵﾀﾞ ﾅｵﾔ",4,"岐阜県",{"$f":"VLOOKUP($G863,県名!$B$1:$C$49,2,FALSE)","v":"岐  阜"}]
[null,"岐阜経済大学",863,"金田　綾大","ｶﾈﾀﾞ ﾘｮｳﾀ",4,"富山県",{"$f":"VLOOKUP($G864,県名!$B$1:$C$49,2,FALSE)","v":"富　山"}]
[null,"岐阜経済大学",864,"鎌土　翼","ｶﾏﾂﾁ ﾂﾊﾞｻ",4,"高知県",{"$f":"VLOOKUP($G865,県名!$B$1:$C$49,2,FALSE)","v":"高　知"}]
[null,"岐阜経済大学",865,"嘉陽　涼馬","ｶﾖｳ ﾘｮｳﾏ",4,"沖縄県",{"$f":"VLOOKUP($G866,県名!$B$1:$C$49,2,FALSE)","v":"沖　縄"}]
[null,"岐阜経済大学",866,"川上　翔平","ｶﾜｶﾐ ｼｮｳﾍｲ",4,"沖縄県",{"$f":"VLOOKUP($G867,県名!$B$1:$C$49,2,FALSE)","v":"沖　縄"}]
[null,"岐阜経済大学",867,"川満　健太","ｶﾜﾐﾂ ｹﾝﾀ",4,"沖縄県",{"$f":"VLOOKUP($G868,県名!$B$1:$C$49,2,FALSE)","v":"沖　縄"}]
[null,"岐阜経済大学",868,"当真　大智","ﾄｳﾏ ﾀﾞｲﾁ",4,"沖縄県",{"$f":"VLOOKUP($G869,県名!$B$1:$C$49,2,FALSE)","v":"沖　縄"}]
[null,"岐阜経済大学",869,"永尾　直哉","ﾅｶﾞｵ ﾅｵﾔ",4,"愛知県",{"$f":"VLOOKUP($G870,県名!$B$1:$C$49,2,FALSE)","v":"愛  知"}]
[null,"岐阜経済大学",870,"松宮　慎友","ﾏﾂﾐﾔ ﾁｶﾄﾓ",4,"滋賀県",{"$f":"VLOOKUP($G871,県名!$B$1:$C$49,2,FALSE)","v":"滋　賀"}]
[null,"岐阜経済大学",871,"水谷　友治","ﾐｽﾞﾀﾆ ﾕｳｼﾞ",4,"愛知県",{"$f":"VLOOKUP($G872,県名!$B$1:$C$49,2,FALSE)","v":"愛  知"}]
[null,"岐阜経済大学",872,"水野　佑哉","ﾐｽﾞﾉ ﾕｳﾔ",4,"岐阜県",{"$f":"VLOOKUP($G873,県名!$B$1:$C$49,2,FALSE)","v":"岐  阜"}]
[null,"岐阜経済大学",873,"山根　大貴","ﾔﾏﾈ ﾀﾞｲｷ",4,"和歌山県",{"$f":"VLOOKUP($G874,県名!$B$1:$C$49,2,FALSE)","v":"和歌山"}]
[null,"岐阜経済大学",874,"揚原　雅士","ｱｹﾞﾊﾗ ﾏｻｼ",3,"福井県",{"$f":"VLOOKUP($G875,県名!$B$1:$C$49,2,FALSE)","v":"福　井"}]
[null,"岐阜経済大学",875,"安次富　貫太","ｱｼﾄﾐ ｶﾝﾀ",3,"沖縄県",{"$f":"VLOOKUP($G876,県名!$B$1:$C$49,2,FALSE)","v":"沖　縄"}]
[null,"岐阜経済大学",876,"飯島　伸広","ｲｲｼﾞﾏ ﾉﾌﾞﾋﾛ",3,"岐阜県",{"$f":"VLOOKUP($G877,県名!$B$1:$C$49,2,FALSE)","v":"岐  阜"}]
[null,"岐阜経済大学",877,"池之上　昂希","ｲｹﾉｳｴ ｺｳｷ",3,"愛知県",{"$f":"VLOOKUP($G878,県名!$B$1:$C$49,2,FALSE)","v":"愛  知"}]
[null,"岐阜経済大学",878,"諌山　英明","ｲｻﾔﾏ ﾋﾃﾞｱｷ",3,"大阪府",{"$f":"VLOOKUP($G879,県名!$B$1:$C$49,2,FALSE)","v":"大　阪"}]
[null,"岐阜経済大学",879,"石崎　秀幸","ｲｼｻﾞｷ ﾋﾃﾞﾕｷ",3,"岐阜県",{"$f":"VLOOKUP($G880,県名!$B$1:$C$49,2,FALSE)","v":"岐  阜"}]
[null,"岐阜経済大学",880,"井上　寿","ｲﾉｳｴ ﾋｻｼ",3,"高知県",{"$f":"VLOOKUP($G881,県名!$B$1:$C$49,2,FALSE)","v":"高　知"}]
[null,"岐阜経済大学",881,"岩永　知樹","ｲﾜﾅｶﾞ ﾄﾓｷ",3,"岐阜県",{"$f":"VLOOKUP($G882,県名!$B$1:$C$49,2,FALSE)","v":"岐  阜"}]
[null,"岐阜経済大学",882,"江南　良浩","ｴﾅﾐ ﾖｼﾋﾛ",3,"福井県",{"$f":"VLOOKUP($G883,県名!$B$1:$C$49,2,FALSE)","v":"福　井"}]
[null,"岐阜経済大学",883,"江村　翼","ｴﾑﾗ ﾂﾊﾞｻ",3,"新潟県",{"$f":"VLOOKUP($G884,県名!$B$1:$C$49,2,FALSE)","v":"新　潟"}]
[null,"岐阜経済大学",884,"大谷　法輝","ｵｵﾀﾆ ｶｽﾞｷ",3,"岐阜県",{"$f":"VLOOKUP($G885,県名!$B$1:$C$49,2,FALSE)","v":"岐  阜"}]
[null,"岐阜経済大学",885,"川田　純平","ｶﾜﾀ ｼﾞｭﾝﾍﾟｲ",3,"沖縄県",{"$f":"VLOOKUP($G886,県名!$B$1:$C$49,2,FALSE)","v":"沖　縄"}]
[null,"岐阜経済大学",886,"神戸　幹也","ｶﾝﾍﾞ ﾐｷﾔ",3,"岐阜県",{"$f":"VLOOKUP($G887,県名!$B$1:$C$49,2,FALSE)","v":"岐  阜"}]
[null,"岐阜経済大学",887,"鬼頭　宏明","ｷﾄｳ ﾋﾛｱｷ",3,"岐阜県",{"$f":"VLOOKUP($G888,県名!$B$1:$C$49,2,FALSE)","v":"岐  阜"}]
[null,"岐阜経済大学",888,"小松　慶士","ｺﾏﾂ ｹｲﾄ",3,"岐阜県",{"$f":"VLOOKUP($G889,県名!$B$1:$C$49,2,FALSE)","v":"岐  阜"}]
[null,"岐阜経済大学",889,"佐々木　海聖","ｻｻｷ ｶｲｾｲ",3,"岐阜県",{"$f":"VLOOKUP($G890,県名!$B$1:$C$49,2,FALSE)","v":"岐  阜"}]
[null,"岐阜経済大学",890,"佐田　連太郎","ｻﾀﾞ ﾚﾝﾀﾛｳ",3,"岐阜県",{"$f":"VLOOKUP($G891,県名!$B$1:$C$49,2,FALSE)","v":"岐  阜"}]
[null,"岐阜経済大学",891,"塩見　建也","ｼｵﾐ ﾀﾂﾔ",3,"岐阜県",{"$f":"VLOOKUP($G892,県名!$B$1:$C$49,2,FALSE)","v":"岐  阜"}]
[null,"岐阜経済大学",892,"篠田　拓海","ｼﾉﾀﾞ ﾀｸﾐ",3,"愛知県",{"$f":"VLOOKUP($G893,県名!$B$1:$C$49,2,FALSE)","v":"愛  知"}]
[null,"岐阜経済大学",893,"島　吉史","ｼﾏ ﾖｼﾋﾄ",3,"沖縄県",{"$f":"VLOOKUP($G894,県名!$B$1:$C$49,2,FALSE)","v":"沖　縄"}]
[null,"岐阜経済大学",894,"鈴木　力斗","ｽｽﾞｷ ﾘｷﾄ",3,"愛知県",{"$f":"VLOOKUP($G895,県名!$B$1:$C$49,2,FALSE)","v":"愛  知"}]
[null,"岐阜経済大学",895,"髙田　裕貴","ﾀｶﾀﾞ ﾕｳｷ",3,"滋賀県",{"$f":"VLOOKUP($G896,県名!$B$1:$C$49,2,FALSE)","v":"滋　賀"}]
[null,"岐阜経済大学",896,"種村　隼介","ﾀﾈﾑﾗ ｼｭﾝｽｹ",3,"岐阜県",{"$f":"VLOOKUP($G897,県名!$B$1:$C$49,2,FALSE)","v":"岐  阜"}]
[null,"岐阜経済大学",897,"中尾　和貴","ﾅｶｵ ｶｽﾞｷ",3,"和歌山県",{"$f":"VLOOKUP($G898,県名!$B$1:$C$49,2,FALSE)","v":"和歌山"}]
[null,"岐阜経済大学",898,"中山　海晟","ﾅｶﾔﾏ ｶｲｾｲ",3,"新潟県",{"$f":"VLOOKUP($G899,県名!$B$1:$C$49,2,FALSE)","v":"新　潟"}]
[null,"岐阜経済大学",899,"西尾　亮祐","ﾆｼｵ ﾘｮｳｽｹ",3,"岐阜県",{"$f":"VLOOKUP($G900,県名!$B$1:$C$49,2,FALSE)","v":"岐  阜"}]
[null,"岐阜経済大学",900,"西口　翔陽","ﾆｼｸﾞﾁ ｼｮｳﾖｳ",3,"三重県",{"$f":"VLOOKUP($G901,県名!$B$1:$C$49,2,FALSE)","v":"三  重"}]
[null,"岐阜経済大学",901,"野本　祐成","ﾉﾓﾄ ﾕｳｾｲ",3,"愛媛県",{"$f":"VLOOKUP($G902,県名!$B$1:$C$49,2,FALSE)","v":"愛　媛"}]
[null,"岐阜経済大学",902,"早川　智貴","ﾊﾔｶﾜ ﾄﾓｷ",3,"岐阜県",{"$f":"VLOOKUP($G903,県名!$B$1:$C$49,2,FALSE)","v":"岐  阜"}]
[null,"岐阜経済大学",903,"藤本　峻介","ﾌｼﾞﾓﾄ ｼｭﾝｽｹ",3,"三重県",{"$f":"VLOOKUP($G904,県名!$B$1:$C$49,2,FALSE)","v":"三  重"}]
[null,"岐阜経済大学",904,"細田　良太","ﾎｿﾀﾞ ﾘｮｳﾀ",3,"大阪府",{"$f":"VLOOKUP($G905,県名!$B$1:$C$49,2,FALSE)","v":"大　阪"}]
[null,"岐阜経済大学",905,"松浦　寿樹也","ﾏﾂｳﾗ ｼﾞｭｷﾔ",3,"富山県",{"$f":"VLOOKUP($G906,県名!$B$1:$C$49,2,FALSE)","v":"富　山"}]
[null,"岐阜経済大学",906,"松橋　采音斗","ﾏﾂﾊｼ ｻﾈﾄ",3,"岐阜県",{"$f":"VLOOKUP($G907,県名!$B$1:$C$49,2,FALSE)","v":"岐  阜"}]
[null,"岐阜経済大学",907,"松原　修","ﾏﾂﾊﾞﾗ ｵｻﾑ",3,"岐阜県",{"$f":"VLOOKUP($G908,県名!$B$1:$C$49,2,FALSE)","v":"岐  阜"}]
[null,"岐阜経済大学",908,"南方　斗喜","ﾐﾅｶﾀ ﾄｷ",3,"和歌山県",{"$f":"VLOOKUP($G909,県名!$B$1:$C$49,2,FALSE)","v":"和歌山"}]
[null,"岐阜経済大学",909,"森本　晃介","ﾓﾘﾓﾄ ｺｳｽｹ",3,"岐阜県",{"$f":"VLOOKUP($G910,県名!$B$1:$C$49,2,FALSE)","v":"岐  阜"}]
[null,"岐阜経済大学",910,"矢野　竜佑","ﾔﾉ ﾘｭｳｽｹ",3,"三重県",{"$f":"VLOOKUP($G911,県名!$B$1:$C$49,2,FALSE)","v":"三  重"}]
[null,"岐阜経済大学",911,"米山　遼","ﾖﾈﾔﾏ ﾘｮｳ",3,"岐阜県",{"$f":"VLOOKUP($G912,県名!$B$1:$C$49,2,FALSE)","v":"岐  阜"}]
[null,"岐阜経済大学",912,"渡邉　陸椰","ﾜﾀﾅﾍﾞ ﾘｸﾔ",3,"大阪府",{"$f":"VLOOKUP($G913,県名!$B$1:$C$49,2,FALSE)","v":"大　阪"}]
[null,"岐阜経済大学",913,"石川　舜大","ｲｼｶﾜ ｼｭﾝﾀ",2,"富山県",{"$f":"VLOOKUP($G914,県名!$B$1:$C$49,2,FALSE)","v":"富　山"}]
[null,"岐阜経済大学",914,"石川　大介","ｲｼｶﾜ ﾀﾞｲｽｹ",2,"愛知県",{"$f":"VLOOKUP($G915,県名!$B$1:$C$49,2,FALSE)","v":"愛  知"}]
[null,"岐阜経済大学",915,"魚浦　勇樹","ｳｵｳﾗ ﾕｳｷ",2,"富山県",{"$f":"VLOOKUP($G916,県名!$B$1:$C$49,2,FALSE)","v":"富　山"}]
[null,"岐阜経済大学",916,"大村　司","ｵｵﾑﾗ ﾂｶｻ",2,"島根県",{"$f":"VLOOKUP($G917,県名!$B$1:$C$49,2,FALSE)","v":"島　根"}]
[null,"岐阜経済大学",917,"岡田　公陽","ｵｶﾀﾞ ｺｳﾖｳ",2,"三重県",{"$f":"VLOOKUP($G918,県名!$B$1:$C$49,2,FALSE)","v":"三  重"}]
[null,"岐阜経済大学",918,"桂田　瑞貴","ｶﾂﾗﾀﾞ ﾐｽﾞｷ",2,"秋田県",{"$f":"VLOOKUP($G919,県名!$B$1:$C$49,2,FALSE)","v":"秋　田"}]
[null,"岐阜経済大学",919,"兼山　天志","ｶﾈﾔﾏ ﾀｶﾕｷ",2,"岐阜県",{"$f":"VLOOKUP($G920,県名!$B$1:$C$49,2,FALSE)","v":"岐  阜"}]
[null,"岐阜経済大学",920,"小林　ジュンオマードゥ","ｺﾊﾞﾔｼ ｼﾞｭﾝｵﾏｰﾄﾞｩ",2,"岐阜県",{"$f":"VLOOKUP($G921,県名!$B$1:$C$49,2,FALSE)","v":"岐  阜"}]
[null,"岐阜経済大学",921,"塩谷　光生","ｼｵﾔ ｺﾉﾊ",2,"岐阜県",{"$f":"VLOOKUP($G922,県名!$B$1:$C$49,2,FALSE)","v":"岐  阜"}]
[null,"岐阜経済大学",922,"杉山　諒太郎","ｽｷﾞﾔﾏ ﾘｮｳﾀﾛｳ",2,"愛知県",{"$f":"VLOOKUP($G923,県名!$B$1:$C$49,2,FALSE)","v":"愛  知"}]
[null,"岐阜経済大学",923,"高橋　来唯","ﾀｶﾊｼ ﾗｲ",2,"岐阜県",{"$f":"VLOOKUP($G924,県名!$B$1:$C$49,2,FALSE)","v":"岐  阜"}]
[null,"岐阜経済大学",924,"田中　亮伍","ﾀﾅｶ ﾘｮｳｺﾞ",2,"島根県",{"$f":"VLOOKUP($G925,県名!$B$1:$C$49,2,FALSE)","v":"島　根"}]
[null,"岐阜経済大学",925,"棚橋　陸","ﾀﾅﾊｼ ﾘｸ",2,"岐阜県",{"$f":"VLOOKUP($G926,県名!$B$1:$C$49,2,FALSE)","v":"岐  阜"}]
[null,"岐阜経済大学",926,"田原　蓮","ﾀﾊﾗ ﾚﾝ",2,"岐阜県",{"$f":"VLOOKUP($G927,県名!$B$1:$C$49,2,FALSE)","v":"岐  阜"}]
[null,"岐阜経済大学",927,"鶴　凌輔","ﾂﾙ ﾘｮｳｽｹ",2,"宮崎県",{"$f":"VLOOKUP($G928,県名!$B$1:$C$49,2,FALSE)","v":"宮　崎"}]
[null,"岐阜経済大学",928,"鍋島　尚樹","ﾅﾍﾞｼﾏ ﾅｵｷ",2,"岐阜県",{"$f":"VLOOKUP($G929,県名!$B$1:$C$49,2,FALSE)","v":"岐  阜"}]
[null,"岐阜経済大学",929,"野原　幹汰","ﾉﾊﾗ ｶﾝﾀ",2,"岐阜県",{"$f":"VLOOKUP($G930,県名!$B$1:$C$49,2,FALSE)","v":"岐  阜"}]
[null,"岐阜経済大学",930,"原　レノン","ﾊﾗ ﾚﾉﾝ",2,"岐阜県",{"$f":"VLOOKUP($G931,県名!$B$1:$C$49,2,FALSE)","v":"岐  阜"}]
[null,"岐阜経済大学",931,"日野　蓮","ﾋﾉ ﾚﾝ",2,"愛知県",{"$f":"VLOOKUP($G932,県名!$B$1:$C$49,2,FALSE)","v":"愛  知"}]
[null,"岐阜経済大学",932,"藤澤　陽介","ﾌｼﾞｻﾜ ﾖｳｽｹ",2,"福井県",{"$f":"VLOOKUP($G933,県名!$B$1:$C$49,2,FALSE)","v":"福　井"}]
[null,"岐阜経済大学",933,"藤本　結仁","ﾌｼﾞﾓﾄ ﾕｳｼﾞﾝ",2,"岐阜県",{"$f":"VLOOKUP($G934,県名!$B$1:$C$49,2,FALSE)","v":"岐  阜"}]
[null,"岐阜経済大学",934,"古川　竜之介","ﾌﾙｶﾜ ﾘｭｳﾉｽｹ",2,"静岡県",{"$f":"VLOOKUP($G935,県名!$B$1:$C$49,2,FALSE)","v":"静  岡"}]
[null,"岐阜経済大学",935,"堀田　歩夢","ﾎﾘﾀ ｱﾕﾑ",2,"岐阜県",{"$f":"VLOOKUP($G936,県名!$B$1:$C$49,2,FALSE)","v":"岐  阜"}]
[null,"岐阜経済大学",936,"前粟蔵　孝太","ﾏｴｱﾜｸﾗ ｺｳﾀ",2,"岐阜県",{"$f":"VLOOKUP($G937,県名!$B$1:$C$49,2,FALSE)","v":"岐  阜"}]
[null,"岐阜経済大学",937,"松本　稜河","ﾏﾂﾓﾄ ﾘｮｳｶﾞ",2,"愛知県",{"$f":"VLOOKUP($G938,県名!$B$1:$C$49,2,FALSE)","v":"愛  知"}]
[null,"岐阜経済大学",938,"望月　陸","ﾓﾁﾂﾞｷ ﾘｸ",2,"静岡県",{"$f":"VLOOKUP($G939,県名!$B$1:$C$49,2,FALSE)","v":"静  岡"}]
[null,"岐阜経済大学",939,"山内　佑太","ﾔﾏｳﾁ ﾕｳﾀ",2,"沖縄県",{"$f":"VLOOKUP($G940,県名!$B$1:$C$49,2,FALSE)","v":"沖　縄"}]
[null,"岐阜経済大学",940,"山田　航","ﾔﾏﾀﾞ ﾜﾀﾙ",2,"岐阜県",{"$f":"VLOOKUP($G941,県名!$B$1:$C$49,2,FALSE)","v":"岐  阜"}]
[null,"岐阜経済大学",941,"山本　兼也","ﾔﾏﾓﾄ ｹﾝﾔ",2,"三重県",{"$f":"VLOOKUP($G942,県名!$B$1:$C$49,2,FALSE)","v":"三  重"}]
[null,"岐阜経済大学",942,"吉田　雷希","ﾖｼﾀﾞ ﾗｲｷ",2,"岐阜県",{"$f":"VLOOKUP($G943,県名!$B$1:$C$49,2,FALSE)","v":"岐  阜"}]
[null,"岐阜経済大学",943,"鷲田　伸太郎","ﾜｼﾀﾞ ｼﾝﾀﾛｳ",2,"三重県",{"$f":"VLOOKUP($G944,県名!$B$1:$C$49,2,FALSE)","v":"三  重"}]
[null,"岐阜経済大学",944,"浅川　尚輝","ｱｻｶﾜ ﾅｵｷ",1,"福井県",{"$f":"VLOOKUP($G945,県名!$B$1:$C$49,2,FALSE)","v":"福　井"}]
[null,"岐阜経済大学",945,"池田　悠人","ｲｹﾀﾞ ﾕｳﾄ",1,"岐阜県",{"$f":"VLOOKUP($G946,県名!$B$1:$C$49,2,FALSE)","v":"岐  阜"}]
[null,"岐阜経済大学",946,"伊集　盛哉","ｲｼﾞｭｳ ｾｲﾔ",1,"沖縄県",{"$f":"VLOOKUP($G947,県名!$B$1:$C$49,2,FALSE)","v":"沖　縄"}]
[null,"岐阜経済大学",947,"井町　文也","ｲﾏﾁ ﾌﾐﾔ",1,"岐阜県",{"$f":"VLOOKUP($G948,県名!$B$1:$C$49,2,FALSE)","v":"岐  阜"}]
[null,"岐阜経済大学",948,"上田　大智","ｳｴﾀﾞ ﾀｲﾁ",1,"富山県",{"$f":"VLOOKUP($G949,県名!$B$1:$C$49,2,FALSE)","v":"富　山"}]
[null,"岐阜経済大学",949,"臼井　智哉","ｳｽｲ ﾄﾓﾔ",1,"三重県",{"$f":"VLOOKUP($G950,県名!$B$1:$C$49,2,FALSE)","v":"三  重"}]
[null,"岐阜経済大学",950,"大島　実","ｵｵｼﾏ ﾐﾉﾙ",1,"滋賀県",{"$f":"VLOOKUP($G951,県名!$B$1:$C$49,2,FALSE)","v":"滋　賀"}]
[null,"岐阜経済大学",951,"岡﨑　大河","ｵｶｻﾞｷ ﾀｲｶﾞ",1,"和歌山県",{"$f":"VLOOKUP($G952,県名!$B$1:$C$49,2,FALSE)","v":"和歌山"}]
[null,"岐阜経済大学",952,"木本　僚二","ｷﾓﾄ ﾘｮｳｼﾞ",1,"愛知県",{"$f":"VLOOKUP($G953,県名!$B$1:$C$49,2,FALSE)","v":"愛  知"}]
[null,"岐阜経済大学",953,"塩見　祐斗","ｼｵﾐ ﾕｳﾄ",1,"三重県",{"$f":"VLOOKUP($G954,県名!$B$1:$C$49,2,FALSE)","v":"三  重"}]
[null,"岐阜経済大学",954,"鷲見　泰弘","ｽﾐ ﾔｽﾋﾛ",1,"岐阜県",{"$f":"VLOOKUP($G955,県名!$B$1:$C$49,2,FALSE)","v":"岐  阜"}]
[null,"岐阜経済大学",955,"竹本　竜也","ﾀｹﾓﾄ ﾀﾂﾔ",1,"和歌山県",{"$f":"VLOOKUP($G956,県名!$B$1:$C$49,2,FALSE)","v":"和歌山"}]
[null,"岐阜経済大学",956,"橘　海","ﾀﾁﾊﾞﾅ ｶｲ",1,"滋賀県",{"$f":"VLOOKUP($G957,県名!$B$1:$C$49,2,FALSE)","v":"滋　賀"}]
[null,"岐阜経済大学",957,"知念　冴","ﾁﾈﾝ ｻｴﾙ",1,"岐阜県",{"$f":"VLOOKUP($G958,県名!$B$1:$C$49,2,FALSE)","v":"岐  阜"}]
[null,"岐阜経済大学",958,"中井　翔輝","ﾅｶｲ ｼｮｳｷ",1,"岐阜県",{"$f":"VLOOKUP($G959,県名!$B$1:$C$49,2,FALSE)","v":"岐  阜"}]
[null,"岐阜経済大学",959,"奈波　竜聖","ﾅﾊ ﾘｭｳｾｲ",1,"岐阜県",{"$f":"VLOOKUP($G960,県名!$B$1:$C$49,2,FALSE)","v":"岐  阜"}]
[null,"岐阜経済大学",960,"納土　翔樹","ﾉｳﾄﾞ ｼｮｳｷ",1,"岐阜県",{"$f":"VLOOKUP($G961,県名!$B$1:$C$49,2,FALSE)","v":"岐  阜"}]
[null,"岐阜経済大学",961,"丸次　悠太","ﾏﾙﾂｷﾞ ﾕｳﾀ",1,"北海道",{"$f":"VLOOKUP($G962,県名!$B$1:$C$49,2,FALSE)","v":"北海道"}]
[null,"岐阜経済大学",962,"宮島　朱里","ﾐﾔｼﾞﾏ ｼｭﾘ",1,"熊本県",{"$f":"VLOOKUP($G963,県名!$B$1:$C$49,2,FALSE)","v":"熊　本"}]
[null,"岐阜経済大学",963,"村上　霞茉","ﾑﾗｶﾐ ｶｽﾞﾏ",1,"北海道",{"$f":"VLOOKUP($G964,県名!$B$1:$C$49,2,FALSE)","v":"北海道"}]
[null,"岐阜経済大学",964,"吉村　拓也","ﾖｼﾑﾗ ﾀｸﾔ",1,"岐阜県",{"$f":"VLOOKUP($G965,県名!$B$1:$C$49,2,FALSE)","v":"岐  阜"}]
[null,"岐阜経済大学",965,"井上　雄斗","ｲﾉｳｴ ﾕｳﾄ",4,"岐阜県",{"$f":"VLOOKUP($G966,県名!$B$1:$C$49,2,FALSE)","v":"岐  阜"}]
[null,"岐阜経済大学",966,"遠藤　航","ｴﾝﾄﾞｳ ﾜﾀﾙ",4,"岐阜県",{"$f":"VLOOKUP($G967,県名!$B$1:$C$49,2,FALSE)","v":"岐  阜"}]
[null,"岐阜経済大学",967,"菅　桂太朗","ｶﾝ ｹｲﾀﾛｳ",4,"岐阜県",{"$f":"VLOOKUP($G968,県名!$B$1:$C$49,2,FALSE)","v":"岐  阜"}]
[null,"岐阜経済大学",968,"宜名眞　清悟","ｷﾞﾅﾏ ｾｲｺﾞ",4,"岐阜県",{"$f":"VLOOKUP($G969,県名!$B$1:$C$49,2,FALSE)","v":"岐  阜"}]
[null,"岐阜経済大学",969,"関根　愁矢","ｾｷﾈ ｼｭｳﾔ",4,"岐阜県",{"$f":"VLOOKUP($G970,県名!$B$1:$C$49,2,FALSE)","v":"岐  阜"}]
[null,"岐阜経済大学",970,"平良　耕陽","ﾀｲﾗ ｺｳﾖｳ",4,"岐阜県",{"$f":"VLOOKUP($G971,県名!$B$1:$C$49,2,FALSE)","v":"岐  阜"}]
[null,"岐阜経済大学",971,"田口　雄太郎","ﾀｸﾞﾁ ﾕｳﾀﾛｳ",4,"岐阜県",{"$f":"VLOOKUP($G972,県名!$B$1:$C$49,2,FALSE)","v":"岐  阜"}]
[null,"岐阜経済大学",972,"武隈　泰貴","ﾀｹｸﾏ ﾀｲｷ",4,"岐阜県",{"$f":"VLOOKUP($G973,県名!$B$1:$C$49,2,FALSE)","v":"岐  阜"}]
[null,"岐阜経済大学",973,"細江　勇吾","ﾎｿｴ ﾕｳｺﾞ",4,"岐阜県",{"$f":"VLOOKUP($G974,県名!$B$1:$C$49,2,FALSE)","v":"岐  阜"}]
[null,"岐阜経済大学",974,"本田　大勝","ﾎﾝﾀﾞ ﾀﾞｲｶﾂ",4,"岐阜県",{"$f":"VLOOKUP($G975,県名!$B$1:$C$49,2,FALSE)","v":"岐  阜"}]
[null,"岐阜経済大学",975,"山内　大輝","ﾔﾏｳﾁ ﾀｲｷ",4,"岐阜県",{"$f":"VLOOKUP($G976,県名!$B$1:$C$49,2,FALSE)","v":"岐  阜"}]
[null,"岐阜経済大学",976,"安藤　康平","ｱﾝﾄﾞｳ ｺｳﾍｲ",3,"岐阜県",{"$f":"VLOOKUP($G977,県名!$B$1:$C$49,2,FALSE)","v":"岐  阜"}]
[null,"岐阜経済大学",977,"伊藤　和磨","ｲﾄｳ ｶｽﾞﾏ",3,"岐阜県",{"$f":"VLOOKUP($G978,県名!$B$1:$C$49,2,FALSE)","v":"岐  阜"}]
[null,"岐阜経済大学",978,"伊藤　雄基","ｲﾄｳ ﾕｳｷ",3,"岐阜県",{"$f":"VLOOKUP($G979,県名!$B$1:$C$49,2,FALSE)","v":"岐  阜"}]
[null,"岐阜経済大学",979,"神里　裕司","ｶﾐｻﾞﾄ ﾕｳｼﾞ",3,"岐阜県",{"$f":"VLOOKUP($G980,県名!$B$1:$C$49,2,FALSE)","v":"岐  阜"}]
[null,"岐阜経済大学",980,"田立　勇太","ﾀﾀﾞﾁ ﾕｳﾀ",3,"岐阜県",{"$f":"VLOOKUP($G981,県名!$B$1:$C$49,2,FALSE)","v":"岐  阜"}]
[null,"岐阜経済大学",981,"福冨　達也","ﾌｸﾄﾐ ﾀﾂﾔ",3,"岐阜県",{"$f":"VLOOKUP($G982,県名!$B$1:$C$49,2,FALSE)","v":"岐  阜"}]
[null,"岐阜経済大学",982,"水上　優斗","ﾐｽﾞｶﾐ ﾕｳﾄ",3,"岐阜県",{"$f":"VLOOKUP($G983,県名!$B$1:$C$49,2,FALSE)","v":"岐  阜"}]
[null,"岐阜経済大学",983,"宮脇　航平","ﾐﾔﾜｷ ｺｳﾍｲ",3,"岐阜県",{"$f":"VLOOKUP($G984,県名!$B$1:$C$49,2,FALSE)","v":"岐  阜"}]
[null,"岐阜経済大学",984,"淺野　駿介","ｱｻﾉ ｼｭﾝｽｹ",2,"岐阜県",{"$f":"VLOOKUP($G985,県名!$B$1:$C$49,2,FALSE)","v":"岐  阜"}]
[null,"岐阜経済大学",985,"伊藤　聖也","ｲﾄｳ ｾｲﾔ",2,"岐阜県",{"$f":"VLOOKUP($G986,県名!$B$1:$C$49,2,FALSE)","v":"岐  阜"}]
[null,"岐阜経済大学",986,"沖田　龍誠","ｵｷﾀ ﾘｭｳｾｲ",2,"岐阜県",{"$f":"VLOOKUP($G987,県名!$B$1:$C$49,2,FALSE)","v":"岐  阜"}]
[null,"岐阜経済大学",987,"柏　智裕","ｶｼﾜ ﾁﾋﾛ",2,"岐阜県",{"$f":"VLOOKUP($G988,県名!$B$1:$C$49,2,FALSE)","v":"岐  阜"}]
[null,"岐阜経済大学",988,"木村　拓真","ｷﾑﾗ ﾀｸﾏ",2,"岐阜県",{"$f":"VLOOKUP($G989,県名!$B$1:$C$49,2,FALSE)","v":"岐  阜"}]
[null,"岐阜経済大学",989,"小林　和幸","ｺﾊﾞﾔｼ ｶｽﾞﾕｷ",2,"岐阜県",{"$f":"VLOOKUP($G990,県名!$B$1:$C$49,2,FALSE)","v":"岐  阜"}]
[null,"岐阜経済大学",990,"谷坂　颯太","ﾀﾆｻｶ ｿｳﾀ",2,"岐阜県",{"$f":"VLOOKUP($G991,県名!$B$1:$C$49,2,FALSE)","v":"岐  阜"}]
[null,"岐阜経済大学",991,"中村　聡志","ﾅｶﾑﾗ ｻﾄｼ",2,"岐阜県",{"$f":"VLOOKUP($G992,県名!$B$1:$C$49,2,FALSE)","v":"岐  阜"}]
[null,"岐阜経済大学",992,"日谷　優希","ﾋﾀﾆ ﾕｳｷ",2,"岐阜県",{"$f":"VLOOKUP($G993,県名!$B$1:$C$49,2,FALSE)","v":"岐  阜"}]
[null,"岐阜経済大学",993,"増田　惠太","ﾏｽﾀﾞ ｹｲﾀ",2,"岐阜県",{"$f":"VLOOKUP($G994,県名!$B$1:$C$49,2,FALSE)","v":"岐  阜"}]
[null,"岐阜経済大学",994,"村上　州","ﾑﾗｶﾐ ｼｭｳ",2,"岐阜県",{"$f":"VLOOKUP($G995,県名!$B$1:$C$49,2,FALSE)","v":"岐  阜"}]
[null,"岐阜経済大学",995,"山﨑　大貴","ﾔﾏｻﾞｷ ﾀﾞｲｷ",2,"岐阜県",{"$f":"VLOOKUP($G996,県名!$B$1:$C$49,2,FALSE)","v":"岐  阜"}]
[null,"岐阜経済大学",996,"山城　広大","ﾔﾏｼﾛ ｺｳﾀﾞｲ",2,"岐阜県",{"$f":"VLOOKUP($G997,県名!$B$1:$C$49,2,FALSE)","v":"岐  阜"}]
[null,"岐阜経済大学",997,"井樋　拓哉","ｲﾋﾞ ﾀｸﾔ",1,"岐阜県",{"$f":"VLOOKUP($G998,県名!$B$1:$C$49,2,FALSE)","v":"岐  阜"}]
[null,"岐阜経済大学",998,"榮野川　晴生","ｴﾉｶﾜ ﾊﾙｷ",1,"岐阜県",{"$f":"VLOOKUP($G999,県名!$B$1:$C$49,2,FALSE)","v":"岐  阜"}]
[null,"岐阜経済大学",999,"大橋　光太郎","ｵｵﾊｼ ｺｳﾀﾛｳ",1,"岐阜県",{"$f":"VLOOKUP($G1000,県名!$B$1:$C$49,2,FALSE)","v":"岐  阜"}]
[null,"岐阜経済大学",1000,"上小川　リウキ","ｶﾐｺｶﾞﾜ ﾘｳｷ",1,"岐阜県",{"$f":"VLOOKUP($G1001,県名!$B$1:$C$49,2,FALSE)","v":"岐  阜"}]
[null,"岐阜経済大学",1001,"榊原　陸","ｻｶｷﾊﾞﾗ ﾘｸ",1,"岐阜県",{"$f":"VLOOKUP($G1002,県名!$B$1:$C$49,2,FALSE)","v":"岐  阜"}]
[null,"岐阜経済大学",1002,"土川　未来也","ﾂﾁｶﾜ ﾐｷﾔ",1,"岐阜県",{"$f":"VLOOKUP($G1003,県名!$B$1:$C$49,2,FALSE)","v":"岐  阜"}]
[null,"岐阜経済大学",1003,"仲村　啓助","ﾅｶﾑﾗ ｹｲｽｹ",1,"岐阜県",{"$f":"VLOOKUP($G1004,県名!$B$1:$C$49,2,FALSE)","v":"岐  阜"}]
[null,"岐阜経済大学",1004,"西村　崚","ﾆｼﾑﾗ ﾘｮｳ",1,"岐阜県",{"$f":"VLOOKUP($G1005,県名!$B$1:$C$49,2,FALSE)","v":"岐  阜"}]
[null,"岐阜経済大学",1005,"西部　剛史","ﾆｼﾌﾞ ﾀｶｼ",1,"岐阜県",{"$f":"VLOOKUP($G1006,県名!$B$1:$C$49,2,FALSE)","v":"岐  阜"}]
[null,"岐阜経済大学",1006,"渡辺　翔哉","ﾜﾀﾅﾍﾞ ｼｮｳﾔ",1,"岐阜県",{"$f":"VLOOKUP($G1007,県名!$B$1:$C$49,2,FALSE)","v":"岐  阜"}]
[null,"愛知医科大学",1007,"國吉　祥汰","ｸﾆﾖｼ ｼｮｳﾀ","6","愛知県",{"$f":"VLOOKUP($G1008,県名!$B$1:$C$49,2,FALSE)","v":"愛  知"}]
[null,"愛知医科大学",1008,"飯田　悠介","ｲｲﾀﾞ ﾕｳｽｹ","6","愛知県",{"$f":"VLOOKUP($G1009,県名!$B$1:$C$49,2,FALSE)","v":"愛  知"}]
[null,"愛知医科大学",1009,"武田　尚樹","ﾀｹﾀﾞ ﾅｵｷ","2","愛知県",{"$f":"VLOOKUP($G1010,県名!$B$1:$C$49,2,FALSE)","v":"愛  知"}]
[null,"愛知医科大学",1010,"中村　謙斗","ﾅｶﾑﾗ ｹﾝﾄ","5","愛知県",{"$f":"VLOOKUP($G1011,県名!$B$1:$C$49,2,FALSE)","v":"愛  知"}]
[null,"愛知医科大学",1011,"木附　大晴","ｷﾂｷ ﾀｲｾｲ","4","愛知県",{"$f":"VLOOKUP($G1012,県名!$B$1:$C$49,2,FALSE)","v":"愛  知"}]
[null,"愛知医科大学",1012,"石井　宏和","ｲｼｲ ﾋﾛｶｽﾞ","5","愛知県",{"$f":"VLOOKUP($G1013,県名!$B$1:$C$49,2,FALSE)","v":"愛  知"}]
[null,"愛知医科大学",1013,"河邊　健人","ｶﾜﾍﾞ ｹﾝﾄ","4","愛知県",{"$f":"VLOOKUP($G1014,県名!$B$1:$C$49,2,FALSE)","v":"愛  知"}]
[null,"愛知医科大学",1014,"佐々木　康太郎","ｻｻｷ ｺｳﾀﾛｳ","3","愛知県",{"$f":"VLOOKUP($G1015,県名!$B$1:$C$49,2,FALSE)","v":"愛  知"}]
[null,"愛知淑徳大学",1015,"山本　涼太","ﾔﾏﾓﾄ ﾘｮｳﾀ","2","愛知県",{"$f":"VLOOKUP($G1016,県名!$B$1:$C$49,2,FALSE)","v":"愛  知"}]
[null,"愛知淑徳大学",1016,"中島　寛康","ﾅｶｼﾏ ﾋﾛﾔｽ","3","愛知県",{"$f":"VLOOKUP($G1017,県名!$B$1:$C$49,2,FALSE)","v":"愛  知"}]
[null,"愛知淑徳大学",1017,"早川　隆","ﾊﾔｶﾜ ﾀｶｼ","3","愛知県",{"$f":"VLOOKUP($G1018,県名!$B$1:$C$49,2,FALSE)","v":"愛  知"}]
[null,"愛知淑徳大学",1018,"梶　直樹","ｶｼﾞ ﾅｵｷ","2","愛知県",{"$f":"VLOOKUP($G1019,県名!$B$1:$C$49,2,FALSE)","v":"愛  知"}]
[null,"愛知淑徳大学",1019,"鷲野　祐一","ﾜｼﾉ ﾕｳｲﾁ","3","愛知県",{"$f":"VLOOKUP($G1020,県名!$B$1:$C$49,2,FALSE)","v":"愛  知"}]
[null,"愛知淑徳大学",1020,"水野　佑馬","ﾐｽﾞﾉ ﾕｳﾏ","2","愛知県",{"$f":"VLOOKUP($G1021,県名!$B$1:$C$49,2,FALSE)","v":"愛  知"}]
[null,"岐阜大学",1021,"中西　陽人","ﾅｶﾆｼ ﾊﾙﾄ","3","岐阜県",{"$f":"VLOOKUP($G1022,県名!$B$1:$C$49,2,FALSE)","v":"岐  阜"}]
[null,"岐阜大学",1022,"笠原　大暉","ｶｻﾊﾗ ﾀﾞｲｷ","2","岐阜県",{"$f":"VLOOKUP($G1023,県名!$B$1:$C$49,2,FALSE)","v":"岐  阜"}]
[null,"岐阜大学",1023,"出川　正章","ﾃﾞｶﾞﾜ ﾏｻｱｷ","2","岐阜県",{"$f":"VLOOKUP($G1024,県名!$B$1:$C$49,2,FALSE)","v":"岐  阜"}]
[null,"岐阜大学",1024,"和田　雄也","ﾜﾀﾞ ﾕｳﾔ","2","岐阜県",{"$f":"VLOOKUP($G1025,県名!$B$1:$C$49,2,FALSE)","v":"岐  阜"}]
[null,"岐阜大学",1025,"朱　佐木","ｼｭ ｻｷ","5","岐阜県",{"$f":"VLOOKUP($G1026,県名!$B$1:$C$49,2,FALSE)","v":"岐  阜"}]
[null,"岐阜大学",1026,"花木　建貴","ﾊﾅｷ ﾀﾂｷ","5","岐阜県",{"$f":"VLOOKUP($G1027,県名!$B$1:$C$49,2,FALSE)","v":"岐  阜"}]
[null,"岐阜大学",1027,"小宮　健太郎","ｺﾐﾔ ｹﾝﾀﾛｳ","3","岐阜県",{"$f":"VLOOKUP($G1028,県名!$B$1:$C$49,2,FALSE)","v":"岐  阜"}]
[null,"岐阜大学",1028,"渡辺　歩夢","ﾜﾀﾅﾍﾞ ｱﾕﾑ","3","岐阜県",{"$f":"VLOOKUP($G1029,県名!$B$1:$C$49,2,FALSE)","v":"岐  阜"}]
[null,"岐阜大学",1029,"伊藤　雅倫","ｲﾄｳ ﾏｻﾐﾁ","2","岐阜県",{"$f":"VLOOKUP($G1030,県名!$B$1:$C$49,2,FALSE)","v":"岐  阜"}]
[null,"岐阜大学",1030,"出原　圭敏","ｲｽﾞﾊﾗ ｹﾋﾞﾝ","2","岐阜県",{"$f":"VLOOKUP($G1031,県名!$B$1:$C$49,2,FALSE)","v":"岐  阜"}]
[null,"岐阜大学",1031,"岡野　宇真","ｵｶﾉ ﾀｶﾏｻ","2","岐阜県",{"$f":"VLOOKUP($G1032,県名!$B$1:$C$49,2,FALSE)","v":"岐  阜"}]
[null,"岐阜大学",1032,"宗宮　大起","ｿｳﾐﾔ ﾀｲｷ","2","岐阜県",{"$f":"VLOOKUP($G1033,県名!$B$1:$C$49,2,FALSE)","v":"岐  阜"}]
[null,"岐阜薬科大学",1033,"森川　凌多","ﾓﾘｶﾜ ﾘｮｳﾀ","3","岐阜県",{"$f":"VLOOKUP($G1034,県名!$B$1:$C$49,2,FALSE)","v":"岐  阜"}]
[null,"岐阜薬科大学",1034,"安田　啓人","ﾔｽﾀﾞ ﾋﾛﾄ","2","岐阜県",{"$f":"VLOOKUP($G1035,県名!$B$1:$C$49,2,FALSE)","v":"岐  阜"}]
[null,"岐阜薬科大学",1035,"山本　勝也","ﾔﾏﾓﾄ ｶﾂﾔ","5","岐阜県",{"$f":"VLOOKUP($G1036,県名!$B$1:$C$49,2,FALSE)","v":"岐  阜"}]
[null,"岐阜薬科大学",1036,"那須　遼平","ﾅｽ ﾘｮｳﾍｲ","3","岐阜県",{"$f":"VLOOKUP($G1037,県名!$B$1:$C$49,2,FALSE)","v":"岐  阜"}]
[null,"岐阜薬科大学",1037,"工藤　優大","ｸﾄﾞｳ ﾕｳﾀﾞｲ","3","岐阜県",{"$f":"VLOOKUP($G1038,県名!$B$1:$C$49,2,FALSE)","v":"岐  阜"}]
[null,"岐阜薬科大学",1038,"山田　雄太郎","ﾔﾏﾀﾞ ﾕｳﾀﾛｳ","2","岐阜県",{"$f":"VLOOKUP($G1039,県名!$B$1:$C$49,2,FALSE)","v":"岐  阜"}]
[null,"岐阜薬科大学",1039,"河野　真也","ｶﾜﾉ ｼﾝﾔ","2","岐阜県",{"$f":"VLOOKUP($G1040,県名!$B$1:$C$49,2,FALSE)","v":"岐  阜"}]
[null,"皇學館大学",1040,"市川　駿希","ｲﾁｶﾜ ｼｭﾝｷ","1","三重県",{"$f":"VLOOKUP($G1041,県名!$B$1:$C$49,2,FALSE)","v":"三  重"}]
[null,"皇學館大学",1041,"加藤　元紀","ｶﾄｳ ﾓﾄﾉﾘ","1","三重県",{"$f":"VLOOKUP($G1042,県名!$B$1:$C$49,2,FALSE)","v":"三  重"}]
[null,"皇學館大学",1042,"齊藤　希龍","ｻｲﾄｳ ｷﾘｭｳ","1","三重県",{"$f":"VLOOKUP($G1043,県名!$B$1:$C$49,2,FALSE)","v":"三  重"}]
[null,"皇學館大学",1043,"鈴木　翔也","ｽｽﾞｷ ｼｮｳﾔ","1","静岡県",{"$f":"VLOOKUP($G1044,県名!$B$1:$C$49,2,FALSE)","v":"静  岡"}]
[null,"皇學館大学",1044,"田中　翔大","ﾀﾅｶ ｼｮｳﾀ","1","三重県",{"$f":"VLOOKUP($G1045,県名!$B$1:$C$49,2,FALSE)","v":"三  重"}]
[null,"皇學館大学",1045,"原田　翼","ﾊﾗﾀﾞ ﾂﾊﾞｻ","1","愛知県",{"$f":"VLOOKUP($G1046,県名!$B$1:$C$49,2,FALSE)","v":"愛  知"}]
[null,"皇學館大学",1046,"松原　隼斗","ﾏﾂﾊﾞﾗ ﾊﾔﾄ","1","三重県",{"$f":"VLOOKUP($G1047,県名!$B$1:$C$49,2,FALSE)","v":"三  重"}]
[null,"至学館大学",1047,"青井　怜央","ｱｵｲ ﾚｵ","3","愛知県",{"$f":"VLOOKUP($G1048,県名!$B$1:$C$49,2,FALSE)","v":"愛  知"}]
[null,"至学館大学",1048,"服田　昌浩","ﾊｯﾀ ﾏｻﾋﾛ","2","愛知県",{"$f":"VLOOKUP($G1049,県名!$B$1:$C$49,2,FALSE)","v":"愛  知"}]
[null,"至学館大学",1049,"津田　楓","ﾂﾀﾞ ｶｴﾃﾞ","1","愛知県",{"$f":"VLOOKUP($G1050,県名!$B$1:$C$49,2,FALSE)","v":"愛  知"}]
[null,"常葉大学",1050,"市川　稜基","ｲﾁｶﾜ ｲﾂﾞｷ","4","静岡県",{"$f":"VLOOKUP($G1051,県名!$B$1:$C$49,2,FALSE)","v":"静  岡"}]
[null,"常葉大学",1051,"岡澤　理久","ｵｶｻﾞﾜ ﾘｸ","4","静岡県",{"$f":"VLOOKUP($G1052,県名!$B$1:$C$49,2,FALSE)","v":"静  岡"}]
[null,"常葉大学",1052,"岡田　賢太","ｵｶﾀﾞ ｹﾝﾀ","4","静岡県",{"$f":"VLOOKUP($G1053,県名!$B$1:$C$49,2,FALSE)","v":"静  岡"}]
[null,"常葉大学",1053,"加藤　真生","ｶﾄｳ ﾏｵ","4","静岡県",{"$f":"VLOOKUP($G1054,県名!$B$1:$C$49,2,FALSE)","v":"静  岡"}]
[null,"常葉大学",1054,"鈴木　隆斗","ｽｽﾞｷ ﾀｶﾄ","4","静岡県",{"$f":"VLOOKUP($G1055,県名!$B$1:$C$49,2,FALSE)","v":"静  岡"}]
[null,"常葉大学",1055,"鈴木　遼太","ｽｽﾞｷ ﾘｮｳﾀ","4","静岡県",{"$f":"VLOOKUP($G1056,県名!$B$1:$C$49,2,FALSE)","v":"静  岡"}]
[null,"常葉大学",1056,"三輪　徳秀","ﾐﾜ ﾉﾘﾋﾃﾞ","4","静岡県",{"$f":"VLOOKUP($G1057,県名!$B$1:$C$49,2,FALSE)","v":"静  岡"}]
[null,"常葉大学",1057,"岩附　龍生","ｲﾜﾂｷ ﾘｭｳｾｲ","3","静岡県",{"$f":"VLOOKUP($G1058,県名!$B$1:$C$49,2,FALSE)","v":"静  岡"}]
[null,"常葉大学",1058,"斉藤　ブルーノ","ｻｲﾄｳ ﾌﾞﾙｰﾉ","3","静岡県",{"$f":"VLOOKUP($G1059,県名!$B$1:$C$49,2,FALSE)","v":"静  岡"}]
[null,"常葉大学",1059,"柴本　恭平","ｼﾊﾞﾓﾄ ｷｮｳﾍｲ","3","静岡県",{"$f":"VLOOKUP($G1060,県名!$B$1:$C$49,2,FALSE)","v":"静  岡"}]
[null,"常葉大学",1060,"鈴木　健生","ｽｽﾞｷ ｹﾝｾｲ","3","静岡県",{"$f":"VLOOKUP($G1061,県名!$B$1:$C$49,2,FALSE)","v":"静  岡"}]
[null,"常葉大学",1061,"鈴木　太修","ｽｽﾞｷ ﾀｲｼｭｳ","3","静岡県",{"$f":"VLOOKUP($G1062,県名!$B$1:$C$49,2,FALSE)","v":"静  岡"}]
[null,"常葉大学",1062,"諏訪　成貴","ｽﾜ ｼｹﾞｷ","3","静岡県",{"$f":"VLOOKUP($G1063,県名!$B$1:$C$49,2,FALSE)","v":"静  岡"}]
[null,"常葉大学",1063,"西島　亮哉","ﾆｼｼﾞﾏ ﾘｮｳﾔ","3","静岡県",{"$f":"VLOOKUP($G1064,県名!$B$1:$C$49,2,FALSE)","v":"静  岡"}]
[null,"常葉大学",1064,"西埜　拓海","ﾆｼﾉ ﾀｸﾐ","3","静岡県",{"$f":"VLOOKUP($G1065,県名!$B$1:$C$49,2,FALSE)","v":"静  岡"}]
[null,"常葉大学",1065,"疋田　凌也","ﾋｷﾀﾞ ﾘｮｳﾔ","3","静岡県",{"$f":"VLOOKUP($G1066,県名!$B$1:$C$49,2,FALSE)","v":"静  岡"}]
[null,"常葉大学",1066,"牧田　崚矢","ﾏｷﾀ ﾘｮｳﾔ","3","静岡県",{"$f":"VLOOKUP($G1067,県名!$B$1:$C$49,2,FALSE)","v":"静  岡"}]
[null,"常葉大学",1067,"南園　航","ﾐﾅﾐｿﾞﾉ ﾜﾀﾙ","3","静岡県",{"$f":"VLOOKUP($G1068,県名!$B$1:$C$49,2,FALSE)","v":"静  岡"}]
[null,"常葉大学",1068,"峯邑　淳生","ﾐﾈﾑﾗ ｱﾂｷ","3","静岡県",{"$f":"VLOOKUP($G1069,県名!$B$1:$C$49,2,FALSE)","v":"静  岡"}]
[null,"常葉大学",1069,"山田　健太郎","ﾔﾏﾀﾞ ｹﾝﾀﾛｳ","3","静岡県",{"$f":"VLOOKUP($G1070,県名!$B$1:$C$49,2,FALSE)","v":"静  岡"}]
[null,"常葉大学",1070,"山本　康平","ﾔﾏﾓﾄ ｺｳﾍｲ","3","静岡県",{"$f":"VLOOKUP($G1071,県名!$B$1:$C$49,2,FALSE)","v":"静  岡"}]
[null,"常葉大学",1071,"横田　明夫","ﾖｺﾀ ｱｷｵ","3","静岡県",{"$f":"VLOOKUP($G1072,県名!$B$1:$C$49,2,FALSE)","v":"静  岡"}]
[null,"常葉大学",1072,"落合　壱星","ｵﾁｱｲ ｲｯｾｲ","2","静岡県",{"$f":"VLOOKUP($G1073,県名!$B$1:$C$49,2,FALSE)","v":"静  岡"}]
[null,"常葉大学",1073,"井桜　佑斗","ｲｻﾞｸﾗ ﾕｳﾄ","2","静岡県",{"$f":"VLOOKUP($G1074,県名!$B$1:$C$49,2,FALSE)","v":"静  岡"}]
[null,"常葉大学",1074,"門谷　颯星","ｶﾄﾞﾀﾞﾆ ﾊﾔｾ","2","静岡県",{"$f":"VLOOKUP($G1075,県名!$B$1:$C$49,2,FALSE)","v":"静  岡"}]
[null,"常葉大学",1075,"河島　慧佑","ｶﾜｼﾏ ｹｲｽｹ","2","静岡県",{"$f":"VLOOKUP($G1076,県名!$B$1:$C$49,2,FALSE)","v":"静  岡"}]
[null,"常葉大学",1076,"佐々木　啓人","ｻｻｷ ﾋﾛﾄ","2","静岡県",{"$f":"VLOOKUP($G1077,県名!$B$1:$C$49,2,FALSE)","v":"静  岡"}]
[null,"常葉大学",1077,"鈴木　健心","ｽｽﾞｷ ｹﾝｼﾝ","2","静岡県",{"$f":"VLOOKUP($G1078,県名!$B$1:$C$49,2,FALSE)","v":"静  岡"}]
[null,"常葉大学",1078,"鈴木　拓斗","ｽｽﾞｷ ﾀｸﾄ","2","静岡県",{"$f":"VLOOKUP($G1079,県名!$B$1:$C$49,2,FALSE)","v":"静  岡"}]
[null,"常葉大学",1079,"野田　卓広","ﾉﾀﾞ ﾀｶﾋﾛ","2","静岡県",{"$f":"VLOOKUP($G1080,県名!$B$1:$C$49,2,FALSE)","v":"静  岡"}]
[null,"常葉大学",1080,"藤井　悠貴","ﾌｼﾞｲ ﾕｳｷ","2","静岡県",{"$f":"VLOOKUP($G1081,県名!$B$1:$C$49,2,FALSE)","v":"静  岡"}]
[null,"常葉大学",1081,"伊藤　翼","ｲﾄｳ ﾂﾊﾞｻ","1","静岡県",{"$f":"VLOOKUP($G1082,県名!$B$1:$C$49,2,FALSE)","v":"静  岡"}]
[null,"常葉大学",1082,"海野　嘉偉","ｳﾝﾉ ｶｲ","1","静岡県",{"$f":"VLOOKUP($G1083,県名!$B$1:$C$49,2,FALSE)","v":"静  岡"}]
[null,"常葉大学",1083,"大庭　悠汰","ｵｵﾊﾞ ﾕｳﾀ","1","静岡県",{"$f":"VLOOKUP($G1084,県名!$B$1:$C$49,2,FALSE)","v":"静  岡"}]
[null,"常葉大学",1084,"小野　和樹","ｵﾉ ｶｽﾞｷ","1","静岡県",{"$f":"VLOOKUP($G1085,県名!$B$1:$C$49,2,FALSE)","v":"静  岡"}]
[null,"常葉大学",1085,"加藤　和樹","ｶﾄｳ ｶｽﾞｷ","1","静岡県",{"$f":"VLOOKUP($G1086,県名!$B$1:$C$49,2,FALSE)","v":"静  岡"}]
[null,"常葉大学",1086,"柴原　大輝","ｼﾊﾞﾊﾗ ﾀｲｷ","1","静岡県",{"$f":"VLOOKUP($G1087,県名!$B$1:$C$49,2,FALSE)","v":"静  岡"}]
[null,"常葉大学",1087,"清水　湧大","ｼﾐｽﾞ ﾕｳﾀ","1","静岡県",{"$f":"VLOOKUP($G1088,県名!$B$1:$C$49,2,FALSE)","v":"静  岡"}]
[null,"常葉大学",1088,"中畑　魁斗","ﾅｶﾊﾀ ｶｲﾄ","1","静岡県",{"$f":"VLOOKUP($G1089,県名!$B$1:$C$49,2,FALSE)","v":"静  岡"}]
[null,"常葉大学",1089,"疋田　佳祐","ﾋｷﾀﾞ ｹｲｽｹ","1","静岡県",{"$f":"VLOOKUP($G1090,県名!$B$1:$C$49,2,FALSE)","v":"静  岡"}]
[null,"常葉大学",1090,"横馬　侑吏","ﾖｺｳﾏ ﾕｳﾘ","1","静岡県",{"$f":"VLOOKUP($G1091,県名!$B$1:$C$49,2,FALSE)","v":"静  岡"}]
[null,"静岡県立大学",1091,"門脇　航","ｶﾄﾞﾜｷ ﾜﾀﾙ","3","長野県",{"$f":"VLOOKUP($G1092,県名!$B$1:$C$49,2,FALSE)","v":"長  野"}]
[null,"静岡大学",1092,"近藤　充洋","ｺﾝﾄﾞｳ ﾐﾂﾋﾛ","M1","静岡県",{"$f":"VLOOKUP($G1093,県名!$B$1:$C$49,2,FALSE)","v":"静  岡"}]
[null,"静岡大学",1093,"大原　瑞貴","ｵｵﾊﾗ ﾐｽﾞｷ","4","静岡県",{"$f":"VLOOKUP($G1094,県名!$B$1:$C$49,2,FALSE)","v":"静  岡"}]
[null,"静岡大学",1094,"川端　友也","ｶﾜﾊﾞﾀ ﾄﾓﾔ","M2","静岡県",{"$f":"VLOOKUP($G1095,県名!$B$1:$C$49,2,FALSE)","v":"静  岡"}]
[null,"静岡大学",1095,"山崎　アツヤ","ﾔﾏｻﾞｷ ｱﾂﾔ","3","静岡県",{"$f":"VLOOKUP($G1096,県名!$B$1:$C$49,2,FALSE)","v":"静  岡"}]
[null,"静岡大学",1096,"中村　卓真","ﾅｶﾑﾗ ﾀｸﾏ","2","静岡県",{"$f":"VLOOKUP($G1097,県名!$B$1:$C$49,2,FALSE)","v":"静  岡"}]
[null,"静岡大学",1097,"尾崎　景","ｵｻﾞｷ ﾋｶﾘ","M2","静岡県",{"$f":"VLOOKUP($G1098,県名!$B$1:$C$49,2,FALSE)","v":"静  岡"}]
[null,"静岡大学",1098,"新井　康介","ｱﾗｲ ｺｳｽｹ","4","静岡県",{"$f":"VLOOKUP($G1099,県名!$B$1:$C$49,2,FALSE)","v":"静  岡"}]
[null,"静岡大学",1099,"石井　嵐","ｲｼｲ ｱﾗｼ","M1","静岡県",{"$f":"VLOOKUP($G1100,県名!$B$1:$C$49,2,FALSE)","v":"静  岡"}]
[null,"中京大学",1100,"中井　健汰","ﾅｶｲ ｹﾝﾀ","3","和歌山県",{"$f":"VLOOKUP($G1101,県名!$B$1:$C$49,2,FALSE)","v":"和歌山"}]
[null,"中京大学",1101,"猪上　凌太","ｲﾉｳｴ ﾘｮｳﾀ","1","愛知県",{"$f":"VLOOKUP($G1102,県名!$B$1:$C$49,2,FALSE)","v":"愛  知"}]
[null,"中京大学",1102,"中村　倖","ﾅｶﾑﾗ ｺｳ","1","三重県",{"$f":"VLOOKUP($G1103,県名!$B$1:$C$49,2,FALSE)","v":"三  重"}]
[null,"中京大学",1103,"西　航太郎","ﾆｼ ｺｳﾀﾛｳ","1","三重県",{"$f":"VLOOKUP($G1104,県名!$B$1:$C$49,2,FALSE)","v":"三  重"}]
[null,"中京大学",1104,"岩崎　将真","ｲﾜｻｷ ｼｮｳﾏ","1","京都府",{"$f":"VLOOKUP($G1105,県名!$B$1:$C$49,2,FALSE)","v":"京　都"}]
[null,"中京大学",1105,"春名　大地","ﾊﾙﾅ ﾀﾞｲﾁ","1","岡山県",{"$f":"VLOOKUP($G1106,県名!$B$1:$C$49,2,FALSE)","v":"岡　山"}]
[null,"東海学園大学",1106,"吉川　祐汰","ﾖｼｶﾜ ﾕｳﾀ","3","愛知県",{"$f":"VLOOKUP($G1107,県名!$B$1:$C$49,2,FALSE)","v":"愛  知"}]
[null,"東海学園大学",1107,"鈴木　航大","ｽｽﾞｷ ｺｳﾀﾞｲ","3","愛知県",{"$f":"VLOOKUP($G1108,県名!$B$1:$C$49,2,FALSE)","v":"愛  知"}]
[null,"東海大学東海",1108,"八木　大輝","ﾔｷﾞ ﾀﾞｲｷ","2","静岡県",{"$f":"VLOOKUP($G1109,県名!$B$1:$C$49,2,FALSE)","v":"静  岡"}]
[null,"東海大学東海",1109,"加藤　工汰","ｶﾄｳ ｺｳﾀ","3","静岡県",{"$f":"VLOOKUP($G1110,県名!$B$1:$C$49,2,FALSE)","v":"静  岡"}]
[null,"東海大学東海",1110,"杉山　稀一","ｽｷﾞﾔﾏ ｷｲﾁ","4","静岡県",{"$f":"VLOOKUP($G1111,県名!$B$1:$C$49,2,FALSE)","v":"静  岡"}]
[null,"東海大学東海",1111,"平　元貴","ﾀｲﾗ ｹﾞﾝｷ","2","静岡県",{"$f":"VLOOKUP($G1112,県名!$B$1:$C$49,2,FALSE)","v":"静  岡"}]
[null,"東海大学東海",1112,"菊川　雅","ｷｸｶﾞﾜ ﾏｻｼ","4","静岡県",{"$f":"VLOOKUP($G1113,県名!$B$1:$C$49,2,FALSE)","v":"静  岡"}]
[null,"東海大学東海",1113,"粂田　真孝","ｸﾒﾀ ﾏｻﾀｶ","2","静岡県",{"$f":"VLOOKUP($G1114,県名!$B$1:$C$49,2,FALSE)","v":"静  岡"}]
[null,"東海大学東海",1114,"木下　雅大","ｷﾉｼﾀ ﾏｻﾋﾛ","2","静岡県",{"$f":"VLOOKUP($G1115,県名!$B$1:$C$49,2,FALSE)","v":"静  岡"}]
[null,"日本福祉大学",1115,"阿部　洋之","ｱﾍﾞ ﾋﾛﾕｷ",1,"愛知県",{"$f":"VLOOKUP($G1116,県名!$B$1:$C$49,2,FALSE)","v":"愛  知"}]
[null,"日本福祉大学",1116,"船井　崇成","ﾌﾅｲ ﾀｶﾅﾘ",1,"愛知県",{"$f":"VLOOKUP($G1117,県名!$B$1:$C$49,2,FALSE)","v":"愛  知"}]
[null,"名古屋工業大学",1117,"井上　茂乗","ｲﾉｳｴ ｼｹﾞﾉﾘ","M2","愛知県",{"$f":"VLOOKUP($G1118,県名!$B$1:$C$49,2,FALSE)","v":"愛  知"}]
[null,"名古屋工業大学",1118,"谷口　翔","ﾀﾆｸﾞﾁ ｼｮｳ","3","愛知県",{"$f":"VLOOKUP($G1119,県名!$B$1:$C$49,2,FALSE)","v":"愛  知"}]
[null,"名古屋工業大学",1119,"水越　朝陽","ﾐｽﾞｺｼ ｱｻﾋ","2","愛知県",{"$f":"VLOOKUP($G1120,県名!$B$1:$C$49,2,FALSE)","v":"愛  知"}]
[null,"名古屋工業大学",1120,"加藤　大貴","ｶﾄｳ ﾋﾛﾀｶ","2","愛知県",{"$f":"VLOOKUP($G1121,県名!$B$1:$C$49,2,FALSE)","v":"愛  知"}]
[null,"名古屋大学",1121,"岩瀬　累","ｲﾜｾ ﾙｲ","M1","愛知県",{"$f":"VLOOKUP($G1122,県名!$B$1:$C$49,2,FALSE)","v":"愛  知"}]
[null,"名古屋大学",1122,"大道　卓也","ｵｵﾐﾁ ﾀｸﾔ",6,"三重県",{"$f":"VLOOKUP($G1123,県名!$B$1:$C$49,2,FALSE)","v":"三  重"}]
[null,"名古屋大学",1123,"後藤　直哉","ｺﾞﾄｳ ﾅｵﾔ",1,"愛知県",{"$f":"VLOOKUP($G1124,県名!$B$1:$C$49,2,FALSE)","v":"愛  知"}]
[null,"名古屋大学",1124,"平田　明宏","ﾋﾗﾀ ｱｷﾋﾛ",2,"岐阜県",{"$f":"VLOOKUP($G1125,県名!$B$1:$C$49,2,FALSE)","v":"岐  阜"}]
[null,"名古屋大学",1125,"安藤　秀行","ｱﾝﾄﾞｳ ﾋﾃﾞﾕｷ","M1","群馬県",{"$f":"VLOOKUP($G1126,県名!$B$1:$C$49,2,FALSE)","v":"群　馬"}]
[null,"名古屋大学",1126,"山中　魁人","ﾔﾏﾅｶ ｶｲﾄ",4,"愛知県",{"$f":"VLOOKUP($G1127,県名!$B$1:$C$49,2,FALSE)","v":"愛  知"}]
[null,"名古屋大学",1127,"山之内　丈","ﾔﾏﾉｳﾁ ｼﾞｮｳ","M1","愛知県",{"$f":"VLOOKUP($G1128,県名!$B$1:$C$49,2,FALSE)","v":"愛  知"}]
[null,"名古屋大学",1128,"砂原　健汰","ｽﾅﾊﾗ ｹﾝﾀ","M1","愛知県",{"$f":"VLOOKUP($G1129,県名!$B$1:$C$49,2,FALSE)","v":"愛  知"}]
[null,"岐阜経済大学",1129,"後藤　魁斗","ｺﾞﾄｳ ｶｲﾄ","1","長野県",{"$f":"VLOOKUP($G1130,県名!$B$1:$C$49,2,FALSE)","v":"長  野"}]
[null,"岐阜経済大学",1130,"奈木野　京介","ﾅｷﾞﾉ ｷｮｳｽｹ","1","愛知県",{"$f":"VLOOKUP($G1131,県名!$B$1:$C$49,2,FALSE)","v":"愛  知"}]
[null,null,1131,null,null,null,null,{"$f":"VLOOKUP($G1132,県名!$B$1:$C$49,2,FALSE)","v":{"$error":"#N/A"}}]
[null,null,1132,null,null,null,null,{"$f":"VLOOKUP($G1133,県名!$B$1:$C$49,2,FALSE)","v":{"$error":"#N/A"}}]
[null,null,1133,null,null,null,null,{"$f":"VLOOKUP($G1134,県名!$B$1:$C$49,2,FALSE)","v":{"$error":"#N/A"}}]
[null,null,1134,null,null,null,null,{"$f":"VLOOKUP($G1135,県名!$B$1:$C$49,2,FALSE)","v":{"$error":"#N/A"}}]
[null,null,1135,null,null,null,null,{"$f":"VLOOKUP($G1136,県名!$B$1:$C$49,2,FALSE)","v":{"$error":"#N/A"}}]
[null,null,1136,null,null,null,null,{"$f":"VLOOKUP($G1137,県名!$B$1:$C$49,2,FALSE)","v":{"$error":"#N/A"}}]
[null,null,1137,null,null,null,null,{"$f":"VLOOKUP($G1138,県名!$B$1:$C$49,2,FALSE)","v":{"$error":"#N/A"}}]
[null,null,1138,null,null,null,null,{"$f":"VLOOKUP($G1139,県名!$B$1:$C$49,2,FALSE)","v":{"$error":"#N/A"}}]
[null,null,1139,null,null,null,null,{"$f":"VLOOKUP($G1140,県名!$B$1:$C$49,2,FALSE)","v":{"$error":"#N/A"}}]
[null,null,1140,null,null,null,null,{"$f":"VLOOKUP($G1141,県名!$B$1:$C$49,2,FALSE)","v":{"$error":"#N/A"}}]
[null,null,1141,null,null,null,null,{"$f":"VLOOKUP($G1142,県名!$B$1:$C$49,2,FALSE)","v":{"$error":"#N/A"}}]
[null,null,1142,null,null,null,null,{"$f":"VLOOKUP($G1143,県名!$B$1:$C$49,2,FALSE)","v":{"$error":"#N/A"}}]
[null,null,1143,null,null,null,null,{"$f":"VLOOKUP($G1144,県名!$B$1:$C$49,2,FALSE)","v":{"$error":"#N/A"}}]
[null,null,1144,null,null,null,null,{"$f":"VLOOKUP($G1145,県名!$B$1:$C$49,2,FALSE)","v":{"$error":"#N/A"}}]
[null,null,1145,null,null,null,null,{"$f":"VLOOKUP($G1146,県名!$B$1:$C$49,2,FALSE)","v":{"$error":"#N/A"}}]
[null,null,1146,null,null,null,null,{"$f":"VLOOKUP($G1147,県名!$B$1:$C$49,2,FALSE)","v":{"$error":"#N/A"}}]
[null,null,1147,null,null,null,null,{"$f":"VLOOKUP($G1148,県名!$B$1:$C$49,2,FALSE)","v":{"$error":"#N/A"}}]
[null,null,1148,null,null,null,null,{"$f":"VLOOKUP($G1149,県名!$B$1:$C$49,2,FALSE)","v":{"$error":"#N/A"}}]
[null,null,1149,null,null,null,null,{"$f":"VLOOKUP($G1150,県名!$B$1:$C$49,2,FALSE)","v":{"$error":"#N/A"}}]
[null,null,1150,null,null,null,null,{"$f":"VLOOKUP($G1151,県名!$B$1:$C$49,2,FALSE)","v":{"$error":"#N/A"}}]
[null,null,1151,null,null,null,null,{"$f":"VLOOKUP($G1152,県名!$B$1:$C$49,2,FALSE)","v":{"$error":"#N/A"}}]
[null,null,1152,null,null,null,null,{"$f":"VLOOKUP($G1153,県名!$B$1:$C$49,2,FALSE)","v":{"$error":"#N/A"}}]
[null,null,1153,null,null,null,null,{"$f":"VLOOKUP($G1154,県名!$B$1:$C$49,2,FALSE)","v":{"$error":"#N/A"}}]
[null,null,1154,null,null,null,null,{"$f":"VLOOKUP($G1155,県名!$B$1:$C$49,2,FALSE)","v":{"$error":"#N/A"}}]
[null,null,1155,null,null,null,null,{"$f":"VLOOKUP($G1156,県名!$B$1:$C$49,2,FALSE)","v":{"$error":"#N/A"}}]
[null,null,1156,null,null,null,null,{"$f":"VLOOKUP($G1157,県名!$B$1:$C$49,2,FALSE)","v":{"$error":"#N/A"}}]
[null,null,1157,null,null,null,null,{"$f":"VLOOKUP($G1158,県名!$B$1:$C$49,2,FALSE)","v":{"$error":"#N/A"}}]
[null,null,1158,null,null,null,null,{"$f":"VLOOKUP($G1159,県名!$B$1:$C$49,2,FALSE)","v":{"$error":"#N/A"}}]
[null,null,1159,null,null,null,null,{"$f":"VLOOKUP($G1160,県名!$B$1:$C$49,2,FALSE)","v":{"$error":"#N/A"}}]
[null,null,1160,null,null,null,null,{"$f":"VLOOKUP($G1161,県名!$B$1:$C$49,2,FALSE)","v":{"$error":"#N/A"}}]
[null,null,1161,null,null,null,null,{"$f":"VLOOKUP($G1162,県名!$B$1:$C$49,2,FALSE)","v":{"$error":"#N/A"}}]
[null,null,1162,null,null,null,null,{"$f":"VLOOKUP($G1163,県名!$B$1:$C$49,2,FALSE)","v":{"$error":"#N/A"}}]
[null,null,1163,null,null,null,null,{"$f":"VLOOKUP($G1164,県名!$B$1:$C$49,2,FALSE)","v":{"$error":"#N/A"}}]
[null,null,1164,null,null,null,null,{"$f":"VLOOKUP($G1165,県名!$B$1:$C$49,2,FALSE)","v":{"$error":"#N/A"}}]
[null,null,1165,null,null,null,null,{"$f":"VLOOKUP($G1166,県名!$B$1:$C$49,2,FALSE)","v":{"$error":"#N/A"}}]
[null,null,1166,null,null,null,null,{"$f":"VLOOKUP($G1167,県名!$B$1:$C$49,2,FALSE)","v":{"$error":"#N/A"}}]
[null,null,1167,null,null,null,null,{"$f":"VLOOKUP($G1168,県名!$B$1:$C$49,2,FALSE)","v":{"$error":"#N/A"}}]
[null,null,1168,null,null,null,null,{"$f":"VLOOKUP($G1169,県名!$B$1:$C$49,2,FALSE)","v":{"$error":"#N/A"}}]
[null,null,1169,null,null,null,null,{"$f":"VLOOKUP($G1170,県名!$B$1:$C$49,2,FALSE)","v":{"$error":"#N/A"}}]
[null,null,1170,null,null,null,null,{"$f":"VLOOKUP($G1171,県名!$B$1:$C$49,2,FALSE)","v":{"$error":"#N/A"}}]
[null,null,1171,null,null,null,null,{"$f":"VLOOKUP($G1172,県名!$B$1:$C$49,2,FALSE)","v":{"$error":"#N/A"}}]
[null,null,1172,null,null,null,null,{"$f":"VLOOKUP($G1173,県名!$B$1:$C$49,2,FALSE)","v":{"$error":"#N/A"}}]
[null,null,1173,null,null,null,null,{"$f":"VLOOKUP($G1174,県名!$B$1:$C$49,2,FALSE)","v":{"$error":"#N/A"}}]
[null,null,1174,null,null,null,null,{"$f":"VLOOKUP($G1175,県名!$B$1:$C$49,2,FALSE)","v":{"$error":"#N/A"}}]
[null,null,1175,null,null,null,null,{"$f":"VLOOKUP($G1176,県名!$B$1:$C$49,2,FALSE)","v":{"$error":"#N/A"}}]
[null,null,1176,null,null,null,null,{"$f":"VLOOKUP($G1177,県名!$B$1:$C$49,2,FALSE)","v":{"$error":"#N/A"}}]
[null,null,1177,null,null,null,null,{"$f":"VLOOKUP($G1178,県名!$B$1:$C$49,2,FALSE)","v":{"$error":"#N/A"}}]
[null,null,1178,null,null,null,null,{"$f":"VLOOKUP($G1179,県名!$B$1:$C$49,2,FALSE)","v":{"$error":"#N/A"}}]
[null,null,1179,null,null,null,null,{"$f":"VLOOKUP($G1180,県名!$B$1:$C$49,2,FALSE)","v":{"$error":"#N/A"}}]
[null,null,1180,null,null,null,null,{"$f":"VLOOKUP($G1181,県名!$B$1:$C$49,2,FALSE)","v":{"$error":"#N/A"}}]
[null,null,1181,null,null,null,null,{"$f":"VLOOKUP($G1182,県名!$B$1:$C$49,2,FALSE)","v":{"$error":"#N/A"}}]
[null,null,1182,null,null,null,null,{"$f":"VLOOKUP($G1183,県名!$B$1:$C$49,2,FALSE)","v":{"$error":"#N/A"}}]
[null,null,1183,null,null,null,null,{"$f":"VLOOKUP($G1184,県名!$B$1:$C$49,2,FALSE)","v":{"$error":"#N/A"}}]
[null,null,1184,null,null,null,null,{"$f":"VLOOKUP($G1185,県名!$B$1:$C$49,2,FALSE)","v":{"$error":"#N/A"}}]
[null,null,1185,null,null,null,null,{"$f":"VLOOKUP($G1186,県名!$B$1:$C$49,2,FALSE)","v":{"$error":"#N/A"}}]
[null,null,1186,null,null,null,null,{"$f":"VLOOKUP($G1187,県名!$B$1:$C$49,2,FALSE)","v":{"$error":"#N/A"}}]
[null,null,1187,null,null,null,null,{"$f":"VLOOKUP($G1188,県名!$B$1:$C$49,2,FALSE)","v":{"$error":"#N/A"}}]
[null,null,1188,null,null,null,null,{"$f":"VLOOKUP($G1189,県名!$B$1:$C$49,2,FALSE)","v":{"$error":"#N/A"}}]
[null,null,1189,null,null,null,null,{"$f":"VLOOKUP($G1190,県名!$B$1:$C$49,2,FALSE)","v":{"$error":"#N/A"}}]
[null,null,1190,null,null,null,null,{"$f":"VLOOKUP($G1191,県名!$B$1:$C$49,2,FALSE)","v":{"$error":"#N/A"}}]
[null,null,1191,null,null,null,null,{"$f":"VLOOKUP($G1192,県名!$B$1:$C$49,2,FALSE)","v":{"$error":"#N/A"}}]
[null,null,1192,null,null,null,null,{"$f":"VLOOKUP($G1193,県名!$B$1:$C$49,2,FALSE)","v":{"$error":"#N/A"}}]
[null,null,1193,null,null,null,null,{"$f":"VLOOKUP($G1194,県名!$B$1:$C$49,2,FALSE)","v":{"$error":"#N/A"}}]
[null,null,1194,null,null,null,null,{"$f":"VLOOKUP($G1195,県名!$B$1:$C$49,2,FALSE)","v":{"$error":"#N/A"}}]
[null,null,1195,null,null,null,null,{"$f":"VLOOKUP($G1196,県名!$B$1:$C$49,2,FALSE)","v":{"$error":"#N/A"}}]
[null,null,1196,null,null,null,null,{"$f":"VLOOKUP($G1197,県名!$B$1:$C$49,2,FALSE)","v":{"$error":"#N/A"}}]
[null,null,1197,null,null,null,null,{"$f":"VLOOKUP($G1198,県名!$B$1:$C$49,2,FALSE)","v":{"$error":"#N/A"}}]
[null,null,1198,null,null,null,null,{"$f":"VLOOKUP($G1199,県名!$B$1:$C$49,2,FALSE)","v":{"$error":"#N/A"}}]
[null,null,1199,null,null,null,null,{"$f":"VLOOKUP($G1200,県名!$B$1:$C$49,2,FALSE)","v":{"$error":"#N/A"}}]
[null,null,1200,null,null,null,null,{"$f":"VLOOKUP($G1201,県名!$B$1:$C$49,2,FALSE)","v":{"$error":"#N/A"}}]
[null,null,1201,null,null,null,null,{"$f":"VLOOKUP($G1202,県名!$B$1:$C$49,2,FALSE)","v":{"$error":"#N/A"}}]
[null,null,1202,null,null,null,null,{"$f":"VLOOKUP($G1203,県名!$B$1:$C$49,2,FALSE)","v":{"$error":"#N/A"}}]
[null,null,1203,null,null,null,null,{"$f":"VLOOKUP($G1204,県名!$B$1:$C$49,2,FALSE)","v":{"$error":"#N/A"}}]
[null,null,1204,null,null,null,null,{"$f":"VLOOKUP($G1205,県名!$B$1:$C$49,2,FALSE)","v":{"$error":"#N/A"}}]
[null,null,1205,null,null,null,null,{"$f":"VLOOKUP($G1206,県名!$B$1:$C$49,2,FALSE)","v":{"$error":"#N/A"}}]
[null,null,1206,null,null,null,null,{"$f":"VLOOKUP($G1207,県名!$B$1:$C$49,2,FALSE)","v":{"$error":"#N/A"}}]
[null,null,1207,null,null,null,null,{"$f":"VLOOKUP($G1208,県名!$B$1:$C$49,2,FALSE)","v":{"$error":"#N/A"}}]
[null,null,1208,null,null,null,null,{"$f":"VLOOKUP($G1209,県名!$B$1:$C$49,2,FALSE)","v":{"$error":"#N/A"}}]
[null,null,1209,null,null,null,null,{"$f":"VLOOKUP($G1210,県名!$B$1:$C$49,2,FALSE)","v":{"$error":"#N/A"}}]
[null,null,1210,null,null,null,null,{"$f":"VLOOKUP($G1211,県名!$B$1:$C$49,2,FALSE)","v":{"$error":"#N/A"}}]
[null,null,1211,null,null,null,null,{"$f":"VLOOKUP($G1212,県名!$B$1:$C$49,2,FALSE)","v":{"$error":"#N/A"}}]
[null,null,1212,null,null,null,null,{"$f":"VLOOKUP($G1213,県名!$B$1:$C$49,2,FALSE)","v":{"$error":"#N/A"}}]
[null,null,1213,null,null,null,null,{"$f":"VLOOKUP($G1214,県名!$B$1:$C$49,2,FALSE)","v":{"$error":"#N/A"}}]
[null,null,1214,null,null,null,null,{"$f":"VLOOKUP($G1215,県名!$B$1:$C$49,2,FALSE)","v":{"$error":"#N/A"}}]
[null,null,1215,null,null,null,null,{"$f":"VLOOKUP($G1216,県名!$B$1:$C$49,2,FALSE)","v":{"$error":"#N/A"}}]
[null,null,1216,null,null,null,null,{"$f":"VLOOKUP($G1217,県名!$B$1:$C$49,2,FALSE)","v":{"$error":"#N/A"}}]
[null,null,1217,null,null,null,null,{"$f":"VLOOKUP($G1218,県名!$B$1:$C$49,2,FALSE)","v":{"$error":"#N/A"}}]
[null,null,1218,null,null,null,null,{"$f":"VLOOKUP($G1219,県名!$B$1:$C$49,2,FALSE)","v":{"$error":"#N/A"}}]
[null,null,1219,null,null,null,null,{"$f":"VLOOKUP($G1220,県名!$B$1:$C$49,2,FALSE)","v":{"$error":"#N/A"}}]
[null,null,1220,null,null,null,null,{"$f":"VLOOKUP($G1221,県名!$B$1:$C$49,2,FALSE)","v":{"$error":"#N/A"}}]
[null,null,1221,null,null,null,null,{"$f":"VLOOKUP($G1222,県名!$B$1:$C$49,2,FALSE)","v":{"$error":"#N/A"}}]
[null,null,1222,null,null,null,null,{"$f":"VLOOKUP($G1223,県名!$B$1:$C$49,2,FALSE)","v":{"$error":"#N/A"}}]
[null,null,1223,null,null,null,null,{"$f":"VLOOKUP($G1224,県名!$B$1:$C$49,2,FALSE)","v":{"$error":"#N/A"}}]
[null,null,1224,null,null,null,null,{"$f":"VLOOKUP($G1225,県名!$B$1:$C$49,2,FALSE)","v":{"$error":"#N/A"}}]
[null,null,1225,null,null,null,null,{"$f":"VLOOKUP($G1226,県名!$B$1:$C$49,2,FALSE)","v":{"$error":"#N/A"}}]
[null,null,1226,null,null,null,null,{"$f":"VLOOKUP($G1227,県名!$B$1:$C$49,2,FALSE)","v":{"$error":"#N/A"}}]
[null,null,1227,null,null,null,null,{"$f":"VLOOKUP($G1228,県名!$B$1:$C$49,2,FALSE)","v":{"$error":"#N/A"}}]
[null,null,1228,null,null,null,null,{"$f":"VLOOKUP($G1229,県名!$B$1:$C$49,2,FALSE)","v":{"$error":"#N/A"}}]
[null,null,1229,null,null,null,null,{"$f":"VLOOKUP($G1230,県名!$B$1:$C$49,2,FALSE)","v":{"$error":"#N/A"}}]
[null,null,1230,null,null,null,null,{"$f":"VLOOKUP($G1231,県名!$B$1:$C$49,2,FALSE)","v":{"$error":"#N/A"}}]
[null,null,1231,null,null,null,null,{"$f":"VLOOKUP($G1232,県名!$B$1:$C$49,2,FALSE)","v":{"$error":"#N/A"}}]
[null,null,1232,null,null,null,null,{"$f":"VLOOKUP($G1233,県名!$B$1:$C$49,2,FALSE)","v":{"$error":"#N/A"}}]
[null,null,1233,null,null,null,null,{"$f":"VLOOKUP($G1234,県名!$B$1:$C$49,2,FALSE)","v":{"$error":"#N/A"}}]
[null,null,1234,null,null,null,null,{"$f":"VLOOKUP($G1235,県名!$B$1:$C$49,2,FALSE)","v":{"$error":"#N/A"}}]
[null,null,1235,null,null,null,null,{"$f":"VLOOKUP($G1236,県名!$B$1:$C$49,2,FALSE)","v":{"$error":"#N/A"}}]
[null,null,1236,null,null,null,null,{"$f":"VLOOKUP($G1237,県名!$B$1:$C$49,2,FALSE)","v":{"$error":"#N/A"}}]
[null,null,1237,null,null,null,null,{"$f":"VLOOKUP($G1238,県名!$B$1:$C$49,2,FALSE)","v":{"$error":"#N/A"}}]
[null,null,1238,null,null,null,null,{"$f":"VLOOKUP($G1239,県名!$B$1:$C$49,2,FALSE)","v":{"$error":"#N/A"}}]
[null,null,1239,null,null,null,null,{"$f":"VLOOKUP($G1240,県名!$B$1:$C$49,2,FALSE)","v":{"$error":"#N/A"}}]
[null,null,1240,null,null,null,null,{"$f":"VLOOKUP($G1241,県名!$B$1:$C$49,2,FALSE)","v":{"$error":"#N/A"}}]
[null,null,1241,null,null,null,null,{"$f":"VLOOKUP($G1242,県名!$B$1:$C$49,2,FALSE)","v":{"$error":"#N/A"}}]
[null,null,1242,null,null,null,null,{"$f":"VLOOKUP($G1243,県名!$B$1:$C$49,2,FALSE)","v":{"$error":"#N/A"}}]
[null,null,1243,null,null,null,null,{"$f":"VLOOKUP($G1244,県名!$B$1:$C$49,2,FALSE)","v":{"$error":"#N/A"}}]
[null,null,1244,null,null,null,null,{"$f":"VLOOKUP($G1245,県名!$B$1:$C$49,2,FALSE)","v":{"$error":"#N/A"}}]
[null,null,1245,null,null,null,null,{"$f":"VLOOKUP($G1246,県名!$B$1:$C$49,2,FALSE)","v":{"$error":"#N/A"}}]
[null,null,1246,null,null,null,null,{"$f":"VLOOKUP($G1247,県名!$B$1:$C$49,2,FALSE)","v":{"$error":"#N/A"}}]
[null,null,1247,null,null,null,null,{"$f":"VLOOKUP($G1248,県名!$B$1:$C$49,2,FALSE)","v":{"$error":"#N/A"}}]
[null,null,1248,null,null,null,null,{"$f":"VLOOKUP($G1249,県名!$B$1:$C$49,2,FALSE)","v":{"$error":"#N/A"}}]
[null,null,1249,null,null,null,null,{"$f":"VLOOKUP($G1250,県名!$B$1:$C$49,2,FALSE)","v":{"$error":"#N/A"}}]
[null,null,1250,null,null,null,null,{"$f":"VLOOKUP($G1251,県名!$B$1:$C$49,2,FALSE)","v":{"$error":"#N/A"}}]
[null,null,1251,null,null,null,null,{"$f":"VLOOKUP($G1252,県名!$B$1:$C$49,2,FALSE)","v":{"$error":"#N/A"}}]
[null,null,1252,null,null,null,null,{"$f":"VLOOKUP($G1253,県名!$B$1:$C$49,2,FALSE)","v":{"$error":"#N/A"}}]
[null,null,1253,null,null,null,null,{"$f":"VLOOKUP($G1254,県名!$B$1:$C$49,2,FALSE)","v":{"$error":"#N/A"}}]
[null,null,1254,null,null,null,null,{"$f":"VLOOKUP($G1255,県名!$B$1:$C$49,2,FALSE)","v":{"$error":"#N/A"}}]
[null,null,1255,null,null,null,null,{"$f":"VLOOKUP($G1256,県名!$B$1:$C$49,2,FALSE)","v":{"$error":"#N/A"}}]
[null,null,1256,null,null,null,null,{"$f":"VLOOKUP($G1257,県名!$B$1:$C$49,2,FALSE)","v":{"$error":"#N/A"}}]
[null,null,1257,null,null,null,null,{"$f":"VLOOKUP($G1258,県名!$B$1:$C$49,2,FALSE)","v":{"$error":"#N/A"}}]
[null,null,1258,null,null,null,null,{"$f":"VLOOKUP($G1259,県名!$B$1:$C$49,2,FALSE)","v":{"$error":"#N/A"}}]
[null,null,1259,null,null,null,null,{"$f":"VLOOKUP($G1260,県名!$B$1:$C$49,2,FALSE)","v":{"$error":"#N/A"}}]
[null,null,1260,null,null,null,null,{"$f":"VLOOKUP($G1261,県名!$B$1:$C$49,2,FALSE)","v":{"$error":"#N/A"}}]
[null,null,1261,null,null,null,null,{"$f":"VLOOKUP($G1262,県名!$B$1:$C$49,2,FALSE)","v":{"$error":"#N/A"}}]
[null,null,1262,null,null,null,null,{"$f":"VLOOKUP($G1263,県名!$B$1:$C$49,2,FALSE)","v":{"$error":"#N/A"}}]
[null,null,1263,null,null,null,null,{"$f":"VLOOKUP($G1264,県名!$B$1:$C$49,2,FALSE)","v":{"$error":"#N/A"}}]
[null,null,1264,null,null,null,null,{"$f":"VLOOKUP($G1265,県名!$B$1:$C$49,2,FALSE)","v":{"$error":"#N/A"}}]
[null,null,1265,null,null,null,null,{"$f":"VLOOKUP($G1266,県名!$B$1:$C$49,2,FALSE)","v":{"$error":"#N/A"}}]
[null,null,1266,null,null,null,null,{"$f":"VLOOKUP($G1267,県名!$B$1:$C$49,2,FALSE)","v":{"$error":"#N/A"}}]
[null,null,1267,null,null,null,null,{"$f":"VLOOKUP($G1268,県名!$B$1:$C$49,2,FALSE)","v":{"$error":"#N/A"}}]
[null,null,1268,null,null,null,null,{"$f":"VLOOKUP($G1269,県名!$B$1:$C$49,2,FALSE)","v":{"$error":"#N/A"}}]
[null,null,1269,null,null,null,null,{"$f":"VLOOKUP($G1270,県名!$B$1:$C$49,2,FALSE)","v":{"$error":"#N/A"}}]
[null,null,1270,null,null,null,null,{"$f":"VLOOKUP($G1271,県名!$B$1:$C$49,2,FALSE)","v":{"$error":"#N/A"}}]
[null,null,1271,null,null,null,null,{"$f":"VLOOKUP($G1272,県名!$B$1:$C$49,2,FALSE)","v":{"$error":"#N/A"}}]
[null,null,1272,null,null,null,null,{"$f":"VLOOKUP($G1273,県名!$B$1:$C$49,2,FALSE)","v":{"$error":"#N/A"}}]
[null,null,1273,null,null,null,null,{"$f":"VLOOKUP($G1274,県名!$B$1:$C$49,2,FALSE)","v":{"$error":"#N/A"}}]
[null,null,1274,null,null,null,null,{"$f":"VLOOKUP($G1275,県名!$B$1:$C$49,2,FALSE)","v":{"$error":"#N/A"}}]
[null,null,1275,null,null,null,null,{"$f":"VLOOKUP($G1276,県名!$B$1:$C$49,2,FALSE)","v":{"$error":"#N/A"}}]
[null,null,1276,null,null,null,null,{"$f":"VLOOKUP($G1277,県名!$B$1:$C$49,2,FALSE)","v":{"$error":"#N/A"}}]
[null,null,1277,null,null,null,null,{"$f":"VLOOKUP($G1278,県名!$B$1:$C$49,2,FALSE)","v":{"$error":"#N/A"}}]
[null,null,1278,null,null,null,null,{"$f":"VLOOKUP($G1279,県名!$B$1:$C$49,2,FALSE)","v":{"$error":"#N/A"}}]
[null,null,1279,null,null,null,null,{"$f":"VLOOKUP($G1280,県名!$B$1:$C$49,2,FALSE)","v":{"$error":"#N/A"}}]
[null,null,1280,null,null,null,null,{"$f":"VLOOKUP($G1281,県名!$B$1:$C$49,2,FALSE)","v":{"$error":"#N/A"}}]
[null,null,1281,null,null,null,null,{"$f":"VLOOKUP($G1282,県名!$B$1:$C$49,2,FALSE)","v":{"$error":"#N/A"}}]
[null,null,1282,null,null,null,null,{"$f":"VLOOKUP($G1283,県名!$B$1:$C$49,2,FALSE)","v":{"$error":"#N/A"}}]
[null,null,1283,null,null,null,null,{"$f":"VLOOKUP($G1284,県名!$B$1:$C$49,2,FALSE)","v":{"$error":"#N/A"}}]
[null,null,1284,null,null,null,null,{"$f":"VLOOKUP($G1285,県名!$B$1:$C$49,2,FALSE)","v":{"$error":"#N/A"}}]
[null,null,1285,null,null,null,null,{"$f":"VLOOKUP($G1286,県名!$B$1:$C$49,2,FALSE)","v":{"$error":"#N/A"}}]
[null,null,1286,null,null,null,null,{"$f":"VLOOKUP($G1287,県名!$B$1:$C$49,2,FALSE)","v":{"$error":"#N/A"}}]
[null,null,1287,null,null,null,null,{"$f":"VLOOKUP($G1288,県名!$B$1:$C$49,2,FALSE)","v":{"$error":"#N/A"}}]
[null,null,1288,null,null,null,null,{"$f":"VLOOKUP($G1289,県名!$B$1:$C$49,2,FALSE)","v":{"$error":"#N/A"}}]
[null,null,1289,null,null,null,null,{"$f":"VLOOKUP($G1290,県名!$B$1:$C$49,2,FALSE)","v":{"$error":"#N/A"}}]
[null,null,1290,null,null,null,null,{"$f":"VLOOKUP($G1291,県名!$B$1:$C$49,2,FALSE)","v":{"$error":"#N/A"}}]
[null,null,1291,null,null,null,null,{"$f":"VLOOKUP($G1292,県名!$B$1:$C$49,2,FALSE)","v":{"$error":"#N/A"}}]
[null,null,1292,null,null,null,null,{"$f":"VLOOKUP($G1293,県名!$B$1:$C$49,2,FALSE)","v":{"$error":"#N/A"}}]
[null,null,1293,null,null,null,null,{"$f":"VLOOKUP($G1294,県名!$B$1:$C$49,2,FALSE)","v":{"$error":"#N/A"}}]
[null,null,1294,null,null,null,null,{"$f":"VLOOKUP($G1295,県名!$B$1:$C$49,2,FALSE)","v":{"$error":"#N/A"}}]
[null,null,1295,null,null,null,null,{"$f":"VLOOKUP($G1296,県名!$B$1:$C$49,2,FALSE)","v":{"$error":"#N/A"}}]
[null,null,1296,null,null,null,null,{"$f":"VLOOKUP($G1297,県名!$B$1:$C$49,2,FALSE)","v":{"$error":"#N/A"}}]
[null,null,1297,null,null,null,null,{"$f":"VLOOKUP($G1298,県名!$B$1:$C$49,2,FALSE)","v":{"$error":"#N/A"}}]
[null,null,1298,null,null,null,null,{"$f":"VLOOKUP($G1299,県名!$B$1:$C$49,2,FALSE)","v":{"$error":"#N/A"}}]
[null,null,1299,null,null,null,null,{"$f":"VLOOKUP($G1300,県名!$B$1:$C$49,2,FALSE)","v":{"$error":"#N/A"}}]
[null,null,1300,null,null,null,null,{"$f":"VLOOKUP($G1301,県名!$B$1:$C$49,2,FALSE)","v":{"$error":"#N/A"}}]
[null,null,1301,null,null,null,null,{"$f":"VLOOKUP($G1302,県名!$B$1:$C$49,2,FALSE)","v":{"$error":"#N/A"}}]
[null,null,1302,null,null,null,null,{"$f":"VLOOKUP($G1303,県名!$B$1:$C$49,2,FALSE)","v":{"$error":"#N/A"}}]
[null,null,1303,null,null,null,null,{"$f":"VLOOKUP($G1304,県名!$B$1:$C$49,2,FALSE)","v":{"$error":"#N/A"}}]
[null,null,1304,null,null,null,null,{"$f":"VLOOKUP($G1305,県名!$B$1:$C$49,2,FALSE)","v":{"$error":"#N/A"}}]
[null,null,1305,null,null,null,null,{"$f":"VLOOKUP($G1306,県名!$B$1:$C$49,2,FALSE)","v":{"$error":"#N/A"}}]
[null,null,1306,null,null,null,null,{"$f":"VLOOKUP($G1307,県名!$B$1:$C$49,2,FALSE)","v":{"$error":"#N/A"}}]
[null,null,1307,null,null,null,null,{"$f":"VLOOKUP($G1308,県名!$B$1:$C$49,2,FALSE)","v":{"$error":"#N/A"}}]
[null,null,1308,null,null,null,null,{"$f":"VLOOKUP($G1309,県名!$B$1:$C$49,2,FALSE)","v":{"$error":"#N/A"}}]
[null,null,1309,null,null,null,null,{"$f":"VLOOKUP($G1310,県名!$B$1:$C$49,2,FALSE)","v":{"$error":"#N/A"}}]
[null,null,1310,null,null,null,null,{"$f":"VLOOKUP($G1311,県名!$B$1:$C$49,2,FALSE)","v":{"$error":"#N/A"}}]
[null,null,1311,null,null,null,null,{"$f":"VLOOKUP($G1312,県名!$B$1:$C$49,2,FALSE)","v":{"$error":"#N/A"}}]
[null,null,1312,null,null,null,null,{"$f":"VLOOKUP($G1313,県名!$B$1:$C$49,2,FALSE)","v":{"$error":"#N/A"}}]
[null,null,1313,null,null,null,null,{"$f":"VLOOKUP($G1314,県名!$B$1:$C$49,2,FALSE)","v":{"$error":"#N/A"}}]
[null,null,1314,null,null,null,null,{"$f":"VLOOKUP($G1315,県名!$B$1:$C$49,2,FALSE)","v":{"$error":"#N/A"}}]
[null,null,1315,null,null,null,null,{"$f":"VLOOKUP($G1316,県名!$B$1:$C$49,2,FALSE)","v":{"$error":"#N/A"}}]
[null,null,1316,null,null,null,null,{"$f":"VLOOKUP($G1317,県名!$B$1:$C$49,2,FALSE)","v":{"$error":"#N/A"}}]
[null,null,1317,null,null,null,null,{"$f":"VLOOKUP($G1318,県名!$B$1:$C$49,2,FALSE)","v":{"$error":"#N/A"}}]
[null,null,1318,null,null,null,null,{"$f":"VLOOKUP($G1319,県名!$B$1:$C$49,2,FALSE)","v":{"$error":"#N/A"}}]
[null,null,1319,null,null,null,null,{"$f":"VLOOKUP($G1320,県名!$B$1:$C$49,2,FALSE)","v":{"$error":"#N/A"}}]
[null,null,1320,null,null,null,null,{"$f":"VLOOKUP($G1321,県名!$B$1:$C$49,2,FALSE)","v":{"$error":"#N/A"}}]
[null,null,1321,null,null,null,null,{"$f":"VLOOKUP($G1322,県名!$B$1:$C$49,2,FALSE)","v":{"$error":"#N/A"}}]
[null,null,1322,null,null,null,null,{"$f":"VLOOKUP($G1323,県名!$B$1:$C$49,2,FALSE)","v":{"$error":"#N/A"}}]
[null,null,1323,null,null,null,null,{"$f":"VLOOKUP($G1324,県名!$B$1:$C$49,2,FALSE)","v":{"$error":"#N/A"}}]
[null,null,1324,null,null,null,null,{"$f":"VLOOKUP($G1325,県名!$B$1:$C$49,2,FALSE)","v":{"$error":"#N/A"}}]
[null,null,1325,null,null,null,null,{"$f":"VLOOKUP($G1326,県名!$B$1:$C$49,2,FALSE)","v":{"$error":"#N/A"}}]
[null,null,1326,null,null,null,null,{"$f":"VLOOKUP($G1327,県名!$B$1:$C$49,2,FALSE)","v":{"$error":"#N/A"}}]
[null,null,1327,null,null,null,null,{"$f":"VLOOKUP($G1328,県名!$B$1:$C$49,2,FALSE)","v":{"$error":"#N/A"}}]
[null,null,1328,null,null,null,null,{"$f":"VLOOKUP($G1329,県名!$B$1:$C$49,2,FALSE)","v":{"$error":"#N/A"}}]
[null,null,1329,null,null,null,null,{"$f":"VLOOKUP($G1330,県名!$B$1:$C$49,2,FALSE)","v":{"$error":"#N/A"}}]
[null,null,1330,null,null,null,null,{"$f":"VLOOKUP($G1331,県名!$B$1:$C$49,2,FALSE)","v":{"$error":"#N/A"}}]
[null,null,1331,null,null,null,null,{"$f":"VLOOKUP($G1332,県名!$B$1:$C$49,2,FALSE)","v":{"$error":"#N/A"}}]
[null,null,1332,null,null,null,null,{"$f":"VLOOKUP($G1333,県名!$B$1:$C$49,2,FALSE)","v":{"$error":"#N/A"}}]
[null,null,1333,null,null,null,null,{"$f":"VLOOKUP($G1334,県名!$B$1:$C$49,2,FALSE)","v":{"$error":"#N/A"}}]
[null,null,1334,null,null,null,null,{"$f":"VLOOKUP($G1335,県名!$B$1:$C$49,2,FALSE)","v":{"$error":"#N/A"}}]
[null,null,1335,null,null,null,null,{"$f":"VLOOKUP($G1336,県名!$B$1:$C$49,2,FALSE)","v":{"$error":"#N/A"}}]
[null,null,1336,null,null,null,null,{"$f":"VLOOKUP($G1337,県名!$B$1:$C$49,2,FALSE)","v":{"$error":"#N/A"}}]
[null,null,1337,null,null,null,null,{"$f":"VLOOKUP($G1338,県名!$B$1:$C$49,2,FALSE)","v":{"$error":"#N/A"}}]
[null,null,1338,null,null,null,null,{"$f":"VLOOKUP($G1339,県名!$B$1:$C$49,2,FALSE)","v":{"$error":"#N/A"}}]
[null,null,1339,null,null,null,null,{"$f":"VLOOKUP($G1340,県名!$B$1:$C$49,2,FALSE)","v":{"$error":"#N/A"}}]
[null,null,1340,null,null,null,null,{"$f":"VLOOKUP($G1341,県名!$B$1:$C$49,2,FALSE)","v":{"$error":"#N/A"}}]
[null,null,1341,null,null,null,null,{"$f":"VLOOKUP($G1342,県名!$B$1:$C$49,2,FALSE)","v":{"$error":"#N/A"}}]
[null,null,1342,null,null,null,null,{"$f":"VLOOKUP($G1343,県名!$B$1:$C$49,2,FALSE)","v":{"$error":"#N/A"}}]
[null,null,1343,null,null,null,null,{"$f":"VLOOKUP($G1344,県名!$B$1:$C$49,2,FALSE)","v":{"$error":"#N/A"}}]
[null,null,1344,null,null,null,null,{"$f":"VLOOKUP($G1345,県名!$B$1:$C$49,2,FALSE)","v":{"$error":"#N/A"}}]
[null,null,1345,null,null,null,null,{"$f":"VLOOKUP($G1346,県名!$B$1:$C$49,2,FALSE)","v":{"$error":"#N/A"}}]
[null,null,1346,null,null,null,null,{"$f":"VLOOKUP($G1347,県名!$B$1:$C$49,2,FALSE)","v":{"$error":"#N/A"}}]
[null,null,1347,null,null,null,null,{"$f":"VLOOKUP($G1348,県名!$B$1:$C$49,2,FALSE)","v":{"$error":"#N/A"}}]
[null,null,1348,null,null,null,null,{"$f":"VLOOKUP($G1349,県名!$B$1:$C$49,2,FALSE)","v":{"$error":"#N/A"}}]
[null,null,1349,null,null,null,null,{"$f":"VLOOKUP($G1350,県名!$B$1:$C$49,2,FALSE)","v":{"$error":"#N/A"}}]
[null,null,1350,null,null,null,null,{"$f":"VLOOKUP($G1351,県名!$B$1:$C$49,2,FALSE)","v":{"$error":"#N/A"}}]
[null,null,1351,null,null,null,null,{"$f":"VLOOKUP($G1352,県名!$B$1:$C$49,2,FALSE)","v":{"$error":"#N/A"}}]
[null,null,1352,null,null,null,null,{"$f":"VLOOKUP($G1353,県名!$B$1:$C$49,2,FALSE)","v":{"$error":"#N/A"}}]
[null,null,1353,null,null,null,null,{"$f":"VLOOKUP($G1354,県名!$B$1:$C$49,2,FALSE)","v":{"$error":"#N/A"}}]
[null,null,1354,null,null,null,null,{"$f":"VLOOKUP($G1355,県名!$B$1:$C$49,2,FALSE)","v":{"$error":"#N/A"}}]
[null,null,1355,null,null,null,null,{"$f":"VLOOKUP($G1356,県名!$B$1:$C$49,2,FALSE)","v":{"$error":"#N/A"}}]
[null,null,1356,null,null,null,null,{"$f":"VLOOKUP($G1357,県名!$B$1:$C$49,2,FALSE)","v":{"$error":"#N/A"}}]
[null,null,1357,null,null,null,null,{"$f":"VLOOKUP($G1358,県名!$B$1:$C$49,2,FALSE)","v":{"$error":"#N/A"}}]
[null,null,1358,null,null,null,null,{"$f":"VLOOKUP($G1359,県名!$B$1:$C$49,2,FALSE)","v":{"$error":"#N/A"}}]
[null,null,1359,null,null,null,null,{"$f":"VLOOKUP($G1360,県名!$B$1:$C$49,2,FALSE)","v":{"$error":"#N/A"}}]
[null,null,1360,null,null,null,null,{"$f":"VLOOKUP($G1361,県名!$B$1:$C$49,2,FALSE)","v":{"$error":"#N/A"}}]
[null,null,1361,null,null,null,null,{"$f":"VLOOKUP($G1362,県名!$B$1:$C$49,2,FALSE)","v":{"$error":"#N/A"}}]
[null,null,1362,null,null,null,null,{"$f":"VLOOKUP($G1363,県名!$B$1:$C$49,2,FALSE)","v":{"$error":"#N/A"}}]
[null,null,1363,null,null,null,null,{"$f":"VLOOKUP($G1364,県名!$B$1:$C$49,2,FALSE)","v":{"$error":"#N/A"}}]
[null,null,1364,null,null,null,null,{"$f":"VLOOKUP($G1365,県名!$B$1:$C$49,2,FALSE)","v":{"$error":"#N/A"}}]
[null,null,1365,null,null,null,null,{"$f":"VLOOKUP($G1366,県名!$B$1:$C$49,2,FALSE)","v":{"$error":"#N/A"}}]
[null,null,1366,null,null,null,null,{"$f":"VLOOKUP($G1367,県名!$B$1:$C$49,2,FALSE)","v":{"$error":"#N/A"}}]
[null,null,1367,null,null,null,null,{"$f":"VLOOKUP($G1368,県名!$B$1:$C$49,2,FALSE)","v":{"$error":"#N/A"}}]
[null,null,1368,null,null,null,null,{"$f":"VLOOKUP($G1369,県名!$B$1:$C$49,2,FALSE)","v":{"$error":"#N/A"}}]
[null,null,1369,null,null,null,null,{"$f":"VLOOKUP($G1370,県名!$B$1:$C$49,2,FALSE)","v":{"$error":"#N/A"}}]
[null,null,1370,null,null,null,null,{"$f":"VLOOKUP($G1371,県名!$B$1:$C$49,2,FALSE)","v":{"$error":"#N/A"}}]
[null,null,1371,null,null,null,null,{"$f":"VLOOKUP($G1372,県名!$B$1:$C$49,2,FALSE)","v":{"$error":"#N/A"}}]
[null,null,1372,null,null,null,null,{"$f":"VLOOKUP($G1373,県名!$B$1:$C$49,2,FALSE)","v":{"$error":"#N/A"}}]
[null,null,1373,null,null,null,null,{"$f":"VLOOKUP($G1374,県名!$B$1:$C$49,2,FALSE)","v":{"$error":"#N/A"}}]
[null,null,1374,null,null,null,null,{"$f":"VLOOKUP($G1375,県名!$B$1:$C$49,2,FALSE)","v":{"$error":"#N/A"}}]
[null,null,1375,null,null,null,null,{"$f":"VLOOKUP($G1376,県名!$B$1:$C$49,2,FALSE)","v":{"$error":"#N/A"}}]
[null,null,1376,null,null,null,null,{"$f":"VLOOKUP($G1377,県名!$B$1:$C$49,2,FALSE)","v":{"$error":"#N/A"}}]
[null,null,1377,null,null,null,null,{"$f":"VLOOKUP($G1378,県名!$B$1:$C$49,2,FALSE)","v":{"$error":"#N/A"}}]
[null,null,1378,null,null,null,null,{"$f":"VLOOKUP($G1379,県名!$B$1:$C$49,2,FALSE)","v":{"$error":"#N/A"}}]
[null,null,1379,null,null,null,null,{"$f":"VLOOKUP($G1380,県名!$B$1:$C$49,2,FALSE)","v":{"$error":"#N/A"}}]
[null,null,1380,null,null,null,null,{"$f":"VLOOKUP($G1381,県名!$B$1:$C$49,2,FALSE)","v":{"$error":"#N/A"}}]
[null,null,1381,null,null,null,null,{"$f":"VLOOKUP($G1382,県名!$B$1:$C$49,2,FALSE)","v":{"$error":"#N/A"}}]
[null,null,1382,null,null,null,null,{"$f":"VLOOKUP($G1383,県名!$B$1:$C$49,2,FALSE)","v":{"$error":"#N/A"}}]
[null,null,1383,null,null,null,null,{"$f":"VLOOKUP($G1384,県名!$B$1:$C$49,2,FALSE)","v":{"$error":"#N/A"}}]
[null,null,1384,null,null,null,null,{"$f":"VLOOKUP($G1385,県名!$B$1:$C$49,2,FALSE)","v":{"$error":"#N/A"}}]
[null,null,1385,null,null,null,null,{"$f":"VLOOKUP($G1386,県名!$B$1:$C$49,2,FALSE)","v":{"$error":"#N/A"}}]
[null,null,1386,null,null,null,null,{"$f":"VLOOKUP($G1387,県名!$B$1:$C$49,2,FALSE)","v":{"$error":"#N/A"}}]
[null,null,1387,null,null,null,null,{"$f":"VLOOKUP($G1388,県名!$B$1:$C$49,2,FALSE)","v":{"$error":"#N/A"}}]
[null,null,1388,null,null,null,null,{"$f":"VLOOKUP($G1389,県名!$B$1:$C$49,2,FALSE)","v":{"$error":"#N/A"}}]
[null,null,1389,null,null,null,null,{"$f":"VLOOKUP($G1390,県名!$B$1:$C$49,2,FALSE)","v":{"$error":"#N/A"}}]
[null,null,1390,null,null,null,null,{"$f":"VLOOKUP($G1391,県名!$B$1:$C$49,2,FALSE)","v":{"$error":"#N/A"}}]
[null,null,1391,null,null,null,null,{"$f":"VLOOKUP($G1392,県名!$B$1:$C$49,2,FALSE)","v":{"$error":"#N/A"}}]
[null,null,1392,null,null,null,null,{"$f":"VLOOKUP($G1393,県名!$B$1:$C$49,2,FALSE)","v":{"$error":"#N/A"}}]
[null,null,1393,null,null,null,null,{"$f":"VLOOKUP($G1394,県名!$B$1:$C$49,2,FALSE)","v":{"$error":"#N/A"}}]
[null,null,1394,null,null,null,null,{"$f":"VLOOKUP($G1395,県名!$B$1:$C$49,2,FALSE)","v":{"$error":"#N/A"}}]
[null,null,1395,null,null,null,null,{"$f":"VLOOKUP($G1396,県名!$B$1:$C$49,2,FALSE)","v":{"$error":"#N/A"}}]
[null,null,1396,null,null,null,null,{"$f":"VLOOKUP($G1397,県名!$B$1:$C$49,2,FALSE)","v":{"$error":"#N/A"}}]
[null,null,1397,null,null,null,null,{"$f":"VLOOKUP($G1398,県名!$B$1:$C$49,2,FALSE)","v":{"$error":"#N/A"}}]
[null,null,1398,null,null,null,null,{"$f":"VLOOKUP($G1399,県名!$B$1:$C$49,2,FALSE)","v":{"$error":"#N/A"}}]
[null,null,1399,null,null,null,null,{"$f":"VLOOKUP($G1400,県名!$B$1:$C$49,2,FALSE)","v":{"$error":"#N/A"}}]
[null,null,1400,null,null,null,null,{"$f":"VLOOKUP($G1401,県名!$B$1:$C$49,2,FALSE)","v":{"$error":"#N/A"}}]
[null,null,1401,null,null,null,null,{"$f":"VLOOKUP($G1402,県名!$B$1:$C$49,2,FALSE)","v":{"$error":"#N/A"}}]
[null,null,1402,null,null,null,null,{"$f":"VLOOKUP($G1403,県名!$B$1:$C$49,2,FALSE)","v":{"$error":"#N/A"}}]
[null,null,1403,null,null,null,null,{"$f":"VLOOKUP($G1404,県名!$B$1:$C$49,2,FALSE)","v":{"$error":"#N/A"}}]
[null,null,1404,null,null,null,null,{"$f":"VLOOKUP($G1405,県名!$B$1:$C$49,2,FALSE)","v":{"$error":"#N/A"}}]
[null,null,1405,null,null,null,null,{"$f":"VLOOKUP($G1406,県名!$B$1:$C$49,2,FALSE)","v":{"$error":"#N/A"}}]
[null,null,1406,null,null,null,null,{"$f":"VLOOKUP($G1407,県名!$B$1:$C$49,2,FALSE)","v":{"$error":"#N/A"}}]
[null,null,1407,null,null,null,null,{"$f":"VLOOKUP($G1408,県名!$B$1:$C$49,2,FALSE)","v":{"$error":"#N/A"}}]
[null,null,1408,null,null,null,null,{"$f":"VLOOKUP($G1409,県名!$B$1:$C$49,2,FALSE)","v":{"$error":"#N/A"}}]
[null,null,1409,null,null,null,null,{"$f":"VLOOKUP($G1410,県名!$B$1:$C$49,2,FALSE)","v":{"$error":"#N/A"}}]
[null,null,1410,null,null,null,null,{"$f":"VLOOKUP($G1411,県名!$B$1:$C$49,2,FALSE)","v":{"$error":"#N/A"}}]
[null,null,1411,null,null,null,null,{"$f":"VLOOKUP($G1412,県名!$B$1:$C$49,2,FALSE)","v":{"$error":"#N/A"}}]
[null,null,1412,null,null,null,null,{"$f":"VLOOKUP($G1413,県名!$B$1:$C$49,2,FALSE)","v":{"$error":"#N/A"}}]
[null,null,1413,null,null,null,null,{"$f":"VLOOKUP($G1414,県名!$B$1:$C$49,2,FALSE)","v":{"$error":"#N/A"}}]
[null,null,1414,null,null,null,null,{"$f":"VLOOKUP($G1415,県名!$B$1:$C$49,2,FALSE)","v":{"$error":"#N/A"}}]
[null,null,1415,null,null,null,null,{"$f":"VLOOKUP($G1416,県名!$B$1:$C$49,2,FALSE)","v":{"$error":"#N/A"}}]
[null,null,1416,null,null,null,null,{"$f":"VLOOKUP($G1417,県名!$B$1:$C$49,2,FALSE)","v":{"$error":"#N/A"}}]
[null,null,1417,null,null,null,null,{"$f":"VLOOKUP($G1418,県名!$B$1:$C$49,2,FALSE)","v":{"$error":"#N/A"}}]
[null,null,1418,null,null,null,null,{"$f":"VLOOKUP($G1419,県名!$B$1:$C$49,2,FALSE)","v":{"$error":"#N/A"}}]
[null,null,1419,null,null,null,null,{"$f":"VLOOKUP($G1420,県名!$B$1:$C$49,2,FALSE)","v":{"$error":"#N/A"}}]
[null,null,1420,null,null,null,null,{"$f":"VLOOKUP($G1421,県名!$B$1:$C$49,2,FALSE)","v":{"$error":"#N/A"}}]
[null,null,1421,null,null,null,null,{"$f":"VLOOKUP($G1422,県名!$B$1:$C$49,2,FALSE)","v":{"$error":"#N/A"}}]
[null,null,1422,null,null,null,null,{"$f":"VLOOKUP($G1423,県名!$B$1:$C$49,2,FALSE)","v":{"$error":"#N/A"}}]
[null,null,1423,null,null,null,null,{"$f":"VLOOKUP($G1424,県名!$B$1:$C$49,2,FALSE)","v":{"$error":"#N/A"}}]
[null,null,1424,null,null,null,null,{"$f":"VLOOKUP($G1425,県名!$B$1:$C$49,2,FALSE)","v":{"$error":"#N/A"}}]
[null,null,1425,null,null,null,null,{"$f":"VLOOKUP($G1426,県名!$B$1:$C$49,2,FALSE)","v":{"$error":"#N/A"}}]
[null,null,1426,null,null,null,null,{"$f":"VLOOKUP($G1427,県名!$B$1:$C$49,2,FALSE)","v":{"$error":"#N/A"}}]
[null,null,1427,null,null,null,null,{"$f":"VLOOKUP($G1428,県名!$B$1:$C$49,2,FALSE)","v":{"$error":"#N/A"}}]
[null,null,1428,null,null,null,null,{"$f":"VLOOKUP($G1429,県名!$B$1:$C$49,2,FALSE)","v":{"$error":"#N/A"}}]
[null,null,1429,null,null,null,null,{"$f":"VLOOKUP($G1430,県名!$B$1:$C$49,2,FALSE)","v":{"$error":"#N/A"}}]
[null,null,1430,null,null,null,null,{"$f":"VLOOKUP($G1431,県名!$B$1:$C$49,2,FALSE)","v":{"$error":"#N/A"}}]
[null,null,1431,null,null,null,null,{"$f":"VLOOKUP($G1432,県名!$B$1:$C$49,2,FALSE)","v":{"$error":"#N/A"}}]
[null,null,1432,null,null,null,null,{"$f":"VLOOKUP($G1433,県名!$B$1:$C$49,2,FALSE)","v":{"$error":"#N/A"}}]
[null,null,1433,null,null,null,null,{"$f":"VLOOKUP($G1434,県名!$B$1:$C$49,2,FALSE)","v":{"$error":"#N/A"}}]
[null,null,1434,null,null,null,null,{"$f":"VLOOKUP($G1435,県名!$B$1:$C$49,2,FALSE)","v":{"$error":"#N/A"}}]
[null,null,1435,null,null,null,null,{"$f":"VLOOKUP($G1436,県名!$B$1:$C$49,2,FALSE)","v":{"$error":"#N/A"}}]
[null,null,1436,null,null,null,null,{"$f":"VLOOKUP($G1437,県名!$B$1:$C$49,2,FALSE)","v":{"$error":"#N/A"}}]
[null,null,1437,null,null,null,null,{"$f":"VLOOKUP($G1438,県名!$B$1:$C$49,2,FALSE)","v":{"$error":"#N/A"}}]
[null,null,1438,null,null,null,null,{"$f":"VLOOKUP($G1439,県名!$B$1:$C$49,2,FALSE)","v":{"$error":"#N/A"}}]
[null,null,1439,null,null,null,null,{"$f":"VLOOKUP($G1440,県名!$B$1:$C$49,2,FALSE)","v":{"$error":"#N/A"}}]
[null,null,1440,null,null,null,null,{"$f":"VLOOKUP($G1441,県名!$B$1:$C$49,2,FALSE)","v":{"$error":"#N/A"}}]
[null,null,1441,null,null,null,null,{"$f":"VLOOKUP($G1442,県名!$B$1:$C$49,2,FALSE)","v":{"$error":"#N/A"}}]
[null,null,1442,null,null,null,null,{"$f":"VLOOKUP($G1443,県名!$B$1:$C$49,2,FALSE)","v":{"$error":"#N/A"}}]
[null,null,1443,null,null,null,null,{"$f":"VLOOKUP($G1444,県名!$B$1:$C$49,2,FALSE)","v":{"$error":"#N/A"}}]
[null,null,1444,null,null,null,null,{"$f":"VLOOKUP($G1445,県名!$B$1:$C$49,2,FALSE)","v":{"$error":"#N/A"}}]
[null,null,1445,null,null,null,null,{"$f":"VLOOKUP($G1446,県名!$B$1:$C$49,2,FALSE)","v":{"$error":"#N/A"}}]
[null,null,1446,null,null,null,null,{"$f":"VLOOKUP($G1447,県名!$B$1:$C$49,2,FALSE)","v":{"$error":"#N/A"}}]
[null,null,1447,null,null,null,null,{"$f":"VLOOKUP($G1448,県名!$B$1:$C$49,2,FALSE)","v":{"$error":"#N/A"}}]
[null,null,1448,null,null,null,null,{"$f":"VLOOKUP($G1449,県名!$B$1:$C$49,2,FALSE)","v":{"$error":"#N/A"}}]
[null,null,1449,null,null,null,null,{"$f":"VLOOKUP($G1450,県名!$B$1:$C$49,2,FALSE)","v":{"$error":"#N/A"}}]
[null,null,1450,null,null,null,null,{"$f":"VLOOKUP($G1451,県名!$B$1:$C$49,2,FALSE)","v":{"$error":"#N/A"}}]
[null,null,1451,null,null,null,null,{"$f":"VLOOKUP($G1452,県名!$B$1:$C$49,2,FALSE)","v":{"$error":"#N/A"}}]
[null,null,1452,null,null,null,null,{"$f":"VLOOKUP($G1453,県名!$B$1:$C$49,2,FALSE)","v":{"$error":"#N/A"}}]
[null,null,1453,null,null,null,null,{"$f":"VLOOKUP($G1454,県名!$B$1:$C$49,2,FALSE)","v":{"$error":"#N/A"}}]
[null,null,1454,null,null,null,null,{"$f":"VLOOKUP($G1455,県名!$B$1:$C$49,2,FALSE)","v":{"$error":"#N/A"}}]
[null,null,1455,null,null,null,null,{"$f":"VLOOKUP($G1456,県名!$B$1:$C$49,2,FALSE)","v":{"$error":"#N/A"}}]
[null,null,1456,null,null,null,null,{"$f":"VLOOKUP($G1457,県名!$B$1:$C$49,2,FALSE)","v":{"$error":"#N/A"}}]
[null,null,1457,null,null,null,null,{"$f":"VLOOKUP($G1458,県名!$B$1:$C$49,2,FALSE)","v":{"$error":"#N/A"}}]
[null,null,1458,null,null,null,null,{"$f":"VLOOKUP($G1459,県名!$B$1:$C$49,2,FALSE)","v":{"$error":"#N/A"}}]
[null,null,1459,null,null,null,null,{"$f":"VLOOKUP($G1460,県名!$B$1:$C$49,2,FALSE)","v":{"$error":"#N/A"}}]
[null,null,1460,null,null,null,null,{"$f":"VLOOKUP($G1461,県名!$B$1:$C$49,2,FALSE)","v":{"$error":"#N/A"}}]
[null,null,1461,null,null,null,null,{"$f":"VLOOKUP($G1462,県名!$B$1:$C$49,2,FALSE)","v":{"$error":"#N/A"}}]
[null,null,1462,null,null,null,null,{"$f":"VLOOKUP($G1463,県名!$B$1:$C$49,2,FALSE)","v":{"$error":"#N/A"}}]
[null,null,1463,null,null,null,null,{"$f":"VLOOKUP($G1464,県名!$B$1:$C$49,2,FALSE)","v":{"$error":"#N/A"}}]
[null,null,1464,null,null,null,null,{"$f":"VLOOKUP($G1465,県名!$B$1:$C$49,2,FALSE)","v":{"$error":"#N/A"}}]
[null,null,1465,null,null,null,null,{"$f":"VLOOKUP($G1466,県名!$B$1:$C$49,2,FALSE)","v":{"$error":"#N/A"}}]
[null,null,1466,null,null,null,null,{"$f":"VLOOKUP($G1467,県名!$B$1:$C$49,2,FALSE)","v":{"$error":"#N/A"}}]
[null,null,1467,null,null,null,null,{"$f":"VLOOKUP($G1468,県名!$B$1:$C$49,2,FALSE)","v":{"$error":"#N/A"}}]
[null,null,1468,null,null,null,null,{"$f":"VLOOKUP($G1469,県名!$B$1:$C$49,2,FALSE)","v":{"$error":"#N/A"}}]
[null,null,1469,null,null,null,null,{"$f":"VLOOKUP($G1470,県名!$B$1:$C$49,2,FALSE)","v":{"$error":"#N/A"}}]
[null,null,1470,null,null,null,null,{"$f":"VLOOKUP($G1471,県名!$B$1:$C$49,2,FALSE)","v":{"$error":"#N/A"}}]
[null,null,1471,null,null,null,null,{"$f":"VLOOKUP($G1472,県名!$B$1:$C$49,2,FALSE)","v":{"$error":"#N/A"}}]
[null,null,1472,null,null,null,null,{"$f":"VLOOKUP($G1473,県名!$B$1:$C$49,2,FALSE)","v":{"$error":"#N/A"}}]
[null,null,1473,null,null,null,null,{"$f":"VLOOKUP($G1474,県名!$B$1:$C$49,2,FALSE)","v":{"$error":"#N/A"}}]
[null,null,1474,null,null,null,null,{"$f":"VLOOKUP($G1475,県名!$B$1:$C$49,2,FALSE)","v":{"$error":"#N/A"}}]
[null,null,1475,null,null,null,null,{"$f":"VLOOKUP($G1476,県名!$B$1:$C$49,2,FALSE)","v":{"$error":"#N/A"}}]
[null,null,1476,null,null,null,null,{"$f":"VLOOKUP($G1477,県名!$B$1:$C$49,2,FALSE)","v":{"$error":"#N/A"}}]
[null,null,1477,null,null,null,null,{"$f":"VLOOKUP($G1478,県名!$B$1:$C$49,2,FALSE)","v":{"$error":"#N/A"}}]
[null,null,1478,null,null,null,null,{"$f":"VLOOKUP($G1479,県名!$B$1:$C$49,2,FALSE)","v":{"$error":"#N/A"}}]
[null,null,1479,null,null,null,null,{"$f":"VLOOKUP($G1480,県名!$B$1:$C$49,2,FALSE)","v":{"$error":"#N/A"}}]
[null,null,1480,null,null,null,null,{"$f":"VLOOKUP($G1481,県名!$B$1:$C$49,2,FALSE)","v":{"$error":"#N/A"}}]
[null,null,1481,null,null,null,null,{"$f":"VLOOKUP($G1482,県名!$B$1:$C$49,2,FALSE)","v":{"$error":"#N/A"}}]
[null,null,1482,null,null,null,null,{"$f":"VLOOKUP($G1483,県名!$B$1:$C$49,2,FALSE)","v":{"$error":"#N/A"}}]
[null,null,1483,null,null,null,null,{"$f":"VLOOKUP($G1484,県名!$B$1:$C$49,2,FALSE)","v":{"$error":"#N/A"}}]
[null,null,1484,null,null,null,null,{"$f":"VLOOKUP($G1485,県名!$B$1:$C$49,2,FALSE)","v":{"$error":"#N/A"}}]
[null,null,1485,null,null,null,null,{"$f":"VLOOKUP($G1486,県名!$B$1:$C$49,2,FALSE)","v":{"$error":"#N/A"}}]
[null,null,1486,null,null,null,null,{"$f":"VLOOKUP($G1487,県名!$B$1:$C$49,2,FALSE)","v":{"$error":"#N/A"}}]
[null,null,1487,null,null,null,null,{"$f":"VLOOKUP($G1488,県名!$B$1:$C$49,2,FALSE)","v":{"$error":"#N/A"}}]
[null,null,1488,null,null,null,null,{"$f":"VLOOKUP($G1489,県名!$B$1:$C$49,2,FALSE)","v":{"$error":"#N/A"}}]
[null,null,1489,null,null,null,null,{"$f":"VLOOKUP($G1490,県名!$B$1:$C$49,2,FALSE)","v":{"$error":"#N/A"}}]
[null,null,1490,null,null,null,null,{"$f":"VLOOKUP($G1491,県名!$B$1:$C$49,2,FALSE)","v":{"$error":"#N/A"}}]
[null,null,1491,null,null,null,null,{"$f":"VLOOKUP($G1492,県名!$B$1:$C$49,2,FALSE)","v":{"$error":"#N/A"}}]
[null,null,1492,null,null,null,null,{"$f":"VLOOKUP($G1493,県名!$B$1:$C$49,2,FALSE)","v":{"$error":"#N/A"}}]
[null,null,1493,null,null,null,null,{"$f":"VLOOKUP($G1494,県名!$B$1:$C$49,2,FALSE)","v":{"$error":"#N/A"}}]
[null,null,1494,null,null,null,null,{"$f":"VLOOKUP($G1495,県名!$B$1:$C$49,2,FALSE)","v":{"$error":"#N/A"}}]
[null,null,1495,null,null,null,null,{"$f":"VLOOKUP($G1496,県名!$B$1:$C$49,2,FALSE)","v":{"$error":"#N/A"}}]
[null,null,1496,null,null,null,null,{"$f":"VLOOKUP($G1497,県名!$B$1:$C$49,2,FALSE)","v":{"$error":"#N/A"}}]
[null,null,1497,null,null,null,null,{"$f":"VLOOKUP($G1498,県名!$B$1:$C$49,2,FALSE)","v":{"$error":"#N/A"}}]
[null,null,1498,null,null,null,null,{"$f":"VLOOKUP($G1499,県名!$B$1:$C$49,2,FALSE)","v":{"$error":"#N/A"}}]
[null,null,1499,null,null,null,null,{"$f":"VLOOKUP($G1500,県名!$B$1:$C$49,2,FALSE)","v":{"$error":"#N/A"}}]
[null,null,1500,null,null,null,null,{"$f":"VLOOKUP($G1501,県名!$B$1:$C$49,2,FALSE)","v":{"$error":"#N/A"}}]
[null,null,1501,null,null,null,null,{"$f":"VLOOKUP($G1502,県名!$B$1:$C$49,2,FALSE)","v":{"$error":"#N/A"}}]
[null,null,1502,null,null,null,null,{"$f":"VLOOKUP($G1503,県名!$B$1:$C$49,2,FALSE)","v":{"$error":"#N/A"}}]
[null,null,1503,null,null,null,null,{"$f":"VLOOKUP($G1504,県名!$B$1:$C$49,2,FALSE)","v":{"$error":"#N/A"}}]
[null,null,1504,null,null,null,null,{"$f":"VLOOKUP($G1505,県名!$B$1:$C$49,2,FALSE)","v":{"$error":"#N/A"}}]
[null,null,1505,null,null,null,null,{"$f":"VLOOKUP($G1506,県名!$B$1:$C$49,2,FALSE)","v":{"$error":"#N/A"}}]
[null,null,1506,null,null,null,null,{"$f":"VLOOKUP($G1507,県名!$B$1:$C$49,2,FALSE)","v":{"$error":"#N/A"}}]
[null,null,1507,null,null,null,null,{"$f":"VLOOKUP($G1508,県名!$B$1:$C$49,2,FALSE)","v":{"$error":"#N/A"}}]
[null,null,1508,null,null,null,null,{"$f":"VLOOKUP($G1509,県名!$B$1:$C$49,2,FALSE)","v":{"$error":"#N/A"}}]
[null,null,1509,null,null,null,null,{"$f":"VLOOKUP($G1510,県名!$B$1:$C$49,2,FALSE)","v":{"$error":"#N/A"}}]
[null,null,1510,null,null,null,null,{"$f":"VLOOKUP($G1511,県名!$B$1:$C$49,2,FALSE)","v":{"$error":"#N/A"}}]
[null,null,1511,null,null,null,null,{"$f":"VLOOKUP($G1512,県名!$B$1:$C$49,2,FALSE)","v":{"$error":"#N/A"}}]
[null,null,1512,null,null,null,null,{"$f":"VLOOKUP($G1513,県名!$B$1:$C$49,2,FALSE)","v":{"$error":"#N/A"}}]
[null,null,1513,null,null,null,null,{"$f":"VLOOKUP($G1514,県名!$B$1:$C$49,2,FALSE)","v":{"$error":"#N/A"}}]
[null,null,1514,null,null,null,null,{"$f":"VLOOKUP($G1515,県名!$B$1:$C$49,2,FALSE)","v":{"$error":"#N/A"}}]
[null,null,1515,null,null,null,null,{"$f":"VLOOKUP($G1516,県名!$B$1:$C$49,2,FALSE)","v":{"$error":"#N/A"}}]
[null,null,1516,null,null,null,null,{"$f":"VLOOKUP($G1517,県名!$B$1:$C$49,2,FALSE)","v":{"$error":"#N/A"}}]
[null,null,1517,null,null,null,null,{"$f":"VLOOKUP($G1518,県名!$B$1:$C$49,2,FALSE)","v":{"$error":"#N/A"}}]
[null,null,1518,null,null,null,null,{"$f":"VLOOKUP($G1519,県名!$B$1:$C$49,2,FALSE)","v":{"$error":"#N/A"}}]
[null,null,1519,null,null,null,null,{"$f":"VLOOKUP($G1520,県名!$B$1:$C$49,2,FALSE)","v":{"$error":"#N/A"}}]
[null,null,1520,null,null,null,null,{"$f":"VLOOKUP($G1521,県名!$B$1:$C$49,2,FALSE)","v":{"$error":"#N/A"}}]
[null,null,1521,null,null,null,null,{"$f":"VLOOKUP($G1522,県名!$B$1:$C$49,2,FALSE)","v":{"$error":"#N/A"}}]
[null,null,1522,null,null,null,null,{"$f":"VLOOKUP($G1523,県名!$B$1:$C$49,2,FALSE)","v":{"$error":"#N/A"}}]
[null,null,1523,null,null,null,null,{"$f":"VLOOKUP($G1524,県名!$B$1:$C$49,2,FALSE)","v":{"$error":"#N/A"}}]
[null,null,1524,null,null,null,null,{"$f":"VLOOKUP($G1525,県名!$B$1:$C$49,2,FALSE)","v":{"$error":"#N/A"}}]
[null,null,1525,null,null,null,null,{"$f":"VLOOKUP($G1526,県名!$B$1:$C$49,2,FALSE)","v":{"$error":"#N/A"}}]
[null,null,1526,null,null,null,null,{"$f":"VLOOKUP($G1527,県名!$B$1:$C$49,2,FALSE)","v":{"$error":"#N/A"}}]
[null,null,1527,null,null,null,null,{"$f":"VLOOKUP($G1528,県名!$B$1:$C$49,2,FALSE)","v":{"$error":"#N/A"}}]
[null,null,1528,null,null,null,null,{"$f":"VLOOKUP($G1529,県名!$B$1:$C$49,2,FALSE)","v":{"$error":"#N/A"}}]
[null,null,1529,null,null,null,null,{"$f":"VLOOKUP($G1530,県名!$B$1:$C$49,2,FALSE)","v":{"$error":"#N/A"}}]
[null,null,1530,null,null,null,null,{"$f":"VLOOKUP($G1531,県名!$B$1:$C$49,2,FALSE)","v":{"$error":"#N/A"}}]
[null,null,1531,null,null,null,null,{"$f":"VLOOKUP($G1532,県名!$B$1:$C$49,2,FALSE)","v":{"$error":"#N/A"}}]
[null,null,1532,null,null,null,null,{"$f":"VLOOKUP($G1533,県名!$B$1:$C$49,2,FALSE)","v":{"$error":"#N/A"}}]
[null,null,1533,null,null,null,null,{"$f":"VLOOKUP($G1534,県名!$B$1:$C$49,2,FALSE)","v":{"$error":"#N/A"}}]
[null,null,1534,null,null,null,null,{"$f":"VLOOKUP($G1535,県名!$B$1:$C$49,2,FALSE)","v":{"$error":"#N/A"}}]
[null,null,1535,null,null,null,null,{"$f":"VLOOKUP($G1536,県名!$B$1:$C$49,2,FALSE)","v":{"$error":"#N/A"}}]
[null,null,1536,null,null,null,null,{"$f":"VLOOKUP($G1537,県名!$B$1:$C$49,2,FALSE)","v":{"$error":"#N/A"}}]
[null,null,1537,null,null,null,null,{"$f":"VLOOKUP($G1538,県名!$B$1:$C$49,2,FALSE)","v":{"$error":"#N/A"}}]
[null,null,1538,null,null,null,null,{"$f":"VLOOKUP($G1539,県名!$B$1:$C$49,2,FALSE)","v":{"$error":"#N/A"}}]
[null,null,1539,null,null,null,null,{"$f":"VLOOKUP($G1540,県名!$B$1:$C$49,2,FALSE)","v":{"$error":"#N/A"}}]
[null,null,1540,null,null,null,null,{"$f":"VLOOKUP($G1541,県名!$B$1:$C$49,2,FALSE)","v":{"$error":"#N/A"}}]
[null,null,1541,null,null,null,null,{"$f":"VLOOKUP($G1542,県名!$B$1:$C$49,2,FALSE)","v":{"$error":"#N/A"}}]
[null,null,1542,null,null,null,null,{"$f":"VLOOKUP($G1543,県名!$B$1:$C$49,2,FALSE)","v":{"$error":"#N/A"}}]
[null,null,1543,null,null,null,null,{"$f":"VLOOKUP($G1544,県名!$B$1:$C$49,2,FALSE)","v":{"$error":"#N/A"}}]
[null,null,1544,null,null,null,null,{"$f":"VLOOKUP($G1545,県名!$B$1:$C$49,2,FALSE)","v":{"$error":"#N/A"}}]
[null,null,1545,null,null,null,null,{"$f":"VLOOKUP($G1546,県名!$B$1:$C$49,2,FALSE)","v":{"$error":"#N/A"}}]
[null,null,1546,null,null,null,null,{"$f":"VLOOKUP($G1547,県名!$B$1:$C$49,2,FALSE)","v":{"$error":"#N/A"}}]
[null,null,1547,null,null,null,null,{"$f":"VLOOKUP($G1548,県名!$B$1:$C$49,2,FALSE)","v":{"$error":"#N/A"}}]
[null,null,1548,null,null,null,null,{"$f":"VLOOKUP($G1549,県名!$B$1:$C$49,2,FALSE)","v":{"$error":"#N/A"}}]
[null,null,1549,null,null,null,null,{"$f":"VLOOKUP($G1550,県名!$B$1:$C$49,2,FALSE)","v":{"$error":"#N/A"}}]
[null,null,1550,null,null,null,null,{"$f":"VLOOKUP($G1551,県名!$B$1:$C$49,2,FALSE)","v":{"$error":"#N/A"}}]
[null,null,1551,null,null,null,null,{"$f":"VLOOKUP($G1552,県名!$B$1:$C$49,2,FALSE)","v":{"$error":"#N/A"}}]
[null,null,1552,null,null,null,null,{"$f":"VLOOKUP($G1553,県名!$B$1:$C$49,2,FALSE)","v":{"$error":"#N/A"}}]
[null,null,1553,null,null,null,null,{"$f":"VLOOKUP($G1554,県名!$B$1:$C$49,2,FALSE)","v":{"$error":"#N/A"}}]
[null,null,1554,null,null,null,null,{"$f":"VLOOKUP($G1555,県名!$B$1:$C$49,2,FALSE)","v":{"$error":"#N/A"}}]
[null,null,1555,null,null,null,null,{"$f":"VLOOKUP($G1556,県名!$B$1:$C$49,2,FALSE)","v":{"$error":"#N/A"}}]
[null,null,1556,null,null,null,null,{"$f":"VLOOKUP($G1557,県名!$B$1:$C$49,2,FALSE)","v":{"$error":"#N/A"}}]
[null,null,1557,null,null,null,null,{"$f":"VLOOKUP($G1558,県名!$B$1:$C$49,2,FALSE)","v":{"$error":"#N/A"}}]
[null,null,1558,null,null,null,null,{"$f":"VLOOKUP($G1559,県名!$B$1:$C$49,2,FALSE)","v":{"$error":"#N/A"}}]
[null,null,1559,null,null,null,null,{"$f":"VLOOKUP($G1560,県名!$B$1:$C$49,2,FALSE)","v":{"$error":"#N/A"}}]
[null,null,1560,null,null,null,null,{"$f":"VLOOKUP($G1561,県名!$B$1:$C$49,2,FALSE)","v":{"$error":"#N/A"}}]
[null,null,1561,null,null,null,null,{"$f":"VLOOKUP($G1562,県名!$B$1:$C$49,2,FALSE)","v":{"$error":"#N/A"}}]
[null,null,1562,null,null,null,null,{"$f":"VLOOKUP($G1563,県名!$B$1:$C$49,2,FALSE)","v":{"$error":"#N/A"}}]
[null,null,1563,null,null,null,null,{"$f":"VLOOKUP($G1564,県名!$B$1:$C$49,2,FALSE)","v":{"$error":"#N/A"}}]
[null,null,1564,null,null,null,null,{"$f":"VLOOKUP($G1565,県名!$B$1:$C$49,2,FALSE)","v":{"$error":"#N/A"}}]
[null,null,1565,null,null,null,null,{"$f":"VLOOKUP($G1566,県名!$B$1:$C$49,2,FALSE)","v":{"$error":"#N/A"}}]
[null,null,1566,null,null,null,null,{"$f":"VLOOKUP($G1567,県名!$B$1:$C$49,2,FALSE)","v":{"$error":"#N/A"}}]
[null,null,1567,null,null,null,null,{"$f":"VLOOKUP($G1568,県名!$B$1:$C$49,2,FALSE)","v":{"$error":"#N/A"}}]
[null,null,1568,null,null,null,null,{"$f":"VLOOKUP($G1569,県名!$B$1:$C$49,2,FALSE)","v":{"$error":"#N/A"}}]
[null,null,1569,null,null,null,null,{"$f":"VLOOKUP($G1570,県名!$B$1:$C$49,2,FALSE)","v":{"$error":"#N/A"}}]
[null,null,1570,null,null,null,null,{"$f":"VLOOKUP($G1571,県名!$B$1:$C$49,2,FALSE)","v":{"$error":"#N/A"}}]
[null,null,1571,null,null,null,null,{"$f":"VLOOKUP($G1572,県名!$B$1:$C$49,2,FALSE)","v":{"$error":"#N/A"}}]
[null,null,1572,null,null,null,null,{"$f":"VLOOKUP($G1573,県名!$B$1:$C$49,2,FALSE)","v":{"$error":"#N/A"}}]
[null,null,1573,null,null,null,null,{"$f":"VLOOKUP($G1574,県名!$B$1:$C$49,2,FALSE)","v":{"$error":"#N/A"}}]
[null,null,1574,null,null,null,null,{"$f":"VLOOKUP($G1575,県名!$B$1:$C$49,2,FALSE)","v":{"$error":"#N/A"}}]
[null,null,1575,null,null,null,null,{"$f":"VLOOKUP($G1576,県名!$B$1:$C$49,2,FALSE)","v":{"$error":"#N/A"}}]
[null,null,1576,null,null,null,null,{"$f":"VLOOKUP($G1577,県名!$B$1:$C$49,2,FALSE)","v":{"$error":"#N/A"}}]
[null,null,1577,null,null,null,null,{"$f":"VLOOKUP($G1578,県名!$B$1:$C$49,2,FALSE)","v":{"$error":"#N/A"}}]
[null,null,1578,null,null,null,null,{"$f":"VLOOKUP($G1579,県名!$B$1:$C$49,2,FALSE)","v":{"$error":"#N/A"}}]
[null,null,1579,null,null,null,null,{"$f":"VLOOKUP($G1580,県名!$B$1:$C$49,2,FALSE)","v":{"$error":"#N/A"}}]
[null,null,1580,null,null,null,null,{"$f":"VLOOKUP($G1581,県名!$B$1:$C$49,2,FALSE)","v":{"$error":"#N/A"}}]
[null,null,1581,null,null,null,null,{"$f":"VLOOKUP($G1582,県名!$B$1:$C$49,2,FALSE)","v":{"$error":"#N/A"}}]
[null,null,1582,null,null,null,null,{"$f":"VLOOKUP($G1583,県名!$B$1:$C$49,2,FALSE)","v":{"$error":"#N/A"}}]
[null,null,1583,null,null,null,null,{"$f":"VLOOKUP($G1584,県名!$B$1:$C$49,2,FALSE)","v":{"$error":"#N/A"}}]
[null,null,1584,null,null,null,null,{"$f":"VLOOKUP($G1585,県名!$B$1:$C$49,2,FALSE)","v":{"$error":"#N/A"}}]
[null,null,1585,null,null,null,null,{"$f":"VLOOKUP($G1586,県名!$B$1:$C$49,2,FALSE)","v":{"$error":"#N/A"}}]
[null,null,1586,null,null,null,null,{"$f":"VLOOKUP($G1587,県名!$B$1:$C$49,2,FALSE)","v":{"$error":"#N/A"}}]
[null,null,1587,null,null,null,null,{"$f":"VLOOKUP($G1588,県名!$B$1:$C$49,2,FALSE)","v":{"$error":"#N/A"}}]
[null,null,1588,null,null,null,null,{"$f":"VLOOKUP($G1589,県名!$B$1:$C$49,2,FALSE)","v":{"$error":"#N/A"}}]
[null,null,1589,null,null,null,null,{"$f":"VLOOKUP($G1590,県名!$B$1:$C$49,2,FALSE)","v":{"$error":"#N/A"}}]
[null,null,1590,null,null,null,null,{"$f":"VLOOKUP($G1591,県名!$B$1:$C$49,2,FALSE)","v":{"$error":"#N/A"}}]
[null,null,1591,null,null,null,null,{"$f":"VLOOKUP($G1592,県名!$B$1:$C$49,2,FALSE)","v":{"$error":"#N/A"}}]
[null,null,1592,null,null,null,null,{"$f":"VLOOKUP($G1593,県名!$B$1:$C$49,2,FALSE)","v":{"$error":"#N/A"}}]
[null,null,1593,null,null,null,null,{"$f":"VLOOKUP($G1594,県名!$B$1:$C$49,2,FALSE)","v":{"$error":"#N/A"}}]
[null,null,1594,null,null,null,null,{"$f":"VLOOKUP($G1595,県名!$B$1:$C$49,2,FALSE)","v":{"$error":"#N/A"}}]
[null,null,1595,null,null,null,null,{"$f":"VLOOKUP($G1596,県名!$B$1:$C$49,2,FALSE)","v":{"$error":"#N/A"}}]
[null,null,1596,null,null,null,null,{"$f":"VLOOKUP($G1597,県名!$B$1:$C$49,2,FALSE)","v":{"$error":"#N/A"}}]
[null,null,1597,null,null,null,null,{"$f":"VLOOKUP($G1598,県名!$B$1:$C$49,2,FALSE)","v":{"$error":"#N/A"}}]
[null,null,1598,null,null,null,null,{"$f":"VLOOKUP($G1599,県名!$B$1:$C$49,2,FALSE)","v":{"$error":"#N/A"}}]
[null,null,1599,null,null,null,null,{"$f":"VLOOKUP($G1600,県名!$B$1:$C$49,2,FALSE)","v":{"$error":"#N/A"}}]
[null,null,1600,null,null,null,null,{"$f":"VLOOKUP($G1601,県名!$B$1:$C$49,2,FALSE)","v":{"$error":"#N/A"}}]
[null,null,1601,null,null,null,null,{"$f":"VLOOKUP($G1602,県名!$B$1:$C$49,2,FALSE)","v":{"$error":"#N/A"}}]
[null,null,1602,null,null,null,null,{"$f":"VLOOKUP($G1603,県名!$B$1:$C$49,2,FALSE)","v":{"$error":"#N/A"}}]
[null,null,1603,null,null,null,null,{"$f":"VLOOKUP($G1604,県名!$B$1:$C$49,2,FALSE)","v":{"$error":"#N/A"}}]
[null,null,1604,null,null,null,null,{"$f":"VLOOKUP($G1605,県名!$B$1:$C$49,2,FALSE)","v":{"$error":"#N/A"}}]
[null,null,1605,null,null,null,null,{"$f":"VLOOKUP($G1606,県名!$B$1:$C$49,2,FALSE)","v":{"$error":"#N/A"}}]
[null,null,1606,null,null,null,null,{"$f":"VLOOKUP($G1607,県名!$B$1:$C$49,2,FALSE)","v":{"$error":"#N/A"}}]
[null,null,1607,null,null,null,null,{"$f":"VLOOKUP($G1608,県名!$B$1:$C$49,2,FALSE)","v":{"$error":"#N/A"}}]
[null,null,1608,null,null,null,null,{"$f":"VLOOKUP($G1609,県名!$B$1:$C$49,2,FALSE)","v":{"$error":"#N/A"}}]
[null,null,1609,null,null,null,null,{"$f":"VLOOKUP($G1610,県名!$B$1:$C$49,2,FALSE)","v":{"$error":"#N/A"}}]
[null,null,1610,null,null,null,null,{"$f":"VLOOKUP($G1611,県名!$B$1:$C$49,2,FALSE)","v":{"$error":"#N/A"}}]
[null,null,1611,null,null,null,null,{"$f":"VLOOKUP($G1612,県名!$B$1:$C$49,2,FALSE)","v":{"$error":"#N/A"}}]
[null,null,1612,null,null,null,null,{"$f":"VLOOKUP($G1613,県名!$B$1:$C$49,2,FALSE)","v":{"$error":"#N/A"}}]
[null,null,1613,null,null,null,null,{"$f":"VLOOKUP($G1614,県名!$B$1:$C$49,2,FALSE)","v":{"$error":"#N/A"}}]
[null,null,1614,null,null,null,null,{"$f":"VLOOKUP($G1615,県名!$B$1:$C$49,2,FALSE)","v":{"$error":"#N/A"}}]
[null,null,1615,null,null,null,null,{"$f":"VLOOKUP($G1616,県名!$B$1:$C$49,2,FALSE)","v":{"$error":"#N/A"}}]
[null,null,1616,null,null,null,null,{"$f":"VLOOKUP($G1617,県名!$B$1:$C$49,2,FALSE)","v":{"$error":"#N/A"}}]
[null,null,1617,null,null,null,null,{"$f":"VLOOKUP($G1618,県名!$B$1:$C$49,2,FALSE)","v":{"$error":"#N/A"}}]
[null,null,1618,null,null,null,null,{"$f":"VLOOKUP($G1619,県名!$B$1:$C$49,2,FALSE)","v":{"$error":"#N/A"}}]
[null,null,1619,null,null,null,null,{"$f":"VLOOKUP($G1620,県名!$B$1:$C$49,2,FALSE)","v":{"$error":"#N/A"}}]
[null,null,1620,null,null,null,null,{"$f":"VLOOKUP($G1621,県名!$B$1:$C$49,2,FALSE)","v":{"$error":"#N/A"}}]
[null,null,1621,null,null,null,null,{"$f":"VLOOKUP($G1622,県名!$B$1:$C$49,2,FALSE)","v":{"$error":"#N/A"}}]
[null,null,1622,null,null,null,null,{"$f":"VLOOKUP($G1623,県名!$B$1:$C$49,2,FALSE)","v":{"$error":"#N/A"}}]
[null,null,1623,null,null,null,null,{"$f":"VLOOKUP($G1624,県名!$B$1:$C$49,2,FALSE)","v":{"$error":"#N/A"}}]
[null,null,1624,null,null,null,null,{"$f":"VLOOKUP($G1625,県名!$B$1:$C$49,2,FALSE)","v":{"$error":"#N/A"}}]
[null,null,1625,null,null,null,null,{"$f":"VLOOKUP($G1626,県名!$B$1:$C$49,2,FALSE)","v":{"$error":"#N/A"}}]
[null,null,1626,null,null,null,null,{"$f":"VLOOKUP($G1627,県名!$B$1:$C$49,2,FALSE)","v":{"$error":"#N/A"}}]
[null,null,1627,null,null,null,null,{"$f":"VLOOKUP($G1628,県名!$B$1:$C$49,2,FALSE)","v":{"$error":"#N/A"}}]
[null,null,1628,null,null,null,null,{"$f":"VLOOKUP($G1629,県名!$B$1:$C$49,2,FALSE)","v":{"$error":"#N/A"}}]
[null,null,1629,null,null,null,null,{"$f":"VLOOKUP($G1630,県名!$B$1:$C$49,2,FALSE)","v":{"$error":"#N/A"}}]
[null,null,1630,null,null,null,null,{"$f":"VLOOKUP($G1631,県名!$B$1:$C$49,2,FALSE)","v":{"$error":"#N/A"}}]
[null,null,1631,null,null,null,null,{"$f":"VLOOKUP($G1632,県名!$B$1:$C$49,2,FALSE)","v":{"$error":"#N/A"}}]
[null,null,1632,null,null,null,null,{"$f":"VLOOKUP($G1633,県名!$B$1:$C$49,2,FALSE)","v":{"$error":"#N/A"}}]
[null,null,1633,null,null,null,null,{"$f":"VLOOKUP($G1634,県名!$B$1:$C$49,2,FALSE)","v":{"$error":"#N/A"}}]
[null,null,1634,null,null,null,null,{"$f":"VLOOKUP($G1635,県名!$B$1:$C$49,2,FALSE)","v":{"$error":"#N/A"}}]
[null,null,1635,null,null,null,null,{"$f":"VLOOKUP($G1636,県名!$B$1:$C$49,2,FALSE)","v":{"$error":"#N/A"}}]
[null,null,1636,null,null,null,null,{"$f":"VLOOKUP($G1637,県名!$B$1:$C$49,2,FALSE)","v":{"$error":"#N/A"}}]
[null,null,1637,null,null,null,null,{"$f":"VLOOKUP($G1638,県名!$B$1:$C$49,2,FALSE)","v":{"$error":"#N/A"}}]
[null,null,1638,null,null,null,null,{"$f":"VLOOKUP($G1639,県名!$B$1:$C$49,2,FALSE)","v":{"$error":"#N/A"}}]
[null,null,1639,null,null,null,null,{"$f":"VLOOKUP($G1640,県名!$B$1:$C$49,2,FALSE)","v":{"$error":"#N/A"}}]
[null,null,1640,null,null,null,null,{"$f":"VLOOKUP($G1641,県名!$B$1:$C$49,2,FALSE)","v":{"$error":"#N/A"}}]
[null,null,1641,null,null,null,null,{"$f":"VLOOKUP($G1642,県名!$B$1:$C$49,2,FALSE)","v":{"$error":"#N/A"}}]
[null,null,1642,null,null,null,null,{"$f":"VLOOKUP($G1643,県名!$B$1:$C$49,2,FALSE)","v":{"$error":"#N/A"}}]
[null,null,1643,null,null,null,null,{"$f":"VLOOKUP($G1644,県名!$B$1:$C$49,2,FALSE)","v":{"$error":"#N/A"}}]
[null,null,1644,null,null,null,null,{"$f":"VLOOKUP($G1645,県名!$B$1:$C$49,2,FALSE)","v":{"$error":"#N/A"}}]
[null,null,1645,null,null,null,null,{"$f":"VLOOKUP($G1646,県名!$B$1:$C$49,2,FALSE)","v":{"$error":"#N/A"}}]
[null,null,1646,null,null,null,null,{"$f":"VLOOKUP($G1647,県名!$B$1:$C$49,2,FALSE)","v":{"$error":"#N/A"}}]
[null,null,1647,null,null,null,null,{"$f":"VLOOKUP($G1648,県名!$B$1:$C$49,2,FALSE)","v":{"$error":"#N/A"}}]
[null,null,1648,null,null,null,null,{"$f":"VLOOKUP($G1649,県名!$B$1:$C$49,2,FALSE)","v":{"$error":"#N/A"}}]
[null,null,1649,null,null,null,null,{"$f":"VLOOKUP($G1650,県名!$B$1:$C$49,2,FALSE)","v":{"$error":"#N/A"}}]
[null,null,1650,null,null,null,null,{"$f":"VLOOKUP($G1651,県名!$B$1:$C$49,2,FALSE)","v":{"$error":"#N/A"}}]
[null,null,1651,null,null,null,null,{"$f":"VLOOKUP($G1652,県名!$B$1:$C$49,2,FALSE)","v":{"$error":"#N/A"}}]
[null,null,1652,null,null,null,null,{"$f":"VLOOKUP($G1653,県名!$B$1:$C$49,2,FALSE)","v":{"$error":"#N/A"}}]
[null,null,1653,null,null,null,null,{"$f":"VLOOKUP($G1654,県名!$B$1:$C$49,2,FALSE)","v":{"$error":"#N/A"}}]
[null,null,1654,null,null,null,null,{"$f":"VLOOKUP($G1655,県名!$B$1:$C$49,2,FALSE)","v":{"$error":"#N/A"}}]
[null,null,1655,null,null,null,null,{"$f":"VLOOKUP($G1656,県名!$B$1:$C$49,2,FALSE)","v":{"$error":"#N/A"}}]
[null,null,1656,null,null,null,null,{"$f":"VLOOKUP($G1657,県名!$B$1:$C$49,2,FALSE)","v":{"$error":"#N/A"}}]
[null,null,1657,null,null,null,null,{"$f":"VLOOKUP($G1658,県名!$B$1:$C$49,2,FALSE)","v":{"$error":"#N/A"}}]
[null,null,1658,null,null,null,null,{"$f":"VLOOKUP($G1659,県名!$B$1:$C$49,2,FALSE)","v":{"$error":"#N/A"}}]
[null,null,1659,null,null,null,null,{"$f":"VLOOKUP($G1660,県名!$B$1:$C$49,2,FALSE)","v":{"$error":"#N/A"}}]
[null,null,1660,null,null,null,null,{"$f":"VLOOKUP($G1661,県名!$B$1:$C$49,2,FALSE)","v":{"$error":"#N/A"}}]
[null,null,1661,null,null,null,null,{"$f":"VLOOKUP($G1662,県名!$B$1:$C$49,2,FALSE)","v":{"$error":"#N/A"}}]
[null,null,1662,null,null,null,null,{"$f":"VLOOKUP($G1663,県名!$B$1:$C$49,2,FALSE)","v":{"$error":"#N/A"}}]
[null,null,1663,null,null,null,null,{"$f":"VLOOKUP($G1664,県名!$B$1:$C$49,2,FALSE)","v":{"$error":"#N/A"}}]
[null,null,1664,null,null,null,null,{"$f":"VLOOKUP($G1665,県名!$B$1:$C$49,2,FALSE)","v":{"$error":"#N/A"}}]
[null,null,1665,null,null,null,null,{"$f":"VLOOKUP($G1666,県名!$B$1:$C$49,2,FALSE)","v":{"$error":"#N/A"}}]
[null,null,1666,null,null,null,null,{"$f":"VLOOKUP($G1667,県名!$B$1:$C$49,2,FALSE)","v":{"$error":"#N/A"}}]
[null,null,1667,null,null,null,null,{"$f":"VLOOKUP($G1668,県名!$B$1:$C$49,2,FALSE)","v":{"$error":"#N/A"}}]
[null,null,1668,null,null,null,null,{"$f":"VLOOKUP($G1669,県名!$B$1:$C$49,2,FALSE)","v":{"$error":"#N/A"}}]
[null,null,1669,null,null,null,null,{"$f":"VLOOKUP($G1670,県名!$B$1:$C$49,2,FALSE)","v":{"$error":"#N/A"}}]
[null,null,1670,null,null,null,null,{"$f":"VLOOKUP($G1671,県名!$B$1:$C$49,2,FALSE)","v":{"$error":"#N/A"}}]
[null,null,1671,null,null,null,null,{"$f":"VLOOKUP($G1672,県名!$B$1:$C$49,2,FALSE)","v":{"$error":"#N/A"}}]
[null,null,1672,null,null,null,null,{"$f":"VLOOKUP($G1673,県名!$B$1:$C$49,2,FALSE)","v":{"$error":"#N/A"}}]
[null,null,1673,null,null,null,null,{"$f":"VLOOKUP($G1674,県名!$B$1:$C$49,2,FALSE)","v":{"$error":"#N/A"}}]
[null,null,1674,null,null,null,null,{"$f":"VLOOKUP($G1675,県名!$B$1:$C$49,2,FALSE)","v":{"$error":"#N/A"}}]
[null,null,1675,null,null,null,null,{"$f":"VLOOKUP($G1676,県名!$B$1:$C$49,2,FALSE)","v":{"$error":"#N/A"}}]
[null,null,1676,null,null,null,null,{"$f":"VLOOKUP($G1677,県名!$B$1:$C$49,2,FALSE)","v":{"$error":"#N/A"}}]
[null,null,1677,null,null,null,null,{"$f":"VLOOKUP($G1678,県名!$B$1:$C$49,2,FALSE)","v":{"$error":"#N/A"}}]
[null,null,1678,null,null,null,null,{"$f":"VLOOKUP($G1679,県名!$B$1:$C$49,2,FALSE)","v":{"$error":"#N/A"}}]
[null,null,1679,null,null,null,null,{"$f":"VLOOKUP($G1680,県名!$B$1:$C$49,2,FALSE)","v":{"$error":"#N/A"}}]
[null,null,1680,null,null,null,null,{"$f":"VLOOKUP($G1681,県名!$B$1:$C$49,2,FALSE)","v":{"$error":"#N/A"}}]
[null,null,1681,null,null,null,null,{"$f":"VLOOKUP($G1682,県名!$B$1:$C$49,2,FALSE)","v":{"$error":"#N/A"}}]
[null,null,1682,null,null,null,null,{"$f":"VLOOKUP($G1683,県名!$B$1:$C$49,2,FALSE)","v":{"$error":"#N/A"}}]
[null,null,1683,null,null,null,null,{"$f":"VLOOKUP($G1684,県名!$B$1:$C$49,2,FALSE)","v":{"$error":"#N/A"}}]
[null,null,1684,null,null,null,null,{"$f":"VLOOKUP($G1685,県名!$B$1:$C$49,2,FALSE)","v":{"$error":"#N/A"}}]
[null,null,1685,null,null,null,null,{"$f":"VLOOKUP($G1686,県名!$B$1:$C$49,2,FALSE)","v":{"$error":"#N/A"}}]
[null,null,1686,null,null,null,null,{"$f":"VLOOKUP($G1687,県名!$B$1:$C$49,2,FALSE)","v":{"$error":"#N/A"}}]
[null,null,1687,null,null,null,null,{"$f":"VLOOKUP($G1688,県名!$B$1:$C$49,2,FALSE)","v":{"$error":"#N/A"}}]
[null,null,1688,null,null,null,null,{"$f":"VLOOKUP($G1689,県名!$B$1:$C$49,2,FALSE)","v":{"$error":"#N/A"}}]
[null,null,1689,null,null,null,null,{"$f":"VLOOKUP($G1690,県名!$B$1:$C$49,2,FALSE)","v":{"$error":"#N/A"}}]
[null,null,1690,null,null,null,null,{"$f":"VLOOKUP($G1691,県名!$B$1:$C$49,2,FALSE)","v":{"$error":"#N/A"}}]
[null,null,1691,null,null,null,null,{"$f":"VLOOKUP($G1692,県名!$B$1:$C$49,2,FALSE)","v":{"$error":"#N/A"}}]
[null,null,1692,null,null,null,null,{"$f":"VLOOKUP($G1693,県名!$B$1:$C$49,2,FALSE)","v":{"$error":"#N/A"}}]
[null,null,1693,null,null,null,null,{"$f":"VLOOKUP($G1694,県名!$B$1:$C$49,2,FALSE)","v":{"$error":"#N/A"}}]
[null,null,1694,null,null,null,null,{"$f":"VLOOKUP($G1695,県名!$B$1:$C$49,2,FALSE)","v":{"$error":"#N/A"}}]
[null,null,1695,null,null,null,null,{"$f":"VLOOKUP($G1696,県名!$B$1:$C$49,2,FALSE)","v":{"$error":"#N/A"}}]
[null,null,1696,null,null,null,null,{"$f":"VLOOKUP($G1697,県名!$B$1:$C$49,2,FALSE)","v":{"$error":"#N/A"}}]
[null,null,1697,null,null,null,null,{"$f":"VLOOKUP($G1698,県名!$B$1:$C$49,2,FALSE)","v":{"$error":"#N/A"}}]
[null,null,1698,null,null,null,null,{"$f":"VLOOKUP($G1699,県名!$B$1:$C$49,2,FALSE)","v":{"$error":"#N/A"}}]
[null,null,1699,null,null,null,null,{"$f":"VLOOKUP($G1700,県名!$B$1:$C$49,2,FALSE)","v":{"$error":"#N/A"}}]
[null,null,1700,null,null,null,null,{"$f":"VLOOKUP($G1701,県名!$B$1:$C$49,2,FALSE)","v":{"$error":"#N/A"}}]
[null,null,1701,null,null,null,null,{"$f":"VLOOKUP($G1702,県名!$B$1:$C$49,2,FALSE)","v":{"$error":"#N/A"}}]
[null,null,1702,null,null,null,null,{"$f":"VLOOKUP($G1703,県名!$B$1:$C$49,2,FALSE)","v":{"$error":"#N/A"}}]
[null,null,1703,null,null,null,null,{"$f":"VLOOKUP($G1704,県名!$B$1:$C$49,2,FALSE)","v":{"$error":"#N/A"}}]
[null,null,1704,null,null,null,null,{"$f":"VLOOKUP($G1705,県名!$B$1:$C$49,2,FALSE)","v":{"$error":"#N/A"}}]
[null,null,1705,null,null,null,null,{"$f":"VLOOKUP($G1706,県名!$B$1:$C$49,2,FALSE)","v":{"$error":"#N/A"}}]
[null,null,1706,null,null,null,null,{"$f":"VLOOKUP($G1707,県名!$B$1:$C$49,2,FALSE)","v":{"$error":"#N/A"}}]
[null,null,1707,null,null,null,null,{"$f":"VLOOKUP($G1708,県名!$B$1:$C$49,2,FALSE)","v":{"$error":"#N/A"}}]
[null,null,1708,null,null,null,null,{"$f":"VLOOKUP($G1709,県名!$B$1:$C$49,2,FALSE)","v":{"$error":"#N/A"}}]
[null,null,1709,null,null,null,null,{"$f":"VLOOKUP($G1710,県名!$B$1:$C$49,2,FALSE)","v":{"$error":"#N/A"}}]
[null,null,1710,null,null,null,null,{"$f":"VLOOKUP($G1711,県名!$B$1:$C$49,2,FALSE)","v":{"$error":"#N/A"}}]
[null,null,1711,null,null,null,null,{"$f":"VLOOKUP($G1712,県名!$B$1:$C$49,2,FALSE)","v":{"$error":"#N/A"}}]
[null,null,1712,null,null,null,null,{"$f":"VLOOKUP($G1713,県名!$B$1:$C$49,2,FALSE)","v":{"$error":"#N/A"}}]
[null,null,1713,null,null,null,null,{"$f":"VLOOKUP($G1714,県名!$B$1:$C$49,2,FALSE)","v":{"$error":"#N/A"}}]
[null,null,1714,null,null,null,null,{"$f":"VLOOKUP($G1715,県名!$B$1:$C$49,2,FALSE)","v":{"$error":"#N/A"}}]
[null,null,1715,null,null,null,null,{"$f":"VLOOKUP($G1716,県名!$B$1:$C$49,2,FALSE)","v":{"$error":"#N/A"}}]
[null,null,1716,null,null,null,null,{"$f":"VLOOKUP($G1717,県名!$B$1:$C$49,2,FALSE)","v":{"$error":"#N/A"}}]
[null,null,1717,null,null,null,null,{"$f":"VLOOKUP($G1718,県名!$B$1:$C$49,2,FALSE)","v":{"$error":"#N/A"}}]
[null,null,1718,null,null,null,null,{"$f":"VLOOKUP($G1719,県名!$B$1:$C$49,2,FALSE)","v":{"$error":"#N/A"}}]
[null,null,1719,null,null,null,null,{"$f":"VLOOKUP($G1720,県名!$B$1:$C$49,2,FALSE)","v":{"$error":"#N/A"}}]
[null,null,1720,null,null,null,null,{"$f":"VLOOKUP($G1721,県名!$B$1:$C$49,2,FALSE)","v":{"$error":"#N/A"}}]
[null,null,1721,null,null,null,null,{"$f":"VLOOKUP($G1722,県名!$B$1:$C$49,2,FALSE)","v":{"$error":"#N/A"}}]
[null,null,1722,null,null,null,null,{"$f":"VLOOKUP($G1723,県名!$B$1:$C$49,2,FALSE)","v":{"$error":"#N/A"}}]
[null,null,1723,null,null,null,null,{"$f":"VLOOKUP($G1724,県名!$B$1:$C$49,2,FALSE)","v":{"$error":"#N/A"}}]
[null,null,1724,null,null,null,null,{"$f":"VLOOKUP($G1725,県名!$B$1:$C$49,2,FALSE)","v":{"$error":"#N/A"}}]
[null,null,1725,null,null,null,null,{"$f":"VLOOKUP($G1726,県名!$B$1:$C$49,2,FALSE)","v":{"$error":"#N/A"}}]
[null,null,1726,null,null,null,null,{"$f":"VLOOKUP($G1727,県名!$B$1:$C$49,2,FALSE)","v":{"$error":"#N/A"}}]
[null,null,1727,null,null,null,null,{"$f":"VLOOKUP($G1728,県名!$B$1:$C$49,2,FALSE)","v":{"$error":"#N/A"}}]
[null,null,1728,null,null,null,null,{"$f":"VLOOKUP($G1729,県名!$B$1:$C$49,2,FALSE)","v":{"$error":"#N/A"}}]
[null,null,1729,null,null,null,null,{"$f":"VLOOKUP($G1730,県名!$B$1:$C$49,2,FALSE)","v":{"$error":"#N/A"}}]
[null,null,1730,null,null,null,null,{"$f":"VLOOKUP($G1731,県名!$B$1:$C$49,2,FALSE)","v":{"$error":"#N/A"}}]
[null,null,1731,null,null,null,null,{"$f":"VLOOKUP($G1732,県名!$B$1:$C$49,2,FALSE)","v":{"$error":"#N/A"}}]
[null,null,1732,null,null,null,null,{"$f":"VLOOKUP($G1733,県名!$B$1:$C$49,2,FALSE)","v":{"$error":"#N/A"}}]
[null,null,1733,null,null,null,null,{"$f":"VLOOKUP($G1734,県名!$B$1:$C$49,2,FALSE)","v":{"$error":"#N/A"}}]
[null,null,1734,null,null,null,null,{"$f":"VLOOKUP($G1735,県名!$B$1:$C$49,2,FALSE)","v":{"$error":"#N/A"}}]
[null,null,1735,null,null,null,null,{"$f":"VLOOKUP($G1736,県名!$B$1:$C$49,2,FALSE)","v":{"$error":"#N/A"}}]
[null,null,1736,null,null,null,null,{"$f":"VLOOKUP($G1737,県名!$B$1:$C$49,2,FALSE)","v":{"$error":"#N/A"}}]
[null,null,1737,null,null,null,null,{"$f":"VLOOKUP($G1738,県名!$B$1:$C$49,2,FALSE)","v":{"$error":"#N/A"}}]
[null,null,1738,null,null,null,null,{"$f":"VLOOKUP($G1739,県名!$B$1:$C$49,2,FALSE)","v":{"$error":"#N/A"}}]
[null,null,1739,null,null,null,null,{"$f":"VLOOKUP($G1740,県名!$B$1:$C$49,2,FALSE)","v":{"$error":"#N/A"}}]
[null,null,1740,null,null,null,null,{"$f":"VLOOKUP($G1741,県名!$B$1:$C$49,2,FALSE)","v":{"$error":"#N/A"}}]
[null,null,1741,null,null,null,null,{"$f":"VLOOKUP($G1742,県名!$B$1:$C$49,2,FALSE)","v":{"$error":"#N/A"}}]
[null,null,1742,null,null,null,null,{"$f":"VLOOKUP($G1743,県名!$B$1:$C$49,2,FALSE)","v":{"$error":"#N/A"}}]
[null,null,1743,null,null,null,null,{"$f":"VLOOKUP($G1744,県名!$B$1:$C$49,2,FALSE)","v":{"$error":"#N/A"}}]
[null,null,1744,null,null,null,null,{"$f":"VLOOKUP($G1745,県名!$B$1:$C$49,2,FALSE)","v":{"$error":"#N/A"}}]
[null,null,1745,null,null,null,null,{"$f":"VLOOKUP($G1746,県名!$B$1:$C$49,2,FALSE)","v":{"$error":"#N/A"}}]
[null,null,1746,null,null,null,null,{"$f":"VLOOKUP($G1747,県名!$B$1:$C$49,2,FALSE)","v":{"$error":"#N/A"}}]
[null,null,1747,null,null,null,null,{"$f":"VLOOKUP($G1748,県名!$B$1:$C$49,2,FALSE)","v":{"$error":"#N/A"}}]
[null,null,1748,null,null,null,null,{"$f":"VLOOKUP($G1749,県名!$B$1:$C$49,2,FALSE)","v":{"$error":"#N/A"}}]
[null,null,1749,null,null,null,null,{"$f":"VLOOKUP($G1750,県名!$B$1:$C$49,2,FALSE)","v":{"$error":"#N/A"}}]
[null,null,1750,null,null,null,null,{"$f":"VLOOKUP($G1751,県名!$B$1:$C$49,2,FALSE)","v":{"$error":"#N/A"}}]
[null,null,1751,null,null,null,null,{"$f":"VLOOKUP($G1752,県名!$B$1:$C$49,2,FALSE)","v":{"$error":"#N/A"}}]
[null,null,1752,null,null,null,null,{"$f":"VLOOKUP($G1753,県名!$B$1:$C$49,2,FALSE)","v":{"$error":"#N/A"}}]
[null,null,1753,null,null,null,null,{"$f":"VLOOKUP($G1754,県名!$B$1:$C$49,2,FALSE)","v":{"$error":"#N/A"}}]
[null,null,1754,null,null,null,null,{"$f":"VLOOKUP($G1755,県名!$B$1:$C$49,2,FALSE)","v":{"$error":"#N/A"}}]
[null,null,1755,null,null,null,null,{"$f":"VLOOKUP($G1756,県名!$B$1:$C$49,2,FALSE)","v":{"$error":"#N/A"}}]
[null,null,1756,null,null,null,null,{"$f":"VLOOKUP($G1757,県名!$B$1:$C$49,2,FALSE)","v":{"$error":"#N/A"}}]
[null,null,1757,null,null,null,null,{"$f":"VLOOKUP($G1758,県名!$B$1:$C$49,2,FALSE)","v":{"$error":"#N/A"}}]
[null,null,1758,null,null,null,null,{"$f":"VLOOKUP($G1759,県名!$B$1:$C$49,2,FALSE)","v":{"$error":"#N/A"}}]
[null,null,1759,null,null,null,null,{"$f":"VLOOKUP($G1760,県名!$B$1:$C$49,2,FALSE)","v":{"$error":"#N/A"}}]
[null,null,1760,null,null,null,null,{"$f":"VLOOKUP($G1761,県名!$B$1:$C$49,2,FALSE)","v":{"$error":"#N/A"}}]
[null,null,1761,null,null,null,null,{"$f":"VLOOKUP($G1762,県名!$B$1:$C$49,2,FALSE)","v":{"$error":"#N/A"}}]
[null,null,1762,null,null,null,null,{"$f":"VLOOKUP($G1763,県名!$B$1:$C$49,2,FALSE)","v":{"$error":"#N/A"}}]
[null,null,1763,null,null,null,null,{"$f":"VLOOKUP($G1764,県名!$B$1:$C$49,2,FALSE)","v":{"$error":"#N/A"}}]
[null,null,1764,null,null,null,null,{"$f":"VLOOKUP($G1765,県名!$B$1:$C$49,2,FALSE)","v":{"$error":"#N/A"}}]
[null,null,1765,null,null,null,null,{"$f":"VLOOKUP($G1766,県名!$B$1:$C$49,2,FALSE)","v":{"$error":"#N/A"}}]
[null,null,1766,null,null,null,null,{"$f":"VLOOKUP($G1767,県名!$B$1:$C$49,2,FALSE)","v":{"$error":"#N/A"}}]
[null,null,1767,null,null,null,null,{"$f":"VLOOKUP($G1768,県名!$B$1:$C$49,2,FALSE)","v":{"$error":"#N/A"}}]
[null,null,1768,null,null,null,null,{"$f":"VLOOKUP($G1769,県名!$B$1:$C$49,2,FALSE)","v":{"$error":"#N/A"}}]
[null,null,1769,null,null,null,null,{"$f":"VLOOKUP($G1770,県名!$B$1:$C$49,2,FALSE)","v":{"$error":"#N/A"}}]
[null,null,1770,null,null,null,null,{"$f":"VLOOKUP($G1771,県名!$B$1:$C$49,2,FALSE)","v":{"$error":"#N/A"}}]
[null,null,1771,null,null,null,null,{"$f":"VLOOKUP($G1772,県名!$B$1:$C$49,2,FALSE)","v":{"$error":"#N/A"}}]
[null,null,1772,null,null,null,null,{"$f":"VLOOKUP($G1773,県名!$B$1:$C$49,2,FALSE)","v":{"$error":"#N/A"}}]
[null,null,1773,null,null,null,null,{"$f":"VLOOKUP($G1774,県名!$B$1:$C$49,2,FALSE)","v":{"$error":"#N/A"}}]
[null,null,1774,null,null,null,null,{"$f":"VLOOKUP($G1775,県名!$B$1:$C$49,2,FALSE)","v":{"$error":"#N/A"}}]
[null,null,1775,null,null,null,null,{"$f":"VLOOKUP($G1776,県名!$B$1:$C$49,2,FALSE)","v":{"$error":"#N/A"}}]
[null,null,1776,null,null,null,null,{"$f":"VLOOKUP($G1777,県名!$B$1:$C$49,2,FALSE)","v":{"$error":"#N/A"}}]
[null,null,1777,null,null,null,null,{"$f":"VLOOKUP($G1778,県名!$B$1:$C$49,2,FALSE)","v":{"$error":"#N/A"}}]
[null,null,1778,null,null,null,null,{"$f":"VLOOKUP($G1779,県名!$B$1:$C$49,2,FALSE)","v":{"$error":"#N/A"}}]
[null,null,1779,null,null,null,null,{"$f":"VLOOKUP($G1780,県名!$B$1:$C$49,2,FALSE)","v":{"$error":"#N/A"}}]
[null,null,1780,null,null,null,null,{"$f":"VLOOKUP($G1781,県名!$B$1:$C$49,2,FALSE)","v":{"$error":"#N/A"}}]
[null,null,1781,null,null,null,null,{"$f":"VLOOKUP($G1782,県名!$B$1:$C$49,2,FALSE)","v":{"$error":"#N/A"}}]
[null,null,1782,null,null,null,null,{"$f":"VLOOKUP($G1783,県名!$B$1:$C$49,2,FALSE)","v":{"$error":"#N/A"}}]
[null,null,1783,null,null,null,null,{"$f":"VLOOKUP($G1784,県名!$B$1:$C$49,2,FALSE)","v":{"$error":"#N/A"}}]
[null,null,1784,null,null,null,null,{"$f":"VLOOKUP($G1785,県名!$B$1:$C$49,2,FALSE)","v":{"$error":"#N/A"}}]
[null,null,1785,null,null,null,null,{"$f":"VLOOKUP($G1786,県名!$B$1:$C$49,2,FALSE)","v":{"$error":"#N/A"}}]
[null,null,1786,null,null,null,null,{"$f":"VLOOKUP($G1787,県名!$B$1:$C$49,2,FALSE)","v":{"$error":"#N/A"}}]
[null,null,1787,null,null,null,null,{"$f":"VLOOKUP($G1788,県名!$B$1:$C$49,2,FALSE)","v":{"$error":"#N/A"}}]
[null,null,1788,null,null,null,null,{"$f":"VLOOKUP($G1789,県名!$B$1:$C$49,2,FALSE)","v":{"$error":"#N/A"}}]
[null,null,1789,null,null,null,null,{"$f":"VLOOKUP($G1790,県名!$B$1:$C$49,2,FALSE)","v":{"$error":"#N/A"}}]
[null,null,1790,null,null,null,null,{"$f":"VLOOKUP($G1791,県名!$B$1:$C$49,2,FALSE)","v":{"$error":"#N/A"}}]
[null,null,1791,null,null,null,null,{"$f":"VLOOKUP($G1792,県名!$B$1:$C$49,2,FALSE)","v":{"$error":"#N/A"}}]
[null,null,1792,null,null,null,null,{"$f":"VLOOKUP($G1793,県名!$B$1:$C$49,2,FALSE)","v":{"$error":"#N/A"}}]
[null,null,1793,null,null,null,null,{"$f":"VLOOKUP($G1794,県名!$B$1:$C$49,2,FALSE)","v":{"$error":"#N/A"}}]
[null,null,1794,null,null,null,null,{"$f":"VLOOKUP($G1795,県名!$B$1:$C$49,2,FALSE)","v":{"$error":"#N/A"}}]
[null,null,1795,null,null,null,null,{"$f":"VLOOKUP($G1796,県名!$B$1:$C$49,2,FALSE)","v":{"$error":"#N/A"}}]
[null,null,1796,null,null,null,null,{"$f":"VLOOKUP($G1797,県名!$B$1:$C$49,2,FALSE)","v":{"$error":"#N/A"}}]
[null,null,1797,null,null,null,null,{"$f":"VLOOKUP($G1798,県名!$B$1:$C$49,2,FALSE)","v":{"$error":"#N/A"}}]
[null,null,1798,null,null,null,null,{"$f":"VLOOKUP($G1799,県名!$B$1:$C$49,2,FALSE)","v":{"$error":"#N/A"}}]
[null,null,1799,null,null,null,null,{"$f":"VLOOKUP($G1800,県名!$B$1:$C$49,2,FALSE)","v":{"$error":"#N/A"}}]
[null,null,1800,null,null,null,null,{"$f":"VLOOKUP($G1801,県名!$B$1:$C$49,2,FALSE)","v":{"$error":"#N/A"}}]
[null,null,1801,null,null,null,null,{"$f":"VLOOKUP($G1802,県名!$B$1:$C$49,2,FALSE)","v":{"$error":"#N/A"}}]
[null,null,1802,null,null,null,null,{"$f":"VLOOKUP($G1803,県名!$B$1:$C$49,2,FALSE)","v":{"$error":"#N/A"}}]
[null,null,1803,null,null,null,null,{"$f":"VLOOKUP($G1804,県名!$B$1:$C$49,2,FALSE)","v":{"$error":"#N/A"}}]
[null,null,1804,null,null,null,null,{"$f":"VLOOKUP($G1805,県名!$B$1:$C$49,2,FALSE)","v":{"$error":"#N/A"}}]
[null,null,1805,null,null,null,null,{"$f":"VLOOKUP($G1806,県名!$B$1:$C$49,2,FALSE)","v":{"$error":"#N/A"}}]
[null,null,1806,null,null,null,null,{"$f":"VLOOKUP($G1807,県名!$B$1:$C$49,2,FALSE)","v":{"$error":"#N/A"}}]
[null,null,1807,null,null,null,null,{"$f":"VLOOKUP($G1808,県名!$B$1:$C$49,2,FALSE)","v":{"$error":"#N/A"}}]
[null,null,1808,null,null,null,null,{"$f":"VLOOKUP($G1809,県名!$B$1:$C$49,2,FALSE)","v":{"$error":"#N/A"}}]
[null,null,1809,null,null,null,null,{"$f":"VLOOKUP($G1810,県名!$B$1:$C$49,2,FALSE)","v":{"$error":"#N/A"}}]
[null,null,1810,null,null,null,null,{"$f":"VLOOKUP($G1811,県名!$B$1:$C$49,2,FALSE)","v":{"$error":"#N/A"}}]
[null,null,1811,null,null,null,null,{"$f":"VLOOKUP($G1812,県名!$B$1:$C$49,2,FALSE)","v":{"$error":"#N/A"}}]
[null,null,1812,null,null,null,null,{"$f":"VLOOKUP($G1813,県名!$B$1:$C$49,2,FALSE)","v":{"$error":"#N/A"}}]
[null,null,1813,null,null,null,null,{"$f":"VLOOKUP($G1814,県名!$B$1:$C$49,2,FALSE)","v":{"$error":"#N/A"}}]
[null,null,1814,null,null,null,null,{"$f":"VLOOKUP($G1815,県名!$B$1:$C$49,2,FALSE)","v":{"$error":"#N/A"}}]
[null,null,1815,null,null,null,null,{"$f":"VLOOKUP($G1816,県名!$B$1:$C$49,2,FALSE)","v":{"$error":"#N/A"}}]
[null,null,1816,null,null,null,null,{"$f":"VLOOKUP($G1817,県名!$B$1:$C$49,2,FALSE)","v":{"$error":"#N/A"}}]
[null,null,1817,null,null,null,null,{"$f":"VLOOKUP($G1818,県名!$B$1:$C$49,2,FALSE)","v":{"$error":"#N/A"}}]
[null,null,1818,null,null,null,null,{"$f":"VLOOKUP($G1819,県名!$B$1:$C$49,2,FALSE)","v":{"$error":"#N/A"}}]
[null,null,1819,null,null,null,null,{"$f":"VLOOKUP($G1820,県名!$B$1:$C$49,2,FALSE)","v":{"$error":"#N/A"}}]
[null,null,1820,null,null,null,null,{"$f":"VLOOKUP($G1821,県名!$B$1:$C$49,2,FALSE)","v":{"$error":"#N/A"}}]
[null,null,1821,null,null,null,null,{"$f":"VLOOKUP($G1822,県名!$B$1:$C$49,2,FALSE)","v":{"$error":"#N/A"}}]
[null,null,1822,null,null,null,null,{"$f":"VLOOKUP($G1823,県名!$B$1:$C$49,2,FALSE)","v":{"$error":"#N/A"}}]
[null,null,1823,null,null,null,null,{"$f":"VLOOKUP($G1824,県名!$B$1:$C$49,2,FALSE)","v":{"$error":"#N/A"}}]
[null,null,1824,null,null,null,null,{"$f":"VLOOKUP($G1825,県名!$B$1:$C$49,2,FALSE)","v":{"$error":"#N/A"}}]
[null,null,1825,null,null,null,null,{"$f":"VLOOKUP($G1826,県名!$B$1:$C$49,2,FALSE)","v":{"$error":"#N/A"}}]
[null,null,1826,null,null,null,null,{"$f":"VLOOKUP($G1827,県名!$B$1:$C$49,2,FALSE)","v":{"$error":"#N/A"}}]
[null,null,1827,null,null,null,null,{"$f":"VLOOKUP($G1828,県名!$B$1:$C$49,2,FALSE)","v":{"$error":"#N/A"}}]
[null,null,1828,null,null,null,null,{"$f":"VLOOKUP($G1829,県名!$B$1:$C$49,2,FALSE)","v":{"$error":"#N/A"}}]
[null,null,1829,null,null,null,null,{"$f":"VLOOKUP($G1830,県名!$B$1:$C$49,2,FALSE)","v":{"$error":"#N/A"}}]
[null,null,1830,null,null,null,null,{"$f":"VLOOKUP($G1831,県名!$B$1:$C$49,2,FALSE)","v":{"$error":"#N/A"}}]
[null,null,1831,null,null,null,null,{"$f":"VLOOKUP($G1832,県名!$B$1:$C$49,2,FALSE)","v":{"$error":"#N/A"}}]
[null,null,1832,null,null,null,null,{"$f":"VLOOKUP($G1833,県名!$B$1:$C$49,2,FALSE)","v":{"$error":"#N/A"}}]
[null,null,1833,null,null,null,null,{"$f":"VLOOKUP($G1834,県名!$B$1:$C$49,2,FALSE)","v":{"$error":"#N/A"}}]
[null,null,1834,null,null,null,null,{"$f":"VLOOKUP($G1835,県名!$B$1:$C$49,2,FALSE)","v":{"$error":"#N/A"}}]
[null,null,1835,null,null,null,null,{"$f":"VLOOKUP($G1836,県名!$B$1:$C$49,2,FALSE)","v":{"$error":"#N/A"}}]
[null,null,1836,null,null,null,null,{"$f":"VLOOKUP($G1837,県名!$B$1:$C$49,2,FALSE)","v":{"$error":"#N/A"}}]
[null,null,1837,null,null,null,null,{"$f":"VLOOKUP($G1838,県名!$B$1:$C$49,2,FALSE)","v":{"$error":"#N/A"}}]
[null,null,1838,null,null,null,null,{"$f":"VLOOKUP($G1839,県名!$B$1:$C$49,2,FALSE)","v":{"$error":"#N/A"}}]
[null,null,1839,null,null,null,null,{"$f":"VLOOKUP($G1840,県名!$B$1:$C$49,2,FALSE)","v":{"$error":"#N/A"}}]
[null,null,1840,null,null,null,null,{"$f":"VLOOKUP($G1841,県名!$B$1:$C$49,2,FALSE)","v":{"$error":"#N/A"}}]
[null,null,1841,null,null,null,null,{"$f":"VLOOKUP($G1842,県名!$B$1:$C$49,2,FALSE)","v":{"$error":"#N/A"}}]
[null,null,1842,null,null,null,null,{"$f":"VLOOKUP($G1843,県名!$B$1:$C$49,2,FALSE)","v":{"$error":"#N/A"}}]
[null,null,1843,null,null,null,null,{"$f":"VLOOKUP($G1844,県名!$B$1:$C$49,2,FALSE)","v":{"$error":"#N/A"}}]
[null,null,1844,null,null,null,null,{"$f":"VLOOKUP($G1845,県名!$B$1:$C$49,2,FALSE)","v":{"$error":"#N/A"}}]
[null,null,1845,null,null,null,null,{"$f":"VLOOKUP($G1846,県名!$B$1:$C$49,2,FALSE)","v":{"$error":"#N/A"}}]
[null,null,1846,null,null,null,null,{"$f":"VLOOKUP($G1847,県名!$B$1:$C$49,2,FALSE)","v":{"$error":"#N/A"}}]
[null,null,1847,null,null,null,null,{"$f":"VLOOKUP($G1848,県名!$B$1:$C$49,2,FALSE)","v":{"$error":"#N/A"}}]
[null,null,1848,null,null,null,null,{"$f":"VLOOKUP($G1849,県名!$B$1:$C$49,2,FALSE)","v":{"$error":"#N/A"}}]
[null,null,1849,null,null,null,null,{"$f":"VLOOKUP($G1850,県名!$B$1:$C$49,2,FALSE)","v":{"$error":"#N/A"}}]
[null,null,1850,null,null,null,null,{"$f":"VLOOKUP($G1851,県名!$B$1:$C$49,2,FALSE)","v":{"$error":"#N/A"}}]
[null,null,1851,null,null,null,null,{"$f":"VLOOKUP($G1852,県名!$B$1:$C$49,2,FALSE)","v":{"$error":"#N/A"}}]
[null,null,1852,null,null,null,null,{"$f":"VLOOKUP($G1853,県名!$B$1:$C$49,2,FALSE)","v":{"$error":"#N/A"}}]
[null,null,1853,null,null,null,null,{"$f":"VLOOKUP($G1854,県名!$B$1:$C$49,2,FALSE)","v":{"$error":"#N/A"}}]
[null,null,1854,null,null,null,null,{"$f":"VLOOKUP($G1855,県名!$B$1:$C$49,2,FALSE)","v":{"$error":"#N/A"}}]
[null,null,1855,null,null,null,null,{"$f":"VLOOKUP($G1856,県名!$B$1:$C$49,2,FALSE)","v":{"$error":"#N/A"}}]
[null,null,1856,null,null,null,null,{"$f":"VLOOKUP($G1857,県名!$B$1:$C$49,2,FALSE)","v":{"$error":"#N/A"}}]
[null,null,1857,null,null,null,null,{"$f":"VLOOKUP($G1858,県名!$B$1:$C$49,2,FALSE)","v":{"$error":"#N/A"}}]
[null,null,1858,null,null,null,null,{"$f":"VLOOKUP($G1859,県名!$B$1:$C$49,2,FALSE)","v":{"$error":"#N/A"}}]
[null,null,1859,null,null,null,null,{"$f":"VLOOKUP($G1860,県名!$B$1:$C$49,2,FALSE)","v":{"$error":"#N/A"}}]
[null,null,1860,null,null,null,null,{"$f":"VLOOKUP($G1861,県名!$B$1:$C$49,2,FALSE)","v":{"$error":"#N/A"}}]
[null,null,1861,null,null,null,null,{"$f":"VLOOKUP($G1862,県名!$B$1:$C$49,2,FALSE)","v":{"$error":"#N/A"}}]
[null,null,1862,null,null,null,null,{"$f":"VLOOKUP($G1863,県名!$B$1:$C$49,2,FALSE)","v":{"$error":"#N/A"}}]
[null,null,1863,null,null,null,null,{"$f":"VLOOKUP($G1864,県名!$B$1:$C$49,2,FALSE)","v":{"$error":"#N/A"}}]
[null,null,1864,null,null,null,null,{"$f":"VLOOKUP($G1865,県名!$B$1:$C$49,2,FALSE)","v":{"$error":"#N/A"}}]
[null,null,1865,null,null,null,null,{"$f":"VLOOKUP($G1866,県名!$B$1:$C$49,2,FALSE)","v":{"$error":"#N/A"}}]
[null,null,1866,null,null,null,null,{"$f":"VLOOKUP($G1867,県名!$B$1:$C$49,2,FALSE)","v":{"$error":"#N/A"}}]
[null,null,1867,null,null,null,null,{"$f":"VLOOKUP($G1868,県名!$B$1:$C$49,2,FALSE)","v":{"$error":"#N/A"}}]
[null,null,1868,null,null,null,null,{"$f":"VLOOKUP($G1869,県名!$B$1:$C$49,2,FALSE)","v":{"$error":"#N/A"}}]
[null,null,1869,null,null,null,null,{"$f":"VLOOKUP($G1870,県名!$B$1:$C$49,2,FALSE)","v":{"$error":"#N/A"}}]
[null,null,1870,null,null,null,null,{"$f":"VLOOKUP($G1871,県名!$B$1:$C$49,2,FALSE)","v":{"$error":"#N/A"}}]
[null,null,1871,null,null,null,null,{"$f":"VLOOKUP($G1872,県名!$B$1:$C$49,2,FALSE)","v":{"$error":"#N/A"}}]
[null,null,1872,null,null,null,null,{"$f":"VLOOKUP($G1873,県名!$B$1:$C$49,2,FALSE)","v":{"$error":"#N/A"}}]
[null,null,1873,null,null,null,null,{"$f":"VLOOKUP($G1874,県名!$B$1:$C$49,2,FALSE)","v":{"$error":"#N/A"}}]
[null,null,1874,null,null,null,null,{"$f":"VLOOKUP($G1875,県名!$B$1:$C$49,2,FALSE)","v":{"$error":"#N/A"}}]
[null,null,1875,null,null,null,null,{"$f":"VLOOKUP($G1876,県名!$B$1:$C$49,2,FALSE)","v":{"$error":"#N/A"}}]
[null,null,1876,null,null,null,null,{"$f":"VLOOKUP($G1877,県名!$B$1:$C$49,2,FALSE)","v":{"$error":"#N/A"}}]
[null,null,1877,null,null,null,null,{"$f":"VLOOKUP($G1878,県名!$B$1:$C$49,2,FALSE)","v":{"$error":"#N/A"}}]
[null,null,1878,null,null,null,null,{"$f":"VLOOKUP($G1879,県名!$B$1:$C$49,2,FALSE)","v":{"$error":"#N/A"}}]
[null,null,1879,null,null,null,null,{"$f":"VLOOKUP($G1880,県名!$B$1:$C$49,2,FALSE)","v":{"$error":"#N/A"}}]
[null,null,1880,null,null,null,null,{"$f":"VLOOKUP($G1881,県名!$B$1:$C$49,2,FALSE)","v":{"$error":"#N/A"}}]
[null,null,1881,null,null,null,null,{"$f":"VLOOKUP($G1882,県名!$B$1:$C$49,2,FALSE)","v":{"$error":"#N/A"}}]
[null,null,1882,null,null,null,null,{"$f":"VLOOKUP($G1883,県名!$B$1:$C$49,2,FALSE)","v":{"$error":"#N/A"}}]
[null,null,1883,null,null,null,null,{"$f":"VLOOKUP($G1884,県名!$B$1:$C$49,2,FALSE)","v":{"$error":"#N/A"}}]
[null,null,1884,null,null,null,null,{"$f":"VLOOKUP($G1885,県名!$B$1:$C$49,2,FALSE)","v":{"$error":"#N/A"}}]
[null,null,1885,null,null,null,null,{"$f":"VLOOKUP($G1886,県名!$B$1:$C$49,2,FALSE)","v":{"$error":"#N/A"}}]
[null,null,1886,null,null,null,null,{"$f":"VLOOKUP($G1887,県名!$B$1:$C$49,2,FALSE)","v":{"$error":"#N/A"}}]
[null,null,1887,null,null,null,null,{"$f":"VLOOKUP($G1888,県名!$B$1:$C$49,2,FALSE)","v":{"$error":"#N/A"}}]
[null,null,1888,null,null,null,null,{"$f":"VLOOKUP($G1889,県名!$B$1:$C$49,2,FALSE)","v":{"$error":"#N/A"}}]
[null,null,1889,null,null,null,null,{"$f":"VLOOKUP($G1890,県名!$B$1:$C$49,2,FALSE)","v":{"$error":"#N/A"}}]
[null,null,1890,null,null,null,null,{"$f":"VLOOKUP($G1891,県名!$B$1:$C$49,2,FALSE)","v":{"$error":"#N/A"}}]
[null,null,1891,null,null,null,null,{"$f":"VLOOKUP($G1892,県名!$B$1:$C$49,2,FALSE)","v":{"$error":"#N/A"}}]
[null,null,1892,null,null,null,null,{"$f":"VLOOKUP($G1893,県名!$B$1:$C$49,2,FALSE)","v":{"$error":"#N/A"}}]
[null,null,1893,null,null,null,null,{"$f":"VLOOKUP($G1894,県名!$B$1:$C$49,2,FALSE)","v":{"$error":"#N/A"}}]
[null,null,1894,null,null,null,null,{"$f":"VLOOKUP($G1895,県名!$B$1:$C$49,2,FALSE)","v":{"$error":"#N/A"}}]
[null,null,1895,null,null,null,null,{"$f":"VLOOKUP($G1896,県名!$B$1:$C$49,2,FALSE)","v":{"$error":"#N/A"}}]
[null,null,1896,null,null,null,null,{"$f":"VLOOKUP($G1897,県名!$B$1:$C$49,2,FALSE)","v":{"$error":"#N/A"}}]
[null,null,1897,null,null,null,null,{"$f":"VLOOKUP($G1898,県名!$B$1:$C$49,2,FALSE)","v":{"$error":"#N/A"}}]
[null,null,1898,null,null,null,null,{"$f":"VLOOKUP($G1899,県名!$B$1:$C$49,2,FALSE)","v":{"$error":"#N/A"}}]
[null,null,1899,null,null,null,null,{"$f":"VLOOKUP($G1900,県名!$B$1:$C$49,2,FALSE)","v":{"$error":"#N/A"}}]
[null,null,1900,null,null,null,null,{"$f":"VLOOKUP($G1901,県名!$B$1:$C$49,2,FALSE)","v":{"$error":"#N/A"}}]
[null,null,1901,null,null,null,null,{"$f":"VLOOKUP($G1902,県名!$B$1:$C$49,2,FALSE)","v":{"$error":"#N/A"}}]
[null,null,1902,null,null,null,null,{"$f":"VLOOKUP($G1903,県名!$B$1:$C$49,2,FALSE)","v":{"$error":"#N/A"}}]
[null,null,1903,null,null,null,null,{"$f":"VLOOKUP($G1904,県名!$B$1:$C$49,2,FALSE)","v":{"$error":"#N/A"}}]
[null,null,1904,null,null,null,null,{"$f":"VLOOKUP($G1905,県名!$B$1:$C$49,2,FALSE)","v":{"$error":"#N/A"}}]
[null,null,1905,null,null,null,null,{"$f":"VLOOKUP($G1906,県名!$B$1:$C$49,2,FALSE)","v":{"$error":"#N/A"}}]
[null,null,1906,null,null,null,null,{"$f":"VLOOKUP($G1907,県名!$B$1:$C$49,2,FALSE)","v":{"$error":"#N/A"}}]
[null,null,1907,null,null,null,null,{"$f":"VLOOKUP($G1908,県名!$B$1:$C$49,2,FALSE)","v":{"$error":"#N/A"}}]
[null,null,1908,null,null,null,null,{"$f":"VLOOKUP($G1909,県名!$B$1:$C$49,2,FALSE)","v":{"$error":"#N/A"}}]
[null,null,1909,null,null,null,null,{"$f":"VLOOKUP($G1910,県名!$B$1:$C$49,2,FALSE)","v":{"$error":"#N/A"}}]
[null,null,1910,null,null,null,null,{"$f":"VLOOKUP($G1911,県名!$B$1:$C$49,2,FALSE)","v":{"$error":"#N/A"}}]
[null,null,1911,null,null,null,null,{"$f":"VLOOKUP($G1912,県名!$B$1:$C$49,2,FALSE)","v":{"$error":"#N/A"}}]
[null,null,1912,null,null,null,null,{"$f":"VLOOKUP($G1913,県名!$B$1:$C$49,2,FALSE)","v":{"$error":"#N/A"}}]
[null,null,1913,null,null,null,null,{"$f":"VLOOKUP($G1914,県名!$B$1:$C$49,2,FALSE)","v":{"$error":"#N/A"}}]
[null,null,1914,null,null,null,null,{"$f":"VLOOKUP($G1915,県名!$B$1:$C$49,2,FALSE)","v":{"$error":"#N/A"}}]
[null,null,1915,null,null,null,null,{"$f":"VLOOKUP($G1916,県名!$B$1:$C$49,2,FALSE)","v":{"$error":"#N/A"}}]
[null,null,1916,null,null,null,null,{"$f":"VLOOKUP($G1917,県名!$B$1:$C$49,2,FALSE)","v":{"$error":"#N/A"}}]
[null,null,1917,null,null,null,null,{"$f":"VLOOKUP($G1918,県名!$B$1:$C$49,2,FALSE)","v":{"$error":"#N/A"}}]
[null,null,1918,null,null,null,null,{"$f":"VLOOKUP($G1919,県名!$B$1:$C$49,2,FALSE)","v":{"$error":"#N/A"}}]
[null,null,1919,null,null,null,null,{"$f":"VLOOKUP($G1920,県名!$B$1:$C$49,2,FALSE)","v":{"$error":"#N/A"}}]
[null,null,1920,null,null,null,null,{"$f":"VLOOKUP($G1921,県名!$B$1:$C$49,2,FALSE)","v":{"$error":"#N/A"}}]
[null,null,1921,null,null,null,null,{"$f":"VLOOKUP($G1922,県名!$B$1:$C$49,2,FALSE)","v":{"$error":"#N/A"}}]
[null,null,1922,null,null,null,null,{"$f":"VLOOKUP($G1923,県名!$B$1:$C$49,2,FALSE)","v":{"$error":"#N/A"}}]
[null,null,1923,null,null,null,null,{"$f":"VLOOKUP($G1924,県名!$B$1:$C$49,2,FALSE)","v":{"$error":"#N/A"}}]
[null,null,1924,null,null,null,null,{"$f":"VLOOKUP($G1925,県名!$B$1:$C$49,2,FALSE)","v":{"$error":"#N/A"}}]
[null,null,1925,null,null,null,null,{"$f":"VLOOKUP($G1926,県名!$B$1:$C$49,2,FALSE)","v":{"$error":"#N/A"}}]
[null,null,1926,null,null,null,null,{"$f":"VLOOKUP($G1927,県名!$B$1:$C$49,2,FALSE)","v":{"$error":"#N/A"}}]
[null,null,1927,null,null,null,null,{"$f":"VLOOKUP($G1928,県名!$B$1:$C$49,2,FALSE)","v":{"$error":"#N/A"}}]
[null,null,1928,null,null,null,null,{"$f":"VLOOKUP($G1929,県名!$B$1:$C$49,2,FALSE)","v":{"$error":"#N/A"}}]
[null,null,1929,null,null,null,null,{"$f":"VLOOKUP($G1930,県名!$B$1:$C$49,2,FALSE)","v":{"$error":"#N/A"}}]
[null,null,1930,null,null,null,null,{"$f":"VLOOKUP($G1931,県名!$B$1:$C$49,2,FALSE)","v":{"$error":"#N/A"}}]
[null,null,1931,null,null,null,null,{"$f":"VLOOKUP($G1932,県名!$B$1:$C$49,2,FALSE)","v":{"$error":"#N/A"}}]
[null,null,1932,null,null,null,null,{"$f":"VLOOKUP($G1933,県名!$B$1:$C$49,2,FALSE)","v":{"$error":"#N/A"}}]
[null,null,1933,null,null,null,null,{"$f":"VLOOKUP($G1934,県名!$B$1:$C$49,2,FALSE)","v":{"$error":"#N/A"}}]
[null,null,1934,null,null,null,null,{"$f":"VLOOKUP($G1935,県名!$B$1:$C$49,2,FALSE)","v":{"$error":"#N/A"}}]
[null,null,1935,null,null,null,null,{"$f":"VLOOKUP($G1936,県名!$B$1:$C$49,2,FALSE)","v":{"$error":"#N/A"}}]
[null,null,1936,null,null,null,null,{"$f":"VLOOKUP($G1937,県名!$B$1:$C$49,2,FALSE)","v":{"$error":"#N/A"}}]
[null,null,1937,null,null,null,null,{"$f":"VLOOKUP($G1938,県名!$B$1:$C$49,2,FALSE)","v":{"$error":"#N/A"}}]
[null,null,1938,null,null,null,null,{"$f":"VLOOKUP($G1939,県名!$B$1:$C$49,2,FALSE)","v":{"$error":"#N/A"}}]
[null,null,1939,null,null,null,null,{"$f":"VLOOKUP($G1940,県名!$B$1:$C$49,2,FALSE)","v":{"$error":"#N/A"}}]
[null,null,1940,null,null,null,null,{"$f":"VLOOKUP($G1941,県名!$B$1:$C$49,2,FALSE)","v":{"$error":"#N/A"}}]
[null,null,1941,null,null,null,null,{"$f":"VLOOKUP($G1942,県名!$B$1:$C$49,2,FALSE)","v":{"$error":"#N/A"}}]
[null,null,1942,null,null,null,null,{"$f":"VLOOKUP($G1943,県名!$B$1:$C$49,2,FALSE)","v":{"$error":"#N/A"}}]
[null,null,1943,null,null,null,null,{"$f":"VLOOKUP($G1944,県名!$B$1:$C$49,2,FALSE)","v":{"$error":"#N/A"}}]
[null,null,1944,null,null,null,null,{"$f":"VLOOKUP($G1945,県名!$B$1:$C$49,2,FALSE)","v":{"$error":"#N/A"}}]
[null,null,1945,null,null,null,null,{"$f":"VLOOKUP($G1946,県名!$B$1:$C$49,2,FALSE)","v":{"$error":"#N/A"}}]
[null,null,1946,null,null,null,null,{"$f":"VLOOKUP($G1947,県名!$B$1:$C$49,2,FALSE)","v":{"$error":"#N/A"}}]
[null,null,1947,null,null,null,null,{"$f":"VLOOKUP($G1948,県名!$B$1:$C$49,2,FALSE)","v":{"$error":"#N/A"}}]
[null,null,1948,null,null,null,null,{"$f":"VLOOKUP($G1949,県名!$B$1:$C$49,2,FALSE)","v":{"$error":"#N/A"}}]
[null,null,1949,null,null,null,null,{"$f":"VLOOKUP($G1950,県名!$B$1:$C$49,2,FALSE)","v":{"$error":"#N/A"}}]
[null,null,1950,null,null,null,null,{"$f":"VLOOKUP($G1951,県名!$B$1:$C$49,2,FALSE)","v":{"$error":"#N/A"}}]
[null,null,1951,null,null,null,null,{"$f":"VLOOKUP($G1952,県名!$B$1:$C$49,2,FALSE)","v":{"$error":"#N/A"}}]
[null,null,1952,null,null,null,null,{"$f":"VLOOKUP($G1953,県名!$B$1:$C$49,2,FALSE)","v":{"$error":"#N/A"}}]
[null,null,1953,null,null,null,null,{"$f":"VLOOKUP($G1954,県名!$B$1:$C$49,2,FALSE)","v":{"$error":"#N/A"}}]
[null,null,1954,null,null,null,null,{"$f":"VLOOKUP($G1955,県名!$B$1:$C$49,2,FALSE)","v":{"$error":"#N/A"}}]
[null,null,1955,null,null,null,null,{"$f":"VLOOKUP($G1956,県名!$B$1:$C$49,2,FALSE)","v":{"$error":"#N/A"}}]
[null,null,1956,null,null,null,null,{"$f":"VLOOKUP($G1957,県名!$B$1:$C$49,2,FALSE)","v":{"$error":"#N/A"}}]
[null,null,1957,null,null,null,null,{"$f":"VLOOKUP($G1958,県名!$B$1:$C$49,2,FALSE)","v":{"$error":"#N/A"}}]
[null,null,1958,null,null,null,null,{"$f":"VLOOKUP($G1959,県名!$B$1:$C$49,2,FALSE)","v":{"$error":"#N/A"}}]
[null,null,1959,null,null,null,null,{"$f":"VLOOKUP($G1960,県名!$B$1:$C$49,2,FALSE)","v":{"$error":"#N/A"}}]
[null,null,1960,null,null,null,null,{"$f":"VLOOKUP($G1961,県名!$B$1:$C$49,2,FALSE)","v":{"$error":"#N/A"}}]
[null,null,1961,null,null,null,null,{"$f":"VLOOKUP($G1962,県名!$B$1:$C$49,2,FALSE)","v":{"$error":"#N/A"}}]
[null,null,1962,null,null,null,null,{"$f":"VLOOKUP($G1963,県名!$B$1:$C$49,2,FALSE)","v":{"$error":"#N/A"}}]
[null,null,1963,null,null,null,null,{"$f":"VLOOKUP($G1964,県名!$B$1:$C$49,2,FALSE)","v":{"$error":"#N/A"}}]
[null,null,1964,null,null,null,null,{"$f":"VLOOKUP($G1965,県名!$B$1:$C$49,2,FALSE)","v":{"$error":"#N/A"}}]
[null,null,1965,null,null,null,null,{"$f":"VLOOKUP($G1966,県名!$B$1:$C$49,2,FALSE)","v":{"$error":"#N/A"}}]
[null,null,1966,null,null,null,null,{"$f":"VLOOKUP($G1967,県名!$B$1:$C$49,2,FALSE)","v":{"$error":"#N/A"}}]
[null,null,1967,null,null,null,null,{"$f":"VLOOKUP($G1968,県名!$B$1:$C$49,2,FALSE)","v":{"$error":"#N/A"}}]
[null,null,1968,null,null,null,null,{"$f":"VLOOKUP($G1969,県名!$B$1:$C$49,2,FALSE)","v":{"$error":"#N/A"}}]
[null,null,1969,null,null,null,null,{"$f":"VLOOKUP($G1970,県名!$B$1:$C$49,2,FALSE)","v":{"$error":"#N/A"}}]
[null,null,1970,null,null,null,null,{"$f":"VLOOKUP($G1971,県名!$B$1:$C$49,2,FALSE)","v":{"$error":"#N/A"}}]
[null,null,1971,null,null,null,null,{"$f":"VLOOKUP($G1972,県名!$B$1:$C$49,2,FALSE)","v":{"$error":"#N/A"}}]
[null,null,1972,null,null,null,null,{"$f":"VLOOKUP($G1973,県名!$B$1:$C$49,2,FALSE)","v":{"$error":"#N/A"}}]
[null,null,1973,null,null,null,null,{"$f":"VLOOKUP($G1974,県名!$B$1:$C$49,2,FALSE)","v":{"$error":"#N/A"}}]
[null,null,1974,null,null,null,null,{"$f":"VLOOKUP($G1975,県名!$B$1:$C$49,2,FALSE)","v":{"$error":"#N/A"}}]
[null,null,1975,null,null,null,null,{"$f":"VLOOKUP($G1976,県名!$B$1:$C$49,2,FALSE)","v":{"$error":"#N/A"}}]
[null,null,1976,null,null,null,null,{"$f":"VLOOKUP($G1977,県名!$B$1:$C$49,2,FALSE)","v":{"$error":"#N/A"}}]
[null,null,1977,null,null,null,null,{"$f":"VLOOKUP($G1978,県名!$B$1:$C$49,2,FALSE)","v":{"$error":"#N/A"}}]
[null,null,1978,null,null,null,null,{"$f":"VLOOKUP($G1979,県名!$B$1:$C$49,2,FALSE)","v":{"$error":"#N/A"}}]
[null,null,1979,null,null,null,null,{"$f":"VLOOKUP($G1980,県名!$B$1:$C$49,2,FALSE)","v":{"$error":"#N/A"}}]
[null,null,1980,null,null,null,null,{"$f":"VLOOKUP($G1981,県名!$B$1:$C$49,2,FALSE)","v":{"$error":"#N/A"}}]
[null,null,1981,null,null,null,null,{"$f":"VLOOKUP($G1982,県名!$B$1:$C$49,2,FALSE)","v":{"$error":"#N/A"}}]
[null,null,1982,null,null,null,null,{"$f":"VLOOKUP($G1983,県名!$B$1:$C$49,2,FALSE)","v":{"$error":"#N/A"}}]
[null,null,1983,null,null,null,null,{"$f":"VLOOKUP($G1984,県名!$B$1:$C$49,2,FALSE)","v":{"$error":"#N/A"}}]
[null,null,1984,null,null,null,null,{"$f":"VLOOKUP($G1985,県名!$B$1:$C$49,2,FALSE)","v":{"$error":"#N/A"}}]
[null,null,1985,null,null,null,null,{"$f":"VLOOKUP($G1986,県名!$B$1:$C$49,2,FALSE)","v":{"$error":"#N/A"}}]
[null,null,1986,null,null,null,null,{"$f":"VLOOKUP($G1987,県名!$B$1:$C$49,2,FALSE)","v":{"$error":"#N/A"}}]
[null,null,1987,null,null,null,null,{"$f":"VLOOKUP($G1988,県名!$B$1:$C$49,2,FALSE)","v":{"$error":"#N/A"}}]
[null,null,1988,null,null,null,null,{"$f":"VLOOKUP($G1989,県名!$B$1:$C$49,2,FALSE)","v":{"$error":"#N/A"}}]
[null,null,1989,null,null,null,null,{"$f":"VLOOKUP($G1990,県名!$B$1:$C$49,2,FALSE)","v":{"$error":"#N/A"}}]
[null,null,1990,null,null,null,null,{"$f":"VLOOKUP($G1991,県名!$B$1:$C$49,2,FALSE)","v":{"$error":"#N/A"}}]
[null,null,1991,null,null,null,null,{"$f":"VLOOKUP($G1992,県名!$B$1:$C$49,2,FALSE)","v":{"$error":"#N/A"}}]
[null,null,1992,null,null,null,null,{"$f":"VLOOKUP($G1993,県名!$B$1:$C$49,2,FALSE)","v":{"$error":"#N/A"}}]
[null,null,1993,null,null,null,null,{"$f":"VLOOKUP($G1994,県名!$B$1:$C$49,2,FALSE)","v":{"$error":"#N/A"}}]
[null,null,1994,null,null,null,null,{"$f":"VLOOKUP($G1995,県名!$B$1:$C$49,2,FALSE)","v":{"$error":"#N/A"}}]
[null,null,1995,null,null,null,null,{"$f":"VLOOKUP($G1996,県名!$B$1:$C$49,2,FALSE)","v":{"$error":"#N/A"}}]
[null,null,1996,null,null,null,null,{"$f":"VLOOKUP($G1997,県名!$B$1:$C$49,2,FALSE)","v":{"$error":"#N/A"}}]
[null,null,1997,null,null,null,null,{"$f":"VLOOKUP($G1998,県名!$B$1:$C$49,2,FALSE)","v":{"$error":"#N/A"}}]
[null,null,1998,null,null,null,null,{"$f":"VLOOKUP($G1999,県名!$B$1:$C$49,2,FALSE)","v":{"$error":"#N/A"}}]
[null,null,1999,null,null,null,null,{"$f":"VLOOKUP($G2000,県名!$B$1:$C$49,2,FALSE)","v":{"$error":"#N/A"}}]
[null,null,2000,null,null,null,null,{"$f":"VLOOKUP($G2001,県名!$B$1:$C$49,2,FALSE)","v":{"$error":"#N/A"}}]
[null,"愛知教育大学",2001,"吉川　侑希","ﾖｼｶﾜ ﾕｳｷ","M2","愛知県",{"$f":"VLOOKUP($G2002,県名!$B$1:$C$49,2,FALSE)","v":"愛  知"}]
[null,"愛知教育大学",2002,"北野　有紀","ｷﾀﾉ ﾕｳｷ","M1","愛知県",{"$f":"VLOOKUP($G2003,県名!$B$1:$C$49,2,FALSE)","v":"愛  知"}]
[null,"愛知教育大学",2003,"大松　由季","ｵｵﾏﾂ ﾕｷ",4,"広島県",{"$f":"VLOOKUP($G2004,県名!$B$1:$C$49,2,FALSE)","v":"広　島"}]
[null,"愛知教育大学",2004,"小林　紗矢香","ｺﾊﾞﾔｼ ｻﾔｶ",4,"愛知県",{"$f":"VLOOKUP($G2005,県名!$B$1:$C$49,2,FALSE)","v":"愛  知"}]
[null,"愛知教育大学",2005,"早瀬　名那","ﾊﾔｾ ﾅﾅ",4,"愛知県",{"$f":"VLOOKUP($G2006,県名!$B$1:$C$49,2,FALSE)","v":"愛  知"}]
[null,"愛知教育大学",2006,"中村　彩花","ﾅｶﾑﾗ ｱﾔｶ",4,"愛知県",{"$f":"VLOOKUP($G2007,県名!$B$1:$C$49,2,FALSE)","v":"愛  知"}]
[null,"愛知教育大学",2007,"五島　汐梨","ｺﾞｼﾏ ｼｵﾘ",4,"岐阜県",{"$f":"VLOOKUP($G2008,県名!$B$1:$C$49,2,FALSE)","v":"岐  阜"}]
[null,"愛知教育大学",2008,"中村　麻美","ﾅｶﾑﾗ ｱｻﾐ",4,"愛知県",{"$f":"VLOOKUP($G2009,県名!$B$1:$C$49,2,FALSE)","v":"愛  知"}]
[null,"愛知教育大学",2009,"松本　扶弥","ﾏﾂﾓﾄ ﾌﾐ",3,"愛知県",{"$f":"VLOOKUP($G2010,県名!$B$1:$C$49,2,FALSE)","v":"愛  知"}]
[null,"愛知教育大学",2010,"山神　銘鈴","ﾔﾏｶﾞﾐ ﾒｲﾘﾝ",3,"愛知県",{"$f":"VLOOKUP($G2011,県名!$B$1:$C$49,2,FALSE)","v":"愛  知"}]
[null,"愛知教育大学",2011,"鋤柄　友香","ｽｷｶﾞﾗ ﾕｶ",3,"愛知県",{"$f":"VLOOKUP($G2012,県名!$B$1:$C$49,2,FALSE)","v":"愛  知"}]
[null,"愛知教育大学",2012,"成田　瑠菜","ﾅﾘﾀ ﾙﾅ",3,"愛知県",{"$f":"VLOOKUP($G2013,県名!$B$1:$C$49,2,FALSE)","v":"愛  知"}]
[null,"愛知教育大学",2013,"中田　寛乃","ﾅｶﾀﾞ ﾋﾛﾉ",3,"岐阜県",{"$f":"VLOOKUP($G2014,県名!$B$1:$C$49,2,FALSE)","v":"岐  阜"}]
[null,"愛知教育大学",2014,"石川　楓","ｲｼｶﾜ ｶｴﾃﾞ",3,"愛知県",{"$f":"VLOOKUP($G2015,県名!$B$1:$C$49,2,FALSE)","v":"愛  知"}]
[null,"愛知教育大学",2015,"高見　香澄","ﾀｶﾐ ｶｽﾐ",3,"兵庫県",{"$f":"VLOOKUP($G2016,県名!$B$1:$C$49,2,FALSE)","v":"兵　庫"}]
[null,"愛知教育大学",2016,"神谷　もも","ｶﾐﾔ ﾓﾓ",3,"愛知県",{"$f":"VLOOKUP($G2017,県名!$B$1:$C$49,2,FALSE)","v":"愛  知"}]
[null,"愛知教育大学",2017,"園原　晶","ｿﾉﾊﾗ ｱｷﾗ",2,"岐阜県",{"$f":"VLOOKUP($G2018,県名!$B$1:$C$49,2,FALSE)","v":"岐  阜"}]
[null,"愛知教育大学",2018,"藤井　彩夏","ﾌｼﾞｲ ｻｲｶ",2,"愛知県",{"$f":"VLOOKUP($G2019,県名!$B$1:$C$49,2,FALSE)","v":"愛  知"}]
[null,"愛知教育大学",2019,"髙野　愛華","ﾀｶﾉ ｱｲｶ",2,"愛知県",{"$f":"VLOOKUP($G2020,県名!$B$1:$C$49,2,FALSE)","v":"愛  知"}]
[null,"愛知教育大学",2020,"清水　雪花","ｼﾐｽﾞ ﾕｷｶ",2,"岐阜県",{"$f":"VLOOKUP($G2021,県名!$B$1:$C$49,2,FALSE)","v":"岐  阜"}]
[null,"愛知教育大学",2021,"宇野　佑紀","ｳﾉ ﾕｳｷ",1,"愛知県",{"$f":"VLOOKUP($G2022,県名!$B$1:$C$49,2,FALSE)","v":"愛  知"}]
[null,"愛知教育大学",2022,"稲葉　早恵","ｲﾅﾊﾞ ｻｴ",1,"静岡県",{"$f":"VLOOKUP($G2023,県名!$B$1:$C$49,2,FALSE)","v":"静  岡"}]
[null,"愛知教育大学",2023,"柏谷　美空","ｶｼﾜﾔ ﾐｸ",1,"愛知県",{"$f":"VLOOKUP($G2024,県名!$B$1:$C$49,2,FALSE)","v":"愛  知"}]
[null,"愛知教育大学",2024,"吉村　月乃","ﾖｼﾑﾗ ﾂｷﾉ",1,"愛知県",{"$f":"VLOOKUP($G2025,県名!$B$1:$C$49,2,FALSE)","v":"愛  知"}]
[null,"愛知教育大学",2025,"星野　楓香","ﾎｼﾉ ﾌｳｶ",1,"新潟県",{"$f":"VLOOKUP($G2026,県名!$B$1:$C$49,2,FALSE)","v":"新　潟"}]
[null,"愛知大学",2026,"加藤　美桜子","ｶﾄｳ ﾐｵｺ",3,"愛知県",{"$f":"VLOOKUP($G2027,県名!$B$1:$C$49,2,FALSE)","v":"愛  知"}]
[null,"愛知大学",2027,"中川　琴絵","ﾅｶｶﾞﾜ ｺﾄｴ",2,"愛知県",{"$f":"VLOOKUP($G2028,県名!$B$1:$C$49,2,FALSE)","v":"愛  知"}]
[null,"愛知大学",2028,"水谷　早希","ﾐｽﾞﾀﾆ ｻｷ",2,"愛知県",{"$f":"VLOOKUP($G2029,県名!$B$1:$C$49,2,FALSE)","v":"愛  知"}]
[null,"愛知学院大学",2029,"今碇　真未","ｲﾏｲｶﾘ ﾏﾐ",3,"愛知県",{"$f":"VLOOKUP($G2030,県名!$B$1:$C$49,2,FALSE)","v":"愛  知"}]
[null,"愛知学院大学",2030,"井上　香穂","ｲﾉｳｴ ｶﾎ",3,"愛知県",{"$f":"VLOOKUP($G2031,県名!$B$1:$C$49,2,FALSE)","v":"愛  知"}]
[null,"愛知学院大学",2031,"佐藤　圭那子","ｻﾄｳ ｶﾅｺ",3,"愛知県",{"$f":"VLOOKUP($G2032,県名!$B$1:$C$49,2,FALSE)","v":"愛  知"}]
[null,"愛知学院大学",2032,"竹下　悠香","ﾀｹｼﾀ ﾊﾙｶ",3,"愛知県",{"$f":"VLOOKUP($G2033,県名!$B$1:$C$49,2,FALSE)","v":"愛  知"}]
[null,"愛知学院大学",2033,"岸野　志歩","ｷｼﾉ ｼﾎ",3,"愛知県",{"$f":"VLOOKUP($G2034,県名!$B$1:$C$49,2,FALSE)","v":"愛  知"}]
[null,"愛知学院大学",2034,"杉山　さり","ｽｷﾞﾔﾏ ｻﾘ",2,"愛知県",{"$f":"VLOOKUP($G2035,県名!$B$1:$C$49,2,FALSE)","v":"愛  知"}]
[null,"愛知学院大学",2035,"掛川　栞","ｶｹｶﾞﾜ ｼｵﾘ",2,"愛知県",{"$f":"VLOOKUP($G2036,県名!$B$1:$C$49,2,FALSE)","v":"愛  知"}]
[null,"愛知学院大学",2036,"清原　ひかる","ｷﾖﾊﾗ ﾋｶﾙ",1,"愛知県",{"$f":"VLOOKUP($G2037,県名!$B$1:$C$49,2,FALSE)","v":"愛  知"}]
[null,"愛知淑徳大学",2037,"山下　南帆","ﾔﾏｼﾀ ﾅﾎ",3,"愛知県",{"$f":"VLOOKUP($G2038,県名!$B$1:$C$49,2,FALSE)","v":"愛  知"}]
[null,"愛知淑徳大学",2038,"澤田　萌乃","ｻﾜﾀﾞ ﾓｴﾉ",3,"愛知県",{"$f":"VLOOKUP($G2039,県名!$B$1:$C$49,2,FALSE)","v":"愛  知"}]
[null,"愛知淑徳大学",2039,"桐山　菜奈子","ｷﾘﾔﾏ ﾅﾅｺ",2,"岐阜県",{"$f":"VLOOKUP($G2040,県名!$B$1:$C$49,2,FALSE)","v":"岐  阜"}]
[null,"愛知淑徳大学",2040,"松浦　藍子","ﾏﾂｳﾗ ｱｲｺ",3,"愛知県",{"$f":"VLOOKUP($G2041,県名!$B$1:$C$49,2,FALSE)","v":"愛  知"}]
[null,"愛知淑徳大学",2041,"桐木　文咲","ｷﾘｷ ｱﾔｻ",3,"愛知県",{"$f":"VLOOKUP($G2042,県名!$B$1:$C$49,2,FALSE)","v":"愛  知"}]
[null,"愛知淑徳大学",2042,"山口　葉菜","ﾔﾏｸﾞﾁ ﾊﾅ",2,"愛知県",{"$f":"VLOOKUP($G2043,県名!$B$1:$C$49,2,FALSE)","v":"愛  知"}]
[null,"岐阜聖徳学園大学",2043,"大田　杏香","ｵｵﾀ ｷｮｳｶ",4,"岐阜県",{"$f":"VLOOKUP($G2044,県名!$B$1:$C$49,2,FALSE)","v":"岐  阜"}]
[null,"岐阜聖徳学園大学",2044,"田中　槙","ﾀﾅｶ ﾏｷ",2,"岐阜県",{"$f":"VLOOKUP($G2045,県名!$B$1:$C$49,2,FALSE)","v":"岐  阜"}]
[null,"岐阜聖徳学園大学",2045,"齊藤　慧子","ｻｲﾄｳ ｹｲｺ",3,"岐阜県",{"$f":"VLOOKUP($G2046,県名!$B$1:$C$49,2,FALSE)","v":"岐  阜"}]
[null,"岐阜聖徳学園大学",2046,"河合　李胡","ｶﾜｲ ﾘｺ",2,"愛知県",{"$f":"VLOOKUP($G2047,県名!$B$1:$C$49,2,FALSE)","v":"愛  知"}]
[null,"岐阜聖徳学園大学",2047,"谷川　真優","ﾀﾆｶﾜ ﾏﾕ",2,"福井県",{"$f":"VLOOKUP($G2048,県名!$B$1:$C$49,2,FALSE)","v":"福　井"}]
[null,"岐阜大学",2048,"佐分利　真由","ｻﾌﾞﾘ ﾏﾕ",4,"岐阜県",{"$f":"VLOOKUP($G2049,県名!$B$1:$C$49,2,FALSE)","v":"岐  阜"}]
[null,"岐阜大学",2049,"中村　菜摘","ﾅｶﾑﾗ ﾅﾂﾐ",4,"岐阜県",{"$f":"VLOOKUP($G2050,県名!$B$1:$C$49,2,FALSE)","v":"岐  阜"}]
[null,"岐阜大学",2050,"垣内　美紀","ｶｲﾄ ﾐｷ",3,"岐阜県",{"$f":"VLOOKUP($G2051,県名!$B$1:$C$49,2,FALSE)","v":"岐  阜"}]
[null,"岐阜大学",2051,"山田　明日香","ﾔﾏﾀﾞ ｱｽｶ",3,"岐阜県",{"$f":"VLOOKUP($G2052,県名!$B$1:$C$49,2,FALSE)","v":"岐  阜"}]
[null,"岐阜大学",2052,"杉山　莉聖","ｽｷﾞﾔﾏ ﾘｾ",2,"岐阜県",{"$f":"VLOOKUP($G2053,県名!$B$1:$C$49,2,FALSE)","v":"岐  阜"}]
[null,"岐阜大学",2053,"直井　陽奈","ﾅｵｲ ﾊﾙﾅ",1,"岐阜県",{"$f":"VLOOKUP($G2054,県名!$B$1:$C$49,2,FALSE)","v":"岐  阜"}]
[null,"金城学院大学",2054,"豊田　文音","ﾄﾖﾀﾞ ｱﾔﾈ",4,"愛知県",{"$f":"VLOOKUP($G2055,県名!$B$1:$C$49,2,FALSE)","v":"愛  知"}]
[null,"金城学院大学",2055,"浅野　奈穂","ｱｻﾉ ﾅﾎ",3,"愛知県",{"$f":"VLOOKUP($G2056,県名!$B$1:$C$49,2,FALSE)","v":"愛  知"}]
[null,"金城学院大学",2056,"渡部　琴子","ﾜﾀﾅﾍﾞ ｺﾄｺ",2,"愛知県",{"$f":"VLOOKUP($G2057,県名!$B$1:$C$49,2,FALSE)","v":"愛  知"}]
[null,"金城学院大学",2057,"水漉　菜穂子","ﾐｽﾞｺｼ ﾅﾎｺ",2,"愛知県",{"$f":"VLOOKUP($G2058,県名!$B$1:$C$49,2,FALSE)","v":"愛  知"}]
[null,"皇學館大学",2058,"坂　実咲","ｻｶ ﾐｻｷ",4,"三重県",{"$f":"VLOOKUP($G2059,県名!$B$1:$C$49,2,FALSE)","v":"三  重"}]
[null,"皇學館大学",2059,"古市　穂乃佳","ﾌﾙｲﾁ ﾎﾉｶ",2,"三重県",{"$f":"VLOOKUP($G2060,県名!$B$1:$C$49,2,FALSE)","v":"三  重"}]
[null,"皇學館大学",2060,"佐伯　穂乃香","ｻｴｷ ﾎﾉｶ",2,"三重県",{"$f":"VLOOKUP($G2061,県名!$B$1:$C$49,2,FALSE)","v":"三  重"}]
[null,"皇學館大学",2061,"扇谷　結愛","ｵｵｷﾞﾀﾞﾆ ﾕｳｱ",2,"三重県",{"$f":"VLOOKUP($G2062,県名!$B$1:$C$49,2,FALSE)","v":"三  重"}]
[null,"皇學館大学",2062,"平山　未来","ﾋﾗﾔﾏ ﾐｸ",3,"三重県",{"$f":"VLOOKUP($G2063,県名!$B$1:$C$49,2,FALSE)","v":"三  重"}]
[null,"皇學館大学",2063,"伊藤　美穂","ｲﾄｳ ﾐﾎ",3,"三重県",{"$f":"VLOOKUP($G2064,県名!$B$1:$C$49,2,FALSE)","v":"三  重"}]
[null,"皇學館大学",2064,"松葉　みなみ","ﾏﾂﾊﾞ ﾐﾅﾐ",3,"三重県",{"$f":"VLOOKUP($G2065,県名!$B$1:$C$49,2,FALSE)","v":"三  重"}]
[null,"皇學館大学",2065,"山本　希羽","ﾔﾏﾓﾄ ｷﾜ",3,"三重県",{"$f":"VLOOKUP($G2066,県名!$B$1:$C$49,2,FALSE)","v":"三  重"}]
[null,"皇學館大学",2066,"新貝　桃子","ｼﾝｶｲ ﾓﾓｺ",3,"三重県",{"$f":"VLOOKUP($G2067,県名!$B$1:$C$49,2,FALSE)","v":"三  重"}]
[null,"皇學館大学",2067,"中世古　祥恵","ﾅｶｾｺ ｻﾁｴ",3,"三重県",{"$f":"VLOOKUP($G2068,県名!$B$1:$C$49,2,FALSE)","v":"三  重"}]
[null,"皇學館大学",2068,"鈴木　輝","ｽｽﾞｷ ｷﾗﾘ",3,"三重県",{"$f":"VLOOKUP($G2069,県名!$B$1:$C$49,2,FALSE)","v":"三  重"}]
[null,"皇學館大学",2069,"野崎　まりん","ﾉｻﾞｷ ﾏﾘﾝ",3,"三重県",{"$f":"VLOOKUP($G2070,県名!$B$1:$C$49,2,FALSE)","v":"三  重"}]
[null,"皇學館大学",2070,"山添　玲央菜","ﾔﾏｿﾞｴ ﾚｵﾅ",4,"三重県",{"$f":"VLOOKUP($G2071,県名!$B$1:$C$49,2,FALSE)","v":"三  重"}]
[null,"皇學館大学",2071,"服部　愛美","ﾊｯﾄﾘ ﾏﾅﾐ",2,"三重県",{"$f":"VLOOKUP($G2072,県名!$B$1:$C$49,2,FALSE)","v":"三  重"}]
[null,"皇學館大学",2072,"出口　瑞歩","ﾃﾞｸﾞﾁ ﾐｽﾞﾎ",2,"三重県",{"$f":"VLOOKUP($G2073,県名!$B$1:$C$49,2,FALSE)","v":"三  重"}]
[null,"皇學館大学",2073,"栢　愛莉","ｶﾔ ｱｲﾘ",2,"三重県",{"$f":"VLOOKUP($G2074,県名!$B$1:$C$49,2,FALSE)","v":"三  重"}]
[null,"三重大学",2074,"太田　千夏","ｵｵﾀ ﾁﾅﾂ",2,"三重県",{"$f":"VLOOKUP($G2075,県名!$B$1:$C$49,2,FALSE)","v":"三  重"}]
[null,"三重大学",2075,"木俣　穂香","ｷﾏﾀ ﾎﾉｶ",2,"三重県",{"$f":"VLOOKUP($G2076,県名!$B$1:$C$49,2,FALSE)","v":"三  重"}]
[null,"三重大学",2076,"九谷　葉月","ｸﾀﾆ ﾊﾂﾞｷ",2,"三重県",{"$f":"VLOOKUP($G2077,県名!$B$1:$C$49,2,FALSE)","v":"三  重"}]
[null,"三重大学",2077,"中川　晴菜","ﾅｶｶﾞﾜ ﾊﾙﾅ",3,"三重県",{"$f":"VLOOKUP($G2078,県名!$B$1:$C$49,2,FALSE)","v":"三  重"}]
[null,"三重大学",2078,"西田　圭那","ﾆｼﾀﾞ ｶﾅ",3,"三重県",{"$f":"VLOOKUP($G2079,県名!$B$1:$C$49,2,FALSE)","v":"三  重"}]
[null,"三重大学",2079,"丹羽　智未","ﾆﾜ ﾄﾓﾐ",3,"愛知県",{"$f":"VLOOKUP($G2080,県名!$B$1:$C$49,2,FALSE)","v":"愛  知"}]
[null,"三重大学",2080,"梅谷　沙代","ｳﾒﾀﾆ ｻﾖ",4,"三重県",{"$f":"VLOOKUP($G2081,県名!$B$1:$C$49,2,FALSE)","v":"三  重"}]
[null,"三重大学",2081,"角見　結美","ｶｸﾐ ﾕｳﾐ",4,"三重県",{"$f":"VLOOKUP($G2082,県名!$B$1:$C$49,2,FALSE)","v":"三  重"}]
[null,"三重大学",2082,"倉田　明奈","ｸﾗﾀ ｱｷﾅ",4,"三重県",{"$f":"VLOOKUP($G2083,県名!$B$1:$C$49,2,FALSE)","v":"三  重"}]
[null,"三重大学",2083,"長井　彩夏","ﾅｶﾞｲ ｱﾔｶ",4,"三重県",{"$f":"VLOOKUP($G2084,県名!$B$1:$C$49,2,FALSE)","v":"三  重"}]
[null,"三重大学",2084,"西尾　美早紀","ﾆｼｵ ﾐｻｷ",4,"三重県",{"$f":"VLOOKUP($G2085,県名!$B$1:$C$49,2,FALSE)","v":"三  重"}]
[null,"三重大学",2085,"山田　祥穂","ﾔﾏﾀﾞ ｻﾁﾎ",4,"三重県",{"$f":"VLOOKUP($G2086,県名!$B$1:$C$49,2,FALSE)","v":"三  重"}]
[null,"至学館大学",2086,"磯村　江里","ｲｿﾑﾗ ｴﾘ",3,"愛知県",{"$f":"VLOOKUP($G2087,県名!$B$1:$C$49,2,FALSE)","v":"愛  知"}]
[null,"至学館大学",2087,"加藤　由樹子","ｶﾄｳ ﾕｷｺ",3,"静岡県",{"$f":"VLOOKUP($G2088,県名!$B$1:$C$49,2,FALSE)","v":"静  岡"}]
[null,"至学館大学",2088,"原田　あすか","ﾊﾗﾀﾞ ｱｽｶ",2,"愛知県",{"$f":"VLOOKUP($G2089,県名!$B$1:$C$49,2,FALSE)","v":"愛  知"}]
[null,"至学館大学",2089,"加藤　桃佳","ｶﾄｳ ﾓﾓｶ","M1","愛知県",{"$f":"VLOOKUP($G2090,県名!$B$1:$C$49,2,FALSE)","v":"愛  知"}]
[null,"至学館大学",2090,"朝日　美帆","ｱｻﾋ ﾐﾎ",4,"北海道",{"$f":"VLOOKUP($G2091,県名!$B$1:$C$49,2,FALSE)","v":"北海道"}]
[null,"至学館大学",2091,"今井　理香子","ｲﾏｲ ﾘｶｺ",4,"愛知県",{"$f":"VLOOKUP($G2092,県名!$B$1:$C$49,2,FALSE)","v":"愛  知"}]
[null,"至学館大学",2092,"内山　はるな","ｳﾁﾔﾏ ﾊﾙﾅ",4,"愛知県",{"$f":"VLOOKUP($G2093,県名!$B$1:$C$49,2,FALSE)","v":"愛  知"}]
[null,"至学館大学",2093,"大藏　伊織","ｵｵｸﾗ ｲｵﾘ",4,"愛知県",{"$f":"VLOOKUP($G2094,県名!$B$1:$C$49,2,FALSE)","v":"愛  知"}]
[null,"至学館大学",2094,"楠　英恵","ｸｽﾉｷ ﾊﾅｴ",4,"香川県",{"$f":"VLOOKUP($G2095,県名!$B$1:$C$49,2,FALSE)","v":"香  川"}]
[null,"至学館大学",2095,"竹内　朱里","ﾀｹｳﾁ ｱｶﾘ",4,"愛知県",{"$f":"VLOOKUP($G2096,県名!$B$1:$C$49,2,FALSE)","v":"愛  知"}]
[null,"至学館大学",2096,"舘林　都美","ﾀﾃﾊﾞﾔｼ ｲｸﾐ",4,"愛知県",{"$f":"VLOOKUP($G2097,県名!$B$1:$C$49,2,FALSE)","v":"愛  知"}]
[null,"至学館大学",2097,"夏目　沙奈","ﾅﾂﾒ ｻﾅ",4,"愛知県",{"$f":"VLOOKUP($G2098,県名!$B$1:$C$49,2,FALSE)","v":"愛  知"}]
[null,"至学館大学",2098,"深水　梨保","ﾌｶﾐｽﾞ ﾘﾎ",4,"愛知県",{"$f":"VLOOKUP($G2099,県名!$B$1:$C$49,2,FALSE)","v":"愛  知"}]
[null,"至学館大学",2099,"藤井　琴","ﾌｼﾞｲ ｺﾄ",4,"愛知県",{"$f":"VLOOKUP($G2100,県名!$B$1:$C$49,2,FALSE)","v":"愛  知"}]
[null,"至学館大学",2100,"藤原　涼花","ﾌｼﾞﾜﾗ ｽｽﾞｶ",4,"愛知県",{"$f":"VLOOKUP($G2101,県名!$B$1:$C$49,2,FALSE)","v":"愛  知"}]
[null,"至学館大学",2101,"槇田　恵","ﾏｷﾀ ﾒｸﾞﾐ",4,"三重県",{"$f":"VLOOKUP($G2102,県名!$B$1:$C$49,2,FALSE)","v":"三  重"}]
[null,"至学館大学",2102,"松永　茉里香","ﾏﾂﾅｶﾞ ﾏﾘｶ",4,"三重県",{"$f":"VLOOKUP($G2103,県名!$B$1:$C$49,2,FALSE)","v":"三  重"}]
[null,"至学館大学",2103,"水野　杏香","ﾐｽﾞﾉ ｷｮｳｶ",4,"愛知県",{"$f":"VLOOKUP($G2104,県名!$B$1:$C$49,2,FALSE)","v":"愛  知"}]
[null,"至学館大学",2104,"和田　菜摘","ﾜﾀﾞ ﾅﾂﾐ",4,"三重県",{"$f":"VLOOKUP($G2105,県名!$B$1:$C$49,2,FALSE)","v":"三  重"}]
[null,"至学館大学",2105,"大野　綾音","ｵｵﾉ ｱﾔﾈ",3,"三重県",{"$f":"VLOOKUP($G2106,県名!$B$1:$C$49,2,FALSE)","v":"三  重"}]
[null,"至学館大学",2106,"大町　ゆい","ｵｵﾏﾁ ﾕｲ",3,"愛知県",{"$f":"VLOOKUP($G2107,県名!$B$1:$C$49,2,FALSE)","v":"愛  知"}]
[null,"至学館大学",2107,"奥村　夏妃","ｵｸﾑﾗ ﾅﾂｷ",3,"愛知県",{"$f":"VLOOKUP($G2108,県名!$B$1:$C$49,2,FALSE)","v":"愛  知"}]
[null,"至学館大学",2108,"加藤　晶","ｶﾄｳ ｱｷﾗ",3,"愛知県",{"$f":"VLOOKUP($G2109,県名!$B$1:$C$49,2,FALSE)","v":"愛  知"}]
[null,"至学館大学",2109,"佐藤　眞子","ｻﾄｳ ﾏｺ",3,"愛知県",{"$f":"VLOOKUP($G2110,県名!$B$1:$C$49,2,FALSE)","v":"愛  知"}]
[null,"至学館大学",2110,"西原　琳","ﾆｼﾊﾗ ﾘﾝ",3,"高知県",{"$f":"VLOOKUP($G2111,県名!$B$1:$C$49,2,FALSE)","v":"高　知"}]
[null,"至学館大学",2111,"丹羽　菜々子","ﾆﾜ ﾅﾅｺ",3,"愛知県",{"$f":"VLOOKUP($G2112,県名!$B$1:$C$49,2,FALSE)","v":"愛  知"}]
[null,"至学館大学",2112,"平下　美波","ﾋﾗｼﾀ ﾐﾅﾐ",3,"愛知県",{"$f":"VLOOKUP($G2113,県名!$B$1:$C$49,2,FALSE)","v":"愛  知"}]
[null,"至学館大学",2113,"水野　瑛梨","ﾐｽﾞﾉ ｴﾘ",3,"愛知県",{"$f":"VLOOKUP($G2114,県名!$B$1:$C$49,2,FALSE)","v":"愛  知"}]
[null,"至学館大学",2114,"淺野　紗綺","ｱｻﾉ ｻｷ",2,"愛知県",{"$f":"VLOOKUP($G2115,県名!$B$1:$C$49,2,FALSE)","v":"愛  知"}]
[null,"至学館大学",2115,"伊藤　麻有","ｲﾄｳ ﾏﾕ",2,"三重県",{"$f":"VLOOKUP($G2116,県名!$B$1:$C$49,2,FALSE)","v":"三  重"}]
[null,"至学館大学",2116,"臼田　菜々美","ｳｽﾀﾞ ﾅﾅﾐ",2,"愛知県",{"$f":"VLOOKUP($G2117,県名!$B$1:$C$49,2,FALSE)","v":"愛  知"}]
[null,"至学館大学",2117,"金田　紗耶乃","ｶﾅﾀﾞ ｻﾔﾉ",2,"愛知県",{"$f":"VLOOKUP($G2118,県名!$B$1:$C$49,2,FALSE)","v":"愛  知"}]
[null,"至学館大学",2118,"小玉　りえ","ｺﾀﾞﾏ ﾘｴ",2,"愛知県",{"$f":"VLOOKUP($G2119,県名!$B$1:$C$49,2,FALSE)","v":"愛  知"}]
[null,"至学館大学",2119,"榊原　梨子","ｻｶｷﾊﾞﾗ ﾘｺ",2,"愛知県",{"$f":"VLOOKUP($G2120,県名!$B$1:$C$49,2,FALSE)","v":"愛  知"}]
[null,"至学館大学",2120,"佐々木　萌","ｻｻｷ ﾓｴ",2,"愛知県",{"$f":"VLOOKUP($G2121,県名!$B$1:$C$49,2,FALSE)","v":"愛  知"}]
[null,"至学館大学",2121,"中﨑　仁絵","ﾅｶｻﾞｷ ﾋﾄｴ",2,"三重県",{"$f":"VLOOKUP($G2122,県名!$B$1:$C$49,2,FALSE)","v":"三  重"}]
[null,"至学館大学",2122,"原　侑子","ﾊﾗ ﾕｳｺ",2,"愛知県",{"$f":"VLOOKUP($G2123,県名!$B$1:$C$49,2,FALSE)","v":"愛  知"}]
[null,"至学館大学",2123,"水谷　美咲","ﾐｽﾞﾀﾆ ﾐｻｷ",2,"三重県",{"$f":"VLOOKUP($G2124,県名!$B$1:$C$49,2,FALSE)","v":"三  重"}]
[null,"至学館大学",2124,"八木　穂乃花","ﾔｷﾞ ﾎﾉｶ",2,"愛知県",{"$f":"VLOOKUP($G2125,県名!$B$1:$C$49,2,FALSE)","v":"愛  知"}]
[null,"至学館大学",2125,"安田　侑紗","ﾔｽﾀﾞ ｱﾘｻ",2,"岐阜県",{"$f":"VLOOKUP($G2126,県名!$B$1:$C$49,2,FALSE)","v":"岐  阜"}]
[null,"至学館大学",2126,"横井　ゆな","ﾖｺｲ ﾕﾅ",2,"愛知県",{"$f":"VLOOKUP($G2127,県名!$B$1:$C$49,2,FALSE)","v":"愛  知"}]
[null,"至学館大学",2127,"生駒　志穂","ｲｺﾏ ｼﾎ",1,"三重県",{"$f":"VLOOKUP($G2128,県名!$B$1:$C$49,2,FALSE)","v":"三  重"}]
[null,"至学館大学",2128,"太田　実花","ｵｵﾀ ﾐｶ",1,"愛知県",{"$f":"VLOOKUP($G2129,県名!$B$1:$C$49,2,FALSE)","v":"愛  知"}]
[null,"至学館大学",2129,"大野　百花","ｵｵﾉ ﾓﾓｶ",1,"愛知県",{"$f":"VLOOKUP($G2130,県名!$B$1:$C$49,2,FALSE)","v":"愛  知"}]
[null,"至学館大学",2130,"大橋　愛実","ｵｵﾊｼ ﾏﾅﾐ",1,"岐阜県",{"$f":"VLOOKUP($G2131,県名!$B$1:$C$49,2,FALSE)","v":"岐  阜"}]
[null,"至学館大学",2131,"影山　杏","ｶｹﾞﾔﾏ ｱﾝ",1,"愛知県",{"$f":"VLOOKUP($G2132,県名!$B$1:$C$49,2,FALSE)","v":"愛  知"}]
[null,"至学館大学",2132,"北川　和","ｷﾀｶﾞﾜ ﾉﾄﾞｶ",1,"三重県",{"$f":"VLOOKUP($G2133,県名!$B$1:$C$49,2,FALSE)","v":"三  重"}]
[null,"至学館大学",2133,"久保田　世菜","ｸﾎﾞﾀ ｾﾅ",1,"静岡県",{"$f":"VLOOKUP($G2134,県名!$B$1:$C$49,2,FALSE)","v":"静  岡"}]
[null,"至学館大学",2134,"菰田　梨香子","ｺﾓﾀﾞ ﾘｶｺ",1,"愛知県",{"$f":"VLOOKUP($G2135,県名!$B$1:$C$49,2,FALSE)","v":"愛  知"}]
[null,"至学館大学",2135,"近藤　七海","ｺﾝﾄﾞｳ ﾅﾅﾐ",1,"愛知県",{"$f":"VLOOKUP($G2136,県名!$B$1:$C$49,2,FALSE)","v":"愛  知"}]
[null,"至学館大学",2136,"清水　美里","ｼﾐｽﾞ ﾐｻﾄ",1,"静岡県",{"$f":"VLOOKUP($G2137,県名!$B$1:$C$49,2,FALSE)","v":"静  岡"}]
[null,"至学館大学",2137,"玉田　歩未","ﾀﾏﾀﾞ ｱﾕﾐ",1,"愛知県",{"$f":"VLOOKUP($G2138,県名!$B$1:$C$49,2,FALSE)","v":"愛  知"}]
[null,"至学館大学",2138,"内藤　未彩","ﾅｲﾄｳ ﾐｱ",1,"静岡県",{"$f":"VLOOKUP($G2139,県名!$B$1:$C$49,2,FALSE)","v":"静  岡"}]
[null,"至学館大学",2139,"本藤　歩","ﾎﾝﾄﾞｳ ｱﾕﾑ",1,"愛知県",{"$f":"VLOOKUP($G2140,県名!$B$1:$C$49,2,FALSE)","v":"愛  知"}]
[null,"至学館大学",2140,"森田　祐美","ﾓﾘﾀ ﾕﾐ",1,"愛知県",{"$f":"VLOOKUP($G2141,県名!$B$1:$C$49,2,FALSE)","v":"愛  知"}]
[null,"至学館大学",2141,"横山　綾香","ﾖｺﾔﾏ ｱﾔｶ",1,"三重県",{"$f":"VLOOKUP($G2142,県名!$B$1:$C$49,2,FALSE)","v":"三  重"}]
[null,"至学館大学",2142,"藤井　亜子","ﾌｼﾞｲ ｱｺ",3,"広島県",{"$f":"VLOOKUP($G2143,県名!$B$1:$C$49,2,FALSE)","v":"広　島"}]
[null,"椙山女学園大学",2143,"水野　萌果","ﾐｽﾞﾉ ﾓｶ",4,"愛知県",{"$f":"VLOOKUP($G2144,県名!$B$1:$C$49,2,FALSE)","v":"愛  知"}]
[null,"椙山女学園大学",2144,"宮崎　玲菜","ﾐﾔｻﾞｷ ﾚｲﾅ",4,"愛知県",{"$f":"VLOOKUP($G2145,県名!$B$1:$C$49,2,FALSE)","v":"愛  知"}]
[null,"椙山女学園大学",2145,"山中　今日香","ﾔﾏﾅｶ ｷｮｳｶ",3,"愛知県",{"$f":"VLOOKUP($G2146,県名!$B$1:$C$49,2,FALSE)","v":"愛  知"}]
[null,"椙山女学園大学",2146,"金尾　南実","ｶﾅｵ ﾐﾅﾐ",4,"愛知県",{"$f":"VLOOKUP($G2147,県名!$B$1:$C$49,2,FALSE)","v":"愛  知"}]
[null,"椙山女学園大学",2147,"陶山　朋伽","ｽﾔﾏ ﾄﾓｶ",3,"愛知県",{"$f":"VLOOKUP($G2148,県名!$B$1:$C$49,2,FALSE)","v":"愛  知"}]
[null,"椙山女学園大学",2148,"山佐　氷貴","ﾔﾏｻ ﾋﾀﾞｶ",3,"愛知県",{"$f":"VLOOKUP($G2149,県名!$B$1:$C$49,2,FALSE)","v":"愛  知"}]
[null,"椙山女学園大学",2149,"手島　萌乃","ﾃｼﾏ ﾓｴﾉ",2,"愛知県",{"$f":"VLOOKUP($G2150,県名!$B$1:$C$49,2,FALSE)","v":"愛  知"}]
[null,"椙山女学園大学",2150,"多賀　みこと","ﾀｶﾞ ﾐｺﾄ",2,"愛知県",{"$f":"VLOOKUP($G2151,県名!$B$1:$C$49,2,FALSE)","v":"愛  知"}]
[null,"椙山女学園大学",2151,"小島　一乃","ｺｼﾞﾏ ｶｽﾞﾉ",2,"愛知県",{"$f":"VLOOKUP($G2152,県名!$B$1:$C$49,2,FALSE)","v":"愛  知"}]
[null,"椙山女学園大学",2152,"髙間　汐美","ﾀｶﾏ ｼｵﾐ",2,"愛知県",{"$f":"VLOOKUP($G2153,県名!$B$1:$C$49,2,FALSE)","v":"愛  知"}]
[null,"椙山女学園大学",2153,"加藤　綾菜","ｶﾄｳ ｱﾔﾅ",2,"愛知県",{"$f":"VLOOKUP($G2154,県名!$B$1:$C$49,2,FALSE)","v":"愛  知"}]
[null,"椙山女学園大学",2154,"田口　史佳","ﾀｸﾞﾁ ﾌﾐｶ",2,"愛知県",{"$f":"VLOOKUP($G2155,県名!$B$1:$C$49,2,FALSE)","v":"愛  知"}]
[null,"椙山女学園大学",2155,"青木　恵理","ｱｵｷ ｴﾘ",2,"愛知県",{"$f":"VLOOKUP($G2156,県名!$B$1:$C$49,2,FALSE)","v":"愛  知"}]
[null,"椙山女学園大学",2156,"松浦　咲笑","ﾏﾂｳﾗ ｻｴ",2,"愛知県",{"$f":"VLOOKUP($G2157,県名!$B$1:$C$49,2,FALSE)","v":"愛  知"}]
[null,"静岡県立大学",2157,"馬込　千帆","ﾏｺﾞﾒ ﾁﾎ",4,"静岡県",{"$f":"VLOOKUP($G2158,県名!$B$1:$C$49,2,FALSE)","v":"静  岡"}]
[null,"静岡県立大学",2158,"川口　寿里菜","ｶﾜｸﾞﾁ ｼﾞｭﾘﾅ",2,"静岡県",{"$f":"VLOOKUP($G2159,県名!$B$1:$C$49,2,FALSE)","v":"静  岡"}]
[null,"静岡県立大学",2159,"渡辺　優衣","ﾜﾀﾅﾍﾞ ﾕｲ","M2","静岡県",{"$f":"VLOOKUP($G2160,県名!$B$1:$C$49,2,FALSE)","v":"静  岡"}]
[null,"静岡県立大学",2160,"寺阪　祐紀","ﾃﾗｻｶ ﾕｷ",5,"静岡県",{"$f":"VLOOKUP($G2161,県名!$B$1:$C$49,2,FALSE)","v":"静  岡"}]
[null,"静岡県立大学",2161,"栗崎　涼子","ｸﾘｻｷ ﾘｮｳｺ",2,"静岡県",{"$f":"VLOOKUP($G2162,県名!$B$1:$C$49,2,FALSE)","v":"静  岡"}]
[null,"静岡県立大学",2162,"飯田　有香","ｲｲﾀﾞ ﾕｶ",2,"静岡県",{"$f":"VLOOKUP($G2163,県名!$B$1:$C$49,2,FALSE)","v":"静  岡"}]
[null,"静岡産業大学",2163,"袴田　愛莉菜","ﾊｶﾏﾀ ｱﾘﾅ",2,"静岡県",{"$f":"VLOOKUP($G2164,県名!$B$1:$C$49,2,FALSE)","v":"静  岡"}]
[null,"静岡産業大学",2164,"鈴木　映里奈","ｽｽﾞｷ ｴﾘﾅ",2,"静岡県",{"$f":"VLOOKUP($G2165,県名!$B$1:$C$49,2,FALSE)","v":"静  岡"}]
[null,"静岡産業大学",2165,"鈴木　愛海","ｽｽﾞｷ ｱｲﾐ",2,"静岡県",{"$f":"VLOOKUP($G2166,県名!$B$1:$C$49,2,FALSE)","v":"静  岡"}]
[null,"静岡大学",2166,"市川　くるみ","ｲﾁｶﾜ ｸﾙﾐ",2,"静岡県",{"$f":"VLOOKUP($G2167,県名!$B$1:$C$49,2,FALSE)","v":"静  岡"}]
[null,"静岡大学",2167,"坂本　唯","ｻｶﾓﾄ ﾕｲ",2,"静岡県",{"$f":"VLOOKUP($G2168,県名!$B$1:$C$49,2,FALSE)","v":"静  岡"}]
[null,"静岡大学",2168,"池谷　菜摘","ｲｹﾔ ﾅﾂﾐ",2,"静岡県",{"$f":"VLOOKUP($G2169,県名!$B$1:$C$49,2,FALSE)","v":"静  岡"}]
[null,"静岡大学",2169,"萩原　那緒","ﾊｷﾞﾜﾗ ﾅｵ",2,"静岡県",{"$f":"VLOOKUP($G2170,県名!$B$1:$C$49,2,FALSE)","v":"静  岡"}]
[null,"静岡大学",2170,"藤浪　茉央","ﾌｼﾞﾅﾐ ﾏｵ",2,"静岡県",{"$f":"VLOOKUP($G2171,県名!$B$1:$C$49,2,FALSE)","v":"静  岡"}]
[null,"静岡大学",2171,"鈴木　結花","ｽｽﾞｷ ﾕｳｶ",2,"静岡県",{"$f":"VLOOKUP($G2172,県名!$B$1:$C$49,2,FALSE)","v":"静  岡"}]
[null,"静岡大学",2172,"金森　彩葉","ｶﾅﾓﾘ ｱﾔﾊ",2,"静岡県",{"$f":"VLOOKUP($G2173,県名!$B$1:$C$49,2,FALSE)","v":"静  岡"}]
[null,"静岡大学",2173,"米澤　詩織","ﾖﾈｻﾞﾜ ｼｵﾘ",2,"静岡県",{"$f":"VLOOKUP($G2174,県名!$B$1:$C$49,2,FALSE)","v":"静  岡"}]
[null,"静岡大学",2174,"那須野　実穂","ﾅｽﾉ ﾐﾎ",3,"静岡県",{"$f":"VLOOKUP($G2175,県名!$B$1:$C$49,2,FALSE)","v":"静  岡"}]
[null,"静岡大学",2175,"天羽　桜子","ｱﾓｳ ｻｸﾗｺ",2,"静岡県",{"$f":"VLOOKUP($G2176,県名!$B$1:$C$49,2,FALSE)","v":"静  岡"}]
[null,"中京学院大学",2176,"比嘉　観寿妃","ﾋｶﾞ ﾐｽﾞｷ",2,"岐阜県",{"$f":"VLOOKUP($G2177,県名!$B$1:$C$49,2,FALSE)","v":"岐  阜"}]
[null,"中京学院大学",2177,"林　望乃佳　","ﾊﾔｼ ﾉﾉｶ",2,"岐阜県",{"$f":"VLOOKUP($G2178,県名!$B$1:$C$49,2,FALSE)","v":"岐  阜"}]
[null,"中京学院大学",2178,"西山　遥香","ﾆｼﾔﾏ ﾊﾙｶ",2,"三重県",{"$f":"VLOOKUP($G2179,県名!$B$1:$C$49,2,FALSE)","v":"三  重"}]
[null,"中京学院大学",2179,"佐藤　美里","ｻﾄｳ ﾐｻﾄ",2,"岐阜県",{"$f":"VLOOKUP($G2180,県名!$B$1:$C$49,2,FALSE)","v":"岐  阜"}]
[null,"中京学院大学",2180,"坂下　良奈","ｻｶｼﾀ ﾗﾅ",2,"富山県",{"$f":"VLOOKUP($G2181,県名!$B$1:$C$49,2,FALSE)","v":"富　山"}]
[null,"中京学院大学",2181,"山下　紗季","ﾔﾏｼﾀ ｻｷ",2,"三重県",{"$f":"VLOOKUP($G2182,県名!$B$1:$C$49,2,FALSE)","v":"三  重"}]
[null,"中京学院大学",2182,"辻　有咲","ﾂｼﾞ ｱﾘｻ",1,"三重県",{"$f":"VLOOKUP($G2183,県名!$B$1:$C$49,2,FALSE)","v":"三  重"}]
[null,"中京学院大学",2183,"服部　花奈","ﾊｯﾄﾘ ﾊﾙﾅ",1,"岐阜県",{"$f":"VLOOKUP($G2184,県名!$B$1:$C$49,2,FALSE)","v":"岐  阜"}]
[null,"中京学院大学",2184,"平床　杏実","ﾋﾗﾄｺ ｱﾐ",1,"石川県",{"$f":"VLOOKUP($G2185,県名!$B$1:$C$49,2,FALSE)","v":"石　川"}]
[null,"中京学院大学",2185,"青島　祐実","ｱｵｼﾏ ﾕﾐ",1,"岐阜県",{"$f":"VLOOKUP($G2186,県名!$B$1:$C$49,2,FALSE)","v":"岐  阜"}]
[null,"中京学院大学",2186,"西川　千遥","ﾆｼｶﾜ ﾁﾊﾙ",1,"岐阜県",{"$f":"VLOOKUP($G2187,県名!$B$1:$C$49,2,FALSE)","v":"岐  阜"}]
[null,"中京学院大学",2187,"金城　かれん","ｷﾝｼﾞｮｳ ｶﾚﾝ",1,"沖縄県",{"$f":"VLOOKUP($G2188,県名!$B$1:$C$49,2,FALSE)","v":"沖　縄"}]
[null,"中京学院大学",2188,"安藤　魅羽","ｱﾝﾄﾞｳ ﾐｳ",1,"岐阜県",{"$f":"VLOOKUP($G2189,県名!$B$1:$C$49,2,FALSE)","v":"岐  阜"}]
[null,"中京学院大学",2189,"下原　渚","ｼﾓﾊﾗ ﾅｷﾞｻ",1,"岐阜県",{"$f":"VLOOKUP($G2190,県名!$B$1:$C$49,2,FALSE)","v":"岐  阜"}]
[null,"中京学院大学",2190,"加藤　優果","ｶﾄｳ ﾕｳｶ",1,"岐阜県",{"$f":"VLOOKUP($G2191,県名!$B$1:$C$49,2,FALSE)","v":"岐  阜"}]
[null,"中京大学",2191,"八戸　美朱","ﾔｴ ﾐｱｶ",4,"長崎県",{"$f":"VLOOKUP($G2192,県名!$B$1:$C$49,2,FALSE)","v":"長　崎"}]
[null,"中京大学",2192,"山田　愛海郁","ﾔﾏﾀﾞ ｴﾐｶ",3,"愛知県",{"$f":"VLOOKUP($G2193,県名!$B$1:$C$49,2,FALSE)","v":"愛  知"}]
[null,"中京大学",2193,"北村　愛","ｷﾀﾑﾗ ｱｲ",2,"広島県",{"$f":"VLOOKUP($G2194,県名!$B$1:$C$49,2,FALSE)","v":"広　島"}]
[null,"中京大学",2194,"安藤　もも","ｱﾝﾄﾞｳ ﾓﾓ",4,"広島県",{"$f":"VLOOKUP($G2195,県名!$B$1:$C$49,2,FALSE)","v":"広　島"}]
[null,"中京大学",2195,"岩川　奈々萠","ｲﾜｶﾜ ﾅﾅﾎ",4,"岐阜県",{"$f":"VLOOKUP($G2196,県名!$B$1:$C$49,2,FALSE)","v":"岐  阜"}]
[null,"中京大学",2196,"島田　菜央","ｼﾏﾀﾞ ﾅｵ",4,"三重県",{"$f":"VLOOKUP($G2197,県名!$B$1:$C$49,2,FALSE)","v":"三  重"}]
[null,"中京大学",2197,"古澤　彩果","ﾌﾙｻﾞﾜ ｱﾔｶ",4,"愛知県",{"$f":"VLOOKUP($G2198,県名!$B$1:$C$49,2,FALSE)","v":"愛  知"}]
[null,"中京大学",2198,"榊原　海紗","ｻｶｷﾊﾞﾗ ﾐｻ",4,"愛知県",{"$f":"VLOOKUP($G2199,県名!$B$1:$C$49,2,FALSE)","v":"愛  知"}]
[null,"中京大学",2199,"園田　世玲奈","ｿﾉﾀﾞ ｾﾚﾅ",4,"滋賀県",{"$f":"VLOOKUP($G2200,県名!$B$1:$C$49,2,FALSE)","v":"滋　賀"}]
[null,"中京大学",2200,"水谷　百花","ﾐｽﾞﾀﾆ ﾓﾓｶ",4,"三重県",{"$f":"VLOOKUP($G2201,県名!$B$1:$C$49,2,FALSE)","v":"三  重"}]
[null,"中京大学",2201,"石原　里紗","ｲｼﾊﾗ ﾘｻ",4,"岐阜県",{"$f":"VLOOKUP($G2202,県名!$B$1:$C$49,2,FALSE)","v":"岐  阜"}]
[null,"中京大学",2202,"今泉　友里","ｲﾏｲｽﾞﾐ ﾕﾘ",4,"愛知県",{"$f":"VLOOKUP($G2203,県名!$B$1:$C$49,2,FALSE)","v":"愛  知"}]
[null,"中京大学",2203,"梶　涼夏","ｶｼﾞ ｽｽﾞｶ",4,"徳島県",{"$f":"VLOOKUP($G2204,県名!$B$1:$C$49,2,FALSE)","v":"徳  島"}]
[null,"中京大学",2204,"齊木　杏祐華","ｻｲｷ ｱﾕｶ",4,"鳥取県",{"$f":"VLOOKUP($G2205,県名!$B$1:$C$49,2,FALSE)","v":"鳥　取"}]
[null,"中京大学",2205,"佐藤　愛","ｻﾄｳ ｱｲ",4,"愛知県",{"$f":"VLOOKUP($G2206,県名!$B$1:$C$49,2,FALSE)","v":"愛  知"}]
[null,"中京大学",2206,"白井　真美","ｼﾗｲ ﾏﾐ",4,"新潟県",{"$f":"VLOOKUP($G2207,県名!$B$1:$C$49,2,FALSE)","v":"新　潟"}]
[null,"中京大学",2207,"所　杏子","ﾄｺﾛ ｷｮｳｺ",4,"愛知県",{"$f":"VLOOKUP($G2208,県名!$B$1:$C$49,2,FALSE)","v":"愛  知"}]
[null,"中京大学",2208,"瀧川　寛子","ﾀｷｶﾞﾜ ﾋﾛｺ","M2","大阪府",{"$f":"VLOOKUP($G2209,県名!$B$1:$C$49,2,FALSE)","v":"大　阪"}]
[null,"中京大学",2209,"大久保　祥子","ｵｵｸﾎﾞ ｼｮｳｺ",4,"愛知県",{"$f":"VLOOKUP($G2210,県名!$B$1:$C$49,2,FALSE)","v":"愛  知"}]
[null,"中京大学",2210,"金井　葵","ｶﾅｲ ｱｵｲ",4,"大阪府",{"$f":"VLOOKUP($G2211,県名!$B$1:$C$49,2,FALSE)","v":"大　阪"}]
[null,"中京大学",2211,"金子　春菜","ｶﾈｺ ﾊﾙﾅ",4,"岐阜県",{"$f":"VLOOKUP($G2212,県名!$B$1:$C$49,2,FALSE)","v":"岐  阜"}]
[null,"中京大学",2212,"牧　亜香里","ﾏｷ ｱｶﾘ",4,"愛知県",{"$f":"VLOOKUP($G2213,県名!$B$1:$C$49,2,FALSE)","v":"愛  知"}]
[null,"中京大学",2213,"天城　帆乃香","ｱﾏｷﾞ ﾎﾉｶ",3,"静岡県",{"$f":"VLOOKUP($G2214,県名!$B$1:$C$49,2,FALSE)","v":"静  岡"}]
[null,"中京大学",2214,"近藤　彩加","ｺﾝﾄﾞｳ ｱﾔｶ",3,"愛知県",{"$f":"VLOOKUP($G2215,県名!$B$1:$C$49,2,FALSE)","v":"愛  知"}]
[null,"中京大学",2215,"菅嶋　悠乃","ｽｶﾞｼﾞﾏ ﾊﾙﾉ",3,"愛知県",{"$f":"VLOOKUP($G2216,県名!$B$1:$C$49,2,FALSE)","v":"愛  知"}]
[null,"中京大学",2216,"高橋　郁乃","ﾀｶﾊｼ ｲｸﾉ",3,"愛知県",{"$f":"VLOOKUP($G2217,県名!$B$1:$C$49,2,FALSE)","v":"愛  知"}]
[null,"中京大学",2217,"宮田　伊毬","ﾐﾔﾀﾞ ｲﾏﾘ",3,"富山県",{"$f":"VLOOKUP($G2218,県名!$B$1:$C$49,2,FALSE)","v":"富　山"}]
[null,"中京大学",2218,"宮本　薫","ﾐﾔﾓﾄ ｶｵﾙ",3,"福井県",{"$f":"VLOOKUP($G2219,県名!$B$1:$C$49,2,FALSE)","v":"福　井"}]
[null,"中京大学",2219,"光部　凪沙","ｺｳﾍﾞ ﾅｷﾞｻ",3,"愛知県",{"$f":"VLOOKUP($G2220,県名!$B$1:$C$49,2,FALSE)","v":"愛  知"}]
[null,"中京大学",2220,"権田　結希","ｺﾞﾝﾀﾞ ﾕｳｷ",3,"愛知県",{"$f":"VLOOKUP($G2221,県名!$B$1:$C$49,2,FALSE)","v":"愛  知"}]
[null,"中京大学",2221,"杉浦　穂乃加","ｽｷﾞｳﾗ ﾎﾉｶ",3,"愛知県",{"$f":"VLOOKUP($G2222,県名!$B$1:$C$49,2,FALSE)","v":"愛  知"}]
[null,"中京大学",2222,"橋田　梨乃","ﾊｼﾀﾞ ﾘﾉ",3,"高知県",{"$f":"VLOOKUP($G2223,県名!$B$1:$C$49,2,FALSE)","v":"高　知"}]
[null,"中京大学",2223,"今村　瑞穂","ｲﾏﾑﾗ ﾐｽﾞﾎ",3,"熊本県",{"$f":"VLOOKUP($G2224,県名!$B$1:$C$49,2,FALSE)","v":"熊　本"}]
[null,"中京大学",2224,"川口　叙樹","ｶﾜｸﾞﾁ ﾐﾂｷ",3,"兵庫県",{"$f":"VLOOKUP($G2225,県名!$B$1:$C$49,2,FALSE)","v":"兵　庫"}]
[null,"中京大学",2225,"髙木　優子","ﾀｶｷ ﾕｳｺ",3,"広島県",{"$f":"VLOOKUP($G2226,県名!$B$1:$C$49,2,FALSE)","v":"広　島"}]
[null,"中京大学",2226,"鶴井　美里","ﾂﾙｲ ﾐｻﾄ",3,"山口県",{"$f":"VLOOKUP($G2227,県名!$B$1:$C$49,2,FALSE)","v":"山　口"}]
[null,"中京大学",2227,"森川　絵美子","ﾓﾘｶﾜ ｴﾐｺ",3,"新潟県",{"$f":"VLOOKUP($G2228,県名!$B$1:$C$49,2,FALSE)","v":"新　潟"}]
[null,"中京大学",2228,"飯嶌　あかり","ｲｲｼﾞﾏ ｱｶﾘ",3,"三重県",{"$f":"VLOOKUP($G2229,県名!$B$1:$C$49,2,FALSE)","v":"三  重"}]
[null,"中京大学",2229,"澤田　華慧","ｻﾜﾀﾞ ﾊﾅｴ",3,"滋賀県",{"$f":"VLOOKUP($G2230,県名!$B$1:$C$49,2,FALSE)","v":"滋　賀"}]
[null,"中京大学",2230,"佐藤　百花","ｻﾄｳ ﾓﾓｶ",3,"愛知県",{"$f":"VLOOKUP($G2231,県名!$B$1:$C$49,2,FALSE)","v":"愛  知"}]
[null,"中京大学",2231,"山本　実友菜","ﾔﾏﾓﾄ ﾐﾕﾅ",3,"愛知県",{"$f":"VLOOKUP($G2232,県名!$B$1:$C$49,2,FALSE)","v":"愛  知"}]
[null,"中京大学",2232,"明星　光","ｱｹﾎﾞｼ ﾋｶﾙ",2,"愛知県",{"$f":"VLOOKUP($G2233,県名!$B$1:$C$49,2,FALSE)","v":"愛  知"}]
[null,"中京大学",2233,"齊藤　彩佳","ｻｲﾄｳ ｱﾔｶ",2,"滋賀県",{"$f":"VLOOKUP($G2234,県名!$B$1:$C$49,2,FALSE)","v":"滋　賀"}]
[null,"中京大学",2234,"玉木　理菜","ﾀﾏｷ ﾘﾅ",2,"三重県",{"$f":"VLOOKUP($G2235,県名!$B$1:$C$49,2,FALSE)","v":"三  重"}]
[null,"中京大学",2235,"田村　芽生","ﾀﾑﾗ ﾒｲ",2,"高知県",{"$f":"VLOOKUP($G2236,県名!$B$1:$C$49,2,FALSE)","v":"高　知"}]
[null,"中京大学",2236,"長屋　美月","ﾅｶﾞﾔ ﾐﾂｷ",2,"愛知県",{"$f":"VLOOKUP($G2237,県名!$B$1:$C$49,2,FALSE)","v":"愛  知"}]
[null,"中京大学",2237,"牧　すずな","ﾏｷ ｽｽﾞﾅ",2,"兵庫県",{"$f":"VLOOKUP($G2238,県名!$B$1:$C$49,2,FALSE)","v":"兵　庫"}]
[null,"中京大学",2238,"大谷　菜々子","ｵｵﾀﾆ ﾅﾅｺ",2,"静岡県",{"$f":"VLOOKUP($G2239,県名!$B$1:$C$49,2,FALSE)","v":"静  岡"}]
[null,"中京大学",2239,"木下　真由香","ｷﾉｼﾀ ﾏﾕｶ",2,"愛知県",{"$f":"VLOOKUP($G2240,県名!$B$1:$C$49,2,FALSE)","v":"愛  知"}]
[null,"中京大学",2240,"後藤　梨奈","ｺﾞﾄｳ ﾘﾅ",2,"愛知県",{"$f":"VLOOKUP($G2241,県名!$B$1:$C$49,2,FALSE)","v":"愛  知"}]
[null,"中京大学",2241,"迫間　香葉","ｻｺﾏ ｶﾖ",2,"愛知県",{"$f":"VLOOKUP($G2242,県名!$B$1:$C$49,2,FALSE)","v":"愛  知"}]
[null,"中京大学",2242,"豊永　香音","ﾄﾖﾅｶﾞ ｶﾉﾝ",2,"愛知県",{"$f":"VLOOKUP($G2243,県名!$B$1:$C$49,2,FALSE)","v":"愛  知"}]
[null,"中京大学",2243,"夏目　蒼衣","ﾅﾂﾒ ｱｵｲ",2,"愛知県",{"$f":"VLOOKUP($G2244,県名!$B$1:$C$49,2,FALSE)","v":"愛  知"}]
[null,"中京大学",2244,"本間　汐音","ﾎﾝﾏ ｼｵﾝ",2,"新潟県",{"$f":"VLOOKUP($G2245,県名!$B$1:$C$49,2,FALSE)","v":"新　潟"}]
[null,"中京大学",2245,"水野　桃奈","ﾐｽﾞﾉ ﾓﾓﾅ",2,"愛知県",{"$f":"VLOOKUP($G2246,県名!$B$1:$C$49,2,FALSE)","v":"愛  知"}]
[null,"中京大学",2246,"矢来　舞香","ﾔｷﾞ ﾏｲｶ",2,"兵庫県",{"$f":"VLOOKUP($G2247,県名!$B$1:$C$49,2,FALSE)","v":"兵　庫"}]
[null,"中京大学",2247,"矢島　風香","ﾔｼﾞﾏ ﾌｳｶ",2,"愛知県",{"$f":"VLOOKUP($G2248,県名!$B$1:$C$49,2,FALSE)","v":"愛  知"}]
[null,"中京大学",2248,"吉村　奈々","ﾖｼﾑﾗ ﾅﾅ",2,"福井県",{"$f":"VLOOKUP($G2249,県名!$B$1:$C$49,2,FALSE)","v":"福　井"}]
[null,"中京大学",2249,"糟谷　友里","ｶｽﾔ ﾕﾘ",2,"愛知県",{"$f":"VLOOKUP($G2250,県名!$B$1:$C$49,2,FALSE)","v":"愛  知"}]
[null,"中京大学",2250,"髙田　彩佳","ﾀｶﾀ ｱﾔｶ",2,"愛知県",{"$f":"VLOOKUP($G2251,県名!$B$1:$C$49,2,FALSE)","v":"愛  知"}]
[null,"中京大学",2251,"富田　理子","ﾄﾐﾀ ﾘｺ",2,"富山県",{"$f":"VLOOKUP($G2252,県名!$B$1:$C$49,2,FALSE)","v":"富　山"}]
[null,"中京大学",2252,"南部　珠璃","ﾅﾝﾌﾞ ｼﾞｭﾘ",2,"滋賀県",{"$f":"VLOOKUP($G2253,県名!$B$1:$C$49,2,FALSE)","v":"滋　賀"}]
[null,"中京大学",2253,"石本　瞳","ｲｼﾓﾄ ﾋﾄﾐ",2,"愛知県",{"$f":"VLOOKUP($G2254,県名!$B$1:$C$49,2,FALSE)","v":"愛  知"}]
[null,"中京大学",2254,"浦田　晏那","ｳﾗﾀ ｱﾝﾅ",2,"三重県",{"$f":"VLOOKUP($G2255,県名!$B$1:$C$49,2,FALSE)","v":"三  重"}]
[null,"中京大学",2255,"古藤　寧々","ｺﾄｳ ﾈﾈ",2,"長崎県",{"$f":"VLOOKUP($G2256,県名!$B$1:$C$49,2,FALSE)","v":"長　崎"}]
[null,"中京大学",2256,"藤本　咲良","ﾌｼﾞﾓﾄ ｻﾗ",2,"兵庫県",{"$f":"VLOOKUP($G2257,県名!$B$1:$C$49,2,FALSE)","v":"兵　庫"}]
[null,"中京大学",2257,"堀田　葉月","ﾎﾘﾀ ﾊﾂｷ",2,"熊本県",{"$f":"VLOOKUP($G2258,県名!$B$1:$C$49,2,FALSE)","v":"熊　本"}]
[null,"中京大学",2258,"増田　奈緒","ﾏｽﾀﾞ ﾅｵ",2,"静岡県",{"$f":"VLOOKUP($G2259,県名!$B$1:$C$49,2,FALSE)","v":"静  岡"}]
[null,"中京大学",2259,"清水　はる","ｼﾐｽﾞ ﾊﾙ",2,"愛知県",{"$f":"VLOOKUP($G2260,県名!$B$1:$C$49,2,FALSE)","v":"愛  知"}]
[null,"中京大学",2260,"千野　美幸","ﾁﾉ ﾐﾕｷ",2,"岐阜県",{"$f":"VLOOKUP($G2261,県名!$B$1:$C$49,2,FALSE)","v":"岐  阜"}]
[null,"中京大学",2261,"河合　裕野","ｶﾜｲ ﾋﾛﾉ",2,"愛知県",{"$f":"VLOOKUP($G2262,県名!$B$1:$C$49,2,FALSE)","v":"愛  知"}]
[null,"中京大学",2262,"立見　真央","ﾀﾂﾐ ﾏｵ",1,"静岡県",{"$f":"VLOOKUP($G2263,県名!$B$1:$C$49,2,FALSE)","v":"静  岡"}]
[null,"中京大学",2263,"近藤　沙南","ｺﾝﾄﾞｳ ｻﾅ",1,"愛知県",{"$f":"VLOOKUP($G2264,県名!$B$1:$C$49,2,FALSE)","v":"愛  知"}]
[null,"中京大学",2264,"端山　陽向","ﾊﾔﾏ ﾋﾅﾀ",1,"大阪府",{"$f":"VLOOKUP($G2265,県名!$B$1:$C$49,2,FALSE)","v":"大　阪"}]
[null,"中京大学",2265,"伊藤　瑠莉彩","ｲﾄｳ ﾙﾘｱ",1,"愛知県",{"$f":"VLOOKUP($G2266,県名!$B$1:$C$49,2,FALSE)","v":"愛  知"}]
[null,"中京大学",2266,"猪岡　真帆","ｲｵｶ ﾏﾎ",1,"三重県",{"$f":"VLOOKUP($G2267,県名!$B$1:$C$49,2,FALSE)","v":"三  重"}]
[null,"中京大学",2267,"平野　栞菜","ﾋﾗﾉ ｶﾝﾅ",1,"愛知県",{"$f":"VLOOKUP($G2268,県名!$B$1:$C$49,2,FALSE)","v":"愛  知"}]
[null,"中京大学",2268,"神谷　優希","ｶﾐﾔ ﾕｳｷ",1,"静岡県",{"$f":"VLOOKUP($G2269,県名!$B$1:$C$49,2,FALSE)","v":"静  岡"}]
[null,"中京大学",2269,"髙瀬　唯奈","ﾀｶｾ ﾕｲﾅ",1,"岐阜県",{"$f":"VLOOKUP($G2270,県名!$B$1:$C$49,2,FALSE)","v":"岐  阜"}]
[null,"中京大学",2270,"柴﨑　五月","ｼﾊﾞｻｷ ﾒｲ",1,"愛知県",{"$f":"VLOOKUP($G2271,県名!$B$1:$C$49,2,FALSE)","v":"愛  知"}]
[null,"中京大学",2271,"鈴木　朱音","ｽｽﾞｷ ｱｶﾈ",1,"愛知県",{"$f":"VLOOKUP($G2272,県名!$B$1:$C$49,2,FALSE)","v":"愛  知"}]
[null,"中京大学",2272,"永島　美紀","ﾅｶﾞｼﾏ ﾐｷ",1,"岐阜県",{"$f":"VLOOKUP($G2273,県名!$B$1:$C$49,2,FALSE)","v":"岐  阜"}]
[null,"中京大学",2273,"富岡　実乃梨","ﾄﾐｵｶ ﾐﾉﾘ",1,"宮崎県",{"$f":"VLOOKUP($G2274,県名!$B$1:$C$49,2,FALSE)","v":"宮　崎"}]
[null,"中京大学",2274,"八木　明梨","ﾔｷﾞ ｱｶﾘ",1,"愛知県",{"$f":"VLOOKUP($G2275,県名!$B$1:$C$49,2,FALSE)","v":"愛  知"}]
[null,"中部学院大学",2275,"中野　恵","ﾅｶﾉ ﾒｸﾞﾐ",4,"岐阜県",{"$f":"VLOOKUP($G2276,県名!$B$1:$C$49,2,FALSE)","v":"岐  阜"}]
[null,"中部学院大学",2276,"橋　あぐり","ﾊｼ ｱｸﾞﾘ",1,"富山県",{"$f":"VLOOKUP($G2277,県名!$B$1:$C$49,2,FALSE)","v":"富　山"}]
[null,"中部学院大学",2277,"山田　美慶","ﾔﾏﾀﾞ ﾐﾉﾘ",1,"新潟県",{"$f":"VLOOKUP($G2278,県名!$B$1:$C$49,2,FALSE)","v":"新　潟"}]
[null,"中部大学",2278,"名波　早百合","ﾅﾅﾐ ｻﾕﾘ",4,"愛知県",{"$f":"VLOOKUP($G2279,県名!$B$1:$C$49,2,FALSE)","v":"愛  知"}]
[null,"中部大学",2279,"志村　和香奈","ｼﾑﾗ ﾜｶﾅ",3,"愛知県",{"$f":"VLOOKUP($G2280,県名!$B$1:$C$49,2,FALSE)","v":"愛  知"}]
[null,"中部大学",2280,"宮田　早記","ﾐﾔﾀ ｻｷ",3,"愛知県",{"$f":"VLOOKUP($G2281,県名!$B$1:$C$49,2,FALSE)","v":"愛  知"}]
[null,"中部大学",2281,"板倉　左奈","ｲﾀｸﾗ ｻﾅ",2,"愛知県",{"$f":"VLOOKUP($G2282,県名!$B$1:$C$49,2,FALSE)","v":"愛  知"}]
[null,"中部大学",2282,"外山　明日夏","ﾄﾔﾏ ｱｽｶ",2,"愛知県",{"$f":"VLOOKUP($G2283,県名!$B$1:$C$49,2,FALSE)","v":"愛  知"}]
[null,"中部大学",2283,"中野　華映","ﾅｶﾉ ﾊﾅｴ",2,"愛知県",{"$f":"VLOOKUP($G2284,県名!$B$1:$C$49,2,FALSE)","v":"愛  知"}]
[null,"中部大学",2284,"森　野々花","ﾓﾘ ﾉﾉｶ",2,"愛知県",{"$f":"VLOOKUP($G2285,県名!$B$1:$C$49,2,FALSE)","v":"愛  知"}]
[null,"東海学園大学",2285,"勝田　萌","ｶﾂﾀﾞ ﾓｴ",4,"愛知県",{"$f":"VLOOKUP($G2286,県名!$B$1:$C$49,2,FALSE)","v":"愛  知"}]
[null,"東海学園大学",2286,"森田　冴香","ﾓﾘﾀ ｻｴｶ",4,"愛知県",{"$f":"VLOOKUP($G2287,県名!$B$1:$C$49,2,FALSE)","v":"愛  知"}]
[null,"東海学園大学",2287,"浅野　紗弥香","ｱｻﾉ ｻﾔｶ",4,"岐阜県",{"$f":"VLOOKUP($G2288,県名!$B$1:$C$49,2,FALSE)","v":"岐  阜"}]
[null,"東海学園大学",2288,"伊藤　南侑","ｲﾄｳ ﾅﾕ",4,"愛知県",{"$f":"VLOOKUP($G2289,県名!$B$1:$C$49,2,FALSE)","v":"愛  知"}]
[null,"東海学園大学",2289,"吉田　瑠那","ﾖｼﾀﾞ ﾙﾅ",3,"岐阜県",{"$f":"VLOOKUP($G2290,県名!$B$1:$C$49,2,FALSE)","v":"岐  阜"}]
[null,"東海学園大学",2290,"前田　乙乃","ﾏｴﾀﾞ ｵﾄﾉ",3,"愛知県",{"$f":"VLOOKUP($G2291,県名!$B$1:$C$49,2,FALSE)","v":"愛  知"}]
[null,"東海学園大学",2291,"祖父江　真衣","ｿﾌﾞｴ ﾏｲ",3,"愛知県",{"$f":"VLOOKUP($G2292,県名!$B$1:$C$49,2,FALSE)","v":"愛  知"}]
[null,"東海学園大学",2292,"大坪　恵","ｵｵﾂﾎﾞ ﾒｸﾞﾐ",3,"岐阜県",{"$f":"VLOOKUP($G2293,県名!$B$1:$C$49,2,FALSE)","v":"岐  阜"}]
[null,"東海学園大学",2293,"髙橋　未奈","ﾀｶﾊｼ ﾐﾅ",3,"愛知県",{"$f":"VLOOKUP($G2294,県名!$B$1:$C$49,2,FALSE)","v":"愛  知"}]
[null,"東海学園大学",2294,"浅井　瑞貴","ｱｻｲ ﾐｽﾞｷ",3,"愛知県",{"$f":"VLOOKUP($G2295,県名!$B$1:$C$49,2,FALSE)","v":"愛  知"}]
[null,"東海学園大学",2295,"宮下　優","ﾐﾔｼﾀ ﾕｳｶ",2,"愛知県",{"$f":"VLOOKUP($G2296,県名!$B$1:$C$49,2,FALSE)","v":"愛  知"}]
[null,"東海学園大学",2296,"蜷川　真由","ﾆﾅｶﾞﾜ ﾏﾕ",2,"愛知県",{"$f":"VLOOKUP($G2297,県名!$B$1:$C$49,2,FALSE)","v":"愛  知"}]
[null,"東海学園大学",2297,"安藤　優美子","ｱﾝﾄﾞｳ ﾕﾐｺ",2,"岐阜県",{"$f":"VLOOKUP($G2298,県名!$B$1:$C$49,2,FALSE)","v":"岐  阜"}]
[null,"東海学園大学",2298,"山本　樹音","ﾔﾏﾓﾄ ｼﾞｭﾈ",2,"愛知県",{"$f":"VLOOKUP($G2299,県名!$B$1:$C$49,2,FALSE)","v":"愛  知"}]
[null,"東海学園大学",2299,"中内　彩虹","ﾅｶｳﾁ ｱﾔｺ",2,"愛知県",{"$f":"VLOOKUP($G2300,県名!$B$1:$C$49,2,FALSE)","v":"愛  知"}]
[null,"東海学園大学",2300,"松尾　有紗","ﾏﾂｵ ｱﾘｻ",2,"愛知県",{"$f":"VLOOKUP($G2301,県名!$B$1:$C$49,2,FALSE)","v":"愛  知"}]
[null,"東海学園大学",2301,"神谷　亜依","ｶﾐﾔ ｱｲ",2,"愛知県",{"$f":"VLOOKUP($G2302,県名!$B$1:$C$49,2,FALSE)","v":"愛  知"}]
[null,"東海学園大学",2302,"宍戸　萌百伽","ｼｼﾄﾞ ﾓﾓｶ",2,"愛知県",{"$f":"VLOOKUP($G2303,県名!$B$1:$C$49,2,FALSE)","v":"愛  知"}]
[null,"南山大学",2303,"久米　陽奏子","ｸﾒ ﾋﾅｺ",2,"愛知県",{"$f":"VLOOKUP($G2304,県名!$B$1:$C$49,2,FALSE)","v":"愛  知"}]
[null,"南山大学",2304,"岩渕　史奈","ｲﾜﾌﾞﾁ ﾌﾐﾅ",4,"愛知県",{"$f":"VLOOKUP($G2305,県名!$B$1:$C$49,2,FALSE)","v":"愛  知"}]
[null,"南山大学",2305,"横井　美恵","ﾖｺｲ ﾖｼｴ",4,"愛知県",{"$f":"VLOOKUP($G2306,県名!$B$1:$C$49,2,FALSE)","v":"愛  知"}]
[null,"南山大学",2306,"福永　夏澄","ﾌｸﾅｶﾞ ｶｽﾐ",4,"愛知県",{"$f":"VLOOKUP($G2307,県名!$B$1:$C$49,2,FALSE)","v":"愛  知"}]
[null,"南山大学",2307,"加藤　亜季","ｶﾄｳ ｱｷ",3,"愛知県",{"$f":"VLOOKUP($G2308,県名!$B$1:$C$49,2,FALSE)","v":"愛  知"}]
[null,"南山大学",2308,"山田　桃子","ﾔﾏﾀﾞ ﾓﾓｺ",2,"愛知県",{"$f":"VLOOKUP($G2309,県名!$B$1:$C$49,2,FALSE)","v":"愛  知"}]
[null,"南山大学",2309,"金田　弥子","ｶﾅﾀﾞ ﾔｺ",4,"愛知県",{"$f":"VLOOKUP($G2310,県名!$B$1:$C$49,2,FALSE)","v":"愛  知"}]
[null,"南山大学",2310,"山﨑　幸音","ﾔﾏｻｷ ﾕｷﾈ",4,"愛知県",{"$f":"VLOOKUP($G2311,県名!$B$1:$C$49,2,FALSE)","v":"愛  知"}]
[null,"南山大学",2311,"髙石　真央","ﾀｶｲｼ ﾏｵ",3,"愛知県",{"$f":"VLOOKUP($G2312,県名!$B$1:$C$49,2,FALSE)","v":"愛  知"}]
[null,"南山大学",2312,"柴田　寛子","ｼﾊﾞﾀ ﾋﾛｺ",3,"愛知県",{"$f":"VLOOKUP($G2313,県名!$B$1:$C$49,2,FALSE)","v":"愛  知"}]
[null,"南山大学",2313,"飯塚　寿音","ｲｲﾂﾞｶ ﾋｻﾈ",2,"愛知県",{"$f":"VLOOKUP($G2314,県名!$B$1:$C$49,2,FALSE)","v":"愛  知"}]
[null,"南山大学",2314,"山本　彩加","ﾔﾏﾓﾄ ｱﾔｶ",2,"愛知県",{"$f":"VLOOKUP($G2315,県名!$B$1:$C$49,2,FALSE)","v":"愛  知"}]
[null,"浜松医科大学",2315,"鈴木　水悠","ｽｽﾞｷ ﾐﾕｳ",3,"静岡県",{"$f":"VLOOKUP($G2316,県名!$B$1:$C$49,2,FALSE)","v":"静  岡"}]
[null,"浜松医科大学",2316,"水島　恵","ﾐｽﾞｼﾏ ﾒｸﾞﾐ",4,"静岡県",{"$f":"VLOOKUP($G2317,県名!$B$1:$C$49,2,FALSE)","v":"静  岡"}]
[null,"名古屋学院大学",2317,"葛谷　恵利","ｸｽﾞﾔ ｴﾘ",4,"愛知県",{"$f":"VLOOKUP($G2318,県名!$B$1:$C$49,2,FALSE)","v":"愛  知"}]
[null,"名古屋学院大学",2318,"久保田　千尋","ｸﾎﾞﾀ ﾁﾋﾛ",4,"愛知県",{"$f":"VLOOKUP($G2319,県名!$B$1:$C$49,2,FALSE)","v":"愛  知"}]
[null,"名古屋学院大学",2319,"林　祐子","ﾊﾔｼ ﾕｳｺ",4,"愛知県",{"$f":"VLOOKUP($G2320,県名!$B$1:$C$49,2,FALSE)","v":"愛  知"}]
[null,"名古屋学院大学",2320,"山田　若奈","ﾔﾏﾀﾞ ﾜｶﾅ",4,"岐阜県",{"$f":"VLOOKUP($G2321,県名!$B$1:$C$49,2,FALSE)","v":"岐  阜"}]
[null,"名古屋学院大学",2321,"木邨　天香","ｷﾑﾗ ﾃﾝｶ",3,"愛知県",{"$f":"VLOOKUP($G2322,県名!$B$1:$C$49,2,FALSE)","v":"愛  知"}]
[null,"名古屋学院大学",2322,"直井　美紗子","ﾅｵｲ ﾐｻｺ",3,"岐阜県",{"$f":"VLOOKUP($G2323,県名!$B$1:$C$49,2,FALSE)","v":"岐  阜"}]
[null,"名古屋学院大学",2323,"尾関　祐子","ｵｾﾞｷ ﾕｳｺ",2,"愛知県",{"$f":"VLOOKUP($G2324,県名!$B$1:$C$49,2,FALSE)","v":"愛  知"}]
[null,"名古屋学院大学",2324,"桜井　菜緒","ｻｸﾗｲ ﾅｵ",2,"長野県",{"$f":"VLOOKUP($G2325,県名!$B$1:$C$49,2,FALSE)","v":"長  野"}]
[null,"名古屋学院大学",2325,"田嶋　詩","ﾀｼﾞﾏ ｳﾀ",2,"静岡県",{"$f":"VLOOKUP($G2326,県名!$B$1:$C$49,2,FALSE)","v":"静  岡"}]
[null,"名古屋市立大学",2326,"小泉　加緒莉","ｺｲｽﾞﾐ ｶｵﾘ",2,"岐阜県",{"$f":"VLOOKUP($G2327,県名!$B$1:$C$49,2,FALSE)","v":"岐  阜"}]
[null,"名古屋市立大学",2327,"清水　夏波","ｼﾐｽﾞ ﾅﾅﾐ",2,"愛知県",{"$f":"VLOOKUP($G2328,県名!$B$1:$C$49,2,FALSE)","v":"愛  知"}]
[null,"名古屋女子大学",2328,"木俣　結子","ｷﾏﾀ ﾕｲｺ",2,"愛知県",{"$f":"VLOOKUP($G2329,県名!$B$1:$C$49,2,FALSE)","v":"愛  知"}]
[null,"名古屋女子大学",2329,"三浦　紗瑛","ﾐｳﾗ ｻｴ",2,"三重県",{"$f":"VLOOKUP($G2330,県名!$B$1:$C$49,2,FALSE)","v":"三  重"}]
[null,"名古屋女子大学",2330,"藤田　ゆうか","ﾌｼﾞﾀ ﾕｳｶ",2,"静岡県",{"$f":"VLOOKUP($G2331,県名!$B$1:$C$49,2,FALSE)","v":"静  岡"}]
[null,"名古屋大学",2331,"磯貝　萌々子","ｲｿｶﾞｲ ﾓﾓｺ",3,"愛知県",{"$f":"VLOOKUP($G2332,県名!$B$1:$C$49,2,FALSE)","v":"愛  知"}]
[null,"名古屋大学",2332,"吉田　有美香","ﾖｼﾀﾞ ﾕﾐｶ",3,"愛知県",{"$f":"VLOOKUP($G2333,県名!$B$1:$C$49,2,FALSE)","v":"愛  知"}]
[null,"名古屋大学",2333,"小笠原　香苗","ｵｶﾞｻﾜﾗ ｶﾅｴ","M1","愛知県",{"$f":"VLOOKUP($G2334,県名!$B$1:$C$49,2,FALSE)","v":"愛  知"}]
[null,"名古屋大学",2334,"田中　里歩","ﾀﾅｶ ﾘﾎ",4,"三重県",{"$f":"VLOOKUP($G2335,県名!$B$1:$C$49,2,FALSE)","v":"三  重"}]
[null,"名古屋大学",2335,"中川　晴子","ﾅｶｶﾞﾜ ﾊﾙｺ",3,"愛知県",{"$f":"VLOOKUP($G2336,県名!$B$1:$C$49,2,FALSE)","v":"愛  知"}]
[null,"名古屋大学",2336,"丹羽　遥香","ﾆﾜ ﾊﾙｶ",3,"三重県",{"$f":"VLOOKUP($G2337,県名!$B$1:$C$49,2,FALSE)","v":"三  重"}]
[null,"名古屋大学",2337,"長谷川　詩歩","ﾊｾｶﾞﾜ ｼﾎ",3,"愛知県",{"$f":"VLOOKUP($G2338,県名!$B$1:$C$49,2,FALSE)","v":"愛  知"}]
[null,"名古屋大学",2338,"伊藤　夢乃","ｲﾄｳ ﾕﾒﾉ",2,"愛知県",{"$f":"VLOOKUP($G2339,県名!$B$1:$C$49,2,FALSE)","v":"愛  知"}]
[null,"名古屋大学",2339,"川邉　のぞみ","ｶﾜﾍﾞ ﾉｿﾞﾐ",2,"岐阜県",{"$f":"VLOOKUP($G2340,県名!$B$1:$C$49,2,FALSE)","v":"岐  阜"}]
[null,"名古屋大学",2340,"近藤　由梨","ｺﾝﾄﾞｳ ﾕﾘ",2,"愛知県",{"$f":"VLOOKUP($G2341,県名!$B$1:$C$49,2,FALSE)","v":"愛  知"}]
[null,"名古屋大学",2341,"斉藤　栞","ｻｲﾄｳ ｼｵﾘ",2,"愛知県",{"$f":"VLOOKUP($G2342,県名!$B$1:$C$49,2,FALSE)","v":"愛  知"}]
[null,"名古屋大学",2342,"徳永　菜津美","ﾄｸﾅｶﾞ ﾅﾂﾐ",2,"愛知県",{"$f":"VLOOKUP($G2343,県名!$B$1:$C$49,2,FALSE)","v":"愛  知"}]
[null,"名城大学",2343,"青木　和","ｱｵｷ ﾉﾄﾞｶ",4,"岐阜県",{"$f":"VLOOKUP($G2344,県名!$B$1:$C$49,2,FALSE)","v":"岐  阜"}]
[null,"名城大学",2344,"玉城　かんな","ﾀﾏｷ ｶﾝﾅ",4,"長野県",{"$f":"VLOOKUP($G2345,県名!$B$1:$C$49,2,FALSE)","v":"長  野"}]
[null,"名城大学",2345,"松浦　佳南","ﾏﾂｳﾗ ｶﾅ",4,"静岡県",{"$f":"VLOOKUP($G2346,県名!$B$1:$C$49,2,FALSE)","v":"静  岡"}]
[null,"名城大学",2346,"黒川　ももか","ｸﾛｶﾜ ﾓﾓｶ",3,"静岡県",{"$f":"VLOOKUP($G2347,県名!$B$1:$C$49,2,FALSE)","v":"静  岡"}]
[null,"名城大学",2347,"塩崎　葵","ｼｵｻﾞｷ ｱｵｲ",3,"長野県",{"$f":"VLOOKUP($G2348,県名!$B$1:$C$49,2,FALSE)","v":"長  野"}]
[null,"名城大学",2348,"志和　真純","ｼﾜ ﾏｽﾐ",3,"岩手県",{"$f":"VLOOKUP($G2349,県名!$B$1:$C$49,2,FALSE)","v":"岩  手"}]
[null,"名城大学",2349,"徳永　香子","ﾄｸﾅｶﾞ ｷｮｳｺ",3,"長崎県",{"$f":"VLOOKUP($G2350,県名!$B$1:$C$49,2,FALSE)","v":"長　崎"}]
[null,"名城大学",2350,"向井　智香","ﾑｶｲ ﾁｶ",3,"愛知県",{"$f":"VLOOKUP($G2351,県名!$B$1:$C$49,2,FALSE)","v":"愛  知"}]
[null,"名城大学",2351,"加世田　梨花","ｶｾﾀﾞ ﾘｶ",2,"千葉県",{"$f":"VLOOKUP($G2352,県名!$B$1:$C$49,2,FALSE)","v":"千　葉"}]
[null,"名城大学",2352,"加藤　綾華","ｶﾄｳ ｱﾔｶ",2,"三重県",{"$f":"VLOOKUP($G2353,県名!$B$1:$C$49,2,FALSE)","v":"三  重"}]
[null,"名城大学",2353,"小森　星七","ｺﾓﾘ ｾﾅ",2,"長崎県",{"$f":"VLOOKUP($G2354,県名!$B$1:$C$49,2,FALSE)","v":"長　崎"}]
[null,"名城大学",2354,"井上　葉南","ｲﾉｳｴ ﾊﾅ",1,"愛知県",{"$f":"VLOOKUP($G2355,県名!$B$1:$C$49,2,FALSE)","v":"愛  知"}]
[null,"名城大学",2355,"鴨志田　海来","ｶﾓｼﾀﾞ ﾐﾗｲ",1,"静岡県",{"$f":"VLOOKUP($G2356,県名!$B$1:$C$49,2,FALSE)","v":"静  岡"}]
[null,"名城大学",2356,"近藤　望未","ｺﾝﾄﾞｳ ﾉｿﾞﾐ",1,"愛知県",{"$f":"VLOOKUP($G2357,県名!$B$1:$C$49,2,FALSE)","v":"愛  知"}]
[null,"名城大学",2357,"高松　智美ムセンビ","ﾀｶﾏﾂ ﾄﾓﾐﾑｾﾝﾋﾞ",1,"大阪府",{"$f":"VLOOKUP($G2358,県名!$B$1:$C$49,2,FALSE)","v":"大　阪"}]
[null,"名城大学",2358,"藤ケ森　美晴","ﾌｼﾞｶﾞﾓﾘ ﾐﾊﾙ",1,"青森県",{"$f":"VLOOKUP($G2359,県名!$B$1:$C$49,2,FALSE)","v":"青　森"}]
[null,"名城大学",2359,"松澤　綾音","ﾏﾂｻﾞﾜ ｱﾔﾈ",1,"長野県",{"$f":"VLOOKUP($G2360,県名!$B$1:$C$49,2,FALSE)","v":"長  野"}]
[null,"名城大学",2360,"水澤　唯菜","ﾐｽﾞｻﾜ ﾕﾅ",1,"新潟県",{"$f":"VLOOKUP($G2361,県名!$B$1:$C$49,2,FALSE)","v":"新　潟"}]
[null,"名城大学",2361,"山口　真由子","ﾔﾏｸﾞﾁ ﾏﾕｺ",1,"静岡県",{"$f":"VLOOKUP($G2362,県名!$B$1:$C$49,2,FALSE)","v":"静  岡"}]
[null,"名城大学",2362,"和田　有菜","ﾜﾀﾞ ﾕﾅ",1,"長野県",{"$f":"VLOOKUP($G2363,県名!$B$1:$C$49,2,FALSE)","v":"長  野"}]
[null,"名城大学",2363,"中島　亜衣","ﾅｶｼﾏ ｱｲ",4,"愛知県",{"$f":"VLOOKUP($G2364,県名!$B$1:$C$49,2,FALSE)","v":"愛  知"}]
[null,"鈴鹿工業高等専門学校",2364,"中出　里央","ﾅｶﾃﾞ ﾘｵ",5,"三重県",{"$f":"VLOOKUP($G2365,県名!$B$1:$C$49,2,FALSE)","v":"三  重"}]
[null,"鈴鹿工業高等専門学校",2365,"中川　優芽","ﾅｶｶﾞﾜ ﾕﾒ",4,"三重県",{"$f":"VLOOKUP($G2366,県名!$B$1:$C$49,2,FALSE)","v":"三  重"}]
[null,"日本福祉大学",2366,"井内　月野","ｲｳﾁ ﾂｷﾉ",2,"愛知県",{"$f":"VLOOKUP($G2367,県名!$B$1:$C$49,2,FALSE)","v":"愛  知"}]
[null,"日本福祉大学",2367,"高野　史帆","ﾀｶﾉ ｼﾎ",2,"愛知県",{"$f":"VLOOKUP($G2368,県名!$B$1:$C$49,2,FALSE)","v":"愛  知"}]
[null,"日本福祉大学",2368,"林　夏月","ﾊﾔｼ ｶﾂﾞｷ",2,"愛知県",{"$f":"VLOOKUP($G2369,県名!$B$1:$C$49,2,FALSE)","v":"愛  知"}]
[null,"岐阜経済大学",2369,"遠藤　詩歩","ｴﾝﾄﾞｳ ｼﾎ",4,"岐阜県",{"$f":"VLOOKUP($G2370,県名!$B$1:$C$49,2,FALSE)","v":"岐  阜"}]
[null,"岐阜経済大学",2370,"佐藤　朋子","ｻﾄｳ ﾄﾓｺ",4,"岐阜県",{"$f":"VLOOKUP($G2371,県名!$B$1:$C$49,2,FALSE)","v":"岐  阜"}]
[null,"岐阜経済大学",2371,"十河　百","ｿｺﾞｳ ﾓﾓ",4,"香川県",{"$f":"VLOOKUP($G2372,県名!$B$1:$C$49,2,FALSE)","v":"香  川"}]
[null,"岐阜経済大学",2372,"安田　汀","ﾔｽﾀﾞ ﾅｷﾞｻ",4,"岐阜県",{"$f":"VLOOKUP($G2373,県名!$B$1:$C$49,2,FALSE)","v":"岐  阜"}]
[null,"岐阜経済大学",2373,"梶野　香子","ｶｼﾞﾉ ｶｺ",3,"愛知県",{"$f":"VLOOKUP($G2374,県名!$B$1:$C$49,2,FALSE)","v":"愛  知"}]
[null,"岐阜経済大学",2374,"杉山　世梨奈","ｽｷﾞﾔﾏ ｾﾘﾅ",3,"岐阜県",{"$f":"VLOOKUP($G2375,県名!$B$1:$C$49,2,FALSE)","v":"岐  阜"}]
[null,"岐阜経済大学",2375,"平良　さき","ﾀｲﾗ ｻｷ",3,"沖縄県",{"$f":"VLOOKUP($G2376,県名!$B$1:$C$49,2,FALSE)","v":"沖　縄"}]
[null,"岐阜経済大学",2376,"中井　香那","ﾅｶｲ ｶﾅ",3,"和歌山県",{"$f":"VLOOKUP($G2377,県名!$B$1:$C$49,2,FALSE)","v":"和歌山"}]
[null,"岐阜経済大学",2377,"水野　舞音","ﾐｽﾞﾉ ﾏﾉﾝ",3,"静岡県",{"$f":"VLOOKUP($G2378,県名!$B$1:$C$49,2,FALSE)","v":"静  岡"}]
[null,"岐阜経済大学",2378,"安達　萌乃","ｱﾀﾞﾁ ﾓｴﾉ",2,"岐阜県",{"$f":"VLOOKUP($G2379,県名!$B$1:$C$49,2,FALSE)","v":"岐  阜"}]
[null,"岐阜経済大学",2379,"川野　伶奈","ｶﾜﾉ ﾚｲﾅ",2,"宮崎県",{"$f":"VLOOKUP($G2380,県名!$B$1:$C$49,2,FALSE)","v":"宮　崎"}]
[null,"岐阜経済大学",2380,"鈴木　悠紀","ｽｽﾞｷ ﾕｷ",2,"静岡県",{"$f":"VLOOKUP($G2381,県名!$B$1:$C$49,2,FALSE)","v":"静  岡"}]
[null,"岐阜経済大学",2381,"玉田　唯","ﾀﾏﾀﾞ ﾕｲ",2,"京都府",{"$f":"VLOOKUP($G2382,県名!$B$1:$C$49,2,FALSE)","v":"京　都"}]
[null,"岐阜経済大学",2382,"田村　有利奈","ﾀﾑﾗ ﾕﾘﾅ",2,"長野県",{"$f":"VLOOKUP($G2383,県名!$B$1:$C$49,2,FALSE)","v":"長  野"}]
[null,"岐阜経済大学",2383,"冨田　瑞海","ﾄﾐﾀ ﾀﾏﾐ",2,"香川県",{"$f":"VLOOKUP($G2384,県名!$B$1:$C$49,2,FALSE)","v":"香  川"}]
[null,"岐阜経済大学",2384,"中村　向日葵","ﾅｶﾑﾗ ﾋﾏﾜﾘ",2,"沖縄県",{"$f":"VLOOKUP($G2385,県名!$B$1:$C$49,2,FALSE)","v":"沖　縄"}]
[null,"岐阜経済大学",2385,"平子　侑","ﾋﾗｺ ﾕｳ",2,"静岡県",{"$f":"VLOOKUP($G2386,県名!$B$1:$C$49,2,FALSE)","v":"静  岡"}]
[null,"岐阜経済大学",2386,"石浦　藍里","ｲｼｳﾗ ｱｲﾘ",1,"岐阜県",{"$f":"VLOOKUP($G2387,県名!$B$1:$C$49,2,FALSE)","v":"岐  阜"}]
[null,"岐阜経済大学",2387,"小林　聖","ｺﾊﾞﾔｼ ｱｷﾗ",1,"静岡県",{"$f":"VLOOKUP($G2388,県名!$B$1:$C$49,2,FALSE)","v":"静  岡"}]
[null,"岐阜経済大学",2388,"今野　絵梨香","ｺﾝﾉ ｴﾘｶ",1,"岐阜県",{"$f":"VLOOKUP($G2389,県名!$B$1:$C$49,2,FALSE)","v":"岐  阜"}]
[null,"岐阜経済大学",2389,"白木　七星","ｼﾗｷ ﾅﾅｾ",1,"岐阜県",{"$f":"VLOOKUP($G2390,県名!$B$1:$C$49,2,FALSE)","v":"岐  阜"}]
[null,"岐阜経済大学",2390,"水野　花","ﾐｽﾞﾉ ﾊﾅ",1,"岐阜県",{"$f":"VLOOKUP($G2391,県名!$B$1:$C$49,2,FALSE)","v":"岐  阜"}]
[null,"岐阜経済大学",2391,"宮城　亜美","ﾐﾔｷﾞ ｱﾐ",4,"岐阜県",{"$f":"VLOOKUP($G2392,県名!$B$1:$C$49,2,FALSE)","v":"岐  阜"}]
[null,"岐阜経済大学",2392,"浅野　紗希","ｱｻﾉ ｻｷ",2,"岐阜県",{"$f":"VLOOKUP($G2393,県名!$B$1:$C$49,2,FALSE)","v":"岐  阜"}]
[null,"岐阜経済大学",2393,"岸野　明日香","ｷｼﾉ ｱｽｶ",1,"岐阜県",{"$f":"VLOOKUP($G2394,県名!$B$1:$C$49,2,FALSE)","v":"岐  阜"}]
[null,"愛知医科大学",2394,"村上　純香","ﾑﾗｶﾐ ｷﾖｶ","6","愛知県",{"$f":"VLOOKUP($G2395,県名!$B$1:$C$49,2,FALSE)","v":"愛  知"}]
[null,"愛知医科大学",2395,"奥村　亞弓","ｵｸﾑﾗ ｱﾕﾐ","3","愛知県",{"$f":"VLOOKUP($G2396,県名!$B$1:$C$49,2,FALSE)","v":"愛  知"}]
[null,"愛知医科大学",2396,"西村　歩","ﾆｼﾑﾗ ｱﾕﾐ","2","愛知県",{"$f":"VLOOKUP($G2397,県名!$B$1:$C$49,2,FALSE)","v":"愛  知"}]
[null,"愛知医科大学",2397,"林本　夢乃","ﾊﾔｼﾓﾄ ﾕﾒﾉ","4","愛知県",{"$f":"VLOOKUP($G2398,県名!$B$1:$C$49,2,FALSE)","v":"愛  知"}]
[null,"愛知医科大学",2398,"清水　冴枝","ｼﾐｽﾞ ｻｴ","5","愛知県",{"$f":"VLOOKUP($G2399,県名!$B$1:$C$49,2,FALSE)","v":"愛  知"}]
[null,"愛知医科大学",2399,"林　優希","ﾊﾔｼ ﾕｷ","4","愛知県",{"$f":"VLOOKUP($G2400,県名!$B$1:$C$49,2,FALSE)","v":"愛  知"}]
[null,"愛知医科大学",2400,"柏原　彩乃","ｶｼﾜﾊﾞﾗ ｱﾔﾉ","4","愛知県",{"$f":"VLOOKUP($G2401,県名!$B$1:$C$49,2,FALSE)","v":"愛  知"}]
[null,"愛知医科大学",2401,"中島　百合菜","ﾅｶｼﾞﾏ ﾕﾘﾅ","4","愛知県",{"$f":"VLOOKUP($G2402,県名!$B$1:$C$49,2,FALSE)","v":"愛  知"}]
[null,"岐阜大学",2402,"後藤　千穂","ｺﾞﾄｳ ﾁﾎ","M2","岐阜県",{"$f":"VLOOKUP($G2403,県名!$B$1:$C$49,2,FALSE)","v":"岐  阜"}]
[null,"岐阜大学",2403,"木村　夏佳","ｷﾑﾗ ﾅﾂｶ","4","岐阜県",{"$f":"VLOOKUP($G2404,県名!$B$1:$C$49,2,FALSE)","v":"岐  阜"}]
[null,"岐阜大学",2404,"林　由希乃","ﾊﾔｼ ﾕｷﾉ","3","岐阜県",{"$f":"VLOOKUP($G2405,県名!$B$1:$C$49,2,FALSE)","v":"岐  阜"}]
[null,"岐阜大学",2405,"黒田　千恵","ｸﾛﾀﾞ ﾁｴ","3","岐阜県",{"$f":"VLOOKUP($G2406,県名!$B$1:$C$49,2,FALSE)","v":"岐  阜"}]
[null,"岐阜大学",2406,"日比野　有依","ﾋﾋﾞﾉ ﾕｲ","4","岐阜県",{"$f":"VLOOKUP($G2407,県名!$B$1:$C$49,2,FALSE)","v":"岐  阜"}]
[null,"岐阜薬科大学",2407,"松本　清香","ﾏﾂﾓﾄ ｷﾖｶ","3","岐阜県",{"$f":"VLOOKUP($G2408,県名!$B$1:$C$49,2,FALSE)","v":"岐  阜"}]
[null,"岐阜薬科大学",2408,"岩橋　咲幸","ｲﾜﾊｼ ｻﾕｷ","2","岐阜県",{"$f":"VLOOKUP($G2409,県名!$B$1:$C$49,2,FALSE)","v":"岐  阜"}]
[null,"常葉大学",2409,"髙森　帆南","ﾀｶﾓﾘ ﾎﾅﾐ","4","静岡県",{"$f":"VLOOKUP($G2410,県名!$B$1:$C$49,2,FALSE)","v":"静  岡"}]
[null,"常葉大学",2410,"渡辺　亜美","ﾜﾀﾅﾍﾞ ｱﾐ","4","静岡県",{"$f":"VLOOKUP($G2411,県名!$B$1:$C$49,2,FALSE)","v":"静  岡"}]
[null,"常葉大学",2411,"伊藤　百花","ｲﾄｳ ﾓﾓｶ","3","静岡県",{"$f":"VLOOKUP($G2412,県名!$B$1:$C$49,2,FALSE)","v":"静  岡"}]
[null,"常葉大学",2412,"大橋　佑佳里","ｵｵﾊｼ ﾕｶﾘ","3","静岡県",{"$f":"VLOOKUP($G2413,県名!$B$1:$C$49,2,FALSE)","v":"静  岡"}]
[null,"常葉大学",2413,"須田　遥日","ｽﾀﾞ ﾊﾙｶ","2","静岡県",{"$f":"VLOOKUP($G2414,県名!$B$1:$C$49,2,FALSE)","v":"静  岡"}]
[null,"常葉大学",2414,"大場　瑞生","ｵｵﾊﾞ ﾐｽﾞｷ","1","静岡県",{"$f":"VLOOKUP($G2415,県名!$B$1:$C$49,2,FALSE)","v":"静  岡"}]
[null,"常葉大学",2415,"黒川　紗椰","ｸﾛｶﾜ ｻﾔ","1","静岡県",{"$f":"VLOOKUP($G2416,県名!$B$1:$C$49,2,FALSE)","v":"静  岡"}]
[null,"常葉大学",2416,"八木田　沙椰","ﾔｷﾞﾀ ｻﾔ","1","静岡県",{"$f":"VLOOKUP($G2417,県名!$B$1:$C$49,2,FALSE)","v":"静  岡"}]
[null,"椙山女学園大学",2417,"瀬川　真帆","ｾｶﾞﾜ ﾏﾎ","1","愛知県",{"$f":"VLOOKUP($G2418,県名!$B$1:$C$49,2,FALSE)","v":"愛  知"}]
[null,"静岡大学",2418,"矢崎　晴子","ﾔｻﾞｷ ﾊﾙｺ","3","静岡県",{"$f":"VLOOKUP($G2419,県名!$B$1:$C$49,2,FALSE)","v":"静  岡"}]
[null,"静岡大学",2419,"相澤　蘭","ｱｲｻﾞﾜ ﾗﾝ","2","静岡県",{"$f":"VLOOKUP($G2420,県名!$B$1:$C$49,2,FALSE)","v":"静  岡"}]
[null,"静岡大学",2420,"加藤　楓","ｶﾄｳ ｶｴﾃﾞ","3","静岡県",{"$f":"VLOOKUP($G2421,県名!$B$1:$C$49,2,FALSE)","v":"静  岡"}]
[null,"中京学院大学",2421,"齋能　奏音","ｻｲﾉｳ ｶﾅﾈ","1","静岡県",{"$f":"VLOOKUP($G2422,県名!$B$1:$C$49,2,FALSE)","v":"静  岡"}]
[null,"東海学園大学",2422,"佐藤　琴美","ｻﾄｳ ｺﾄﾐ","1","愛知県",{"$f":"VLOOKUP($G2423,県名!$B$1:$C$49,2,FALSE)","v":"愛  知"}]
[null,"東海大学東海",2423,"黒木　花菜","ｸﾛｷ ﾊﾅ","2","静岡県",{"$f":"VLOOKUP($G2424,県名!$B$1:$C$49,2,FALSE)","v":"静  岡"}]
[null,"日本福祉大学",2424,"大坂　美月","ｵｵｻｶ ﾐﾂﾞｷ",1,"愛知県",{"$f":"VLOOKUP($G2425,県名!$B$1:$C$49,2,FALSE)","v":"愛  知"}]
[null,"名古屋大学",2425,"服部　綾実","ﾊｯﾄﾘ ｱﾔﾐ","D3","愛知県",{"$f":"VLOOKUP($G2426,県名!$B$1:$C$49,2,FALSE)","v":"愛  知"}]
[null,"岐阜経済大学",2426,"塩多　未幸","ｼｵﾀ ﾐﾕｷ","1","石川県",{"$f":"VLOOKUP($G2427,県名!$B$1:$C$49,2,FALSE)","v":"石　川"}]
[null,"岐阜経済大学",2427,"弓削田　アユミ","ﾕｹﾞﾀ ｱﾕﾐ","1","愛知県",{"$f":"VLOOKUP($G2428,県名!$B$1:$C$49,2,FALSE)","v":"愛  知"}]
[null,null,null,null,null,null,null,{"$f":"VLOOKUP($G2429,県名!$B$1:$C$49,2,FALSE)","v":{"$error":"#N/A"}}]
[null,null,null,null,null,null,null,{"$f":"VLOOKUP($G2430,県名!$B$1:$C$49,2,FALSE)","v":{"$error":"#N/A"}}]
[null,null,null,null,null,null,null,{"$f":"VLOOKUP($G2431,県名!$B$1:$C$49,2,FALSE)","v":{"$error":"#N/A"}}]
[null,null,null,null,null,null,null,{"$f":"VLOOKUP($G2432,県名!$B$1:$C$49,2,FALSE)","v":{"$error":"#N/A"}}]
[null,null,null,null,null,null,null,{"$f":"VLOOKUP($G2433,県名!$B$1:$C$49,2,FALSE)","v":{"$error":"#N/A"}}]
[null,null,null,null,null,null,null,{"$f":"VLOOKUP($G2434,県名!$B$1:$C$49,2,FALSE)","v":{"$error":"#N/A"}}]
[null,null,null,null,null,null,null,{"$f":"VLOOKUP($G2435,県名!$B$1:$C$49,2,FALSE)","v":{"$error":"#N/A"}}]
[null,null,null,null,null,null,null,{"$f":"VLOOKUP($G2436,県名!$B$1:$C$49,2,FALSE)","v":{"$error":"#N/A"}}]
[null,null,null,null,null,null,null,{"$f":"VLOOKUP($G2437,県名!$B$1:$C$49,2,FALSE)","v":{"$error":"#N/A"}}]
[null,null,null,null,null,null,null,{"$f":"VLOOKUP($G2438,県名!$B$1:$C$49,2,FALSE)","v":{"$error":"#N/A"}}]
[null,null,null,null,null,null,null,{"$f":"VLOOKUP($G2439,県名!$B$1:$C$49,2,FALSE)","v":{"$error":"#N/A"}}]
[null,null,null,null,null,null,null,{"$f":"VLOOKUP($G2440,県名!$B$1:$C$49,2,FALSE)","v":{"$error":"#N/A"}}]
[null,null,null,null,null,null,null,{"$f":"VLOOKUP($G2441,県名!$B$1:$C$49,2,FALSE)","v":{"$error":"#N/A"}}]
[null,null,null,null,null,null,null,{"$f":"VLOOKUP($G2442,県名!$B$1:$C$49,2,FALSE)","v":{"$error":"#N/A"}}]
[null,null,null,null,null,null,null,{"$f":"VLOOKUP($G2443,県名!$B$1:$C$49,2,FALSE)","v":{"$error":"#N/A"}}]
[null,null,null,null,null,null,null,{"$f":"VLOOKUP($G2444,県名!$B$1:$C$49,2,FALSE)","v":{"$error":"#N/A"}}]
[null,null,null,null,null,null,null,{"$f":"VLOOKUP($G2445,県名!$B$1:$C$49,2,FALSE)","v":{"$error":"#N/A"}}]
[null,null,null,null,null,null,null,{"$f":"VLOOKUP($G2446,県名!$B$1:$C$49,2,FALSE)","v":{"$error":"#N/A"}}]
[null,null,null,null,null,null,null,{"$f":"VLOOKUP($G2447,県名!$B$1:$C$49,2,FALSE)","v":{"$error":"#N/A"}}]
[null,null,null,null,null,null,null,{"$f":"VLOOKUP($G2448,県名!$B$1:$C$49,2,FALSE)","v":{"$error":"#N/A"}}]
[null,null,null,null,null,null,null,{"$f":"VLOOKUP($G2449,県名!$B$1:$C$49,2,FALSE)","v":{"$error":"#N/A"}}]
[null,null,null,null,null,null,null,{"$f":"VLOOKUP($G2450,県名!$B$1:$C$49,2,FALSE)","v":{"$error":"#N/A"}}]
[null,null,null,null,null,null,null,{"$f":"VLOOKUP($G2451,県名!$B$1:$C$49,2,FALSE)","v":{"$error":"#N/A"}}]
[null,null,null,null,null,null,null,{"$f":"VLOOKUP($G2452,県名!$B$1:$C$49,2,FALSE)","v":{"$error":"#N/A"}}]
[null,null,null,null,null,null,null,{"$f":"VLOOKUP($G2453,県名!$B$1:$C$49,2,FALSE)","v":{"$error":"#N/A"}}]
[null,null,null,null,null,null,null,{"$f":"VLOOKUP($G2454,県名!$B$1:$C$49,2,FALSE)","v":{"$error":"#N/A"}}]
[null,null,null,null,null,null,null,{"$f":"VLOOKUP($G2455,県名!$B$1:$C$49,2,FALSE)","v":{"$error":"#N/A"}}]
[null,null,null,null,null,null,null,{"$f":"VLOOKUP($G2456,県名!$B$1:$C$49,2,FALSE)","v":{"$error":"#N/A"}}]
[null,null,null,null,null,null,null,{"$f":"VLOOKUP($G2457,県名!$B$1:$C$49,2,FALSE)","v":{"$error":"#N/A"}}]
[null,null,null,null,null,null,null,{"$f":"VLOOKUP($G2458,県名!$B$1:$C$49,2,FALSE)","v":{"$error":"#N/A"}}]
[null,null,null,null,null,null,null,{"$f":"VLOOKUP($G2459,県名!$B$1:$C$49,2,FALSE)","v":{"$error":"#N/A"}}]
[null,null,null,null,null,null,null,{"$f":"VLOOKUP($G2460,県名!$B$1:$C$49,2,FALSE)","v":{"$error":"#N/A"}}]
[null,null,null,null,null,null,null,{"$f":"VLOOKUP($G2461,県名!$B$1:$C$49,2,FALSE)","v":{"$error":"#N/A"}}]
[null,null,null,null,null,null,null,{"$f":"VLOOKUP($G2462,県名!$B$1:$C$49,2,FALSE)","v":{"$error":"#N/A"}}]
[null,null,null,null,null,null,null,{"$f":"VLOOKUP($G2463,県名!$B$1:$C$49,2,FALSE)","v":{"$error":"#N/A"}}]
[null,null,null,null,null,null,null,{"$f":"VLOOKUP($G2464,県名!$B$1:$C$49,2,FALSE)","v":{"$error":"#N/A"}}]
[null,null,null,null,null,null,null,{"$f":"VLOOKUP($G2465,県名!$B$1:$C$49,2,FALSE)","v":{"$error":"#N/A"}}]
[null,null,null,null,null,null,null,{"$f":"VLOOKUP($G2466,県名!$B$1:$C$49,2,FALSE)","v":{"$error":"#N/A"}}]
[null,null,null,null,null,null,null,{"$f":"VLOOKUP($G2467,県名!$B$1:$C$49,2,FALSE)","v":{"$error":"#N/A"}}]
[null,null,null,null,null,null,null,{"$f":"VLOOKUP($G2468,県名!$B$1:$C$49,2,FALSE)","v":{"$error":"#N/A"}}]
[null,null,null,null,null,null,null,{"$f":"VLOOKUP($G2469,県名!$B$1:$C$49,2,FALSE)","v":{"$error":"#N/A"}}]
[null,null,null,null,null,null,null,{"$f":"VLOOKUP($G2470,県名!$B$1:$C$49,2,FALSE)","v":{"$error":"#N/A"}}]
[null,null,null,null,null,null,null,{"$f":"VLOOKUP($G2471,県名!$B$1:$C$49,2,FALSE)","v":{"$error":"#N/A"}}]
[null,null,null,null,null,null,null,{"$f":"VLOOKUP($G2472,県名!$B$1:$C$49,2,FALSE)","v":{"$error":"#N/A"}}]
[null,null,null,null,null,null,null,{"$f":"VLOOKUP($G2473,県名!$B$1:$C$49,2,FALSE)","v":{"$error":"#N/A"}}]
[null,null,null,null,null,null,null,{"$f":"VLOOKUP($G2474,県名!$B$1:$C$49,2,FALSE)","v":{"$error":"#N/A"}}]
[null,null,null,null,null,null,null,{"$f":"VLOOKUP($G2475,県名!$B$1:$C$49,2,FALSE)","v":{"$error":"#N/A"}}]
[null,null,null,null,null,null,null,{"$f":"VLOOKUP($G2476,県名!$B$1:$C$49,2,FALSE)","v":{"$error":"#N/A"}}]
[null,null,null,null,null,null,null,{"$f":"VLOOKUP($G2477,県名!$B$1:$C$49,2,FALSE)","v":{"$error":"#N/A"}}]
[null,null,null,null,null,null,null,{"$f":"VLOOKUP($G2478,県名!$B$1:$C$49,2,FALSE)","v":{"$error":"#N/A"}}]
[null,null,null,null,null,null,null,{"$f":"VLOOKUP($G2479,県名!$B$1:$C$49,2,FALSE)","v":{"$error":"#N/A"}}]
[null,null,null,null,null,null,null,{"$f":"VLOOKUP($G2480,県名!$B$1:$C$49,2,FALSE)","v":{"$error":"#N/A"}}]
[null,null,null,null,null,null,null,{"$f":"VLOOKUP($G2481,県名!$B$1:$C$49,2,FALSE)","v":{"$error":"#N/A"}}]
[null,null,null,null,null,null,null,{"$f":"VLOOKUP($G2482,県名!$B$1:$C$49,2,FALSE)","v":{"$error":"#N/A"}}]
[null,null,null,null,null,null,null,{"$f":"VLOOKUP($G2483,県名!$B$1:$C$49,2,FALSE)","v":{"$error":"#N/A"}}]
[null,null,null,null,null,null,null,{"$f":"VLOOKUP($G2484,県名!$B$1:$C$49,2,FALSE)","v":{"$error":"#N/A"}}]
[null,null,null,null,null,null,null,{"$f":"VLOOKUP($G2485,県名!$B$1:$C$49,2,FALSE)","v":{"$error":"#N/A"}}]
[null,null,null,null,null,null,null,{"$f":"VLOOKUP($G2486,県名!$B$1:$C$49,2,FALSE)","v":{"$error":"#N/A"}}]
[null,null,null,null,null,null,null,{"$f":"VLOOKUP($G2487,県名!$B$1:$C$49,2,FALSE)","v":{"$error":"#N/A"}}]
[null,null,null,null,null,null,null,{"$f":"VLOOKUP($G2488,県名!$B$1:$C$49,2,FALSE)","v":{"$error":"#N/A"}}]
[null,null,null,null,null,null,null,{"$f":"VLOOKUP($G2489,県名!$B$1:$C$49,2,FALSE)","v":{"$error":"#N/A"}}]
[null,null,null,null,null,null,null,{"$f":"VLOOKUP($G2490,県名!$B$1:$C$49,2,FALSE)","v":{"$error":"#N/A"}}]