{"text_format":"1","workbook":"xlsx","n_sheets":7,"sheets":["メニュー","開催申請書","競技会","競技場","大学名","Competition","2012"],"not_rendered":{"charts":0,"images":0,"macros":1,"external_links":0,"defined_names":0,"comments":0,"pivot_tables":0},"unopened":[],"bounds":{"document_bytes":16777216,"sheet_cells":100000,"rows_first":2000,"rows_last":500,"rows_between":2000,"halvings":0,"cell_chars":16384,"cell_head_chars":4096},"cells_cut":0,"cells_raw":0,"read":"whole","date_system":"1900"}

{"sheet":"メニュー","index":0,"n_rows":15,"n_cols":10,"rows_kept":15,"cut":false,"hidden":false,"merged":[[9,9,10,9],[9,8,10,8],[9,7,10,7],[9,6,10,6],[1,1,1,11]]}
[]
[null,"平成25年度　日本学生陸上競技連合公認競技会申請メニュー（加盟校用）"]
[]
[null,"1.大学情報登録"]
[null,"地区・大学名・部長氏名を登録してください。"]
[]
[null,"2.競技会登録"]
[null,"開催競技会を登録してください。"]
[]
[null,"3.申請日の入力",null,null,null,null,null,"月",null,"日"]
[null,"公認競技会申請日を入力してください。"]
[]
[null,"4.入力の終了"]
[null,"内容を保存し、終了してください。自動的にファイル名を"]
[null,"つけてExcelファイルを閉じます。"]

{"sheet":"開催申請書","index":1,"n_rows":62,"n_cols":19,"rows_kept":62,"cut":false,"hidden":false,"merged":[[0,0,0,18],[11,7,11,8],[3,2,3,5],[9,2,9,6]]}
["2013年度　公認競技会開催申請書"]
[null,null,null,null,null,null,null,null,null,null,null,null,null,null,null,null,null,null,{"$f":"\"平成２５年\" & DBCS(メニュー!G10) & \"月\" & DBCS(メニュー!I10) & \"日\"","v":"平成２５年月日"}]
[null,"","学生陸上競技連盟"]
[null,"会長",null,null,null,null,"様"]
[]
[null,"下記の通り、公認競技会の開催を申請します。"]
[]
[null,"陸上競技部　"]
[]
[null,"部長",null,null,null,null,null," ㊞"]
[]
["No.","種別","月","日","～","月","日","　競技会",null,"競技場コード","会　場","担当者氏名","所属","電話番号","E-mail","郵便番号","住所","備考","変更前競技会"]
[1]
[2]
[3]
[4]
[5]
[6]
[7]
[8]
[9]
[10]
[11]
[12]
[13]
[14]
[15]
[16]
[17]
[18]
[19]
[20]
[21]
[22]
[23]
[24]
[25]
[26]
[27]
[28]
[29]
[30]
[31]
[32]
[33]
[34]
[35]
[36]
[37]
[38]
[39]
[40]
[41]
[42]
[43]
[44]
[45]
[46]
[47]
[48]
[49]
[50]

{"sheet":"競技会","index":2,"n_rows":88,"n_cols":10,"rows_kept":88,"cut":false,"hidden":false,"merged":[]}
[10,8,12,87,12,17,37,25,21,37]
["天皇賜盃日本学生陸上競技対校選手権大会","北海道学生陸上競技対校選手権大会","東北学生陸上競技対校選手権大会","関東学生陸上競技対校選手権大会","北信越学生陸上競技対校選手権大会","東海学生陸上競技対校選手権大会","関西学生陸上競技対校選手権大会","中国四国学生陸上競技対校選手権大会","九州学生陸上競技対校選手権大会","秩父宮賜杯西日本学生陸上競技対校選手権大会"]
["日本学生陸上競技個人選手権大会","北海道知事杯北海道大学駅伝対校選手権大会","東北学生駅伝対校選手権大会","東京箱根間往復大学駅伝競走","北信越学生10マイルロードレース大会","東海学生駅伝対校選手権大会","関西学生対校駅伝競走大会","中国四国学生陸上競技選手権大会","九州学生陸上競技選手権大会","北日本学生陸上競技対校選手権大会"]
["出雲全日本大学選抜駅伝競走","北海道教育長杯北海道大学女子駅伝対校選手権大会","東北学生陸上競技選手権大会","東京箱根間往復大学駅伝競走予選会","北信越学生女子5ｋｍロードレース選手権大会","東海学生女子駅伝対校選手権大会","関西学生対校女子駅伝競走大会","中国四国学生駅伝競走大会","九州学生駅伝対校選手権大会　兼　島原・雲仙駅伝","北海道大学対東北大学陸上競技定期戦"]
["秩父宮賜杯全日本大学駅伝対校選手権大会","北海道学生陸上競技選手権大会","東北学連春季競技会","関東大学女子駅伝対校選手権大会","北信越学生陸上競技選手権大会","東海学生陸上競技秋季選手権大会","関西学生陸上競技学年別選手権大会","中国四国学生女子駅伝競走大会","全日本大学駅伝・全日本大学女子駅伝九州地区予選会","青山学院大学対東北学院大学陸上競技定期戦"]
["全日本大学女子駅伝対校選手権大会","北海道学連競技会","東北学連ナイター競技会","関東学生新人陸上競技選手権大会","金沢星稜大学競技会","全日本大学駅伝対校選手権大会東海地区選考会","関西学生混成選手権大会","全日本大学駅伝対校選手権大会中国四国地区最終選考会","学連競技会","全日本医歯薬獣医大学対抗陸上競技選手権大会"]
["全日本大学女子選抜駅伝競走","北海道学連中長競技会","全日本大学駅伝対校選手権大会東北地区予選会兼全日本大学女子駅伝対校選手権大会","トワイライト・ゲームス","新潟県学生陸上競技連盟競技会","全日本大学女子駅伝対校選手権大会東海地区選考会","関西学生対校駅伝競走大会予選会","四国地区大学総合体育大会","鹿屋体育大学春季競技会","同志社大学対立教大学定期陸上競技戦"]
["日本学生ハーフマラソン選手権大会","北海道地区大学体育大会（陸上競技）","仙台大学競技会","全日本大学駅伝関東学連推薦校選考会","北陸地区国立大学体育会","東海学生陸上競技春季大会","全日本大学駅伝対校選手権大会関西学連予選会","中国四国私立大学対校陸上競技選手権大会","鹿屋体育大学短距離競技会","同志社大学対立教大学女子対抗陸上競技大会"]
["日本学生女子ハーフマラソン選手権大会","スプリントトライアスロン","東北福祉大学競技会","関東学連春季オープン競技会","上越教育大学陸上競技会","東海学生陸上競技夏季大会","学連競技会","岡山学生陸上競技選手権大会","鹿屋体育大学強化競技会","三大学対校陸上競技大会（大阪市大・神戸大・一橋大）"]
["日本学生20km競歩選手権大会",null,"山形大学陸上競技部競技会","関東学連秋季オープン競技会","オータムカップ　in　新潟","土曜競技会","京都学生陸上競技対校選手権大会　　　　　　　　　　","広島県実業団・学生対抗陸上競技選手権大会","九州学連南九州地区学連競技会","国公立22大学対校陸上競技大会（茨大・宇大・群大・埼大・静大・首都大・信州大・高経大・千大・都留文大・電通大・東学大・東工大・東北大・新潟大・一橋大・福島大・三重大・山形大・山梨大・横市大・横国大）"]
["秩父宮賜杯実業団・学生対抗陸上競技大会",null,"東北地区大学総合体育大会陸上競技","10000m記録挑戦競技会","新潟医療福祉大学競技会","愛知六大学対校陸上競技大会（愛知大・愛知学大・愛教大・名大・南山大・名城大）","大阪学生陸上競技対校選手権大会","岡山県学生対実業団対抗陸上競技選手権大会","鹿屋体育大学陸上競技会","六大学対校陸上競技大会（東海大・筑波大・順大・日体大・日大・中京大）"]
[null,null,"岩手大学陸上競技部競技会","二大学対校陸上競技会（茨大・千大）","全日本大学駅伝対校選手権大会北信越予選会","東海地区国立大学陸上競技会","兵庫学生陸上競技対校選手権大会","四国地区高等専門学校対校陸上競技大会","鹿屋体育大学長距離競技会","関西大学対法政大学対校陸上競技定期戦"]
[null,null,"東北学連競技会","群馬大学競技会","全日本大学女子駅伝対校選手権大会北信越予選会","静岡県大学生選手権大会","兵庫学生陸上競技女子選手権大会","岡山県学連競技会","九州地区大学体育大会","東京大学・京都大学対校陸上競技大会"]
[null,null,null,"関東私学六大学対校陸上競技大会（國学大・上智大・成蹊大・東経大・明学大・立大）",null,"至学館大学陸上競技大会","京都学生駅伝競走大会","広島県学連競技会","福大競技会","東京大学・京都大学対校女子陸上競技大会"]
[null,null,null,"国士舘大学競技会",null,"ハンマー投チャレンジカップ","大阪体育大学競技会","広島大学春季競技会","大分地区大学・高等専門学校陸上競技会","早稲田大学・関西学院大学対校陸上競技大会"]
[null,null,null,"国士舘大学長距離競技会",null,"東海学生陸上競技記録会","大阪三大学対校陸上競技大会（大阪市大・大阪府大・阪大）","広島大学夏季競技会","九州共立大学チャレンジ陸上","大学対校混成競技会"]
[null,null,null,"国際武道大学競技会",null,"岐阜経済大学陸上競技会","総合関関戦陸上競技大会","高知大学春季競技会","九州共立大学投てき競技会","国公立22大学対校駅伝大会（茨大・宇大・群大・埼大・静大・首都大・信州大・高経大・千大・都留文大・電通大・東学大・東工大・東北大・新潟大・一橋大・福島大・三重大・山形大・山梨大・横市大・横国大）"]
[null,null,null,"国際武道大学秋季合同競技会",null,"梅村学園陸上競技大会","関西私立四大学対校陸上競技大会（関学大・関大・立命大・同大）","高知大学秋季競技会","全日本大学女子駅伝九州地区予選会","信州大学・名古屋大学対校陸上競技大会"]
[null,null,null,"国際武道大学選手権",null,null,"関西私立四大学陸上競技女子競技会（関学大・関大・立命大・同大）","春季島大リレーカーニバル","名桜大学陸上競技会","一橋大学・名古屋大学対校陸上競技大会"]
[null,null,null,"国際武道大学フィールド競技会",null,null,"同志社大学対京都大学陸上競技大会","秋季島大リレーカーニバル","北九州・下関地区大学体育大会(陸上競技)","一橋大学・名古屋大学女子対校陸上競技大会"]
[null,null,null,"北関東5大学対校陸上競技大会（茨大・宇大・群大・埼大・高経大）",null,null,"近畿地区国立大学体育大会","山口支部競技会","ＮＩＦＳ競技会","慶応義塾大学・同志社大学対校陸上競技大会"]
[null,null,null,"関東私学四大学対校陸上競技大会（上智大、成蹊大、獨協大、明学大）",null,null,"関西医科学生対校陸上競技選手権大会","中国五大学対校陸上競技大会（岡山大・島根大・鳥取大・広島大・山口大）","九州共立大学競技会","大阪大学・名古屋大学対校陸上競技大会"]
[null,null,null,"早大競技会",null,null,"兵庫三大学対校陸上競技大会（神戸学大・甲南大・流科大）","愛媛女子短期大学競技会",null,"秩父宮賜杯学習院大学・甲南大学対校陸上競技大会"]
[null,null,null,"東京六大学対校陸上競技大会（慶大・東大・法大・明大・立大・早大）",null,null,"阪神四大学対校陸上競技大会（神戸大・阪大・甲南大・関学大）","徳山大学フィールド記録会",null,"学習院大学・甲南大学対校陸上競技大会（女子の部）"]
[null,null,null,"中大競技会",null,null,"関西学生長距離強化競技会","徳山大学ナイター記録会",null,"全国教育系大学陸上競技大会"]
[null,null,null,"中大長距離競技会",null,null,"天理大学・大阪体育大学陸上競技対校選手権大会","徳山大学スプリングフェスティバル",null,"西日本七大学陸上競技対校選手権大会（神戸大・滋賀大・山口大・香川大・大阪市大・兵庫県大・和大）"]
[null,null,null,"筑波大競技会",null,null,"京阪神三大学対校新人陸上競技大会（京大学・阪大・神戸大）",null,null,"大阪経済大学対東京経済大学定期対校戦"]
[null,null,null,"筑波大投擲競技会",null,null,"京阪神三大学対校女子陸上競技大会（京大・阪大・神戸大）",null,null,"九州・山口医科学生体育大会"]
[null,null,null,"筑波大ポストシーズン競技会",null,null,"関西大学競技会",null,null,"全国七大学対校女子陸上競技大会（北大・東北大・東大・名大・京大・阪大・九大）"]
[null,null,null,"長距離競技会",null,null,"びわこ成蹊スポーツ大学競技会",null,null,"全国七大学対校陸上競技大会（北大・東北大・東大・名大・京大・阪大・九大）"]
[null,null,null,"13大学対校陸上競技大会（工学院大・首都大・帝京大・電通大・東外大・東工大・東電大・東農工大・東京薬大・東理大・文教大・武蔵工大・横市大）",null,null,"桃山学院大学・摂南大学対校陸上競技大会",null,null,"西日本医科学生総合体育大会"]
[null,null,null,"四大学対校陸上競技大会（国士大・順大・東海大・日女体大・日体大）",null,null,"大阪体育大学中長距離競技会",null,null,"関西医歯薬科学生対校陸上競技大会"]
[null,null,null,"関東七大学対校陸上競技大会（学習院大・北里大・成城大・獨協大・東邦大・文教大・明学大）",null,null,"学連長距離ロード競技会",null,null,"関東甲信越大学体育大会"]
[null,null,null,"四大学対校陸上競技大会（学習院大・成蹊大・成城大・武蔵大）",null,null,"関西学院大学競技会",null,null,"四大学対校女子陸上競技選手権大会（国士大・中京大・中京女大・日体大）"]
[null,null,null,"学園スポーツ大会",null,null,"大阪体育大学混成競技会",null,null,"全関東甲信越薬学生陸上競技大会"]
[null,null,null,"東海大学競技会",null,null,"関西薬学生対校陸上競技大会",null,null,"山口大・北九州大合同競技会"]
[null,null,null,"東海大学種目別競技会",null,null,"甲南大学競技会",null,null,"大阪府立・首都大対校"]
[null,null,null,"国立4大学陸上競技大会（群大・埼大・東大・東学大）",null,null,"京都産業大学長距離競技会",null,null,"大阪大学・名古屋大学対校女子陸上競技大会"]
[null,null,null,"国立4大学女子陸上競技大会（群大・埼大・東大・東学大）"]
[null,null,null,"東京大学陸上競技会"]
[null,null,null,"八大学対校陸上競技大会(桜美林大、工学院大、成蹊大、成城大、玉川大、東理大、都市大、武蔵大)"]
[null,null,null,"早慶対抗陸上競技会"]
[null,null,null,"日本女子体育大学競技会"]
[null,null,null,"人見絹枝杯陸上競技大会"]
[null,null,null,"N.S.S.Uオープン競技会"]
[null,null,null,"日本体育大学最終フィールド競技会"]
[null,null,null,"定期対校陸上競技大会（中大・日体大）"]
[null,null,null,"日本体育大学女子長距離競技会"]
[null,null,null,"日本体育大学長距離競技会"]
[null,null,null,"日本体育大学陸上競技会"]
[null,null,null,"日本体育大学陸上競技選手権"]
[null,null,null,"日本体育大学棒高跳競技会"]
[null,null,null,"日本体育大学室内棒高跳競技会"]
[null,null,null,"東京女子体育大学・日本女子体育大学対校陸上競技大会"]
[null,null,null,"東京地区国公立大学対校陸上競技大会（お茶女大・首都大・電通大・東医歯大・東海洋大・東外大・東学大・東工大・東大・東農工大・一橋大）"]
[null,null,null,"一橋大学・東京大学対校陸上競技大会"]
[null,null,null,"東京三大学女子対校陸上競技大会（津田塾大・東大・一橋大）"]
[null,null,null,"五大学対校陸上競技選手権大会（城西大・上武大・大東大・東洋大・平成国大）"]
[null,null,null,"平成国際大学競技会"]
[null,null,null,"早大長距離競技会"]
[null,null,null,"明治大学対法政大学定期陸上競技大会"]
[null,null,null,"四大学対校陸上競技大会（学習院大・成蹊大・東外大・一橋大）"]
[null,null,null,"順天堂大学競技会"]
[null,null,null,"順天堂大学長距離競技会"]
[null,null,null,"東海大学・日本大学対抗戦"]
[null,null,null,"日本大学競技会"]
[null,null,null,"明治大学対立教大学対抗陸上競技大会"]
[null,null,null,"10大学対校陸上競技大会（桜美林大・北里大・上智大・東京外大・東京経大・朝鮮大・東電大・東京都市大・工学院大・帝京大）"]
[null,null,null,"東京女子体育大学土曜競技会"]
[null,null,null,"関東理工系学生対校陸上競技大会"]
[null,null,null,"流通経済大学陸上競技会"]
[null,null,null,"Josaiスプリントトライアル"]
[null,null,null,"岩壁杯陸上競技対校選手権大会（国武大・城西大・中大・東洋大・法大・平成国大・大東大）"]
[null,null,null,"城西国際大学競技会"]
[null,null,null,"日体大オープン長距離競技会"]
[null,null,null,"早稲田大学投擲競技会"]
[null,null,null,"早稲田大学長距離競技会"]
[null,null,null,"流通経済大学投擲競技会"]
[null,null,null,"法政大学競技会"]
[null,null,null,"東京学芸大学競技会"]
[null,null,null,"明治学院大学対東京経済大学定期対校陸上競技大会"]
[null,null,null,"大東文化大学競技会"]
[null,null,null,"大東文化大学ナイター競技会 兼 東日本女子駅伝予選会"]
[null,null,null,"上武大学陸上競技記録会"]
[null,null,null,"明治大学対法政大学定期陸上競技大会"]
[null,null,null,"東京大学ディスタンスチャレンジ"]
[null,null,null,"国士舘大学デカスロントライアル"]
[null,null,null,"新四大学対校陸上競技大会（学習院大・成蹊大・東外大・一橋大）"]

{"sheet":"競技場","index":3,"n_rows":385,"n_cols":3,"rows_kept":385,"cut":false,"hidden":false,"merged":[]}
["競技場コード","正式名称","385"]
["011010","札幌市厚別公園競技場"]
["012010","札幌市円山競技場"]
["012040","函館市千代台公園陸上競技場"]
["012080","花咲スポーツ公園陸上競技場"]
["012100","帯広の森陸上競技場"]
["012110","釧路市民陸上競技場"]
["012120","室蘭市入江運動公園陸上競技場"]
["013020","北見市東陵公園陸上競技場"]
["013080","青葉公園陸上競技場"]
["013130","士別市営陸上競技場"]
["013170","網走市運動公園陸上競技場"]
["013360","深川市陸上競技場"]
["013380","岩見沢市東山公園陸上競技場"]
["013410","芦別市陸上競技場"]
["013420","小樽市手宮公園陸上競技場"]
["021010","青森県総合運動公園陸上競技場"]
["022010","弘前市運動公園陸上競技場"]
["022040","むつ運動公園陸上競技場"]
["023080","六ヶ所村大石総合運動公園陸上競技場"]
["023110","八戸市東運動公園陸上競技場"]
["023130","中里町運動公園陸上競技場"]
["023150","東北町北総合運動公園陸上競技場"]
["023170","八戸市南郷陸上競技場"]
["023180","六戸町総合運動公園陸上競技場"]
["031010","県営運動公園陸上競技場"]
["031020","北上陸上競技場"]
["032010","一関運動公園陸上競技場"]
["033170","森山総合公園陸上競技場"]
["033190","北上陸上補助競技場"]
["033210","ふれあいらんど岩泉陸上競技場"]
["035050","日居城野陸上競技場"]
["035090","ふれあいらんど岩手陸上競技場"]
["041020","宮城スタジアム"]
["043050","仙台大学陸上競技場"]
["043080","岩沼市陸上競技場"]
["043090","栗原市築館総合運動公園陸上競技場"]
["043100","女川町町民陸上競技場"]
["043110","角田市陸上競技場"]
["043130","東北電力(株)名取スポーツパーク愛島競技場"]
["043140","宮城スタジアム補助競技場"]
["043150","仙台市陸上競技場"]
["043160","加美町陶芸の里スポーツ公園陸上競技場"]
["044120","大和町陸上競技場"]
["051010","秋田市営八橋陸上競技場"]
["051020","秋田県営陸上競技場"]
["052020","大館市長根山運動公園陸上競技場"]
["053060","本荘由利総合運動公園水林陸上競技場"]
["053130","鷹巣阿仁広域市町村圏組合鷹巣陸上競技場"]
["053150","秋田県営補助競技場"]
["053160","横手平鹿広域市町村圏組合十文字陸上競技場"]
["053170","鹿角市総合運動公園総合競技場"]
["061030","ＮＤソフトスタジアム山形"]
["062030","鶴岡市小真木原陸上競技場"]
["063080","山形県あかねヶ丘陸上競技場"]
["063090","酒田市営光ヶ丘陸上競技場"]
["071040","県営あづま陸上競技場"]
["072020","いわき市いわき陸上競技場"]
["073040","福島大学陸上競技場"]
["073100","福島市信夫ヶ丘競技場"]
["073110","田村市陸上競技場"]
["073120","郡山総合運動場開成山陸上競技場"]
["074100","カントリーパークとうわ陸上競技場"]
["081010","茨城県笠松運動公園陸上競技場"]
["082020","水戸市立競技場"]
["082030","広域中央運動公園陸上競技場"]
["082050","ひたちなか市陸上競技場"]
["083070","石岡市運動公園陸上競技場"]
["083090","日立市市民運動公園陸上競技場"]
["083100","龍ヶ崎市陸上競技場"]
["083110","筑波大学陸上競技場"]
["091010","栃木県総合運動公園陸上競技場"]
["092020","栃木市総合運動公園陸上競技場"]
["092030","佐野市総合運動公園陸上競技場"]
["092040","足利市総合運動公園陸上競技場"]
["101010","群馬県営陸上競技場"]
["102020","高崎市浜川競技場"]
["102030","伊勢崎市陸上競技場"]
["103090","太田市運動公園陸上競技場"]
["103100","桐生市陸上競技場"]
["111020","熊谷スポーツ文化公園陸上競技場"]
["112030","川越運動公園陸上競技場"]
["112040","上尾運動公園陸上競技場"]
["113050","早稲田大学織田幹雄記念陸上競技場"]
["113070","鴻巣市立陸上競技場"]
["113080","新座市総合運動公園陸上競技場"]
["113090","東松山陸上競技場"]
["113110","平成国際大学陸上競技場"]
["113120","越谷市立しらこばと運動公園競技場"]
["114030","城西大学総合グラウンド"]
["114040","大東文化大学東松山キャンパス総合グラウンド"]
["114050","東洋大学川越キャンパス陸上競技場"]
["117030","上尾シティハーフマラソンコース"]
["121010","千葉県総合スポーツセンター陸上競技場"]
["122010","船橋市運動公園陸上競技場"]
["122020","成田市中台運動公園陸上競技場"]
["122030","青葉の森公園陸上競技場"]
["122040","臨海陸上競技場"]
["122060","県立柏の葉公園総合競技場"]
["122070","千葉県総合スポーツセンター東陸上競技場"]
["123040","松戸運動公園陸上競技場"]
["123060","国際武道大学陸上競技場"]
["123080","順天堂大学さくらキャンパス陸上競技場"]
["123100","富津臨海陸上競技場"]
["123140","印西市松山下公園陸上競技場"]
["123170","岩名運動公園陸上競技場"]
["123190","白井運動公園陸上競技場"]
["123220","野田市総合公園陸上競技場"]
["123230","鴨川市陸上競技場"]
["124080","市川市営陸上競技場"]
["131010","国立霞ヶ丘競技場"]
["132030","江戸川区陸上競技場"]
["132050","多摩市立陸上競技場"]
["132070","江東区夢の島競技場"]
["132080","八王子市上柚木公園陸上競技場"]
["132090","都駒沢オリンピック公園総合運動場陸上競技場"]
["133010","東京大学陸上競技場"]
["133040","代々木公園陸上競技場"]
["133060","世田谷区立総合運動場"]
["133070","中央大学多摩校地運動施設陸上競技場"]
["133080","都立大井ふ頭中央海浜公園陸上競技場"]
["133100","日本大学陸上競技場"]
["133150","法政大学多摩校地陸上競技場"]
["133160","国士舘大学多摩陸上競技場"]
["133170","舎人公園陸上競技場"]
["133180","武蔵野市立武蔵野陸上競技場"]
["133190","秋留台公園陸上競技場"]
["133200","町田市立陸上競技場"]
["134070","東京女子体育大学陸上競技場"]
["134080","日本女子体育大学陸上競技場"]
["134190","東京学芸大学陸上競技場"]
["137150","立川シティハーフマラソンコース"]
["137200","神宮外苑ハーフマラソンコース"]
["137230","神宮外苑絵画館競歩路コース"]
["137270","国営昭和記念公園"]
["141020","日産スタジアム"]
["141030","川崎市等々力陸上競技場"]
["142010","県立体育センター陸上競技場"]
["142020","城山陸上競技場"]
["142040","平塚市総合公園平塚競技場"]
["142050","厚木市荻野運動公園競技場"]
["142060","大和市営大和スポーツセンター競技場"]
["142070","三ツ沢公園陸上競技場"]
["142080","相模原市麻溝公園競技場"]
["143030","不入斗公園陸上競技場"]
["143050","日本体育大学健志台陸上競技場"]
["143060","東海大学湘南校舎陸上競技場"]
["143100","海老名運動公園陸上競技場"]
["144020","慶應義塾大学日吉"]
["151010","山梨県小瀬スポーツ公園陸上競技場"]
["152010","甲府市緑が丘スポーツ公園陸上競技場"]
["152020","富士北麓公園陸上競技場"]
["153030","櫛形総合公園陸上競技場"]
["153040","都留市総合運動公園やまびこ競技場"]
["154010","山梨学院川田「未来の森」運動公園"]
["155010","韮崎中央公園陸上競技場"]
["161010","新潟市陸上競技場"]
["161020","東北電力ビッグスワンスタジアム"]
["162020","上越市営陸上競技場"]
["162030","長岡市営陸上競技場"]
["162050","十日町市陸上競技場"]
["162060","胎内市総合グラウンド陸上競技場"]
["162070","新発田市五十公野公園陸上競技場"]
["163090","新井陸上競技場"]
["163100","美山陸上競技場"]
["163120","東北電力スワンフィールド"]
["171020","富山県総合運動公園陸上競技場"]
["172010","高岡市営城光寺陸上競技場"]
["172030","魚津桃山運動公園桃山陸上競技場"]
["172040","五福陸上競技場"]
["173070","砺波市陸上競技場"]
["181010","石川県西部緑地公園陸上競技場"]
["182020","小松運動公園末広陸上競技場"]
["182040","加賀市陸上競技場"]
["182050","能美市物見山陸上競技場"]
["182060","松任総合運動公園陸上競技場"]
["182070","金沢市営陸上競技場"]
["183060","かほく市うのけ総合公園陸上競技場"]
["183100","津幡運動公園陸上競技場"]
["183110","志賀町陸上競技場"]
["184050","学校法人稲置学園総合運動場"]
["187030","輪島競歩路コース"]
["187210","能美市営20km競歩路コース"]
["191010","福井運動公園陸上競技場"]
["192010","越前市東運動公園陸上競技場"]
["192020","三国運動公園陸上競技場"]
["192030","敦賀市総合運動公園陸上競技場"]
["192050","奥越ふれあい公園陸上競技場"]
["193010","鯖江市東公園陸上競技場"]
["193030","小浜市総合運動場陸上競技場"]
["201010","長野市営陸上競技場"]
["201020","県松本平広域公園陸上競技場"]
["202030","伊那市総合運動場"]
["202050","飯田市総合運動場"]
["203060","松本歯科大学陸上競技場"]
["203080","菅平高原スポーツランド陸上競技場"]
["207150","大町市運動場陸上競技場付属マラソンコース"]
["211010","草薙総合運動公園陸上競技場"]
["211030","小笠山総合運動公園静岡スタジアム"]
["212010","浜松市四ツ池公園陸上競技場"]
["212020","富士総合運動公園陸上競技場"]
["212030","御殿場市陸上競技場"]
["212040","裾野市運動公園陸上競技場"]
["212050","愛鷹広域公園多目的競技場"]
["213040","静岡市清水総合運動場陸上競技場"]
["213060","静岡市西ヶ谷総合運動公園陸上競技場"]
["213080","磐田市陸上競技場"]
["213110","大井川町陸上競技場"]
["214010","藤枝総合運動公園陸上競技場"]
["215050","日本大学国際関係学部第1グラウンド陸上競技場"]
["221010","瑞穂公園陸上競技場"]
["222010","知多運動公園陸上競技場"]
["222020","安城市陸上競技場"]
["222030","豊田市運動公園陸上競技場"]
["223020","愛知教育大学陸上競技場"]
["223030","豊橋市営陸上競技場"]
["223060","中京大学梅村陸上競技場"]
["223090","瑞穂公園北陸上競技場"]
["223130","ウエーブスタジアム刈谷"]
["223140","半田運動公園陸上競技場"]
["223150","豊川市陸上競技場"]
["224040","至学館大学陸上競技場"]
["227020","瑞穂公園陸上競技場付属マラソンコース"]
["227070","犬山ハーフマラソンコース"]
["227080","庄内緑地公園20kmコース"]
["231020","岐阜メモリアルセンター長良川競技場"]
["232020","多治見市星ヶ台競技場"]
["233060","中津川公園陸上競技場"]
["233070","高山市中山公園陸上競技場"]
["234020","岐阜経済大学陸上競技場"]
["241010","三重県営総合競技場陸上競技場"]
["242010","四日市市中央緑地陸上競技場"]
["242020","東員町スポーツ公園陸上競技場"]
["251010","皇子山総合運動公園陸上競技場"]
["252010","県立彦根総合運動場陸上競技場"]
["253020","佐川急便守山陸上競技場"]
["253030","びわこフィールド陸上競技場"]
["257030","びわ湖毎日マラソンコース"]
["261010","京都市西京極総合運動公園陸上競技場"]
["262020","府立山城総合運動公園陸上競技場"]
["263020","府立丹波自然運動公園陸上競技場"]
["263050","同志社大学陸上競技場"]
["263060","亀岡運動公園競技場"]
["264040","京都産業大学総合グラウンド"]
["267090","京都シティハーフマラソンコース"]
["271010","大阪市長居陸上競技場"]
["271030","万国博記念競技場"]
["271040","大阪市長居第二陸上競技場"]
["272010","堺市金岡公園陸上競技場"]
["272020","枚方市立陸上競技場"]
["273050","浪商学園陸上競技場"]
["273090","大阪府服部緑地陸上競技場"]
["275020","関西大学千里山中央グラウンド"]
["277110","大阪市長居第二陸上競技場付設マラソンコース"]
["281010","県立明石公園陸上競技場"]
["281030","姫路市立陸上競技場"]
["281040","尼崎市記念公園陸上競技場"]
["281050","神戸総合運動公園陸上競技場"]
["281060","加古川運動公園陸上競技場"]
["283110","関西学院大学神戸三田キャンパス"]
["284040","関西学院第２フィールド陸上競技場"]
["287220","六甲アイランド周回公認20km競歩路コース"]
["291010","奈良市鴻ノ池陸上競技場"]
["291020","県立橿原公苑陸上競技場"]
["301010","紀三井寺公園陸上競技場"]
["303070","桃源郷運動公園陸上競技場"]
["311010","県立布勢総合運動公園陸上競技場"]
["312030","米子市営東山陸上競技場"]
["313060","名和町総合運動公園陸上競技場"]
["313070","倉吉市営陸上競技場"]
["321010","県立浜山公園陸上競技場"]
["321020","松江市営陸上競技場"]
["322010","益田陸上競技場"]
["323080","大東ふれあい運動場陸上競技場"]
["327050","まつえレディースハーフマラソンコース"]
["331010","岡山県陸上競技場"]
["332010","倉敷運動公園陸上競技場"]
["332020","岡山県津山陸上競技場"]
["332030","岡山県笠岡陸上競技場"]
["333050","備前市総合運動公園陸上競技場"]
["333060","総社北公園陸上競技場"]
["333070","神埼山公園競技場"]
["341010","コカ・コーラウエスト広島スタジアム"]
["341020","広島広域公園陸上競技場"]
["342010","福山市竹ヶ端運動公園陸上競技場"]
["342030","みよし運動公園陸上競技場"]
["342040","びんご運動公園陸上競技場"]
["342050","東広島運動公園陸上競技場"]
["343100","庄原市上野総合公園陸上競技場"]
["344050","呉市総合スポーツセンター陸上競技場"]
["345190","広島経済大学陸上競技場"]
["351010","維新百年記念公園陸上競技場"]
["352010","下関市営下関陸上競技場"]
["352030","防府市陸上競技場"]
["353040","徳山大学総合グラウンド陸上競技場"]
["353050","周防大島町陸上競技場"]
["357040","防府読売マラソンコース"]
["361010","県鳴門総合運動公園陸上競技場"]
["362010","徳島市陸上競技場"]
["371020","県立丸亀競技場主競技場"]
["373020","綾南町総合運動公園陸上競技場"]
["373040","高松市屋島陸上競技場"]
["374020","明善学園スポーツセンター"]
["377010","県立丸亀競技場付設マラソンコース"]
["381010","愛媛県総合運動公園陸上競技場"]
["382010","西条ひうち陸上競技場"]
["383060","丸山公園陸上競技場"]
["384040","新居浜市東雲競技場"]
["391010","高知県立春野総合運動公園陸上競技場"]
["392010","高知市陸上競技場"]
["393010","高知大学朝倉地区陸上競技場"]
["393040","宿毛市総合運動公園陸上競技場"]
["401010","福岡市平和台陸上競技場"]
["401030","県立久留米スポーツセンター陸上競技場"]
["401050","北九州市立本城公園陸上競技場"]
["401060","福岡市博多の森陸上競技場"]
["402010","御大典記念グラウンド"]
["402030","小郡運動公園小郡市陸上競技場"]
["403080","豊津町営陸上競技場"]
["403100","宇美町総合スポーツ公園陸上競技場"]
["403110","嘉穂町総合グラウンド陸上競技場"]
["403120","福岡大学陸上競技場"]
["403140","北九州市立鞘ヶ谷競技場"]
["403150","九州共立大学陸上競技場"]
["405010","筑紫野市陸上競技場"]
["405030","グローバルアリーナ陸上競技場"]
["405040","北九州市立大学青嵐グラウンド"]
["407070","福岡朝日国際マラソンコース"]
["411010","佐賀県総合運動場陸上競技場"]
["413010","伊万里市国見台陸上競技場"]
["413030","唐津市陸上競技場"]
["413040","鹿島市陸上競技場"]
["421010","県立総合運動公園陸上競技場"]
["421020","長崎市総合運動公園かきどまり陸上競技場"]
["422020","佐世保市総合グラウンド陸上競技場"]
["422030","島原市営陸上競技場"]
["431020","熊本県民総合運動公園陸上競技場"]
["432010","熊本市水前寺競技場"]
["433050","本渡運動公園陸上競技場"]
["433060","熊本県営八代運動公園陸上競技場"]
["435070","益城町総合運動公園陸上競技場"]
["437030","熊日30kmコース"]
["441010","大分市営陸上競技場"]
["441020","九州石油ドーム"]
["442010","佐伯市陸上競技場"]
["442020","日田市陸上競技場"]
["443030","竹田市陸上競技場"]
["447040","別府大分毎日マラソンコース"]
["451010","県総合運動公園陸上競技場"]
["452020","延岡市西階陸上競技場"]
["453050","小林総合運動公園市営陸上競技場"]
["453060","藤見総合公園陸上競技場"]
["453080","串間市営陸上競技場"]
["453090","宮崎市生目の社運動公園陸上競技場"]
["457110","宮崎女子ハーフマラソンコース"]
["461010","県立鴨池陸上競技場"]
["463050","日置市伊集院総合運動公園陸上競技場"]
["463070","中種子町陸上競技場"]
["463080","薩摩川内市総合運動公園陸上競技場"]
["463090","国分運動公園陸上競技場"]
["463100","鹿屋体育大学陸上競技場"]
["464020","名瀬運動公園陸上競技場"]
["464090","奄美市太陽が丘総合運動公園陸上競技場"]
["471020","沖縄市営陸上競技場"]
["471030","沖縄県総合運動公園陸上競技場"]
["473040","宮古島市陸上競技場"]
["473120","北谷公園陸上競技場"]
["473130","国頭村営陸上競技場"]
["473140","名護市営陸上競技場"]
["室内46","日本体育大学横浜健志台ｷｬﾝﾊﾟｽ第一体育館棒高跳"]
["室内51","観音寺市立総合体育館棒高跳"]
["室内53","大阪市・大阪城ホール"]
["駅伝","印西市千葉ニュータウン周回コース"]
["駅伝","京都洛北"]
["駅伝","山口市"]
["駅伝","出雲市"]
["駅伝","神戸しあわせの村"]
["駅伝","仙台市"]
["駅伝","大手町読売新聞旧東京本社（建て替え中）前～箱根芦ノ湖駐車場入口"]
["駅伝","知多半島"]
["駅伝","秩父別町"]
["駅伝","島原市"]
["駅伝","道後山クロカンパーク"]
["駅伝","琵琶湖西岸"]
["駅伝","名古屋市～伊勢市"]

{"sheet":"大学名","index":4,"n_rows":8,"n_cols":119,"rows_kept":8,"cut":false,"hidden":true,"merged":[]}
[25,"旭川医科大学","旭川工業高等専門学校","小樽商科大学","帯広畜産大学","北見工業大学","札幌医科大学","札幌学院大学","札幌国際大学","札幌大学","東海大学北海道","東京農業大学生物産業学部","函館工業高等専門学校","藤女子大学","北翔大学","北星学園大学","北海学園大学","北海商科大学","北海道医療大学","北海道教育大学","北海道工業大学","北海道大学","北海道文教大学","北海道武蔵女子短期大学","室蘭工業大学","酪農学園大学"]
[31,"会津大学","青森県立保健大学","青森公立大学","青森大学","秋田県立大学","秋田大学","石巻専修大学","いわき明星大学","岩手県立大学","岩手大学","北里大学獣医学部","仙台大学","東北学院大学","東北工業大学","東北大学","東北福祉大学","東北文化学園大学","日本大学工学部","ノースアジア大学","八戸大学","弘前大学","福島県立医科大学","福島工業高等専門学校","福島大学","富士大学","宮城学院女子大学","宮城教育大学","宮城大学","盛岡大学","山形県立米沢女子短期大学","山形大学"]
[118,"青山学院大学","亜細亜大学","茨城大学","宇都宮大学","桜美林大学","お茶の水女子大学","学習院女子大学","学習院大学","神奈川工科大学","神奈川大学","鎌倉女子大学","関東学院大学","関東学園大学","北里大学","群馬大学","敬愛大学","慶應義塾大学","工学院大学","國學院大學","国際武道大学","国士舘大学","駒澤大学","埼玉医科大学","埼玉大学","相模女子大学","作新学院大学","サレジオ工業高等専門学校","芝浦工業大学","首都大学東京","順天堂大学","松蔭大学","城西国際大学","城西大学","上智大学","尚美学園大学","上武大学","昭和大学","昭和薬科大学","駿河台大学","聖学院大学","成蹊大学","成城大学","聖徳大学","清和大学","専修大学","創価大学","創造学園大学","大正大学","大東文化大学","高崎経済大学","拓殖大学","玉川大学","千葉工業大学","千葉商科大学","千葉大学","中央学院大学","中央大学","筑波大学","津田塾大学","都留文科大学","帝京大学","帝京平成大学","電気通信大学","桐蔭横浜大学","東海大学","東京医科歯科大学","東京外国語大学","東京海洋大学","東京学芸大学","東京経済大学","東京工科大学","東京工業大学","東京工芸大学","東京国際大学","東京情報大学","東京女子体育大学","東京大学","東京電機大学","東京都市大学","東京農業大学","東京農工大学","東京福祉大学","東京薬科大学","東京理科大学","東邦大学","東洋大学","獨協大学","日本工業大学","日本体育大学","日本女子体育大学","日本女子大学","日本大学","白?大学","一橋大学","文教大学","平成国際大学","防衛医科大学校","防衛大学校","法政大学","武蔵丘短期大学","武蔵大学","武蔵野学院大学","明海大学","明治学院大学","明治大学","明治薬科大学","明星大学","山梨英和大学","山梨学院大学","山梨大学","横浜市立大学","横浜国立大学","立教大学","立正大学","流通経済大学","麗澤大学","和光大学","早稲田大学"]
[29,"石川県立大学","石川工業高等専門学校","金沢医科大学","金沢学院大学","金沢工業大学","金沢星稜大学","金沢大学","金城大学","小松短期大学","上越教育大学","仁愛女子短期大学","仁愛大学","信州大学","諏訪東京理科大学","富山高等専門学校","富山大学","長岡技術科学大学","長岡工業高等専門学校","長野工業高等専門学校","新潟医療福祉大学","新潟県立大学","新潟国際情報大学","新潟大学","新潟薬科大学","福井県立大学","福井工業大学","福井大学","松本歯科大学","松本大学"]
[43,"愛知医科大学","愛知学院大学","愛知教育大学","愛知県立大学","愛知工業大学","愛知淑徳大学","愛知大学","愛知東邦大学","朝日大学","岐阜経済大学","岐阜工業高等専門学校","岐阜聖徳学園大学","岐阜大学","近畿大学工業高等専門学校","金城学院大学","皇學館大学","至学館大学","静岡産業大学","静岡大学","椙山女学園大学","鈴鹿工業高等専門学校","大同大学","中京大学","中部学院大学","中部大学","東海学園大学","東海大学海洋","常葉学園大学","豊田工業高等専門学校","豊橋技術科学大学","名古屋外国語大学","名古屋学院大学","名古屋工業大学","名古屋商科大学","名古屋市立大学","名古屋大学","南山大学","日本福祉大学","浜松大学","富士常葉大学","三重大学","三重中京大学","名城大学"]
[75,"追手門学院大学","大阪医科大学","大阪大谷大学","大阪学院大学","大阪教育大学","大阪経済大学","大阪経済法科大学","大阪芸術大学","大阪工業大学","大阪国際大学","大阪産業大学","大阪商業大学","大阪市立大学","大阪成蹊大学","大阪体育大学","大阪大学","大阪電気通信大学","大阪人間科学大学","大阪府立大学","大谷大学","関西医科大学","関西外国語大学","関西大学","関西学院大学","京都外国語大学","京都学園大学","京都教育大学","京都光華女子大学","京都工芸繊維大学","京都産業大学","京都女子大学","京都大学","京都府立医科大学","京都府立大学","京都薬科大学","近畿医療福祉大学","近畿大学","甲南大学","神戸学院大学","神戸国際大学","神戸女子大学","神戸大学","神戸薬科大学","滋賀医科大学","滋賀県立大学","滋賀大学","四天王寺大学","摂南大学","園田学園女子大学","太成学院大学","帝塚山大学","天理大学","同志社女子大学","同志社大学","奈良教育大学","奈良県立医科大学","奈良産業大学","奈良女子大学","奈良大学","奈良文化女子短期大学","阪南大学","東大阪大学","兵庫教育大学","兵庫県立大学","兵庫大学","びわこ学院大学","びわこ成蹊スポーツ大学","佛教大学","武庫川女子大学","明治国際医療大学","桃山学院大学","立命館大学","龍谷大学","流通科学大学","和歌山大学"]
[57,"阿南工業高等専門学校","宇部フロンティア大学","愛媛大学","大島商船高等専門学校","岡山県立大学","岡山商科大学","岡山大学","岡山理科大学","尾道市立大学","海上保安大学校","香川大学","川崎医科大学","川崎医療短期大学","川崎医療福祉大学","環太平洋大学","吉備国際大学","近畿大学工学部","倉敷芸術科学大学","呉工業高等専門学校","県立広島大学","高知県立大学","高知工科大学","高知大学","四国学院大学","四国大学","島根県立大学","島根大学","下関市立大学","就実大学","水産大学校","高松大学","津山工業高等専門学校","東亜大学","徳島大学","徳島文理大学","徳山工業高等専門学校","徳山大学","鳥取大学","鳴門教育大学","ノートルダム清心女子大学","広島経済大学","広島工業大学","広島国際大学","広島修道大学","広島商船高等専門学校","広島市立大学","広島大学","福山大学","福山平成大学","松江工業高等専門学校","松山大学","美作大学","山口県立大学","山口大学","山口福祉文化大学","弓削商船高等専門学校","米子工業高等専門学校"]
[53,"有明工業高等専門学校","大分工業高等専門学校","大分大学","沖縄国際大学","沖縄大学","鹿児島工業高等専門学校","鹿児島国際大学","鹿児島大学","鹿屋体育大学","北九州市立大学","北九州工業高等専門学校","九州共立大学","九州工業大学","九州国際大学","九州産業大学","九州歯科大学","九州情報大学","九州大学","九州保健福祉大学","近畿大学産業理工学部","熊本学園大学","熊本高等専門学校","熊本大学","久留米工業高等専門学校","久留米工業大学","久留米大学","佐賀大学","佐世保工業高等専門学校","産業医科大学","志學館大学","西南学院大学","西南女学院大学","崇城大学","第一工業大学","東海大学九州","長崎県立大学","長崎国際大学","長崎純心大学","長崎大学","西九州大学","西日本工業大学","日本経済大学","日本文理大学","福岡教育大学","福岡工業大学","福岡大学","都城工業高等専門学校","宮崎公立大学","宮崎産業経営大学","宮崎大学","名桜大学","立命館アジア太平洋大学","琉球大学"]

{"sheet":"Competition","index":5,"n_rows":124,"n_cols":1,"rows_kept":124,"cut":false,"hidden":true,"merged":[]}
["関東学生陸上競技対校選手権大会"]
["東京箱根間往復大学駅伝競走"]
["東京箱根間往復大学駅伝競走予選会"]
["関東大学女子駅伝対校選手権大会"]
["関東学生新人陸上競技選手権大会"]
["トワイライト・ゲームス"]
["全日本大学駅伝関東学連推薦校選考会"]
["関東学連春季オープン競技会"]
["関東学連秋季オープン競技会"]
["10000m記録挑戦競技会"]
["二大学対校陸上競技会（茨大・千大）"]
["群馬大学競技会"]
["関東私学六大学対校陸上競技大会（國学大・上智大・成蹊大・東経大・明学大・立大）"]
["国士舘大学競技会"]
["国士舘大学長距離競技会"]
["国際武道大学競技会"]
["国際武道大学秋季合同競技会"]
["国際武道大学選手権"]
["国際武道大学フィールド競技会"]
["北関東5大学対校陸上競技大会（茨大・宇大・群大・埼大・高経大）"]
["関東私学四大学対校陸上競技大会（上智大、成蹊大、獨協大、明学大）"]
["早大競技会"]
["東京六大学対校陸上競技大会（慶大・東大・法大・明大・立大・早大）"]
["中大競技会"]
["中大長距離競技会"]
["筑波大競技会"]
["筑波大投擲競技会"]
["筑波大ポストシーズン競技会"]
["長距離競技会"]
["13大学対校陸上競技大会（工学院大・首都大・帝京大・電通大・東外大・東工大・東電大・東農工大・東京薬大・東理大・文教大・武蔵工大・横市大）"]
["四大学対校陸上競技大会（国士大・順大・東海大・日女体大・日体大）"]
["関東七大学対校陸上競技大会（学習院大・北里大・成城大・獨協大・東邦大・文教大・明学大）"]
["四大学対校陸上競技大会（学習院大・成蹊大・成城大・武蔵大）"]
["学園スポーツ大会"]
["東海大学競技会"]
["東海大学種目別競技会"]
["国立4大学陸上競技大会（群大・埼大・東大・東学大）"]
["国立4大学女子陸上競技大会（群大・埼大・東大・東学大）"]
["東京大学陸上競技会"]
["八大学対校陸上競技大会(桜美林大、工学院大、成蹊大、成城大、玉川大、東理大、都市大、武蔵大)"]
["早慶対抗陸上競技会"]
["日本女子体育大学競技会"]
["人見絹枝杯陸上競技大会"]
["N.S.S.Uオープン競技会"]
["日本体育大学最終フィールド競技会"]
["定期対校陸上競技大会（中大・日体大）"]
["日本体育大学女子長距離競技会"]
["日本体育大学長距離競技会"]
["日本体育大学陸上競技会"]
["日本体育大学陸上競技選手権"]
["日本体育大学棒高跳競技会"]
["日本体育大学室内棒高跳競技会"]
["東京女子体育大学・日本女子体育大学対校陸上競技大会"]
["東京地区国公立大学対校陸上競技大会（お茶女大・首都大・電通大・東医歯大・東海洋大・東外大・東学大・東工大・東大・東農工大・一橋大）"]
["一橋大学・東京大学対校陸上競技大会"]
["東京三大学女子対校陸上競技大会（津田塾大・東大・一橋大）"]
["五大学対校陸上競技選手権大会（城西大・上武大・大東大・東洋大・平成国大）"]
["平成国際大学競技会"]
["早大長距離競技会"]
["明治大学対法政大学定期陸上競技大会"]
["四大学対校陸上競技大会（学習院大・成蹊大・東外大・一橋大）"]
["順天堂大学競技会"]
["順天堂大学長距離競技会"]
["東海大学・日本大学対抗戦"]
["日本大学競技会"]
["明治大学対立教大学対抗陸上競技大会"]
["10大学対校陸上競技大会（桜美林大・北里大・上智大・東京外大・東京経大・朝鮮大・東電大・東京都市大・工学院大・帝京大）"]
["東京女子体育大学土曜競技会"]
["関東理工系学生対校陸上競技大会"]
["流通経済大学陸上競技会"]
["Josaiスプリントトライアル"]
["岩壁杯陸上競技対校選手権大会（国武大・城西大・中大・東洋大・法大・平成国大・大東大）"]
["城西国際大学競技会"]
["日体大オープン長距離競技会"]
["早稲田大学投擲競技会"]
["早稲田大学長距離競技会"]
["流通経済大学投擲競技会"]
["法政大学競技会"]
["東京学芸大学競技会"]
["明治学院大学対東京経済大学定期対校陸上競技大会"]
["大東文化大学競技会"]
["大東文化大学ナイター競技会 兼 東日本女子駅伝予選会"]
["上武大学陸上競技記録会"]
["明治大学対法政大学定期陸上競技大会"]
["東京大学ディスタンスチャレンジ"]
["国士舘大学デカスロントライアル"]
["新四大学対校陸上競技大会（学習院大・成蹊大・東外大・一橋大）"]
["秩父宮賜杯西日本学生陸上競技対校選手権大会"]
["北日本学生陸上競技対校選手権大会"]
["北海道大学対東北大学陸上競技定期戦"]
["青山学院大学対東北学院大学陸上競技定期戦"]
["全日本医歯薬獣医大学対抗陸上競技選手権大会"]
["同志社大学対立教大学定期陸上競技戦"]
["同志社大学対立教大学女子対抗陸上競技大会"]
["三大学対校陸上競技大会（大阪市大・神戸大・一橋大）"]
["国公立22大学対校陸上競技大会（茨大・宇大・群大・埼大・静大・首都大・信州大・高経大・千大・都留文大・電通大・東学大・東工大・東北大・新潟大・一橋大・福島大・三重大・山形大・山梨大・横市大・横国大）"]
["六大学対校陸上競技大会（東海大・筑波大・順大・日体大・日大・中京大）"]
["関西大学対法政大学対校陸上競技定期戦"]
["東京大学・京都大学対校陸上競技大会"]
["東京大学・京都大学対校女子陸上競技大会"]
["早稲田大学・関西学院大学対校陸上競技大会"]
["大学対校混成競技会"]
["国公立22大学対校駅伝大会（茨大・宇大・群大・埼大・静大・首都大・信州大・高経大・千大・都留文大・電通大・東学大・東工大・東北大・新潟大・一橋大・福島大・三重大・山形大・山梨大・横市大・横国大）"]
["信州大学・名古屋大学対校陸上競技大会"]
["一橋大学・名古屋大学対校陸上競技大会"]
["一橋大学・名古屋大学女子対校陸上競技大会"]
["慶応義塾大学・同志社大学対校陸上競技大会"]
["大阪大学・名古屋大学対校陸上競技大会"]
["秩父宮賜杯学習院大学・甲南大学対校陸上競技大会"]
["学習院大学・甲南大学対校陸上競技大会（女子の部）"]
["全国教育系大学陸上競技大会"]
["西日本七大学陸上競技対校選手権大会（神戸大・滋賀大・山口大・香川大・大阪市大・兵庫県大・和大）"]
["大阪経済大学対東京経済大学定期対校戦"]
["九州・山口医科学生体育大会"]
["全国七大学対校女子陸上競技大会（北大・東北大・東大・名大・京大・阪大・九大）"]
["全国七大学対校陸上競技大会（北大・東北大・東大・名大・京大・阪大・九大）"]
["西日本医科学生総合体育大会"]
["関西医歯薬科学生対校陸上競技大会"]
["関東甲信越大学体育大会"]
["四大学対校女子陸上競技選手権大会（国士大・中京大・中京女大・日体大）"]
["全関東甲信越薬学生陸上競技大会"]
["山口大・北九州大合同競技会"]
["大阪府立・首都大対校"]
["大阪大学・名古屋大学対校女子陸上競技大会"]

{"sheet":"2012","index":6,"n_rows":316,"n_cols":20,"rows_kept":316,"cut":false,"hidden":true,"merged":[]}
[]
[]
[]
[]
[]
[]
[]
[]
[]
[]
[]
[]
[{"$f":"IF(COUNTIF(競技会!$A$2:$J$92,'2012'!I13)=0,\"ないです\",\"\")","v":""},"継続",4,1,"～",4,1,"第21回","群馬大学競技会","103100",{"$f":"IF(VLOOKUP(J13,競技場!$A$2:$B$371,2)=L13,\"○\",\"×\")","v":"○"},"桐生市陸上競技場","関  亜斗利","群馬大学","08012201610","gunnmadai_rikujoubu@hotmail.co.jp",3710044,"前橋市荒牧町173-2-101",null,130401]
[{"$f":"IF(COUNTIF(競技会!$A$2:$J$92,'2012'!I14)=0,\"ないです\",\"\")","v":""},"継続",4,1,"～",4,1,"平成24年度第1回","日本大学競技会","133100",{"$f":"IF(VLOOKUP(J14,競技場!$A$2:$B$371,2)=L14,\"○\",\"×\")","v":"○"},"日本大学陸上競技場","浅野　晃佑","日本大学","0333041969","nihon_univ_tf@yahoo.co.jp",1560045,"東京都世田谷区桜上水３－２３日本大学陸上競技場グランドトレーニング室２F",null,130401]
[{"$f":"IF(COUNTIF(競技会!$A$2:$J$92,'2012'!I15)=0,\"ないです\",\"\")","v":""},"継続",4,1,"～",4,1,"第1回","筑波大競技会","083110",{"$f":"IF(VLOOKUP(J15,競技場!$A$2:$B$371,2)=L15,\"○\",\"×\")","v":"○"},"筑波大学陸上競技場","柳澤　純太","筑波大学","",null,null,null,null,130401]
[{"$f":"IF(COUNTIF(競技会!$A$2:$J$92,'2012'!I16)=0,\"ないです\",\"\")","v":""},"継続",4,1,"～",4,1,"第2回","鹿屋体育大学陸上競技会","463100",{"$f":"IF(VLOOKUP(J16,競技場!$A$2:$B$371,2)=L16,\"○\",\"×\")","v":"○"},"鹿屋体育大学陸上競技場","境　実穂","鹿屋体育大学","0908416632","dada-duck.rn",8912311,"鹿児島県鹿屋市白水町388-1メゾン白水207",null,130401]
[{"$f":"IF(COUNTIF(競技会!$A$2:$J$92,'2012'!I17)=0,\"ないです\",\"\")","v":""},"継続",4,1,"～",4,1,null,"愛知六大学対校陸上競技大会（愛知大・愛知学大・愛教大・名大・南山大・名城大）","222010",{"$f":"IF(VLOOKUP(J17,競技場!$A$2:$B$371,2)=L17,\"○\",\"×\")","v":"○"},"知多運動公園陸上競技場","村松　蒼介","名古屋大学","09017881765","sosuke.protaft@gmail.com",4660807,"愛知県名古屋市昭和区花町93ヒルズ山花303",null,130401]
[{"$f":"IF(COUNTIF(競技会!$A$2:$J$92,'2012'!I18)=0,\"ないです\",\"\")","v":""},"継続",4,1,"～",4,1,null,"梅村学園陸上競技大会","223060",{"$f":"IF(VLOOKUP(J18,競技場!$A$2:$B$371,2)=L18,\"○\",\"×\")","v":"○"},"中京大学梅村陸上競技場","鈴木　雄貴","中京大学","0565461316","chukyot-f@snow.ocn.ne.jp",4700393,"愛知県豊田市貝津町床立101",null,130401]
[{"$f":"IF(COUNTIF(競技会!$A$2:$J$92,'2012'!I19)=0,\"ないです\",\"\")","v":""},"継続",4,7,"～",4,7,"第63回","青山学院大学対東北学院大学陸上競技定期戦","132080",{"$f":"IF(VLOOKUP(J19,競技場!$A$2:$B$371,2)=L19,\"○\",\"×\")","v":"○"},"八王子市上柚木公園陸上競技場","橋本　直也","青山学院大学","08011085457","naoya_akuta0611@yahoo.co.jp",1940021,"東京都町田市中町2-20-20　青山学院大学町田寮",null,130407]
[{"$f":"IF(COUNTIF(競技会!$A$2:$J$92,'2012'!I20)=0,\"ないです\",\"\")","v":""},"継続",4,"7","～",4,"8","第1回","国士舘大学競技会","133160",{"$f":"IF(VLOOKUP(J20,競技場!$A$2:$B$371,2)=L20,\"○\",\"×\")","v":"○"},"国士舘大学多摩陸上競技場","大具　祥子","国士舘大学","08010300138","k_u_a_since1956@hotmail.com",2068515,"東京都多摩市永山7－3－1　国士舘大学陸上競技研究室",null,130407]
[{"$f":"IF(COUNTIF(競技会!$A$2:$J$92,'2012'!I21)=0,\"ないです\",\"\")","v":""},"継続",4,7,"～",4,7,null,"東京女子体育大学土曜競技会","134070",{"$f":"IF(VLOOKUP(J21,競技場!$A$2:$B$371,2)=L21,\"○\",\"×\")","v":"○"},"東京女子体育大学陸上競技場","鈴木　亜季子","東京女子体育大学","07050751478","twcpe.rikujyou@gmail.com",1868668,"東京都国立市富士見台4-30-1",null,130407]
[{"$f":"IF(COUNTIF(競技会!$A$2:$J$92,'2012'!I22)=0,\"ないです\",\"\")","v":""},"継続",4,"7","～",4,"8",null,"国際武道大学競技会","123060",{"$f":"IF(VLOOKUP(J22,競技場!$A$2:$B$371,2)=L22,\"○\",\"×\")","v":"○"},"国際武道大学陸上競技場","三田　萌子","国際武道大学","09042684439","mee_0427-1026_msc@softbank.ne.jp",2995224,"千葉県勝浦市新官996-47橋本ハイツ202",null,130407]
[{"$f":"IF(COUNTIF(競技会!$A$2:$J$92,'2012'!I23)=0,\"ないです\",\"\")","v":""},"継続",4,7,"～",4,7,"第29回","東海大学・日本大学対抗戦",null,{"$f":"IF(VLOOKUP(J23,競技場!$A$2:$B$371,2)=L23,\"○\",\"×\")","v":{"$error":"#N/A"}},"未定","浅野　晃佑","日本大学","0333041969","nihon_univ_tf@yahoo.co.jp",1560045,"東京都世田谷区桜上水３－２３日本大学陸上競技場グランドトレーニング室２F",null,130407]
[{"$f":"IF(COUNTIF(競技会!$A$2:$J$92,'2012'!I24)=0,\"ないです\",\"\")","v":""},"継続",4,7,"～",4,7,"24年度第22回","新四大学対校陸上競技大会（学習院大・成蹊大・東外大・一橋大）","133080",{"$f":"IF(VLOOKUP(J24,競技場!$A$2:$B$371,2)=L24,\"○\",\"×\")","v":"○"},"都立大井ふ頭中央海浜公園陸上競技場","植松　拓也　","成蹊大学","09063402145","ue103063@cc.seikei.ac.jp",null,null,null,130407]
[{"$f":"IF(COUNTIF(競技会!$A$2:$J$92,'2012'!I25)=0,\"ないです\",\"\")","v":""},"継続",4,7,"～",4,7,null,"高知大学春季競技会","393010",{"$f":"IF(VLOOKUP(J25,競技場!$A$2:$B$371,2)=L25,\"○\",\"×\")","v":"○"},"高知大学朝倉地区陸上競技場","穴吹　政人","高知大学","08063979637","kochi_univ2005@yahoo.co.jp",7800945,"高知県高知市本宮町１５９-１-５０２",null,130407]
[{"$f":"IF(COUNTIF(競技会!$A$2:$J$92,'2012'!I26)=0,\"ないです\",\"\")","v":""},"継続",4,7,"～",4,7,"第1回","学連競技会","403120",{"$f":"IF(VLOOKUP(J26,競技場!$A$2:$B$371,2)=L26,\"○\",\"×\")","v":"○"},"福岡大学陸上競技場","末冨　洋一",null,"0927150997","kyu-athi@blue.ocn.ne.jp",8100062,"福岡市中央区荒戸3-3-66 オリエンタル大濠308",null,130407]
[{"$f":"IF(COUNTIF(競技会!$A$2:$J$92,'2012'!I27)=0,\"ないです\",\"\")","v":""},"継続",4,8,"～",4,8,"第38回","定期対校陸上競技大会（中大・日体大）","143050",{"$f":"IF(VLOOKUP(J27,競技場!$A$2:$B$371,2)=L27,\"○\",\"×\")","v":"○"},"日本体育大学健志台陸上競技場","池田　亮","日本体育大学","0459620520","nittai-honbu@d02.itscom.net",2270035,"神奈川県横浜市青葉区すみよし台37－3",null,130408]
[{"$f":"IF(COUNTIF(競技会!$A$2:$J$92,'2012'!I28)=0,\"ないです\",\"\")","v":""},"継続",4,8,"～",4,8,null,"五大学対校陸上競技選手権大会（城西大・上武大・大東大・東洋大・平成国大）",null,{"$f":"IF(VLOOKUP(J28,競技場!$A$2:$B$371,2)=L28,\"○\",\"×\")","v":{"$error":"#N/A"}},"未定","二瓶　大","平成国際大学","08018034424","abc1107yuta@gmail.com",3470001,"埼玉県加須市大越1503",null,130408]
[{"$f":"IF(COUNTIF(競技会!$A$2:$J$92,'2012'!I29)=0,\"ないです\",\"\")","v":""},"継続",4,8,"～",4,8,"第1回","上武大学陸上競技記録会","102030",{"$f":"IF(VLOOKUP(J29,競技場!$A$2:$B$371,2)=L29,\"○\",\"×\")","v":"○"},"伊勢崎市陸上競技場","佐藤　寛将","上武大学","08012205243",null,3728588,"群馬県伊勢崎市戸谷塚町634-1",null,130408]
[{"$f":"IF(COUNTIF(競技会!$A$2:$J$92,'2012'!I30)=0,\"ないです\",\"\")","v":""},"継続",4,8,"～",4,8,"第10回","金沢星稜大学競技会","184050",{"$f":"IF(VLOOKUP(J30,競技場!$A$2:$B$371,2)=L30,\"○\",\"×\")","v":"○"},"学校法人稲置学園総合運動場","杉林　孝法","金沢星稜大学","09049657336","sugi@seiryo-u.ac.jp",9208620,"石川県御所町丑10-1 金沢星稜大学",null,130408]
[{"$f":"IF(COUNTIF(競技会!$A$2:$J$92,'2012'!I31)=0,\"ないです\",\"\")","v":""},"継続",4,8,"～",4,8,"第9回","名桜大学陸上競技会",null,{"$f":"IF(VLOOKUP(J31,競技場!$A$2:$B$371,2)=L31,\"○\",\"×\")","v":{"$error":"#N/A"}},"未定","北村　紀宜","名桜大学","08017839550","daigaku-goukakusuru.kt@docomo.ne.jp",9500005,"沖縄県名護市為又493-13ドミトリー山里Ⅱ3－3Ｂ",null,130408]
[{"$f":"IF(COUNTIF(競技会!$A$2:$J$92,'2012'!I32)=0,\"ないです\",\"\")","v":""},"継続",4,8,"～",4,8,"第1回","大阪体育大学中長距離競技会","273050",{"$f":"IF(VLOOKUP(J32,競技場!$A$2:$B$371,2)=L32,\"○\",\"×\")","v":"○"},"浪商学園陸上競技場","深田　明日美","大阪体育大学","08036249045",null,5900405,"大阪府泉南郡熊取町大久保南4-4-20 ブランドール清原203号",null,130408]
[{"$f":"IF(COUNTIF(競技会!$A$2:$J$92,'2012'!I33)=0,\"ないです\",\"\")","v":""},"継続",4,14,"～",4,14,"24年度第1回","順天堂大学競技会","123080",{"$f":"IF(VLOOKUP(J33,競技場!$A$2:$B$371,2)=L33,\"○\",\"×\")","v":"○"},"順天堂大学さくらキャンパス陸上競技場","白府  将弘","順天堂大学","0476981001","juntendo_kirokukai@yahoo.co.jp",2701695,"千葉県印西市平賀学園台1-1順天堂大学陸上競技研究室",null,130414]
[{"$f":"IF(COUNTIF(競技会!$A$2:$J$92,'2012'!I34)=0,\"ないです\",\"\")","v":""},"継続",4,14,"～",4,14,null,"東京女子体育大学土曜競技会","134070",{"$f":"IF(VLOOKUP(J34,競技場!$A$2:$B$371,2)=L34,\"○\",\"×\")","v":"○"},"東京女子体育大学陸上競技場","鈴木　亜季子","東京女子体育大学","07050751478","twcpe.rikujyou@gmail.com",1868668,"東京都国立市富士見台4-30-1",null,130414]
[{"$f":"IF(COUNTIF(競技会!$A$2:$J$92,'2012'!I35)=0,\"ないです\",\"\")","v":""},"継続",4,"14","～",4,"15","第222回","日本体育大学長距離競技会","143050",{"$f":"IF(VLOOKUP(J35,競技場!$A$2:$B$371,2)=L35,\"○\",\"×\")","v":"○"},"日本体育大学健志台陸上競技場","池田　亮","日本体育大学","0459620520","nittai-honbu@d02.itscom.net",2270035,"神奈川県横浜市青葉区すみよし台37－3",null,130414]
[{"$f":"IF(COUNTIF(競技会!$A$2:$J$92,'2012'!I36)=0,\"ないです\",\"\")","v":""},"継続",4,14,"～",4,14,null,"日本体育大学棒高跳競技会","143050",{"$f":"IF(VLOOKUP(J36,競技場!$A$2:$B$371,2)=L36,\"○\",\"×\")","v":"○"},"日本体育大学健志台陸上競技場","池田　亮","日本体育大学","0459620520","nittai-honbu@d02.itscom.net",2270035,"神奈川県横浜市青葉区すみよし台37－3",null,130414]
[{"$f":"IF(COUNTIF(競技会!$A$2:$J$92,'2012'!I37)=0,\"ないです\",\"\")","v":""},"継続",4,14,"～",4,14,null,"岩壁杯陸上競技対校選手権大会（国武大・城西大・中大・東洋大・法大・平成国大・大東大）","123060",{"$f":"IF(VLOOKUP(J37,競技場!$A$2:$B$371,2)=L37,\"○\",\"×\")","v":"○"},"国際武道大学陸上競技場","三田　萌子","国際武道大学","09042684439","mee_0427-1026_msc@softbank.ne.jp",2995224,"千葉県勝浦市新官996-47橋本ハイツ202",null,130414]
[{"$f":"IF(COUNTIF(競技会!$A$2:$J$92,'2012'!I38)=0,\"ないです\",\"\")","v":""},"継続",4,14,"～",4,14,"第1回","東海大学種目別競技会","143060",{"$f":"IF(VLOOKUP(J38,競技場!$A$2:$B$371,2)=L38,\"○\",\"×\")","v":"○"},"東海大学湘南校舎陸上競技場","菅野　和希","東海大学","08031913712","kazukikanno_13@yahoo.co.jp",2591201,"神奈川県平塚市南金目363-1 青柳荘25号室",null,130414]
[{"$f":"IF(COUNTIF(競技会!$A$2:$J$92,'2012'!I39)=0,\"ないです\",\"\")","v":""},"継続",4,"14","～",4,"15","第2回","筑波大競技会","083110",{"$f":"IF(VLOOKUP(J39,競技場!$A$2:$B$371,2)=L39,\"○\",\"×\")","v":"○"},"筑波大学陸上競技場","柳澤　純太","筑波大学","",null,null,null,null,130414]
[{"$f":"IF(COUNTIF(競技会!$A$2:$J$92,'2012'!I40)=0,\"ないです\",\"\")","v":""},"継続",4,14,"～",4,14,"第1回","流通経済大学陸上競技会","083100",{"$f":"IF(VLOOKUP(J40,競技場!$A$2:$B$371,2)=L40,\"○\",\"×\")","v":"○"},"龍ヶ崎市陸上競技場","田畑　亨","流通経済大学","0297601862","tabata@rku.ac.jp",3018555,"茨城県龍ヶ崎市120",null,130414]
[{"$f":"IF(COUNTIF(競技会!$A$2:$J$92,'2012'!I41)=0,\"ないです\",\"\")","v":""},"継続",4,14,"～",4,14,"第33回","関東私学六大学対校陸上競技大会（國学大・上智大・成蹊大・東経大・明学大・立大）","133170",{"$f":"IF(VLOOKUP(J41,競技場!$A$2:$B$371,2)=L41,\"○\",\"×\")","v":"○"},"舎人公園陸上競技場","長谷川　洸三","上智大学","08067131014",null,1830026,"東京都府中市南町51184",null,130414]
[{"$f":"IF(COUNTIF(競技会!$A$2:$J$92,'2012'!I42)=0,\"ないです\",\"\")","v":""},"継続",4,14,"～",4,14,"第11回","金沢星稜大学競技会","184050",{"$f":"IF(VLOOKUP(J42,競技場!$A$2:$B$371,2)=L42,\"○\",\"×\")","v":"○"},"学校法人稲置学園総合運動場","杉林　孝法","金沢星稜大学","09049657336","sugi@seiryo-u.ac.jp",9208620,"石川県御所町丑10-1 金沢星稜大学",null,130414]
[{"$f":"IF(COUNTIF(競技会!$A$2:$J$92,'2012'!I43)=0,\"ないです\",\"\")","v":""},"継続",4,14,"～",4,14,"第1回","九州学連南九州地区学連競技会","463100",{"$f":"IF(VLOOKUP(J43,競技場!$A$2:$B$371,2)=L43,\"○\",\"×\")","v":"○"},"鹿屋体育大学陸上競技場","境　実穂","鹿屋体育大学","0908416632","dada-duck.rn",8912311,"鹿児島県鹿屋市白水町388-1メゾン白水207",null,130414]
[{"$f":"IF(COUNTIF(競技会!$A$2:$J$92,'2012'!I44)=0,\"ないです\",\"\")","v":""},"継続",4,14,"～",4,14,"第1回","大阪体育大学競技会","273050",{"$f":"IF(VLOOKUP(J44,競技場!$A$2:$B$371,2)=L44,\"○\",\"×\")","v":"○"},"浪商学園陸上競技場","深田　明日美","大阪体育大学","08036249045",null,5900405,"大阪府泉南郡熊取町大久保南4-4-20 ブランドール清原203号",null,130414]
[{"$f":"IF(COUNTIF(競技会!$A$2:$J$92,'2012'!I45)=0,\"ないです\",\"\")","v":""},"継続",4,"14","～",4,"15",null,"土曜競技会","223060",{"$f":"IF(VLOOKUP(J45,競技場!$A$2:$B$371,2)=L45,\"○\",\"×\")","v":"○"},"中京大学梅村陸上競技場","鈴木　雄貴","中京大学","0565461316","chukyot-f@snow.ocn.ne.jp",4700393,"愛知県豊田市貝津町床立101",null,130414]
[{"$f":"IF(COUNTIF(競技会!$A$2:$J$92,'2012'!I46)=0,\"ないです\",\"\")","v":""},"継続",4,15,"～",4,15,"平成24年度第2回","日本大学競技会","133100",{"$f":"IF(VLOOKUP(J46,競技場!$A$2:$B$371,2)=L46,\"○\",\"×\")","v":"○"},"日本大学陸上競技場","浅野　晃佑","日本大学","0333041969","nihon_univ_tf@yahoo.co.jp",1560045,"東京都世田谷区桜上水３－２３日本大学陸上競技場グランドトレーニング室２F",null,130415]
[{"$f":"IF(COUNTIF(競技会!$A$2:$J$92,'2012'!I47)=0,\"ないです\",\"\")","v":""},"継続",4,21,"～",4,21,null,"東京女子体育大学土曜競技会","134070",{"$f":"IF(VLOOKUP(J47,競技場!$A$2:$B$371,2)=L47,\"○\",\"×\")","v":"○"},"東京女子体育大学陸上競技場","鈴木　亜季子","東京女子体育大学","07050751478","twcpe.rikujyou@gmail.com",1868668,"東京都国立市富士見台4-30-1",null,130421]
[{"$f":"IF(COUNTIF(競技会!$A$2:$J$92,'2012'!I48)=0,\"ないです\",\"\")","v":""},"継続",4,21,"～",4,21,"第48回","四大学対校陸上競技大会（国士大・順大・東海大・日女体大・日体大）","142080",{"$f":"IF(VLOOKUP(J48,競技場!$A$2:$B$371,2)=L48,\"○\",\"×\")","v":"○"},"相模原市麻溝公園競技場","池田　亮","日本体育大学","0459620520","nittai-honbu@d02.itscom.net",2270035,"神奈川県横浜市青葉区すみよし台37－3",null,130421]
[{"$f":"IF(COUNTIF(競技会!$A$2:$J$92,'2012'!I49)=0,\"ないです\",\"\")","v":""},"継続",4,21,"～",4,21,null,"春季島大リレーカーニバル",null,{"$f":"IF(VLOOKUP(J49,競技場!$A$2:$B$371,2)=L49,\"○\",\"×\")","v":{"$error":"#N/A"}},"未定","吉田　茂希","島根大学","08024028712","shigeki.yoshida@me5.seikyou.ne.jp",6900823,"島根県松江市西川津町８１１-１　カレッジハイツNo.3　1－C",null,130421]
[{"$f":"IF(COUNTIF(競技会!$A$2:$J$92,'2012'!I50)=0,\"ないです\",\"\")","v":""},"継続",4,21,"～",4,21,"第1回","京都産業大学長距離競技会","264040",{"$f":"IF(VLOOKUP(J50,競技場!$A$2:$B$371,2)=L50,\"○\",\"×\")","v":"○"},"京都産業大学総合グラウンド","木村　亨","京都産業大学","09064115174",null,6038002,"京都府京都市北区上賀茂神山1-90　五常寮",null,130421]
[{"$f":"IF(COUNTIF(競技会!$A$2:$J$92,'2012'!I51)=0,\"ないです\",\"\")","v":""},"継続",4,21,"～",4,21,"第1回","岩手大学陸上競技部競技会","031010",{"$f":"IF(VLOOKUP(J51,競技場!$A$2:$B$371,2)=L51,\"○\",\"×\")","v":"○"},"県営運動公園陸上競技場","下川原　哲太","岩手大学","08016750412","tetete@softdank.ne.jp",200823,"岩手県盛岡市門2-5-26",null,130421]
[{"$f":"IF(COUNTIF(競技会!$A$2:$J$92,'2012'!I52)=0,\"ないです\",\"\")","v":""},"継続",4,22,"～",4,22,"第2回","東海大学種目別競技会","143060",{"$f":"IF(VLOOKUP(J52,競技場!$A$2:$B$371,2)=L52,\"○\",\"×\")","v":"○"},"東海大学湘南校舎陸上競技場","菅野　和希","東海大学","08031913712","kazukikanno_13@yahoo.co.jp",2591201,"神奈川県平塚市南金目363-1 青柳荘25号室",null,130422]
[{"$f":"IF(COUNTIF(競技会!$A$2:$J$92,'2012'!I53)=0,\"ないです\",\"\")","v":""},"継続",4,22,"～",4,22,null,"東京学芸大学競技会","134190",{"$f":"IF(VLOOKUP(J53,競技場!$A$2:$B$371,2)=L53,\"○\",\"×\")","v":"○"},"東京学芸大学陸上競技場","鈴木　優香","東京学芸大学","09078181148","a090620m@st.u-gakugei.ac.jp",1810015,"三鷹市下連雀6-14-27-207",null,130422]
[{"$f":"IF(COUNTIF(競技会!$A$2:$J$92,'2012'!I54)=0,\"ないです\",\"\")","v":""},"継続",4,22,"～",4,22,"第5回","中大競技会","133070",{"$f":"IF(VLOOKUP(J54,競技場!$A$2:$B$371,2)=L54,\"○\",\"×\")","v":"○"},"中央大学多摩校地運動施設陸上競技場","松村　洋輔","中央大学","09011629545","yousuke_matsu0218yahoo.co.jp",1910052,"東京都日野市東豊田1-7-11東豊田寮",null,130422]
[{"$f":"IF(COUNTIF(競技会!$A$2:$J$92,'2012'!I55)=0,\"ないです\",\"\")","v":""},"継続",4,22,"～",4,22,"24年度","八大学対校陸上競技大会(桜美林大、工学院大、成蹊大、成城大、玉川大、東理大、都市大、武蔵大)","132080",{"$f":"IF(VLOOKUP(J55,競技場!$A$2:$B$371,2)=L55,\"○\",\"×\")","v":"○"},"八王子市上柚木公園陸上競技場","鈴木　康太","玉川大学","09061359267","szkko9is@engs.tamagawa.ac.jp",2100818,"神奈川県川崎市川崎区中瀬2-13-1-504",null,130422]
[{"$f":"IF(COUNTIF(競技会!$A$2:$J$92,'2012'!I56)=0,\"ないです\",\"\")","v":""},"継続",4,22,"～",4,22,"第57回","大阪三大学対校陸上競技大会（大阪市大・大阪府大・阪大）","272010",{"$f":"IF(VLOOKUP(J56,競技場!$A$2:$B$371,2)=L56,\"○\",\"×\")","v":"○"},"堺市金岡公園陸上競技場","田中　英和","大阪府立大学","09096100306",null,5998107,"大阪府堺市東区白鷺町1-8-21-408",null,130422]
[{"$f":"IF(COUNTIF(競技会!$A$2:$J$92,'2012'!I57)=0,\"ないです\",\"\")","v":""},"継続",4,"28","～",4,"29","24年度第2回","順天堂大学競技会","123080",{"$f":"IF(VLOOKUP(J57,競技場!$A$2:$B$371,2)=L57,\"○\",\"×\")","v":"○"},"順天堂大学さくらキャンパス陸上競技場","白府  将弘","順天堂大学","0476981001","juntendo_kirokukai@yahoo.co.jp",2701695,"千葉県印西市平賀学園台1-1順天堂大学陸上競技研究室",null,130428]
[{"$f":"IF(COUNTIF(競技会!$A$2:$J$92,'2012'!I58)=0,\"ないです\",\"\")","v":""},"継続",4,"28","～",4,"29","第2回","国士舘大学競技会","133160",{"$f":"IF(VLOOKUP(J58,競技場!$A$2:$B$371,2)=L58,\"○\",\"×\")","v":"○"},"国士舘大学多摩陸上競技場","大具　祥子","国士舘大学","08010300138","k_u_a_since1956@hotmail.com",2068515,"東京都多摩市永山7－3－1　国士舘大学陸上競技研究室",null,130428]
[{"$f":"IF(COUNTIF(競技会!$A$2:$J$92,'2012'!I59)=0,\"ないです\",\"\")","v":""},"継続",4,28,"～",4,28,null,"東京女子体育大学土曜競技会","134070",{"$f":"IF(VLOOKUP(J59,競技場!$A$2:$B$371,2)=L59,\"○\",\"×\")","v":"○"},"東京女子体育大学陸上競技場","鈴木　亜季子","東京女子体育大学","07050751478","twcpe.rikujyou@gmail.com",1868668,"東京都国立市富士見台4-30-1",null,130428]
[{"$f":"IF(COUNTIF(競技会!$A$2:$J$92,'2012'!I60)=0,\"ないです\",\"\")","v":""},"継続",4,"28","～",4,"29","第73回","日本体育大学陸上競技会","143050",{"$f":"IF(VLOOKUP(J60,競技場!$A$2:$B$371,2)=L60,\"○\",\"×\")","v":"○"},"日本体育大学健志台陸上競技場","池田　亮","日本体育大学","0459620520","nittai-honbu@d02.itscom.net",2270035,"神奈川県横浜市青葉区すみよし台37－3",null,130428]
[{"$f":"IF(COUNTIF(競技会!$A$2:$J$92,'2012'!I61)=0,\"ないです\",\"\")","v":""},"継続",4,"28","～",4,"29",null,"国際武道大学競技会","123060",{"$f":"IF(VLOOKUP(J61,競技場!$A$2:$B$371,2)=L61,\"○\",\"×\")","v":"○"},"国際武道大学陸上競技場","三田　萌子","国際武道大学","09042684439","mee_0427-1026_msc@softbank.ne.jp",2995224,"千葉県勝浦市新官996-47橋本ハイツ202",null,130428]
[{"$f":"IF(COUNTIF(競技会!$A$2:$J$92,'2012'!I62)=0,\"ないです\",\"\")","v":""},"継続",4,28,"～",4,28,"第2回","流通経済大学陸上競技会","083100",{"$f":"IF(VLOOKUP(J62,競技場!$A$2:$B$371,2)=L62,\"○\",\"×\")","v":"○"},"龍ヶ崎市陸上競技場","田畑　亨","流通経済大学","0297601862","tabata@rku.ac.jp",3018555,"茨城県龍ヶ崎市120",null,130428]
[{"$f":"IF(COUNTIF(競技会!$A$2:$J$92,'2012'!I63)=0,\"ないです\",\"\")","v":""},"継続",4,29,"～",4,29,"平成24年度第3回","日本大学競技会","133100",{"$f":"IF(VLOOKUP(J63,競技場!$A$2:$B$371,2)=L63,\"○\",\"×\")","v":"○"},"日本大学陸上競技場","浅野　晃佑","日本大学","0333041969","nihon_univ_tf@yahoo.co.jp",1560045,"東京都世田谷区桜上水３－２３日本大学陸上競技場グランドトレーニング室２F",null,130429]
[{"$f":"IF(COUNTIF(競技会!$A$2:$J$92,'2012'!I64)=0,\"ないです\",\"\")","v":""},"継続",4,29,"～",4,29,"第3回","東海大学種目別競技会","143060",{"$f":"IF(VLOOKUP(J64,競技場!$A$2:$B$371,2)=L64,\"○\",\"×\")","v":"○"},"東海大学湘南校舎陸上競技場","菅野　和希","東海大学","08031913712","kazukikanno_13@yahoo.co.jp",2591201,"神奈川県平塚市南金目363-1 青柳荘25号室",null,130429]
[{"$f":"IF(COUNTIF(競技会!$A$2:$J$92,'2012'!I65)=0,\"ないです\",\"\")","v":""},"継続",4,30,"～",4,30,"第3回","筑波大競技会","083110",{"$f":"IF(VLOOKUP(J65,競技場!$A$2:$B$371,2)=L65,\"○\",\"×\")","v":"○"},"筑波大学陸上競技場","柳澤　純太","筑波大学","",null,null,null,null,130430]
[{"$f":"IF(COUNTIF(競技会!$A$2:$J$92,'2012'!I66)=0,\"ないです\",\"\")","v":""},"継続",4,"未定","～",4,"未定",null,"東京学芸大学競技会","134190",{"$f":"IF(VLOOKUP(J66,競技場!$A$2:$B$371,2)=L66,\"○\",\"×\")","v":"○"},"東京学芸大学陸上競技場","鈴木　優香","東京学芸大学","09078181147","a090619m@st.u-gakugei.ac.jp",1810014,"三鷹市下連雀6-14-27-206",null,130499]
[{"$f":"IF(COUNTIF(競技会!$A$2:$J$92,'2012'!I67)=0,\"ないです\",\"\")","v":""},"継続",4,"未定","～",4,"未定","第44回","関東理工系学生対校陸上競技大会",null,{"$f":"IF(VLOOKUP(J67,競技場!$A$2:$B$371,2)=L67,\"○\",\"×\")","v":{"$error":"#N/A"}},"未定","田村　尚也","工学院大学","08020271385","ha1_mpt_.b@docomo.ne.jp",1920045,"東京都八王子市大和田町6-1-12　カレッジタウン1-206",null,130499]
[{"$f":"IF(COUNTIF(競技会!$A$2:$J$92,'2012'!I68)=0,\"ないです\",\"\")","v":""},"継続",4,"未定","～",4,"未定","第1回","九州共立大学競技会","403150",{"$f":"IF(VLOOKUP(J68,競技場!$A$2:$B$371,2)=L68,\"○\",\"×\")","v":"○"},"九州共立大学陸上競技場","知念　春乃","九州共立大学","09255855294","0blige.lib-1",8070873,"福岡県北九州市八幡西区藤原3－6－6－",null,130499]
[{"$f":"IF(COUNTIF(競技会!$A$2:$J$92,'2012'!I69)=0,\"ないです\",\"\")","v":""},"継続",5,"3","～",5,"4","24年度第3回","順天堂大学競技会","123080",{"$f":"IF(VLOOKUP(J69,競技場!$A$2:$B$371,2)=L69,\"○\",\"×\")","v":"○"},"順天堂大学さくらキャンパス陸上競技場","白府  将弘","順天堂大学","0476981001","juntendo_kirokukai@yahoo.co.jp",2701695,"千葉県印西市平賀学園台1-1順天堂大学陸上競技研究室",null,130503]
[{"$f":"IF(COUNTIF(競技会!$A$2:$J$92,'2012'!I70)=0,\"ないです\",\"\")","v":""},"継続",5,3,"～",5,3,"第1回","東海大学競技会","143060",{"$f":"IF(VLOOKUP(J70,競技場!$A$2:$B$371,2)=L70,\"○\",\"×\")","v":"○"},"東海大学湘南校舎陸上競技場","菅野　和希","東海大学","08031913712","kazukikanno_13@yahoo.co.jp",2591201,"神奈川県平塚市南金目363-1 青柳荘25号室",null,130503]
[{"$f":"IF(COUNTIF(競技会!$A$2:$J$92,'2012'!I71)=0,\"ないです\",\"\")","v":""},"継続",5,4,"～",5,4,null,"信州大学・名古屋大学対校陸上競技大会","222010",{"$f":"IF(VLOOKUP(J71,競技場!$A$2:$B$371,2)=L71,\"○\",\"×\")","v":"○"},"知多運動公園陸上競技場","村松　蒼介","名古屋大学","09017881765","sosuke.protaft@gmail.com",4660807,"愛知県名古屋市昭和区花町93ヒルズ山花303",null,130504]
[{"$f":"IF(COUNTIF(競技会!$A$2:$J$92,'2012'!I72)=0,\"ないです\",\"\")","v":""},"継続",5,5,"～",5,5,null,"東京女子体育大学土曜競技会","134070",{"$f":"IF(VLOOKUP(J72,競技場!$A$2:$B$371,2)=L72,\"○\",\"×\")","v":"○"},"東京女子体育大学陸上競技場","鈴木　亜季子","東京女子体育大学","07050751478","twcpe.rikujyou@gmail.com",1868668,"東京都国立市富士見台4-30-1",null,130505]
[{"$f":"IF(COUNTIF(競技会!$A$2:$J$92,'2012'!I73)=0,\"ないです\",\"\")","v":""},"継続",5,"5","～",5,"6","第223回","日本体育大学長距離競技会","143050",{"$f":"IF(VLOOKUP(J73,競技場!$A$2:$B$371,2)=L73,\"○\",\"×\")","v":"○"},"日本体育大学健志台陸上競技場","池田　亮","日本体育大学","0459620520","nittai-honbu@d02.itscom.net",2270035,"神奈川県横浜市青葉区すみよし台37－3",null,130505]
[{"$f":"IF(COUNTIF(競技会!$A$2:$J$92,'2012'!I74)=0,\"ないです\",\"\")","v":""},"継続",5,5,"～",5,5,"第2回","鹿屋体育大学陸上競技会","463100",{"$f":"IF(VLOOKUP(J74,競技場!$A$2:$B$371,2)=L74,\"○\",\"×\")","v":"○"},"鹿屋体育大学陸上競技場","境　実穂","鹿屋体育大学","0908416632","dada-duck.rn",8912311,"鹿児島県鹿屋市白水町388-1メゾン白水207",null,130505]
[{"$f":"IF(COUNTIF(競技会!$A$2:$J$92,'2012'!I75)=0,\"ないです\",\"\")","v":""},"継続",5,11,"～",5,11,"第4回","東海大学種目別競技会","143060",{"$f":"IF(VLOOKUP(J75,競技場!$A$2:$B$371,2)=L75,\"○\",\"×\")","v":"○"},"東海大学湘南校舎陸上競技場","菅野　和希","東海大学","08031913712","kazukikanno_13@yahoo.co.jp",2591201,"神奈川県平塚市南金目363-1 青柳荘25号室",null,130511]
[{"$f":"IF(COUNTIF(競技会!$A$2:$J$92,'2012'!I76)=0,\"ないです\",\"\")","v":""},"継続",5,12,"～",5,12,"第1回","九州共立大学チャレンジ陸上","403150",{"$f":"IF(VLOOKUP(J76,競技場!$A$2:$B$371,2)=L76,\"○\",\"×\")","v":"○"},"九州共立大学陸上競技場","知念　春乃","九州共立大学","09255855294","0blige.lib-1",8070873,"福岡県北九州市八幡西区藤原3－6－6－",null,130512]
[{"$f":"IF(COUNTIF(競技会!$A$2:$J$92,'2012'!I77)=0,\"ないです\",\"\")","v":""},"継続",5,18,"～",5,18,"第5回","東海大学種目別競技会","143060",{"$f":"IF(VLOOKUP(J77,競技場!$A$2:$B$371,2)=L77,\"○\",\"×\")","v":"○"},"東海大学湘南校舎陸上競技場","菅野　和希","東海大学","08031913712","kazukikanno_13@yahoo.co.jp",2591201,"神奈川県平塚市南金目363-1 青柳荘25号室",null,130518]
[{"$f":"IF(COUNTIF(競技会!$A$2:$J$92,'2012'!I78)=0,\"ないです\",\"\")","v":""},"継続",5,"18","～",5,"20",null,"中国四国学生陸上競技対校選手権大会","371020",{"$f":"IF(VLOOKUP(J78,競技場!$A$2:$B$371,2)=L78,\"○\",\"×\")","v":"○"},"県立丸亀競技場主競技場","阿部　圭佑","香川大学","09079644028","fly_high_kkkkk@yahoo.co.jp",7600013,"香川県高松市扇町1丁目２１-８　エトワール都４０２号",null,130518]
[{"$f":"IF(COUNTIF(競技会!$A$2:$J$92,'2012'!I79)=0,\"ないです\",\"\")","v":""},"継続",5,"18","～",5,"20","第82回","九州学生陸上競技対校選手権大会","401060",{"$f":"IF(VLOOKUP(J79,競技場!$A$2:$B$371,2)=L79,\"○\",\"×\")","v":"○"},"福岡市博多の森陸上競技場","末冨　洋一",null,"0927150997","kyu-athi@blue.ocn.ne.jp",8100062,"福岡市中央区荒戸3-3-66 オリエンタル大濠308",null,130518]
[{"$f":"IF(COUNTIF(競技会!$A$2:$J$92,'2012'!I80)=0,\"ないです\",\"\")","v":""},"継続",5,"19","～",5,"20","第86回","北信越学生陸上競技対校選手権大会",null,{"$f":"IF(VLOOKUP(J80,競技場!$A$2:$B$371,2)=L80,\"○\",\"×\")","v":{"$error":"#N/A"}},"未定","大西　輝",null,"0262345710","hokusinetsu-gakuren@sunny.ocn.ne.jp",3800871,"長野県長野市西長野210－1ブローニュ西長野102号室",null,130519]
[{"$f":"IF(COUNTIF(競技会!$A$2:$J$92,'2012'!I81)=0,\"ないです\",\"\")","v":""},"継続",5,19,"～",5,19,"第2回","大阪体育大学中長距離競技会","273050",{"$f":"IF(VLOOKUP(J81,競技場!$A$2:$B$371,2)=L81,\"○\",\"×\")","v":"○"},"浪商学園陸上競技場","深田　明日美","大阪体育大学","08036249045",null,5900405,"大阪府泉南郡熊取町大久保南4-4-20 ブランドール清原203号",null,130519]
[{"$f":"IF(COUNTIF(競技会!$A$2:$J$92,'2012'!I82)=0,\"ないです\",\"\")","v":""},"継続",5,20,"～",5,20,"第2回","大阪体育大学競技会","273050",{"$f":"IF(VLOOKUP(J82,競技場!$A$2:$B$371,2)=L82,\"○\",\"×\")","v":"○"},"浪商学園陸上競技場","深田　明日美","大阪体育大学","08036249045",null,5900405,"大阪府泉南郡熊取町大久保南4-4-20 ブランドール清原203号",null,130520]
[{"$f":"IF(COUNTIF(競技会!$A$2:$J$92,'2012'!I83)=0,\"ないです\",\"\")","v":""},"継続",5,26,"～",5,26,"24年度第4回","順天堂大学競技会","123080",{"$f":"IF(VLOOKUP(J83,競技場!$A$2:$B$371,2)=L83,\"○\",\"×\")","v":"○"},"順天堂大学さくらキャンパス陸上競技場","白府  将弘","順天堂大学","0476981001","juntendo_kirokukai@yahoo.co.jp",2701695,"千葉県印西市平賀学園台1-1順天堂大学陸上競技研究室",null,130526]
[{"$f":"IF(COUNTIF(競技会!$A$2:$J$92,'2012'!I84)=0,\"ないです\",\"\")","v":""},"継続",5,26,"～",5,26,null,"東京女子体育大学土曜競技会","134070",{"$f":"IF(VLOOKUP(J84,競技場!$A$2:$B$371,2)=L84,\"○\",\"×\")","v":"○"},"東京女子体育大学陸上競技場","鈴木　亜季子","東京女子体育大学","07050751478","twcpe.rikujyou@gmail.com",1868668,"東京都国立市富士見台4-30-1",null,130526]
[{"$f":"IF(COUNTIF(競技会!$A$2:$J$92,'2012'!I85)=0,\"ないです\",\"\")","v":""},"継続",5,"26","～",5,"27","第224回","日本体育大学長距離競技会","143050",{"$f":"IF(VLOOKUP(J85,競技場!$A$2:$B$371,2)=L85,\"○\",\"×\")","v":"○"},"日本体育大学健志台陸上競技場","正木　洋成","日本体育大学","0459620520","nittai-honbu@d02.itscom.net",2270035,"神奈川県横浜市青葉区すみよし台37－3",null,130526]
[{"$f":"IF(COUNTIF(競技会!$A$2:$J$92,'2012'!I86)=0,\"ないです\",\"\")","v":""},"継続",5,26,"～",5,26,null,"日本体育大学棒高跳競技会","143050",{"$f":"IF(VLOOKUP(J86,競技場!$A$2:$B$371,2)=L86,\"○\",\"×\")","v":"○"},"日本体育大学健志台陸上競技場","正木　洋成","日本体育大学","0459620520","nittai-honbu@d02.itscom.net",2270035,"神奈川県横浜市青葉区すみよし台37－3",null,130526]
[{"$f":"IF(COUNTIF(競技会!$A$2:$J$92,'2012'!I87)=0,\"ないです\",\"\")","v":""},"継続",5,26,"～",5,26,"第6回","東海大学種目別競技会","143060",{"$f":"IF(VLOOKUP(J87,競技場!$A$2:$B$371,2)=L87,\"○\",\"×\")","v":"○"},"東海大学湘南校舎陸上競技場","菅野　和希","東海大学","08031913712","kazukikanno_13@yahoo.co.jp",2591201,"神奈川県平塚市南金目363-1 青柳荘25号室",null,130526]
[{"$f":"IF(COUNTIF(競技会!$A$2:$J$92,'2012'!I88)=0,\"ないです\",\"\")","v":""},"継続",5,26,"～",5,26,"第66回","関西医科学生対校陸上競技選手権大会","291010",{"$f":"IF(VLOOKUP(J88,競技場!$A$2:$B$371,2)=L88,\"○\",\"×\")","v":"○"},"奈良市鴻ノ池陸上競技場","中井　貴大","奈良県立医科大学","08053279457",null,6340826,"奈良県橿原市川西町948-8",null,130526]
[{"$f":"IF(COUNTIF(競技会!$A$2:$J$92,'2012'!I89)=0,\"ないです\",\"\")","v":""},"継続",5,26,"～",5,26,"第23回","びわこ成蹊スポーツ大学競技会","253030",{"$f":"IF(VLOOKUP(J89,競技場!$A$2:$B$371,2)=L89,\"○\",\"×\")","v":"○"},"びわこフィールド陸上競技場","田中　秀和","びわこ成蹊スポーツ大学","",null,5202323,"滋賀県野洲市三上1-34",null,130526]
[{"$f":"IF(COUNTIF(競技会!$A$2:$J$92,'2012'!I90)=0,\"ないです\",\"\")","v":""},"継続",5,26,"～",5,26,null,"土曜競技会","223060",{"$f":"IF(VLOOKUP(J90,競技場!$A$2:$B$371,2)=L90,\"○\",\"×\")","v":"○"},"中京大学梅村陸上競技場","鈴木　雄貴","中京大学","0565461316","chukyot-f@snow.ocn.ne.jp",4700393,"愛知県豊田市貝津町床立101",null,130526]
[{"$f":"IF(COUNTIF(競技会!$A$2:$J$92,'2012'!I91)=0,\"ないです\",\"\")","v":""},"継続",5,27,"～",5,27,"第7回","東海大学種目別競技会","143060",{"$f":"IF(VLOOKUP(J91,競技場!$A$2:$B$371,2)=L91,\"○\",\"×\")","v":"○"},"東海大学湘南校舎陸上競技場","菅野　和希","東海大学","08031913712","kazukikanno_13@yahoo.co.jp",2591201,"神奈川県平塚市南金目363-1 青柳荘25号室",null,130527]
[{"$f":"IF(COUNTIF(競技会!$A$2:$J$92,'2012'!I92)=0,\"ないです\",\"\")","v":""},"継続",5,27,"～",5,27,"第35回","総合関関戦陸上競技大会","273090",{"$f":"IF(VLOOKUP(J92,競技場!$A$2:$B$371,2)=L92,\"○\",\"×\")","v":"○"},"大阪府服部緑地陸上競技場","河合　純次","関西大学","09050484586",null,6018048,"京都府京都市南区吉祥院観音堂町38　サニーハイツ塔南611号",null,130527]
[{"$f":"IF(COUNTIF(競技会!$A$2:$J$92,'2012'!I93)=0,\"ないです\",\"\")","v":""},"継続",5,"未定","～",5,"未定",null,"東京学芸大学競技会","134190",{"$f":"IF(VLOOKUP(J93,競技場!$A$2:$B$371,2)=L93,\"○\",\"×\")","v":"○"},"東京学芸大学陸上競技場","鈴木　優香","東京学芸大学","09078181149","a090621m@st.u-gakugei.ac.jp",1810016,"三鷹市下連雀6-14-27-208",null,130599]
[{"$f":"IF(COUNTIF(競技会!$A$2:$J$92,'2012'!I94)=0,\"ないです\",\"\")","v":""},"継続",6,"2","～",6,"3","第74回","日本体育大学陸上競技会","143050",{"$f":"IF(VLOOKUP(J94,競技場!$A$2:$B$371,2)=L94,\"○\",\"×\")","v":"○"},"日本体育大学健志台陸上競技場","正木　洋成","日本体育大学","0459620520","nittai-honbu@d02.itscom.net",2270035,"神奈川県横浜市青葉区すみよし台37－3",null,130602]
[{"$f":"IF(COUNTIF(競技会!$A$2:$J$92,'2012'!I95)=0,\"ないです\",\"\")","v":""},"継続",6,2,"～",6,2,"第60回","東京地区国公立大学対校陸上競技大会（お茶女大・首都大・電通大・東医歯大・東海洋大・東外大・東学大・東工大・東大・東農工大・一橋大）","133080",{"$f":"IF(VLOOKUP(J95,競技場!$A$2:$B$371,2)=L95,\"○\",\"×\")","v":"○"},"都立大井ふ頭中央海浜公園陸上競技場","小林　雅彦","東京工業大学","09077100577","manager@titech-tfclub.net",1450062,"東京都大田区北千束3-25-8フラワーハイツ207号室",null,130602]
[{"$f":"IF(COUNTIF(競技会!$A$2:$J$92,'2012'!I96)=0,\"ないです\",\"\")","v":""},"継続",6,"2","～",6,"3","第4回","筑波大競技会","083110",{"$f":"IF(VLOOKUP(J96,競技場!$A$2:$B$371,2)=L96,\"○\",\"×\")","v":"○"},"筑波大学陸上競技場","柳澤　純太","筑波大学","",null,null,null,null,130602]
[{"$f":"IF(COUNTIF(競技会!$A$2:$J$92,'2012'!I97)=0,\"ないです\",\"\")","v":""},"継続",6,2,"～",6,2,"第1回","徳山大学フィールド記録会","353040",{"$f":"IF(VLOOKUP(J97,競技場!$A$2:$B$371,2)=L97,\"○\",\"×\")","v":"○"},"徳山大学総合グラウンド陸上競技場",null,"徳山大学","",null,null,null,null,130602]
[{"$f":"IF(COUNTIF(競技会!$A$2:$J$92,'2012'!I98)=0,\"ないです\",\"\")","v":""},"継続",6,3,"～",6,3,"平成24年度第4回","日本大学競技会","133100",{"$f":"IF(VLOOKUP(J98,競技場!$A$2:$B$371,2)=L98,\"○\",\"×\")","v":"○"},"日本大学陸上競技場","浅野　晃佑","日本大学","0333041969","nihon_univ_tf@yahoo.co.jp",1560045,"東京都世田谷区桜上水３－２３日本大学陸上競技場グランドトレーニング室２F",null,130603]
[{"$f":"IF(COUNTIF(競技会!$A$2:$J$92,'2012'!I99)=0,\"ないです\",\"\")","v":""},"継続",6,3,"～",6,3,null,"北九州・下関地区大学体育大会(陸上競技)","403140",{"$f":"IF(VLOOKUP(J99,競技場!$A$2:$B$371,2)=L99,\"○\",\"×\")","v":"○"},"北九州市立鞘ヶ谷競技場","白木　雅彦　","北九州市立大学","0939644012",null,8028577,"福岡県北九州市小倉南区北方４-2-1",null,130603]
[{"$f":"IF(COUNTIF(競技会!$A$2:$J$92,'2012'!I100)=0,\"ないです\",\"\")","v":""},"継続",6,3,"～",6,3,"第27回","大阪大学・名古屋大学対校陸上競技大会","273050",{"$f":"IF(VLOOKUP(J100,競技場!$A$2:$B$371,2)=L100,\"○\",\"×\")","v":"○"},"浪商学園陸上競技場","鈴木　友之","大阪大学","08042416909",null,5360007,"大阪府大阪市城東区成育5-15-11",null,130603]
[{"$f":"IF(COUNTIF(競技会!$A$2:$J$92,'2012'!I101)=0,\"ないです\",\"\")","v":""},"継続",6,3,"～",6,3,"第19回","大阪大学・名古屋大学対校女子陸上競技大会","272010",{"$f":"IF(VLOOKUP(J101,競技場!$A$2:$B$371,2)=L101,\"○\",\"×\")","v":"○"},"堺市金岡公園陸上競技場","鈴木　友之","大阪大学","08042416909",null,5360007,"大阪府大阪市城東区成育5-15-11",null,130603]
[{"$f":"IF(COUNTIF(競技会!$A$2:$J$92,'2012'!I102)=0,\"ないです\",\"\")","v":""},"継続",6,"9","～",6,"10","第3回","国士舘大学競技会","133160",{"$f":"IF(VLOOKUP(J102,競技場!$A$2:$B$371,2)=L102,\"○\",\"×\")","v":"○"},"国士舘大学多摩陸上競技場","大具　祥子","国士舘大学","08010300138","k_u_a_since1956@hotmail.com",2068515,"東京都多摩市永山7－3－1　国士舘大学陸上競技研究室",null,130609]
[{"$f":"IF(COUNTIF(競技会!$A$2:$J$92,'2012'!I103)=0,\"ないです\",\"\")","v":""},"継続",6,"9","～",6,"10","第225回","日本体育大学長距離競技会","143050",{"$f":"IF(VLOOKUP(J103,競技場!$A$2:$B$371,2)=L103,\"○\",\"×\")","v":"○"},"日本体育大学健志台陸上競技場","正木　洋成","日本体育大学","0459620520","nittai-honbu@d02.itscom.net",2270035,"神奈川県横浜市青葉区すみよし台37－3",null,130609]
[{"$f":"IF(COUNTIF(競技会!$A$2:$J$92,'2012'!I104)=0,\"ないです\",\"\")","v":""},"継続",6,9,"～",6,9,"第3回","流通経済大学陸上競技会","083100",{"$f":"IF(VLOOKUP(J104,競技場!$A$2:$B$371,2)=L104,\"○\",\"×\")","v":"○"},"龍ヶ崎市陸上競技場","田畑　亨","流通経済大学","0297601862","tabata@rku.ac.jp",3018555,"茨城県龍ヶ崎市120",null,130609]
[{"$f":"IF(COUNTIF(競技会!$A$2:$J$92,'2012'!I105)=0,\"ないです\",\"\")","v":""},"継続",6,9,"～",6,9,"第5回","新潟医療福祉大学競技会",null,{"$f":"IF(VLOOKUP(J105,競技場!$A$2:$B$371,2)=L105,\"○\",\"×\")","v":{"$error":"#N/A"}},"未定","高橋　和将","新潟医療福祉大学","0252574694","nuhw-meets@nuhw-tfc.net",9503198,"新潟市北区島見町1398 新潟医療福祉大学陸上競技部",null,130609]
[{"$f":"IF(COUNTIF(競技会!$A$2:$J$92,'2012'!I106)=0,\"ないです\",\"\")","v":""},"継続",6,9,"～",6,9,"第2回","学連競技会","403100",{"$f":"IF(VLOOKUP(J106,競技場!$A$2:$B$371,2)=L106,\"○\",\"×\")","v":"○"},"宇美町総合スポーツ公園陸上競技場","末冨　洋一",null,"0927150997","kyu-athi@blue.ocn.ne.jp",8100062,"福岡市中央区荒戸3-3-66 オリエンタル大濠308",null,130609]
[{"$f":"IF(COUNTIF(競技会!$A$2:$J$92,'2012'!I107)=0,\"ないです\",\"\")","v":""},"継続",6,9,"～",6,9,null,"土曜競技会","223060",{"$f":"IF(VLOOKUP(J107,競技場!$A$2:$B$371,2)=L107,\"○\",\"×\")","v":"○"},"中京大学梅村陸上競技場","鈴木　雄貴","中京大学","0565461316","chukyot-f@snow.ocn.ne.jp",4700393,"愛知県豊田市貝津町床立101",null,130609]
[{"$f":"IF(COUNTIF(競技会!$A$2:$J$92,'2012'!I108)=0,\"ないです\",\"\")","v":""},"継続",6,10,"～",6,10,"第8回","東海大学種目別競技会","143060",{"$f":"IF(VLOOKUP(J108,競技場!$A$2:$B$371,2)=L108,\"○\",\"×\")","v":"○"},"東海大学湘南校舎陸上競技場","菅野　和希","東海大学","08031913712","kazukikanno_13@yahoo.co.jp",2591201,"神奈川県平塚市南金目363-1 青柳荘25号室",null,130610]
[{"$f":"IF(COUNTIF(競技会!$A$2:$J$92,'2012'!I109)=0,\"ないです\",\"\")","v":""},"継続",6,"16","～",6,"17","第75回","日本体育大学陸上競技会","143050",{"$f":"IF(VLOOKUP(J109,競技場!$A$2:$B$371,2)=L109,\"○\",\"×\")","v":"○"},"日本体育大学健志台陸上競技場","正木　洋成","日本体育大学","0459620520","nittai-honbu@d02.itscom.net",2270035,"神奈川県横浜市青葉区すみよし台37－3",null,130616]
[{"$f":"IF(COUNTIF(競技会!$A$2:$J$92,'2012'!I110)=0,\"ないです\",\"\")","v":""},"継続",6,16,"～",6,16,"第10回","名桜大学陸上競技会",null,{"$f":"IF(VLOOKUP(J110,競技場!$A$2:$B$371,2)=L110,\"○\",\"×\")","v":{"$error":"#N/A"}},"未定","北村　紀宜","名桜大学","08017839550","daigaku-goukakusuru.kt@docomo.ne.jp",9500005,"沖縄県名護市為又493-13ドミトリー山里Ⅱ3－3Ｂ",null,130616]
[{"$f":"IF(COUNTIF(競技会!$A$2:$J$92,'2012'!I111)=0,\"ないです\",\"\")","v":""},"継続",6,"23","～",6,"24",null,"国際武道大学競技会","123060",{"$f":"IF(VLOOKUP(J111,競技場!$A$2:$B$371,2)=L111,\"○\",\"×\")","v":"○"},"国際武道大学陸上競技場","三田　萌子","国際武道大学","09042684439","mee_0427-1026_msc@softbank.ne.jp",2995224,"千葉県勝浦市新官996-47橋本ハイツ202",null,130623]
[{"$f":"IF(COUNTIF(競技会!$A$2:$J$92,'2012'!I112)=0,\"ないです\",\"\")","v":""},"継続",6,30,"～",6,30,"第37回","国立4大学陸上競技大会（群大・埼大・東大・東学大）","101010",{"$f":"IF(VLOOKUP(J112,競技場!$A$2:$B$371,2)=L112,\"○\",\"×\")","v":"○"},"群馬県営陸上競技場","関  亜斗利","群馬大学","08012201610","gunnmadai_rikujoubu@hotmail.co.jp",3710044,"前橋市荒牧町173-2-101",null,130630]
[{"$f":"IF(COUNTIF(競技会!$A$2:$J$92,'2012'!I113)=0,\"ないです\",\"\")","v":""},"継続",6,30,"～",6,30,null,"全日本大学駅伝関東学連推薦校選考会","131010",{"$f":"IF(VLOOKUP(J113,競技場!$A$2:$B$371,2)=L113,\"○\",\"×\")","v":"○"},"国立霞ヶ丘競技場",null,null,"",null,null,null,null,130630]
[{"$f":"IF(COUNTIF(競技会!$A$2:$J$92,'2012'!I114)=0,\"ないです\",\"\")","v":""},"継続",6,30,"～",6,30,"第19回","国立4大学女子陸上競技大会（群大・埼大・東大・東学大）","101010",{"$f":"IF(VLOOKUP(J114,競技場!$A$2:$B$371,2)=L114,\"○\",\"×\")","v":"○"},"群馬県営陸上競技場","関　亜斗利","群馬大学","08012201610","gunnmadai_rikujoubu@hotmail.co.jp",3710044,"前橋市荒牧町173-2-101",null,130630]
[{"$f":"IF(COUNTIF(競技会!$A$2:$J$92,'2012'!I115)=0,\"ないです\",\"\")","v":""},"継続",6,"30","～",7,"1",null,"四国地区大学総合体育大会","391010",{"$f":"IF(VLOOKUP(J115,競技場!$A$2:$B$371,2)=L115,\"○\",\"×\")","v":"○"},"高知県立春野総合運動公園陸上競技場","穴吹　政人","高知大学","08063979637","kochi_univ2005@yahoo.co.jp",null,"高知県高知市本宮町１５９-１-５０２",null,130630]
[{"$f":"IF(COUNTIF(競技会!$A$2:$J$92,'2012'!I116)=0,\"ないです\",\"\")","v":""},"継続",6,30,"～",6,30,"第12回","金沢星稜大学競技会","184050",{"$f":"IF(VLOOKUP(J116,競技場!$A$2:$B$371,2)=L116,\"○\",\"×\")","v":"○"},"学校法人稲置学園総合運動場","杉林　孝法","金沢星稜大学","09049657336","sugi@seiryo-u.ac.jp",9208620,"石川県御所町丑10-1 金沢星稜大学",null,130630]
[{"$f":"IF(COUNTIF(競技会!$A$2:$J$92,'2012'!I117)=0,\"ないです\",\"\")","v":""},"継続",6,30,"～",6,30,"第2回","九州共立大学競技会","403150",{"$f":"IF(VLOOKUP(J117,競技場!$A$2:$B$371,2)=L117,\"○\",\"×\")","v":"○"},"九州共立大学陸上競技場","知念　春乃","九州共立大学","09255855294","0blige.lib-1",8070873,"福岡県北九州市八幡西区藤原3－6－6－",null,130630]
[{"$f":"IF(COUNTIF(競技会!$A$2:$J$92,'2012'!I118)=0,\"ないです\",\"\")","v":""},"継続",6,30,"～",6,30,"第24回","びわこ成蹊スポーツ大学競技会","253030",{"$f":"IF(VLOOKUP(J118,競技場!$A$2:$B$371,2)=L118,\"○\",\"×\")","v":"○"},"びわこフィールド陸上競技場","田中　秀和","びわこ成蹊スポーツ大学","",null,5202323,"滋賀県野洲市三上1-34",null,130630]
[{"$f":"IF(COUNTIF(競技会!$A$2:$J$92,'2012'!I119)=0,\"ないです\",\"\")","v":""},"継続",6,"未定","～",6,"未定","第9回","東海大学種目別競技会","143060",{"$f":"IF(VLOOKUP(J119,競技場!$A$2:$B$371,2)=L119,\"○\",\"×\")","v":"○"},"東海大学湘南校舎陸上競技場","菅野　和希","東海大学","08031913712","kazukikanno_13@yahoo.co.jp",2591201,"神奈川県平塚市南金目363-1 青柳荘25号室",null,130699]
[{"$f":"IF(COUNTIF(競技会!$A$2:$J$92,'2012'!I120)=0,\"ないです\",\"\")","v":""},"継続",6,"未定","～",6,"未定","第44回","全日本大学駅伝・全日本大学女子駅伝九州地区予選会","403100",{"$f":"IF(VLOOKUP(J120,競技場!$A$2:$B$371,2)=L120,\"○\",\"×\")","v":"○"},"宇美町総合スポーツ公園陸上競技場","末冨　洋一",null,"0927150997","kyu-athi@blue.ocn.ne.jp",8100062,"福岡市中央区荒戸3-3-66 オリエンタル大濠308",null,130699]
[{"$f":"IF(COUNTIF(競技会!$A$2:$J$92,'2012'!I121)=0,\"ないです\",\"\")","v":""},"継続",6,"未定","～",6,"未定","第3回","鹿屋体育大学陸上競技会","463100",{"$f":"IF(VLOOKUP(J121,競技場!$A$2:$B$371,2)=L121,\"○\",\"×\")","v":"○"},"鹿屋体育大学陸上競技場","境　実穂","鹿屋体育大学","0908416632","dada-duck.rn",8912311,"鹿児島県鹿屋市白水町388-1メゾン白水207",null,130699]
[{"$f":"IF(COUNTIF(競技会!$A$2:$J$92,'2012'!I122)=0,\"ないです\",\"\")","v":""},"継続",7,1,"～",7,1,"第62回","三大学対校陸上競技大会（大阪市大・神戸大・一橋大）","281040",{"$f":"IF(VLOOKUP(J122,競技場!$A$2:$B$371,2)=L122,\"○\",\"×\")","v":"○"},"尼崎市記念公園陸上競技場","出口　知哉","神戸大学","09044670669",null,6570035,"兵庫県神戸市灘区友田町3-4-22-203",null,130701]
[{"$f":"IF(COUNTIF(競技会!$A$2:$J$92,'2012'!I123)=0,\"ないです\",\"\")","v":""},"継続",7,1,"～",7,1,null,"東海地区国立大学陸上競技会","241010",{"$f":"IF(VLOOKUP(J123,競技場!$A$2:$B$371,2)=L123,\"○\",\"×\")","v":"○"},"三重県営総合競技場陸上競技場","川上　嘉晃","三重大学","08063262360","mie.tf.2012@gmail.com",5148507,"三重県津市栗真町1577　三重大学体育会陸上競技部",null,130701]
[{"$f":"IF(COUNTIF(競技会!$A$2:$J$92,'2012'!I124)=0,\"ないです\",\"\")","v":""},"継続",7,1,"～",7,1,"第1回","仙台大学競技会","043050",{"$f":"IF(VLOOKUP(J124,競技場!$A$2:$B$371,2)=L124,\"○\",\"×\")","v":"○"},"仙台大学陸上競技場","増田　育子","仙台大学","08016769809","a.i.zutto.f@docomo.ne.jp",9811524,"宮城県角田市岡字駅前北7-8",null,130701]
[{"$f":"IF(COUNTIF(競技会!$A$2:$J$92,'2012'!I125)=0,\"ないです\",\"\")","v":""},"継続",7,6,"～",7,6,"第49回","大阪府立・首都大対校","272010",{"$f":"IF(VLOOKUP(J125,競技場!$A$2:$B$371,2)=L125,\"○\",\"×\")","v":"○"},"堺市金岡公園陸上競技場","田中　英和","大阪府立大学","09096100306",null,5998107,"大阪府堺市東区白鷺町1-8-21-408",null,130706]
[{"$f":"IF(COUNTIF(競技会!$A$2:$J$92,'2012'!I126)=0,\"ないです\",\"\")","v":""},"継続",7,7,"～",7,7,"24年度第5回","順天堂大学競技会","123080",{"$f":"IF(VLOOKUP(J126,競技場!$A$2:$B$371,2)=L126,\"○\",\"×\")","v":"○"},"順天堂大学さくらキャンパス陸上競技場","白府  将弘","順天堂大学","0476981001","juntendo_kirokukai@yahoo.co.jp",2701695,"千葉県印西市平賀学園台1-1順天堂大学陸上競技研究室",null,130707]
[{"$f":"IF(COUNTIF(競技会!$A$2:$J$92,'2012'!I127)=0,\"ないです\",\"\")","v":""},"継続",7,7,"～",7,7,"第4回","国士舘大学競技会","133160",{"$f":"IF(VLOOKUP(J127,競技場!$A$2:$B$371,2)=L127,\"○\",\"×\")","v":"○"},"国士舘大学多摩陸上競技場","大具　祥子","国士舘大学","08010300138","k_u_a_since1956@hotmail.com",2068515,"東京都多摩市永山7－3－1　国士舘大学陸上競技研究室",null,130707]
[{"$f":"IF(COUNTIF(競技会!$A$2:$J$92,'2012'!I128)=0,\"ないです\",\"\")","v":""},"継続",7,7,"～",7,7,"第10回","東海大学種目別競技会","143060",{"$f":"IF(VLOOKUP(J128,競技場!$A$2:$B$371,2)=L128,\"○\",\"×\")","v":"○"},"東海大学湘南校舎陸上競技場","菅野　和希","東海大学","08031913712","kazukikanno_13@yahoo.co.jp",2591201,"神奈川県平塚市南金目363-1 青柳荘25号室",null,130707]
[{"$f":"IF(COUNTIF(競技会!$A$2:$J$92,'2012'!I129)=0,\"ないです\",\"\")","v":""},"継続",7,"7","～",7,"8","第62回","九州地区大学体育大会","441010",{"$f":"IF(VLOOKUP(J129,競技場!$A$2:$B$371,2)=L129,\"○\",\"×\")","v":"○"},"大分市営陸上競技場","宮内　美香","宮崎大学","08017873145","mika 4322@yahoo.co.jp",8892154,"宮崎県宮崎市木花台桜1－1－5サンヴェール405",null,130707]
[{"$f":"IF(COUNTIF(競技会!$A$2:$J$92,'2012'!I130)=0,\"ないです\",\"\")","v":""},"継続",7,7,"～",7,7,"第73回","北海道大学対東北大学陸上競技定期戦","043150",{"$f":"IF(VLOOKUP(J130,競技場!$A$2:$B$371,2)=L130,\"○\",\"×\")","v":"○"},"仙台市陸上競技場","金子　修平","東北大学","09086435237","shu.tohoku.shogai@gmail.com",9800874,"宮城県仙台市青葉区角五郎2-3-8 COZY ALLEY A 107",null,130707]
[{"$f":"IF(COUNTIF(競技会!$A$2:$J$92,'2012'!I131)=0,\"ないです\",\"\")","v":""},"継続",7,14,"～",7,14,null,"東京女子体育大学土曜競技会","134070",{"$f":"IF(VLOOKUP(J131,競技場!$A$2:$B$371,2)=L131,\"○\",\"×\")","v":"○"},"東京女子体育大学陸上競技場","鈴木　亜季子","東京女子体育大学","07050751478","twcpe.rikujyou@gmail.com",1868668,"東京都国立市富士見台4-30-1",null,130714]
[{"$f":"IF(COUNTIF(競技会!$A$2:$J$92,'2012'!I132)=0,\"ないです\",\"\")","v":""},"継続",7,"14","～",7,"15",null,"国際武道大学競技会","123060",{"$f":"IF(VLOOKUP(J132,競技場!$A$2:$B$371,2)=L132,\"○\",\"×\")","v":"○"},"国際武道大学陸上競技場","三田　萌子","国際武道大学","09042684439","mee_0427-1026_msc@softbank.ne.jp",2995224,"千葉県勝浦市新官996-47橋本ハイツ202",null,130714]
[{"$f":"IF(COUNTIF(競技会!$A$2:$J$92,'2012'!I133)=0,\"ないです\",\"\")","v":""},"継続",7,14,"～",7,14,"第11回","東海大学種目別競技会","143060",{"$f":"IF(VLOOKUP(J133,競技場!$A$2:$B$371,2)=L133,\"○\",\"×\")","v":"○"},"東海大学湘南校舎陸上競技場","菅野　和希","東海大学","08031913712","kazukikanno_13@yahoo.co.jp",2591201,"神奈川県平塚市南金目363-1 青柳荘25号室",null,130714]
[{"$f":"IF(COUNTIF(競技会!$A$2:$J$92,'2012'!I134)=0,\"ないです\",\"\")","v":""},"継続",7,14,"～",7,14,"第1回","福大競技会","403120",{"$f":"IF(VLOOKUP(J134,競技場!$A$2:$B$371,2)=L134,\"○\",\"×\")","v":"○"},"福岡大学陸上競技場","立川　貴大","福岡大学","080640184","gs090098@cis",8100034,"福岡市中央区笹丘1－13－24－503",null,130714]
[{"$f":"IF(COUNTIF(競技会!$A$2:$J$92,'2012'!I135)=0,\"ないです\",\"\")","v":""},"継続",7,14,"～",7,14,"第3回","大阪体育大学競技会","273050",{"$f":"IF(VLOOKUP(J135,競技場!$A$2:$B$371,2)=L135,\"○\",\"×\")","v":"○"},"浪商学園陸上競技場","深田　明日美","大阪体育大学","08036249045",null,5900405,"大阪府泉南郡熊取町大久保南4-4-20 ブランドール清原203号",null,130714]
[{"$f":"IF(COUNTIF(競技会!$A$2:$J$92,'2012'!I136)=0,\"ないです\",\"\")","v":""},"継続",7,15,"～",7,15,"平成24年度第5回","日本大学競技会","133100",{"$f":"IF(VLOOKUP(J136,競技場!$A$2:$B$371,2)=L136,\"○\",\"×\")","v":"○"},"日本大学陸上競技場","海野　琢斗","日本大学","0333041969","nihon_univ_tf@yahoo.co.jp",1560045,"東京都世田谷区桜上水３－２３日本大学陸上競技場グランドトレーニング室２F",null,130715]
[{"$f":"IF(COUNTIF(競技会!$A$2:$J$92,'2012'!I137)=0,\"ないです\",\"\")","v":""},"継続",7,15,"～",7,15,"第12回","東海大学種目別競技会","143060",{"$f":"IF(VLOOKUP(J137,競技場!$A$2:$B$371,2)=L137,\"○\",\"×\")","v":"○"},"東海大学湘南校舎陸上競技場","菅野　和希","東海大学","08031913712","kazukikanno_13@yahoo.co.jp",2591201,"神奈川県平塚市南金目363-1 青柳荘25号室",null,130715]
[{"$f":"IF(COUNTIF(競技会!$A$2:$J$92,'2012'!I138)=0,\"ないです\",\"\")","v":""},"継続",7,21,"～",7,21,"第44回","全日本大学駅伝対校選手権大会北信越予選会","161020",{"$f":"IF(VLOOKUP(J138,競技場!$A$2:$B$371,2)=L138,\"○\",\"×\")","v":"○"},"東北電力ビッグスワンスタジアム","大西　輝",null,"0262345710","hokusinetsu-gakuren@sunny.ocn.ne.jp",3800871,"長野県長野市西長野210－1ブローニュ西長野102号室",null,130721]
[{"$f":"IF(COUNTIF(競技会!$A$2:$J$92,'2012'!I139)=0,\"ないです\",\"\")","v":""},"継続",7,21,"～",7,21,"第30回","全日本大学女子駅伝対校選手権大会北信越予選会",null,{"$f":"IF(VLOOKUP(J139,競技場!$A$2:$B$371,2)=L139,\"○\",\"×\")","v":{"$error":"#N/A"}}]
[{"$f":"IF(COUNTIF(競技会!$A$2:$J$92,'2012'!I140)=0,\"ないです\",\"\")","v":""},"継続",7,21,"～",7,21,"第63回","九州共立大学競技会","403150",{"$f":"IF(VLOOKUP(J140,競技場!$A$2:$B$371,2)=L140,\"○\",\"×\")","v":"○"},"九州共立大学陸上競技場","知念　春乃","九州共立大学","09255855294","0blige.lib-1",8070873,"福岡県北九州市八幡西区藤原3－6－6－",null,130721]
[{"$f":"IF(COUNTIF(競技会!$A$2:$J$92,'2012'!I141)=0,\"ないです\",\"\")","v":""},"継続",7,21,"～",7,21,"第3回","大阪体育大学中長距離競技会","273050",{"$f":"IF(VLOOKUP(J141,競技場!$A$2:$B$371,2)=L141,\"○\",\"×\")","v":"○"},"浪商学園陸上競技場","深田　明日美","大阪体育大学","08036249045",null,5900405,"大阪府泉南郡熊取町大久保南4-4-20 ブランドール清原203号",null,130721]
[{"$f":"IF(COUNTIF(競技会!$A$2:$J$92,'2012'!I142)=0,\"ないです\",\"\")","v":""},"継続",7,21,"～",7,21,"第2回","京都産業大学長距離競技会","264040",{"$f":"IF(VLOOKUP(J142,競技場!$A$2:$B$371,2)=L142,\"○\",\"×\")","v":"○"},"京都産業大学総合グラウンド","木村　亨","京都産業大学","09064115174",null,6038002,"京都府京都市北区上賀茂神山1-90　五常寮",null,130721]
[{"$f":"IF(COUNTIF(競技会!$A$2:$J$92,'2012'!I143)=0,\"ないです\",\"\")","v":""},"継続",7,22,"～",7,22,"第9回","トワイライト・ゲームス","133040",{"$f":"IF(VLOOKUP(J143,競技場!$A$2:$B$371,2)=L143,\"○\",\"×\")","v":"○"},"代々木公園陸上競技場",null,null,"",null,null,null,null,130722]
[{"$f":"IF(COUNTIF(競技会!$A$2:$J$92,'2012'!I144)=0,\"ないです\",\"\")","v":""},"継続",7,"28","～",7,"29","第5回","国士舘大学競技会","133160",{"$f":"IF(VLOOKUP(J144,競技場!$A$2:$B$371,2)=L144,\"○\",\"×\")","v":"○"},"国士舘大学多摩陸上競技場","大具　祥子","国士舘大学","08010300138","k_u_a_since1956@hotmail.com",2068515,"東京都多摩市永山7－3－1　国士舘大学陸上競技研究室",null,130728]
[{"$f":"IF(COUNTIF(競技会!$A$2:$J$92,'2012'!I145)=0,\"ないです\",\"\")","v":""},"継続",7,28,"～",7,28,"第4回","流通経済大学陸上競技会","083100",{"$f":"IF(VLOOKUP(J145,競技場!$A$2:$B$371,2)=L145,\"○\",\"×\")","v":"○"},"龍ヶ崎市陸上競技場","田畑　亨","流通経済大学","0297601862","tabata@rku.ac.jp",3018555,"茨城県龍ヶ崎市120",null,130728]
[{"$f":"IF(COUNTIF(競技会!$A$2:$J$92,'2012'!I146)=0,\"ないです\",\"\")","v":""},"継続",7,28,"～",7,28,"2012年度","ＮＩＦＳ競技会","463100",{"$f":"IF(VLOOKUP(J146,競技場!$A$2:$B$371,2)=L146,\"○\",\"×\")","v":"○"},"鹿屋体育大学陸上競技場","境　実穂","鹿屋体育大学","0908416632","dada-duck.rn",8912311,"鹿児島県鹿屋市白水町388-1メゾン白水207",null,130728]
[{"$f":"IF(COUNTIF(競技会!$A$2:$J$92,'2012'!I147)=0,\"ないです\",\"\")","v":""},"継続",7,28,"～",7,28,"第2回","岩手大学陸上競技部競技会","031010",{"$f":"IF(VLOOKUP(J147,競技場!$A$2:$B$371,2)=L147,\"○\",\"×\")","v":"○"},"県営運動公園陸上競技場","下川原　哲太","岩手大学","08016750412","tetete@softdank.ne.jp",200823,"岩手県盛岡市門2-5-26",null,130728]
[{"$f":"IF(COUNTIF(競技会!$A$2:$J$92,'2012'!I148)=0,\"ないです\",\"\")","v":""},"継続",8,4,"～",8,4,"第13回","東海大学種目別競技会","143060",{"$f":"IF(VLOOKUP(J148,競技場!$A$2:$B$371,2)=L148,\"○\",\"×\")","v":"○"},"東海大学湘南校舎陸上競技場","菅野　和希","東海大学","08031913712","kazukikanno_13@yahoo.co.jp",2591201,"神奈川県平塚市南金目363-1 青柳荘25号室",null,130804]
[{"$f":"IF(COUNTIF(競技会!$A$2:$J$92,'2012'!I149)=0,\"ないです\",\"\")","v":""},"継続",8,4,"～",8,4,null,"広島大学夏季競技会","342050",{"$f":"IF(VLOOKUP(J149,競技場!$A$2:$B$371,2)=L149,\"○\",\"×\")","v":"○"},"東広島運動公園陸上競技場","加藤　都","広島大学","09050027033","b106323@hiroshima-u.ne.jp",7390047,"広島県東広島市西条下見７-３-２７　ジュネス２０１",null,130804]
[{"$f":"IF(COUNTIF(競技会!$A$2:$J$92,'2012'!I150)=0,\"ないです\",\"\")","v":""},"継続",8,"4","～",8,"5","第63回","全国七大学対校陸上競技大会（北大・東北大・東大・名大・京大・阪大・九大）","401060",{"$f":"IF(VLOOKUP(J150,競技場!$A$2:$B$371,2)=L150,\"○\",\"×\")","v":"○"},"福岡市博多の森陸上競技場","亀岡　廉","九州大学","09039209291","renkameoa@gmail.com",8190383,"福岡県福岡市西区田尻1-7-7-103",null,130804]
[{"$f":"IF(COUNTIF(競技会!$A$2:$J$92,'2012'!I151)=0,\"ないです\",\"\")","v":""},"継続",8,4,"～",8,4,null,"土曜競技会","223060",{"$f":"IF(VLOOKUP(J151,競技場!$A$2:$B$371,2)=L151,\"○\",\"×\")","v":"○"},"中京大学梅村陸上競技場","鈴木　雄貴","中京大学","0565461316","chukyot-f@snow.ocn.ne.jp",4700393,"愛知県豊田市貝津町床立101",null,130804]
[{"$f":"IF(COUNTIF(競技会!$A$2:$J$92,'2012'!I152)=0,\"ないです\",\"\")","v":""},"継続",8,4,"～",8,4,"第56回","全国教育系大学陸上競技大会","043150",{"$f":"IF(VLOOKUP(J152,競技場!$A$2:$B$371,2)=L152,\"○\",\"×\")","v":"○"},"仙台市陸上競技場","石垣　貴寛","宮城教育大学","08060192771","turbo-vega.j1-ag47@ezweb.ne.jp",9830826,"宮城県仙台市宮城野区鶴ケ谷東2丁目33-7",null,130804]
[{"$f":"IF(COUNTIF(競技会!$A$2:$J$92,'2012'!I153)=0,\"ないです\",\"\")","v":""},"継続",8,5,"～",8,5,"第47回","二大学対校陸上競技会（茨大・千大）","121010",{"$f":"IF(VLOOKUP(J153,競技場!$A$2:$B$371,2)=L153,\"○\",\"×\")","v":"○"},"千葉県総合スポーツセンター陸上競技場","津田　祥太郎","千葉大学","08014788010","x0e8008@students.chiba-u.jp",2630041,"千葉県千葉市稲毛区黒砂台1-20-8メゾンスカーレット103",null,130805]
[{"$f":"IF(COUNTIF(競技会!$A$2:$J$92,'2012'!I154)=0,\"ないです\",\"\")","v":""},"継続",8,6,"～",8,6,null,"徳山大学ナイター記録会","353040",{"$f":"IF(VLOOKUP(J154,競技場!$A$2:$B$371,2)=L154,\"○\",\"×\")","v":"○"},"徳山大学総合グラウンド陸上競技場",null,"徳山大学","",null,null,null,null,130806]
[{"$f":"IF(COUNTIF(競技会!$A$2:$J$92,'2012'!I155)=0,\"ないです\",\"\")","v":""},"継続",8,"7","～",8,"8","第47回","学園スポーツ大会","143060",{"$f":"IF(VLOOKUP(J155,競技場!$A$2:$B$371,2)=L155,\"○\",\"×\")","v":"○"},"東海大学湘南校舎陸上競技場","菅野　和希","東海大学","08031913712","kazukikanno_13@yahoo.co.jp",2591201,"神奈川県平塚市南金目363-1 青柳荘25号室",null,130807]
[{"$f":"IF(COUNTIF(競技会!$A$2:$J$92,'2012'!I156)=0,\"ないです\",\"\")","v":""},"継続",8,7,"～",8,7,"第15回","天理大学・大阪体育大学陸上競技対校選手権大会","273050",{"$f":"IF(VLOOKUP(J156,競技場!$A$2:$B$371,2)=L156,\"○\",\"×\")","v":"○"},"浪商学園陸上競技場","深田　明日美","大阪体育大学","08036249045",null,5900405,"大阪府泉南郡熊取町大久保南4-4-20 ブランドール清原203号",null,130807]
[{"$f":"IF(COUNTIF(競技会!$A$2:$J$92,'2012'!I157)=0,\"ないです\",\"\")","v":""},"継続",8,"11","～",8,"13",null,"西日本医科学生総合体育大会","331010",{"$f":"IF(VLOOKUP(J157,競技場!$A$2:$B$371,2)=L157,\"○\",\"×\")","v":"○"},"岡山県陸上競技場","井上　忠俊","岡山大学（医）","08038762676","inoue_tadatoshi@yahoo.co.jp",7200066,"広島県福山市三之丸町８-７-１３０４",null,130811]
[{"$f":"IF(COUNTIF(競技会!$A$2:$J$92,'2012'!I158)=0,\"ないです\",\"\")","v":""},"継続",8,11,"～",8,11,"第1回","鹿屋体育大学強化競技会","401060",{"$f":"IF(VLOOKUP(J158,競技場!$A$2:$B$371,2)=L158,\"○\",\"×\")","v":"○"},"福岡市博多の森陸上競技場","境　実穂","鹿屋体育大学","0908416632","dada-duck.rn",8912311,"鹿児島県鹿屋市白水町388-1メゾン白水207",null,130811]
[{"$f":"IF(COUNTIF(競技会!$A$2:$J$92,'2012'!I159)=0,\"ないです\",\"\")","v":""},"継続",8,"11","～",8,"12","第62回","東北地区大学総合体育大会陸上競技","043150",{"$f":"IF(VLOOKUP(J159,競技場!$A$2:$B$371,2)=L159,\"○\",\"×\")","v":"○"},"仙台市陸上競技場","田中　悠貴","東北大学","08010792736","sprx4sp9@star.ocn.ne.jp",9800871,"宮城県仙台市青葉区八幡5丁目2-15　フェアリーハイツ203号室",null,130811]
[{"$f":"IF(COUNTIF(競技会!$A$2:$J$92,'2012'!I160)=0,\"ないです\",\"\")","v":""},"継続",8,12,"～",8,12,"第50回","近畿地区国立大学体育大会","281060",{"$f":"IF(VLOOKUP(J160,競技場!$A$2:$B$371,2)=L160,\"○\",\"×\")","v":"○"},"加古川運動公園陸上競技場","折田　美穂","兵庫教育大学","08040141535",null,6731421,"兵庫県加東市山国2014-310-101",null,130812]
[{"$f":"IF(COUNTIF(競技会!$A$2:$J$92,'2012'!I161)=0,\"ないです\",\"\")","v":""},"継続",8,12,"～",8,12,"第66回","関西薬学生対校陸上競技大会","251010",{"$f":"IF(VLOOKUP(J161,競技場!$A$2:$B$371,2)=L161,\"○\",\"×\")","v":"○"},"皇子山総合運動公園陸上競技場","川端　崇義","京都薬科大学","09052680538",null,6078411,"京都府京都市山科区御陵大津畑町47-1-303",null,130812]
[{"$f":"IF(COUNTIF(競技会!$A$2:$J$92,'2012'!I162)=0,\"ないです\",\"\")","v":""},"継続",8,18,"～",8,18,"24年度第6回","順天堂大学競技会","123080",{"$f":"IF(VLOOKUP(J162,競技場!$A$2:$B$371,2)=L162,\"○\",\"×\")","v":"○"},"順天堂大学さくらキャンパス陸上競技場","白府  将弘","順天堂大学","0476981001","juntendo_kirokukai@yahoo.co.jp",2701695,"千葉県印西市平賀学園台1-1順天堂大学陸上競技研究室",null,130818]
[{"$f":"IF(COUNTIF(競技会!$A$2:$J$92,'2012'!I163)=0,\"ないです\",\"\")","v":""},"継続",8,18,"～",8,18,"第60回","大阪経済大学対東京経済大学定期対校戦",null,{"$f":"IF(VLOOKUP(J163,競技場!$A$2:$B$371,2)=L163,\"○\",\"×\")","v":{"$error":"#N/A"}},"未定","菅　千晶","東京経済大学","09024089797","tkutaf@yahoo.co.jp",1670043,"東京都杉並区上荻4-11-19",null,130818]
[{"$f":"IF(COUNTIF(競技会!$A$2:$J$92,'2012'!I164)=0,\"ないです\",\"\")","v":""},"継続",8,"18","～",8,"19","第8回","N.S.S.Uオープン競技会","143050",{"$f":"IF(VLOOKUP(J164,競技場!$A$2:$B$371,2)=L164,\"○\",\"×\")","v":"○"},"日本体育大学健志台陸上競技場","正木　洋成","日本体育大学","0459620520","nittai-honbu@d02.itscom.net",2270035,"神奈川県横浜市青葉区すみよし台37－3",null,130818]
[{"$f":"IF(COUNTIF(競技会!$A$2:$J$92,'2012'!I165)=0,\"ないです\",\"\")","v":""},"継続",8,"18","～",8,"19",null,"国際武道大学競技会","123060",{"$f":"IF(VLOOKUP(J165,競技場!$A$2:$B$371,2)=L165,\"○\",\"×\")","v":"○"},"国際武道大学陸上競技場","三田　萌子","国際武道大学","09042684439","mee_0427-1026_msc@softbank.ne.jp",2995224,"千葉県勝浦市新官996-47橋本ハイツ202",null,130818]
[{"$f":"IF(COUNTIF(競技会!$A$2:$J$92,'2012'!I166)=0,\"ないです\",\"\")","v":""},"継続",8,18,"～",8,18,"第49回","西日本七大学陸上競技対校選手権大会（神戸大・滋賀大・山口大・香川大・大阪市大・兵庫県大・和大）","271030",{"$f":"IF(VLOOKUP(J166,競技場!$A$2:$B$371,2)=L166,\"○\",\"×\")","v":"○"},"万国博記念競技場","石黒　陽平","和歌山大学","08030366067",null,6408431,"和歌山県和歌山市向199-1-205",null,130818]
[{"$f":"IF(COUNTIF(競技会!$A$2:$J$92,'2012'!I167)=0,\"ないです\",\"\")","v":""},"継続",8,19,"～",8,19,"第6回","中大競技会","133070",{"$f":"IF(VLOOKUP(J167,競技場!$A$2:$B$371,2)=L167,\"○\",\"×\")","v":"○"},"中央大学多摩校地運動施設陸上競技場","松村　洋輔","中央大学","09011629545","yousuke_matsu0218yahoo.co.jp",1910052,"東京都日野市東豊田1-7-11東豊田寮",null,130819]
[{"$f":"IF(COUNTIF(競技会!$A$2:$J$92,'2012'!I168)=0,\"ないです\",\"\")","v":""},"継続",8,19,"～",8,19,"第82回","同志社大学対京都大学陸上競技大会","262020",{"$f":"IF(VLOOKUP(J168,競技場!$A$2:$B$371,2)=L168,\"○\",\"×\")","v":"○"},"府立山城総合運動公園陸上競技場","徳廣　駿","同志社大学","08024460729",null,6190245,"京都府相楽郡精華町下狛林前14-1-103",null,130819]
[{"$f":"IF(COUNTIF(競技会!$A$2:$J$92,'2012'!I169)=0,\"ないです\",\"\")","v":""},"継続",8,"21","～",8,"22","第5回","筑波大競技会","083110",{"$f":"IF(VLOOKUP(J169,競技場!$A$2:$B$371,2)=L169,\"○\",\"×\")","v":"○"},"筑波大学陸上競技場","柳澤　純太","筑波大学","",null,null,null,null,130821]
[{"$f":"IF(COUNTIF(競技会!$A$2:$J$92,'2012'!I170)=0,\"ないです\",\"\")","v":""},"継続",8,25,"～",8,25,"第2回","福大競技会","403120",{"$f":"IF(VLOOKUP(J170,競技場!$A$2:$B$371,2)=L170,\"○\",\"×\")","v":"○"},"福岡大学陸上競技場","立川　貴大","福岡大学","080640184","gs090098@cis",8100034,"福岡市中央区笹丘1－13－24－503",null,130825]
[{"$f":"IF(COUNTIF(競技会!$A$2:$J$92,'2012'!I171)=0,\"ないです\",\"\")","v":""},"継続",8,25,"～",8,25,"第2回","九州共立大学チャレンジ陸上","403150",{"$f":"IF(VLOOKUP(J171,競技場!$A$2:$B$371,2)=L171,\"○\",\"×\")","v":"○"},"九州共立大学陸上競技場","知念　春乃","九州共立大学","09255855294","0blige.lib-1",8070873,"福岡県北九州市八幡西区藤原3－6－6－",null,130825]
[{"$f":"IF(COUNTIF(競技会!$A$2:$J$92,'2012'!I172)=0,\"ないです\",\"\")","v":""},"継続",8,25,"～",8,25,"第25回","びわこ成蹊スポーツ大学競技会","253030",{"$f":"IF(VLOOKUP(J172,競技場!$A$2:$B$371,2)=L172,\"○\",\"×\")","v":"○"},"びわこフィールド陸上競技場","田中　秀和","びわこ成蹊スポーツ大学","",null,5202323,"滋賀県野洲市三上1-34",null,130825]
[{"$f":"IF(COUNTIF(競技会!$A$2:$J$92,'2012'!I173)=0,\"ないです\",\"\")","v":""},"継続",8,26,"～",8,26,"第34回","兵庫三大学対校陸上競技大会（神戸学大・甲南大・流科大）","281040",{"$f":"IF(VLOOKUP(J173,競技場!$A$2:$B$371,2)=L173,\"○\",\"×\")","v":"○"},"尼崎市記念公園陸上競技場","小澤　昇三","甲南大学","09069670462",null,6751112,"兵庫県加古郡稲美町六分一1209-185",null,130826]
[{"$f":"IF(COUNTIF(競技会!$A$2:$J$92,'2012'!I174)=0,\"ないです\",\"\")","v":""},"継続",8,27,"～",8,27,"第31回","阪神四大学対校陸上競技大会（神戸大・阪大・甲南大・関学大）","281040",{"$f":"IF(VLOOKUP(J174,競技場!$A$2:$B$371,2)=L174,\"○\",\"×\")","v":"○"},"尼崎市記念公園陸上競技場","平嶋　大岳","関西学院大学","08061751516",null,6638006,"兵庫県西宮市段上町3-13-10-104",null,130827]
[{"$f":"IF(COUNTIF(競技会!$A$2:$J$92,'2012'!I175)=0,\"ないです\",\"\")","v":""},"継続",8,"未定","～",8,"未定","第23回","全国七大学対校女子陸上競技大会（北大・東北大・東大・名大・京大・阪大・九大）","401060",{"$f":"IF(VLOOKUP(J175,競技場!$A$2:$B$371,2)=L175,\"○\",\"×\")","v":"○"},"福岡市博多の森陸上競技場","亀岡　廉","九州大学","09039209291","renkameoa@gmail.com",8190383,"福岡県福岡市西区田尻1-7-7-103",null,130899]
[{"$f":"IF(COUNTIF(競技会!$A$2:$J$92,'2012'!I176)=0,\"ないです\",\"\")","v":""},"継続",9,1,"～",9,1,null,"東京女子体育大学土曜競技会","134070",{"$f":"IF(VLOOKUP(J176,競技場!$A$2:$B$371,2)=L176,\"○\",\"×\")","v":"○"},"東京女子体育大学陸上競技場","鈴木　亜季子","東京女子体育大学","07050751478","twcpe.rikujyou@gmail.com",1868668,"東京都国立市富士見台4-30-1",null,130901]
[{"$f":"IF(COUNTIF(競技会!$A$2:$J$92,'2012'!I177)=0,\"ないです\",\"\")","v":""},"継続",9,1,"～",9,1,"第10回","東京三大学女子対校陸上競技大会（津田塾大・東大・一橋大）","133010",{"$f":"IF(VLOOKUP(J177,競技場!$A$2:$B$371,2)=L177,\"○\",\"×\")","v":"○"},"東京大学陸上競技場","川端  紘介","東京大学","08064467804","k.k.uttf.shogai@gmail.com",1700001,"東京都豊島区西巣鴨2-31-7　東京大学豊島国際学生宿舎233号室",null,130901]
[{"$f":"IF(COUNTIF(競技会!$A$2:$J$92,'2012'!I178)=0,\"ないです\",\"\")","v":""},"継続",9,1,"～",9,1,"第5回","流通経済大学陸上競技会","083100",{"$f":"IF(VLOOKUP(J178,競技場!$A$2:$B$371,2)=L178,\"○\",\"×\")","v":"○"},"龍ヶ崎市陸上競技場","田畑　亨","流通経済大学","0297601862","tabata@rku.ac.jp",3018555,"茨城県龍ヶ崎市120",null,130901]
[{"$f":"IF(COUNTIF(競技会!$A$2:$J$92,'2012'!I179)=0,\"ないです\",\"\")","v":""},"継続",9,1,"～",9,1,"第54回","一橋大学・東京大学対校陸上競技大会","133010",{"$f":"IF(VLOOKUP(J179,競技場!$A$2:$B$371,2)=L179,\"○\",\"×\")","v":"○"},"東京大学陸上競技場","川端  紘介","東京大学","08064467804","k.k.uttf.shogai@gmail.com",1700001,"東京都豊島区西巣鴨2-31-7　東京大学豊島国際学生宿舎233号室",null,130901]
[{"$f":"IF(COUNTIF(競技会!$A$2:$J$92,'2012'!I180)=0,\"ないです\",\"\")","v":""},"継続",9,1,"～",9,1,"第4回","大阪体育大学中長距離競技会","273050",{"$f":"IF(VLOOKUP(J180,競技場!$A$2:$B$371,2)=L180,\"○\",\"×\")","v":"○"},"浪商学園陸上競技場","深田　明日美","大阪体育大学","08036249045",null,5900405,"大阪府泉南郡熊取町大久保南4-4-20 ブランドール清原203号",null,130901]
[{"$f":"IF(COUNTIF(競技会!$A$2:$J$92,'2012'!I181)=0,\"ないです\",\"\")","v":""},"継続",9,1,"～",9,1,"第2回","仙台大学競技会","043110",{"$f":"IF(VLOOKUP(J181,競技場!$A$2:$B$371,2)=L181,\"○\",\"×\")","v":"○"},"角田市陸上競技場","増田　育子","仙台大学","08016769809","a.i.zutto.f@docomo.ne.jp",9811524,"宮城県角田市岡字駅前北7-8",null,130901]
[{"$f":"IF(COUNTIF(競技会!$A$2:$J$92,'2012'!I182)=0,\"ないです\",\"\")","v":""},"継続",9,8,"～",9,8,"第11回","名桜大学陸上競技会",null,{"$f":"IF(VLOOKUP(J182,競技場!$A$2:$B$371,2)=L182,\"○\",\"×\")","v":{"$error":"#N/A"}},"未定","北村　紀宜","名桜大学","08017839550","daigaku-goukakusuru.kt@docomo.ne.jp",9500005,"沖縄県名護市為又493-13ドミトリー山里Ⅱ3－3Ｂ",null,130908]
[{"$f":"IF(COUNTIF(競技会!$A$2:$J$92,'2012'!I183)=0,\"ないです\",\"\")","v":""},"継続",9,"14","～",9,"15","第22回","関東学生新人陸上競技選手権大会","131010",{"$f":"IF(VLOOKUP(J183,競技場!$A$2:$B$371,2)=L183,\"○\",\"×\")","v":"○"},"国立霞ヶ丘競技場",null,null,"",null,null,null,null,130914]
[{"$f":"IF(COUNTIF(競技会!$A$2:$J$92,'2012'!I184)=0,\"ないです\",\"\")","v":""},"継続",9,16,"～",9,16,"第4回","大阪体育大学競技会","273050",{"$f":"IF(VLOOKUP(J184,競技場!$A$2:$B$371,2)=L184,\"○\",\"×\")","v":"○"},"浪商学園陸上競技場","深田　明日美","大阪体育大学","08036249045",null,5900405,"大阪府泉南郡熊取町大久保南4-4-20 ブランドール清原203号",null,130916]
[{"$f":"IF(COUNTIF(競技会!$A$2:$J$92,'2012'!I185)=0,\"ないです\",\"\")","v":""},"継続",9,21,"～",9,21,"第5回","大阪体育大学中長距離競技会","273050",{"$f":"IF(VLOOKUP(J185,競技場!$A$2:$B$371,2)=L185,\"○\",\"×\")","v":"○"},"浪商学園陸上競技場","深田　明日美","大阪体育大学","08036249045",null,5900405,"大阪府泉南郡熊取町大久保南4-4-20 ブランドール清原203号",null,130921]
[{"$f":"IF(COUNTIF(競技会!$A$2:$J$92,'2012'!I186)=0,\"ないです\",\"\")","v":""},"継続",9,22,"～",9,22,"第25回","六大学対校陸上競技大会（東海大・筑波大・順大・日体大・日大・中京大）",null,{"$f":"IF(VLOOKUP(J186,競技場!$A$2:$B$371,2)=L186,\"○\",\"×\")","v":{"$error":"#N/A"}},"未定","猪口  俊輔","順天堂大学","0476981001","juntendo_t_f@yahoo.co.jp",2701695,"千葉県印西市平賀学園台1-1順天堂大学陸上競技研究室",null,130922]
[{"$f":"IF(COUNTIF(競技会!$A$2:$J$92,'2012'!I187)=0,\"ないです\",\"\")","v":""},"継続",9,"22","～",9,"23","第226回","日本体育大学長距離競技会","143050",{"$f":"IF(VLOOKUP(J187,競技場!$A$2:$B$371,2)=L187,\"○\",\"×\")","v":"○"},"日本体育大学健志台陸上競技場","正木　洋成","日本体育大学","0459620520","nittai-honbu@d02.itscom.net",2270035,"神奈川県横浜市青葉区すみよし台37－3",null,130922]
[{"$f":"IF(COUNTIF(競技会!$A$2:$J$92,'2012'!I188)=0,\"ないです\",\"\")","v":""},"継続",9,22,"～",9,22,"第4回","九州共立大学競技会","403150",{"$f":"IF(VLOOKUP(J188,競技場!$A$2:$B$371,2)=L188,\"○\",\"×\")","v":"○"},"九州共立大学陸上競技場","知念　春乃","九州共立大学","09255855294","0blige.lib-1",8070873,"福岡県北九州市八幡西区藤原3－6－6－",null,130922]
[{"$f":"IF(COUNTIF(競技会!$A$2:$J$92,'2012'!I189)=0,\"ないです\",\"\")","v":""},"継続",9,22,"～",9,22,null,"土曜競技会","223060",{"$f":"IF(VLOOKUP(J189,競技場!$A$2:$B$371,2)=L189,\"○\",\"×\")","v":"○"},"中京大学梅村陸上競技場","鈴木　雄貴","中京大学","0565461316","chukyot-f@snow.ocn.ne.jp",4700393,"愛知県豊田市貝津町床立101",null,130922]
[{"$f":"IF(COUNTIF(競技会!$A$2:$J$92,'2012'!I190)=0,\"ないです\",\"\")","v":""},"継続",9,23,"～",9,23,"平成24年度第6回","日本大学競技会","133100",{"$f":"IF(VLOOKUP(J190,競技場!$A$2:$B$371,2)=L190,\"○\",\"×\")","v":"○"},"日本大学陸上競技場","海野　琢斗","日本大学","0333041969","nihon_univ_tf@yahoo.co.jp",1560045,"東京都世田谷区桜上水３－２３日本大学陸上競技場グランドトレーニング室２F",null,130923]
[{"$f":"IF(COUNTIF(競技会!$A$2:$J$92,'2012'!I191)=0,\"ないです\",\"\")","v":""},"継続",9,23,"～",9,23,"第91回","早稲田大学・関西学院大学対校陸上競技大会","284040",{"$f":"IF(VLOOKUP(J191,競技場!$A$2:$B$371,2)=L191,\"○\",\"×\")","v":"○"},"関西学院第２フィールド陸上競技場","平嶋　大岳","関西学院大学","08061751516",null,6638006,"兵庫県西宮市段上町3-13-10-104",null,130923]
[{"$f":"IF(COUNTIF(競技会!$A$2:$J$92,'2012'!I192)=0,\"ないです\",\"\")","v":""},"継続",9,"29","～",9,"30","第76回","日本体育大学陸上競技会","143050",{"$f":"IF(VLOOKUP(J192,競技場!$A$2:$B$371,2)=L192,\"○\",\"×\")","v":"○"},"日本体育大学健志台陸上競技場","正木　洋成","日本体育大学","0459620520","nittai-honbu@d02.itscom.net",2270035,"神奈川県横浜市青葉区すみよし台37－3",null,130929]
[{"$f":"IF(COUNTIF(競技会!$A$2:$J$92,'2012'!I193)=0,\"ないです\",\"\")","v":""},"継続",9,"29","～",9,"30",null,"国際武道大学選手権","123060",{"$f":"IF(VLOOKUP(J193,競技場!$A$2:$B$371,2)=L193,\"○\",\"×\")","v":"○"},"国際武道大学陸上競技場","登藤　大輔","国際武道大学","09022466307","tf-daisuki-td@docomo.ne.jp",2995224,"千葉県勝浦市新官1441-60グレープ101",null,130929]
[{"$f":"IF(COUNTIF(競技会!$A$2:$J$92,'2012'!I194)=0,\"ないです\",\"\")","v":""},"継続",9,29,"～",9,29,"第26回","びわこ成蹊スポーツ大学競技会","253030",{"$f":"IF(VLOOKUP(J194,競技場!$A$2:$B$371,2)=L194,\"○\",\"×\")","v":"○"},"びわこフィールド陸上競技場","田中　秀和","びわこ成蹊スポーツ大学","",null,5202323,"滋賀県野洲市三上1-34",null,130929]
[{"$f":"IF(COUNTIF(競技会!$A$2:$J$92,'2012'!I195)=0,\"ないです\",\"\")","v":""},"継続",9,30,"～",9,30,"第37回","関西私立四大学対校陸上競技大会（関学大・関大・立命大・同大）","273090",{"$f":"IF(VLOOKUP(J195,競技場!$A$2:$B$371,2)=L195,\"○\",\"×\")","v":"○"},"大阪府服部緑地陸上競技場","安川　晃平","立命館大学","08053000771",null,6210815,"京都府亀岡市古世町向鳩10-55",null,130930]
[{"$f":"IF(COUNTIF(競技会!$A$2:$J$92,'2012'!I196)=0,\"ないです\",\"\")","v":""},"継続",9,30,"～",9,30,"第37回","関西私立四大学陸上競技女子競技会（関学大・関大・立命大・同大）","273090",{"$f":"IF(VLOOKUP(J196,競技場!$A$2:$B$371,2)=L196,\"○\",\"×\")","v":"○"},"大阪府服部緑地陸上競技場","安川　晃平","立命館大学","08053000771",null,6210815,"京都府亀岡市古世町向鳩10-55",null,130930]
[{"$f":"IF(COUNTIF(競技会!$A$2:$J$92,'2012'!I197)=0,\"ないです\",\"\")","v":""},"継続",9,"未定","～",9,"未定",null,"中国五大学対校陸上競技大会（岡山大・島根大・鳥取大・広島大・山口大）","311010",{"$f":"IF(VLOOKUP(J197,競技場!$A$2:$B$371,2)=L197,\"○\",\"×\")","v":"○"},"県立布勢総合運動公園陸上競技場","友尻　亜耶",null,"09083903140","b106831@hiroshima-u.co.jp",7390047,"広島県東広島市西条下見５-８-５６　ブルータススクエア２０８",null,130999]
[{"$f":"IF(COUNTIF(競技会!$A$2:$J$92,'2012'!I198)=0,\"ないです\",\"\")","v":""},"継続",9,"未定","～",9,"未定","第40回","九州学生陸上競技選手権大会","401030",{"$f":"IF(VLOOKUP(J198,競技場!$A$2:$B$371,2)=L198,\"○\",\"×\")","v":"○"},"県立久留米スポーツセンター陸上競技場","末冨　洋一",null,"0927150997","kyu-athi@blue.ocn.ne.jp",8100062,"福岡市中央区荒戸3-3-66 オリエンタル大濠308",null,130999]
[{"$f":"IF(COUNTIF(競技会!$A$2:$J$92,'2012'!I199)=0,\"ないです\",\"\")","v":""},"継続",9,"未定","～",9,"未定","第30回","全日本大学駅伝・全日本大学女子駅伝九州地区予選会","401030",{"$f":"IF(VLOOKUP(J199,競技場!$A$2:$B$371,2)=L199,\"○\",\"×\")","v":"○"},"県立久留米スポーツセンター陸上競技場","末冨　洋一",null,"0927150997","kyu-athi@blue.ocn.ne.jp",8100062,"福岡市中央区荒戸3-3-66 オリエンタル大濠308",null,130999]
[{"$f":"IF(COUNTIF(競技会!$A$2:$J$92,'2012'!I200)=0,\"ないです\",\"\")","v":""},"継続",10,"6","～",10,"7","第6回","国士舘大学競技会","133160",{"$f":"IF(VLOOKUP(J200,競技場!$A$2:$B$371,2)=L200,\"○\",\"×\")","v":"○"},"国士舘大学多摩陸上競技場","大具　祥子","国士舘大学","08010300138","k_u_a_since1956@hotmail.com",2068515,"東京都多摩市永山7－3－1　国士舘大学陸上競技研究室",null,131006]
[{"$f":"IF(COUNTIF(競技会!$A$2:$J$92,'2012'!I201)=0,\"ないです\",\"\")","v":""},"継続",10,"6","～",10,"7","第6回","筑波大競技会","083110",{"$f":"IF(VLOOKUP(J201,競技場!$A$2:$B$371,2)=L201,\"○\",\"×\")","v":"○"},"筑波大学陸上競技場","柳澤　純太","筑波大学","",null,null,null,null,131006]
[{"$f":"IF(COUNTIF(競技会!$A$2:$J$92,'2012'!I202)=0,\"ないです\",\"\")","v":""},"継続",10,6,"～",10,6,"第6回","新潟医療福祉大学競技会",null,{"$f":"IF(VLOOKUP(J202,競技場!$A$2:$B$371,2)=L202,\"○\",\"×\")","v":{"$error":"#N/A"}},"未定","高橋　和将","新潟医療福祉大学","0252574694","nuhw-meets@nuhw-tfc.net",9503198,"新潟市北区島見町1398 新潟医療福祉大学陸上競技部",null,131006]
[{"$f":"IF(COUNTIF(競技会!$A$2:$J$92,'2012'!I203)=0,\"ないです\",\"\")","v":""},"継続",10,6,"～",10,6,"第5回","九州共立大学競技会","403150",{"$f":"IF(VLOOKUP(J203,競技場!$A$2:$B$371,2)=L203,\"○\",\"×\")","v":"○"},"九州共立大学陸上競技場","知念　春乃","九州共立大学","09255855294","0blige.lib-1",8070873,"福岡県北九州市八幡西区藤原3－6－6－",null,131006]
[{"$f":"IF(COUNTIF(競技会!$A$2:$J$92,'2012'!I204)=0,\"ないです\",\"\")","v":""},"継続",10,6,"～",10,6,"第85回","東京大学・京都大学対校陸上競技大会","262020",{"$f":"IF(VLOOKUP(J204,競技場!$A$2:$B$371,2)=L204,\"○\",\"×\")","v":"○"},"府立山城総合運動公園陸上競技場","中東　太一","京都大学","09078975924",null,6068201,"京都府京都市左京区田中玄京町36-304",null,131006]
[{"$f":"IF(COUNTIF(競技会!$A$2:$J$92,'2012'!I205)=0,\"ないです\",\"\")","v":""},"継続",10,6,"～",10,6,"第11回","東京大学・京都大学対校女子陸上競技大会","262020",{"$f":"IF(VLOOKUP(J205,競技場!$A$2:$B$371,2)=L205,\"○\",\"×\")","v":"○"},"府立山城総合運動公園陸上競技場","中東　太一","京都大学","09078975924",null,6068201,"京都府京都市左京区田中玄京町36-304",null,131006]
[{"$f":"IF(COUNTIF(競技会!$A$2:$J$92,'2012'!I206)=0,\"ないです\",\"\")","v":""},"継続",10,7,"～",10,7,"第14回","東海大学種目別競技会","143060",{"$f":"IF(VLOOKUP(J206,競技場!$A$2:$B$371,2)=L206,\"○\",\"×\")","v":"○"},"東海大学湘南校舎陸上競技場","村田　亮","東海大学","08050964564","zama4944@yahoo.co.jp",2420024,"神奈川県大和市福田3－14－10　第1ビラヒロセ204号室",null,131007]
[{"$f":"IF(COUNTIF(競技会!$A$2:$J$92,'2012'!I207)=0,\"ないです\",\"\")","v":""},"継続",10,13,"～",10,13,"24年度第7回","順天堂大学競技会","123080",{"$f":"IF(VLOOKUP(J207,競技場!$A$2:$B$371,2)=L207,\"○\",\"×\")","v":"○"},"順天堂大学さくらキャンパス陸上競技場","白府  将弘","順天堂大学","0476981001","juntendo_kirokukai@yahoo.co.jp",2701695,"千葉県印西市平賀学園台1-1順天堂大学陸上競技研究室",null,131013]
[{"$f":"IF(COUNTIF(競技会!$A$2:$J$92,'2012'!I208)=0,\"ないです\",\"\")","v":""},"継続",10,13,"～",10,13,null,"東京女子体育大学土曜競技会","134070",{"$f":"IF(VLOOKUP(J208,競技場!$A$2:$B$371,2)=L208,\"○\",\"×\")","v":"○"},"東京女子体育大学陸上競技場","鈴木　亜季子","東京女子体育大学","07050751478","twcpe.rikujyou@gmail.com",1868668,"東京都国立市富士見台4-30-1",null,131013]
[{"$f":"IF(COUNTIF(競技会!$A$2:$J$92,'2012'!I209)=0,\"ないです\",\"\")","v":""},"継続",10,"13","～",10,"14","第77回","日本体育大学陸上競技会","143050",{"$f":"IF(VLOOKUP(J209,競技場!$A$2:$B$371,2)=L209,\"○\",\"×\")","v":"○"},"日本体育大学健志台陸上競技場","正木　洋成","日本体育大学","0459620520","nittai-honbu@d02.itscom.net",2270035,"神奈川県横浜市青葉区すみよし台37－3",null,131013]
[{"$f":"IF(COUNTIF(競技会!$A$2:$J$92,'2012'!I210)=0,\"ないです\",\"\")","v":""},"継続",10,13,"～",10,13,"第6回","流通経済大学陸上競技会","083100",{"$f":"IF(VLOOKUP(J210,競技場!$A$2:$B$371,2)=L210,\"○\",\"×\")","v":"○"},"龍ヶ崎市陸上競技場","田畑　亨","流通経済大学","0297601862","tabata@rku.ac.jp",3018555,"茨城県龍ヶ崎市120",null,131013]
[{"$f":"IF(COUNTIF(競技会!$A$2:$J$92,'2012'!I211)=0,\"ないです\",\"\")","v":""},"継続",10,"13","～",10,"14","第33回","北信越学生陸上競技選手権大会","171020",{"$f":"IF(VLOOKUP(J211,競技場!$A$2:$B$371,2)=L211,\"○\",\"×\")","v":"○"},"富山県総合運動公園陸上競技場","野原　夕紀恵",null,"09037694695","ynohara0403@gmail.com",9391121,"富山県高岡市戸出光明寺92",null,131013]
[{"$f":"IF(COUNTIF(競技会!$A$2:$J$92,'2012'!I212)=0,\"ないです\",\"\")","v":""},"継続",10,13,"～",10,13,"第13回","金沢星稜大学競技会","184050",{"$f":"IF(VLOOKUP(J212,競技場!$A$2:$B$371,2)=L212,\"○\",\"×\")","v":"○"},"学校法人稲置学園総合運動場","杉林　孝法","金沢星稜大学","09049657336","sugi@seiryo-u.ac.jp",9208620,"石川県御所町丑10-1 金沢星稜大学",null,131013]
[{"$f":"IF(COUNTIF(競技会!$A$2:$J$92,'2012'!I213)=0,\"ないです\",\"\")","v":""},"継続",10,13,"～",10,13,"第2回","九州学連南九州地区学連競技会","463100",{"$f":"IF(VLOOKUP(J213,競技場!$A$2:$B$371,2)=L213,\"○\",\"×\")","v":"○"},"鹿屋体育大学陸上競技場","境　実穂","鹿屋体育大学","0908416632","dada-duck.rn",8912311,"鹿児島県鹿屋市白水町388-1メゾン白水207",null,131013]
[{"$f":"IF(COUNTIF(競技会!$A$2:$J$92,'2012'!I214)=0,\"ないです\",\"\")","v":""},"継続",10,13,"～",10,13,"第6回","大阪体育大学中長距離競技会","273050",{"$f":"IF(VLOOKUP(J214,競技場!$A$2:$B$371,2)=L214,\"○\",\"×\")","v":"○"},"浪商学園陸上競技場","深田　明日美","大阪体育大学","08036249045",null,5900405,"大阪府泉南郡熊取町大久保南4-4-20 ブランドール清原203号",null,131013]
[{"$f":"IF(COUNTIF(競技会!$A$2:$J$92,'2012'!I215)=0,\"ないです\",\"\")","v":""},"継続",10,13,"～",10,13,"平成24年度","山形大学陸上競技部競技会","063080",{"$f":"IF(VLOOKUP(J215,競技場!$A$2:$B$371,2)=L215,\"○\",\"×\")","v":"○"},"山形県あかねヶ丘陸上競技場","佐藤　直之","山形大学","09010673309","e10150@st.yamagata-u.ac.jp",9900021,"山形県山形市小白川町1-8-12 エクセレント22　208号",null,131013]
[{"$f":"IF(COUNTIF(競技会!$A$2:$J$92,'2012'!I216)=0,\"ないです\",\"\")","v":""},"継続",10,14,"～",10,14,"平成24年度第7回","日本大学競技会","133100",{"$f":"IF(VLOOKUP(J216,競技場!$A$2:$B$371,2)=L216,\"○\",\"×\")","v":"○"},"日本大学陸上競技場","海野　琢斗","日本大学","0333041969","nihon_univ_tf@yahoo.co.jp",1560045,"東京都世田谷区桜上水３－２３日本大学陸上競技場グランドトレーニング室２F",null,131014]
[{"$f":"IF(COUNTIF(競技会!$A$2:$J$92,'2012'!I217)=0,\"ないです\",\"\")","v":""},"継続",10,20,"～",10,20,null,"東京女子体育大学土曜競技会","134070",{"$f":"IF(VLOOKUP(J217,競技場!$A$2:$B$371,2)=L217,\"○\",\"×\")","v":"○"},"東京女子体育大学陸上競技場","鈴木　亜季子","東京女子体育大学","07050751478","twcpe.rikujyou@gmail.com",1868668,"東京都国立市富士見台4-30-1",null,131020]
[{"$f":"IF(COUNTIF(競技会!$A$2:$J$92,'2012'!I218)=0,\"ないです\",\"\")","v":""},"継続",10,20,"～",10,20,"第89回","東京箱根間往復大学駅伝競走予選会","137270",{"$f":"IF(VLOOKUP(J218,競技場!$A$2:$B$371,2)=L218,\"○\",\"×\")","v":"○"},"国営昭和記念公園",null,null,"",null,null,null,null,131020]
[{"$f":"IF(COUNTIF(競技会!$A$2:$J$92,'2012'!I219)=0,\"ないです\",\"\")","v":""},"継続",10,20,"～",10,20,"第1回","九州共立大学投てき競技会","403150",{"$f":"IF(VLOOKUP(J219,競技場!$A$2:$B$371,2)=L219,\"○\",\"×\")","v":"○"},"九州共立大学陸上競技場","知念　春乃","九州共立大学","09255855294","0blige.lib-1",8070873,"福岡県北九州市八幡西区藤原3－6－6－",null,131020]
[{"$f":"IF(COUNTIF(競技会!$A$2:$J$92,'2012'!I220)=0,\"ないです\",\"\")","v":""},"継続",10,20,"～",10,20,"第19回","関西医歯薬科学生対校陸上競技大会","261010",{"$f":"IF(VLOOKUP(J220,競技場!$A$2:$B$371,2)=L220,\"○\",\"×\")","v":"○"},"京都市西京極総合運動公園陸上競技場","住友　知紀","京都府立医科大学","09050523534",null,6020901,"京都府上京区北小路室町394-501",null,131020]
[{"$f":"IF(COUNTIF(競技会!$A$2:$J$92,'2012'!I221)=0,\"ないです\",\"\")","v":""},"継続",10,27,"～",10,27,"第37回","10大学対校陸上競技大会（桜美林大・北里大・上智大・東京外大・東京経大・朝鮮大・東電大・東京都市大・工学院大・帝京大）",null,{"$f":"IF(VLOOKUP(J221,競技場!$A$2:$B$371,2)=L221,\"○\",\"×\")","v":{"$error":"#N/A"}},"未定","菅　千晶","東京経済大学","09024089797","tkutaf@yahoo.co.jp",1670043,"東京都杉並区上荻4-11-19",null,131027]
[{"$f":"IF(COUNTIF(競技会!$A$2:$J$92,'2012'!I222)=0,\"ないです\",\"\")","v":""},"継続",10,27,"～",10,27,null,"東京女子体育大学土曜競技会","134070",{"$f":"IF(VLOOKUP(J222,競技場!$A$2:$B$371,2)=L222,\"○\",\"×\")","v":"○"},"東京女子体育大学陸上競技場","鈴木　亜季子","東京女子体育大学","07050751478","twcpe.rikujyou@gmail.com",1868668,"東京都国立市富士見台4-30-1",null,131027]
[{"$f":"IF(COUNTIF(競技会!$A$2:$J$92,'2012'!I223)=0,\"ないです\",\"\")","v":""},"継続",10,"27","～",10,"28",null,"国際武道大学競技会","123060",{"$f":"IF(VLOOKUP(J223,競技場!$A$2:$B$371,2)=L223,\"○\",\"×\")","v":"○"},"国際武道大学陸上競技場","登藤　大輔","国際武道大学","09022466307","tf-daisuki-td@docomo.ne.jp",2995224,"千葉県勝浦市新官1441-60グレープ101",null,131027]
[{"$f":"IF(COUNTIF(競技会!$A$2:$J$92,'2012'!I224)=0,\"ないです\",\"\")","v":""},"継続",10,27,"～",10,27,null,"秋季島大リレーカーニバル",null,{"$f":"IF(VLOOKUP(J224,競技場!$A$2:$B$371,2)=L224,\"○\",\"×\")","v":{"$error":"#N/A"}},"未定","吉田　茂希","島根大学","08024028712","shigeki.yoshida@me5.seikyou.ne.jp",null,null,null,131027]
[{"$f":"IF(COUNTIF(競技会!$A$2:$J$92,'2012'!I225)=0,\"ないです\",\"\")","v":""},"継続",10,27,"～",10,27,"第4回","鹿屋体育大学陸上競技会","463100",{"$f":"IF(VLOOKUP(J225,競技場!$A$2:$B$371,2)=L225,\"○\",\"×\")","v":"○"},"鹿屋体育大学陸上競技場","境　実穂","鹿屋体育大学","0908416632","dada-duck.rn",8912311,"鹿児島県鹿屋市白水町388-1メゾン白水207",null,131027]
[{"$f":"IF(COUNTIF(競技会!$A$2:$J$92,'2012'!I226)=0,\"ないです\",\"\")","v":""},"継続",10,27,"～",10,27,null,"土曜競技会","223060",{"$f":"IF(VLOOKUP(J226,競技場!$A$2:$B$371,2)=L226,\"○\",\"×\")","v":"○"},"中京大学梅村陸上競技場","鈴木　雄貴","中京大学","0565461316","chukyot-f@snow.ocn.ne.jp",4700393,"愛知県豊田市貝津町床立101",null,131027]
[{"$f":"IF(COUNTIF(競技会!$A$2:$J$92,'2012'!I227)=0,\"ないです\",\"\")","v":""},"継続",10,28,"～",10,28,"第2回","東海大学競技会","143060",{"$f":"IF(VLOOKUP(J227,競技場!$A$2:$B$371,2)=L227,\"○\",\"×\")","v":"○"},"東海大学湘南校舎陸上競技場","村田　亮","東海大学","08050964564","zama4944@yahoo.co.jp",2420024,"神奈川県大和市福田3－14－10　第1ビラヒロセ204号室",null,131028]
[{"$f":"IF(COUNTIF(競技会!$A$2:$J$92,'2012'!I228)=0,\"ないです\",\"\")","v":""},"継続",10,"未定","～",10,"未定","第63回","北関東5大学対校陸上競技大会（茨大・宇大・群大・埼大・高経大）",null,{"$f":"IF(VLOOKUP(J228,競技場!$A$2:$B$371,2)=L228,\"○\",\"×\")","v":{"$error":"#N/A"}},"未定","肥田埜　里枝","茨城大学","09024868896","10p1322t@mcs.ibaraki.ac",3100903,"水戸市堀町1120‐30ユニバーヴィラ313",null,131099]
[{"$f":"IF(COUNTIF(競技会!$A$2:$J$92,'2012'!I229)=0,\"ないです\",\"\")","v":""},"継続",10,"未定","～",10,"未定","第15回","東海大学種目別競技会","143060",{"$f":"IF(VLOOKUP(J229,競技場!$A$2:$B$371,2)=L229,\"○\",\"×\")","v":"○"},"東海大学湘南校舎陸上競技場","村田　亮","東海大学","08050964564","zama4944@yahoo.co.jp",2420024,"神奈川県大和市福田3－14－10　第1ビラヒロセ204号室",null,131099]
[{"$f":"IF(COUNTIF(競技会!$A$2:$J$92,'2012'!I230)=0,\"ないです\",\"\")","v":""},"継続",10,"未定","～",10,"未定",null,"Josaiスプリントトライアル","114030",{"$f":"IF(VLOOKUP(J230,競技場!$A$2:$B$371,2)=L230,\"○\",\"×\")","v":"○"},"城西大学総合グラウンド",null,"城西大学","",null,null,null,null,131099]
[{"$f":"IF(COUNTIF(競技会!$A$2:$J$92,'2012'!I231)=0,\"ないです\",\"\")","v":""},"継続",10,"未定","～",10,"未定",null,"中国四国学生陸上競技選手権大会",null,{"$f":"IF(VLOOKUP(J231,競技場!$A$2:$B$371,2)=L231,\"○\",\"×\")","v":{"$error":"#N/A"}},"未定","友尻　亜耶",null,"09083903140","b106831@hiroshima-u.co.jp",7390047,"広島県東広島市西条下見５-８-５６　ブルータススクエア２０８",null,131099]
[{"$f":"IF(COUNTIF(競技会!$A$2:$J$92,'2012'!I232)=0,\"ないです\",\"\")","v":""},"継続",10,"未定","～",10,"未定","第3回","学連競技会","401010",{"$f":"IF(VLOOKUP(J232,競技場!$A$2:$B$371,2)=L232,\"○\",\"×\")","v":"○"},"福岡市平和台陸上競技場","末冨　洋一",null,"0927150997","kyu-athi@blue.ocn.ne.jp",8100062,"福岡市中央区荒戸3-3-66 オリエンタル大濠308",null,131099]
[{"$f":"IF(COUNTIF(競技会!$A$2:$J$92,'2012'!I233)=0,\"ないです\",\"\")","v":""},"継続",10,"未定","～",10,"未定","第12回","名桜大学陸上競技会",null,{"$f":"IF(VLOOKUP(J233,競技場!$A$2:$B$371,2)=L233,\"○\",\"×\")","v":{"$error":"#N/A"}},"未定","北村　紀宜","名桜大学","08017839550","daigaku-goukakusuru.kt@docomo.ne.jp",9500005,"沖縄県名護市為又493-13ドミトリー山里Ⅱ3－3Ｂ",null,131099]
[{"$f":"IF(COUNTIF(競技会!$A$2:$J$92,'2012'!I234)=0,\"ないです\",\"\")","v":""},"継続",11,3,"～",11,3,"24年度第8回","順天堂大学競技会","123080",{"$f":"IF(VLOOKUP(J234,競技場!$A$2:$B$371,2)=L234,\"○\",\"×\")","v":"○"},"順天堂大学さくらキャンパス陸上競技場","白府  将弘","順天堂大学","0476981001","juntendo_kirokukai@yahoo.co.jp",2701695,"千葉県印西市平賀学園台1-1順天堂大学陸上競技研究室",null,131103]
[{"$f":"IF(COUNTIF(競技会!$A$2:$J$92,'2012'!I235)=0,\"ないです\",\"\")","v":""},"継続",11,"3","～",11,"4","第7回","国士舘大学競技会","133160",{"$f":"IF(VLOOKUP(J235,競技場!$A$2:$B$371,2)=L235,\"○\",\"×\")","v":"○"},"国士舘大学多摩陸上競技場","大具　祥子","国士舘大学","08010300138","k_u_a_since1956@hotmail.com",2068515,"東京都多摩市永山7－3－1　国士舘大学陸上競技研究室",null,131103]
[{"$f":"IF(COUNTIF(競技会!$A$2:$J$92,'2012'!I236)=0,\"ないです\",\"\")","v":""},"継続",11,3,"～",11,3,null,"国際武道大学競技会","123060",{"$f":"IF(VLOOKUP(J236,競技場!$A$2:$B$371,2)=L236,\"○\",\"×\")","v":"○"},"国際武道大学陸上競技場","登藤　大輔","国際武道大学","09022466307","tf-daisuki-td@docomo.ne.jp",2995224,"千葉県勝浦市新官1441-60グレープ101",null,131103]
[{"$f":"IF(COUNTIF(競技会!$A$2:$J$92,'2012'!I237)=0,\"ないです\",\"\")","v":""},"継続",11,3,"～",11,3,"第16回","東京大学陸上競技会","133010",{"$f":"IF(VLOOKUP(J237,競技場!$A$2:$B$371,2)=L237,\"○\",\"×\")","v":"○"},"東京大学陸上競技場","梁瀬  将史","東京大学","08060253085","lianglai24@gamil.com",1600005,"東京都新宿区愛住町9番地安禅寺AP2号棟2F",null,131103]
[{"$f":"IF(COUNTIF(競技会!$A$2:$J$92,'2012'!I238)=0,\"ないです\",\"\")","v":""},"継続",11,3,"～",11,3,"第7回","筑波大競技会","083110",{"$f":"IF(VLOOKUP(J238,競技場!$A$2:$B$371,2)=L238,\"○\",\"×\")","v":"○"},"筑波大学陸上競技場","柳澤　純太","筑波大学","",null,null,null,null,131103]
[{"$f":"IF(COUNTIF(競技会!$A$2:$J$92,'2012'!I239)=0,\"ないです\",\"\")","v":""},"継続",11,3,"～",11,3,"第7回","大阪体育大学中長距離競技会","273050",{"$f":"IF(VLOOKUP(J239,競技場!$A$2:$B$371,2)=L239,\"○\",\"×\")","v":"○"},"浪商学園陸上競技場","深田　明日美","大阪体育大学","08036249045",null,5900405,"大阪府泉南郡熊取町大久保南4-4-20 ブランドール清原203号",null,131103]
[{"$f":"IF(COUNTIF(競技会!$A$2:$J$92,'2012'!I240)=0,\"ないです\",\"\")","v":""},"継続",11,4,"～",11,4,"第16回","東京大学陸上競技会","133010",{"$f":"IF(VLOOKUP(J240,競技場!$A$2:$B$371,2)=L240,\"○\",\"×\")","v":"○"},"東京大学陸上競技場","梁瀬  将史","東京大学","08060253085","lianglai24@gamil.com",1600005,"東京都新宿区愛住町9番地安禅寺AP2号棟2F",null,131104]
[{"$f":"IF(COUNTIF(競技会!$A$2:$J$92,'2012'!I241)=0,\"ないです\",\"\")","v":""},"継続",11,4,"～",11,4,"平成24年度第8回","日本大学競技会","133100",{"$f":"IF(VLOOKUP(J241,競技場!$A$2:$B$371,2)=L241,\"○\",\"×\")","v":"○"},"日本大学陸上競技場","海野　琢斗","日本大学","0333041969","nihon_univ_tf@yahoo.co.jp",1560045,"東京都世田谷区桜上水３－２３日本大学陸上競技場グランドトレーニング室２F",null,131104]
[{"$f":"IF(COUNTIF(競技会!$A$2:$J$92,'2012'!I242)=0,\"ないです\",\"\")","v":""},"継続",11,4,"～",11,4,"第48回","京阪神三大学対校新人陸上競技大会（京大学・阪大・神戸大）","273090",{"$f":"IF(VLOOKUP(J242,競技場!$A$2:$B$371,2)=L242,\"○\",\"×\")","v":"○"},"大阪府服部緑地陸上競技場","細川　雅弘","大阪大学","09056591126",null,5440011,"大阪府大阪市生野区田島5-15-6",null,131104]
[{"$f":"IF(COUNTIF(競技会!$A$2:$J$92,'2012'!I243)=0,\"ないです\",\"\")","v":""},"継続",11,4,"～",11,4,"第19回","京阪神三大学対校女子陸上競技大会（京大・阪大・神戸大）","273090",{"$f":"IF(VLOOKUP(J243,競技場!$A$2:$B$371,2)=L243,\"○\",\"×\")","v":"○"},"大阪府服部緑地陸上競技場","細川　雅弘","大阪大学","09056591126",null,5440011,"大阪府大阪市生野区田島5-15-6",null,131104]
[{"$f":"IF(COUNTIF(競技会!$A$2:$J$92,'2012'!I244)=0,\"ないです\",\"\")","v":""},"継続",11,"10","～",11,"11",null,"日本体育大学陸上競技選手権","143050",{"$f":"IF(VLOOKUP(J244,競技場!$A$2:$B$371,2)=L244,\"○\",\"×\")","v":"○"},"日本体育大学健志台陸上競技場","正木　洋成","日本体育大学","0459620520","nittai-honbu@d02.itscom.net",2270035,"神奈川県横浜市青葉区すみよし台37－3",null,131110]
[{"$f":"IF(COUNTIF(競技会!$A$2:$J$92,'2012'!I245)=0,\"ないです\",\"\")","v":""},"継続",11,10,"～",11,10,"第5回","鹿屋体育大学陸上競技会","463100",{"$f":"IF(VLOOKUP(J245,競技場!$A$2:$B$371,2)=L245,\"○\",\"×\")","v":"○"},"鹿屋体育大学陸上競技場","境　実穂","鹿屋体育大学","0908416632","dada-duck.rn",8912311,"鹿児島県鹿屋市白水町388-1メゾン白水207",null,131110]
[{"$f":"IF(COUNTIF(競技会!$A$2:$J$92,'2012'!I246)=0,\"ないです\",\"\")","v":""},"継続",11,"10","～",11,"11","第5回","大阪体育大学競技会","273050",{"$f":"IF(VLOOKUP(J246,競技場!$A$2:$B$371,2)=L246,\"○\",\"×\")","v":"○"},"浪商学園陸上競技場","深田　明日美","大阪体育大学","08036249045",null,5900405,"大阪府泉南郡熊取町大久保南4-4-20 ブランドール清原203号",null,131110]
[{"$f":"IF(COUNTIF(競技会!$A$2:$J$92,'2012'!I247)=0,\"ないです\",\"\")","v":""},"継続",11,"10","～",11,"11","第2回","大阪体育大学混成競技会","273050",{"$f":"IF(VLOOKUP(J247,競技場!$A$2:$B$371,2)=L247,\"○\",\"×\")","v":"○"},"浪商学園陸上競技場","深田　明日美","大阪体育大学","08036249045",null,5900405,"大阪府泉南郡熊取町大久保南4-4-20 ブランドール清原203号",null,131110]
[{"$f":"IF(COUNTIF(競技会!$A$2:$J$92,'2012'!I248)=0,\"ないです\",\"\")","v":""},"継続",11,11,"～",11,11,"第16回","東海大学種目別競技会","143060",{"$f":"IF(VLOOKUP(J248,競技場!$A$2:$B$371,2)=L248,\"○\",\"×\")","v":"○"},"東海大学湘南校舎陸上競技場","村田　　亮","東海大学","08050964564","zama4944@yahoo.co.jp",2420024,"神奈川県大和市福田3－14－10　第1ビラヒロセ204号室",null,131111]
[{"$f":"IF(COUNTIF(競技会!$A$2:$J$92,'2012'!I249)=0,\"ないです\",\"\")","v":""},"継続",11,11,"～",11,11,"第3回","仙台大学競技会","043110",{"$f":"IF(VLOOKUP(J249,競技場!$A$2:$B$371,2)=L249,\"○\",\"×\")","v":"○"},"角田市陸上競技場","増田　育子","仙台大学","08016769809","a.i.zutto.f@docomo.ne.jp",9811524,"宮城県角田市岡字駅前北7-8",null,131111]
[{"$f":"IF(COUNTIF(競技会!$A$2:$J$92,'2012'!I250)=0,\"ないです\",\"\")","v":""},"継続",11,"17","～",11,"18","第227回","日本体育大学長距離競技会","143050",{"$f":"IF(VLOOKUP(J250,競技場!$A$2:$B$371,2)=L250,\"○\",\"×\")","v":"○"},"日本体育大学健志台陸上競技場","正木　洋成","日本体育大学","0459620520","nittai-honbu@d02.itscom.net",2270035,"神奈川県横浜市青葉区すみよし台37－3",null,131117]
[{"$f":"IF(COUNTIF(競技会!$A$2:$J$92,'2012'!I251)=0,\"ないです\",\"\")","v":""},"継続",11,17,"～",11,17,null,"土曜競技会","223060",{"$f":"IF(VLOOKUP(J251,競技場!$A$2:$B$371,2)=L251,\"○\",\"×\")","v":"○"},"中京大学梅村陸上競技場","鈴木　雄貴","中京大学","0565461316","chukyot-f@snow.ocn.ne.jp",4700393,"愛知県豊田市貝津町床立101",null,131117]
[{"$f":"IF(COUNTIF(競技会!$A$2:$J$92,'2012'!I252)=0,\"ないです\",\"\")","v":""},"継続",11,17,"～",11,17,null,"至学館大学陸上競技大会","224040",{"$f":"IF(VLOOKUP(J252,競技場!$A$2:$B$371,2)=L252,\"○\",\"×\")","v":"○"},"至学館大学陸上競技場","古田　妃菜","至学館大学","0805164129","nadakayama55@yahoo.co.jp",4440824,"岡崎市上地町字西田35-1",null,131117]
[{"$f":"IF(COUNTIF(競技会!$A$2:$J$92,'2012'!I253)=0,\"ないです\",\"\")","v":""},"継続",11,24,"～",11,24,null,"10000m記録挑戦競技会","131010",{"$f":"IF(VLOOKUP(J253,競技場!$A$2:$B$371,2)=L253,\"○\",\"×\")","v":"○"},"国立霞ヶ丘競技場",null,null,"",null,null,null,null,131124]
[{"$f":"IF(COUNTIF(競技会!$A$2:$J$92,'2012'!I254)=0,\"ないです\",\"\")","v":""},"継続",11,24,"～",11,24,"第8回","大阪体育大学中長距離競技会","273050",{"$f":"IF(VLOOKUP(J254,競技場!$A$2:$B$371,2)=L254,\"○\",\"×\")","v":"○"},"浪商学園陸上競技場","深田　明日美","大阪体育大学","08036249045",null,5900405,"大阪府泉南郡熊取町大久保南4-4-20 ブランドール清原203号",null,131124]
[{"$f":"IF(COUNTIF(競技会!$A$2:$J$92,'2012'!I255)=0,\"ないです\",\"\")","v":""},"継続",12,"1","～",12,"2","第228回","日本体育大学長距離競技会","143050",{"$f":"IF(VLOOKUP(J255,競技場!$A$2:$B$371,2)=L255,\"○\",\"×\")","v":"○"},"日本体育大学健志台陸上競技場","正木　洋成","日本体育大学","0459620520","nittai-honbu@d02.itscom.net",2270035,"神奈川県横浜市青葉区すみよし台37－3",null,131201]
[{"$f":"IF(COUNTIF(競技会!$A$2:$J$92,'2012'!I256)=0,\"ないです\",\"\")","v":""},"継続",12,8,"～",12,8,"第1回","流通経済大学投擲競技会","083100",{"$f":"IF(VLOOKUP(J256,競技場!$A$2:$B$371,2)=L256,\"○\",\"×\")","v":"○"},"龍ヶ崎市陸上競技場","田畑　亨","流通経済大学","0297601862","tabata@rku.ac.jp",3018555,"茨城県龍ヶ崎市120",null,131208]
[{"$f":"IF(COUNTIF(競技会!$A$2:$J$92,'2012'!I257)=0,\"ないです\",\"\")","v":""},"継続",12,8,"～",12,8,"第3回","京都産業大学長距離競技会","264040",{"$f":"IF(VLOOKUP(J257,競技場!$A$2:$B$371,2)=L257,\"○\",\"×\")","v":"○"},"京都産業大学総合グラウンド","木村　亨","京都産業大学","09064115174",null,6038002,"京都府京都市北区上賀茂神山1-90　五常寮",null,131208]
[{"$f":"IF(COUNTIF(競技会!$A$2:$J$92,'2012'!I258)=0,\"ないです\",\"\")","v":""},"継続",12,8,"～",12,8,null,"土曜競技会","223060",{"$f":"IF(VLOOKUP(J258,競技場!$A$2:$B$371,2)=L258,\"○\",\"×\")","v":"○"},"中京大学梅村陸上競技場","鈴木　雄貴","中京大学","0565461316","chukyot-f@snow.ocn.ne.jp",4700393,"愛知県豊田市貝津町床立101",null,131208]
[{"$f":"IF(COUNTIF(競技会!$A$2:$J$92,'2012'!I259)=0,\"ないです\",\"\")","v":""},"継続",12,9,"～",12,9,"第17回","東海大学種目別競技会","143060",{"$f":"IF(VLOOKUP(J259,競技場!$A$2:$B$371,2)=L259,\"○\",\"×\")","v":"○"},"東海大学湘南校舎陸上競技場","村田　亮","東海大学","08050964564","zama4944@yahoo.co.jp",2420024,"神奈川県大和市福田3－14－10　第1ビラヒロセ204号室",null,131209]
[{"$f":"IF(COUNTIF(競技会!$A$2:$J$92,'2012'!I260)=0,\"ないです\",\"\")","v":""},"継続",12,15,"～",12,15,"第9回","大阪体育大学中長距離競技会","273050",{"$f":"IF(VLOOKUP(J260,競技場!$A$2:$B$371,2)=L260,\"○\",\"×\")","v":"○"},"浪商学園陸上競技場","深田　明日美","大阪体育大学","08036249045",null,5900405,"大阪府泉南郡熊取町大久保南4-4-20 ブランドール清原203号",null,131215]
[{"$f":"IF(COUNTIF(競技会!$A$2:$J$92,'2012'!I261)=0,\"ないです\",\"\")","v":""},"継続",12,16,"～",12,16,"第1回","国士舘大学長距離競技会","133160",{"$f":"IF(VLOOKUP(J261,競技場!$A$2:$B$371,2)=L261,\"○\",\"×\")","v":"○"},"国士舘大学多摩陸上競技場","本郷　いづみ","国士舘大学","08065078073","k_u_a_since1956@hotmail.com",2068515,"東京都多摩市永山7－3－1　国士舘大学陸上競技研究室",null,131216]
[{"$f":"IF(COUNTIF(競技会!$A$2:$J$92,'2012'!I262)=0,\"ないです\",\"\")","v":""},"継続",12,16,"～",12,16,"第3回","東京大学ディスタンスチャレンジ","133010",{"$f":"IF(VLOOKUP(J262,競技場!$A$2:$B$371,2)=L262,\"○\",\"×\")","v":"○"},"東京大学陸上競技場","梁瀬  将史","東京大学","08060253085","lianglai24@gamil.com",1600005,"東京都新宿区愛住町9番地安禅寺AP2号棟2F",null,131216]
[{"$f":"IF(COUNTIF(競技会!$A$2:$J$92,'2012'!I263)=0,\"ないです\",\"\")","v":""},"継続",12,21,"～",12,21,"第4回","京都産業大学長距離競技会","264040",{"$f":"IF(VLOOKUP(J263,競技場!$A$2:$B$371,2)=L263,\"○\",\"×\")","v":"○"},"京都産業大学総合グラウンド","木村　亨","京都産業大学","09064115174",null,6038002,"京都府京都市北区上賀茂神山1-90　五常寮",null,131221]
[{"$f":"IF(COUNTIF(競技会!$A$2:$J$92,'2012'!I264)=0,\"ないです\",\"\")","v":""},"継続",12,22,"～",12,22,"第13回","日本体育大学女子長距離競技会","143050",{"$f":"IF(VLOOKUP(J264,競技場!$A$2:$B$371,2)=L264,\"○\",\"×\")","v":"○"},"日本体育大学健志台陸上競技場","正木　洋成","日本体育大学","0459620520","nittai-honbu@d02.itscom.net",2270035,"神奈川県横浜市青葉区すみよし台37－3",null,131222]
[{"$f":"IF(COUNTIF(競技会!$A$2:$J$92,'2012'!I265)=0,\"ないです\",\"\")","v":""},"継続",12,23,"～",12,23,"第3回","関西学院大学競技会","284040",{"$f":"IF(VLOOKUP(J265,競技場!$A$2:$B$371,2)=L265,\"○\",\"×\")","v":"○"},"関西学院第２フィールド陸上競技場","平嶋　大岳","関西学院大学","08061751516",null,6638006,"兵庫県西宮市段上町3-13-10-104",null,131223]
[{"$f":"IF(COUNTIF(競技会!$A$2:$J$92,'2012'!I266)=0,\"ないです\",\"\")","v":""},"継続",2,3,"～",2,3,null,"筑波大投擲競技会","083110",{"$f":"IF(VLOOKUP(J266,競技場!$A$2:$B$371,2)=L266,\"○\",\"×\")","v":"○"},"筑波大学陸上競技場","柳澤　純太","筑波大学","",null,null,null,null,140203]
[{"$f":"IF(COUNTIF(競技会!$A$2:$J$92,'2012'!I267)=0,\"ないです\",\"\")","v":""},"継続",2,17,"～",2,17,null,"日本体育大学室内棒高跳競技会","室内46",{"$f":"IF(VLOOKUP(J267,競技場!$A$2:$B$371,2)=L267,\"○\",\"×\")","v":"○"},"日本体育大学横浜健志台ｷｬﾝﾊﾟｽ第一体育館棒高跳","正木　洋成","日本体育大学","0459620520","nittai-honbu@d02.itscom.net",2270035,"神奈川県横浜市青葉区すみよし台37－3",null,140217]
[{"$f":"IF(COUNTIF(競技会!$A$2:$J$92,'2012'!I268)=0,\"ないです\",\"\")","v":""},"継続",2,23,"～",2,23,"第2回","流通経済大学投擲競技会","083100",{"$f":"IF(VLOOKUP(J268,競技場!$A$2:$B$371,2)=L268,\"○\",\"×\")","v":"○"},"龍ヶ崎市陸上競技場","田畑　亨","流通経済大学","0297601863","tabata@rku.ac.jp",3018556,"茨城県龍ヶ崎市121",null,140223]
[{"$f":"IF(COUNTIF(競技会!$A$2:$J$92,'2012'!I269)=0,\"ないです\",\"\")","v":""},"継続",2,23,"～",2,23,"第6回","大阪体育大学競技会","273050",{"$f":"IF(VLOOKUP(J269,競技場!$A$2:$B$371,2)=L269,\"○\",\"×\")","v":"○"},"浪商学園陸上競技場","深田　明日美","大阪体育大学","08036249045",null,5900405,"大阪府泉南郡熊取町大久保南4-4-20 ブランドール清原203号",null,140223]
[{"$f":"IF(COUNTIF(競技会!$A$2:$J$92,'2012'!I270)=0,\"ないです\",\"\")","v":""},"継続",2,24,"～",2,24,null,"日本体育大学室内棒高跳競技会","室内46",{"$f":"IF(VLOOKUP(J270,競技場!$A$2:$B$371,2)=L270,\"○\",\"×\")","v":"○"},"日本体育大学横浜健志台ｷｬﾝﾊﾟｽ第一体育館棒高跳","正木　洋成","日本体育大学","0459620520","nittai-honbu@d02.itscom.net",2270035,"神奈川県横浜市青葉区すみよし台37－3",null,140224]
[{"$f":"IF(COUNTIF(競技会!$A$2:$J$92,'2012'!I271)=0,\"ないです\",\"\")","v":""},"継続",3,16,"～",3,16,null,"東京女子体育大学土曜競技会","134070",{"$f":"IF(VLOOKUP(J271,競技場!$A$2:$B$371,2)=L271,\"○\",\"×\")","v":"○"},"東京女子体育大学陸上競技場","鈴木　亜季子","東京女子体育大学","07050751478","twcpe.rikujyou@gmail.com",1868668,"東京都国立市富士見台4-30-1",null,140316]
[{"$f":"IF(COUNTIF(競技会!$A$2:$J$92,'2012'!I272)=0,\"ないです\",\"\")","v":""},"継続",3,16,"～",3,16,"第17回","東京大学陸上競技会","133010",{"$f":"IF(VLOOKUP(J272,競技場!$A$2:$B$371,2)=L272,\"○\",\"×\")","v":"○"},"東京大学陸上競技場","梁瀬  将史","東京大学","08060253085","lianglai24@gamil.com",1600005,"東京都新宿区愛住町9番地安禅寺AP2号棟2F",null,140316]
[{"$f":"IF(COUNTIF(競技会!$A$2:$J$92,'2012'!I273)=0,\"ないです\",\"\")","v":""},"継続",3,16,"～",3,16,"第6回","九州共立大学競技会","403150",{"$f":"IF(VLOOKUP(J273,競技場!$A$2:$B$371,2)=L273,\"○\",\"×\")","v":"○"},"九州共立大学陸上競技場","知念　春乃","九州共立大学","09255855294","0blige.lib-1",8070873,"福岡県北九州市八幡西区藤原3－6－6－",null,140316]
[{"$f":"IF(COUNTIF(競技会!$A$2:$J$92,'2012'!I274)=0,\"ないです\",\"\")","v":""},"継続",3,17,"～",3,17,"第17回","東京大学陸上競技会","133010",{"$f":"IF(VLOOKUP(J274,競技場!$A$2:$B$371,2)=L274,\"○\",\"×\")","v":"○"},"東京大学陸上競技場","梁瀬  将史","東京大学","08060253085","lianglai24@gamil.com",1600005,"東京都新宿区愛住町9番地安禅寺AP2号棟2F",null,140317]
[{"$f":"IF(COUNTIF(競技会!$A$2:$J$92,'2012'!I275)=0,\"ないです\",\"\")","v":""},"継続",3,17,"～",3,17,"第1回","鹿屋体育大学春季競技会","463100",{"$f":"IF(VLOOKUP(J275,競技場!$A$2:$B$371,2)=L275,\"○\",\"×\")","v":"○"},"鹿屋体育大学陸上競技場","境　実穂","鹿屋体育大学","0908416632","dada-duck.rn",8912311,"鹿児島県鹿屋市白水町388-1メゾン白水207",null,140317]
[{"$f":"IF(COUNTIF(競技会!$A$2:$J$92,'2012'!I276)=0,\"ないです\",\"\")","v":""},"継続",3,20,"～",3,20,"第1回","大分地区大学・高等専門学校陸上競技会","441010",{"$f":"IF(VLOOKUP(J276,競技場!$A$2:$B$371,2)=L276,\"○\",\"×\")","v":"○"},"大分市営陸上競技場","片岡　良太","大分大学","08052096948","trl-int8-ars",8700163,"大分県大分市明野南2-22-1-1302",null,140320]
[{"$f":"IF(COUNTIF(競技会!$A$2:$J$92,'2012'!I277)=0,\"ないです\",\"\")","v":""},"継続",3,20,"～",3,20,"第7回","大阪体育大学競技会","273050",{"$f":"IF(VLOOKUP(J277,競技場!$A$2:$B$371,2)=L277,\"○\",\"×\")","v":"○"},"浪商学園陸上競技場","深田　明日美","大阪体育大学","08036249045",null,5900405,"大阪府泉南郡熊取町大久保南4-4-20 ブランドール清原203号",null,140320]
[{"$f":"IF(COUNTIF(競技会!$A$2:$J$92,'2012'!I278)=0,\"ないです\",\"\")","v":""},"継続",3,23,"～",3,23,null,"東京女子体育大学土曜競技会","134070",{"$f":"IF(VLOOKUP(J278,競技場!$A$2:$B$371,2)=L278,\"○\",\"×\")","v":"○"},"東京女子体育大学陸上競技場","鈴木　亜季子","東京女子体育大学","07050751478","twcpe.rikujyou@gmail.com",1868668,"東京都国立市富士見台4-30-1",null,140323]
[{"$f":"IF(COUNTIF(競技会!$A$2:$J$92,'2012'!I279)=0,\"ないです\",\"\")","v":""},"継続",3,23,"～",3,23,null,"国際武道大学フィールド競技会","123060",{"$f":"IF(VLOOKUP(J279,競技場!$A$2:$B$371,2)=L279,\"○\",\"×\")","v":"○"},"国際武道大学陸上競技場","登藤　大輔","国際武道大学","09022466307","tf-daisuki-td@docomo.ne.jp",2995224,"千葉県勝浦市新官1441-60グレープ101",null,140323]
[{"$f":"IF(COUNTIF(競技会!$A$2:$J$92,'2012'!I280)=0,\"ないです\",\"\")","v":""},"継続",3,23,"～",3,23,"第7回","流通経済大学陸上競技会","083100",{"$f":"IF(VLOOKUP(J280,競技場!$A$2:$B$371,2)=L280,\"○\",\"×\")","v":"○"},"龍ヶ崎市陸上競技場","田畑　亨","流通経済大学","0297601864","tabata@rku.ac.jp",3018557,"茨城県龍ヶ崎市122",null,140323]
[{"$f":"IF(COUNTIF(競技会!$A$2:$J$92,'2012'!I281)=0,\"ないです\",\"\")","v":""},"継続",3,24,"～",3,24,"第18回","東海大学種目別競技会","143060",{"$f":"IF(VLOOKUP(J281,競技場!$A$2:$B$371,2)=L281,\"○\",\"×\")","v":"○"},"東海大学湘南校舎陸上競技場","村田　亮","東海大学","08050964564","zama4944@yahoo.co.jp",2420024,"神奈川県大和市福田3－14－10　第1ビラヒロセ204号室",null,140324]
[{"$f":"IF(COUNTIF(競技会!$A$2:$J$92,'2012'!I282)=0,\"ないです\",\"\")","v":""},"継続",3,"25","～",3,"26","第8回","国士舘大学競技会","133160",{"$f":"IF(VLOOKUP(J282,競技場!$A$2:$B$371,2)=L282,\"○\",\"×\")","v":"○"},"国士舘大学多摩陸上競技場","若林　晴花","国士舘大学","08010315822","k_u_a_since1956@hotmail.com",2068515,"東京都多摩市永山7－3－1　国士舘大学陸上競技研究室",null,140325]
[{"$f":"IF(COUNTIF(競技会!$A$2:$J$92,'2012'!I283)=0,\"ないです\",\"\")","v":""},"継続",3,"27","～",3,"28",null,"広島大学春季競技会","342050",{"$f":"IF(VLOOKUP(J283,競技場!$A$2:$B$371,2)=L283,\"○\",\"×\")","v":"○"},"東広島運動公園陸上競技場","横山　千聖","広島大学","09097773561","coral_murmur@yahoo.co.jp",7390047,"広島県東広島市西条下見７-１-２６　和昇コーポA307号",null,140327]
[{"$f":"IF(COUNTIF(競技会!$A$2:$J$92,'2012'!I284)=0,\"ないです\",\"\")","v":""},"継続",3,30,"～",3,30,"24年度第9回","順天堂大学競技会","123080",{"$f":"IF(VLOOKUP(J284,競技場!$A$2:$B$371,2)=L284,\"○\",\"×\")","v":"○"},"順天堂大学さくらキャンパス陸上競技場","白府  将弘","順天堂大学","0476981001","juntendo_kirokukai@yahoo.co.jp",2701695,"千葉県印西市平賀学園台1-1順天堂大学陸上競技研究室",null,140330]
[{"$f":"IF(COUNTIF(競技会!$A$2:$J$92,'2012'!I285)=0,\"ないです\",\"\")","v":""},"継続",3,30,"～",3,30,null,"徳山大学スプリングフェスティバル","353040",{"$f":"IF(VLOOKUP(J285,競技場!$A$2:$B$371,2)=L285,\"○\",\"×\")","v":"○"},"徳山大学総合グラウンド陸上競技場",null,"徳山大学","",null,null,null,null,140330]
[{"$f":"IF(COUNTIF(競技会!$A$2:$J$92,'2012'!I286)=0,\"ないです\",\"\")","v":""},"継続",3,30,"～",3,30,"第27回","びわこ成蹊スポーツ大学競技会","253030",{"$f":"IF(VLOOKUP(J286,競技場!$A$2:$B$371,2)=L286,\"○\",\"×\")","v":"○"},"びわこフィールド陸上競技場","田中　秀和","びわこ成蹊スポーツ大学","",null,5202323,"滋賀県野洲市三上1-34",null,140330]
[{"$f":"IF(COUNTIF(競技会!$A$2:$J$92,'2012'!I287)=0,\"ないです\",\"\")","v":""},"継続",3,31,"～",3,31,"平成24年度第9回","日本大学競技会","133100",{"$f":"IF(VLOOKUP(J287,競技場!$A$2:$B$371,2)=L287,\"○\",\"×\")","v":"○"},"日本大学陸上競技場","海野　琢斗","日本大学","0333041969","nihon_univ_tf@yahoo.co.jp",1560045,"東京都世田谷区桜上水３－２３日本大学陸上競技場グランドトレーニング室２F",null,140331]
[{"$f":"IF(COUNTIF(競技会!$A$2:$J$92,'2012'!I288)=0,\"ないです\",\"\")","v":""},"継続",3,"未定","～",3,"未定",null,"東京学芸大学競技会","134190",{"$f":"IF(VLOOKUP(J288,競技場!$A$2:$B$371,2)=L288,\"○\",\"×\")","v":"○"},"東京学芸大学陸上競技場","鈴木　優香","東京学芸大学","09078181146","a090618m@st.u-gakugei.ac.jp",1810013,"三鷹市下連雀6-14-27-205",null,140399]
[{"$f":"IF(COUNTIF(競技会!$A$2:$J$92,'2012'!I289)=0,\"ないです\",\"\")","v":""},"継続",3,"未定","～",3,"未定",null,"Josaiスプリントトライアル","114030",{"$f":"IF(VLOOKUP(J289,競技場!$A$2:$B$371,2)=L289,\"○\",\"×\")","v":"○"},"城西大学総合グラウンド",null,"城西大学","",null,null,null,null,140399]
[{"$f":"IF(COUNTIF(競技会!$A$2:$J$92,'2012'!I290)=0,\"ないです\",\"\")","v":""},"継続","未定","未定","～","未定","未定","第54回","秩父宮賜杯学習院大学・甲南大学対校陸上競技大会",null,{"$f":"IF(VLOOKUP(J290,競技場!$A$2:$B$371,2)=L290,\"○\",\"×\")","v":{"$error":"#N/A"}},"未定","西　晃範","学習院大学","08065126255","chunchun-world-k.n@ezweb.ne.jp",3501334,"埼玉県狭山市狭山16－20",null,999999]
[{"$f":"IF(COUNTIF(競技会!$A$2:$J$92,'2012'!I291)=0,\"ないです\",\"\")","v":""},"継続","未定","未定","～","未定","未定","第24回","学習院大学・甲南大学対校陸上競技大会（女子の部）",null,{"$f":"IF(VLOOKUP(J291,競技場!$A$2:$B$371,2)=L291,\"○\",\"×\")","v":{"$error":"#N/A"}},"未定","西　晃範","学習院大学","08065126255","chunchun-world-k.n@ezweb.ne.jp",3501334,"埼玉県狭山市狭山16－20",null,999999]
[{"$f":"IF(COUNTIF(競技会!$A$2:$J$92,'2012'!I292)=0,\"ないです\",\"\")","v":""},"継続","未定","未定","～","未定","未定","第34回","明治大学対立教大学対抗陸上競技大会",null,{"$f":"IF(VLOOKUP(J292,競技場!$A$2:$B$371,2)=L292,\"○\",\"×\")","v":{"$error":"#N/A"}},"未定","市川　由麻","明治大学","09078685705","kyousou-meiji@proof.ocn.ne.jp",null,null,null,999999]
[{"$f":"IF(COUNTIF(競技会!$A$2:$J$92,'2012'!I293)=0,\"ないです\",\"\")","v":""},"継続","未定","未定","～","未定","未定","第42回","一橋大学・名古屋大学対校陸上競技大会",null,{"$f":"IF(VLOOKUP(J293,競技場!$A$2:$B$371,2)=L293,\"○\",\"×\")","v":{"$error":"#N/A"}},"未定","佐野　健太郎","一橋大学","009097687901","sanoken7901@yahoo.co.jp",1830005,"東京都府中市若松町4-1-1　青雲寮310",null,999999]
[{"$f":"IF(COUNTIF(競技会!$A$2:$J$92,'2012'!I294)=0,\"ないです\",\"\")","v":""},"継続","未定","未定","～","未定","未定","第18回","一橋大学・名古屋大学女子対校陸上競技大会",null,{"$f":"IF(VLOOKUP(J294,競技場!$A$2:$B$371,2)=L294,\"○\",\"×\")","v":{"$error":"#N/A"}},"未定","佐野　健太郎","一橋大学","009097687902","sanoken7901@yahoo.co.jp",1830005,"東京都府中市若松町4-1-1　青雲寮310",null,999999]
[{"$f":"IF(COUNTIF(競技会!$A$2:$J$92,'2012'!I295)=0,\"ないです\",\"\")","v":""},"継続","未定","未定","～","未定","未定","第18回","関東私学四大学対校陸上競技大会（上智大、成蹊大、獨協大、明学大）",null,{"$f":"IF(VLOOKUP(J295,競技場!$A$2:$B$371,2)=L295,\"○\",\"×\")","v":{"$error":"#N/A"}},"未定","高橋　秀直","明治学院大学","09077091095","meijigakuin_tf_g@yahoo.co.jp",3570021,"埼玉県飯能市双柳878-9",null,999999]
[{"$f":"IF(COUNTIF(競技会!$A$2:$J$92,'2012'!I296)=0,\"ないです\",\"\")","v":""},"継続","未定","未定","～","未定","未定","第47回","明治学院大学対東京経済大学定期対校陸上競技大会",null,{"$f":"IF(VLOOKUP(J296,競技場!$A$2:$B$371,2)=L296,\"○\",\"×\")","v":{"$error":"#N/A"}},"未定","高橋　秀直","明治学院大学","09077091095","meijigakuin_tf_g@yahoo.co.jp",3570021,"埼玉県飯能市双柳878-9",null,999999]
[{"$f":"IF(COUNTIF(競技会!$A$2:$J$92,'2012'!I297)=0,\"ないです\",\"\")","v":""},"継続","未定","未定","～","未定","未定","第77回","同志社大学対立教大学定期陸上競技戦",null,{"$f":"IF(VLOOKUP(J297,競技場!$A$2:$B$371,2)=L297,\"○\",\"×\")","v":{"$error":"#N/A"}},"未定","西方    猛","立教大学","09091473282","bambooo_lu-829@i.softbank.jp",3500226,"埼玉県坂戸市本町13-27-209",null,999999]
[{"$f":"IF(COUNTIF(競技会!$A$2:$J$92,'2012'!I298)=0,\"ないです\",\"\")","v":""},"継続","未定","未定","～","未定","未定","第11回","同志社大学対立教大学女子対抗陸上競技大会",null,{"$f":"IF(VLOOKUP(J298,競技場!$A$2:$B$371,2)=L298,\"○\",\"×\")","v":{"$error":"#N/A"}},"未定","西方    猛","立教大学","09091473282","bambooo_lu-829@i.softbank.jp",3500226,"埼玉県坂戸市本町13-27-209",null,999999]
[{"$f":"IF(COUNTIF(競技会!$A$2:$J$92,'2012'!I299)=0,\"ないです\",\"\")","v":""},"継続","未定","未定","～","未定","未定","第35回","東京女子体育大学・日本女子体育大学対校陸上競技大会",null,{"$f":"IF(VLOOKUP(J299,競技場!$A$2:$B$371,2)=L299,\"○\",\"×\")","v":{"$error":"#N/A"}},"未定","槫松　秀美","日本女子体育大学","09048248434","jwcpe-tf@g.jwcpe.ac.jp",1578565,"東京都世田谷区北烏山8-19-1",null,999999]
[{"$f":"IF(COUNTIF(競技会!$A$2:$J$92,'2012'!I300)=0,\"ないです\",\"\")","v":""},"継続","未定","未定","～","未定","未定","2013年","日本女子体育大学競技会",null,{"$f":"IF(VLOOKUP(J300,競技場!$A$2:$B$371,2)=L300,\"○\",\"×\")","v":{"$error":"#N/A"}},"未定","槫松　秀美","日本女子体育大学","09048248434","jwcpe-tf@g.jwcpe.ac.jp",1578565,"東京都世田谷区北烏山8-19-1",null,999999]
[{"$f":"IF(COUNTIF(競技会!$A$2:$J$92,'2012'!I301)=0,\"ないです\",\"\")","v":""},"継続","未定","未定","～","未定","未定","2012年度","早大競技会","113050",{"$f":"IF(VLOOKUP(J301,競技場!$A$2:$B$371,2)=L301,\"○\",\"×\")","v":"○"},"早稲田大学織田幹雄記念陸上競技場","卯木　研也","早稲田大学","08041141804","kenzou3939@gmail.com",3591164,"埼玉県所沢市三ヶ島5-1279-1　早稲田大学競走部合宿所",null,999999]
[{"$f":"IF(COUNTIF(競技会!$A$2:$J$92,'2012'!I302)=0,\"ないです\",\"\")","v":""},"継続","未定","未定","～","未定","未定","平成24年度第1回","早稲田大学投擲競技会","113050",{"$f":"IF(VLOOKUP(J302,競技場!$A$2:$B$371,2)=L302,\"○\",\"×\")","v":"○"},"早稲田大学織田幹雄記念陸上競技場","卯木　研也","早稲田大学","08041141804","kenzou3939@gmail.com",3591164,"埼玉県所沢市三ヶ島5-1279-1　早稲田大学競走部合宿所",null,999999]
[{"$f":"IF(COUNTIF(競技会!$A$2:$J$92,'2012'!I303)=0,\"ないです\",\"\")","v":""},"継続","未定","未定","～","未定","未定","平成24年度第1回","早稲田大学長距離競技会","113050",{"$f":"IF(VLOOKUP(J303,競技場!$A$2:$B$371,2)=L303,\"○\",\"×\")","v":"○"},"早稲田大学織田幹雄記念陸上競技場","卯木　研也","早稲田大学","08041141804","kenzou3939@gmail.com",3591164,"埼玉県所沢市三ヶ島5-1279-1　早稲田大学競走部合宿所",null,999999]
[{"$f":"IF(COUNTIF(競技会!$A$2:$J$92,'2012'!I304)=0,\"ないです\",\"\")","v":""},"継続","未定","未定","～","未定","未定","平成24年度第2回","早稲田大学長距離競技会","113050",{"$f":"IF(VLOOKUP(J304,競技場!$A$2:$B$371,2)=L304,\"○\",\"×\")","v":"○"},"早稲田大学織田幹雄記念陸上競技場","卯木　研也","早稲田大学","08041141804","kenzou3939@gmail.com",3591164,"埼玉県所沢市三ヶ島5-1279-1　早稲田大学競走部合宿所",null,999999]
[{"$f":"IF(COUNTIF(競技会!$A$2:$J$92,'2012'!I305)=0,\"ないです\",\"\")","v":""},"継続","未定","未定","～","未定","未定","平成24年度第3回","早稲田大学長距離競技会","113050",{"$f":"IF(VLOOKUP(J305,競技場!$A$2:$B$371,2)=L305,\"○\",\"×\")","v":"○"},"早稲田大学織田幹雄記念陸上競技場","卯木　研也","早稲田大学","08041141804","kenzou3939@gmail.com",3591164,"埼玉県所沢市三ヶ島5-1279-1　早稲田大学競走部合宿所",null,999999]
[{"$f":"IF(COUNTIF(競技会!$A$2:$J$92,'2012'!I306)=0,\"ないです\",\"\")","v":""},"継続","未定","未定","～","未定","未定","第63回","四大学対校陸上競技大会（学習院大・成蹊大・成城大・武蔵大）",null,{"$f":"IF(VLOOKUP(J306,競技場!$A$2:$B$371,2)=L306,\"○\",\"×\")","v":{"$error":"#N/A"}},"未定","小林　温美","武蔵大学","08050413364","atmi.318@ac.auone-net.jp",1930942,"東京都八王子市椚田町521-6マイキャッスル椚田202",null,999999]
[{"$f":"IF(COUNTIF(競技会!$A$2:$J$92,'2012'!I307)=0,\"ないです\",\"\")","v":""},"継続","未定","未定","～","未定","未定","第62回","明治大学対法政大学定期陸上競技大会","133150",{"$f":"IF(VLOOKUP(J307,競技場!$A$2:$B$371,2)=L307,\"○\",\"×\")","v":"○"},"法政大学多摩校地陸上競技場","川端　亜実","法政大学","08012445144","hosei_t_f_1919@yahoo.co.jp",1940298,"東京都町田市相原町4342　体育会陸上競技部",null,999999]
[{"$f":"IF(COUNTIF(競技会!$A$2:$J$92,'2012'!I308)=0,\"ないです\",\"\")","v":""},"継続","未定","未定","～","未定","未定","第89回","関西大学対法政大学対校陸上競技定期戦","133150",{"$f":"IF(VLOOKUP(J308,競技場!$A$2:$B$371,2)=L308,\"○\",\"×\")","v":"○"},"法政大学多摩校地陸上競技場","原田　祥平","法政大学","09068553917","hosei_t_f_1919@yahoo.co.jp",1940298,"東京都町田市相原町4342　体育会陸上競技部",null,999999]
[{"$f":"IF(COUNTIF(競技会!$A$2:$J$92,'2012'!I309)=0,\"ないです\",\"\")","v":""},"継続","未定","未定","～","未定","未定","第2回","法政大学競技会","133150",{"$f":"IF(VLOOKUP(J309,競技場!$A$2:$B$371,2)=L309,\"○\",\"×\")","v":"○"},"法政大学多摩校地陸上競技場","太田　千帆充","法政大学","09073106049","hosei_t_f_1919@yahoo.co.jp",1940298,"東京都町田市相原町4342　体育会陸上競技部",null,999999]
[{"$f":"IF(COUNTIF(競技会!$A$2:$J$92,'2012'!I310)=0,\"ないです\",\"\")","v":""},"継続","未定","未定","～","未定","未定",null,"関東学連春季オープン競技会",null,{"$f":"IF(VLOOKUP(J310,競技場!$A$2:$B$371,2)=L310,\"○\",\"×\")","v":{"$error":"#N/A"}},"未定",null,null,"",null,null,null,null,999999]
[{"$f":"IF(COUNTIF(競技会!$A$2:$J$92,'2012'!I311)=0,\"ないです\",\"\")","v":""},"継続","未定","未定","～","未定","未定","第9回","13大学対校陸上競技大会（工学院大・首都大・帝京大・電通大・東外大・東工大・東電大・東農工大・東京薬大・東理大・文教大・武蔵工大・横市大）",null,{"$f":"IF(VLOOKUP(J311,競技場!$A$2:$B$371,2)=L311,\"○\",\"×\")","v":{"$error":"#N/A"}},"未定","岡野  徳郎","横浜市立大学","08037573971","i100138d@yokohama-cu.ac.jp",2330001,"神奈川県横浜市港南区上大岡東2-18-2マキシム201号室",null,999999]
[{"$f":"IF(COUNTIF(競技会!$A$2:$J$92,'2012'!I312)=0,\"ないです\",\"\")","v":""},"継続","未定","未定","～","未定","未定",null,"国士舘大学デカスロントライアル","133160",{"$f":"IF(VLOOKUP(J312,競技場!$A$2:$B$371,2)=L312,\"○\",\"×\")","v":"○"},"国士舘大学多摩陸上競技場","大具　祥子","国士舘大学","08010300138","k_u_a_since1956@hotmail.com",2068515,"東京都多摩市永山7－3－1　国士舘大学陸上競技研究室",null,999999]
[{"$f":"IF(COUNTIF(競技会!$A$2:$J$92,'2012'!I313)=0,\"ないです\",\"\")","v":""},"継続","未定","未定","～","未定","未定",null,"高知大学秋季競技会","393010",{"$f":"IF(VLOOKUP(J313,競技場!$A$2:$B$371,2)=L313,\"○\",\"×\")","v":"○"},"高知大学朝倉地区陸上競技場","穴吹　政人","高知大学","08063979637","kochi_univ2005@yahoo.co.jp",null,"高知県高知市本宮町１５９-１-５０２",null,999999]
[{"$f":"IF(COUNTIF(競技会!$A$2:$J$92,'2012'!I314)=0,\"ないです\",\"\")","v":""},"継続","未定","未定","～","未定","未定",null,"山口支部競技会","353040",{"$f":"IF(VLOOKUP(J314,競技場!$A$2:$B$371,2)=L314,\"○\",\"×\")","v":"○"},"徳山大学総合グラウンド陸上競技場","大山　直人","山口大学","09068426565","n005dg@yamaguchi.ne.jp",7530831,"山口県山口市平井１２９６-３ ディアスK202",null,999999]
[{"$f":"IF(COUNTIF(競技会!$A$2:$J$92,'2012'!I315)=0,\"ないです\",\"\")","v":""},"継続","未定","未定","～","未定","未定","第2回","九州共立大学投てき競技会","403150",{"$f":"IF(VLOOKUP(J315,競技場!$A$2:$B$371,2)=L315,\"○\",\"×\")","v":"○"},"九州共立大学陸上競技場","知念　春乃","九州共立大学","09255855294","0blige.lib-1",8070873,"福岡県北九州市八幡西区藤原3－6－6－",null,999999]
[{"$f":"IF(COUNTIF(競技会!$A$2:$J$92,'2012'!I316)=0,\"ないです\",\"\")","v":""},"継続","未定","未定","～","未定","未定","第27回","国公立22大学対校陸上競技大会（茨大・宇大・群大・埼大・静大・首都大・信州大・高経大・千大・都留文大・電通大・東学大・東工大・東北大・新潟大・一橋大・福島大・三重大・山形大・山梨大・横市大・横国大）",null,{"$f":"IF(VLOOKUP(J316,競技場!$A$2:$B$371,2)=L316,\"○\",\"×\")","v":{"$error":"#N/A"}},"未定","山根　由経","東北大学","08038711051","yuuki_td_haken@yahoo.co.jp\n",9800011,"宮城県仙台市青葉区上杉6-3-2",null,999999]